{"text_format":"1","workbook":"xlsx","n_sheets":7,"sheets":["ASISTENCIA","OFICIO","REPORTE CONSOLIDADO","Norma","HORAS EFECTIVAS","DATA","CALEND"],"not_rendered":{"charts":0,"images":5,"macros":1,"external_links":1,"defined_names":10,"comments":0,"pivot_tables":0},"unopened":[],"bounds":{"document_bytes":16777216,"sheet_cells":100000,"rows_first":2000,"rows_last":500,"rows_between":2000,"halvings":0,"cell_chars":16384,"cell_head_chars":4096},"cells_cut":0,"cells_raw":0,"read":"whole","date_system":"1900"}

{"sheet":"ASISTENCIA","index":0,"n_rows":25,"n_cols":59,"rows_kept":25,"cut":false,"hidden":false,"merged":[[0,4,1,34],[6,9,6,12],[7,9,7,12],[7,5,7,7],[6,13,6,25],[7,13,7,25],[5,5,5,25],[6,5,6,7],[4,18,4,20],[4,16,4,17],[3,4,3,35],[4,28,4,34],[10,1,11,1],[20,48,20,51],[16,38,16,39],[19,3,19,4],[18,3,18,4],[10,40,11,40],[17,38,17,39],[15,38,15,39],[10,39,11,39],[17,3,17,4],[16,24,16,37],[15,3,15,4],[16,3,16,4],[9,3,11,3],[10,2,11,2],[4,6,4,10],[2,0,2,38],[24,3,24,4],[20,3,20,4],[21,3,21,4],[22,3,22,4],[23,3,23,4],[9,8,9,38],[9,0,11,0],[6,32,6,36],[14,3,14,4],[9,5,11,5],[9,4,11,4],[9,7,11,7],[9,6,11,6]]}
[null,null,null,null,"NORMAS  PARA EL REGISTRO Y CONTROL  DE ASISTENCIA  Y SU  APLICACIÓN  EN LA PLANILLA  ÚNICA DE PAGOS DE LOS  PROFESORES Y AUXILIARES DE EDUCACIÓN, EN EL  MARCO  DE LA LEY DE REFORMA MAGISTERIAL Y SU REGLAMENTO (R.S.G. N° 326-2017-MINEDU)",null,null,null,null,null,null,null,null,null,null,null,null,null,null,null,null,null,null,null,null,null,null,null,null,null,null,null,null,null,null,null,null,null,null,null,null,null,null,null,null,null,null,null,null,null,null,null,null,null,null,null,"CARGO","CONDICION LABORAL","TURNO"]
[null,null,null,null,null,null,null,null,null,null,null,null,null,null,null,null,null,null,null,null,null,null,null,null,null,null,null,null,null,null,null,null,null,null,null,null,null,null,null,null,null,null,null,null,null,null,null,null,null,null,null,null,null,null,null,null,"Director(e)","Nombrado","Mañana"]
["ANEXO 03",null,null,null,null,null,null,null,null,null,null,null,null,null,null,null,null,null,null,null,null,null,null,null,null,null,null,null,null,null,null,null,null,null,null,null,null,null,null,null,null,null,null,null,null,null,null,null,null,null,null,null,null,null,null,null,"Director Desig.","Destacado","Tarde"]
[null,null,null,null,"FORMATO 01: REPORTE DE ASISTENCIA DETALLADO ",null,null,null,null,null,null,null,null,null,null,null,null,null,null,null,null,null,null,null,null,null,null,null,null,null,null,null,null,null,null,null,null,null,null,null,null,null,null,null,null,null,null,null,null,null,null,null,null,null,null,null,"Sub Director","Contratado","Noche"]
[null,null,null,null,"UGEL: EL COLLAO","MES: ","AGOSTO",null,null,null,null,{"$f":"VLOOKUP(G5,CALEND!$A$17:$B$28,2,FALSE)","v":8},null,null,null,null,"AÑO:",null,2024,null,null,null,null,{"$f":"+AñoNatural","v":2024},null,"TURNO:",null,null,"Mañana",null,null,null,null,null,null,null,null,null,null,null,null,null,null,null,null,null,null,null,null,null,null,null,null,null,null,null,"Coord. Pedag.","CAS","Mañana y Tarde"]
[null,null,null,null,"INSTITUCIÓN EDUCATIVA:","IEI N°742 HUARIQUISANA",null,null,null,null,null,null,null,null,null,null,null,null,null,null,null,null,null,null,null,null,null,null,null,null,null,null,null,null,null,null,null,null,null,null,null,null,null,null,null,null,null,null,null,null,null,null,null,null,null,null,"Profesor","Encargado"]
[null,null,null,null,"NIVEL EDUCATIVO Y MODALIDAD:","INICIAL-EBR",null,null,null,"DIRECCION:",null,null,null,"COMUNIDAD HUARIQUISANA",null,null,null,null,null,null,null,null,null,null,null,null,null,null,null,null,null,null,null,null,null,null,null,null,null,null,null,null,null,null,null,null,null,null,null,null,null,null,null,null,null,null,"Aux. Educación"]
[null,null,null,null,"CODIGO MODULAR:","1556588",null,null,null,"DIST / CP:",null,null,null,"PILCUYO-HUARIQUISANA",null,null,null,null,null,null,null,null,null,null,null,null,null,null,null,null,null,null,null,null,null,null,null,null,null,null,null,null,null,null,null,null,null,null,null,null,null,null,null,null,null,null,"Bibliotecario"]
[null,null,null,null,null,null,null,null,null,null,null,null,null,null,null,null,null,null,null,null,null,null,null,null,null,null,null,null,null,null,null,null,null,null,null,null,null,null,null,null,null,null,null,null,null,null,null,null,null,null,null,null,null,null,null,null,"Oficinista"]
["N°",null,null,"DNI","APELLIDOS Y NOMBRES","CARGO","CONDICION LABORAL","JORNADA LABORAL","DIAS CALENDARIO",null,null,null,null,null,null,null,null,null,null,null,null,null,null,null,null,null,null,null,null,null,null,null,null,null,null,null,null,null,null,null,null,null,null,null,null,null,null,null,null,null,null,null,null,null,null,null,"Aux. de Laboratorio"]
[null,"COD MOD II.EE.","MES",null,null,null,null,null,1,2,3,4,5,6,7,8,9,10,11,12,13,14,15,16,17,18,19,20,21,22,23,24,25,26,27,28,29,{"$f":"IF(G5=\"FEBRERO\",\"\",30)","v":30},{"$f":"IF(G5=\"FEBRERO\",\"\",31)","v":31},"Inasistencia + LSGH","OBSERVACIONES",null,null,null,null,null,null,null,null,null,null,null,null,null,null,null,"Pers. Servicio"]
[null,null,null,null,null,null,null,null,{"$f":"IF(LEN(VLOOKUP($L$5,CALEND!$A$2:$AF$13,I$11+1,FALSE))>0,VLOOKUP($L$5,CALEND!$A$2:$AF$13,I$11+1,FALSE),\"\")","v":"ju."},{"$f":"IF(LEN(VLOOKUP($L$5,CALEND!$A$2:$AF$13,J$11+1,FALSE))>0,VLOOKUP($L$5,CALEND!$A$2:$AF$13,J$11+1,FALSE),\"\")","v":"vi."},{"$f":"IF(LEN(VLOOKUP($L$5,CALEND!$A$2:$AF$13,K$11+1,FALSE))>0,VLOOKUP($L$5,CALEND!$A$2:$AF$13,K$11+1,FALSE),\"\")","v":"sá."},{"$f":"IF(LEN(VLOOKUP($L$5,CALEND!$A$2:$AF$13,L$11+1,FALSE))>0,VLOOKUP($L$5,CALEND!$A$2:$AF$13,L$11+1,FALSE),\"\")","v":"do."},{"$f":"IF(LEN(VLOOKUP($L$5,CALEND!$A$2:$AF$13,M$11+1,FALSE))>0,VLOOKUP($L$5,CALEND!$A$2:$AF$13,M$11+1,FALSE),\"\")","v":"lu."},{"$f":"IF(LEN(VLOOKUP($L$5,CALEND!$A$2:$AF$13,N$11+1,FALSE))>0,VLOOKUP($L$5,CALEND!$A$2:$AF$13,N$11+1,FALSE),\"\")","v":"ma."},{"$f":"IF(LEN(VLOOKUP($L$5,CALEND!$A$2:$AF$13,O$11+1,FALSE))>0,VLOOKUP($L$5,CALEND!$A$2:$AF$13,O$11+1,FALSE),\"\")","v":"mi."},{"$f":"IF(LEN(VLOOKUP($L$5,CALEND!$A$2:$AF$13,P$11+1,FALSE))>0,VLOOKUP($L$5,CALEND!$A$2:$AF$13,P$11+1,FALSE),\"\")","v":"ju."},{"$f":"IF(LEN(VLOOKUP($L$5,CALEND!$A$2:$AF$13,Q$11+1,FALSE))>0,VLOOKUP($L$5,CALEND!$A$2:$AF$13,Q$11+1,FALSE),\"\")","v":"vi."},{"$f":"IF(LEN(VLOOKUP($L$5,CALEND!$A$2:$AF$13,R$11+1,FALSE))>0,VLOOKUP($L$5,CALEND!$A$2:$AF$13,R$11+1,FALSE),\"\")","v":"sá."},{"$f":"IF(LEN(VLOOKUP($L$5,CALEND!$A$2:$AF$13,S$11+1,FALSE))>0,VLOOKUP($L$5,CALEND!$A$2:$AF$13,S$11+1,FALSE),\"\")","v":"do."},{"$f":"IF(LEN(VLOOKUP($L$5,CALEND!$A$2:$AF$13,T$11+1,FALSE))>0,VLOOKUP($L$5,CALEND!$A$2:$AF$13,T$11+1,FALSE),\"\")","v":"lu."},{"$f":"IF(LEN(VLOOKUP($L$5,CALEND!$A$2:$AF$13,U$11+1,FALSE))>0,VLOOKUP($L$5,CALEND!$A$2:$AF$13,U$11+1,FALSE),\"\")","v":"ma."},{"$f":"IF(LEN(VLOOKUP($L$5,CALEND!$A$2:$AF$13,V$11+1,FALSE))>0,VLOOKUP($L$5,CALEND!$A$2:$AF$13,V$11+1,FALSE),\"\")","v":"mi."},{"$f":"IF(LEN(VLOOKUP($L$5,CALEND!$A$2:$AF$13,W$11+1,FALSE))>0,VLOOKUP($L$5,CALEND!$A$2:$AF$13,W$11+1,FALSE),\"\")","v":"ju."},{"$f":"IF(LEN(VLOOKUP($L$5,CALEND!$A$2:$AF$13,X$11+1,FALSE))>0,VLOOKUP($L$5,CALEND!$A$2:$AF$13,X$11+1,FALSE),\"\")","v":"vi."},{"$f":"IF(LEN(VLOOKUP($L$5,CALEND!$A$2:$AF$13,Y$11+1,FALSE))>0,VLOOKUP($L$5,CALEND!$A$2:$AF$13,Y$11+1,FALSE),\"\")","v":"sá."},{"$f":"IF(LEN(VLOOKUP($L$5,CALEND!$A$2:$AF$13,Z$11+1,FALSE))>0,VLOOKUP($L$5,CALEND!$A$2:$AF$13,Z$11+1,FALSE),\"\")","v":"do."},{"$f":"IF(LEN(VLOOKUP($L$5,CALEND!$A$2:$AF$13,AA$11+1,FALSE))>0,VLOOKUP($L$5,CALEND!$A$2:$AF$13,AA$11+1,FALSE),\"\")","v":"lu."},{"$f":"IF(LEN(VLOOKUP($L$5,CALEND!$A$2:$AF$13,AB$11+1,FALSE))>0,VLOOKUP($L$5,CALEND!$A$2:$AF$13,AB$11+1,FALSE),\"\")","v":"ma."},{"$f":"IF(LEN(VLOOKUP($L$5,CALEND!$A$2:$AF$13,AC$11+1,FALSE))>0,VLOOKUP($L$5,CALEND!$A$2:$AF$13,AC$11+1,FALSE),\"\")","v":"mi."},{"$f":"IF(LEN(VLOOKUP($L$5,CALEND!$A$2:$AF$13,AD$11+1,FALSE))>0,VLOOKUP($L$5,CALEND!$A$2:$AF$13,AD$11+1,FALSE),\"\")","v":"ju."},{"$f":"IF(LEN(VLOOKUP($L$5,CALEND!$A$2:$AF$13,AE$11+1,FALSE))>0,VLOOKUP($L$5,CALEND!$A$2:$AF$13,AE$11+1,FALSE),\"\")","v":"vi."},{"$f":"IF(LEN(VLOOKUP($L$5,CALEND!$A$2:$AF$13,AF$11+1,FALSE))>0,VLOOKUP($L$5,CALEND!$A$2:$AF$13,AF$11+1,FALSE),\"\")","v":"sá."},{"$f":"IF(LEN(VLOOKUP($L$5,CALEND!$A$2:$AF$13,AG$11+1,FALSE))>0,VLOOKUP($L$5,CALEND!$A$2:$AF$13,AG$11+1,FALSE),\"\")","v":"do."},{"$f":"IF(LEN(VLOOKUP($L$5,CALEND!$A$2:$AF$13,AH$11+1,FALSE))>0,VLOOKUP($L$5,CALEND!$A$2:$AF$13,AH$11+1,FALSE),\"\")","v":"lu."},{"$f":"IF(LEN(VLOOKUP($L$5,CALEND!$A$2:$AF$13,AI$11+1,FALSE))>0,VLOOKUP($L$5,CALEND!$A$2:$AF$13,AI$11+1,FALSE),\"\")","v":"ma."},{"$f":"IF(LEN(VLOOKUP($L$5,CALEND!$A$2:$AF$13,AJ$11+1,FALSE))>0,VLOOKUP($L$5,CALEND!$A$2:$AF$13,AJ$11+1,FALSE),\"\")","v":"mi."},{"$f":"IF(LEN(VLOOKUP($L$5,CALEND!$A$2:$AF$13,AK$11+1,FALSE))>0,VLOOKUP($L$5,CALEND!$A$2:$AF$13,AK$11+1,FALSE),\"\")","v":"ju."},{"$f":"IF(AL11=\"\",\"\",IF(LEN(VLOOKUP($L$5,CALEND!$A$2:$AF$13,AL$11+1,FALSE))>0,VLOOKUP($L$5,CALEND!$A$2:$AF$13,AL$11+1,FALSE),\"\"))","v":"vi."},{"$f":"IF(AL11=\"\",\"\",IF(LEN(VLOOKUP($L$5,CALEND!$A$2:$AF$13,AM$11+1,FALSE))>0,VLOOKUP($L$5,CALEND!$A$2:$AF$13,AM$11+1,FALSE),\"\"))","v":"sá."},null,null,null,"I","LG","LS","LGU","TR","F","T","P","H",null,null,null,null,null,"Secretaria(o)"]
[1,{"$f":"IF(LEN(C13)>0,VLOOKUP($F$8,DATA!$A$4:$A$296,1,FALSE),\"\")","v":"1556588"},{"$f":"IF(LEN(E13)>0,$G$5,\"\")","v":"AGOSTO"},"45878585","LIPA RAMOS MARIEL ELIANE","Director(e)","Nombrado",40,"A","A",null,null,"A","A","A","A","A",null,null,"A","A","A","A","A",null,null,"A","A","A",{"$f":"IF(AND(LEN($E13)>0,AD$12<>\"sá.\",AD$12<>\"do.\",AD$12<>\"\"),\"A\",\"\")","v":"A"},"A",null,null,"A","A","A","A","F",null,{"$f":"IF(AND(LEN($E13)>0,AN$12<>\"sá.\",AN$12<>\"do.\",AN$12<>\"\"),\"TR\",\"\")","v":""},null,null,{"$f":"COUNTIF(I13:AM13,$AQ$12)","v":0},{"$f":"COUNTIF(I13:AM13,$AR$12)","v":0},{"$f":"COUNTIF(I13:AM13,$AS$12)","v":0},{"$f":"COUNTIF(I13:AM13,$AT$12)","v":0},{"$f":"COUNTIF(I13:AM13,$AU$12)","v":0},{"$f":"COUNTIF(I13:AM13,$AV$12)","v":1},{"$f":"COUNTIF(I13:AM13,$AW$12)","v":0},{"$f":"COUNTIF(I13:AM13,$AX$12)","v":0},{"$f":"COUNTIF(I13:AM13,$AY$12)","v":0},null,null,null,{"$f":"COUNTIF(I13:AM13,\"T\")","v":0},{"$f":"INT(BC13/3)","v":0},"Coord. Adm."]
["LEYENDA:",{"$f":"IF(LEN(C14)>0,VLOOKUP($F$6,DATA!$A:$S,2,FALSE),\"\")","v":""}]
["A",null,"C","ASISTENCIA"]
["I",null,"L","INASISTENCIA INJUSTIFICADA",null,null,null,null,null,null,null,null,null,null,null,null,null,null,null,null,null,null,null,null,null,null,null,null,null,null,null,null,null,null,null,null,null,null,null,null,"NOMBRADO (A)",null,null,null,null,null,null,"I","INASISTENCIA INJUSTIFICADA"]
["LG",null,null,"LICENCIA CON GOCE DE REMUNERACIONES ",null,null,null,null,null,null,null,null,null,null,null,null,null,null,null,null,null,null,null,"LUGAR Y FECHA:","04 DE AGOSTO DEL 2024",null,null,null,null,null,null,null,null,null,null,null,null,null,null,null,"CONTRATADO (A)",null,null,null,null,null,null,"LG","LICENCIA CON GOCE DE REMUNERACIONES "]
["LS",null,null,"LICENCIA SIN GOCE DE REMUNERACIONES ",null,null,null,null,null,null,null,null,null,null,null,null,null,null,null,null,null,null,null,null,null,null,null,null,null,null,null,null,null,null,null,null,null,null,null,null,"DESTACADO (A)",null,null,null,null,null,null,"LS","LICENCIA SIN GOCE DE REMUNERACIONES "]
["LGU",null,"J","LICENCIA CON GOCE POR DECRETO DE URGENCIA"]
["TR",null,"X","TRABAJO REMOTO POR DECRETO DE URGENCIA",null,null,null,null,null,null,null,null,null,null,null,null,null,null,null,null,null,null,null,null,null,null,null,null,null,null,null,null,null,null,null,null,null,null,null,null,null,null,null,null,null,null,null,"LGU","LICENCIA CON GOCE POR DECRETO DE URGENCIA"]
["F",null,null,"FALTAS",null,null,null,null,null,null,null,null,null,null,null,null,null,null,null,null,null,null,null,null,null,null,null,null,null,null,null,null,null,null,null,null,null,null,null,null,null,null,null,null,null,null,null,"TR","TRABAJO REMOTO POR DECRETO DE URGENCIA"]
["T",null,null,"TARDANZA EN MINUTOS (DIGITACION EN NUMEROS)",null,null,null,null,null,null,null,null,null,null,null,null,null,null,null,null,null,null,null,null,null,null,null,null,null,null,null,null,null,null,null,null,null,null,null,null,null,null,null,null,null,null,null,"F","Faltas"]
["P",null,null,"PERMISO SIN GOCE DE REMUNERACIONES",null,null,null,null,null,null,null,null,null,null,null,null,null,null,null,null,null,null,null,null,null,null,null,null,null,null,null,null,null,null,null,null,null,null,null,null,null,null,null,null,null,null,null,"T","TARDANZA EN MINUTOS (DIGITACION EN NUMEROS)"]
["H",null,null,"HUELGA O PARO",null,null,null,null,null,null,null,null,null,null,null,null,null,null,null,null,null,null,null,null,null,null,null,null,null,null,null,null,null,null,null,null,null,null,null,null,null,null,null,null,null,null,null,"P","PERMISO SIN GOCE DE REMUNERACIONES"]
["V",null,null,"VACACIONES",null,null,null,null,null,null,null,null,null,null,null,null,null,null,null,null,null,null,null,null,null,null,null,null,null,null,null,null,null,null,null,null,null,null,null,null,null,null,null,null,null,null,null,"H","HUELGA O PARO"]

{"sheet":"OFICIO","index":1,"n_rows":0,"n_cols":0,"rows_kept":0,"cut":false,"hidden":false,"merged":[]}

{"sheet":"REPORTE CONSOLIDADO","index":2,"n_rows":135,"n_cols":38,"rows_kept":135,"cut":false,"hidden":false,"merged":[[129,27,129,35],[13,27,13,35],[16,27,16,35],[17,27,17,35],[18,27,18,35],[19,27,19,35],[20,27,20,35],[21,27,21,35],[23,27,23,35],[24,27,24,35],[25,27,25,35],[26,27,26,35],[36,27,36,35],[42,27,42,35],[43,27,43,35],[44,27,44,35],[45,27,45,35],[46,27,46,35],[37,27,37,35],[38,27,38,35],[39,27,39,35],[14,27,14,35],[40,27,40,35],[41,27,41,35],[0,0,1,37],[2,0,2,36],[4,6,4,10],[5,5,5,33],[4,26,4,33],[6,5,6,7],[9,0,10,0],[9,3,10,3],[9,4,10,4],[9,5,10,5],[9,6,10,6],[9,7,10,7],[9,11,9,13],[9,27,10,35],[7,5,7,7],[6,11,6,18],[7,11,7,18],[12,27,12,35],[9,22,9,23],[9,19,9,20],[15,27,15,35],[32,27,32,35],[33,27,33,35],[34,27,34,35],[35,27,35,35],[27,27,27,35],[28,27,28,35],[29,27,29,35],[30,27,30,35],[31,27,31,35],[22,27,22,35],[52,27,52,35],[53,27,53,35],[54,27,54,35],[55,27,55,35],[56,27,56,35],[47,27,47,35],[48,27,48,35],[49,27,49,35],[50,27,50,35],[51,27,51,35],[62,27,62,35],[63,27,63,35],[64,27,64,35],[65,27,65,35],[66,27,66,35],[57,27,57,35],[58,27,58,35],[59,27,59,35],[60,27,60,35],[61,27,61,35],[72,27,72,35],[73,27,73,35],[74,27,74,35],[75,27,75,35],[76,27,76,35],[67,27,67,35],[68,27,68,35],[69,27,69,35],[70,27,70,35],[71,27,71,35],[82,27,82,35],[83,27,83,35],[84,27,84,35],[85,27,85,35],[86,27,86,35],[77,27,77,35],[78,27,78,35],[79,27,79,35],[80,27,80,35],[81,27,81,35],[92,27,92,35],[93,27,93,35],[94,27,94,35],[95,27,95,35],[96,27,96,35],[87,27,87,35],[88,27,88,35],[89,27,89,35],[90,27,90,35],[91,27,91,35],[102,27,102,35],[103,27,103,35],[104,27,104,35],[105,27,105,35],[106,27,106,35],[97,27,97,35],[98,27,98,35],[99,27,99,35],[100,27,100,35],[101,27,101,35],[131,14,136,20],[127,27,127,35],[128,27,128,35],[3,4,3,34],[122,27,122,35],[123,27,123,35],[124,27,124,35],[125,27,125,35],[126,27,126,35],[117,27,117,35],[118,27,118,35],[119,27,119,35],[120,27,120,35],[121,27,121,35],[112,27,112,35],[113,27,113,35],[114,27,114,35],[115,27,115,35],[116,27,116,35],[107,27,107,35],[108,27,108,35],[109,27,109,35],[110,27,110,35],[111,27,111,35]]}
["NORMAS  PARA EL REGISTRO Y CONTROL  DE ASISTENCIA  Y SU  APLICACIÓN  EN LA PLANILLA  ÚNICA DE PAGOS DE LOS  PROFESORES Y AUXILIARES DE EDUCACIÓN, EN EL  MARCO  DE LA                                \nLEY DE REFORMA MAGISTERIAL  Y SU  REGLAMENTO (R.S.G. N° 326-2017-MINEDU)"]
[]
["ANEXO 04"]
[null,null,null,null,"FORMATO 02: REPORTE  CONSOLIDADO DE INASISTENCIAS, TARDANZAS Y PERMISOS SIN GOCE DE REMUNERACIÓN"]
[null,null,null,null,"UGEL: EL COLLAO","MES: ","AGOSTO",null,null,null,null,{"$f":"VLOOKUP(G5,CALEND!$A$17:$B$28,2,FALSE)","v":8},null,null,null,"AÑO:",null,{"$f":"+ASISTENCIA!X5*1","v":2024},null,null,null,null,null,null,null,"TURNO:",{"$f":"IF(+ASISTENCIA!AC5=\"\",\"\",ASISTENCIA!AC5)","v":"Mañana"}]
[null,null,null,null,"INSTITUCIÓN EDUCATIVA:",{"$f":"IF(+ASISTENCIA!F6=\"\",\"\",ASISTENCIA!F6)","v":"IEI N°742 HUARIQUISANA"}]
[null,null,null,null,"NIVEL EDUCATIVO Y/O MODALIDAD:",{"$f":"IF(+ASISTENCIA!F7=\"\",\"\",ASISTENCIA!F7)","v":"INICIAL-EBR"},null,null,null,"DIRECCION:",null,{"$f":"IF(+ASISTENCIA!N7=\"\",\"\",ASISTENCIA!N7)","v":"COMUNIDAD HUARIQUISANA"}]
[null,null,null,null,"CODIGO MODULAR:",{"$f":"IF(+ASISTENCIA!F8=\"\",\"\",ASISTENCIA!F8)","v":"1556588"},null,null,null,"DIST / CP:",null,{"$f":"IF(+ASISTENCIA!N8=\"\",\"\",ASISTENCIA!N8)","v":"PILCUYO-HUARIQUISANA"}]
[]
["N°",null,null,"DNI","APELLIDOS Y NOMBRES","CARGO","CONDICION LABORAL","JORNADA LABORAL",null,"INASIST. JUSTIFICADAS",null,"LICENCIAS",null,null,null,"TRABAJO REMOTO",null,"FALTAS",null,"TARDANZAS",null,null,"PERMISOS SG",null,null,"HUELGA PARO",null,"Observaciones"]
[null,"COD MOD II.EE.","MES",null,null,null,null,null,null,"DIAS",null,"CON GOCE","SIN GOCE","DU",null,"DU 026-2020\nDS 009-2021",null,"DIAS",null,"# TARD.","MINUTOS (*)",null,"HORAS (*)","MUNUTOS (*)",null,"DIAS",null,null,null,null,null,null,null,null,null,null,"Inasistencia + LSGH","OBSERVACIONES"]
[null,{"$f":"IF(LEN(C12)>0,VLOOKUP($F$6,DATA!$A:$S,2,FALSE),\"\")","v":""},{"$f":"IF(LEN(E12)>0,$G$5,\"\")","v":""},null,null,null,null,null,{"$f":"IF(AND(LEN($E12)>0,#REF!<>\"sá.\",#REF!<>\"do.\",#REF!<>\"\"),\"C\",\"\")","v":{"$error":"#REF!"}},{"$f":"IF(AND(LEN($E12)>0,#REF!<>\"sá.\",#REF!<>\"do.\",#REF!<>\"\"),\"C\",\"\")","v":{"$error":"#REF!"}},{"$f":"IF(AND(LEN($E12)>0,#REF!<>\"sá.\",#REF!<>\"do.\",#REF!<>\"\"),\"C\",\"\")","v":{"$error":"#REF!"}},{"$f":"IF(AND(LEN($E12)>0,#REF!<>\"sá.\",#REF!<>\"do.\",#REF!<>\"\"),\"C\",\"\")","v":{"$error":"#REF!"}},null,{"$f":"IF(AND(LEN($E12)>0,#REF!<>\"sá.\",#REF!<>\"do.\",#REF!<>\"\"),\"C\",\"\")","v":{"$error":"#REF!"}},{"$f":"IF(AND(LEN($E12)>0,#REF!<>\"sá.\",#REF!<>\"do.\",#REF!<>\"\"),\"C\",\"\")","v":{"$error":"#REF!"}},{"$f":"IF(AND(LEN($E12)>0,#REF!<>\"sá.\",#REF!<>\"do.\",#REF!<>\"\"),\"C\",\"\")","v":{"$error":"#REF!"}},{"$f":"IF(AND(LEN($E12)>0,#REF!<>\"sá.\",#REF!<>\"do.\",#REF!<>\"\"),\"C\",\"\")","v":{"$error":"#REF!"}},{"$f":"IF(AND(LEN($E12)>0,#REF!<>\"sá.\",#REF!<>\"do.\",#REF!<>\"\"),\"C\",\"\")","v":{"$error":"#REF!"}},null,{"$f":"IF(AND(LEN($E12)>0,#REF!<>\"sá.\",#REF!<>\"do.\",#REF!<>\"\"),\"C\",\"\")","v":{"$error":"#REF!"}},null,null,{"$f":"IF(AND(LEN($E12)>0,#REF!<>\"sá.\",#REF!<>\"do.\",#REF!<>\"\"),\"C\",\"\")","v":{"$error":"#REF!"}},null,null,{"$f":"IF(AND(LEN($E12)>0,#REF!<>\"sá.\",#REF!<>\"do.\",#REF!<>\"\"),\"C\",\"\")","v":{"$error":"#REF!"}},null,{"$f":"IF(AND(LEN($E12)>0,#REF!<>\"sá.\",#REF!<>\"do.\",#REF!<>\"\"),\"C\",\"\")","v":{"$error":"#REF!"}},{"$f":"IF(AND(LEN($E12)>0,#REF!<>\"sá.\",#REF!<>\"do.\",#REF!<>\"\"),\"C\",\"\")","v":{"$error":"#REF!"}},{"$f":"IF(AND(LEN($E12)>0,#REF!<>\"sá.\",#REF!<>\"do.\",#REF!<>\"\"),\"C\",\"\")","v":{"$error":"#REF!"}},{"$f":"IF(AND(LEN($E12)>0,#REF!<>\"sá.\",#REF!<>\"do.\",#REF!<>\"\"),\"C\",\"\")","v":{"$error":"#REF!"}},{"$f":"IF(AND(LEN($E12)>0,#REF!<>\"sá.\",#REF!<>\"do.\",#REF!<>\"\"),\"C\",\"\")","v":{"$error":"#REF!"}},{"$f":"IF(AND(LEN($E12)>0,#REF!<>\"sá.\",#REF!<>\"do.\",#REF!<>\"\"),\"C\",\"\")","v":{"$error":"#REF!"}},{"$f":"IF(AND(LEN($E12)>0,#REF!<>\"sá.\",#REF!<>\"do.\",#REF!<>\"\"),\"C\",\"\")","v":{"$error":"#REF!"}},{"$f":"IF(AND(LEN($E12)>0,#REF!<>\"sá.\",#REF!<>\"do.\",#REF!<>\"\"),\"C\",\"\")","v":{"$error":"#REF!"}},{"$f":"IF(AND(LEN($E12)>0,#REF!<>\"sá.\",#REF!<>\"do.\",#REF!<>\"\"),\"C\",\"\")","v":{"$error":"#REF!"}},{"$f":"IF(OR(COUNTIF($I12:$AJ12,\"X\")>0,COUNTIF($I12:$AJ12,\"L\")>0),COUNTIF($I12:$AJ12,\"X\")+COUNTIF($I12:$AJ12,\"L\"),\"\")","v":""}]
[{"$f":"IF(+ASISTENCIA!A13=\"\",\"\",ASISTENCIA!A13)","v":1},{"$f":"IF(LEN(C13)>0,VLOOKUP($F$6,DATA!$A:$S,2,FALSE),\"\")","v":{"$error":"#N/A"}},"AGOSTO",{"$f":"IF(+ASISTENCIA!D13=\"\",\"\",ASISTENCIA!D13)","v":"45878585"},{"$f":"IF(+ASISTENCIA!E13=\"\",\"\",ASISTENCIA!E13)","v":"LIPA RAMOS MARIEL ELIANE"},{"$f":"IF(+ASISTENCIA!F13=\"\",\"\",ASISTENCIA!F13)","v":"Director(e)"},{"$f":"IF(+ASISTENCIA!G13=\"\",\"\",ASISTENCIA!G13)","v":"Nombrado"},{"$f":"IF(+ASISTENCIA!H13=\"\",\"\",ASISTENCIA!H13)","v":40},null,{"$f":"ASISTENCIA!AQ13","v":0},null,{"$f":"ASISTENCIA!AR13","v":0},{"$f":"ASISTENCIA!AS13","v":0},{"$f":"ASISTENCIA!AT13","v":0},null,{"$f":"ASISTENCIA!AU13","v":0},null,0,null,{"$f":"ASISTENCIA!AW13","v":0},null,null,{"$f":"ASISTENCIA!AX13","v":0},null,null,{"$f":"ASISTENCIA!AY13","v":0},null,null,null,null,null,null,null,null,null,null,""]
[{"$f":"IF(+ASISTENCIA!#REF!=\"\",\"\",ASISTENCIA!#REF!)","v":{"$error":"#REF!"}},null,null,{"$f":"IF(+ASISTENCIA!#REF!=\"\",\"\",ASISTENCIA!#REF!)","v":{"$error":"#REF!"}},{"$f":"IF(+ASISTENCIA!#REF!=\"\",\"\",ASISTENCIA!#REF!)","v":{"$error":"#REF!"}},{"$f":"IF(+ASISTENCIA!#REF!=\"\",\"\",ASISTENCIA!#REF!)","v":{"$error":"#REF!"}},{"$f":"IF(+ASISTENCIA!#REF!=\"\",\"\",ASISTENCIA!#REF!)","v":{"$error":"#REF!"}},{"$f":"IF(+ASISTENCIA!#REF!=\"\",\"\",ASISTENCIA!#REF!)","v":{"$error":"#REF!"}},null,{"$f":"ASISTENCIA!#REF!","v":{"$error":"#REF!"}},null,{"$f":"ASISTENCIA!#REF!","v":{"$error":"#REF!"}},{"$f":"ASISTENCIA!#REF!","v":{"$error":"#REF!"}},{"$f":"ASISTENCIA!#REF!","v":{"$error":"#REF!"}},null,{"$f":"ASISTENCIA!#REF!","v":{"$error":"#REF!"}},null,{"$f":"ASISTENCIA!#REF!","v":{"$error":"#REF!"}},null,{"$f":"ASISTENCIA!#REF!","v":{"$error":"#REF!"}},null,null,null,null,null,null,null,null,null,null,null,null,null,null,null,null,""]
[{"$f":"IF(+ASISTENCIA!#REF!=\"\",\"\",ASISTENCIA!#REF!)","v":{"$error":"#REF!"}},null,null,{"$f":"IF(+ASISTENCIA!#REF!=\"\",\"\",ASISTENCIA!#REF!)","v":{"$error":"#REF!"}},{"$f":"IF(+ASISTENCIA!#REF!=\"\",\"\",ASISTENCIA!#REF!)","v":{"$error":"#REF!"}},{"$f":"IF(+ASISTENCIA!#REF!=\"\",\"\",ASISTENCIA!#REF!)","v":{"$error":"#REF!"}},{"$f":"IF(+ASISTENCIA!#REF!=\"\",\"\",ASISTENCIA!#REF!)","v":{"$error":"#REF!"}},{"$f":"IF(+ASISTENCIA!#REF!=\"\",\"\",ASISTENCIA!#REF!)","v":{"$error":"#REF!"}},null,{"$f":"ASISTENCIA!#REF!","v":{"$error":"#REF!"}},null,{"$f":"ASISTENCIA!#REF!","v":{"$error":"#REF!"}},{"$f":"ASISTENCIA!#REF!","v":{"$error":"#REF!"}},{"$f":"ASISTENCIA!#REF!","v":{"$error":"#REF!"}},null,{"$f":"ASISTENCIA!#REF!","v":{"$error":"#REF!"}},null,{"$f":"ASISTENCIA!#REF!","v":{"$error":"#REF!"}},null,{"$f":"ASISTENCIA!#REF!","v":{"$error":"#REF!"}},null,null,null,null,null,null,null,null,null,null,null,null,null,null,null,null,""]
[{"$f":"IF(+ASISTENCIA!#REF!=\"\",\"\",ASISTENCIA!#REF!)","v":{"$error":"#REF!"}},null,null,{"$f":"IF(+ASISTENCIA!#REF!=\"\",\"\",ASISTENCIA!#REF!)","v":{"$error":"#REF!"}},{"$f":"IF(+ASISTENCIA!#REF!=\"\",\"\",ASISTENCIA!#REF!)","v":{"$error":"#REF!"}},{"$f":"IF(+ASISTENCIA!#REF!=\"\",\"\",ASISTENCIA!#REF!)","v":{"$error":"#REF!"}},{"$f":"IF(+ASISTENCIA!#REF!=\"\",\"\",ASISTENCIA!#REF!)","v":{"$error":"#REF!"}},{"$f":"IF(+ASISTENCIA!#REF!=\"\",\"\",ASISTENCIA!#REF!)","v":{"$error":"#REF!"}},null,{"$f":"ASISTENCIA!#REF!","v":{"$error":"#REF!"}},null,{"$f":"ASISTENCIA!#REF!","v":{"$error":"#REF!"}},{"$f":"ASISTENCIA!#REF!","v":{"$error":"#REF!"}},{"$f":"ASISTENCIA!#REF!","v":{"$error":"#REF!"}},null,{"$f":"ASISTENCIA!#REF!","v":{"$error":"#REF!"}},null,{"$f":"ASISTENCIA!#REF!","v":{"$error":"#REF!"}},null,{"$f":"ASISTENCIA!#REF!","v":{"$error":"#REF!"}},null,null,null,null,null,null,null,null,null,null,null,null,null,null,null,null,""]
[{"$f":"IF(+ASISTENCIA!#REF!=\"\",\"\",ASISTENCIA!#REF!)","v":{"$error":"#REF!"}},null,null,{"$f":"IF(+ASISTENCIA!#REF!=\"\",\"\",ASISTENCIA!#REF!)","v":{"$error":"#REF!"}},{"$f":"IF(+ASISTENCIA!#REF!=\"\",\"\",ASISTENCIA!#REF!)","v":{"$error":"#REF!"}},{"$f":"IF(+ASISTENCIA!#REF!=\"\",\"\",ASISTENCIA!#REF!)","v":{"$error":"#REF!"}},{"$f":"IF(+ASISTENCIA!#REF!=\"\",\"\",ASISTENCIA!#REF!)","v":{"$error":"#REF!"}},{"$f":"IF(+ASISTENCIA!#REF!=\"\",\"\",ASISTENCIA!#REF!)","v":{"$error":"#REF!"}},null,{"$f":"ASISTENCIA!#REF!","v":{"$error":"#REF!"}},null,{"$f":"ASISTENCIA!#REF!","v":{"$error":"#REF!"}},{"$f":"ASISTENCIA!#REF!","v":{"$error":"#REF!"}},{"$f":"ASISTENCIA!#REF!","v":{"$error":"#REF!"}},null,{"$f":"ASISTENCIA!#REF!","v":{"$error":"#REF!"}},null,{"$f":"ASISTENCIA!#REF!","v":{"$error":"#REF!"}},null,{"$f":"ASISTENCIA!#REF!","v":{"$error":"#REF!"}},null,null,null,null,null,null,null,null,null,null,null,null,null,null,null,null,""]
[{"$f":"IF(+ASISTENCIA!#REF!=\"\",\"\",ASISTENCIA!#REF!)","v":{"$error":"#REF!"}},null,null,{"$f":"IF(+ASISTENCIA!#REF!=\"\",\"\",ASISTENCIA!#REF!)","v":{"$error":"#REF!"}},{"$f":"IF(+ASISTENCIA!#REF!=\"\",\"\",ASISTENCIA!#REF!)","v":{"$error":"#REF!"}},{"$f":"IF(+ASISTENCIA!#REF!=\"\",\"\",ASISTENCIA!#REF!)","v":{"$error":"#REF!"}},{"$f":"IF(+ASISTENCIA!#REF!=\"\",\"\",ASISTENCIA!#REF!)","v":{"$error":"#REF!"}},{"$f":"IF(+ASISTENCIA!#REF!=\"\",\"\",ASISTENCIA!#REF!)","v":{"$error":"#REF!"}},null,{"$f":"ASISTENCIA!#REF!","v":{"$error":"#REF!"}},null,{"$f":"ASISTENCIA!#REF!","v":{"$error":"#REF!"}},{"$f":"ASISTENCIA!#REF!","v":{"$error":"#REF!"}},{"$f":"ASISTENCIA!#REF!","v":{"$error":"#REF!"}},null,{"$f":"ASISTENCIA!#REF!","v":{"$error":"#REF!"}},null,{"$f":"ASISTENCIA!#REF!","v":{"$error":"#REF!"}},null,{"$f":"ASISTENCIA!#REF!","v":{"$error":"#REF!"}},null,null,null,null,null,null,null,null,null,null,null,null,null,null,null,null,""]
[{"$f":"IF(+ASISTENCIA!#REF!=\"\",\"\",ASISTENCIA!#REF!)","v":{"$error":"#REF!"}},null,null,{"$f":"IF(+ASISTENCIA!#REF!=\"\",\"\",ASISTENCIA!#REF!)","v":{"$error":"#REF!"}},{"$f":"IF(+ASISTENCIA!#REF!=\"\",\"\",ASISTENCIA!#REF!)","v":{"$error":"#REF!"}},{"$f":"IF(+ASISTENCIA!#REF!=\"\",\"\",ASISTENCIA!#REF!)","v":{"$error":"#REF!"}},{"$f":"IF(+ASISTENCIA!#REF!=\"\",\"\",ASISTENCIA!#REF!)","v":{"$error":"#REF!"}},{"$f":"IF(+ASISTENCIA!#REF!=\"\",\"\",ASISTENCIA!#REF!)","v":{"$error":"#REF!"}},null,{"$f":"ASISTENCIA!#REF!","v":{"$error":"#REF!"}},null,{"$f":"ASISTENCIA!#REF!","v":{"$error":"#REF!"}},{"$f":"ASISTENCIA!#REF!","v":{"$error":"#REF!"}},{"$f":"ASISTENCIA!#REF!","v":{"$error":"#REF!"}},null,{"$f":"ASISTENCIA!#REF!","v":{"$error":"#REF!"}},null,{"$f":"ASISTENCIA!#REF!","v":{"$error":"#REF!"}},null,{"$f":"ASISTENCIA!#REF!","v":{"$error":"#REF!"}},null,null,null,null,null,null,null,null,null,null,null,null,null,null,null,null,""]
[{"$f":"IF(+ASISTENCIA!#REF!=\"\",\"\",ASISTENCIA!#REF!)","v":{"$error":"#REF!"}},null,null,{"$f":"IF(+ASISTENCIA!#REF!=\"\",\"\",ASISTENCIA!#REF!)","v":{"$error":"#REF!"}},{"$f":"IF(+ASISTENCIA!#REF!=\"\",\"\",ASISTENCIA!#REF!)","v":{"$error":"#REF!"}},{"$f":"IF(+ASISTENCIA!#REF!=\"\",\"\",ASISTENCIA!#REF!)","v":{"$error":"#REF!"}},{"$f":"IF(+ASISTENCIA!#REF!=\"\",\"\",ASISTENCIA!#REF!)","v":{"$error":"#REF!"}},{"$f":"IF(+ASISTENCIA!#REF!=\"\",\"\",ASISTENCIA!#REF!)","v":{"$error":"#REF!"}},null,{"$f":"ASISTENCIA!#REF!","v":{"$error":"#REF!"}},null,{"$f":"ASISTENCIA!#REF!","v":{"$error":"#REF!"}},{"$f":"ASISTENCIA!#REF!","v":{"$error":"#REF!"}},{"$f":"ASISTENCIA!#REF!","v":{"$error":"#REF!"}},null,{"$f":"ASISTENCIA!#REF!","v":{"$error":"#REF!"}},null,{"$f":"ASISTENCIA!#REF!","v":{"$error":"#REF!"}},null,{"$f":"ASISTENCIA!#REF!","v":{"$error":"#REF!"}},null,null,null,null,null,null,null,null,null,null,null,null,null,null,null,null,""]
[{"$f":"IF(+ASISTENCIA!#REF!=\"\",\"\",ASISTENCIA!#REF!)","v":{"$error":"#REF!"}},null,null,{"$f":"IF(+ASISTENCIA!#REF!=\"\",\"\",ASISTENCIA!#REF!)","v":{"$error":"#REF!"}},{"$f":"IF(+ASISTENCIA!#REF!=\"\",\"\",ASISTENCIA!#REF!)","v":{"$error":"#REF!"}},{"$f":"IF(+ASISTENCIA!#REF!=\"\",\"\",ASISTENCIA!#REF!)","v":{"$error":"#REF!"}},{"$f":"IF(+ASISTENCIA!#REF!=\"\",\"\",ASISTENCIA!#REF!)","v":{"$error":"#REF!"}},{"$f":"IF(+ASISTENCIA!#REF!=\"\",\"\",ASISTENCIA!#REF!)","v":{"$error":"#REF!"}},null,{"$f":"ASISTENCIA!#REF!","v":{"$error":"#REF!"}},null,{"$f":"ASISTENCIA!#REF!","v":{"$error":"#REF!"}},{"$f":"ASISTENCIA!#REF!","v":{"$error":"#REF!"}},{"$f":"ASISTENCIA!#REF!","v":{"$error":"#REF!"}},null,{"$f":"ASISTENCIA!#REF!","v":{"$error":"#REF!"}},null,{"$f":"ASISTENCIA!#REF!","v":{"$error":"#REF!"}},null,{"$f":"ASISTENCIA!#REF!","v":{"$error":"#REF!"}},null,null,null,null,null,null,null,null,null,null,null,null,null,null,null,null,""]
[{"$f":"IF(+ASISTENCIA!#REF!=\"\",\"\",ASISTENCIA!#REF!)","v":{"$error":"#REF!"}},null,null,{"$f":"IF(+ASISTENCIA!#REF!=\"\",\"\",ASISTENCIA!#REF!)","v":{"$error":"#REF!"}},{"$f":"IF(+ASISTENCIA!#REF!=\"\",\"\",ASISTENCIA!#REF!)","v":{"$error":"#REF!"}},{"$f":"IF(+ASISTENCIA!#REF!=\"\",\"\",ASISTENCIA!#REF!)","v":{"$error":"#REF!"}},{"$f":"IF(+ASISTENCIA!#REF!=\"\",\"\",ASISTENCIA!#REF!)","v":{"$error":"#REF!"}},{"$f":"IF(+ASISTENCIA!#REF!=\"\",\"\",ASISTENCIA!#REF!)","v":{"$error":"#REF!"}},null,{"$f":"ASISTENCIA!#REF!","v":{"$error":"#REF!"}},null,{"$f":"ASISTENCIA!#REF!","v":{"$error":"#REF!"}},{"$f":"ASISTENCIA!#REF!","v":{"$error":"#REF!"}},{"$f":"ASISTENCIA!#REF!","v":{"$error":"#REF!"}},null,{"$f":"ASISTENCIA!#REF!","v":{"$error":"#REF!"}},null,{"$f":"ASISTENCIA!#REF!","v":{"$error":"#REF!"}},null,{"$f":"ASISTENCIA!#REF!","v":{"$error":"#REF!"}},null,null,null,null,null,null,null,null,null,null,null,null,null,null,null,null,""]
[{"$f":"IF(+ASISTENCIA!#REF!=\"\",\"\",ASISTENCIA!#REF!)","v":{"$error":"#REF!"}},null,null,{"$f":"IF(+ASISTENCIA!#REF!=\"\",\"\",ASISTENCIA!#REF!)","v":{"$error":"#REF!"}},{"$f":"IF(+ASISTENCIA!#REF!=\"\",\"\",ASISTENCIA!#REF!)","v":{"$error":"#REF!"}},{"$f":"IF(+ASISTENCIA!#REF!=\"\",\"\",ASISTENCIA!#REF!)","v":{"$error":"#REF!"}},{"$f":"IF(+ASISTENCIA!#REF!=\"\",\"\",ASISTENCIA!#REF!)","v":{"$error":"#REF!"}},{"$f":"IF(+ASISTENCIA!#REF!=\"\",\"\",ASISTENCIA!#REF!)","v":{"$error":"#REF!"}},null,{"$f":"ASISTENCIA!#REF!","v":{"$error":"#REF!"}},null,{"$f":"ASISTENCIA!#REF!","v":{"$error":"#REF!"}},{"$f":"ASISTENCIA!#REF!","v":{"$error":"#REF!"}},{"$f":"ASISTENCIA!#REF!","v":{"$error":"#REF!"}},null,{"$f":"ASISTENCIA!#REF!","v":{"$error":"#REF!"}},null,{"$f":"ASISTENCIA!#REF!","v":{"$error":"#REF!"}},null,{"$f":"ASISTENCIA!#REF!","v":{"$error":"#REF!"}},null,null,null,null,null,null,null,null,null,null,null,null,null,null,null,null,""]
[{"$f":"IF(+ASISTENCIA!#REF!=\"\",\"\",ASISTENCIA!#REF!)","v":{"$error":"#REF!"}},null,null,{"$f":"IF(+ASISTENCIA!#REF!=\"\",\"\",ASISTENCIA!#REF!)","v":{"$error":"#REF!"}},{"$f":"IF(+ASISTENCIA!#REF!=\"\",\"\",ASISTENCIA!#REF!)","v":{"$error":"#REF!"}},{"$f":"IF(+ASISTENCIA!#REF!=\"\",\"\",ASISTENCIA!#REF!)","v":{"$error":"#REF!"}},{"$f":"IF(+ASISTENCIA!#REF!=\"\",\"\",ASISTENCIA!#REF!)","v":{"$error":"#REF!"}},{"$f":"IF(+ASISTENCIA!#REF!=\"\",\"\",ASISTENCIA!#REF!)","v":{"$error":"#REF!"}},null,{"$f":"ASISTENCIA!#REF!","v":{"$error":"#REF!"}},null,{"$f":"ASISTENCIA!#REF!","v":{"$error":"#REF!"}},{"$f":"ASISTENCIA!#REF!","v":{"$error":"#REF!"}},{"$f":"ASISTENCIA!#REF!","v":{"$error":"#REF!"}},null,{"$f":"ASISTENCIA!#REF!","v":{"$error":"#REF!"}},null,{"$f":"ASISTENCIA!#REF!","v":{"$error":"#REF!"}},null,{"$f":"ASISTENCIA!#REF!","v":{"$error":"#REF!"}},null,null,null,null,null,null,null,null,null,null,null,null,null,null,null,null,""]
[{"$f":"IF(+ASISTENCIA!#REF!=\"\",\"\",ASISTENCIA!#REF!)","v":{"$error":"#REF!"}},null,null,{"$f":"IF(+ASISTENCIA!#REF!=\"\",\"\",ASISTENCIA!#REF!)","v":{"$error":"#REF!"}},{"$f":"IF(+ASISTENCIA!#REF!=\"\",\"\",ASISTENCIA!#REF!)","v":{"$error":"#REF!"}},{"$f":"IF(+ASISTENCIA!#REF!=\"\",\"\",ASISTENCIA!#REF!)","v":{"$error":"#REF!"}},{"$f":"IF(+ASISTENCIA!#REF!=\"\",\"\",ASISTENCIA!#REF!)","v":{"$error":"#REF!"}},{"$f":"IF(+ASISTENCIA!#REF!=\"\",\"\",ASISTENCIA!#REF!)","v":{"$error":"#REF!"}},null,{"$f":"ASISTENCIA!#REF!","v":{"$error":"#REF!"}},null,{"$f":"ASISTENCIA!#REF!","v":{"$error":"#REF!"}},{"$f":"ASISTENCIA!#REF!","v":{"$error":"#REF!"}},{"$f":"ASISTENCIA!#REF!","v":{"$error":"#REF!"}},null,{"$f":"ASISTENCIA!#REF!","v":{"$error":"#REF!"}},null,{"$f":"ASISTENCIA!#REF!","v":{"$error":"#REF!"}},null,{"$f":"ASISTENCIA!#REF!","v":{"$error":"#REF!"}},null,null,null,null,null,null,null,null,null,null,null,null,null,null,null,null,""]
[{"$f":"IF(+ASISTENCIA!#REF!=\"\",\"\",ASISTENCIA!#REF!)","v":{"$error":"#REF!"}},null,null,{"$f":"IF(+ASISTENCIA!#REF!=\"\",\"\",ASISTENCIA!#REF!)","v":{"$error":"#REF!"}},{"$f":"IF(+ASISTENCIA!#REF!=\"\",\"\",ASISTENCIA!#REF!)","v":{"$error":"#REF!"}},{"$f":"IF(+ASISTENCIA!#REF!=\"\",\"\",ASISTENCIA!#REF!)","v":{"$error":"#REF!"}},{"$f":"IF(+ASISTENCIA!#REF!=\"\",\"\",ASISTENCIA!#REF!)","v":{"$error":"#REF!"}},{"$f":"IF(+ASISTENCIA!#REF!=\"\",\"\",ASISTENCIA!#REF!)","v":{"$error":"#REF!"}},null,{"$f":"ASISTENCIA!#REF!","v":{"$error":"#REF!"}},null,{"$f":"ASISTENCIA!#REF!","v":{"$error":"#REF!"}},{"$f":"ASISTENCIA!#REF!","v":{"$error":"#REF!"}},{"$f":"ASISTENCIA!#REF!","v":{"$error":"#REF!"}},null,{"$f":"ASISTENCIA!#REF!","v":{"$error":"#REF!"}},null,{"$f":"ASISTENCIA!#REF!","v":{"$error":"#REF!"}},null,{"$f":"ASISTENCIA!#REF!","v":{"$error":"#REF!"}},null,null,null,null,null,null,null,null,null,null,null,null,null,null,null,null,""]
[{"$f":"IF(+ASISTENCIA!#REF!=\"\",\"\",ASISTENCIA!#REF!)","v":{"$error":"#REF!"}},null,null,{"$f":"IF(+ASISTENCIA!#REF!=\"\",\"\",ASISTENCIA!#REF!)","v":{"$error":"#REF!"}},{"$f":"IF(+ASISTENCIA!#REF!=\"\",\"\",ASISTENCIA!#REF!)","v":{"$error":"#REF!"}},{"$f":"IF(+ASISTENCIA!#REF!=\"\",\"\",ASISTENCIA!#REF!)","v":{"$error":"#REF!"}},{"$f":"IF(+ASISTENCIA!#REF!=\"\",\"\",ASISTENCIA!#REF!)","v":{"$error":"#REF!"}},{"$f":"IF(+ASISTENCIA!#REF!=\"\",\"\",ASISTENCIA!#REF!)","v":{"$error":"#REF!"}},null,{"$f":"ASISTENCIA!#REF!","v":{"$error":"#REF!"}},null,{"$f":"ASISTENCIA!#REF!","v":{"$error":"#REF!"}},{"$f":"ASISTENCIA!#REF!","v":{"$error":"#REF!"}},{"$f":"ASISTENCIA!#REF!","v":{"$error":"#REF!"}},null,{"$f":"ASISTENCIA!#REF!","v":{"$error":"#REF!"}},null,{"$f":"ASISTENCIA!#REF!","v":{"$error":"#REF!"}},null,{"$f":"ASISTENCIA!#REF!","v":{"$error":"#REF!"}},null,null,null,null,null,null,null,null,null,null,null,null,null,null,null,null,""]
[{"$f":"IF(+ASISTENCIA!#REF!=\"\",\"\",ASISTENCIA!#REF!)","v":{"$error":"#REF!"}},null,null,{"$f":"IF(+ASISTENCIA!#REF!=\"\",\"\",ASISTENCIA!#REF!)","v":{"$error":"#REF!"}},{"$f":"IF(+ASISTENCIA!#REF!=\"\",\"\",ASISTENCIA!#REF!)","v":{"$error":"#REF!"}},{"$f":"IF(+ASISTENCIA!#REF!=\"\",\"\",ASISTENCIA!#REF!)","v":{"$error":"#REF!"}},{"$f":"IF(+ASISTENCIA!#REF!=\"\",\"\",ASISTENCIA!#REF!)","v":{"$error":"#REF!"}},{"$f":"IF(+ASISTENCIA!#REF!=\"\",\"\",ASISTENCIA!#REF!)","v":{"$error":"#REF!"}},null,{"$f":"ASISTENCIA!#REF!","v":{"$error":"#REF!"}},null,{"$f":"ASISTENCIA!#REF!","v":{"$error":"#REF!"}},{"$f":"ASISTENCIA!#REF!","v":{"$error":"#REF!"}},{"$f":"ASISTENCIA!#REF!","v":{"$error":"#REF!"}},null,{"$f":"ASISTENCIA!#REF!","v":{"$error":"#REF!"}},null,{"$f":"ASISTENCIA!#REF!","v":{"$error":"#REF!"}},null,{"$f":"ASISTENCIA!#REF!","v":{"$error":"#REF!"}},null,null,null,null,null,null,null,null,null,null,null,null,null,null,null,null,""]
[{"$f":"IF(+ASISTENCIA!#REF!=\"\",\"\",ASISTENCIA!#REF!)","v":{"$error":"#REF!"}},null,null,{"$f":"IF(+ASISTENCIA!#REF!=\"\",\"\",ASISTENCIA!#REF!)","v":{"$error":"#REF!"}},{"$f":"IF(+ASISTENCIA!#REF!=\"\",\"\",ASISTENCIA!#REF!)","v":{"$error":"#REF!"}},{"$f":"IF(+ASISTENCIA!#REF!=\"\",\"\",ASISTENCIA!#REF!)","v":{"$error":"#REF!"}},{"$f":"IF(+ASISTENCIA!#REF!=\"\",\"\",ASISTENCIA!#REF!)","v":{"$error":"#REF!"}},{"$f":"IF(+ASISTENCIA!#REF!=\"\",\"\",ASISTENCIA!#REF!)","v":{"$error":"#REF!"}},null,{"$f":"ASISTENCIA!#REF!","v":{"$error":"#REF!"}},null,{"$f":"ASISTENCIA!#REF!","v":{"$error":"#REF!"}},{"$f":"ASISTENCIA!#REF!","v":{"$error":"#REF!"}},{"$f":"ASISTENCIA!#REF!","v":{"$error":"#REF!"}},null,{"$f":"ASISTENCIA!#REF!","v":{"$error":"#REF!"}},null,{"$f":"ASISTENCIA!#REF!","v":{"$error":"#REF!"}},null,{"$f":"ASISTENCIA!#REF!","v":{"$error":"#REF!"}},null,null,null,null,null,null,null,null,null,null,null,null,null,null,null,null,""]
[{"$f":"IF(+ASISTENCIA!#REF!=\"\",\"\",ASISTENCIA!#REF!)","v":{"$error":"#REF!"}},null,null,{"$f":"IF(+ASISTENCIA!#REF!=\"\",\"\",ASISTENCIA!#REF!)","v":{"$error":"#REF!"}},{"$f":"IF(+ASISTENCIA!#REF!=\"\",\"\",ASISTENCIA!#REF!)","v":{"$error":"#REF!"}},{"$f":"IF(+ASISTENCIA!#REF!=\"\",\"\",ASISTENCIA!#REF!)","v":{"$error":"#REF!"}},{"$f":"IF(+ASISTENCIA!#REF!=\"\",\"\",ASISTENCIA!#REF!)","v":{"$error":"#REF!"}},{"$f":"IF(+ASISTENCIA!#REF!=\"\",\"\",ASISTENCIA!#REF!)","v":{"$error":"#REF!"}},null,{"$f":"ASISTENCIA!#REF!","v":{"$error":"#REF!"}},null,{"$f":"ASISTENCIA!#REF!","v":{"$error":"#REF!"}},{"$f":"ASISTENCIA!#REF!","v":{"$error":"#REF!"}},{"$f":"ASISTENCIA!#REF!","v":{"$error":"#REF!"}},null,{"$f":"ASISTENCIA!#REF!","v":{"$error":"#REF!"}},null,{"$f":"ASISTENCIA!#REF!","v":{"$error":"#REF!"}},null,{"$f":"ASISTENCIA!#REF!","v":{"$error":"#REF!"}},null,null,null,null,null,null,null,null,null,null,null,null,null,null,null,null,""]
[{"$f":"IF(+ASISTENCIA!#REF!=\"\",\"\",ASISTENCIA!#REF!)","v":{"$error":"#REF!"}},null,null,{"$f":"IF(+ASISTENCIA!#REF!=\"\",\"\",ASISTENCIA!#REF!)","v":{"$error":"#REF!"}},{"$f":"IF(+ASISTENCIA!#REF!=\"\",\"\",ASISTENCIA!#REF!)","v":{"$error":"#REF!"}},{"$f":"IF(+ASISTENCIA!#REF!=\"\",\"\",ASISTENCIA!#REF!)","v":{"$error":"#REF!"}},{"$f":"IF(+ASISTENCIA!#REF!=\"\",\"\",ASISTENCIA!#REF!)","v":{"$error":"#REF!"}},{"$f":"IF(+ASISTENCIA!#REF!=\"\",\"\",ASISTENCIA!#REF!)","v":{"$error":"#REF!"}},null,{"$f":"ASISTENCIA!#REF!","v":{"$error":"#REF!"}},null,{"$f":"ASISTENCIA!#REF!","v":{"$error":"#REF!"}},{"$f":"ASISTENCIA!#REF!","v":{"$error":"#REF!"}},{"$f":"ASISTENCIA!#REF!","v":{"$error":"#REF!"}},null,{"$f":"ASISTENCIA!#REF!","v":{"$error":"#REF!"}},null,{"$f":"ASISTENCIA!#REF!","v":{"$error":"#REF!"}},null,{"$f":"ASISTENCIA!#REF!","v":{"$error":"#REF!"}},null,null,null,null,null,null,null,null,null,null,null,null,null,null,null,null,""]
[{"$f":"IF(+ASISTENCIA!#REF!=\"\",\"\",ASISTENCIA!#REF!)","v":{"$error":"#REF!"}},null,null,{"$f":"IF(+ASISTENCIA!#REF!=\"\",\"\",ASISTENCIA!#REF!)","v":{"$error":"#REF!"}},{"$f":"IF(+ASISTENCIA!#REF!=\"\",\"\",ASISTENCIA!#REF!)","v":{"$error":"#REF!"}},{"$f":"IF(+ASISTENCIA!#REF!=\"\",\"\",ASISTENCIA!#REF!)","v":{"$error":"#REF!"}},{"$f":"IF(+ASISTENCIA!#REF!=\"\",\"\",ASISTENCIA!#REF!)","v":{"$error":"#REF!"}},{"$f":"IF(+ASISTENCIA!#REF!=\"\",\"\",ASISTENCIA!#REF!)","v":{"$error":"#REF!"}},null,{"$f":"ASISTENCIA!#REF!","v":{"$error":"#REF!"}},null,{"$f":"ASISTENCIA!#REF!","v":{"$error":"#REF!"}},{"$f":"ASISTENCIA!#REF!","v":{"$error":"#REF!"}},{"$f":"ASISTENCIA!#REF!","v":{"$error":"#REF!"}},null,{"$f":"ASISTENCIA!#REF!","v":{"$error":"#REF!"}},null,{"$f":"ASISTENCIA!#REF!","v":{"$error":"#REF!"}},null,{"$f":"ASISTENCIA!#REF!","v":{"$error":"#REF!"}},null,null,null,null,null,null,null,null,null,null,null,null,null,null,null,null,""]
[{"$f":"IF(+ASISTENCIA!#REF!=\"\",\"\",ASISTENCIA!#REF!)","v":{"$error":"#REF!"}},null,null,{"$f":"IF(+ASISTENCIA!#REF!=\"\",\"\",ASISTENCIA!#REF!)","v":{"$error":"#REF!"}},{"$f":"IF(+ASISTENCIA!#REF!=\"\",\"\",ASISTENCIA!#REF!)","v":{"$error":"#REF!"}},{"$f":"IF(+ASISTENCIA!#REF!=\"\",\"\",ASISTENCIA!#REF!)","v":{"$error":"#REF!"}},{"$f":"IF(+ASISTENCIA!#REF!=\"\",\"\",ASISTENCIA!#REF!)","v":{"$error":"#REF!"}},{"$f":"IF(+ASISTENCIA!#REF!=\"\",\"\",ASISTENCIA!#REF!)","v":{"$error":"#REF!"}},null,{"$f":"ASISTENCIA!#REF!","v":{"$error":"#REF!"}},null,{"$f":"ASISTENCIA!#REF!","v":{"$error":"#REF!"}},{"$f":"ASISTENCIA!#REF!","v":{"$error":"#REF!"}},{"$f":"ASISTENCIA!#REF!","v":{"$error":"#REF!"}},null,{"$f":"ASISTENCIA!#REF!","v":{"$error":"#REF!"}},null,{"$f":"ASISTENCIA!#REF!","v":{"$error":"#REF!"}},null,{"$f":"ASISTENCIA!#REF!","v":{"$error":"#REF!"}},null,null,null,null,null,null,null,null,null,null,null,null,null,null,null,null,""]
[{"$f":"IF(+ASISTENCIA!#REF!=\"\",\"\",ASISTENCIA!#REF!)","v":{"$error":"#REF!"}},null,null,{"$f":"IF(+ASISTENCIA!#REF!=\"\",\"\",ASISTENCIA!#REF!)","v":{"$error":"#REF!"}},{"$f":"IF(+ASISTENCIA!#REF!=\"\",\"\",ASISTENCIA!#REF!)","v":{"$error":"#REF!"}},{"$f":"IF(+ASISTENCIA!#REF!=\"\",\"\",ASISTENCIA!#REF!)","v":{"$error":"#REF!"}},{"$f":"IF(+ASISTENCIA!#REF!=\"\",\"\",ASISTENCIA!#REF!)","v":{"$error":"#REF!"}},{"$f":"IF(+ASISTENCIA!#REF!=\"\",\"\",ASISTENCIA!#REF!)","v":{"$error":"#REF!"}},null,{"$f":"ASISTENCIA!#REF!","v":{"$error":"#REF!"}},null,{"$f":"ASISTENCIA!#REF!","v":{"$error":"#REF!"}},{"$f":"ASISTENCIA!#REF!","v":{"$error":"#REF!"}},{"$f":"ASISTENCIA!#REF!","v":{"$error":"#REF!"}},null,{"$f":"ASISTENCIA!#REF!","v":{"$error":"#REF!"}},null,{"$f":"ASISTENCIA!#REF!","v":{"$error":"#REF!"}},null,{"$f":"ASISTENCIA!#REF!","v":{"$error":"#REF!"}},null,null,null,null,null,null,null,null,null,null,null,null,null,null,null,null,""]
[{"$f":"IF(+ASISTENCIA!#REF!=\"\",\"\",ASISTENCIA!#REF!)","v":{"$error":"#REF!"}},null,null,{"$f":"IF(+ASISTENCIA!#REF!=\"\",\"\",ASISTENCIA!#REF!)","v":{"$error":"#REF!"}},{"$f":"IF(+ASISTENCIA!#REF!=\"\",\"\",ASISTENCIA!#REF!)","v":{"$error":"#REF!"}},{"$f":"IF(+ASISTENCIA!#REF!=\"\",\"\",ASISTENCIA!#REF!)","v":{"$error":"#REF!"}},{"$f":"IF(+ASISTENCIA!#REF!=\"\",\"\",ASISTENCIA!#REF!)","v":{"$error":"#REF!"}},{"$f":"IF(+ASISTENCIA!#REF!=\"\",\"\",ASISTENCIA!#REF!)","v":{"$error":"#REF!"}},null,{"$f":"ASISTENCIA!#REF!","v":{"$error":"#REF!"}},null,{"$f":"ASISTENCIA!#REF!","v":{"$error":"#REF!"}},{"$f":"ASISTENCIA!#REF!","v":{"$error":"#REF!"}},{"$f":"ASISTENCIA!#REF!","v":{"$error":"#REF!"}},null,{"$f":"ASISTENCIA!#REF!","v":{"$error":"#REF!"}},null,{"$f":"ASISTENCIA!#REF!","v":{"$error":"#REF!"}},null,{"$f":"ASISTENCIA!#REF!","v":{"$error":"#REF!"}},null,null,null,null,null,null,null,null,null,null,null,null,null,null,null,null,""]
[{"$f":"IF(+ASISTENCIA!#REF!=\"\",\"\",ASISTENCIA!#REF!)","v":{"$error":"#REF!"}},null,null,{"$f":"IF(+ASISTENCIA!#REF!=\"\",\"\",ASISTENCIA!#REF!)","v":{"$error":"#REF!"}},{"$f":"IF(+ASISTENCIA!#REF!=\"\",\"\",ASISTENCIA!#REF!)","v":{"$error":"#REF!"}},{"$f":"IF(+ASISTENCIA!#REF!=\"\",\"\",ASISTENCIA!#REF!)","v":{"$error":"#REF!"}},{"$f":"IF(+ASISTENCIA!#REF!=\"\",\"\",ASISTENCIA!#REF!)","v":{"$error":"#REF!"}},{"$f":"IF(+ASISTENCIA!#REF!=\"\",\"\",ASISTENCIA!#REF!)","v":{"$error":"#REF!"}},null,{"$f":"ASISTENCIA!#REF!","v":{"$error":"#REF!"}},null,{"$f":"ASISTENCIA!#REF!","v":{"$error":"#REF!"}},{"$f":"ASISTENCIA!#REF!","v":{"$error":"#REF!"}},{"$f":"ASISTENCIA!#REF!","v":{"$error":"#REF!"}},null,{"$f":"ASISTENCIA!#REF!","v":{"$error":"#REF!"}},null,{"$f":"ASISTENCIA!#REF!","v":{"$error":"#REF!"}},null,{"$f":"ASISTENCIA!#REF!","v":{"$error":"#REF!"}},null,null,null,null,null,null,null,null,null,null,null,null,null,null,null,null,""]
[{"$f":"IF(+ASISTENCIA!#REF!=\"\",\"\",ASISTENCIA!#REF!)","v":{"$error":"#REF!"}},null,null,{"$f":"IF(+ASISTENCIA!#REF!=\"\",\"\",ASISTENCIA!#REF!)","v":{"$error":"#REF!"}},{"$f":"IF(+ASISTENCIA!#REF!=\"\",\"\",ASISTENCIA!#REF!)","v":{"$error":"#REF!"}},{"$f":"IF(+ASISTENCIA!#REF!=\"\",\"\",ASISTENCIA!#REF!)","v":{"$error":"#REF!"}},{"$f":"IF(+ASISTENCIA!#REF!=\"\",\"\",ASISTENCIA!#REF!)","v":{"$error":"#REF!"}},{"$f":"IF(+ASISTENCIA!#REF!=\"\",\"\",ASISTENCIA!#REF!)","v":{"$error":"#REF!"}},null,{"$f":"ASISTENCIA!#REF!","v":{"$error":"#REF!"}},null,{"$f":"ASISTENCIA!#REF!","v":{"$error":"#REF!"}},{"$f":"ASISTENCIA!#REF!","v":{"$error":"#REF!"}},{"$f":"ASISTENCIA!#REF!","v":{"$error":"#REF!"}},null,{"$f":"ASISTENCIA!#REF!","v":{"$error":"#REF!"}},null,{"$f":"ASISTENCIA!#REF!","v":{"$error":"#REF!"}},null,{"$f":"ASISTENCIA!#REF!","v":{"$error":"#REF!"}},null,null,null,null,null,null,null,null,null,null,null,null,null,null,null,null,""]
[{"$f":"IF(+ASISTENCIA!#REF!=\"\",\"\",ASISTENCIA!#REF!)","v":{"$error":"#REF!"}},null,null,{"$f":"IF(+ASISTENCIA!#REF!=\"\",\"\",ASISTENCIA!#REF!)","v":{"$error":"#REF!"}},{"$f":"IF(+ASISTENCIA!#REF!=\"\",\"\",ASISTENCIA!#REF!)","v":{"$error":"#REF!"}},{"$f":"IF(+ASISTENCIA!#REF!=\"\",\"\",ASISTENCIA!#REF!)","v":{"$error":"#REF!"}},{"$f":"IF(+ASISTENCIA!#REF!=\"\",\"\",ASISTENCIA!#REF!)","v":{"$error":"#REF!"}},{"$f":"IF(+ASISTENCIA!#REF!=\"\",\"\",ASISTENCIA!#REF!)","v":{"$error":"#REF!"}},null,{"$f":"ASISTENCIA!#REF!","v":{"$error":"#REF!"}},null,{"$f":"ASISTENCIA!#REF!","v":{"$error":"#REF!"}},{"$f":"ASISTENCIA!#REF!","v":{"$error":"#REF!"}},{"$f":"ASISTENCIA!#REF!","v":{"$error":"#REF!"}},null,{"$f":"ASISTENCIA!#REF!","v":{"$error":"#REF!"}},null,{"$f":"ASISTENCIA!#REF!","v":{"$error":"#REF!"}},null,{"$f":"ASISTENCIA!#REF!","v":{"$error":"#REF!"}},null,null,null,null,null,null,null,null,null,null,null,null,null,null,null,null,""]
[{"$f":"IF(+ASISTENCIA!#REF!=\"\",\"\",ASISTENCIA!#REF!)","v":{"$error":"#REF!"}},null,null,{"$f":"IF(+ASISTENCIA!#REF!=\"\",\"\",ASISTENCIA!#REF!)","v":{"$error":"#REF!"}},{"$f":"IF(+ASISTENCIA!#REF!=\"\",\"\",ASISTENCIA!#REF!)","v":{"$error":"#REF!"}},{"$f":"IF(+ASISTENCIA!#REF!=\"\",\"\",ASISTENCIA!#REF!)","v":{"$error":"#REF!"}},{"$f":"IF(+ASISTENCIA!#REF!=\"\",\"\",ASISTENCIA!#REF!)","v":{"$error":"#REF!"}},{"$f":"IF(+ASISTENCIA!#REF!=\"\",\"\",ASISTENCIA!#REF!)","v":{"$error":"#REF!"}},null,{"$f":"ASISTENCIA!#REF!","v":{"$error":"#REF!"}},null,{"$f":"ASISTENCIA!#REF!","v":{"$error":"#REF!"}},{"$f":"ASISTENCIA!#REF!","v":{"$error":"#REF!"}},{"$f":"ASISTENCIA!#REF!","v":{"$error":"#REF!"}},null,{"$f":"ASISTENCIA!#REF!","v":{"$error":"#REF!"}},null,{"$f":"ASISTENCIA!#REF!","v":{"$error":"#REF!"}},null,{"$f":"ASISTENCIA!#REF!","v":{"$error":"#REF!"}},null,null,null,null,null,null,null,null,null,null,null,null,null,null,null,null,""]
[{"$f":"IF(+ASISTENCIA!#REF!=\"\",\"\",ASISTENCIA!#REF!)","v":{"$error":"#REF!"}},null,null,{"$f":"IF(+ASISTENCIA!#REF!=\"\",\"\",ASISTENCIA!#REF!)","v":{"$error":"#REF!"}},{"$f":"IF(+ASISTENCIA!#REF!=\"\",\"\",ASISTENCIA!#REF!)","v":{"$error":"#REF!"}},{"$f":"IF(+ASISTENCIA!#REF!=\"\",\"\",ASISTENCIA!#REF!)","v":{"$error":"#REF!"}},{"$f":"IF(+ASISTENCIA!#REF!=\"\",\"\",ASISTENCIA!#REF!)","v":{"$error":"#REF!"}},{"$f":"IF(+ASISTENCIA!#REF!=\"\",\"\",ASISTENCIA!#REF!)","v":{"$error":"#REF!"}},null,{"$f":"ASISTENCIA!#REF!","v":{"$error":"#REF!"}},null,{"$f":"ASISTENCIA!#REF!","v":{"$error":"#REF!"}},{"$f":"ASISTENCIA!#REF!","v":{"$error":"#REF!"}},{"$f":"ASISTENCIA!#REF!","v":{"$error":"#REF!"}},null,{"$f":"ASISTENCIA!#REF!","v":{"$error":"#REF!"}},null,{"$f":"ASISTENCIA!#REF!","v":{"$error":"#REF!"}},null,{"$f":"ASISTENCIA!#REF!","v":{"$error":"#REF!"}},null,null,null,null,null,null,null,null,null,null,null,null,null,null,null,null,""]
[{"$f":"IF(+ASISTENCIA!#REF!=\"\",\"\",ASISTENCIA!#REF!)","v":{"$error":"#REF!"}},null,null,{"$f":"IF(+ASISTENCIA!#REF!=\"\",\"\",ASISTENCIA!#REF!)","v":{"$error":"#REF!"}},{"$f":"IF(+ASISTENCIA!#REF!=\"\",\"\",ASISTENCIA!#REF!)","v":{"$error":"#REF!"}},{"$f":"IF(+ASISTENCIA!#REF!=\"\",\"\",ASISTENCIA!#REF!)","v":{"$error":"#REF!"}},{"$f":"IF(+ASISTENCIA!#REF!=\"\",\"\",ASISTENCIA!#REF!)","v":{"$error":"#REF!"}},{"$f":"IF(+ASISTENCIA!#REF!=\"\",\"\",ASISTENCIA!#REF!)","v":{"$error":"#REF!"}},null,{"$f":"ASISTENCIA!#REF!","v":{"$error":"#REF!"}},null,{"$f":"ASISTENCIA!#REF!","v":{"$error":"#REF!"}},{"$f":"ASISTENCIA!#REF!","v":{"$error":"#REF!"}},{"$f":"ASISTENCIA!#REF!","v":{"$error":"#REF!"}},null,{"$f":"ASISTENCIA!#REF!","v":{"$error":"#REF!"}},null,{"$f":"ASISTENCIA!#REF!","v":{"$error":"#REF!"}},null,{"$f":"ASISTENCIA!#REF!","v":{"$error":"#REF!"}},null,null,null,null,null,null,null,null,null,null,null,null,null,null,null,null,""]
[{"$f":"IF(+ASISTENCIA!#REF!=\"\",\"\",ASISTENCIA!#REF!)","v":{"$error":"#REF!"}},null,null,{"$f":"IF(+ASISTENCIA!#REF!=\"\",\"\",ASISTENCIA!#REF!)","v":{"$error":"#REF!"}},{"$f":"IF(+ASISTENCIA!#REF!=\"\",\"\",ASISTENCIA!#REF!)","v":{"$error":"#REF!"}},{"$f":"IF(+ASISTENCIA!#REF!=\"\",\"\",ASISTENCIA!#REF!)","v":{"$error":"#REF!"}},{"$f":"IF(+ASISTENCIA!#REF!=\"\",\"\",ASISTENCIA!#REF!)","v":{"$error":"#REF!"}},{"$f":"IF(+ASISTENCIA!#REF!=\"\",\"\",ASISTENCIA!#REF!)","v":{"$error":"#REF!"}},null,{"$f":"ASISTENCIA!#REF!","v":{"$error":"#REF!"}},null,{"$f":"ASISTENCIA!#REF!","v":{"$error":"#REF!"}},{"$f":"ASISTENCIA!#REF!","v":{"$error":"#REF!"}},{"$f":"ASISTENCIA!#REF!","v":{"$error":"#REF!"}},null,{"$f":"ASISTENCIA!#REF!","v":{"$error":"#REF!"}},null,{"$f":"ASISTENCIA!#REF!","v":{"$error":"#REF!"}},null,{"$f":"ASISTENCIA!#REF!","v":{"$error":"#REF!"}},null,null,null,null,null,null,null,null,null,null,null,null,null,null,null,null,""]
[{"$f":"IF(+ASISTENCIA!#REF!=\"\",\"\",ASISTENCIA!#REF!)","v":{"$error":"#REF!"}},null,null,{"$f":"IF(+ASISTENCIA!#REF!=\"\",\"\",ASISTENCIA!#REF!)","v":{"$error":"#REF!"}},{"$f":"IF(+ASISTENCIA!#REF!=\"\",\"\",ASISTENCIA!#REF!)","v":{"$error":"#REF!"}},{"$f":"IF(+ASISTENCIA!#REF!=\"\",\"\",ASISTENCIA!#REF!)","v":{"$error":"#REF!"}},{"$f":"IF(+ASISTENCIA!#REF!=\"\",\"\",ASISTENCIA!#REF!)","v":{"$error":"#REF!"}},{"$f":"IF(+ASISTENCIA!#REF!=\"\",\"\",ASISTENCIA!#REF!)","v":{"$error":"#REF!"}},null,{"$f":"ASISTENCIA!#REF!","v":{"$error":"#REF!"}},null,{"$f":"ASISTENCIA!#REF!","v":{"$error":"#REF!"}},{"$f":"ASISTENCIA!#REF!","v":{"$error":"#REF!"}},{"$f":"ASISTENCIA!#REF!","v":{"$error":"#REF!"}},null,{"$f":"ASISTENCIA!#REF!","v":{"$error":"#REF!"}},null,{"$f":"ASISTENCIA!#REF!","v":{"$error":"#REF!"}},null,{"$f":"ASISTENCIA!#REF!","v":{"$error":"#REF!"}},null,null,null,null,null,null,null,null,null,null,null,null,null,null,null,null,""]
[{"$f":"IF(+ASISTENCIA!#REF!=\"\",\"\",ASISTENCIA!#REF!)","v":{"$error":"#REF!"}},null,null,{"$f":"IF(+ASISTENCIA!#REF!=\"\",\"\",ASISTENCIA!#REF!)","v":{"$error":"#REF!"}},{"$f":"IF(+ASISTENCIA!#REF!=\"\",\"\",ASISTENCIA!#REF!)","v":{"$error":"#REF!"}},{"$f":"IF(+ASISTENCIA!#REF!=\"\",\"\",ASISTENCIA!#REF!)","v":{"$error":"#REF!"}},{"$f":"IF(+ASISTENCIA!#REF!=\"\",\"\",ASISTENCIA!#REF!)","v":{"$error":"#REF!"}},{"$f":"IF(+ASISTENCIA!#REF!=\"\",\"\",ASISTENCIA!#REF!)","v":{"$error":"#REF!"}},null,{"$f":"ASISTENCIA!#REF!","v":{"$error":"#REF!"}},null,{"$f":"ASISTENCIA!#REF!","v":{"$error":"#REF!"}},{"$f":"ASISTENCIA!#REF!","v":{"$error":"#REF!"}},{"$f":"ASISTENCIA!#REF!","v":{"$error":"#REF!"}},null,{"$f":"ASISTENCIA!#REF!","v":{"$error":"#REF!"}},null,{"$f":"ASISTENCIA!#REF!","v":{"$error":"#REF!"}},null,{"$f":"ASISTENCIA!#REF!","v":{"$error":"#REF!"}},null,null,null,null,null,null,null,null,null,null,null,null,null,null,null,null,{"$f":"IF(OR(COUNTIF($I44:$AJ44,\"X\")>0,COUNTIF($I44:$AJ44,\"L\")>0),COUNTIF($I44:$AJ44,\"X\")+COUNTIF($I44:$AJ44,\"L\"),\"\")","v":""}]
[{"$f":"IF(+ASISTENCIA!#REF!=\"\",\"\",ASISTENCIA!#REF!)","v":{"$error":"#REF!"}},null,null,{"$f":"IF(+ASISTENCIA!#REF!=\"\",\"\",ASISTENCIA!#REF!)","v":{"$error":"#REF!"}},{"$f":"IF(+ASISTENCIA!#REF!=\"\",\"\",ASISTENCIA!#REF!)","v":{"$error":"#REF!"}},{"$f":"IF(+ASISTENCIA!#REF!=\"\",\"\",ASISTENCIA!#REF!)","v":{"$error":"#REF!"}},{"$f":"IF(+ASISTENCIA!#REF!=\"\",\"\",ASISTENCIA!#REF!)","v":{"$error":"#REF!"}},{"$f":"IF(+ASISTENCIA!#REF!=\"\",\"\",ASISTENCIA!#REF!)","v":{"$error":"#REF!"}},null,{"$f":"ASISTENCIA!#REF!","v":{"$error":"#REF!"}},null,{"$f":"ASISTENCIA!#REF!","v":{"$error":"#REF!"}},{"$f":"ASISTENCIA!#REF!","v":{"$error":"#REF!"}},{"$f":"ASISTENCIA!#REF!","v":{"$error":"#REF!"}},null,{"$f":"ASISTENCIA!#REF!","v":{"$error":"#REF!"}},null,{"$f":"ASISTENCIA!#REF!","v":{"$error":"#REF!"}},null,{"$f":"ASISTENCIA!#REF!","v":{"$error":"#REF!"}},null,null,null,null,null,null,null,null,null,null,null,null,null,null,null,null,""]
[{"$f":"IF(+ASISTENCIA!#REF!=\"\",\"\",ASISTENCIA!#REF!)","v":{"$error":"#REF!"}},null,null,{"$f":"IF(+ASISTENCIA!#REF!=\"\",\"\",ASISTENCIA!#REF!)","v":{"$error":"#REF!"}},{"$f":"IF(+ASISTENCIA!#REF!=\"\",\"\",ASISTENCIA!#REF!)","v":{"$error":"#REF!"}},{"$f":"IF(+ASISTENCIA!#REF!=\"\",\"\",ASISTENCIA!#REF!)","v":{"$error":"#REF!"}},{"$f":"IF(+ASISTENCIA!#REF!=\"\",\"\",ASISTENCIA!#REF!)","v":{"$error":"#REF!"}},{"$f":"IF(+ASISTENCIA!#REF!=\"\",\"\",ASISTENCIA!#REF!)","v":{"$error":"#REF!"}},null,{"$f":"ASISTENCIA!#REF!","v":{"$error":"#REF!"}},null,{"$f":"ASISTENCIA!#REF!","v":{"$error":"#REF!"}},{"$f":"ASISTENCIA!#REF!","v":{"$error":"#REF!"}},{"$f":"ASISTENCIA!#REF!","v":{"$error":"#REF!"}},null,{"$f":"ASISTENCIA!#REF!","v":{"$error":"#REF!"}},null,{"$f":"ASISTENCIA!#REF!","v":{"$error":"#REF!"}},null,{"$f":"ASISTENCIA!#REF!","v":{"$error":"#REF!"}},null,null,null,null,null,null,null,null,null,null,null,null,null,null,null,null,""]
[{"$f":"IF(+ASISTENCIA!#REF!=\"\",\"\",ASISTENCIA!#REF!)","v":{"$error":"#REF!"}},null,null,{"$f":"IF(+ASISTENCIA!#REF!=\"\",\"\",ASISTENCIA!#REF!)","v":{"$error":"#REF!"}},{"$f":"IF(+ASISTENCIA!#REF!=\"\",\"\",ASISTENCIA!#REF!)","v":{"$error":"#REF!"}},{"$f":"IF(+ASISTENCIA!#REF!=\"\",\"\",ASISTENCIA!#REF!)","v":{"$error":"#REF!"}},{"$f":"IF(+ASISTENCIA!#REF!=\"\",\"\",ASISTENCIA!#REF!)","v":{"$error":"#REF!"}},{"$f":"IF(+ASISTENCIA!#REF!=\"\",\"\",ASISTENCIA!#REF!)","v":{"$error":"#REF!"}},null,{"$f":"ASISTENCIA!#REF!","v":{"$error":"#REF!"}},null,{"$f":"ASISTENCIA!#REF!","v":{"$error":"#REF!"}},{"$f":"ASISTENCIA!#REF!","v":{"$error":"#REF!"}},{"$f":"ASISTENCIA!#REF!","v":{"$error":"#REF!"}},null,{"$f":"ASISTENCIA!#REF!","v":{"$error":"#REF!"}},null,{"$f":"ASISTENCIA!#REF!","v":{"$error":"#REF!"}},null,{"$f":"ASISTENCIA!#REF!","v":{"$error":"#REF!"}},null,null,null,null,null,null,null,null,null,null,null,null,null,null,null,null,""]
[{"$f":"IF(+ASISTENCIA!#REF!=\"\",\"\",ASISTENCIA!#REF!)","v":{"$error":"#REF!"}},null,null,{"$f":"IF(+ASISTENCIA!#REF!=\"\",\"\",ASISTENCIA!#REF!)","v":{"$error":"#REF!"}},{"$f":"IF(+ASISTENCIA!#REF!=\"\",\"\",ASISTENCIA!#REF!)","v":{"$error":"#REF!"}},{"$f":"IF(+ASISTENCIA!#REF!=\"\",\"\",ASISTENCIA!#REF!)","v":{"$error":"#REF!"}},{"$f":"IF(+ASISTENCIA!#REF!=\"\",\"\",ASISTENCIA!#REF!)","v":{"$error":"#REF!"}},{"$f":"IF(+ASISTENCIA!#REF!=\"\",\"\",ASISTENCIA!#REF!)","v":{"$error":"#REF!"}},null,{"$f":"ASISTENCIA!#REF!","v":{"$error":"#REF!"}},null,{"$f":"ASISTENCIA!#REF!","v":{"$error":"#REF!"}},{"$f":"ASISTENCIA!#REF!","v":{"$error":"#REF!"}},{"$f":"ASISTENCIA!#REF!","v":{"$error":"#REF!"}},null,{"$f":"ASISTENCIA!#REF!","v":{"$error":"#REF!"}},null,{"$f":"ASISTENCIA!#REF!","v":{"$error":"#REF!"}},null,{"$f":"ASISTENCIA!#REF!","v":{"$error":"#REF!"}},null,null,null,null,null,null,null,null,null,null,null,null,null,null,null,null,""]
[{"$f":"IF(+ASISTENCIA!#REF!=\"\",\"\",ASISTENCIA!#REF!)","v":{"$error":"#REF!"}},null,null,{"$f":"IF(+ASISTENCIA!#REF!=\"\",\"\",ASISTENCIA!#REF!)","v":{"$error":"#REF!"}},{"$f":"IF(+ASISTENCIA!#REF!=\"\",\"\",ASISTENCIA!#REF!)","v":{"$error":"#REF!"}},{"$f":"IF(+ASISTENCIA!#REF!=\"\",\"\",ASISTENCIA!#REF!)","v":{"$error":"#REF!"}},{"$f":"IF(+ASISTENCIA!#REF!=\"\",\"\",ASISTENCIA!#REF!)","v":{"$error":"#REF!"}},{"$f":"IF(+ASISTENCIA!#REF!=\"\",\"\",ASISTENCIA!#REF!)","v":{"$error":"#REF!"}},null,{"$f":"ASISTENCIA!#REF!","v":{"$error":"#REF!"}},null,{"$f":"ASISTENCIA!#REF!","v":{"$error":"#REF!"}},{"$f":"ASISTENCIA!#REF!","v":{"$error":"#REF!"}},{"$f":"ASISTENCIA!#REF!","v":{"$error":"#REF!"}},null,{"$f":"ASISTENCIA!#REF!","v":{"$error":"#REF!"}},null,{"$f":"ASISTENCIA!#REF!","v":{"$error":"#REF!"}},null,{"$f":"ASISTENCIA!#REF!","v":{"$error":"#REF!"}},null,null,null,null,null,null,null,null,null,null,null,null,null,null,null,null,""]
[{"$f":"IF(+ASISTENCIA!#REF!=\"\",\"\",ASISTENCIA!#REF!)","v":{"$error":"#REF!"}},null,null,{"$f":"IF(+ASISTENCIA!#REF!=\"\",\"\",ASISTENCIA!#REF!)","v":{"$error":"#REF!"}},{"$f":"IF(+ASISTENCIA!#REF!=\"\",\"\",ASISTENCIA!#REF!)","v":{"$error":"#REF!"}},{"$f":"IF(+ASISTENCIA!#REF!=\"\",\"\",ASISTENCIA!#REF!)","v":{"$error":"#REF!"}},{"$f":"IF(+ASISTENCIA!#REF!=\"\",\"\",ASISTENCIA!#REF!)","v":{"$error":"#REF!"}},{"$f":"IF(+ASISTENCIA!#REF!=\"\",\"\",ASISTENCIA!#REF!)","v":{"$error":"#REF!"}},null,{"$f":"ASISTENCIA!#REF!","v":{"$error":"#REF!"}},null,{"$f":"ASISTENCIA!#REF!","v":{"$error":"#REF!"}},{"$f":"ASISTENCIA!#REF!","v":{"$error":"#REF!"}},{"$f":"ASISTENCIA!#REF!","v":{"$error":"#REF!"}},null,{"$f":"ASISTENCIA!#REF!","v":{"$error":"#REF!"}},null,{"$f":"ASISTENCIA!#REF!","v":{"$error":"#REF!"}},null,{"$f":"ASISTENCIA!#REF!","v":{"$error":"#REF!"}},null,null,null,null,null,null,null,null,null,null,null,null,null,null,null,null,""]
[{"$f":"IF(+ASISTENCIA!#REF!=\"\",\"\",ASISTENCIA!#REF!)","v":{"$error":"#REF!"}},null,null,{"$f":"IF(+ASISTENCIA!#REF!=\"\",\"\",ASISTENCIA!#REF!)","v":{"$error":"#REF!"}},{"$f":"IF(+ASISTENCIA!#REF!=\"\",\"\",ASISTENCIA!#REF!)","v":{"$error":"#REF!"}},{"$f":"IF(+ASISTENCIA!#REF!=\"\",\"\",ASISTENCIA!#REF!)","v":{"$error":"#REF!"}},{"$f":"IF(+ASISTENCIA!#REF!=\"\",\"\",ASISTENCIA!#REF!)","v":{"$error":"#REF!"}},{"$f":"IF(+ASISTENCIA!#REF!=\"\",\"\",ASISTENCIA!#REF!)","v":{"$error":"#REF!"}},null,{"$f":"ASISTENCIA!#REF!","v":{"$error":"#REF!"}},null,{"$f":"ASISTENCIA!#REF!","v":{"$error":"#REF!"}},{"$f":"ASISTENCIA!#REF!","v":{"$error":"#REF!"}},{"$f":"ASISTENCIA!#REF!","v":{"$error":"#REF!"}},null,{"$f":"ASISTENCIA!#REF!","v":{"$error":"#REF!"}},null,{"$f":"ASISTENCIA!#REF!","v":{"$error":"#REF!"}},null,{"$f":"ASISTENCIA!#REF!","v":{"$error":"#REF!"}},null,null,null,null,null,null,null,null,null,null,null,null,null,null,null,null,""]
[{"$f":"IF(+ASISTENCIA!#REF!=\"\",\"\",ASISTENCIA!#REF!)","v":{"$error":"#REF!"}},null,null,{"$f":"IF(+ASISTENCIA!#REF!=\"\",\"\",ASISTENCIA!#REF!)","v":{"$error":"#REF!"}},{"$f":"IF(+ASISTENCIA!#REF!=\"\",\"\",ASISTENCIA!#REF!)","v":{"$error":"#REF!"}},{"$f":"IF(+ASISTENCIA!#REF!=\"\",\"\",ASISTENCIA!#REF!)","v":{"$error":"#REF!"}},{"$f":"IF(+ASISTENCIA!#REF!=\"\",\"\",ASISTENCIA!#REF!)","v":{"$error":"#REF!"}},{"$f":"IF(+ASISTENCIA!#REF!=\"\",\"\",ASISTENCIA!#REF!)","v":{"$error":"#REF!"}},null,{"$f":"ASISTENCIA!#REF!","v":{"$error":"#REF!"}},null,{"$f":"ASISTENCIA!#REF!","v":{"$error":"#REF!"}},{"$f":"ASISTENCIA!#REF!","v":{"$error":"#REF!"}},{"$f":"ASISTENCIA!#REF!","v":{"$error":"#REF!"}},null,{"$f":"ASISTENCIA!#REF!","v":{"$error":"#REF!"}},null,{"$f":"ASISTENCIA!#REF!","v":{"$error":"#REF!"}},null,{"$f":"ASISTENCIA!#REF!","v":{"$error":"#REF!"}},null,null,null,null,null,null,null,null,null,null,null,null,null,null,null,null,""]
[{"$f":"IF(+ASISTENCIA!#REF!=\"\",\"\",ASISTENCIA!#REF!)","v":{"$error":"#REF!"}},null,null,{"$f":"IF(+ASISTENCIA!#REF!=\"\",\"\",ASISTENCIA!#REF!)","v":{"$error":"#REF!"}},{"$f":"IF(+ASISTENCIA!#REF!=\"\",\"\",ASISTENCIA!#REF!)","v":{"$error":"#REF!"}},{"$f":"IF(+ASISTENCIA!#REF!=\"\",\"\",ASISTENCIA!#REF!)","v":{"$error":"#REF!"}},{"$f":"IF(+ASISTENCIA!#REF!=\"\",\"\",ASISTENCIA!#REF!)","v":{"$error":"#REF!"}},{"$f":"IF(+ASISTENCIA!#REF!=\"\",\"\",ASISTENCIA!#REF!)","v":{"$error":"#REF!"}},null,{"$f":"ASISTENCIA!#REF!","v":{"$error":"#REF!"}},null,{"$f":"ASISTENCIA!#REF!","v":{"$error":"#REF!"}},{"$f":"ASISTENCIA!#REF!","v":{"$error":"#REF!"}},{"$f":"ASISTENCIA!#REF!","v":{"$error":"#REF!"}},null,{"$f":"ASISTENCIA!#REF!","v":{"$error":"#REF!"}},null,{"$f":"ASISTENCIA!#REF!","v":{"$error":"#REF!"}},null,{"$f":"ASISTENCIA!#REF!","v":{"$error":"#REF!"}},null,null,null,null,null,null,null,null,null,null,null,null,null,null,null,null,""]
[{"$f":"IF(+ASISTENCIA!#REF!=\"\",\"\",ASISTENCIA!#REF!)","v":{"$error":"#REF!"}},null,null,{"$f":"IF(+ASISTENCIA!#REF!=\"\",\"\",ASISTENCIA!#REF!)","v":{"$error":"#REF!"}},{"$f":"IF(+ASISTENCIA!#REF!=\"\",\"\",ASISTENCIA!#REF!)","v":{"$error":"#REF!"}},{"$f":"IF(+ASISTENCIA!#REF!=\"\",\"\",ASISTENCIA!#REF!)","v":{"$error":"#REF!"}},{"$f":"IF(+ASISTENCIA!#REF!=\"\",\"\",ASISTENCIA!#REF!)","v":{"$error":"#REF!"}},{"$f":"IF(+ASISTENCIA!#REF!=\"\",\"\",ASISTENCIA!#REF!)","v":{"$error":"#REF!"}},null,{"$f":"ASISTENCIA!#REF!","v":{"$error":"#REF!"}},null,{"$f":"ASISTENCIA!#REF!","v":{"$error":"#REF!"}},{"$f":"ASISTENCIA!#REF!","v":{"$error":"#REF!"}},{"$f":"ASISTENCIA!#REF!","v":{"$error":"#REF!"}},null,{"$f":"ASISTENCIA!#REF!","v":{"$error":"#REF!"}},null,{"$f":"ASISTENCIA!#REF!","v":{"$error":"#REF!"}},null,{"$f":"ASISTENCIA!#REF!","v":{"$error":"#REF!"}},null,null,null,null,null,null,null,null,null,null,null,null,null,null,null,null,""]
[{"$f":"IF(+ASISTENCIA!#REF!=\"\",\"\",ASISTENCIA!#REF!)","v":{"$error":"#REF!"}},null,null,{"$f":"IF(+ASISTENCIA!#REF!=\"\",\"\",ASISTENCIA!#REF!)","v":{"$error":"#REF!"}},{"$f":"IF(+ASISTENCIA!#REF!=\"\",\"\",ASISTENCIA!#REF!)","v":{"$error":"#REF!"}},{"$f":"IF(+ASISTENCIA!#REF!=\"\",\"\",ASISTENCIA!#REF!)","v":{"$error":"#REF!"}},{"$f":"IF(+ASISTENCIA!#REF!=\"\",\"\",ASISTENCIA!#REF!)","v":{"$error":"#REF!"}},{"$f":"IF(+ASISTENCIA!#REF!=\"\",\"\",ASISTENCIA!#REF!)","v":{"$error":"#REF!"}},null,{"$f":"ASISTENCIA!#REF!","v":{"$error":"#REF!"}},null,{"$f":"ASISTENCIA!#REF!","v":{"$error":"#REF!"}},{"$f":"ASISTENCIA!#REF!","v":{"$error":"#REF!"}},{"$f":"ASISTENCIA!#REF!","v":{"$error":"#REF!"}},null,{"$f":"ASISTENCIA!#REF!","v":{"$error":"#REF!"}},null,{"$f":"ASISTENCIA!#REF!","v":{"$error":"#REF!"}},null,{"$f":"ASISTENCIA!#REF!","v":{"$error":"#REF!"}},null,null,null,null,null,null,null,null,null,null,null,null,null,null,null,null,""]
[{"$f":"IF(+ASISTENCIA!#REF!=\"\",\"\",ASISTENCIA!#REF!)","v":{"$error":"#REF!"}},null,null,{"$f":"IF(+ASISTENCIA!#REF!=\"\",\"\",ASISTENCIA!#REF!)","v":{"$error":"#REF!"}},{"$f":"IF(+ASISTENCIA!#REF!=\"\",\"\",ASISTENCIA!#REF!)","v":{"$error":"#REF!"}},{"$f":"IF(+ASISTENCIA!#REF!=\"\",\"\",ASISTENCIA!#REF!)","v":{"$error":"#REF!"}},{"$f":"IF(+ASISTENCIA!#REF!=\"\",\"\",ASISTENCIA!#REF!)","v":{"$error":"#REF!"}},{"$f":"IF(+ASISTENCIA!#REF!=\"\",\"\",ASISTENCIA!#REF!)","v":{"$error":"#REF!"}},null,{"$f":"ASISTENCIA!#REF!","v":{"$error":"#REF!"}},null,{"$f":"ASISTENCIA!#REF!","v":{"$error":"#REF!"}},{"$f":"ASISTENCIA!#REF!","v":{"$error":"#REF!"}},{"$f":"ASISTENCIA!#REF!","v":{"$error":"#REF!"}},null,{"$f":"ASISTENCIA!#REF!","v":{"$error":"#REF!"}},null,{"$f":"ASISTENCIA!#REF!","v":{"$error":"#REF!"}},null,{"$f":"ASISTENCIA!#REF!","v":{"$error":"#REF!"}},null,null,null,null,null,null,null,null,null,null,null,null,null,null,null,null,""]
[{"$f":"IF(+ASISTENCIA!#REF!=\"\",\"\",ASISTENCIA!#REF!)","v":{"$error":"#REF!"}},null,null,{"$f":"IF(+ASISTENCIA!#REF!=\"\",\"\",ASISTENCIA!#REF!)","v":{"$error":"#REF!"}},{"$f":"IF(+ASISTENCIA!#REF!=\"\",\"\",ASISTENCIA!#REF!)","v":{"$error":"#REF!"}},{"$f":"IF(+ASISTENCIA!#REF!=\"\",\"\",ASISTENCIA!#REF!)","v":{"$error":"#REF!"}},{"$f":"IF(+ASISTENCIA!#REF!=\"\",\"\",ASISTENCIA!#REF!)","v":{"$error":"#REF!"}},{"$f":"IF(+ASISTENCIA!#REF!=\"\",\"\",ASISTENCIA!#REF!)","v":{"$error":"#REF!"}},null,{"$f":"ASISTENCIA!#REF!","v":{"$error":"#REF!"}},null,{"$f":"ASISTENCIA!#REF!","v":{"$error":"#REF!"}},{"$f":"ASISTENCIA!#REF!","v":{"$error":"#REF!"}},{"$f":"ASISTENCIA!#REF!","v":{"$error":"#REF!"}},null,{"$f":"ASISTENCIA!#REF!","v":{"$error":"#REF!"}},null,{"$f":"ASISTENCIA!#REF!","v":{"$error":"#REF!"}},null,{"$f":"ASISTENCIA!#REF!","v":{"$error":"#REF!"}},null,null,null,null,null,null,null,null,null,null,null,null,null,null,null,null,""]
[{"$f":"IF(+ASISTENCIA!#REF!=\"\",\"\",ASISTENCIA!#REF!)","v":{"$error":"#REF!"}},null,null,{"$f":"IF(+ASISTENCIA!#REF!=\"\",\"\",ASISTENCIA!#REF!)","v":{"$error":"#REF!"}},{"$f":"IF(+ASISTENCIA!#REF!=\"\",\"\",ASISTENCIA!#REF!)","v":{"$error":"#REF!"}},{"$f":"IF(+ASISTENCIA!#REF!=\"\",\"\",ASISTENCIA!#REF!)","v":{"$error":"#REF!"}},{"$f":"IF(+ASISTENCIA!#REF!=\"\",\"\",ASISTENCIA!#REF!)","v":{"$error":"#REF!"}},{"$f":"IF(+ASISTENCIA!#REF!=\"\",\"\",ASISTENCIA!#REF!)","v":{"$error":"#REF!"}},null,{"$f":"ASISTENCIA!#REF!","v":{"$error":"#REF!"}},null,{"$f":"ASISTENCIA!#REF!","v":{"$error":"#REF!"}},{"$f":"ASISTENCIA!#REF!","v":{"$error":"#REF!"}},{"$f":"ASISTENCIA!#REF!","v":{"$error":"#REF!"}},null,{"$f":"ASISTENCIA!#REF!","v":{"$error":"#REF!"}},null,{"$f":"ASISTENCIA!#REF!","v":{"$error":"#REF!"}},null,{"$f":"ASISTENCIA!#REF!","v":{"$error":"#REF!"}},null,null,null,null,null,null,null,null,null,null,null,null,null,null,null,null,""]
[{"$f":"IF(+ASISTENCIA!#REF!=\"\",\"\",ASISTENCIA!#REF!)","v":{"$error":"#REF!"}},null,null,{"$f":"IF(+ASISTENCIA!#REF!=\"\",\"\",ASISTENCIA!#REF!)","v":{"$error":"#REF!"}},{"$f":"IF(+ASISTENCIA!#REF!=\"\",\"\",ASISTENCIA!#REF!)","v":{"$error":"#REF!"}},{"$f":"IF(+ASISTENCIA!#REF!=\"\",\"\",ASISTENCIA!#REF!)","v":{"$error":"#REF!"}},{"$f":"IF(+ASISTENCIA!#REF!=\"\",\"\",ASISTENCIA!#REF!)","v":{"$error":"#REF!"}},{"$f":"IF(+ASISTENCIA!#REF!=\"\",\"\",ASISTENCIA!#REF!)","v":{"$error":"#REF!"}},null,{"$f":"ASISTENCIA!#REF!","v":{"$error":"#REF!"}},null,{"$f":"ASISTENCIA!#REF!","v":{"$error":"#REF!"}},{"$f":"ASISTENCIA!#REF!","v":{"$error":"#REF!"}},{"$f":"ASISTENCIA!#REF!","v":{"$error":"#REF!"}},null,{"$f":"ASISTENCIA!#REF!","v":{"$error":"#REF!"}},null,{"$f":"ASISTENCIA!#REF!","v":{"$error":"#REF!"}},null,{"$f":"ASISTENCIA!#REF!","v":{"$error":"#REF!"}},null,null,null,null,null,null,null,null,null,null,null,null,null,null,null,null,""]
[{"$f":"IF(+ASISTENCIA!#REF!=\"\",\"\",ASISTENCIA!#REF!)","v":{"$error":"#REF!"}},null,null,{"$f":"IF(+ASISTENCIA!#REF!=\"\",\"\",ASISTENCIA!#REF!)","v":{"$error":"#REF!"}},{"$f":"IF(+ASISTENCIA!#REF!=\"\",\"\",ASISTENCIA!#REF!)","v":{"$error":"#REF!"}},{"$f":"IF(+ASISTENCIA!#REF!=\"\",\"\",ASISTENCIA!#REF!)","v":{"$error":"#REF!"}},{"$f":"IF(+ASISTENCIA!#REF!=\"\",\"\",ASISTENCIA!#REF!)","v":{"$error":"#REF!"}},{"$f":"IF(+ASISTENCIA!#REF!=\"\",\"\",ASISTENCIA!#REF!)","v":{"$error":"#REF!"}},null,{"$f":"ASISTENCIA!#REF!","v":{"$error":"#REF!"}},null,{"$f":"ASISTENCIA!#REF!","v":{"$error":"#REF!"}},{"$f":"ASISTENCIA!#REF!","v":{"$error":"#REF!"}},{"$f":"ASISTENCIA!#REF!","v":{"$error":"#REF!"}},null,{"$f":"ASISTENCIA!#REF!","v":{"$error":"#REF!"}},null,{"$f":"ASISTENCIA!#REF!","v":{"$error":"#REF!"}},null,{"$f":"ASISTENCIA!#REF!","v":{"$error":"#REF!"}},null,null,null,null,null,null,null,null,null,null,null,null,null,null,null,null,""]
[{"$f":"IF(+ASISTENCIA!#REF!=\"\",\"\",ASISTENCIA!#REF!)","v":{"$error":"#REF!"}},null,null,{"$f":"IF(+ASISTENCIA!#REF!=\"\",\"\",ASISTENCIA!#REF!)","v":{"$error":"#REF!"}},{"$f":"IF(+ASISTENCIA!#REF!=\"\",\"\",ASISTENCIA!#REF!)","v":{"$error":"#REF!"}},{"$f":"IF(+ASISTENCIA!#REF!=\"\",\"\",ASISTENCIA!#REF!)","v":{"$error":"#REF!"}},{"$f":"IF(+ASISTENCIA!#REF!=\"\",\"\",ASISTENCIA!#REF!)","v":{"$error":"#REF!"}},{"$f":"IF(+ASISTENCIA!#REF!=\"\",\"\",ASISTENCIA!#REF!)","v":{"$error":"#REF!"}},null,{"$f":"ASISTENCIA!#REF!","v":{"$error":"#REF!"}},null,{"$f":"ASISTENCIA!#REF!","v":{"$error":"#REF!"}},{"$f":"ASISTENCIA!#REF!","v":{"$error":"#REF!"}},{"$f":"ASISTENCIA!#REF!","v":{"$error":"#REF!"}},null,{"$f":"ASISTENCIA!#REF!","v":{"$error":"#REF!"}},null,{"$f":"ASISTENCIA!#REF!","v":{"$error":"#REF!"}},null,{"$f":"ASISTENCIA!#REF!","v":{"$error":"#REF!"}},null,null,null,null,null,null,null,null,null,null,null,null,null,null,null,null,""]
[{"$f":"IF(+ASISTENCIA!#REF!=\"\",\"\",ASISTENCIA!#REF!)","v":{"$error":"#REF!"}},null,null,{"$f":"IF(+ASISTENCIA!#REF!=\"\",\"\",ASISTENCIA!#REF!)","v":{"$error":"#REF!"}},{"$f":"IF(+ASISTENCIA!#REF!=\"\",\"\",ASISTENCIA!#REF!)","v":{"$error":"#REF!"}},{"$f":"IF(+ASISTENCIA!#REF!=\"\",\"\",ASISTENCIA!#REF!)","v":{"$error":"#REF!"}},{"$f":"IF(+ASISTENCIA!#REF!=\"\",\"\",ASISTENCIA!#REF!)","v":{"$error":"#REF!"}},{"$f":"IF(+ASISTENCIA!#REF!=\"\",\"\",ASISTENCIA!#REF!)","v":{"$error":"#REF!"}},null,{"$f":"ASISTENCIA!#REF!","v":{"$error":"#REF!"}},null,{"$f":"ASISTENCIA!#REF!","v":{"$error":"#REF!"}},{"$f":"ASISTENCIA!#REF!","v":{"$error":"#REF!"}},{"$f":"ASISTENCIA!#REF!","v":{"$error":"#REF!"}},null,{"$f":"ASISTENCIA!#REF!","v":{"$error":"#REF!"}},null,{"$f":"ASISTENCIA!#REF!","v":{"$error":"#REF!"}},null,{"$f":"ASISTENCIA!#REF!","v":{"$error":"#REF!"}},null,null,null,null,null,null,null,null,null,null,null,null,null,null,null,null,""]
[{"$f":"IF(+ASISTENCIA!#REF!=\"\",\"\",ASISTENCIA!#REF!)","v":{"$error":"#REF!"}},null,null,{"$f":"IF(+ASISTENCIA!#REF!=\"\",\"\",ASISTENCIA!#REF!)","v":{"$error":"#REF!"}},{"$f":"IF(+ASISTENCIA!#REF!=\"\",\"\",ASISTENCIA!#REF!)","v":{"$error":"#REF!"}},{"$f":"IF(+ASISTENCIA!#REF!=\"\",\"\",ASISTENCIA!#REF!)","v":{"$error":"#REF!"}},{"$f":"IF(+ASISTENCIA!#REF!=\"\",\"\",ASISTENCIA!#REF!)","v":{"$error":"#REF!"}},{"$f":"IF(+ASISTENCIA!#REF!=\"\",\"\",ASISTENCIA!#REF!)","v":{"$error":"#REF!"}},null,{"$f":"ASISTENCIA!#REF!","v":{"$error":"#REF!"}},null,{"$f":"ASISTENCIA!#REF!","v":{"$error":"#REF!"}},{"$f":"ASISTENCIA!#REF!","v":{"$error":"#REF!"}},{"$f":"ASISTENCIA!#REF!","v":{"$error":"#REF!"}},null,{"$f":"ASISTENCIA!#REF!","v":{"$error":"#REF!"}},null,{"$f":"ASISTENCIA!#REF!","v":{"$error":"#REF!"}},null,{"$f":"ASISTENCIA!#REF!","v":{"$error":"#REF!"}},null,null,null,null,null,null,null,null,null,null,null,null,null,null,null,null,""]
[{"$f":"IF(+ASISTENCIA!#REF!=\"\",\"\",ASISTENCIA!#REF!)","v":{"$error":"#REF!"}},null,null,{"$f":"IF(+ASISTENCIA!#REF!=\"\",\"\",ASISTENCIA!#REF!)","v":{"$error":"#REF!"}},{"$f":"IF(+ASISTENCIA!#REF!=\"\",\"\",ASISTENCIA!#REF!)","v":{"$error":"#REF!"}},{"$f":"IF(+ASISTENCIA!#REF!=\"\",\"\",ASISTENCIA!#REF!)","v":{"$error":"#REF!"}},{"$f":"IF(+ASISTENCIA!#REF!=\"\",\"\",ASISTENCIA!#REF!)","v":{"$error":"#REF!"}},{"$f":"IF(+ASISTENCIA!#REF!=\"\",\"\",ASISTENCIA!#REF!)","v":{"$error":"#REF!"}},null,{"$f":"ASISTENCIA!#REF!","v":{"$error":"#REF!"}},null,{"$f":"ASISTENCIA!#REF!","v":{"$error":"#REF!"}},{"$f":"ASISTENCIA!#REF!","v":{"$error":"#REF!"}},{"$f":"ASISTENCIA!#REF!","v":{"$error":"#REF!"}},null,{"$f":"ASISTENCIA!#REF!","v":{"$error":"#REF!"}},null,{"$f":"ASISTENCIA!#REF!","v":{"$error":"#REF!"}},null,{"$f":"ASISTENCIA!#REF!","v":{"$error":"#REF!"}},null,null,null,null,null,null,null,null,null,null,null,null,null,null,null,null,""]
[{"$f":"IF(+ASISTENCIA!#REF!=\"\",\"\",ASISTENCIA!#REF!)","v":{"$error":"#REF!"}},null,null,{"$f":"IF(+ASISTENCIA!#REF!=\"\",\"\",ASISTENCIA!#REF!)","v":{"$error":"#REF!"}},{"$f":"IF(+ASISTENCIA!#REF!=\"\",\"\",ASISTENCIA!#REF!)","v":{"$error":"#REF!"}},{"$f":"IF(+ASISTENCIA!#REF!=\"\",\"\",ASISTENCIA!#REF!)","v":{"$error":"#REF!"}},{"$f":"IF(+ASISTENCIA!#REF!=\"\",\"\",ASISTENCIA!#REF!)","v":{"$error":"#REF!"}},{"$f":"IF(+ASISTENCIA!#REF!=\"\",\"\",ASISTENCIA!#REF!)","v":{"$error":"#REF!"}},null,{"$f":"ASISTENCIA!#REF!","v":{"$error":"#REF!"}},null,{"$f":"ASISTENCIA!#REF!","v":{"$error":"#REF!"}},{"$f":"ASISTENCIA!#REF!","v":{"$error":"#REF!"}},{"$f":"ASISTENCIA!#REF!","v":{"$error":"#REF!"}},null,{"$f":"ASISTENCIA!#REF!","v":{"$error":"#REF!"}},null,{"$f":"ASISTENCIA!#REF!","v":{"$error":"#REF!"}},null,{"$f":"ASISTENCIA!#REF!","v":{"$error":"#REF!"}},null,null,null,null,null,null,null,null,null,null,null,null,null,null,null,null,""]
[{"$f":"IF(+ASISTENCIA!#REF!=\"\",\"\",ASISTENCIA!#REF!)","v":{"$error":"#REF!"}},null,null,{"$f":"IF(+ASISTENCIA!#REF!=\"\",\"\",ASISTENCIA!#REF!)","v":{"$error":"#REF!"}},{"$f":"IF(+ASISTENCIA!#REF!=\"\",\"\",ASISTENCIA!#REF!)","v":{"$error":"#REF!"}},{"$f":"IF(+ASISTENCIA!#REF!=\"\",\"\",ASISTENCIA!#REF!)","v":{"$error":"#REF!"}},{"$f":"IF(+ASISTENCIA!#REF!=\"\",\"\",ASISTENCIA!#REF!)","v":{"$error":"#REF!"}},{"$f":"IF(+ASISTENCIA!#REF!=\"\",\"\",ASISTENCIA!#REF!)","v":{"$error":"#REF!"}},null,{"$f":"ASISTENCIA!#REF!","v":{"$error":"#REF!"}},null,{"$f":"ASISTENCIA!#REF!","v":{"$error":"#REF!"}},{"$f":"ASISTENCIA!#REF!","v":{"$error":"#REF!"}},{"$f":"ASISTENCIA!#REF!","v":{"$error":"#REF!"}},null,{"$f":"ASISTENCIA!#REF!","v":{"$error":"#REF!"}},null,{"$f":"ASISTENCIA!#REF!","v":{"$error":"#REF!"}},null,{"$f":"ASISTENCIA!#REF!","v":{"$error":"#REF!"}},null,null,null,null,null,null,null,null,null,null,null,null,null,null,null,null,""]
[{"$f":"IF(+ASISTENCIA!#REF!=\"\",\"\",ASISTENCIA!#REF!)","v":{"$error":"#REF!"}},null,null,{"$f":"IF(+ASISTENCIA!#REF!=\"\",\"\",ASISTENCIA!#REF!)","v":{"$error":"#REF!"}},{"$f":"IF(+ASISTENCIA!#REF!=\"\",\"\",ASISTENCIA!#REF!)","v":{"$error":"#REF!"}},{"$f":"IF(+ASISTENCIA!#REF!=\"\",\"\",ASISTENCIA!#REF!)","v":{"$error":"#REF!"}},{"$f":"IF(+ASISTENCIA!#REF!=\"\",\"\",ASISTENCIA!#REF!)","v":{"$error":"#REF!"}},{"$f":"IF(+ASISTENCIA!#REF!=\"\",\"\",ASISTENCIA!#REF!)","v":{"$error":"#REF!"}},null,{"$f":"ASISTENCIA!#REF!","v":{"$error":"#REF!"}},null,{"$f":"ASISTENCIA!#REF!","v":{"$error":"#REF!"}},{"$f":"ASISTENCIA!#REF!","v":{"$error":"#REF!"}},{"$f":"ASISTENCIA!#REF!","v":{"$error":"#REF!"}},null,{"$f":"ASISTENCIA!#REF!","v":{"$error":"#REF!"}},null,{"$f":"ASISTENCIA!#REF!","v":{"$error":"#REF!"}},null,{"$f":"ASISTENCIA!#REF!","v":{"$error":"#REF!"}},null,null,null,null,null,null,null,null,null,null,null,null,null,null,null,null,""]
[{"$f":"IF(+ASISTENCIA!#REF!=\"\",\"\",ASISTENCIA!#REF!)","v":{"$error":"#REF!"}},null,null,{"$f":"IF(+ASISTENCIA!#REF!=\"\",\"\",ASISTENCIA!#REF!)","v":{"$error":"#REF!"}},{"$f":"IF(+ASISTENCIA!#REF!=\"\",\"\",ASISTENCIA!#REF!)","v":{"$error":"#REF!"}},{"$f":"IF(+ASISTENCIA!#REF!=\"\",\"\",ASISTENCIA!#REF!)","v":{"$error":"#REF!"}},{"$f":"IF(+ASISTENCIA!#REF!=\"\",\"\",ASISTENCIA!#REF!)","v":{"$error":"#REF!"}},{"$f":"IF(+ASISTENCIA!#REF!=\"\",\"\",ASISTENCIA!#REF!)","v":{"$error":"#REF!"}},null,{"$f":"ASISTENCIA!#REF!","v":{"$error":"#REF!"}},null,{"$f":"ASISTENCIA!#REF!","v":{"$error":"#REF!"}},{"$f":"ASISTENCIA!#REF!","v":{"$error":"#REF!"}},{"$f":"ASISTENCIA!#REF!","v":{"$error":"#REF!"}},null,{"$f":"ASISTENCIA!#REF!","v":{"$error":"#REF!"}},null,{"$f":"ASISTENCIA!#REF!","v":{"$error":"#REF!"}},null,{"$f":"ASISTENCIA!#REF!","v":{"$error":"#REF!"}},null,null,null,null,null,null,null,null,null,null,null,null,null,null,null,null,""]
[{"$f":"IF(+ASISTENCIA!#REF!=\"\",\"\",ASISTENCIA!#REF!)","v":{"$error":"#REF!"}},null,null,{"$f":"IF(+ASISTENCIA!#REF!=\"\",\"\",ASISTENCIA!#REF!)","v":{"$error":"#REF!"}},{"$f":"IF(+ASISTENCIA!#REF!=\"\",\"\",ASISTENCIA!#REF!)","v":{"$error":"#REF!"}},{"$f":"IF(+ASISTENCIA!#REF!=\"\",\"\",ASISTENCIA!#REF!)","v":{"$error":"#REF!"}},{"$f":"IF(+ASISTENCIA!#REF!=\"\",\"\",ASISTENCIA!#REF!)","v":{"$error":"#REF!"}},{"$f":"IF(+ASISTENCIA!#REF!=\"\",\"\",ASISTENCIA!#REF!)","v":{"$error":"#REF!"}},null,{"$f":"ASISTENCIA!#REF!","v":{"$error":"#REF!"}},null,{"$f":"ASISTENCIA!#REF!","v":{"$error":"#REF!"}},{"$f":"ASISTENCIA!#REF!","v":{"$error":"#REF!"}},{"$f":"ASISTENCIA!#REF!","v":{"$error":"#REF!"}},null,{"$f":"ASISTENCIA!#REF!","v":{"$error":"#REF!"}},null,{"$f":"ASISTENCIA!#REF!","v":{"$error":"#REF!"}},null,{"$f":"ASISTENCIA!#REF!","v":{"$error":"#REF!"}},null,null,null,null,null,null,null,null,null,null,null,null,null,null,null,null,""]
[{"$f":"IF(+ASISTENCIA!#REF!=\"\",\"\",ASISTENCIA!#REF!)","v":{"$error":"#REF!"}},null,null,{"$f":"IF(+ASISTENCIA!#REF!=\"\",\"\",ASISTENCIA!#REF!)","v":{"$error":"#REF!"}},{"$f":"IF(+ASISTENCIA!#REF!=\"\",\"\",ASISTENCIA!#REF!)","v":{"$error":"#REF!"}},{"$f":"IF(+ASISTENCIA!#REF!=\"\",\"\",ASISTENCIA!#REF!)","v":{"$error":"#REF!"}},{"$f":"IF(+ASISTENCIA!#REF!=\"\",\"\",ASISTENCIA!#REF!)","v":{"$error":"#REF!"}},{"$f":"IF(+ASISTENCIA!#REF!=\"\",\"\",ASISTENCIA!#REF!)","v":{"$error":"#REF!"}},null,{"$f":"ASISTENCIA!#REF!","v":{"$error":"#REF!"}},null,{"$f":"ASISTENCIA!#REF!","v":{"$error":"#REF!"}},{"$f":"ASISTENCIA!#REF!","v":{"$error":"#REF!"}},{"$f":"ASISTENCIA!#REF!","v":{"$error":"#REF!"}},null,{"$f":"ASISTENCIA!#REF!","v":{"$error":"#REF!"}},null,{"$f":"ASISTENCIA!#REF!","v":{"$error":"#REF!"}},null,{"$f":"ASISTENCIA!#REF!","v":{"$error":"#REF!"}},null,null,null,null,null,null,null,null,null,null,null,null,null,null,null,null,""]
[{"$f":"IF(+ASISTENCIA!#REF!=\"\",\"\",ASISTENCIA!#REF!)","v":{"$error":"#REF!"}},null,null,{"$f":"IF(+ASISTENCIA!#REF!=\"\",\"\",ASISTENCIA!#REF!)","v":{"$error":"#REF!"}},{"$f":"IF(+ASISTENCIA!#REF!=\"\",\"\",ASISTENCIA!#REF!)","v":{"$error":"#REF!"}},{"$f":"IF(+ASISTENCIA!#REF!=\"\",\"\",ASISTENCIA!#REF!)","v":{"$error":"#REF!"}},{"$f":"IF(+ASISTENCIA!#REF!=\"\",\"\",ASISTENCIA!#REF!)","v":{"$error":"#REF!"}},{"$f":"IF(+ASISTENCIA!#REF!=\"\",\"\",ASISTENCIA!#REF!)","v":{"$error":"#REF!"}},null,{"$f":"ASISTENCIA!#REF!","v":{"$error":"#REF!"}},null,{"$f":"ASISTENCIA!#REF!","v":{"$error":"#REF!"}},{"$f":"ASISTENCIA!#REF!","v":{"$error":"#REF!"}},{"$f":"ASISTENCIA!#REF!","v":{"$error":"#REF!"}},null,{"$f":"ASISTENCIA!#REF!","v":{"$error":"#REF!"}},null,{"$f":"ASISTENCIA!#REF!","v":{"$error":"#REF!"}},null,{"$f":"ASISTENCIA!#REF!","v":{"$error":"#REF!"}},null,null,null,null,null,null,null,null,null,null,null,null,null,null,null,null,""]
[{"$f":"IF(+ASISTENCIA!#REF!=\"\",\"\",ASISTENCIA!#REF!)","v":{"$error":"#REF!"}},null,null,{"$f":"IF(+ASISTENCIA!#REF!=\"\",\"\",ASISTENCIA!#REF!)","v":{"$error":"#REF!"}},{"$f":"IF(+ASISTENCIA!#REF!=\"\",\"\",ASISTENCIA!#REF!)","v":{"$error":"#REF!"}},{"$f":"IF(+ASISTENCIA!#REF!=\"\",\"\",ASISTENCIA!#REF!)","v":{"$error":"#REF!"}},{"$f":"IF(+ASISTENCIA!#REF!=\"\",\"\",ASISTENCIA!#REF!)","v":{"$error":"#REF!"}},{"$f":"IF(+ASISTENCIA!#REF!=\"\",\"\",ASISTENCIA!#REF!)","v":{"$error":"#REF!"}},null,{"$f":"ASISTENCIA!#REF!","v":{"$error":"#REF!"}},null,{"$f":"ASISTENCIA!#REF!","v":{"$error":"#REF!"}},{"$f":"ASISTENCIA!#REF!","v":{"$error":"#REF!"}},{"$f":"ASISTENCIA!#REF!","v":{"$error":"#REF!"}},null,{"$f":"ASISTENCIA!#REF!","v":{"$error":"#REF!"}},null,{"$f":"ASISTENCIA!#REF!","v":{"$error":"#REF!"}},null,{"$f":"ASISTENCIA!#REF!","v":{"$error":"#REF!"}},null,null,null,null,null,null,null,null,null,null,null,null,null,null,null,null,""]
[{"$f":"IF(+ASISTENCIA!#REF!=\"\",\"\",ASISTENCIA!#REF!)","v":{"$error":"#REF!"}},null,null,{"$f":"IF(+ASISTENCIA!#REF!=\"\",\"\",ASISTENCIA!#REF!)","v":{"$error":"#REF!"}},{"$f":"IF(+ASISTENCIA!#REF!=\"\",\"\",ASISTENCIA!#REF!)","v":{"$error":"#REF!"}},{"$f":"IF(+ASISTENCIA!#REF!=\"\",\"\",ASISTENCIA!#REF!)","v":{"$error":"#REF!"}},{"$f":"IF(+ASISTENCIA!#REF!=\"\",\"\",ASISTENCIA!#REF!)","v":{"$error":"#REF!"}},{"$f":"IF(+ASISTENCIA!#REF!=\"\",\"\",ASISTENCIA!#REF!)","v":{"$error":"#REF!"}},null,{"$f":"ASISTENCIA!#REF!","v":{"$error":"#REF!"}},null,{"$f":"ASISTENCIA!#REF!","v":{"$error":"#REF!"}},{"$f":"ASISTENCIA!#REF!","v":{"$error":"#REF!"}},{"$f":"ASISTENCIA!#REF!","v":{"$error":"#REF!"}},null,{"$f":"ASISTENCIA!#REF!","v":{"$error":"#REF!"}},null,{"$f":"ASISTENCIA!#REF!","v":{"$error":"#REF!"}},null,{"$f":"ASISTENCIA!#REF!","v":{"$error":"#REF!"}},null,null,null,null,null,null,null,null,null,null,null,null,null,null,null,null,""]
[{"$f":"IF(+ASISTENCIA!#REF!=\"\",\"\",ASISTENCIA!#REF!)","v":{"$error":"#REF!"}},null,null,{"$f":"IF(+ASISTENCIA!#REF!=\"\",\"\",ASISTENCIA!#REF!)","v":{"$error":"#REF!"}},{"$f":"IF(+ASISTENCIA!#REF!=\"\",\"\",ASISTENCIA!#REF!)","v":{"$error":"#REF!"}},{"$f":"IF(+ASISTENCIA!#REF!=\"\",\"\",ASISTENCIA!#REF!)","v":{"$error":"#REF!"}},{"$f":"IF(+ASISTENCIA!#REF!=\"\",\"\",ASISTENCIA!#REF!)","v":{"$error":"#REF!"}},{"$f":"IF(+ASISTENCIA!#REF!=\"\",\"\",ASISTENCIA!#REF!)","v":{"$error":"#REF!"}},null,{"$f":"ASISTENCIA!#REF!","v":{"$error":"#REF!"}},null,{"$f":"ASISTENCIA!#REF!","v":{"$error":"#REF!"}},{"$f":"ASISTENCIA!#REF!","v":{"$error":"#REF!"}},{"$f":"ASISTENCIA!#REF!","v":{"$error":"#REF!"}},null,{"$f":"ASISTENCIA!#REF!","v":{"$error":"#REF!"}},null,{"$f":"ASISTENCIA!#REF!","v":{"$error":"#REF!"}},null,{"$f":"ASISTENCIA!#REF!","v":{"$error":"#REF!"}},null,null,null,null,null,null,null,null,null,null,null,null,null,null,null,null,""]
[{"$f":"IF(+ASISTENCIA!#REF!=\"\",\"\",ASISTENCIA!#REF!)","v":{"$error":"#REF!"}},null,null,{"$f":"IF(+ASISTENCIA!#REF!=\"\",\"\",ASISTENCIA!#REF!)","v":{"$error":"#REF!"}},{"$f":"IF(+ASISTENCIA!#REF!=\"\",\"\",ASISTENCIA!#REF!)","v":{"$error":"#REF!"}},{"$f":"IF(+ASISTENCIA!#REF!=\"\",\"\",ASISTENCIA!#REF!)","v":{"$error":"#REF!"}},{"$f":"IF(+ASISTENCIA!#REF!=\"\",\"\",ASISTENCIA!#REF!)","v":{"$error":"#REF!"}},{"$f":"IF(+ASISTENCIA!#REF!=\"\",\"\",ASISTENCIA!#REF!)","v":{"$error":"#REF!"}},null,{"$f":"ASISTENCIA!#REF!","v":{"$error":"#REF!"}},null,{"$f":"ASISTENCIA!#REF!","v":{"$error":"#REF!"}},{"$f":"ASISTENCIA!#REF!","v":{"$error":"#REF!"}},{"$f":"ASISTENCIA!#REF!","v":{"$error":"#REF!"}},null,{"$f":"ASISTENCIA!#REF!","v":{"$error":"#REF!"}},null,{"$f":"ASISTENCIA!#REF!","v":{"$error":"#REF!"}},null,{"$f":"ASISTENCIA!#REF!","v":{"$error":"#REF!"}},null,null,null,null,null,null,null,null,null,null,null,null,null,null,null,null,""]
[{"$f":"IF(+ASISTENCIA!#REF!=\"\",\"\",ASISTENCIA!#REF!)","v":{"$error":"#REF!"}},null,null,{"$f":"IF(+ASISTENCIA!#REF!=\"\",\"\",ASISTENCIA!#REF!)","v":{"$error":"#REF!"}},{"$f":"IF(+ASISTENCIA!#REF!=\"\",\"\",ASISTENCIA!#REF!)","v":{"$error":"#REF!"}},{"$f":"IF(+ASISTENCIA!#REF!=\"\",\"\",ASISTENCIA!#REF!)","v":{"$error":"#REF!"}},{"$f":"IF(+ASISTENCIA!#REF!=\"\",\"\",ASISTENCIA!#REF!)","v":{"$error":"#REF!"}},{"$f":"IF(+ASISTENCIA!#REF!=\"\",\"\",ASISTENCIA!#REF!)","v":{"$error":"#REF!"}},null,{"$f":"ASISTENCIA!#REF!","v":{"$error":"#REF!"}},null,{"$f":"ASISTENCIA!#REF!","v":{"$error":"#REF!"}},{"$f":"ASISTENCIA!#REF!","v":{"$error":"#REF!"}},{"$f":"ASISTENCIA!#REF!","v":{"$error":"#REF!"}},null,{"$f":"ASISTENCIA!#REF!","v":{"$error":"#REF!"}},null,{"$f":"ASISTENCIA!#REF!","v":{"$error":"#REF!"}},null,{"$f":"ASISTENCIA!#REF!","v":{"$error":"#REF!"}},null,null,null,null,null,null,null,null,null,null,null,null,null,null,null,null,""]
[{"$f":"IF(+ASISTENCIA!#REF!=\"\",\"\",ASISTENCIA!#REF!)","v":{"$error":"#REF!"}},null,null,{"$f":"IF(+ASISTENCIA!#REF!=\"\",\"\",ASISTENCIA!#REF!)","v":{"$error":"#REF!"}},{"$f":"IF(+ASISTENCIA!#REF!=\"\",\"\",ASISTENCIA!#REF!)","v":{"$error":"#REF!"}},{"$f":"IF(+ASISTENCIA!#REF!=\"\",\"\",ASISTENCIA!#REF!)","v":{"$error":"#REF!"}},{"$f":"IF(+ASISTENCIA!#REF!=\"\",\"\",ASISTENCIA!#REF!)","v":{"$error":"#REF!"}},{"$f":"IF(+ASISTENCIA!#REF!=\"\",\"\",ASISTENCIA!#REF!)","v":{"$error":"#REF!"}},null,{"$f":"ASISTENCIA!#REF!","v":{"$error":"#REF!"}},null,{"$f":"ASISTENCIA!#REF!","v":{"$error":"#REF!"}},{"$f":"ASISTENCIA!#REF!","v":{"$error":"#REF!"}},{"$f":"ASISTENCIA!#REF!","v":{"$error":"#REF!"}},null,{"$f":"ASISTENCIA!#REF!","v":{"$error":"#REF!"}},null,{"$f":"ASISTENCIA!#REF!","v":{"$error":"#REF!"}},null,{"$f":"ASISTENCIA!#REF!","v":{"$error":"#REF!"}},null,null,null,null,null,null,null,null,null,null,null,null,null,null,null,null,""]
[{"$f":"IF(+ASISTENCIA!#REF!=\"\",\"\",ASISTENCIA!#REF!)","v":{"$error":"#REF!"}},null,null,{"$f":"IF(+ASISTENCIA!#REF!=\"\",\"\",ASISTENCIA!#REF!)","v":{"$error":"#REF!"}},{"$f":"IF(+ASISTENCIA!#REF!=\"\",\"\",ASISTENCIA!#REF!)","v":{"$error":"#REF!"}},{"$f":"IF(+ASISTENCIA!#REF!=\"\",\"\",ASISTENCIA!#REF!)","v":{"$error":"#REF!"}},{"$f":"IF(+ASISTENCIA!#REF!=\"\",\"\",ASISTENCIA!#REF!)","v":{"$error":"#REF!"}},{"$f":"IF(+ASISTENCIA!#REF!=\"\",\"\",ASISTENCIA!#REF!)","v":{"$error":"#REF!"}},null,{"$f":"ASISTENCIA!#REF!","v":{"$error":"#REF!"}},null,{"$f":"ASISTENCIA!#REF!","v":{"$error":"#REF!"}},{"$f":"ASISTENCIA!#REF!","v":{"$error":"#REF!"}},{"$f":"ASISTENCIA!#REF!","v":{"$error":"#REF!"}},null,{"$f":"ASISTENCIA!#REF!","v":{"$error":"#REF!"}},null,{"$f":"ASISTENCIA!#REF!","v":{"$error":"#REF!"}},null,{"$f":"ASISTENCIA!#REF!","v":{"$error":"#REF!"}},null,null,null,null,null,null,null,null,null,null,null,null,null,null,null,null,""]
[{"$f":"IF(+ASISTENCIA!#REF!=\"\",\"\",ASISTENCIA!#REF!)","v":{"$error":"#REF!"}},null,null,{"$f":"IF(+ASISTENCIA!#REF!=\"\",\"\",ASISTENCIA!#REF!)","v":{"$error":"#REF!"}},{"$f":"IF(+ASISTENCIA!#REF!=\"\",\"\",ASISTENCIA!#REF!)","v":{"$error":"#REF!"}},{"$f":"IF(+ASISTENCIA!#REF!=\"\",\"\",ASISTENCIA!#REF!)","v":{"$error":"#REF!"}},{"$f":"IF(+ASISTENCIA!#REF!=\"\",\"\",ASISTENCIA!#REF!)","v":{"$error":"#REF!"}},{"$f":"IF(+ASISTENCIA!#REF!=\"\",\"\",ASISTENCIA!#REF!)","v":{"$error":"#REF!"}},null,{"$f":"ASISTENCIA!#REF!","v":{"$error":"#REF!"}},null,{"$f":"ASISTENCIA!#REF!","v":{"$error":"#REF!"}},{"$f":"ASISTENCIA!#REF!","v":{"$error":"#REF!"}},{"$f":"ASISTENCIA!#REF!","v":{"$error":"#REF!"}},null,{"$f":"ASISTENCIA!#REF!","v":{"$error":"#REF!"}},null,{"$f":"ASISTENCIA!#REF!","v":{"$error":"#REF!"}},null,{"$f":"ASISTENCIA!#REF!","v":{"$error":"#REF!"}},null,null,null,null,null,null,null,null,null,null,null,null,null,null,null,null,""]
[{"$f":"IF(+ASISTENCIA!#REF!=\"\",\"\",ASISTENCIA!#REF!)","v":{"$error":"#REF!"}},null,null,{"$f":"IF(+ASISTENCIA!#REF!=\"\",\"\",ASISTENCIA!#REF!)","v":{"$error":"#REF!"}},{"$f":"IF(+ASISTENCIA!#REF!=\"\",\"\",ASISTENCIA!#REF!)","v":{"$error":"#REF!"}},{"$f":"IF(+ASISTENCIA!#REF!=\"\",\"\",ASISTENCIA!#REF!)","v":{"$error":"#REF!"}},{"$f":"IF(+ASISTENCIA!#REF!=\"\",\"\",ASISTENCIA!#REF!)","v":{"$error":"#REF!"}},{"$f":"IF(+ASISTENCIA!#REF!=\"\",\"\",ASISTENCIA!#REF!)","v":{"$error":"#REF!"}},null,{"$f":"ASISTENCIA!#REF!","v":{"$error":"#REF!"}},null,{"$f":"ASISTENCIA!#REF!","v":{"$error":"#REF!"}},{"$f":"ASISTENCIA!#REF!","v":{"$error":"#REF!"}},{"$f":"ASISTENCIA!#REF!","v":{"$error":"#REF!"}},null,{"$f":"ASISTENCIA!#REF!","v":{"$error":"#REF!"}},null,{"$f":"ASISTENCIA!#REF!","v":{"$error":"#REF!"}},null,{"$f":"ASISTENCIA!#REF!","v":{"$error":"#REF!"}},null,null,null,null,null,null,null,null,null,null,null,null,null,null,null,null,""]
[{"$f":"IF(+ASISTENCIA!#REF!=\"\",\"\",ASISTENCIA!#REF!)","v":{"$error":"#REF!"}},null,null,{"$f":"IF(+ASISTENCIA!#REF!=\"\",\"\",ASISTENCIA!#REF!)","v":{"$error":"#REF!"}},{"$f":"IF(+ASISTENCIA!#REF!=\"\",\"\",ASISTENCIA!#REF!)","v":{"$error":"#REF!"}},{"$f":"IF(+ASISTENCIA!#REF!=\"\",\"\",ASISTENCIA!#REF!)","v":{"$error":"#REF!"}},{"$f":"IF(+ASISTENCIA!#REF!=\"\",\"\",ASISTENCIA!#REF!)","v":{"$error":"#REF!"}},{"$f":"IF(+ASISTENCIA!#REF!=\"\",\"\",ASISTENCIA!#REF!)","v":{"$error":"#REF!"}},null,{"$f":"ASISTENCIA!#REF!","v":{"$error":"#REF!"}},null,{"$f":"ASISTENCIA!#REF!","v":{"$error":"#REF!"}},{"$f":"ASISTENCIA!#REF!","v":{"$error":"#REF!"}},{"$f":"ASISTENCIA!#REF!","v":{"$error":"#REF!"}},null,{"$f":"ASISTENCIA!#REF!","v":{"$error":"#REF!"}},null,{"$f":"ASISTENCIA!#REF!","v":{"$error":"#REF!"}},null,{"$f":"ASISTENCIA!#REF!","v":{"$error":"#REF!"}},null,null,null,null,null,null,null,null,null,null,null,null,null,null,null,null,""]
[{"$f":"IF(+ASISTENCIA!#REF!=\"\",\"\",ASISTENCIA!#REF!)","v":{"$error":"#REF!"}},null,null,{"$f":"IF(+ASISTENCIA!#REF!=\"\",\"\",ASISTENCIA!#REF!)","v":{"$error":"#REF!"}},{"$f":"IF(+ASISTENCIA!#REF!=\"\",\"\",ASISTENCIA!#REF!)","v":{"$error":"#REF!"}},{"$f":"IF(+ASISTENCIA!#REF!=\"\",\"\",ASISTENCIA!#REF!)","v":{"$error":"#REF!"}},{"$f":"IF(+ASISTENCIA!#REF!=\"\",\"\",ASISTENCIA!#REF!)","v":{"$error":"#REF!"}},{"$f":"IF(+ASISTENCIA!#REF!=\"\",\"\",ASISTENCIA!#REF!)","v":{"$error":"#REF!"}},null,{"$f":"ASISTENCIA!#REF!","v":{"$error":"#REF!"}},null,{"$f":"ASISTENCIA!#REF!","v":{"$error":"#REF!"}},{"$f":"ASISTENCIA!#REF!","v":{"$error":"#REF!"}},{"$f":"ASISTENCIA!#REF!","v":{"$error":"#REF!"}},null,{"$f":"ASISTENCIA!#REF!","v":{"$error":"#REF!"}},null,{"$f":"ASISTENCIA!#REF!","v":{"$error":"#REF!"}},null,{"$f":"ASISTENCIA!#REF!","v":{"$error":"#REF!"}},null,null,null,null,null,null,null,null,null,null,null,null,null,null,null,null,""]
[{"$f":"IF(+ASISTENCIA!#REF!=\"\",\"\",ASISTENCIA!#REF!)","v":{"$error":"#REF!"}},null,null,{"$f":"IF(+ASISTENCIA!#REF!=\"\",\"\",ASISTENCIA!#REF!)","v":{"$error":"#REF!"}},{"$f":"IF(+ASISTENCIA!#REF!=\"\",\"\",ASISTENCIA!#REF!)","v":{"$error":"#REF!"}},{"$f":"IF(+ASISTENCIA!#REF!=\"\",\"\",ASISTENCIA!#REF!)","v":{"$error":"#REF!"}},{"$f":"IF(+ASISTENCIA!#REF!=\"\",\"\",ASISTENCIA!#REF!)","v":{"$error":"#REF!"}},{"$f":"IF(+ASISTENCIA!#REF!=\"\",\"\",ASISTENCIA!#REF!)","v":{"$error":"#REF!"}},null,{"$f":"ASISTENCIA!#REF!","v":{"$error":"#REF!"}},null,{"$f":"ASISTENCIA!#REF!","v":{"$error":"#REF!"}},{"$f":"ASISTENCIA!#REF!","v":{"$error":"#REF!"}},{"$f":"ASISTENCIA!#REF!","v":{"$error":"#REF!"}},null,{"$f":"ASISTENCIA!#REF!","v":{"$error":"#REF!"}},null,{"$f":"ASISTENCIA!#REF!","v":{"$error":"#REF!"}},null,{"$f":"ASISTENCIA!#REF!","v":{"$error":"#REF!"}},null,null,null,null,null,null,null,null,null,null,null,null,null,null,null,null,""]
[{"$f":"IF(+ASISTENCIA!#REF!=\"\",\"\",ASISTENCIA!#REF!)","v":{"$error":"#REF!"}},null,null,{"$f":"IF(+ASISTENCIA!#REF!=\"\",\"\",ASISTENCIA!#REF!)","v":{"$error":"#REF!"}},{"$f":"IF(+ASISTENCIA!#REF!=\"\",\"\",ASISTENCIA!#REF!)","v":{"$error":"#REF!"}},{"$f":"IF(+ASISTENCIA!#REF!=\"\",\"\",ASISTENCIA!#REF!)","v":{"$error":"#REF!"}},{"$f":"IF(+ASISTENCIA!#REF!=\"\",\"\",ASISTENCIA!#REF!)","v":{"$error":"#REF!"}},{"$f":"IF(+ASISTENCIA!#REF!=\"\",\"\",ASISTENCIA!#REF!)","v":{"$error":"#REF!"}},null,{"$f":"ASISTENCIA!#REF!","v":{"$error":"#REF!"}},null,{"$f":"ASISTENCIA!#REF!","v":{"$error":"#REF!"}},{"$f":"ASISTENCIA!#REF!","v":{"$error":"#REF!"}},{"$f":"ASISTENCIA!#REF!","v":{"$error":"#REF!"}},null,{"$f":"ASISTENCIA!#REF!","v":{"$error":"#REF!"}},null,{"$f":"ASISTENCIA!#REF!","v":{"$error":"#REF!"}},null,{"$f":"ASISTENCIA!#REF!","v":{"$error":"#REF!"}},null,null,null,null,null,null,null,null,null,null,null,null,null,null,null,null,""]
[{"$f":"IF(+ASISTENCIA!#REF!=\"\",\"\",ASISTENCIA!#REF!)","v":{"$error":"#REF!"}},null,null,{"$f":"IF(+ASISTENCIA!#REF!=\"\",\"\",ASISTENCIA!#REF!)","v":{"$error":"#REF!"}},{"$f":"IF(+ASISTENCIA!#REF!=\"\",\"\",ASISTENCIA!#REF!)","v":{"$error":"#REF!"}},{"$f":"IF(+ASISTENCIA!#REF!=\"\",\"\",ASISTENCIA!#REF!)","v":{"$error":"#REF!"}},{"$f":"IF(+ASISTENCIA!#REF!=\"\",\"\",ASISTENCIA!#REF!)","v":{"$error":"#REF!"}},{"$f":"IF(+ASISTENCIA!#REF!=\"\",\"\",ASISTENCIA!#REF!)","v":{"$error":"#REF!"}},null,{"$f":"ASISTENCIA!#REF!","v":{"$error":"#REF!"}},null,{"$f":"ASISTENCIA!#REF!","v":{"$error":"#REF!"}},{"$f":"ASISTENCIA!#REF!","v":{"$error":"#REF!"}},{"$f":"ASISTENCIA!#REF!","v":{"$error":"#REF!"}},null,{"$f":"ASISTENCIA!#REF!","v":{"$error":"#REF!"}},null,{"$f":"ASISTENCIA!#REF!","v":{"$error":"#REF!"}},null,{"$f":"ASISTENCIA!#REF!","v":{"$error":"#REF!"}},null,null,null,null,null,null,null,null,null,null,null,null,null,null,null,null,""]
[{"$f":"IF(+ASISTENCIA!#REF!=\"\",\"\",ASISTENCIA!#REF!)","v":{"$error":"#REF!"}},null,null,{"$f":"IF(+ASISTENCIA!#REF!=\"\",\"\",ASISTENCIA!#REF!)","v":{"$error":"#REF!"}},{"$f":"IF(+ASISTENCIA!#REF!=\"\",\"\",ASISTENCIA!#REF!)","v":{"$error":"#REF!"}},{"$f":"IF(+ASISTENCIA!#REF!=\"\",\"\",ASISTENCIA!#REF!)","v":{"$error":"#REF!"}},{"$f":"IF(+ASISTENCIA!#REF!=\"\",\"\",ASISTENCIA!#REF!)","v":{"$error":"#REF!"}},{"$f":"IF(+ASISTENCIA!#REF!=\"\",\"\",ASISTENCIA!#REF!)","v":{"$error":"#REF!"}},null,{"$f":"ASISTENCIA!#REF!","v":{"$error":"#REF!"}},null,{"$f":"ASISTENCIA!#REF!","v":{"$error":"#REF!"}},{"$f":"ASISTENCIA!#REF!","v":{"$error":"#REF!"}},{"$f":"ASISTENCIA!#REF!","v":{"$error":"#REF!"}},null,{"$f":"ASISTENCIA!#REF!","v":{"$error":"#REF!"}},null,{"$f":"ASISTENCIA!#REF!","v":{"$error":"#REF!"}},null,{"$f":"ASISTENCIA!#REF!","v":{"$error":"#REF!"}},null,null,null,null,null,null,null,null,null,null,null,null,null,null,null,null,""]
[{"$f":"IF(+ASISTENCIA!#REF!=\"\",\"\",ASISTENCIA!#REF!)","v":{"$error":"#REF!"}},null,null,{"$f":"IF(+ASISTENCIA!#REF!=\"\",\"\",ASISTENCIA!#REF!)","v":{"$error":"#REF!"}},{"$f":"IF(+ASISTENCIA!#REF!=\"\",\"\",ASISTENCIA!#REF!)","v":{"$error":"#REF!"}},{"$f":"IF(+ASISTENCIA!#REF!=\"\",\"\",ASISTENCIA!#REF!)","v":{"$error":"#REF!"}},{"$f":"IF(+ASISTENCIA!#REF!=\"\",\"\",ASISTENCIA!#REF!)","v":{"$error":"#REF!"}},{"$f":"IF(+ASISTENCIA!#REF!=\"\",\"\",ASISTENCIA!#REF!)","v":{"$error":"#REF!"}},null,{"$f":"ASISTENCIA!#REF!","v":{"$error":"#REF!"}},null,{"$f":"ASISTENCIA!#REF!","v":{"$error":"#REF!"}},{"$f":"ASISTENCIA!#REF!","v":{"$error":"#REF!"}},{"$f":"ASISTENCIA!#REF!","v":{"$error":"#REF!"}},null,{"$f":"ASISTENCIA!#REF!","v":{"$error":"#REF!"}},null,{"$f":"ASISTENCIA!#REF!","v":{"$error":"#REF!"}},null,{"$f":"ASISTENCIA!#REF!","v":{"$error":"#REF!"}},null,null,null,null,null,null,null,null,null,null,null,null,null,null,null,null,""]
[{"$f":"IF(+ASISTENCIA!#REF!=\"\",\"\",ASISTENCIA!#REF!)","v":{"$error":"#REF!"}},null,null,{"$f":"IF(+ASISTENCIA!#REF!=\"\",\"\",ASISTENCIA!#REF!)","v":{"$error":"#REF!"}},{"$f":"IF(+ASISTENCIA!#REF!=\"\",\"\",ASISTENCIA!#REF!)","v":{"$error":"#REF!"}},{"$f":"IF(+ASISTENCIA!#REF!=\"\",\"\",ASISTENCIA!#REF!)","v":{"$error":"#REF!"}},{"$f":"IF(+ASISTENCIA!#REF!=\"\",\"\",ASISTENCIA!#REF!)","v":{"$error":"#REF!"}},{"$f":"IF(+ASISTENCIA!#REF!=\"\",\"\",ASISTENCIA!#REF!)","v":{"$error":"#REF!"}},null,{"$f":"ASISTENCIA!#REF!","v":{"$error":"#REF!"}},null,{"$f":"ASISTENCIA!#REF!","v":{"$error":"#REF!"}},{"$f":"ASISTENCIA!#REF!","v":{"$error":"#REF!"}},{"$f":"ASISTENCIA!#REF!","v":{"$error":"#REF!"}},null,{"$f":"ASISTENCIA!#REF!","v":{"$error":"#REF!"}},null,{"$f":"ASISTENCIA!#REF!","v":{"$error":"#REF!"}},null,{"$f":"ASISTENCIA!#REF!","v":{"$error":"#REF!"}},null,null,null,null,null,null,null,null,null,null,null,null,null,null,null,null,""]
[{"$f":"IF(+ASISTENCIA!#REF!=\"\",\"\",ASISTENCIA!#REF!)","v":{"$error":"#REF!"}},null,null,{"$f":"IF(+ASISTENCIA!#REF!=\"\",\"\",ASISTENCIA!#REF!)","v":{"$error":"#REF!"}},{"$f":"IF(+ASISTENCIA!#REF!=\"\",\"\",ASISTENCIA!#REF!)","v":{"$error":"#REF!"}},{"$f":"IF(+ASISTENCIA!#REF!=\"\",\"\",ASISTENCIA!#REF!)","v":{"$error":"#REF!"}},{"$f":"IF(+ASISTENCIA!#REF!=\"\",\"\",ASISTENCIA!#REF!)","v":{"$error":"#REF!"}},{"$f":"IF(+ASISTENCIA!#REF!=\"\",\"\",ASISTENCIA!#REF!)","v":{"$error":"#REF!"}},null,{"$f":"ASISTENCIA!#REF!","v":{"$error":"#REF!"}},null,{"$f":"ASISTENCIA!#REF!","v":{"$error":"#REF!"}},{"$f":"ASISTENCIA!#REF!","v":{"$error":"#REF!"}},{"$f":"ASISTENCIA!#REF!","v":{"$error":"#REF!"}},null,{"$f":"ASISTENCIA!#REF!","v":{"$error":"#REF!"}},null,{"$f":"ASISTENCIA!#REF!","v":{"$error":"#REF!"}},null,{"$f":"ASISTENCIA!#REF!","v":{"$error":"#REF!"}},null,null,null,null,null,null,null,null,null,null,null,null,null,null,null,null,""]
[{"$f":"IF(+ASISTENCIA!#REF!=\"\",\"\",ASISTENCIA!#REF!)","v":{"$error":"#REF!"}},null,null,{"$f":"IF(+ASISTENCIA!#REF!=\"\",\"\",ASISTENCIA!#REF!)","v":{"$error":"#REF!"}},{"$f":"IF(+ASISTENCIA!#REF!=\"\",\"\",ASISTENCIA!#REF!)","v":{"$error":"#REF!"}},{"$f":"IF(+ASISTENCIA!#REF!=\"\",\"\",ASISTENCIA!#REF!)","v":{"$error":"#REF!"}},{"$f":"IF(+ASISTENCIA!#REF!=\"\",\"\",ASISTENCIA!#REF!)","v":{"$error":"#REF!"}},{"$f":"IF(+ASISTENCIA!#REF!=\"\",\"\",ASISTENCIA!#REF!)","v":{"$error":"#REF!"}},null,{"$f":"ASISTENCIA!#REF!","v":{"$error":"#REF!"}},null,{"$f":"ASISTENCIA!#REF!","v":{"$error":"#REF!"}},{"$f":"ASISTENCIA!#REF!","v":{"$error":"#REF!"}},{"$f":"ASISTENCIA!#REF!","v":{"$error":"#REF!"}},null,{"$f":"ASISTENCIA!#REF!","v":{"$error":"#REF!"}},null,{"$f":"ASISTENCIA!#REF!","v":{"$error":"#REF!"}},null,{"$f":"ASISTENCIA!#REF!","v":{"$error":"#REF!"}},null,null,null,null,null,null,null,null,null,null,null,null,null,null,null,null,""]
[{"$f":"IF(+ASISTENCIA!#REF!=\"\",\"\",ASISTENCIA!#REF!)","v":{"$error":"#REF!"}},null,null,{"$f":"IF(+ASISTENCIA!#REF!=\"\",\"\",ASISTENCIA!#REF!)","v":{"$error":"#REF!"}},{"$f":"IF(+ASISTENCIA!#REF!=\"\",\"\",ASISTENCIA!#REF!)","v":{"$error":"#REF!"}},{"$f":"IF(+ASISTENCIA!#REF!=\"\",\"\",ASISTENCIA!#REF!)","v":{"$error":"#REF!"}},{"$f":"IF(+ASISTENCIA!#REF!=\"\",\"\",ASISTENCIA!#REF!)","v":{"$error":"#REF!"}},{"$f":"IF(+ASISTENCIA!#REF!=\"\",\"\",ASISTENCIA!#REF!)","v":{"$error":"#REF!"}},null,{"$f":"ASISTENCIA!#REF!","v":{"$error":"#REF!"}},null,{"$f":"ASISTENCIA!#REF!","v":{"$error":"#REF!"}},{"$f":"ASISTENCIA!#REF!","v":{"$error":"#REF!"}},{"$f":"ASISTENCIA!#REF!","v":{"$error":"#REF!"}},null,{"$f":"ASISTENCIA!#REF!","v":{"$error":"#REF!"}},null,{"$f":"ASISTENCIA!#REF!","v":{"$error":"#REF!"}},null,{"$f":"ASISTENCIA!#REF!","v":{"$error":"#REF!"}},null,null,null,null,null,null,null,null,null,null,null,null,null,null,null,null,""]
[{"$f":"IF(+ASISTENCIA!#REF!=\"\",\"\",ASISTENCIA!#REF!)","v":{"$error":"#REF!"}},null,null,{"$f":"IF(+ASISTENCIA!#REF!=\"\",\"\",ASISTENCIA!#REF!)","v":{"$error":"#REF!"}},{"$f":"IF(+ASISTENCIA!#REF!=\"\",\"\",ASISTENCIA!#REF!)","v":{"$error":"#REF!"}},{"$f":"IF(+ASISTENCIA!#REF!=\"\",\"\",ASISTENCIA!#REF!)","v":{"$error":"#REF!"}},{"$f":"IF(+ASISTENCIA!#REF!=\"\",\"\",ASISTENCIA!#REF!)","v":{"$error":"#REF!"}},{"$f":"IF(+ASISTENCIA!#REF!=\"\",\"\",ASISTENCIA!#REF!)","v":{"$error":"#REF!"}},null,{"$f":"ASISTENCIA!#REF!","v":{"$error":"#REF!"}},null,{"$f":"ASISTENCIA!#REF!","v":{"$error":"#REF!"}},{"$f":"ASISTENCIA!#REF!","v":{"$error":"#REF!"}},{"$f":"ASISTENCIA!#REF!","v":{"$error":"#REF!"}},null,{"$f":"ASISTENCIA!#REF!","v":{"$error":"#REF!"}},null,{"$f":"ASISTENCIA!#REF!","v":{"$error":"#REF!"}},null,{"$f":"ASISTENCIA!#REF!","v":{"$error":"#REF!"}},null,null,null,null,null,null,null,null,null,null,null,null,null,null,null,null,""]
[{"$f":"IF(+ASISTENCIA!#REF!=\"\",\"\",ASISTENCIA!#REF!)","v":{"$error":"#REF!"}},null,null,{"$f":"IF(+ASISTENCIA!#REF!=\"\",\"\",ASISTENCIA!#REF!)","v":{"$error":"#REF!"}},{"$f":"IF(+ASISTENCIA!#REF!=\"\",\"\",ASISTENCIA!#REF!)","v":{"$error":"#REF!"}},{"$f":"IF(+ASISTENCIA!#REF!=\"\",\"\",ASISTENCIA!#REF!)","v":{"$error":"#REF!"}},{"$f":"IF(+ASISTENCIA!#REF!=\"\",\"\",ASISTENCIA!#REF!)","v":{"$error":"#REF!"}},{"$f":"IF(+ASISTENCIA!#REF!=\"\",\"\",ASISTENCIA!#REF!)","v":{"$error":"#REF!"}},null,{"$f":"ASISTENCIA!#REF!","v":{"$error":"#REF!"}},null,{"$f":"ASISTENCIA!#REF!","v":{"$error":"#REF!"}},{"$f":"ASISTENCIA!#REF!","v":{"$error":"#REF!"}},{"$f":"ASISTENCIA!#REF!","v":{"$error":"#REF!"}},null,{"$f":"ASISTENCIA!#REF!","v":{"$error":"#REF!"}},null,{"$f":"ASISTENCIA!#REF!","v":{"$error":"#REF!"}},null,{"$f":"ASISTENCIA!#REF!","v":{"$error":"#REF!"}},null,null,null,null,null,null,null,null,null,null,null,null,null,null,null,null,""]
[{"$f":"IF(+ASISTENCIA!#REF!=\"\",\"\",ASISTENCIA!#REF!)","v":{"$error":"#REF!"}},null,null,{"$f":"IF(+ASISTENCIA!#REF!=\"\",\"\",ASISTENCIA!#REF!)","v":{"$error":"#REF!"}},{"$f":"IF(+ASISTENCIA!#REF!=\"\",\"\",ASISTENCIA!#REF!)","v":{"$error":"#REF!"}},{"$f":"IF(+ASISTENCIA!#REF!=\"\",\"\",ASISTENCIA!#REF!)","v":{"$error":"#REF!"}},{"$f":"IF(+ASISTENCIA!#REF!=\"\",\"\",ASISTENCIA!#REF!)","v":{"$error":"#REF!"}},{"$f":"IF(+ASISTENCIA!#REF!=\"\",\"\",ASISTENCIA!#REF!)","v":{"$error":"#REF!"}},null,{"$f":"ASISTENCIA!#REF!","v":{"$error":"#REF!"}},null,{"$f":"ASISTENCIA!#REF!","v":{"$error":"#REF!"}},{"$f":"ASISTENCIA!#REF!","v":{"$error":"#REF!"}},{"$f":"ASISTENCIA!#REF!","v":{"$error":"#REF!"}},null,{"$f":"ASISTENCIA!#REF!","v":{"$error":"#REF!"}},null,{"$f":"ASISTENCIA!#REF!","v":{"$error":"#REF!"}},null,{"$f":"ASISTENCIA!#REF!","v":{"$error":"#REF!"}},null,null,null,null,null,null,null,null,null,null,null,null,null,null,null,null,""]
[{"$f":"IF(+ASISTENCIA!#REF!=\"\",\"\",ASISTENCIA!#REF!)","v":{"$error":"#REF!"}},null,null,{"$f":"IF(+ASISTENCIA!#REF!=\"\",\"\",ASISTENCIA!#REF!)","v":{"$error":"#REF!"}},{"$f":"IF(+ASISTENCIA!#REF!=\"\",\"\",ASISTENCIA!#REF!)","v":{"$error":"#REF!"}},{"$f":"IF(+ASISTENCIA!#REF!=\"\",\"\",ASISTENCIA!#REF!)","v":{"$error":"#REF!"}},{"$f":"IF(+ASISTENCIA!#REF!=\"\",\"\",ASISTENCIA!#REF!)","v":{"$error":"#REF!"}},{"$f":"IF(+ASISTENCIA!#REF!=\"\",\"\",ASISTENCIA!#REF!)","v":{"$error":"#REF!"}},null,{"$f":"ASISTENCIA!#REF!","v":{"$error":"#REF!"}},null,{"$f":"ASISTENCIA!#REF!","v":{"$error":"#REF!"}},{"$f":"ASISTENCIA!#REF!","v":{"$error":"#REF!"}},{"$f":"ASISTENCIA!#REF!","v":{"$error":"#REF!"}},null,{"$f":"ASISTENCIA!#REF!","v":{"$error":"#REF!"}},null,{"$f":"ASISTENCIA!#REF!","v":{"$error":"#REF!"}},null,{"$f":"ASISTENCIA!#REF!","v":{"$error":"#REF!"}},null,null,null,null,null,null,null,null,null,null,null,null,null,null,null,null,""]
[{"$f":"IF(+ASISTENCIA!#REF!=\"\",\"\",ASISTENCIA!#REF!)","v":{"$error":"#REF!"}},null,null,{"$f":"IF(+ASISTENCIA!#REF!=\"\",\"\",ASISTENCIA!#REF!)","v":{"$error":"#REF!"}},{"$f":"IF(+ASISTENCIA!#REF!=\"\",\"\",ASISTENCIA!#REF!)","v":{"$error":"#REF!"}},{"$f":"IF(+ASISTENCIA!#REF!=\"\",\"\",ASISTENCIA!#REF!)","v":{"$error":"#REF!"}},{"$f":"IF(+ASISTENCIA!#REF!=\"\",\"\",ASISTENCIA!#REF!)","v":{"$error":"#REF!"}},{"$f":"IF(+ASISTENCIA!#REF!=\"\",\"\",ASISTENCIA!#REF!)","v":{"$error":"#REF!"}},null,{"$f":"ASISTENCIA!#REF!","v":{"$error":"#REF!"}},null,{"$f":"ASISTENCIA!#REF!","v":{"$error":"#REF!"}},{"$f":"ASISTENCIA!#REF!","v":{"$error":"#REF!"}},{"$f":"ASISTENCIA!#REF!","v":{"$error":"#REF!"}},null,{"$f":"ASISTENCIA!#REF!","v":{"$error":"#REF!"}},null,{"$f":"ASISTENCIA!#REF!","v":{"$error":"#REF!"}},null,{"$f":"ASISTENCIA!#REF!","v":{"$error":"#REF!"}},null,null,null,null,null,null,null,null,null,null,null,null,null,null,null,null,""]
[{"$f":"IF(+ASISTENCIA!#REF!=\"\",\"\",ASISTENCIA!#REF!)","v":{"$error":"#REF!"}},null,null,{"$f":"IF(+ASISTENCIA!#REF!=\"\",\"\",ASISTENCIA!#REF!)","v":{"$error":"#REF!"}},{"$f":"IF(+ASISTENCIA!#REF!=\"\",\"\",ASISTENCIA!#REF!)","v":{"$error":"#REF!"}},{"$f":"IF(+ASISTENCIA!#REF!=\"\",\"\",ASISTENCIA!#REF!)","v":{"$error":"#REF!"}},{"$f":"IF(+ASISTENCIA!#REF!=\"\",\"\",ASISTENCIA!#REF!)","v":{"$error":"#REF!"}},{"$f":"IF(+ASISTENCIA!#REF!=\"\",\"\",ASISTENCIA!#REF!)","v":{"$error":"#REF!"}},null,{"$f":"ASISTENCIA!#REF!","v":{"$error":"#REF!"}},null,{"$f":"ASISTENCIA!#REF!","v":{"$error":"#REF!"}},{"$f":"ASISTENCIA!#REF!","v":{"$error":"#REF!"}},{"$f":"ASISTENCIA!#REF!","v":{"$error":"#REF!"}},null,{"$f":"ASISTENCIA!#REF!","v":{"$error":"#REF!"}},null,{"$f":"ASISTENCIA!#REF!","v":{"$error":"#REF!"}},null,{"$f":"ASISTENCIA!#REF!","v":{"$error":"#REF!"}},null,null,null,null,null,null,null,null,null,null,null,null,null,null,null,null,""]
[{"$f":"IF(+ASISTENCIA!#REF!=\"\",\"\",ASISTENCIA!#REF!)","v":{"$error":"#REF!"}},null,null,{"$f":"IF(+ASISTENCIA!#REF!=\"\",\"\",ASISTENCIA!#REF!)","v":{"$error":"#REF!"}},{"$f":"IF(+ASISTENCIA!#REF!=\"\",\"\",ASISTENCIA!#REF!)","v":{"$error":"#REF!"}},{"$f":"IF(+ASISTENCIA!#REF!=\"\",\"\",ASISTENCIA!#REF!)","v":{"$error":"#REF!"}},{"$f":"IF(+ASISTENCIA!#REF!=\"\",\"\",ASISTENCIA!#REF!)","v":{"$error":"#REF!"}},{"$f":"IF(+ASISTENCIA!#REF!=\"\",\"\",ASISTENCIA!#REF!)","v":{"$error":"#REF!"}},null,{"$f":"ASISTENCIA!#REF!","v":{"$error":"#REF!"}},null,{"$f":"ASISTENCIA!#REF!","v":{"$error":"#REF!"}},{"$f":"ASISTENCIA!#REF!","v":{"$error":"#REF!"}},{"$f":"ASISTENCIA!#REF!","v":{"$error":"#REF!"}},null,{"$f":"ASISTENCIA!#REF!","v":{"$error":"#REF!"}},null,{"$f":"ASISTENCIA!#REF!","v":{"$error":"#REF!"}},null,{"$f":"ASISTENCIA!#REF!","v":{"$error":"#REF!"}},null,null,null,null,null,null,null,null,null,null,null,null,null,null,null,null,""]
[{"$f":"IF(+ASISTENCIA!#REF!=\"\",\"\",ASISTENCIA!#REF!)","v":{"$error":"#REF!"}},null,null,{"$f":"IF(+ASISTENCIA!#REF!=\"\",\"\",ASISTENCIA!#REF!)","v":{"$error":"#REF!"}},{"$f":"IF(+ASISTENCIA!#REF!=\"\",\"\",ASISTENCIA!#REF!)","v":{"$error":"#REF!"}},{"$f":"IF(+ASISTENCIA!#REF!=\"\",\"\",ASISTENCIA!#REF!)","v":{"$error":"#REF!"}},{"$f":"IF(+ASISTENCIA!#REF!=\"\",\"\",ASISTENCIA!#REF!)","v":{"$error":"#REF!"}},{"$f":"IF(+ASISTENCIA!#REF!=\"\",\"\",ASISTENCIA!#REF!)","v":{"$error":"#REF!"}},null,{"$f":"ASISTENCIA!#REF!","v":{"$error":"#REF!"}},null,{"$f":"ASISTENCIA!#REF!","v":{"$error":"#REF!"}},{"$f":"ASISTENCIA!#REF!","v":{"$error":"#REF!"}},{"$f":"ASISTENCIA!#REF!","v":{"$error":"#REF!"}},null,{"$f":"ASISTENCIA!#REF!","v":{"$error":"#REF!"}},null,{"$f":"ASISTENCIA!#REF!","v":{"$error":"#REF!"}},null,{"$f":"ASISTENCIA!#REF!","v":{"$error":"#REF!"}},null,null,null,null,null,null,null,null,null,null,null,null,null,null,null,null,""]
[{"$f":"IF(+ASISTENCIA!#REF!=\"\",\"\",ASISTENCIA!#REF!)","v":{"$error":"#REF!"}},null,null,{"$f":"IF(+ASISTENCIA!#REF!=\"\",\"\",ASISTENCIA!#REF!)","v":{"$error":"#REF!"}},{"$f":"IF(+ASISTENCIA!#REF!=\"\",\"\",ASISTENCIA!#REF!)","v":{"$error":"#REF!"}},{"$f":"IF(+ASISTENCIA!#REF!=\"\",\"\",ASISTENCIA!#REF!)","v":{"$error":"#REF!"}},{"$f":"IF(+ASISTENCIA!#REF!=\"\",\"\",ASISTENCIA!#REF!)","v":{"$error":"#REF!"}},{"$f":"IF(+ASISTENCIA!#REF!=\"\",\"\",ASISTENCIA!#REF!)","v":{"$error":"#REF!"}},null,{"$f":"ASISTENCIA!#REF!","v":{"$error":"#REF!"}},null,{"$f":"ASISTENCIA!#REF!","v":{"$error":"#REF!"}},{"$f":"ASISTENCIA!#REF!","v":{"$error":"#REF!"}},{"$f":"ASISTENCIA!#REF!","v":{"$error":"#REF!"}},null,{"$f":"ASISTENCIA!#REF!","v":{"$error":"#REF!"}},null,{"$f":"ASISTENCIA!#REF!","v":{"$error":"#REF!"}},null,{"$f":"ASISTENCIA!#REF!","v":{"$error":"#REF!"}},null,null,null,null,null,null,null,null,null,null,null,null,null,null,null,null,""]
[{"$f":"IF(+ASISTENCIA!#REF!=\"\",\"\",ASISTENCIA!#REF!)","v":{"$error":"#REF!"}},null,null,{"$f":"IF(+ASISTENCIA!#REF!=\"\",\"\",ASISTENCIA!#REF!)","v":{"$error":"#REF!"}},{"$f":"IF(+ASISTENCIA!#REF!=\"\",\"\",ASISTENCIA!#REF!)","v":{"$error":"#REF!"}},{"$f":"IF(+ASISTENCIA!#REF!=\"\",\"\",ASISTENCIA!#REF!)","v":{"$error":"#REF!"}},{"$f":"IF(+ASISTENCIA!#REF!=\"\",\"\",ASISTENCIA!#REF!)","v":{"$error":"#REF!"}},{"$f":"IF(+ASISTENCIA!#REF!=\"\",\"\",ASISTENCIA!#REF!)","v":{"$error":"#REF!"}},null,{"$f":"ASISTENCIA!#REF!","v":{"$error":"#REF!"}},null,{"$f":"ASISTENCIA!#REF!","v":{"$error":"#REF!"}},{"$f":"ASISTENCIA!#REF!","v":{"$error":"#REF!"}},{"$f":"ASISTENCIA!#REF!","v":{"$error":"#REF!"}},null,{"$f":"ASISTENCIA!#REF!","v":{"$error":"#REF!"}},null,{"$f":"ASISTENCIA!#REF!","v":{"$error":"#REF!"}},null,{"$f":"ASISTENCIA!#REF!","v":{"$error":"#REF!"}},null,null,null,null,null,null,null,null,null,null,null,null,null,null,null,null,""]
[{"$f":"IF(+ASISTENCIA!#REF!=\"\",\"\",ASISTENCIA!#REF!)","v":{"$error":"#REF!"}},null,null,{"$f":"IF(+ASISTENCIA!#REF!=\"\",\"\",ASISTENCIA!#REF!)","v":{"$error":"#REF!"}},{"$f":"IF(+ASISTENCIA!#REF!=\"\",\"\",ASISTENCIA!#REF!)","v":{"$error":"#REF!"}},{"$f":"IF(+ASISTENCIA!#REF!=\"\",\"\",ASISTENCIA!#REF!)","v":{"$error":"#REF!"}},{"$f":"IF(+ASISTENCIA!#REF!=\"\",\"\",ASISTENCIA!#REF!)","v":{"$error":"#REF!"}},{"$f":"IF(+ASISTENCIA!#REF!=\"\",\"\",ASISTENCIA!#REF!)","v":{"$error":"#REF!"}},null,{"$f":"ASISTENCIA!#REF!","v":{"$error":"#REF!"}},null,{"$f":"ASISTENCIA!#REF!","v":{"$error":"#REF!"}},{"$f":"ASISTENCIA!#REF!","v":{"$error":"#REF!"}},{"$f":"ASISTENCIA!#REF!","v":{"$error":"#REF!"}},null,{"$f":"ASISTENCIA!#REF!","v":{"$error":"#REF!"}},null,{"$f":"ASISTENCIA!#REF!","v":{"$error":"#REF!"}},null,{"$f":"ASISTENCIA!#REF!","v":{"$error":"#REF!"}},null,null,null,null,null,null,null,null,null,null,null,null,null,null,null,null,""]
[{"$f":"IF(+ASISTENCIA!#REF!=\"\",\"\",ASISTENCIA!#REF!)","v":{"$error":"#REF!"}},null,null,{"$f":"IF(+ASISTENCIA!#REF!=\"\",\"\",ASISTENCIA!#REF!)","v":{"$error":"#REF!"}},{"$f":"IF(+ASISTENCIA!#REF!=\"\",\"\",ASISTENCIA!#REF!)","v":{"$error":"#REF!"}},{"$f":"IF(+ASISTENCIA!#REF!=\"\",\"\",ASISTENCIA!#REF!)","v":{"$error":"#REF!"}},{"$f":"IF(+ASISTENCIA!#REF!=\"\",\"\",ASISTENCIA!#REF!)","v":{"$error":"#REF!"}},{"$f":"IF(+ASISTENCIA!#REF!=\"\",\"\",ASISTENCIA!#REF!)","v":{"$error":"#REF!"}},null,{"$f":"ASISTENCIA!#REF!","v":{"$error":"#REF!"}},null,{"$f":"ASISTENCIA!#REF!","v":{"$error":"#REF!"}},{"$f":"ASISTENCIA!#REF!","v":{"$error":"#REF!"}},{"$f":"ASISTENCIA!#REF!","v":{"$error":"#REF!"}},null,{"$f":"ASISTENCIA!#REF!","v":{"$error":"#REF!"}},null,{"$f":"ASISTENCIA!#REF!","v":{"$error":"#REF!"}},null,{"$f":"ASISTENCIA!#REF!","v":{"$error":"#REF!"}},null,null,null,null,null,null,null,null,null,null,null,null,null,null,null,null,""]
[{"$f":"IF(+ASISTENCIA!#REF!=\"\",\"\",ASISTENCIA!#REF!)","v":{"$error":"#REF!"}},null,null,{"$f":"IF(+ASISTENCIA!#REF!=\"\",\"\",ASISTENCIA!#REF!)","v":{"$error":"#REF!"}},{"$f":"IF(+ASISTENCIA!#REF!=\"\",\"\",ASISTENCIA!#REF!)","v":{"$error":"#REF!"}},{"$f":"IF(+ASISTENCIA!#REF!=\"\",\"\",ASISTENCIA!#REF!)","v":{"$error":"#REF!"}},{"$f":"IF(+ASISTENCIA!#REF!=\"\",\"\",ASISTENCIA!#REF!)","v":{"$error":"#REF!"}},{"$f":"IF(+ASISTENCIA!#REF!=\"\",\"\",ASISTENCIA!#REF!)","v":{"$error":"#REF!"}},null,{"$f":"ASISTENCIA!#REF!","v":{"$error":"#REF!"}},null,{"$f":"ASISTENCIA!#REF!","v":{"$error":"#REF!"}},{"$f":"ASISTENCIA!#REF!","v":{"$error":"#REF!"}},{"$f":"ASISTENCIA!#REF!","v":{"$error":"#REF!"}},null,{"$f":"ASISTENCIA!#REF!","v":{"$error":"#REF!"}},null,{"$f":"ASISTENCIA!#REF!","v":{"$error":"#REF!"}},null,{"$f":"ASISTENCIA!#REF!","v":{"$error":"#REF!"}},null,null,null,null,null,null,null,null,null,null,null,null,null,null,null,null,""]
[{"$f":"IF(+ASISTENCIA!#REF!=\"\",\"\",ASISTENCIA!#REF!)","v":{"$error":"#REF!"}},null,null,{"$f":"IF(+ASISTENCIA!#REF!=\"\",\"\",ASISTENCIA!#REF!)","v":{"$error":"#REF!"}},{"$f":"IF(+ASISTENCIA!#REF!=\"\",\"\",ASISTENCIA!#REF!)","v":{"$error":"#REF!"}},{"$f":"IF(+ASISTENCIA!#REF!=\"\",\"\",ASISTENCIA!#REF!)","v":{"$error":"#REF!"}},{"$f":"IF(+ASISTENCIA!#REF!=\"\",\"\",ASISTENCIA!#REF!)","v":{"$error":"#REF!"}},{"$f":"IF(+ASISTENCIA!#REF!=\"\",\"\",ASISTENCIA!#REF!)","v":{"$error":"#REF!"}},null,{"$f":"ASISTENCIA!#REF!","v":{"$error":"#REF!"}},null,{"$f":"ASISTENCIA!#REF!","v":{"$error":"#REF!"}},{"$f":"ASISTENCIA!#REF!","v":{"$error":"#REF!"}},{"$f":"ASISTENCIA!#REF!","v":{"$error":"#REF!"}},null,{"$f":"ASISTENCIA!#REF!","v":{"$error":"#REF!"}},null,{"$f":"ASISTENCIA!#REF!","v":{"$error":"#REF!"}},null,{"$f":"ASISTENCIA!#REF!","v":{"$error":"#REF!"}},null,null,null,null,null,null,null,null,null,null,null,null,null,null,null,null,""]
[{"$f":"IF(+ASISTENCIA!#REF!=\"\",\"\",ASISTENCIA!#REF!)","v":{"$error":"#REF!"}},null,null,{"$f":"IF(+ASISTENCIA!#REF!=\"\",\"\",ASISTENCIA!#REF!)","v":{"$error":"#REF!"}},{"$f":"IF(+ASISTENCIA!#REF!=\"\",\"\",ASISTENCIA!#REF!)","v":{"$error":"#REF!"}},{"$f":"IF(+ASISTENCIA!#REF!=\"\",\"\",ASISTENCIA!#REF!)","v":{"$error":"#REF!"}},{"$f":"IF(+ASISTENCIA!#REF!=\"\",\"\",ASISTENCIA!#REF!)","v":{"$error":"#REF!"}},{"$f":"IF(+ASISTENCIA!#REF!=\"\",\"\",ASISTENCIA!#REF!)","v":{"$error":"#REF!"}},null,{"$f":"ASISTENCIA!#REF!","v":{"$error":"#REF!"}},null,{"$f":"ASISTENCIA!#REF!","v":{"$error":"#REF!"}},{"$f":"ASISTENCIA!#REF!","v":{"$error":"#REF!"}},{"$f":"ASISTENCIA!#REF!","v":{"$error":"#REF!"}},null,{"$f":"ASISTENCIA!#REF!","v":{"$error":"#REF!"}},null,{"$f":"ASISTENCIA!#REF!","v":{"$error":"#REF!"}},null,{"$f":"ASISTENCIA!#REF!","v":{"$error":"#REF!"}},null,null,null,null,null,null,null,null,null,null,null,null,null,null,null,null,""]
[{"$f":"IF(+ASISTENCIA!#REF!=\"\",\"\",ASISTENCIA!#REF!)","v":{"$error":"#REF!"}},null,null,{"$f":"IF(+ASISTENCIA!#REF!=\"\",\"\",ASISTENCIA!#REF!)","v":{"$error":"#REF!"}},{"$f":"IF(+ASISTENCIA!#REF!=\"\",\"\",ASISTENCIA!#REF!)","v":{"$error":"#REF!"}},{"$f":"IF(+ASISTENCIA!#REF!=\"\",\"\",ASISTENCIA!#REF!)","v":{"$error":"#REF!"}},{"$f":"IF(+ASISTENCIA!#REF!=\"\",\"\",ASISTENCIA!#REF!)","v":{"$error":"#REF!"}},{"$f":"IF(+ASISTENCIA!#REF!=\"\",\"\",ASISTENCIA!#REF!)","v":{"$error":"#REF!"}},null,{"$f":"ASISTENCIA!#REF!","v":{"$error":"#REF!"}},null,{"$f":"ASISTENCIA!#REF!","v":{"$error":"#REF!"}},{"$f":"ASISTENCIA!#REF!","v":{"$error":"#REF!"}},{"$f":"ASISTENCIA!#REF!","v":{"$error":"#REF!"}},null,{"$f":"ASISTENCIA!#REF!","v":{"$error":"#REF!"}},null,{"$f":"ASISTENCIA!#REF!","v":{"$error":"#REF!"}},null,{"$f":"ASISTENCIA!#REF!","v":{"$error":"#REF!"}},null,null,null,null,null,null,null,null,null,null,null,null,null,null,null,null,""]
[{"$f":"IF(+ASISTENCIA!#REF!=\"\",\"\",ASISTENCIA!#REF!)","v":{"$error":"#REF!"}},null,null,{"$f":"IF(+ASISTENCIA!#REF!=\"\",\"\",ASISTENCIA!#REF!)","v":{"$error":"#REF!"}},{"$f":"IF(+ASISTENCIA!#REF!=\"\",\"\",ASISTENCIA!#REF!)","v":{"$error":"#REF!"}},{"$f":"IF(+ASISTENCIA!#REF!=\"\",\"\",ASISTENCIA!#REF!)","v":{"$error":"#REF!"}},{"$f":"IF(+ASISTENCIA!#REF!=\"\",\"\",ASISTENCIA!#REF!)","v":{"$error":"#REF!"}},{"$f":"IF(+ASISTENCIA!#REF!=\"\",\"\",ASISTENCIA!#REF!)","v":{"$error":"#REF!"}},null,{"$f":"ASISTENCIA!#REF!","v":{"$error":"#REF!"}},null,{"$f":"ASISTENCIA!#REF!","v":{"$error":"#REF!"}},{"$f":"ASISTENCIA!#REF!","v":{"$error":"#REF!"}},{"$f":"ASISTENCIA!#REF!","v":{"$error":"#REF!"}},null,{"$f":"ASISTENCIA!#REF!","v":{"$error":"#REF!"}},null,{"$f":"ASISTENCIA!#REF!","v":{"$error":"#REF!"}},null,{"$f":"ASISTENCIA!#REF!","v":{"$error":"#REF!"}},null,null,null,null,null,null,null,null,null,null,null,null,null,null,null,null,{"$f":"IF(OR(COUNTIF($I108:$AJ108,\"X\")>0,COUNTIF($I108:$AJ108,\"L\")>0),COUNTIF($I108:$AJ108,\"X\")+COUNTIF($I108:$AJ108,\"L\"),\"\")","v":""}]
[{"$f":"IF(+ASISTENCIA!#REF!=\"\",\"\",ASISTENCIA!#REF!)","v":{"$error":"#REF!"}},null,null,{"$f":"IF(+ASISTENCIA!#REF!=\"\",\"\",ASISTENCIA!#REF!)","v":{"$error":"#REF!"}},{"$f":"IF(+ASISTENCIA!#REF!=\"\",\"\",ASISTENCIA!#REF!)","v":{"$error":"#REF!"}},{"$f":"IF(+ASISTENCIA!#REF!=\"\",\"\",ASISTENCIA!#REF!)","v":{"$error":"#REF!"}},{"$f":"IF(+ASISTENCIA!#REF!=\"\",\"\",ASISTENCIA!#REF!)","v":{"$error":"#REF!"}},{"$f":"IF(+ASISTENCIA!#REF!=\"\",\"\",ASISTENCIA!#REF!)","v":{"$error":"#REF!"}},null,{"$f":"ASISTENCIA!#REF!","v":{"$error":"#REF!"}},null,{"$f":"ASISTENCIA!#REF!","v":{"$error":"#REF!"}},{"$f":"ASISTENCIA!#REF!","v":{"$error":"#REF!"}},{"$f":"ASISTENCIA!#REF!","v":{"$error":"#REF!"}},null,{"$f":"ASISTENCIA!#REF!","v":{"$error":"#REF!"}},null,{"$f":"ASISTENCIA!#REF!","v":{"$error":"#REF!"}},null,{"$f":"ASISTENCIA!#REF!","v":{"$error":"#REF!"}},null,null,null,null,null,null,null,null,null,null,null,null,null,null,null,null,""]
[{"$f":"IF(+ASISTENCIA!#REF!=\"\",\"\",ASISTENCIA!#REF!)","v":{"$error":"#REF!"}},null,null,{"$f":"IF(+ASISTENCIA!#REF!=\"\",\"\",ASISTENCIA!#REF!)","v":{"$error":"#REF!"}},{"$f":"IF(+ASISTENCIA!#REF!=\"\",\"\",ASISTENCIA!#REF!)","v":{"$error":"#REF!"}},{"$f":"IF(+ASISTENCIA!#REF!=\"\",\"\",ASISTENCIA!#REF!)","v":{"$error":"#REF!"}},{"$f":"IF(+ASISTENCIA!#REF!=\"\",\"\",ASISTENCIA!#REF!)","v":{"$error":"#REF!"}},{"$f":"IF(+ASISTENCIA!#REF!=\"\",\"\",ASISTENCIA!#REF!)","v":{"$error":"#REF!"}},null,{"$f":"ASISTENCIA!#REF!","v":{"$error":"#REF!"}},null,{"$f":"ASISTENCIA!#REF!","v":{"$error":"#REF!"}},{"$f":"ASISTENCIA!#REF!","v":{"$error":"#REF!"}},{"$f":"ASISTENCIA!#REF!","v":{"$error":"#REF!"}},null,{"$f":"ASISTENCIA!#REF!","v":{"$error":"#REF!"}},null,{"$f":"ASISTENCIA!#REF!","v":{"$error":"#REF!"}},null,{"$f":"ASISTENCIA!#REF!","v":{"$error":"#REF!"}},null,null,null,null,null,null,null,null,null,null,null,null,null,null,null,null,""]
[{"$f":"IF(+ASISTENCIA!#REF!=\"\",\"\",ASISTENCIA!#REF!)","v":{"$error":"#REF!"}},null,null,{"$f":"IF(+ASISTENCIA!#REF!=\"\",\"\",ASISTENCIA!#REF!)","v":{"$error":"#REF!"}},{"$f":"IF(+ASISTENCIA!#REF!=\"\",\"\",ASISTENCIA!#REF!)","v":{"$error":"#REF!"}},{"$f":"IF(+ASISTENCIA!#REF!=\"\",\"\",ASISTENCIA!#REF!)","v":{"$error":"#REF!"}},{"$f":"IF(+ASISTENCIA!#REF!=\"\",\"\",ASISTENCIA!#REF!)","v":{"$error":"#REF!"}},{"$f":"IF(+ASISTENCIA!#REF!=\"\",\"\",ASISTENCIA!#REF!)","v":{"$error":"#REF!"}},null,{"$f":"ASISTENCIA!#REF!","v":{"$error":"#REF!"}},null,{"$f":"ASISTENCIA!#REF!","v":{"$error":"#REF!"}},{"$f":"ASISTENCIA!#REF!","v":{"$error":"#REF!"}},{"$f":"ASISTENCIA!#REF!","v":{"$error":"#REF!"}},null,{"$f":"ASISTENCIA!#REF!","v":{"$error":"#REF!"}},null,{"$f":"ASISTENCIA!#REF!","v":{"$error":"#REF!"}},null,{"$f":"ASISTENCIA!#REF!","v":{"$error":"#REF!"}},null,null,null,null,null,null,null,null,null,null,null,null,null,null,null,null,""]
[{"$f":"IF(+ASISTENCIA!#REF!=\"\",\"\",ASISTENCIA!#REF!)","v":{"$error":"#REF!"}},null,null,{"$f":"IF(+ASISTENCIA!#REF!=\"\",\"\",ASISTENCIA!#REF!)","v":{"$error":"#REF!"}},{"$f":"IF(+ASISTENCIA!#REF!=\"\",\"\",ASISTENCIA!#REF!)","v":{"$error":"#REF!"}},{"$f":"IF(+ASISTENCIA!#REF!=\"\",\"\",ASISTENCIA!#REF!)","v":{"$error":"#REF!"}},{"$f":"IF(+ASISTENCIA!#REF!=\"\",\"\",ASISTENCIA!#REF!)","v":{"$error":"#REF!"}},{"$f":"IF(+ASISTENCIA!#REF!=\"\",\"\",ASISTENCIA!#REF!)","v":{"$error":"#REF!"}},null,{"$f":"ASISTENCIA!#REF!","v":{"$error":"#REF!"}},null,{"$f":"ASISTENCIA!#REF!","v":{"$error":"#REF!"}},{"$f":"ASISTENCIA!#REF!","v":{"$error":"#REF!"}},{"$f":"ASISTENCIA!#REF!","v":{"$error":"#REF!"}},null,{"$f":"ASISTENCIA!#REF!","v":{"$error":"#REF!"}},null,{"$f":"ASISTENCIA!#REF!","v":{"$error":"#REF!"}},null,{"$f":"ASISTENCIA!#REF!","v":{"$error":"#REF!"}},null,null,null,null,null,null,null,null,null,null,null,null,null,null,null,null,""]
[{"$f":"IF(+ASISTENCIA!#REF!=\"\",\"\",ASISTENCIA!#REF!)","v":{"$error":"#REF!"}},null,null,{"$f":"IF(+ASISTENCIA!#REF!=\"\",\"\",ASISTENCIA!#REF!)","v":{"$error":"#REF!"}},{"$f":"IF(+ASISTENCIA!#REF!=\"\",\"\",ASISTENCIA!#REF!)","v":{"$error":"#REF!"}},{"$f":"IF(+ASISTENCIA!#REF!=\"\",\"\",ASISTENCIA!#REF!)","v":{"$error":"#REF!"}},{"$f":"IF(+ASISTENCIA!#REF!=\"\",\"\",ASISTENCIA!#REF!)","v":{"$error":"#REF!"}},{"$f":"IF(+ASISTENCIA!#REF!=\"\",\"\",ASISTENCIA!#REF!)","v":{"$error":"#REF!"}},null,{"$f":"ASISTENCIA!#REF!","v":{"$error":"#REF!"}},null,{"$f":"ASISTENCIA!#REF!","v":{"$error":"#REF!"}},{"$f":"ASISTENCIA!#REF!","v":{"$error":"#REF!"}},{"$f":"ASISTENCIA!#REF!","v":{"$error":"#REF!"}},null,{"$f":"ASISTENCIA!#REF!","v":{"$error":"#REF!"}},null,{"$f":"ASISTENCIA!#REF!","v":{"$error":"#REF!"}},null,{"$f":"ASISTENCIA!#REF!","v":{"$error":"#REF!"}},null,null,null,null,null,null,null,null,null,null,null,null,null,null,null,null,""]
[{"$f":"IF(+ASISTENCIA!#REF!=\"\",\"\",ASISTENCIA!#REF!)","v":{"$error":"#REF!"}},null,null,{"$f":"IF(+ASISTENCIA!#REF!=\"\",\"\",ASISTENCIA!#REF!)","v":{"$error":"#REF!"}},{"$f":"IF(+ASISTENCIA!#REF!=\"\",\"\",ASISTENCIA!#REF!)","v":{"$error":"#REF!"}},{"$f":"IF(+ASISTENCIA!#REF!=\"\",\"\",ASISTENCIA!#REF!)","v":{"$error":"#REF!"}},{"$f":"IF(+ASISTENCIA!#REF!=\"\",\"\",ASISTENCIA!#REF!)","v":{"$error":"#REF!"}},{"$f":"IF(+ASISTENCIA!#REF!=\"\",\"\",ASISTENCIA!#REF!)","v":{"$error":"#REF!"}},null,{"$f":"ASISTENCIA!#REF!","v":{"$error":"#REF!"}},null,{"$f":"ASISTENCIA!#REF!","v":{"$error":"#REF!"}},{"$f":"ASISTENCIA!#REF!","v":{"$error":"#REF!"}},{"$f":"ASISTENCIA!#REF!","v":{"$error":"#REF!"}},null,{"$f":"ASISTENCIA!#REF!","v":{"$error":"#REF!"}},null,{"$f":"ASISTENCIA!#REF!","v":{"$error":"#REF!"}},null,{"$f":"ASISTENCIA!#REF!","v":{"$error":"#REF!"}},null,null,null,null,null,null,null,null,null,null,null,null,null,null,null,null,""]
[{"$f":"IF(+ASISTENCIA!#REF!=\"\",\"\",ASISTENCIA!#REF!)","v":{"$error":"#REF!"}},null,null,{"$f":"IF(+ASISTENCIA!#REF!=\"\",\"\",ASISTENCIA!#REF!)","v":{"$error":"#REF!"}},{"$f":"IF(+ASISTENCIA!#REF!=\"\",\"\",ASISTENCIA!#REF!)","v":{"$error":"#REF!"}},{"$f":"IF(+ASISTENCIA!#REF!=\"\",\"\",ASISTENCIA!#REF!)","v":{"$error":"#REF!"}},{"$f":"IF(+ASISTENCIA!#REF!=\"\",\"\",ASISTENCIA!#REF!)","v":{"$error":"#REF!"}},{"$f":"IF(+ASISTENCIA!#REF!=\"\",\"\",ASISTENCIA!#REF!)","v":{"$error":"#REF!"}},null,{"$f":"ASISTENCIA!#REF!","v":{"$error":"#REF!"}},null,{"$f":"ASISTENCIA!#REF!","v":{"$error":"#REF!"}},{"$f":"ASISTENCIA!#REF!","v":{"$error":"#REF!"}},{"$f":"ASISTENCIA!#REF!","v":{"$error":"#REF!"}},null,{"$f":"ASISTENCIA!#REF!","v":{"$error":"#REF!"}},null,{"$f":"ASISTENCIA!#REF!","v":{"$error":"#REF!"}},null,{"$f":"ASISTENCIA!#REF!","v":{"$error":"#REF!"}},null,null,null,null,null,null,null,null,null,null,null,null,null,null,null,null,""]
[{"$f":"IF(+ASISTENCIA!#REF!=\"\",\"\",ASISTENCIA!#REF!)","v":{"$error":"#REF!"}},null,null,{"$f":"IF(+ASISTENCIA!#REF!=\"\",\"\",ASISTENCIA!#REF!)","v":{"$error":"#REF!"}},{"$f":"IF(+ASISTENCIA!#REF!=\"\",\"\",ASISTENCIA!#REF!)","v":{"$error":"#REF!"}},{"$f":"IF(+ASISTENCIA!#REF!=\"\",\"\",ASISTENCIA!#REF!)","v":{"$error":"#REF!"}},{"$f":"IF(+ASISTENCIA!#REF!=\"\",\"\",ASISTENCIA!#REF!)","v":{"$error":"#REF!"}},{"$f":"IF(+ASISTENCIA!#REF!=\"\",\"\",ASISTENCIA!#REF!)","v":{"$error":"#REF!"}},null,{"$f":"ASISTENCIA!#REF!","v":{"$error":"#REF!"}},null,{"$f":"ASISTENCIA!#REF!","v":{"$error":"#REF!"}},{"$f":"ASISTENCIA!#REF!","v":{"$error":"#REF!"}},{"$f":"ASISTENCIA!#REF!","v":{"$error":"#REF!"}},null,{"$f":"ASISTENCIA!#REF!","v":{"$error":"#REF!"}},null,{"$f":"ASISTENCIA!#REF!","v":{"$error":"#REF!"}},null,{"$f":"ASISTENCIA!#REF!","v":{"$error":"#REF!"}},null,null,null,null,null,null,null,null,null,null,null,null,null,null,null,null,""]
[{"$f":"IF(+ASISTENCIA!#REF!=\"\",\"\",ASISTENCIA!#REF!)","v":{"$error":"#REF!"}},null,null,{"$f":"IF(+ASISTENCIA!#REF!=\"\",\"\",ASISTENCIA!#REF!)","v":{"$error":"#REF!"}},{"$f":"IF(+ASISTENCIA!#REF!=\"\",\"\",ASISTENCIA!#REF!)","v":{"$error":"#REF!"}},{"$f":"IF(+ASISTENCIA!#REF!=\"\",\"\",ASISTENCIA!#REF!)","v":{"$error":"#REF!"}},{"$f":"IF(+ASISTENCIA!#REF!=\"\",\"\",ASISTENCIA!#REF!)","v":{"$error":"#REF!"}},{"$f":"IF(+ASISTENCIA!#REF!=\"\",\"\",ASISTENCIA!#REF!)","v":{"$error":"#REF!"}},null,{"$f":"ASISTENCIA!#REF!","v":{"$error":"#REF!"}},null,{"$f":"ASISTENCIA!#REF!","v":{"$error":"#REF!"}},{"$f":"ASISTENCIA!#REF!","v":{"$error":"#REF!"}},{"$f":"ASISTENCIA!#REF!","v":{"$error":"#REF!"}},null,{"$f":"ASISTENCIA!#REF!","v":{"$error":"#REF!"}},null,{"$f":"ASISTENCIA!#REF!","v":{"$error":"#REF!"}},null,{"$f":"ASISTENCIA!#REF!","v":{"$error":"#REF!"}},null,null,null,null,null,null,null,null,null,null,null,null,null,null,null,null,""]
[{"$f":"IF(+ASISTENCIA!#REF!=\"\",\"\",ASISTENCIA!#REF!)","v":{"$error":"#REF!"}},null,null,{"$f":"IF(+ASISTENCIA!#REF!=\"\",\"\",ASISTENCIA!#REF!)","v":{"$error":"#REF!"}},{"$f":"IF(+ASISTENCIA!#REF!=\"\",\"\",ASISTENCIA!#REF!)","v":{"$error":"#REF!"}},{"$f":"IF(+ASISTENCIA!#REF!=\"\",\"\",ASISTENCIA!#REF!)","v":{"$error":"#REF!"}},{"$f":"IF(+ASISTENCIA!#REF!=\"\",\"\",ASISTENCIA!#REF!)","v":{"$error":"#REF!"}},{"$f":"IF(+ASISTENCIA!#REF!=\"\",\"\",ASISTENCIA!#REF!)","v":{"$error":"#REF!"}},null,{"$f":"ASISTENCIA!#REF!","v":{"$error":"#REF!"}},null,{"$f":"ASISTENCIA!#REF!","v":{"$error":"#REF!"}},{"$f":"ASISTENCIA!#REF!","v":{"$error":"#REF!"}},{"$f":"ASISTENCIA!#REF!","v":{"$error":"#REF!"}},null,{"$f":"ASISTENCIA!#REF!","v":{"$error":"#REF!"}},null,{"$f":"ASISTENCIA!#REF!","v":{"$error":"#REF!"}},null,{"$f":"ASISTENCIA!#REF!","v":{"$error":"#REF!"}},null,null,null,null,null,null,null,null,null,null,null,null,null,null,null,null,""]
[{"$f":"IF(+ASISTENCIA!#REF!=\"\",\"\",ASISTENCIA!#REF!)","v":{"$error":"#REF!"}},null,null,{"$f":"IF(+ASISTENCIA!#REF!=\"\",\"\",ASISTENCIA!#REF!)","v":{"$error":"#REF!"}},{"$f":"IF(+ASISTENCIA!#REF!=\"\",\"\",ASISTENCIA!#REF!)","v":{"$error":"#REF!"}},{"$f":"IF(+ASISTENCIA!#REF!=\"\",\"\",ASISTENCIA!#REF!)","v":{"$error":"#REF!"}},{"$f":"IF(+ASISTENCIA!#REF!=\"\",\"\",ASISTENCIA!#REF!)","v":{"$error":"#REF!"}},{"$f":"IF(+ASISTENCIA!#REF!=\"\",\"\",ASISTENCIA!#REF!)","v":{"$error":"#REF!"}},null,{"$f":"ASISTENCIA!#REF!","v":{"$error":"#REF!"}},null,{"$f":"ASISTENCIA!#REF!","v":{"$error":"#REF!"}},{"$f":"ASISTENCIA!#REF!","v":{"$error":"#REF!"}},{"$f":"ASISTENCIA!#REF!","v":{"$error":"#REF!"}},null,{"$f":"ASISTENCIA!#REF!","v":{"$error":"#REF!"}},null,{"$f":"ASISTENCIA!#REF!","v":{"$error":"#REF!"}},null,{"$f":"ASISTENCIA!#REF!","v":{"$error":"#REF!"}},null,null,null,null,null,null,null,null,null,null,null,null,null,null,null,null,""]
[{"$f":"IF(+ASISTENCIA!#REF!=\"\",\"\",ASISTENCIA!#REF!)","v":{"$error":"#REF!"}},null,null,{"$f":"IF(+ASISTENCIA!#REF!=\"\",\"\",ASISTENCIA!#REF!)","v":{"$error":"#REF!"}},{"$f":"IF(+ASISTENCIA!#REF!=\"\",\"\",ASISTENCIA!#REF!)","v":{"$error":"#REF!"}},{"$f":"IF(+ASISTENCIA!#REF!=\"\",\"\",ASISTENCIA!#REF!)","v":{"$error":"#REF!"}},{"$f":"IF(+ASISTENCIA!#REF!=\"\",\"\",ASISTENCIA!#REF!)","v":{"$error":"#REF!"}},{"$f":"IF(+ASISTENCIA!#REF!=\"\",\"\",ASISTENCIA!#REF!)","v":{"$error":"#REF!"}},null,{"$f":"ASISTENCIA!#REF!","v":{"$error":"#REF!"}},null,{"$f":"ASISTENCIA!#REF!","v":{"$error":"#REF!"}},{"$f":"ASISTENCIA!#REF!","v":{"$error":"#REF!"}},{"$f":"ASISTENCIA!#REF!","v":{"$error":"#REF!"}},null,{"$f":"ASISTENCIA!#REF!","v":{"$error":"#REF!"}},null,{"$f":"ASISTENCIA!#REF!","v":{"$error":"#REF!"}},null,{"$f":"ASISTENCIA!#REF!","v":{"$error":"#REF!"}},null,null,null,null,null,null,null,null,null,null,null,null,null,null,null,null,""]
[{"$f":"IF(+ASISTENCIA!#REF!=\"\",\"\",ASISTENCIA!#REF!)","v":{"$error":"#REF!"}},null,null,{"$f":"IF(+ASISTENCIA!#REF!=\"\",\"\",ASISTENCIA!#REF!)","v":{"$error":"#REF!"}},{"$f":"IF(+ASISTENCIA!#REF!=\"\",\"\",ASISTENCIA!#REF!)","v":{"$error":"#REF!"}},{"$f":"IF(+ASISTENCIA!#REF!=\"\",\"\",ASISTENCIA!#REF!)","v":{"$error":"#REF!"}},{"$f":"IF(+ASISTENCIA!#REF!=\"\",\"\",ASISTENCIA!#REF!)","v":{"$error":"#REF!"}},{"$f":"IF(+ASISTENCIA!#REF!=\"\",\"\",ASISTENCIA!#REF!)","v":{"$error":"#REF!"}},null,{"$f":"ASISTENCIA!#REF!","v":{"$error":"#REF!"}},null,{"$f":"ASISTENCIA!#REF!","v":{"$error":"#REF!"}},{"$f":"ASISTENCIA!#REF!","v":{"$error":"#REF!"}},{"$f":"ASISTENCIA!#REF!","v":{"$error":"#REF!"}},null,{"$f":"ASISTENCIA!#REF!","v":{"$error":"#REF!"}},null,{"$f":"ASISTENCIA!#REF!","v":{"$error":"#REF!"}},null,{"$f":"ASISTENCIA!#REF!","v":{"$error":"#REF!"}},null,null,null,null,null,null,null,null,null,null,null,null,null,null,null,null,""]
[{"$f":"IF(+ASISTENCIA!#REF!=\"\",\"\",ASISTENCIA!#REF!)","v":{"$error":"#REF!"}},null,null,{"$f":"IF(+ASISTENCIA!#REF!=\"\",\"\",ASISTENCIA!#REF!)","v":{"$error":"#REF!"}},{"$f":"IF(+ASISTENCIA!#REF!=\"\",\"\",ASISTENCIA!#REF!)","v":{"$error":"#REF!"}},{"$f":"IF(+ASISTENCIA!#REF!=\"\",\"\",ASISTENCIA!#REF!)","v":{"$error":"#REF!"}},{"$f":"IF(+ASISTENCIA!#REF!=\"\",\"\",ASISTENCIA!#REF!)","v":{"$error":"#REF!"}},{"$f":"IF(+ASISTENCIA!#REF!=\"\",\"\",ASISTENCIA!#REF!)","v":{"$error":"#REF!"}},null,{"$f":"ASISTENCIA!#REF!","v":{"$error":"#REF!"}},null,{"$f":"ASISTENCIA!#REF!","v":{"$error":"#REF!"}},{"$f":"ASISTENCIA!#REF!","v":{"$error":"#REF!"}},{"$f":"ASISTENCIA!#REF!","v":{"$error":"#REF!"}},null,{"$f":"ASISTENCIA!#REF!","v":{"$error":"#REF!"}},null,{"$f":"ASISTENCIA!#REF!","v":{"$error":"#REF!"}},null,{"$f":"ASISTENCIA!#REF!","v":{"$error":"#REF!"}},null,null,null,null,null,null,null,null,null,null,null,null,null,null,null,null,""]
[{"$f":"IF(+ASISTENCIA!#REF!=\"\",\"\",ASISTENCIA!#REF!)","v":{"$error":"#REF!"}},null,null,{"$f":"IF(+ASISTENCIA!#REF!=\"\",\"\",ASISTENCIA!#REF!)","v":{"$error":"#REF!"}},{"$f":"IF(+ASISTENCIA!#REF!=\"\",\"\",ASISTENCIA!#REF!)","v":{"$error":"#REF!"}},{"$f":"IF(+ASISTENCIA!#REF!=\"\",\"\",ASISTENCIA!#REF!)","v":{"$error":"#REF!"}},{"$f":"IF(+ASISTENCIA!#REF!=\"\",\"\",ASISTENCIA!#REF!)","v":{"$error":"#REF!"}},{"$f":"IF(+ASISTENCIA!#REF!=\"\",\"\",ASISTENCIA!#REF!)","v":{"$error":"#REF!"}},null,{"$f":"ASISTENCIA!#REF!","v":{"$error":"#REF!"}},null,{"$f":"ASISTENCIA!#REF!","v":{"$error":"#REF!"}},{"$f":"ASISTENCIA!#REF!","v":{"$error":"#REF!"}},{"$f":"ASISTENCIA!#REF!","v":{"$error":"#REF!"}},null,{"$f":"ASISTENCIA!#REF!","v":{"$error":"#REF!"}},null,{"$f":"ASISTENCIA!#REF!","v":{"$error":"#REF!"}},null,{"$f":"ASISTENCIA!#REF!","v":{"$error":"#REF!"}},null,null,null,null,null,null,null,null,null,null,null,null,null,null,null,null,""]
[{"$f":"IF(+ASISTENCIA!#REF!=\"\",\"\",ASISTENCIA!#REF!)","v":{"$error":"#REF!"}},null,null,{"$f":"IF(+ASISTENCIA!#REF!=\"\",\"\",ASISTENCIA!#REF!)","v":{"$error":"#REF!"}},{"$f":"IF(+ASISTENCIA!#REF!=\"\",\"\",ASISTENCIA!#REF!)","v":{"$error":"#REF!"}},{"$f":"IF(+ASISTENCIA!#REF!=\"\",\"\",ASISTENCIA!#REF!)","v":{"$error":"#REF!"}},{"$f":"IF(+ASISTENCIA!#REF!=\"\",\"\",ASISTENCIA!#REF!)","v":{"$error":"#REF!"}},{"$f":"IF(+ASISTENCIA!#REF!=\"\",\"\",ASISTENCIA!#REF!)","v":{"$error":"#REF!"}},null,{"$f":"ASISTENCIA!#REF!","v":{"$error":"#REF!"}},null,{"$f":"ASISTENCIA!#REF!","v":{"$error":"#REF!"}},{"$f":"ASISTENCIA!#REF!","v":{"$error":"#REF!"}},{"$f":"ASISTENCIA!#REF!","v":{"$error":"#REF!"}},null,{"$f":"ASISTENCIA!#REF!","v":{"$error":"#REF!"}},null,{"$f":"ASISTENCIA!#REF!","v":{"$error":"#REF!"}},null,{"$f":"ASISTENCIA!#REF!","v":{"$error":"#REF!"}},null,null,null,null,null,null,null,null,null,null,null,null,null,null,null,null,""]
[{"$f":"IF(+ASISTENCIA!#REF!=\"\",\"\",ASISTENCIA!#REF!)","v":{"$error":"#REF!"}},null,null,{"$f":"IF(+ASISTENCIA!#REF!=\"\",\"\",ASISTENCIA!#REF!)","v":{"$error":"#REF!"}},{"$f":"IF(+ASISTENCIA!#REF!=\"\",\"\",ASISTENCIA!#REF!)","v":{"$error":"#REF!"}},{"$f":"IF(+ASISTENCIA!#REF!=\"\",\"\",ASISTENCIA!#REF!)","v":{"$error":"#REF!"}},{"$f":"IF(+ASISTENCIA!#REF!=\"\",\"\",ASISTENCIA!#REF!)","v":{"$error":"#REF!"}},{"$f":"IF(+ASISTENCIA!#REF!=\"\",\"\",ASISTENCIA!#REF!)","v":{"$error":"#REF!"}},null,{"$f":"ASISTENCIA!#REF!","v":{"$error":"#REF!"}},null,{"$f":"ASISTENCIA!#REF!","v":{"$error":"#REF!"}},{"$f":"ASISTENCIA!#REF!","v":{"$error":"#REF!"}},{"$f":"ASISTENCIA!#REF!","v":{"$error":"#REF!"}},null,{"$f":"ASISTENCIA!#REF!","v":{"$error":"#REF!"}},null,{"$f":"ASISTENCIA!#REF!","v":{"$error":"#REF!"}},null,{"$f":"ASISTENCIA!#REF!","v":{"$error":"#REF!"}},null,null,null,null,null,null,null,null,null,null,null,null,null,null,null,null,""]
[{"$f":"IF(+ASISTENCIA!#REF!=\"\",\"\",ASISTENCIA!#REF!)","v":{"$error":"#REF!"}},null,null,{"$f":"IF(+ASISTENCIA!#REF!=\"\",\"\",ASISTENCIA!#REF!)","v":{"$error":"#REF!"}},{"$f":"IF(+ASISTENCIA!#REF!=\"\",\"\",ASISTENCIA!#REF!)","v":{"$error":"#REF!"}},{"$f":"IF(+ASISTENCIA!#REF!=\"\",\"\",ASISTENCIA!#REF!)","v":{"$error":"#REF!"}},{"$f":"IF(+ASISTENCIA!#REF!=\"\",\"\",ASISTENCIA!#REF!)","v":{"$error":"#REF!"}},{"$f":"IF(+ASISTENCIA!#REF!=\"\",\"\",ASISTENCIA!#REF!)","v":{"$error":"#REF!"}},null,{"$f":"ASISTENCIA!#REF!","v":{"$error":"#REF!"}},null,{"$f":"ASISTENCIA!#REF!","v":{"$error":"#REF!"}},{"$f":"ASISTENCIA!#REF!","v":{"$error":"#REF!"}},{"$f":"ASISTENCIA!#REF!","v":{"$error":"#REF!"}},null,{"$f":"ASISTENCIA!#REF!","v":{"$error":"#REF!"}},null,{"$f":"ASISTENCIA!#REF!","v":{"$error":"#REF!"}},null,{"$f":"ASISTENCIA!#REF!","v":{"$error":"#REF!"}},null,null,null,null,null,null,null,null,null,null,null,null,null,null,null,null,""]
[{"$f":"IF(+ASISTENCIA!#REF!=\"\",\"\",ASISTENCIA!#REF!)","v":{"$error":"#REF!"}},null,null,{"$f":"IF(+ASISTENCIA!#REF!=\"\",\"\",ASISTENCIA!#REF!)","v":{"$error":"#REF!"}},{"$f":"IF(+ASISTENCIA!#REF!=\"\",\"\",ASISTENCIA!#REF!)","v":{"$error":"#REF!"}},{"$f":"IF(+ASISTENCIA!#REF!=\"\",\"\",ASISTENCIA!#REF!)","v":{"$error":"#REF!"}},{"$f":"IF(+ASISTENCIA!#REF!=\"\",\"\",ASISTENCIA!#REF!)","v":{"$error":"#REF!"}},{"$f":"IF(+ASISTENCIA!#REF!=\"\",\"\",ASISTENCIA!#REF!)","v":{"$error":"#REF!"}},null,{"$f":"ASISTENCIA!#REF!","v":{"$error":"#REF!"}},null,{"$f":"ASISTENCIA!#REF!","v":{"$error":"#REF!"}},{"$f":"ASISTENCIA!#REF!","v":{"$error":"#REF!"}},{"$f":"ASISTENCIA!#REF!","v":{"$error":"#REF!"}},null,{"$f":"ASISTENCIA!#REF!","v":{"$error":"#REF!"}},null,{"$f":"ASISTENCIA!#REF!","v":{"$error":"#REF!"}},null,{"$f":"ASISTENCIA!#REF!","v":{"$error":"#REF!"}},null,null,null,null,null,null,null,null,null,null,null,null,null,null,null,null,""]
[{"$f":"IF(+ASISTENCIA!#REF!=\"\",\"\",ASISTENCIA!#REF!)","v":{"$error":"#REF!"}},null,null,{"$f":"IF(+ASISTENCIA!#REF!=\"\",\"\",ASISTENCIA!#REF!)","v":{"$error":"#REF!"}},{"$f":"IF(+ASISTENCIA!#REF!=\"\",\"\",ASISTENCIA!#REF!)","v":{"$error":"#REF!"}},{"$f":"IF(+ASISTENCIA!#REF!=\"\",\"\",ASISTENCIA!#REF!)","v":{"$error":"#REF!"}},{"$f":"IF(+ASISTENCIA!#REF!=\"\",\"\",ASISTENCIA!#REF!)","v":{"$error":"#REF!"}},{"$f":"IF(+ASISTENCIA!#REF!=\"\",\"\",ASISTENCIA!#REF!)","v":{"$error":"#REF!"}},null,{"$f":"ASISTENCIA!#REF!","v":{"$error":"#REF!"}},null,{"$f":"ASISTENCIA!#REF!","v":{"$error":"#REF!"}},{"$f":"ASISTENCIA!#REF!","v":{"$error":"#REF!"}},{"$f":"ASISTENCIA!#REF!","v":{"$error":"#REF!"}},null,{"$f":"ASISTENCIA!#REF!","v":{"$error":"#REF!"}},null,{"$f":"ASISTENCIA!#REF!","v":{"$error":"#REF!"}},null,{"$f":"ASISTENCIA!#REF!","v":{"$error":"#REF!"}},null,null,null,null,null,null,null,null,null,null,null,null,null,null,null,null,""]
[{"$f":"IF(+ASISTENCIA!#REF!=\"\",\"\",ASISTENCIA!#REF!)","v":{"$error":"#REF!"}},null,null,{"$f":"IF(+ASISTENCIA!#REF!=\"\",\"\",ASISTENCIA!#REF!)","v":{"$error":"#REF!"}},{"$f":"IF(+ASISTENCIA!#REF!=\"\",\"\",ASISTENCIA!#REF!)","v":{"$error":"#REF!"}},{"$f":"IF(+ASISTENCIA!#REF!=\"\",\"\",ASISTENCIA!#REF!)","v":{"$error":"#REF!"}},{"$f":"IF(+ASISTENCIA!#REF!=\"\",\"\",ASISTENCIA!#REF!)","v":{"$error":"#REF!"}},{"$f":"IF(+ASISTENCIA!#REF!=\"\",\"\",ASISTENCIA!#REF!)","v":{"$error":"#REF!"}},null,{"$f":"ASISTENCIA!#REF!","v":{"$error":"#REF!"}},null,{"$f":"ASISTENCIA!#REF!","v":{"$error":"#REF!"}},{"$f":"ASISTENCIA!#REF!","v":{"$error":"#REF!"}},{"$f":"ASISTENCIA!#REF!","v":{"$error":"#REF!"}},null,{"$f":"ASISTENCIA!#REF!","v":{"$error":"#REF!"}},null,{"$f":"ASISTENCIA!#REF!","v":{"$error":"#REF!"}},null,{"$f":"ASISTENCIA!#REF!","v":{"$error":"#REF!"}},null,null,null,null,null,null,null,null,null,null,null,null,null,null,null,null,""]
[{"$f":"IF(+ASISTENCIA!#REF!=\"\",\"\",ASISTENCIA!#REF!)","v":{"$error":"#REF!"}},{"$f":"IF(LEN(C130)>0,VLOOKUP($F$6,DATA!$A:$S,2,FALSE),\"\")","v":{"$error":"#REF!"}},{"$f":"IF(LEN(E130)>0,$G$5,\"\")","v":{"$error":"#REF!"}},{"$f":"IF(+ASISTENCIA!#REF!=\"\",\"\",ASISTENCIA!#REF!)","v":{"$error":"#REF!"}},{"$f":"IF(+ASISTENCIA!#REF!=\"\",\"\",ASISTENCIA!#REF!)","v":{"$error":"#REF!"}},{"$f":"IF(+ASISTENCIA!#REF!=\"\",\"\",ASISTENCIA!#REF!)","v":{"$error":"#REF!"}},{"$f":"IF(+ASISTENCIA!#REF!=\"\",\"\",ASISTENCIA!#REF!)","v":{"$error":"#REF!"}},{"$f":"IF(+ASISTENCIA!#REF!=\"\",\"\",ASISTENCIA!#REF!)","v":{"$error":"#REF!"}},null,{"$f":"ASISTENCIA!#REF!","v":{"$error":"#REF!"}},null,{"$f":"ASISTENCIA!#REF!","v":{"$error":"#REF!"}},{"$f":"ASISTENCIA!#REF!","v":{"$error":"#REF!"}},{"$f":"ASISTENCIA!#REF!","v":{"$error":"#REF!"}},null,{"$f":"ASISTENCIA!#REF!","v":{"$error":"#REF!"}},null,{"$f":"ASISTENCIA!#REF!","v":{"$error":"#REF!"}},null,{"$f":"ASISTENCIA!#REF!","v":{"$error":"#REF!"}},null,null,null,null,null,null,null,null,null,null,null,null,null,null,null,null,""]
["(*)Hora y minuto cronológico."]
["(**)Solo considerar las inasistencias que no han sido justificadas."]
[null,null,null,null,null,null,null,null,null,null,null,null,null,null,null,null,null,null,null,null,null,null,null,null,null,null,null,null,null,null,null,null,null,null,null,null,null,"NOMBRADO (A)"]
[null,null,null,null,null,null,null,null,null,null,null,null,null,null,null,null,null,null,null,null,null,null,null,null,null,null,null,null,null,null,null,null,null,null,null,null,null,"CONTRATADO (A)"]
[null,null,null,null,null,null,null,null,null,null,null,null,null,null,null,null,null,null,null,null,null,null,null,null,null,null,null,null,null,null,null,null,null,null,null,null,null,"DESTACADO (A)"]

{"sheet":"Norma","index":3,"n_rows":0,"n_cols":0,"rows_kept":0,"cut":false,"hidden":false,"merged":[]}

{"sheet":"HORAS EFECTIVAS","index":4,"n_rows":54,"n_cols":81,"rows_kept":54,"cut":false,"hidden":true,"merged":[[7,61,7,62],[52,68,52,77],[53,68,53,77],[7,26,7,27],[10,2,11,2],[52,33,52,42],[53,33,53,42],[9,11,12,11],[9,12,12,12],[9,13,12,13]]}
[null,null,null,null,null,null,null,null,null,null,null,null,"FORMATO 02"]
[null,null,null,null,"INFORME DE HORAS EFECTIVAS DE TRABAJO PEDAGÓGICO EN LAS INSTITUCIONES EDUCATIVAS PÚBLICAS"]
[null,null,null,null,null,null,null,"UNIDAD DE GESTIÓN EDUCATIVA LOCAL  HUANTA"]
[null,null,null,null,{"$f":"ASISTENCIA!#REF!","v":{"$error":"#REF!"}},null,null,null,null,null,null,null,null,null,{"$f":"ASISTENCIA!$F$6","v":"IEI N°742 HUARIQUISANA"},null,null,null,null,null,null,null,null,null,null,null,null,null,null,null,null,null,null,null,null,null,null,null,null,null,null,null,null,null,null,null,null,null,null,{"$f":"ASISTENCIA!$F$6","v":"IEI N°742 HUARIQUISANA"}]
[]
["LUGAR/DIREC.",null,null,{"$f":"CONCATENATE(VLOOKUP($O$4,DATA!$A$1:$S$1,6,FALSE))","v":{"$error":"#N/A"}},null,null,null,null,null,null,null,null,null,null,null,"REG/PROV/DIST.",null,null,null,null,null,null,null,{"$f":"VLOOKUP($O$4,DATA!$A$1:$S$1,9,FALSE)","v":{"$error":"#N/A"}},null,null,null,null,null,null,null,null,null,null,null,null,null,null,null,null,null,null,null,null,null,null,null,null,null,null,"REG/PROV/DIST.",null,null,null,null,null,null,null,{"$f":"VLOOKUP($O$4,DATA!$A$1:$S$1,9,FALSE)","v":{"$error":"#N/A"}}]
[]
[null,null,null,"NIVEL EDUCATIVO:",{"$f":"VLOOKUP($O$4,DATA!$A$1:$S$1,4,FALSE)","v":{"$error":"#N/A"}},null,null,null,null,null,"MODALIDAD:",null,null,{"$f":"ASISTENCIA!$F$8","v":"1556588"},null,null,null,null,null,null,null,null,null,null,"AÑO:",null,{"$f":"ASISTENCIA!S5","v":2024},null,null,null,null,null,"MES:",null,null,{"$f":"ASISTENCIA!G5","v":"AGOSTO"},null,null,null,null,null,null,null,null,null,null,null,null,null,null,null,null,null,null,null,null,null,null,null,"AÑO:",null,{"$f":"ASISTENCIA!S5","v":2024},null,null,null,null,null,"MES:",null,null,{"$f":"AJ8","v":"AGOSTO"}]
[]
[null,"COD.",null,null,null,"Matriz Horas",null,null,null,null,"JOR","EDAD A CARGO","SECCIÓN","HORAS PROGRAM. EN EL MES",null,null,null,null,"HORAS EFECTIVAS DE TRABAJO ESCOLAR - MES",null,null,null,null,null,null,null,null,null,null,null,null,null,null,null,null,null,null,null,null,null,null,null,null,null,null,"TOTAL DE ",null,null,null,null,null,null,null,"HORAS EFECTIVAS DE TRABAJO ESCOLAR - MES",null,null,null,null,null,null,null,null,null,null,null,null,null,null,null,null,null,null,null,null,null,null,null,null,null,null,"TOTAL DE "]
["N°","MOD.","MES","APELLIDOS Y NOMRES","DNI","     Semanal",null,null,null,null,"NADA",null,null,null,null,null,null,null,null,"DIAS EFECTIVAS DE TRABAJO ESCOLAR",null,null,null,null,null,null,null,null,null,null,null,null,null,null,null,null,null,null,null,null,null,null,null,null,null,"HORAS ",null,null,null,null,null,null,null,null,"DIAS EFECTIVAS DE TRABAJO ESCOLAR",null,null,null,null,null,null,null,null,null,null,null,null,null,null,null,null,null,null,null,null,null,null,null,null,null,"HORAS "]
[null,null,null,null,null,null,null,null,null,null,"LABO",null,null,null,1,2,3,4,5,6,7,8,9,10,11,12,13,14,15,16,17,18,19,20,21,22,23,24,25,26,27,28,29,30,31,"EFECTIVAS ",null,null,null,1,2,3,4,5,6,7,8,9,10,11,12,13,14,15,16,17,18,19,20,21,22,23,24,25,26,27,28,29,30,31,"EFECTIVAS "]
[null,null,null,null,null,"lu.","ma.","mi.","ju.","vi.","RAL",null,null,null,{"$f":"ASISTENCIA!I$12","v":"ju."},{"$f":"ASISTENCIA!J$12","v":"vi."},{"$f":"ASISTENCIA!K$12","v":"sá."},{"$f":"ASISTENCIA!L$12","v":"do."},{"$f":"ASISTENCIA!M$12","v":"lu."},{"$f":"ASISTENCIA!N$12","v":"ma."},{"$f":"ASISTENCIA!O$12","v":"mi."},{"$f":"ASISTENCIA!P$12","v":"ju."},{"$f":"ASISTENCIA!Q$12","v":"vi."},{"$f":"ASISTENCIA!R$12","v":"sá."},{"$f":"ASISTENCIA!S$12","v":"do."},{"$f":"ASISTENCIA!T$12","v":"lu."},{"$f":"ASISTENCIA!U$12","v":"ma."},{"$f":"ASISTENCIA!V$12","v":"mi."},{"$f":"ASISTENCIA!W$12","v":"ju."},{"$f":"ASISTENCIA!X$12","v":"vi."},{"$f":"ASISTENCIA!Y$12","v":"sá."},{"$f":"ASISTENCIA!Z$12","v":"do."},{"$f":"ASISTENCIA!AA$12","v":"lu."},{"$f":"ASISTENCIA!AB$12","v":"ma."},{"$f":"ASISTENCIA!AC$12","v":"mi."},{"$f":"ASISTENCIA!AD$12","v":"ju."},{"$f":"ASISTENCIA!AE$12","v":"vi."},{"$f":"ASISTENCIA!AF$12","v":"sá."},{"$f":"ASISTENCIA!AG$12","v":"do."},{"$f":"ASISTENCIA!AH$12","v":"lu."},{"$f":"ASISTENCIA!AI$12","v":"ma."},{"$f":"ASISTENCIA!AJ$12","v":"mi."},{"$f":"ASISTENCIA!AK$12","v":"ju."},{"$f":"ASISTENCIA!AL$12","v":"vi."},{"$f":"ASISTENCIA!AM$12","v":"sá."},"MENSUAL ",null,null,null,{"$f":"ASISTENCIA!I$12","v":"ju."},{"$f":"ASISTENCIA!J$12","v":"vi."},{"$f":"ASISTENCIA!K$12","v":"sá."},{"$f":"ASISTENCIA!L$12","v":"do."},{"$f":"ASISTENCIA!M$12","v":"lu."},{"$f":"ASISTENCIA!N$12","v":"ma."},{"$f":"ASISTENCIA!O$12","v":"mi."},{"$f":"ASISTENCIA!P$12","v":"ju."},{"$f":"ASISTENCIA!Q$12","v":"vi."},{"$f":"ASISTENCIA!R$12","v":"sá."},{"$f":"ASISTENCIA!S$12","v":"do."},{"$f":"ASISTENCIA!T$12","v":"lu."},{"$f":"ASISTENCIA!U$12","v":"ma."},{"$f":"ASISTENCIA!V$12","v":"mi."},{"$f":"ASISTENCIA!W$12","v":"ju."},{"$f":"ASISTENCIA!X$12","v":"vi."},{"$f":"ASISTENCIA!Y$12","v":"sá."},{"$f":"ASISTENCIA!Z$12","v":"do."},{"$f":"ASISTENCIA!AA$12","v":"lu."},{"$f":"ASISTENCIA!AB$12","v":"ma."},{"$f":"ASISTENCIA!AC$12","v":"mi."},{"$f":"ASISTENCIA!AD$12","v":"ju."},{"$f":"ASISTENCIA!AE$12","v":"vi."},{"$f":"ASISTENCIA!AF$12","v":"sá."},{"$f":"ASISTENCIA!AG$12","v":"do."},{"$f":"ASISTENCIA!AH$12","v":"lu."},{"$f":"ASISTENCIA!AI$12","v":"ma."},{"$f":"ASISTENCIA!AJ$12","v":"mi."},{"$f":"ASISTENCIA!AK$12","v":"ju."},{"$f":"ASISTENCIA!AL$12","v":"vi."},{"$f":"ASISTENCIA!AM$12","v":"sá."},"MENSUAL "]
[null,{"$f":"IF(LEN(C14)>0,VLOOKUP($O$4,DATA!$A$1:$S$1,2,FALSE),\"\")","v":{"$error":"#REF!"}},{"$f":"IF(LEN(D14)>0,$AJ$8,\"\")","v":{"$error":"#REF!"}},{"$f":"IF(LEN(ASISTENCIA!#REF!)>0,ASISTENCIA!#REF!,\"\")","v":{"$error":"#REF!"}},{"$f":"IF(LEN(D14)>0,ASISTENCIA!#REF!,\"\")","v":{"$error":"#REF!"}},null,null,null,null,null,{"$f":"IF(SUM(F14:J14)>0,SUM(F14:J14),\"\")","v":""},null,null,{"$f":"CC14","v":{"$error":"#REF!"}},{"$f":"IF(AND(LEN($D14)>0,SUMIF($F$13:$J$13,O$13,$F14:$J14)>0,ASISTENCIA!#REF!<>\"X\",ASISTENCIA!#REF!<>\"L\",ASISTENCIA!#REF!<>\"J\",ASISTENCIA!#REF!<>\"V\",ASISTENCIA!#REF!<>\"F\",ASISTENCIA!#REF!<>\"\"),SUMIF($F$13:$J$13,O$13,$F14:$J14),\"\")","v":{"$error":"#REF!"}},{"$f":"IF(AND(LEN($D14)>0,SUMIF($F$13:$J$13,P$13,$F14:$J14)>0,ASISTENCIA!#REF!<>\"X\",ASISTENCIA!#REF!<>\"L\",ASISTENCIA!#REF!<>\"J\",ASISTENCIA!#REF!<>\"V\",ASISTENCIA!#REF!<>\"F\",ASISTENCIA!#REF!<>\"\"),SUMIF($F$13:$J$13,P$13,$F14:$J14),\"\")","v":{"$error":"#REF!"}},{"$f":"IF(AND(LEN($D14)>0,SUMIF($F$13:$J$13,Q$13,$F14:$J14)>0,ASISTENCIA!#REF!<>\"X\",ASISTENCIA!#REF!<>\"L\",ASISTENCIA!#REF!<>\"J\",ASISTENCIA!#REF!<>\"V\",ASISTENCIA!#REF!<>\"F\",ASISTENCIA!#REF!<>\"\"),SUMIF($F$13:$J$13,Q$13,$F14:$J14),\"\")","v":{"$error":"#REF!"}},{"$f":"IF(AND(LEN($D14)>0,SUMIF($F$13:$J$13,R$13,$F14:$J14)>0,ASISTENCIA!#REF!<>\"X\",ASISTENCIA!#REF!<>\"L\",ASISTENCIA!#REF!<>\"J\",ASISTENCIA!#REF!<>\"V\",ASISTENCIA!#REF!<>\"F\",ASISTENCIA!#REF!<>\"\"),SUMIF($F$13:$J$13,R$13,$F14:$J14),\"\")","v":{"$error":"#REF!"}},{"$f":"IF(AND(LEN($D14)>0,SUMIF($F$13:$J$13,S$13,$F14:$J14)>0,ASISTENCIA!#REF!<>\"X\",ASISTENCIA!#REF!<>\"L\",ASISTENCIA!#REF!<>\"J\",ASISTENCIA!#REF!<>\"V\",ASISTENCIA!#REF!<>\"F\",ASISTENCIA!#REF!<>\"\"),SUMIF($F$13:$J$13,S$13,$F14:$J14),\"\")","v":{"$error":"#REF!"}},{"$f":"IF(AND(LEN($D14)>0,SUMIF($F$13:$J$13,T$13,$F14:$J14)>0,ASISTENCIA!#REF!<>\"X\",ASISTENCIA!#REF!<>\"L\",ASISTENCIA!#REF!<>\"J\",ASISTENCIA!#REF!<>\"V\",ASISTENCIA!#REF!<>\"F\",ASISTENCIA!#REF!<>\"\"),SUMIF($F$13:$J$13,T$13,$F14:$J14),\"\")","v":{"$error":"#REF!"}},{"$f":"IF(AND(LEN($D14)>0,SUMIF($F$13:$J$13,U$13,$F14:$J14)>0,ASISTENCIA!#REF!<>\"X\",ASISTENCIA!#REF!<>\"L\",ASISTENCIA!#REF!<>\"J\",ASISTENCIA!#REF!<>\"V\",ASISTENCIA!#REF!<>\"F\",ASISTENCIA!#REF!<>\"\"),SUMIF($F$13:$J$13,U$13,$F14:$J14),\"\")","v":{"$error":"#REF!"}},{"$f":"IF(AND(LEN($D14)>0,SUMIF($F$13:$J$13,V$13,$F14:$J14)>0,ASISTENCIA!#REF!<>\"X\",ASISTENCIA!#REF!<>\"L\",ASISTENCIA!#REF!<>\"J\",ASISTENCIA!#REF!<>\"V\",ASISTENCIA!#REF!<>\"F\",ASISTENCIA!#REF!<>\"\"),SUMIF($F$13:$J$13,V$13,$F14:$J14),\"\")","v":{"$error":"#REF!"}},{"$f":"IF(AND(LEN($D14)>0,SUMIF($F$13:$J$13,W$13,$F14:$J14)>0,ASISTENCIA!#REF!<>\"X\",ASISTENCIA!#REF!<>\"L\",ASISTENCIA!#REF!<>\"J\",ASISTENCIA!#REF!<>\"V\",ASISTENCIA!#REF!<>\"F\",ASISTENCIA!#REF!<>\"\"),SUMIF($F$13:$J$13,W$13,$F14:$J14),\"\")","v":{"$error":"#REF!"}},{"$f":"IF(AND(LEN($D14)>0,SUMIF($F$13:$J$13,X$13,$F14:$J14)>0,ASISTENCIA!#REF!<>\"X\",ASISTENCIA!#REF!<>\"L\",ASISTENCIA!#REF!<>\"J\",ASISTENCIA!#REF!<>\"V\",ASISTENCIA!#REF!<>\"F\",ASISTENCIA!#REF!<>\"\"),SUMIF($F$13:$J$13,X$13,$F14:$J14),\"\")","v":{"$error":"#REF!"}},{"$f":"IF(AND(LEN($D14)>0,SUMIF($F$13:$J$13,Y$13,$F14:$J14)>0,ASISTENCIA!#REF!<>\"X\",ASISTENCIA!#REF!<>\"L\",ASISTENCIA!#REF!<>\"J\",ASISTENCIA!#REF!<>\"V\",ASISTENCIA!#REF!<>\"F\",ASISTENCIA!#REF!<>\"\"),SUMIF($F$13:$J$13,Y$13,$F14:$J14),\"\")","v":{"$error":"#REF!"}},{"$f":"IF(AND(LEN($D14)>0,SUMIF($F$13:$J$13,Z$13,$F14:$J14)>0,ASISTENCIA!#REF!<>\"X\",ASISTENCIA!#REF!<>\"L\",ASISTENCIA!#REF!<>\"J\",ASISTENCIA!#REF!<>\"V\",ASISTENCIA!#REF!<>\"F\",ASISTENCIA!#REF!<>\"\"),SUMIF($F$13:$J$13,Z$13,$F14:$J14),\"\")","v":{"$error":"#REF!"}},{"$f":"IF(AND(LEN($D14)>0,SUMIF($F$13:$J$13,AA$13,$F14:$J14)>0,ASISTENCIA!#REF!<>\"X\",ASISTENCIA!#REF!<>\"L\",ASISTENCIA!#REF!<>\"J\",ASISTENCIA!#REF!<>\"V\",ASISTENCIA!#REF!<>\"F\",ASISTENCIA!#REF!<>\"\"),SUMIF($F$13:$J$13,AA$13,$F14:$J14),\"\")","v":{"$error":"#REF!"}},{"$f":"IF(AND(LEN($D14)>0,SUMIF($F$13:$J$13,AB$13,$F14:$J14)>0,ASISTENCIA!#REF!<>\"X\",ASISTENCIA!#REF!<>\"L\",ASISTENCIA!#REF!<>\"J\",ASISTENCIA!#REF!<>\"V\",ASISTENCIA!#REF!<>\"F\",ASISTENCIA!#REF!<>\"\"),SUMIF($F$13:$J$13,AB$13,$F14:$J14),\"\")","v":{"$error":"#REF!"}},{"$f":"IF(AND(LEN($D14)>0,SUMIF($F$13:$J$13,AC$13,$F14:$J14)>0,ASISTENCIA!#REF!<>\"X\",ASISTENCIA!#REF!<>\"L\",ASISTENCIA!#REF!<>\"J\",ASISTENCIA!#REF!<>\"V\",ASISTENCIA!#REF!<>\"F\",ASISTENCIA!#REF!<>\"\"),SUMIF($F$13:$J$13,AC$13,$F14:$J14),\"\")","v":{"$error":"#REF!"}},{"$f":"IF(AND(LEN($D14)>0,SUMIF($F$13:$J$13,AD$13,$F14:$J14)>0,ASISTENCIA!#REF!<>\"X\",ASISTENCIA!#REF!<>\"L\",ASISTENCIA!#REF!<>\"J\",ASISTENCIA!#REF!<>\"V\",ASISTENCIA!#REF!<>\"F\",ASISTENCIA!#REF!<>\"\"),SUMIF($F$13:$J$13,AD$13,$F14:$J14),\"\")","v":{"$error":"#REF!"}},{"$f":"IF(AND(LEN($D14)>0,SUMIF($F$13:$J$13,AE$13,$F14:$J14)>0,ASISTENCIA!#REF!<>\"X\",ASISTENCIA!#REF!<>\"L\",ASISTENCIA!#REF!<>\"J\",ASISTENCIA!#REF!<>\"V\",ASISTENCIA!#REF!<>\"F\",ASISTENCIA!#REF!<>\"\"),SUMIF($F$13:$J$13,AE$13,$F14:$J14),\"\")","v":{"$error":"#REF!"}},{"$f":"IF(AND(LEN($D14)>0,SUMIF($F$13:$J$13,AF$13,$F14:$J14)>0,ASISTENCIA!#REF!<>\"X\",ASISTENCIA!#REF!<>\"L\",ASISTENCIA!#REF!<>\"J\",ASISTENCIA!#REF!<>\"V\",ASISTENCIA!#REF!<>\"F\",ASISTENCIA!#REF!<>\"\"),SUMIF($F$13:$J$13,AF$13,$F14:$J14),\"\")","v":{"$error":"#REF!"}},{"$f":"IF(AND(LEN($D14)>0,SUMIF($F$13:$J$13,AG$13,$F14:$J14)>0,ASISTENCIA!#REF!<>\"X\",ASISTENCIA!#REF!<>\"L\",ASISTENCIA!#REF!<>\"J\",ASISTENCIA!#REF!<>\"V\",ASISTENCIA!#REF!<>\"F\",ASISTENCIA!#REF!<>\"\"),SUMIF($F$13:$J$13,AG$13,$F14:$J14),\"\")","v":{"$error":"#REF!"}},{"$f":"IF(AND(LEN($D14)>0,SUMIF($F$13:$J$13,AH$13,$F14:$J14)>0,ASISTENCIA!#REF!<>\"X\",ASISTENCIA!#REF!<>\"L\",ASISTENCIA!#REF!<>\"J\",ASISTENCIA!#REF!<>\"V\",ASISTENCIA!#REF!<>\"F\",ASISTENCIA!#REF!<>\"\"),SUMIF($F$13:$J$13,AH$13,$F14:$J14),\"\")","v":{"$error":"#REF!"}},{"$f":"IF(AND(LEN($D14)>0,SUMIF($F$13:$J$13,AI$13,$F14:$J14)>0,ASISTENCIA!#REF!<>\"X\",ASISTENCIA!#REF!<>\"L\",ASISTENCIA!#REF!<>\"J\",ASISTENCIA!#REF!<>\"V\",ASISTENCIA!#REF!<>\"F\",ASISTENCIA!#REF!<>\"\"),SUMIF($F$13:$J$13,AI$13,$F14:$J14),\"\")","v":{"$error":"#REF!"}},{"$f":"IF(AND(LEN($D14)>0,SUMIF($F$13:$J$13,AJ$13,$F14:$J14)>0,ASISTENCIA!#REF!<>\"X\",ASISTENCIA!#REF!<>\"L\",ASISTENCIA!#REF!<>\"J\",ASISTENCIA!#REF!<>\"V\",ASISTENCIA!#REF!<>\"F\",ASISTENCIA!#REF!<>\"\"),SUMIF($F$13:$J$13,AJ$13,$F14:$J14),\"\")","v":{"$error":"#REF!"}},{"$f":"IF(AND(LEN($D14)>0,SUMIF($F$13:$J$13,AK$13,$F14:$J14)>0,ASISTENCIA!#REF!<>\"X\",ASISTENCIA!#REF!<>\"L\",ASISTENCIA!#REF!<>\"J\",ASISTENCIA!#REF!<>\"V\",ASISTENCIA!#REF!<>\"F\",ASISTENCIA!#REF!<>\"\"),SUMIF($F$13:$J$13,AK$13,$F14:$J14),\"\")","v":{"$error":"#REF!"}},{"$f":"IF(AND(LEN($D14)>0,SUMIF($F$13:$J$13,AL$13,$F14:$J14)>0,ASISTENCIA!#REF!<>\"X\",ASISTENCIA!#REF!<>\"L\",ASISTENCIA!#REF!<>\"J\",ASISTENCIA!#REF!<>\"V\",ASISTENCIA!#REF!<>\"F\",ASISTENCIA!#REF!<>\"\"),SUMIF($F$13:$J$13,AL$13,$F14:$J14),\"\")","v":{"$error":"#REF!"}},{"$f":"IF(AND(LEN($D14)>0,SUMIF($F$13:$J$13,AM$13,$F14:$J14)>0,ASISTENCIA!#REF!<>\"X\",ASISTENCIA!#REF!<>\"L\",ASISTENCIA!#REF!<>\"J\",ASISTENCIA!#REF!<>\"V\",ASISTENCIA!#REF!<>\"F\",ASISTENCIA!#REF!<>\"\"),SUMIF($F$13:$J$13,AM$13,$F14:$J14),\"\")","v":{"$error":"#REF!"}},{"$f":"IF(AND(LEN($D14)>0,SUMIF($F$13:$J$13,AN$13,$F14:$J14)>0,ASISTENCIA!#REF!<>\"X\",ASISTENCIA!#REF!<>\"L\",ASISTENCIA!#REF!<>\"J\",ASISTENCIA!#REF!<>\"V\",ASISTENCIA!#REF!<>\"F\",ASISTENCIA!#REF!<>\"\"),SUMIF($F$13:$J$13,AN$13,$F14:$J14),\"\")","v":{"$error":"#REF!"}},{"$f":"IF(AND(LEN($D14)>0,SUMIF($F$13:$J$13,AO$13,$F14:$J14)>0,ASISTENCIA!#REF!<>\"X\",ASISTENCIA!#REF!<>\"L\",ASISTENCIA!#REF!<>\"J\",ASISTENCIA!#REF!<>\"V\",ASISTENCIA!#REF!<>\"F\",ASISTENCIA!#REF!<>\"\"),SUMIF($F$13:$J$13,AO$13,$F14:$J14),\"\")","v":{"$error":"#REF!"}},{"$f":"IF(AND(LEN($D14)>0,SUMIF($F$13:$J$13,AP$13,$F14:$J14)>0,ASISTENCIA!#REF!<>\"X\",ASISTENCIA!#REF!<>\"L\",ASISTENCIA!#REF!<>\"J\",ASISTENCIA!#REF!<>\"V\",ASISTENCIA!#REF!<>\"F\",ASISTENCIA!#REF!<>\"\"),SUMIF($F$13:$J$13,AP$13,$F14:$J14),\"\")","v":{"$error":"#REF!"}},{"$f":"IF(AND(LEN($D14)>0,SUMIF($F$13:$J$13,AQ$13,$F14:$J14)>0,ASISTENCIA!#REF!<>\"X\",ASISTENCIA!#REF!<>\"L\",ASISTENCIA!#REF!<>\"J\",ASISTENCIA!#REF!<>\"V\",ASISTENCIA!#REF!<>\"F\",ASISTENCIA!#REF!<>\"\"),SUMIF($F$13:$J$13,AQ$13,$F14:$J14),\"\")","v":{"$error":"#REF!"}},{"$f":"IF(AND(LEN($D14)>0,SUMIF($F$13:$J$13,AR$13,$F14:$J14)>0,ASISTENCIA!#REF!<>\"X\",ASISTENCIA!#REF!<>\"L\",ASISTENCIA!#REF!<>\"J\",ASISTENCIA!#REF!<>\"V\",ASISTENCIA!#REF!<>\"F\",ASISTENCIA!#REF!<>\"\"),SUMIF($F$13:$J$13,AR$13,$F14:$J14),\"\")","v":{"$error":"#REF!"}},{"$f":"IF(AND(LEN($D14)>0,SUMIF($F$13:$J$13,AS$13,$F14:$J14)>0,ASISTENCIA!#REF!<>\"X\",ASISTENCIA!#REF!<>\"L\",ASISTENCIA!#REF!<>\"J\",ASISTENCIA!#REF!<>\"V\",ASISTENCIA!#REF!<>\"F\",ASISTENCIA!#REF!<>\"\"),SUMIF($F$13:$J$13,AS$13,$F14:$J14),\"\")","v":{"$error":"#REF!"}},{"$f":"IF(SUM(O14:AS14)>0,SUM(O14:AS14),\"\")","v":{"$error":"#REF!"}},null,null,null,{"$f":"IF(AND(LEN($D14)>0,SUMIF($F$13:$J$13,AX$13,$F14:$J14)>0,ASISTENCIA!#REF!<>\"X\",ASISTENCIA!#REF!<>\"L\",ASISTENCIA!#REF!<>\"J\",ASISTENCIA!#REF!<>\"F\"),SUMIF($F$13:$J$13,AX$13,$F14:$J14),\"\")","v":{"$error":"#REF!"}},{"$f":"IF(AND(LEN($D14)>0,SUMIF($F$13:$J$13,AY$13,$F14:$J14)>0,ASISTENCIA!#REF!<>\"X\",ASISTENCIA!#REF!<>\"L\",ASISTENCIA!#REF!<>\"J\",ASISTENCIA!#REF!<>\"F\"),SUMIF($F$13:$J$13,AY$13,$F14:$J14),\"\")","v":{"$error":"#REF!"}},{"$f":"IF(AND(LEN($D14)>0,SUMIF($F$13:$J$13,AZ$13,$F14:$J14)>0,ASISTENCIA!#REF!<>\"X\",ASISTENCIA!#REF!<>\"L\",ASISTENCIA!#REF!<>\"J\",ASISTENCIA!#REF!<>\"F\"),SUMIF($F$13:$J$13,AZ$13,$F14:$J14),\"\")","v":{"$error":"#REF!"}},{"$f":"IF(AND(LEN($D14)>0,SUMIF($F$13:$J$13,BA$13,$F14:$J14)>0,ASISTENCIA!#REF!<>\"X\",ASISTENCIA!#REF!<>\"L\",ASISTENCIA!#REF!<>\"J\",ASISTENCIA!#REF!<>\"F\"),SUMIF($F$13:$J$13,BA$13,$F14:$J14),\"\")","v":{"$error":"#REF!"}},{"$f":"IF(AND(LEN($D14)>0,SUMIF($F$13:$J$13,BB$13,$F14:$J14)>0,ASISTENCIA!#REF!<>\"X\",ASISTENCIA!#REF!<>\"L\",ASISTENCIA!#REF!<>\"J\",ASISTENCIA!#REF!<>\"F\"),SUMIF($F$13:$J$13,BB$13,$F14:$J14),\"\")","v":{"$error":"#REF!"}},{"$f":"IF(AND(LEN($D14)>0,SUMIF($F$13:$J$13,BC$13,$F14:$J14)>0,ASISTENCIA!#REF!<>\"X\",ASISTENCIA!#REF!<>\"L\",ASISTENCIA!#REF!<>\"J\",ASISTENCIA!#REF!<>\"F\"),SUMIF($F$13:$J$13,BC$13,$F14:$J14),\"\")","v":{"$error":"#REF!"}},{"$f":"IF(AND(LEN($D14)>0,SUMIF($F$13:$J$13,BD$13,$F14:$J14)>0,ASISTENCIA!#REF!<>\"X\",ASISTENCIA!#REF!<>\"L\",ASISTENCIA!#REF!<>\"J\",ASISTENCIA!#REF!<>\"F\"),SUMIF($F$13:$J$13,BD$13,$F14:$J14),\"\")","v":{"$error":"#REF!"}},{"$f":"IF(AND(LEN($D14)>0,SUMIF($F$13:$J$13,BE$13,$F14:$J14)>0,ASISTENCIA!#REF!<>\"X\",ASISTENCIA!#REF!<>\"L\",ASISTENCIA!#REF!<>\"J\",ASISTENCIA!#REF!<>\"F\"),SUMIF($F$13:$J$13,BE$13,$F14:$J14),\"\")","v":{"$error":"#REF!"}},{"$f":"IF(AND(LEN($D14)>0,SUMIF($F$13:$J$13,BF$13,$F14:$J14)>0,ASISTENCIA!#REF!<>\"X\",ASISTENCIA!#REF!<>\"L\",ASISTENCIA!#REF!<>\"J\",ASISTENCIA!#REF!<>\"F\"),SUMIF($F$13:$J$13,BF$13,$F14:$J14),\"\")","v":{"$error":"#REF!"}},{"$f":"IF(AND(LEN($D14)>0,SUMIF($F$13:$J$13,BG$13,$F14:$J14)>0,ASISTENCIA!#REF!<>\"X\",ASISTENCIA!#REF!<>\"L\",ASISTENCIA!#REF!<>\"J\",ASISTENCIA!#REF!<>\"F\"),SUMIF($F$13:$J$13,BG$13,$F14:$J14),\"\")","v":{"$error":"#REF!"}},{"$f":"IF(AND(LEN($D14)>0,SUMIF($F$13:$J$13,BH$13,$F14:$J14)>0,ASISTENCIA!#REF!<>\"X\",ASISTENCIA!#REF!<>\"L\",ASISTENCIA!#REF!<>\"J\",ASISTENCIA!#REF!<>\"F\"),SUMIF($F$13:$J$13,BH$13,$F14:$J14),\"\")","v":{"$error":"#REF!"}},{"$f":"IF(AND(LEN($D14)>0,SUMIF($F$13:$J$13,BI$13,$F14:$J14)>0,ASISTENCIA!#REF!<>\"X\",ASISTENCIA!#REF!<>\"L\",ASISTENCIA!#REF!<>\"J\",ASISTENCIA!#REF!<>\"F\"),SUMIF($F$13:$J$13,BI$13,$F14:$J14),\"\")","v":{"$error":"#REF!"}},{"$f":"IF(AND(LEN($D14)>0,SUMIF($F$13:$J$13,BJ$13,$F14:$J14)>0,ASISTENCIA!#REF!<>\"X\",ASISTENCIA!#REF!<>\"L\",ASISTENCIA!#REF!<>\"J\",ASISTENCIA!#REF!<>\"F\"),SUMIF($F$13:$J$13,BJ$13,$F14:$J14),\"\")","v":{"$error":"#REF!"}},{"$f":"IF(AND(LEN($D14)>0,SUMIF($F$13:$J$13,BK$13,$F14:$J14)>0,ASISTENCIA!#REF!<>\"X\",ASISTENCIA!#REF!<>\"L\",ASISTENCIA!#REF!<>\"J\",ASISTENCIA!#REF!<>\"F\"),SUMIF($F$13:$J$13,BK$13,$F14:$J14),\"\")","v":{"$error":"#REF!"}},{"$f":"IF(AND(LEN($D14)>0,SUMIF($F$13:$J$13,BL$13,$F14:$J14)>0,ASISTENCIA!#REF!<>\"X\",ASISTENCIA!#REF!<>\"L\",ASISTENCIA!#REF!<>\"J\",ASISTENCIA!#REF!<>\"F\"),SUMIF($F$13:$J$13,BL$13,$F14:$J14),\"\")","v":{"$error":"#REF!"}},{"$f":"IF(AND(LEN($D14)>0,SUMIF($F$13:$J$13,BM$13,$F14:$J14)>0,ASISTENCIA!#REF!<>\"X\",ASISTENCIA!#REF!<>\"L\",ASISTENCIA!#REF!<>\"J\",ASISTENCIA!#REF!<>\"F\"),SUMIF($F$13:$J$13,BM$13,$F14:$J14),\"\")","v":{"$error":"#REF!"}},{"$f":"IF(AND(LEN($D14)>0,SUMIF($F$13:$J$13,BN$13,$F14:$J14)>0,ASISTENCIA!#REF!<>\"X\",ASISTENCIA!#REF!<>\"L\",ASISTENCIA!#REF!<>\"J\",ASISTENCIA!#REF!<>\"F\"),SUMIF($F$13:$J$13,BN$13,$F14:$J14),\"\")","v":{"$error":"#REF!"}},{"$f":"IF(AND(LEN($D14)>0,SUMIF($F$13:$J$13,BO$13,$F14:$J14)>0,ASISTENCIA!#REF!<>\"X\",ASISTENCIA!#REF!<>\"L\",ASISTENCIA!#REF!<>\"J\",ASISTENCIA!#REF!<>\"F\"),SUMIF($F$13:$J$13,BO$13,$F14:$J14),\"\")","v":{"$error":"#REF!"}},{"$f":"IF(AND(LEN($D14)>0,SUMIF($F$13:$J$13,BP$13,$F14:$J14)>0,ASISTENCIA!#REF!<>\"X\",ASISTENCIA!#REF!<>\"L\",ASISTENCIA!#REF!<>\"J\",ASISTENCIA!#REF!<>\"F\"),SUMIF($F$13:$J$13,BP$13,$F14:$J14),\"\")","v":{"$error":"#REF!"}},{"$f":"IF(AND(LEN($D14)>0,SUMIF($F$13:$J$13,BQ$13,$F14:$J14)>0,ASISTENCIA!#REF!<>\"X\",ASISTENCIA!#REF!<>\"L\",ASISTENCIA!#REF!<>\"J\",ASISTENCIA!#REF!<>\"F\"),SUMIF($F$13:$J$13,BQ$13,$F14:$J14),\"\")","v":{"$error":"#REF!"}},{"$f":"IF(AND(LEN($D14)>0,SUMIF($F$13:$J$13,BR$13,$F14:$J14)>0,ASISTENCIA!#REF!<>\"X\",ASISTENCIA!#REF!<>\"L\",ASISTENCIA!#REF!<>\"J\",ASISTENCIA!#REF!<>\"F\"),SUMIF($F$13:$J$13,BR$13,$F14:$J14),\"\")","v":{"$error":"#REF!"}},{"$f":"IF(AND(LEN($D14)>0,SUMIF($F$13:$J$13,BS$13,$F14:$J14)>0,ASISTENCIA!#REF!<>\"X\",ASISTENCIA!#REF!<>\"L\",ASISTENCIA!#REF!<>\"J\",ASISTENCIA!#REF!<>\"F\"),SUMIF($F$13:$J$13,BS$13,$F14:$J14),\"\")","v":{"$error":"#REF!"}},{"$f":"IF(AND(LEN($D14)>0,SUMIF($F$13:$J$13,BT$13,$F14:$J14)>0,ASISTENCIA!#REF!<>\"X\",ASISTENCIA!#REF!<>\"L\",ASISTENCIA!#REF!<>\"J\",ASISTENCIA!#REF!<>\"F\"),SUMIF($F$13:$J$13,BT$13,$F14:$J14),\"\")","v":{"$error":"#REF!"}},{"$f":"IF(AND(LEN($D14)>0,SUMIF($F$13:$J$13,BU$13,$F14:$J14)>0,ASISTENCIA!#REF!<>\"X\",ASISTENCIA!#REF!<>\"L\",ASISTENCIA!#REF!<>\"J\",ASISTENCIA!#REF!<>\"F\"),SUMIF($F$13:$J$13,BU$13,$F14:$J14),\"\")","v":{"$error":"#REF!"}},{"$f":"IF(AND(LEN($D14)>0,SUMIF($F$13:$J$13,BV$13,$F14:$J14)>0,ASISTENCIA!#REF!<>\"X\",ASISTENCIA!#REF!<>\"L\",ASISTENCIA!#REF!<>\"J\",ASISTENCIA!#REF!<>\"F\"),SUMIF($F$13:$J$13,BV$13,$F14:$J14),\"\")","v":{"$error":"#REF!"}},{"$f":"IF(AND(LEN($D14)>0,SUMIF($F$13:$J$13,BW$13,$F14:$J14)>0,ASISTENCIA!#REF!<>\"X\",ASISTENCIA!#REF!<>\"L\",ASISTENCIA!#REF!<>\"J\",ASISTENCIA!#REF!<>\"F\"),SUMIF($F$13:$J$13,BW$13,$F14:$J14),\"\")","v":{"$error":"#REF!"}},{"$f":"IF(AND(LEN($D14)>0,SUMIF($F$13:$J$13,BX$13,$F14:$J14)>0,ASISTENCIA!#REF!<>\"X\",ASISTENCIA!#REF!<>\"L\",ASISTENCIA!#REF!<>\"J\",ASISTENCIA!#REF!<>\"F\"),SUMIF($F$13:$J$13,BX$13,$F14:$J14),\"\")","v":{"$error":"#REF!"}},{"$f":"IF(AND(LEN($D14)>0,SUMIF($F$13:$J$13,BY$13,$F14:$J14)>0,ASISTENCIA!#REF!<>\"X\",ASISTENCIA!#REF!<>\"L\",ASISTENCIA!#REF!<>\"J\",ASISTENCIA!#REF!<>\"F\"),SUMIF($F$13:$J$13,BY$13,$F14:$J14),\"\")","v":{"$error":"#REF!"}},{"$f":"IF(AND(LEN($D14)>0,SUMIF($F$13:$J$13,BZ$13,$F14:$J14)>0,ASISTENCIA!#REF!<>\"X\",ASISTENCIA!#REF!<>\"L\",ASISTENCIA!#REF!<>\"J\",ASISTENCIA!#REF!<>\"F\"),SUMIF($F$13:$J$13,BZ$13,$F14:$J14),\"\")","v":{"$error":"#REF!"}},{"$f":"IF(AND(LEN($D14)>0,SUMIF($F$13:$J$13,CA$13,$F14:$J14)>0,ASISTENCIA!#REF!<>\"X\",ASISTENCIA!#REF!<>\"L\",ASISTENCIA!#REF!<>\"J\",ASISTENCIA!#REF!<>\"F\"),SUMIF($F$13:$J$13,CA$13,$F14:$J14),\"\")","v":{"$error":"#REF!"}},{"$f":"IF(AND(LEN($D14)>0,SUMIF($F$13:$J$13,CB$13,$F14:$J14)>0,ASISTENCIA!#REF!<>\"X\",ASISTENCIA!#REF!<>\"L\",ASISTENCIA!#REF!<>\"J\",ASISTENCIA!#REF!<>\"F\"),SUMIF($F$13:$J$13,CB$13,$F14:$J14),\"\")","v":{"$error":"#REF!"}},{"$f":"IF(SUM(AX14:CB14)>0,SUM(AX14:CB14),\"\")","v":{"$error":"#REF!"}}]
[{"$f":"IF(LEN(B15)>0,1+A14,\"\")","v":{"$error":"#N/A"}},{"$f":"IF(LEN(C15)>0,VLOOKUP($O$4,DATA!$A$1:$S$1,2,FALSE),\"\")","v":{"$error":"#N/A"}},{"$f":"IF(LEN(D15)>0,$AJ$8,\"\")","v":"AGOSTO"},{"$f":"IF(LEN(ASISTENCIA!E13)>0,ASISTENCIA!E13,\"\")","v":"LIPA RAMOS MARIEL ELIANE"},{"$f":"IF(LEN(D15)>0,ASISTENCIA!F13,\"\")","v":"Director(e)"},null,null,null,null,null,"",null,null,{"$f":"CC15","v":{"$error":"#REF!"}},{"$f":"IF(AND(LEN($D15)>0,SUMIF($F$13:$J$13,O$13,$F15:$J15)>0,ASISTENCIA!I13<>\"X\",ASISTENCIA!I13<>\"L\",ASISTENCIA!I13<>\"J\",ASISTENCIA!I13<>\"V\",ASISTENCIA!I13<>\"F\",ASISTENCIA!I13<>\"\"),SUMIF($F$13:$J$13,O$13,$F15:$J15),\"\")","v":""},{"$f":"IF(AND(LEN($D15)>0,SUMIF($F$13:$J$13,P$13,$F15:$J15)>0,ASISTENCIA!J13<>\"X\",ASISTENCIA!J13<>\"L\",ASISTENCIA!J13<>\"J\",ASISTENCIA!J13<>\"V\",ASISTENCIA!J13<>\"F\",ASISTENCIA!J13<>\"\"),SUMIF($F$13:$J$13,P$13,$F15:$J15),\"\")","v":""},{"$f":"IF(AND(LEN($D15)>0,SUMIF($F$13:$J$13,Q$13,$F15:$J15)>0,ASISTENCIA!#REF!<>\"X\",ASISTENCIA!#REF!<>\"L\",ASISTENCIA!#REF!<>\"J\",ASISTENCIA!#REF!<>\"V\",ASISTENCIA!#REF!<>\"F\",ASISTENCIA!#REF!<>\"\"),SUMIF($F$13:$J$13,Q$13,$F15:$J15),\"\")","v":{"$error":"#REF!"}},{"$f":"IF(AND(LEN($D15)>0,SUMIF($F$13:$J$13,R$13,$F15:$J15)>0,ASISTENCIA!#REF!<>\"X\",ASISTENCIA!#REF!<>\"L\",ASISTENCIA!#REF!<>\"J\",ASISTENCIA!#REF!<>\"V\",ASISTENCIA!#REF!<>\"F\",ASISTENCIA!#REF!<>\"\"),SUMIF($F$13:$J$13,R$13,$F15:$J15),\"\")","v":{"$error":"#REF!"}},{"$f":"IF(AND(LEN($D15)>0,SUMIF($F$13:$J$13,S$13,$F15:$J15)>0,ASISTENCIA!M13<>\"X\",ASISTENCIA!M13<>\"L\",ASISTENCIA!M13<>\"J\",ASISTENCIA!M13<>\"V\",ASISTENCIA!M13<>\"F\",ASISTENCIA!M13<>\"\"),SUMIF($F$13:$J$13,S$13,$F15:$J15),\"\")","v":""},{"$f":"IF(AND(LEN($D15)>0,SUMIF($F$13:$J$13,T$13,$F15:$J15)>0,ASISTENCIA!K13<>\"X\",ASISTENCIA!K13<>\"L\",ASISTENCIA!K13<>\"J\",ASISTENCIA!K13<>\"V\",ASISTENCIA!K13<>\"F\",ASISTENCIA!K13<>\"\"),SUMIF($F$13:$J$13,T$13,$F15:$J15),\"\")","v":""},{"$f":"IF(AND(LEN($D15)>0,SUMIF($F$13:$J$13,U$13,$F15:$J15)>0,ASISTENCIA!L13<>\"X\",ASISTENCIA!L13<>\"L\",ASISTENCIA!L13<>\"J\",ASISTENCIA!L13<>\"V\",ASISTENCIA!L13<>\"F\",ASISTENCIA!L13<>\"\"),SUMIF($F$13:$J$13,U$13,$F15:$J15),\"\")","v":""},{"$f":"IF(AND(LEN($D15)>0,SUMIF($F$13:$J$13,V$13,$F15:$J15)>0,ASISTENCIA!P13<>\"X\",ASISTENCIA!P13<>\"L\",ASISTENCIA!P13<>\"J\",ASISTENCIA!P13<>\"V\",ASISTENCIA!P13<>\"F\",ASISTENCIA!P13<>\"\"),SUMIF($F$13:$J$13,V$13,$F15:$J15),\"\")","v":""},{"$f":"IF(AND(LEN($D15)>0,SUMIF($F$13:$J$13,W$13,$F15:$J15)>0,ASISTENCIA!Q13<>\"X\",ASISTENCIA!Q13<>\"L\",ASISTENCIA!Q13<>\"J\",ASISTENCIA!Q13<>\"V\",ASISTENCIA!Q13<>\"F\",ASISTENCIA!Q13<>\"\"),SUMIF($F$13:$J$13,W$13,$F15:$J15),\"\")","v":""},{"$f":"IF(AND(LEN($D15)>0,SUMIF($F$13:$J$13,X$13,$F15:$J15)>0,ASISTENCIA!#REF!<>\"X\",ASISTENCIA!#REF!<>\"L\",ASISTENCIA!#REF!<>\"J\",ASISTENCIA!#REF!<>\"V\",ASISTENCIA!#REF!<>\"F\",ASISTENCIA!#REF!<>\"\"),SUMIF($F$13:$J$13,X$13,$F15:$J15),\"\")","v":{"$error":"#REF!"}},{"$f":"IF(AND(LEN($D15)>0,SUMIF($F$13:$J$13,Y$13,$F15:$J15)>0,ASISTENCIA!#REF!<>\"X\",ASISTENCIA!#REF!<>\"L\",ASISTENCIA!#REF!<>\"J\",ASISTENCIA!#REF!<>\"V\",ASISTENCIA!#REF!<>\"F\",ASISTENCIA!#REF!<>\"\"),SUMIF($F$13:$J$13,Y$13,$F15:$J15),\"\")","v":{"$error":"#REF!"}},{"$f":"IF(AND(LEN($D15)>0,SUMIF($F$13:$J$13,Z$13,$F15:$J15)>0,ASISTENCIA!T13<>\"X\",ASISTENCIA!T13<>\"L\",ASISTENCIA!T13<>\"J\",ASISTENCIA!T13<>\"V\",ASISTENCIA!T13<>\"F\",ASISTENCIA!T13<>\"\"),SUMIF($F$13:$J$13,Z$13,$F15:$J15),\"\")","v":""},{"$f":"IF(AND(LEN($D15)>0,SUMIF($F$13:$J$13,AA$13,$F15:$J15)>0,ASISTENCIA!R13<>\"X\",ASISTENCIA!R13<>\"L\",ASISTENCIA!R13<>\"J\",ASISTENCIA!R13<>\"V\",ASISTENCIA!R13<>\"F\",ASISTENCIA!R13<>\"\"),SUMIF($F$13:$J$13,AA$13,$F15:$J15),\"\")","v":""},{"$f":"IF(AND(LEN($D15)>0,SUMIF($F$13:$J$13,AB$13,$F15:$J15)>0,ASISTENCIA!S13<>\"X\",ASISTENCIA!S13<>\"L\",ASISTENCIA!S13<>\"J\",ASISTENCIA!S13<>\"V\",ASISTENCIA!S13<>\"F\",ASISTENCIA!S13<>\"\"),SUMIF($F$13:$J$13,AB$13,$F15:$J15),\"\")","v":""},{"$f":"IF(AND(LEN($D15)>0,SUMIF($F$13:$J$13,AC$13,$F15:$J15)>0,ASISTENCIA!W13<>\"X\",ASISTENCIA!W13<>\"L\",ASISTENCIA!W13<>\"J\",ASISTENCIA!W13<>\"V\",ASISTENCIA!W13<>\"F\",ASISTENCIA!W13<>\"\"),SUMIF($F$13:$J$13,AC$13,$F15:$J15),\"\")","v":""},{"$f":"IF(AND(LEN($D15)>0,SUMIF($F$13:$J$13,AD$13,$F15:$J15)>0,ASISTENCIA!X13<>\"X\",ASISTENCIA!X13<>\"L\",ASISTENCIA!X13<>\"J\",ASISTENCIA!X13<>\"V\",ASISTENCIA!X13<>\"F\",ASISTENCIA!X13<>\"\"),SUMIF($F$13:$J$13,AD$13,$F15:$J15),\"\")","v":""},{"$f":"IF(AND(LEN($D15)>0,SUMIF($F$13:$J$13,AE$13,$F15:$J15)>0,ASISTENCIA!#REF!<>\"X\",ASISTENCIA!#REF!<>\"L\",ASISTENCIA!#REF!<>\"J\",ASISTENCIA!#REF!<>\"V\",ASISTENCIA!#REF!<>\"F\",ASISTENCIA!#REF!<>\"\"),SUMIF($F$13:$J$13,AE$13,$F15:$J15),\"\")","v":{"$error":"#REF!"}},{"$f":"IF(AND(LEN($D15)>0,SUMIF($F$13:$J$13,AF$13,$F15:$J15)>0,ASISTENCIA!#REF!<>\"X\",ASISTENCIA!#REF!<>\"L\",ASISTENCIA!#REF!<>\"J\",ASISTENCIA!#REF!<>\"V\",ASISTENCIA!#REF!<>\"F\",ASISTENCIA!#REF!<>\"\"),SUMIF($F$13:$J$13,AF$13,$F15:$J15),\"\")","v":{"$error":"#REF!"}},{"$f":"IF(AND(LEN($D15)>0,SUMIF($F$13:$J$13,AG$13,$F15:$J15)>0,ASISTENCIA!AA13<>\"X\",ASISTENCIA!AA13<>\"L\",ASISTENCIA!AA13<>\"J\",ASISTENCIA!AA13<>\"V\",ASISTENCIA!AA13<>\"F\",ASISTENCIA!AA13<>\"\"),SUMIF($F$13:$J$13,AG$13,$F15:$J15),\"\")","v":""},{"$f":"IF(AND(LEN($D15)>0,SUMIF($F$13:$J$13,AH$13,$F15:$J15)>0,ASISTENCIA!#REF!<>\"X\",ASISTENCIA!#REF!<>\"L\",ASISTENCIA!#REF!<>\"J\",ASISTENCIA!#REF!<>\"V\",ASISTENCIA!#REF!<>\"F\",ASISTENCIA!#REF!<>\"\"),SUMIF($F$13:$J$13,AH$13,$F15:$J15),\"\")","v":{"$error":"#REF!"}},{"$f":"IF(AND(LEN($D15)>0,SUMIF($F$13:$J$13,AI$13,$F15:$J15)>0,ASISTENCIA!#REF!<>\"X\",ASISTENCIA!#REF!<>\"L\",ASISTENCIA!#REF!<>\"J\",ASISTENCIA!#REF!<>\"V\",ASISTENCIA!#REF!<>\"F\",ASISTENCIA!#REF!<>\"\"),SUMIF($F$13:$J$13,AI$13,$F15:$J15),\"\")","v":{"$error":"#REF!"}},{"$f":"IF(AND(LEN($D15)>0,SUMIF($F$13:$J$13,AJ$13,$F15:$J15)>0,ASISTENCIA!Y13<>\"X\",ASISTENCIA!Y13<>\"L\",ASISTENCIA!Y13<>\"J\",ASISTENCIA!Y13<>\"V\",ASISTENCIA!Y13<>\"F\",ASISTENCIA!Y13<>\"\"),SUMIF($F$13:$J$13,AJ$13,$F15:$J15),\"\")","v":""},{"$f":"IF(AND(LEN($D15)>0,SUMIF($F$13:$J$13,AK$13,$F15:$J15)>0,ASISTENCIA!Z13<>\"X\",ASISTENCIA!Z13<>\"L\",ASISTENCIA!Z13<>\"J\",ASISTENCIA!Z13<>\"V\",ASISTENCIA!Z13<>\"F\",ASISTENCIA!Z13<>\"\"),SUMIF($F$13:$J$13,AK$13,$F15:$J15),\"\")","v":""},{"$f":"IF(AND(LEN($D15)>0,SUMIF($F$13:$J$13,AL$13,$F15:$J15)>0,ASISTENCIA!#REF!<>\"X\",ASISTENCIA!#REF!<>\"L\",ASISTENCIA!#REF!<>\"J\",ASISTENCIA!#REF!<>\"V\",ASISTENCIA!#REF!<>\"F\",ASISTENCIA!#REF!<>\"\"),SUMIF($F$13:$J$13,AL$13,$F15:$J15),\"\")","v":{"$error":"#REF!"}},{"$f":"IF(AND(LEN($D15)>0,SUMIF($F$13:$J$13,AM$13,$F15:$J15)>0,ASISTENCIA!#REF!<>\"X\",ASISTENCIA!#REF!<>\"L\",ASISTENCIA!#REF!<>\"J\",ASISTENCIA!#REF!<>\"V\",ASISTENCIA!#REF!<>\"F\",ASISTENCIA!#REF!<>\"\"),SUMIF($F$13:$J$13,AM$13,$F15:$J15),\"\")","v":{"$error":"#REF!"}},{"$f":"IF(AND(LEN($D15)>0,SUMIF($F$13:$J$13,AN$13,$F15:$J15)>0,ASISTENCIA!AH13<>\"X\",ASISTENCIA!AH13<>\"L\",ASISTENCIA!AH13<>\"J\",ASISTENCIA!AH13<>\"V\",ASISTENCIA!AH13<>\"F\",ASISTENCIA!AH13<>\"\"),SUMIF($F$13:$J$13,AN$13,$F15:$J15),\"\")","v":""},{"$f":"IF(AND(LEN($D15)>0,SUMIF($F$13:$J$13,AO$13,$F15:$J15)>0,ASISTENCIA!#REF!<>\"X\",ASISTENCIA!#REF!<>\"L\",ASISTENCIA!#REF!<>\"J\",ASISTENCIA!#REF!<>\"V\",ASISTENCIA!#REF!<>\"F\",ASISTENCIA!#REF!<>\"\"),SUMIF($F$13:$J$13,AO$13,$F15:$J15),\"\")","v":{"$error":"#REF!"}},{"$f":"IF(AND(LEN($D15)>0,SUMIF($F$13:$J$13,AP$13,$F15:$J15)>0,ASISTENCIA!#REF!<>\"X\",ASISTENCIA!#REF!<>\"L\",ASISTENCIA!#REF!<>\"J\",ASISTENCIA!#REF!<>\"V\",ASISTENCIA!#REF!<>\"F\",ASISTENCIA!#REF!<>\"\"),SUMIF($F$13:$J$13,AP$13,$F15:$J15),\"\")","v":{"$error":"#REF!"}},{"$f":"IF(AND(LEN($D15)>0,SUMIF($F$13:$J$13,AQ$13,$F15:$J15)>0,ASISTENCIA!AF13<>\"X\",ASISTENCIA!AF13<>\"L\",ASISTENCIA!AF13<>\"J\",ASISTENCIA!AF13<>\"V\",ASISTENCIA!AF13<>\"F\",ASISTENCIA!AF13<>\"\"),SUMIF($F$13:$J$13,AQ$13,$F15:$J15),\"\")","v":""},{"$f":"IF(AND(LEN($D15)>0,SUMIF($F$13:$J$13,AR$13,$F15:$J15)>0,ASISTENCIA!AG13<>\"X\",ASISTENCIA!AG13<>\"L\",ASISTENCIA!AG13<>\"J\",ASISTENCIA!AG13<>\"V\",ASISTENCIA!AG13<>\"F\",ASISTENCIA!AG13<>\"\"),SUMIF($F$13:$J$13,AR$13,$F15:$J15),\"\")","v":""},{"$f":"IF(AND(LEN($D15)>0,SUMIF($F$13:$J$13,AS$13,$F15:$J15)>0,ASISTENCIA!AM13<>\"X\",ASISTENCIA!AM13<>\"L\",ASISTENCIA!AM13<>\"J\",ASISTENCIA!AM13<>\"V\",ASISTENCIA!AM13<>\"F\",ASISTENCIA!AM13<>\"\"),SUMIF($F$13:$J$13,AS$13,$F15:$J15),\"\")","v":""},{"$f":"IF(SUM(O15:AS15)>0,SUM(O15:AS15),\"\")","v":{"$error":"#REF!"}},null,null,null,{"$f":"IF(AND(LEN($D15)>0,SUMIF($F$13:$J$13,AX$13,$F15:$J15)>0,ASISTENCIA!AU13<>\"X\",ASISTENCIA!AU13<>\"L\",ASISTENCIA!AU13<>\"J\",ASISTENCIA!AU13<>\"F\"),SUMIF($F$13:$J$13,AX$13,$F15:$J15),\"\")","v":""},{"$f":"IF(AND(LEN($D15)>0,SUMIF($F$13:$J$13,AY$13,$F15:$J15)>0,ASISTENCIA!#REF!<>\"X\",ASISTENCIA!#REF!<>\"L\",ASISTENCIA!#REF!<>\"J\",ASISTENCIA!#REF!<>\"F\"),SUMIF($F$13:$J$13,AY$13,$F15:$J15),\"\")","v":{"$error":"#REF!"}},{"$f":"IF(AND(LEN($D15)>0,SUMIF($F$13:$J$13,AZ$13,$F15:$J15)>0,ASISTENCIA!BF13<>\"X\",ASISTENCIA!BF13<>\"L\",ASISTENCIA!BF13<>\"J\",ASISTENCIA!BF13<>\"F\"),SUMIF($F$13:$J$13,AZ$13,$F15:$J15),\"\")","v":""},{"$f":"IF(AND(LEN($D15)>0,SUMIF($F$13:$J$13,BA$13,$F15:$J15)>0,ASISTENCIA!BG13<>\"X\",ASISTENCIA!BG13<>\"L\",ASISTENCIA!BG13<>\"J\",ASISTENCIA!BG13<>\"F\"),SUMIF($F$13:$J$13,BA$13,$F15:$J15),\"\")","v":""},{"$f":"IF(AND(LEN($D15)>0,SUMIF($F$13:$J$13,BB$13,$F15:$J15)>0,ASISTENCIA!BH13<>\"X\",ASISTENCIA!BH13<>\"L\",ASISTENCIA!BH13<>\"J\",ASISTENCIA!BH13<>\"F\"),SUMIF($F$13:$J$13,BB$13,$F15:$J15),\"\")","v":""},{"$f":"IF(AND(LEN($D15)>0,SUMIF($F$13:$J$13,BC$13,$F15:$J15)>0,ASISTENCIA!AZ13<>\"X\",ASISTENCIA!AZ13<>\"L\",ASISTENCIA!AZ13<>\"J\",ASISTENCIA!AZ13<>\"F\"),SUMIF($F$13:$J$13,BC$13,$F15:$J15),\"\")","v":""},{"$f":"IF(AND(LEN($D15)>0,SUMIF($F$13:$J$13,BD$13,$F15:$J15)>0,ASISTENCIA!BA13<>\"X\",ASISTENCIA!BA13<>\"L\",ASISTENCIA!BA13<>\"J\",ASISTENCIA!BA13<>\"F\"),SUMIF($F$13:$J$13,BD$13,$F15:$J15),\"\")","v":""},{"$f":"IF(AND(LEN($D15)>0,SUMIF($F$13:$J$13,BE$13,$F15:$J15)>0,ASISTENCIA!BB13<>\"X\",ASISTENCIA!BB13<>\"L\",ASISTENCIA!BB13<>\"J\",ASISTENCIA!BB13<>\"F\"),SUMIF($F$13:$J$13,BE$13,$F15:$J15),\"\")","v":""},{"$f":"IF(AND(LEN($D15)>0,SUMIF($F$13:$J$13,BF$13,$F15:$J15)>0,ASISTENCIA!#REF!<>\"X\",ASISTENCIA!#REF!<>\"L\",ASISTENCIA!#REF!<>\"J\",ASISTENCIA!#REF!<>\"F\"),SUMIF($F$13:$J$13,BF$13,$F15:$J15),\"\")","v":{"$error":"#REF!"}},{"$f":"IF(AND(LEN($D15)>0,SUMIF($F$13:$J$13,BG$13,$F15:$J15)>0,ASISTENCIA!#REF!<>\"X\",ASISTENCIA!#REF!<>\"L\",ASISTENCIA!#REF!<>\"J\",ASISTENCIA!#REF!<>\"F\"),SUMIF($F$13:$J$13,BG$13,$F15:$J15),\"\")","v":{"$error":"#REF!"}},{"$f":"IF(AND(LEN($D15)>0,SUMIF($F$13:$J$13,BH$13,$F15:$J15)>0,ASISTENCIA!#REF!<>\"X\",ASISTENCIA!#REF!<>\"L\",ASISTENCIA!#REF!<>\"J\",ASISTENCIA!#REF!<>\"F\"),SUMIF($F$13:$J$13,BH$13,$F15:$J15),\"\")","v":{"$error":"#REF!"}},{"$f":"IF(AND(LEN($D15)>0,SUMIF($F$13:$J$13,BI$13,$F15:$J15)>0,ASISTENCIA!#REF!<>\"X\",ASISTENCIA!#REF!<>\"L\",ASISTENCIA!#REF!<>\"J\",ASISTENCIA!#REF!<>\"F\"),SUMIF($F$13:$J$13,BI$13,$F15:$J15),\"\")","v":{"$error":"#REF!"}},{"$f":"IF(AND(LEN($D15)>0,SUMIF($F$13:$J$13,BJ$13,$F15:$J15)>0,ASISTENCIA!#REF!<>\"X\",ASISTENCIA!#REF!<>\"L\",ASISTENCIA!#REF!<>\"J\",ASISTENCIA!#REF!<>\"F\"),SUMIF($F$13:$J$13,BJ$13,$F15:$J15),\"\")","v":{"$error":"#REF!"}},{"$f":"IF(AND(LEN($D15)>0,SUMIF($F$13:$J$13,BK$13,$F15:$J15)>0,ASISTENCIA!#REF!<>\"X\",ASISTENCIA!#REF!<>\"L\",ASISTENCIA!#REF!<>\"J\",ASISTENCIA!#REF!<>\"F\"),SUMIF($F$13:$J$13,BK$13,$F15:$J15),\"\")","v":{"$error":"#REF!"}},{"$f":"IF(AND(LEN($D15)>0,SUMIF($F$13:$J$13,BL$13,$F15:$J15)>0,ASISTENCIA!BI13<>\"X\",ASISTENCIA!BI13<>\"L\",ASISTENCIA!BI13<>\"J\",ASISTENCIA!BI13<>\"F\"),SUMIF($F$13:$J$13,BL$13,$F15:$J15),\"\")","v":""},{"$f":"IF(AND(LEN($D15)>0,SUMIF($F$13:$J$13,BM$13,$F15:$J15)>0,ASISTENCIA!BJ13<>\"X\",ASISTENCIA!BJ13<>\"L\",ASISTENCIA!BJ13<>\"J\",ASISTENCIA!BJ13<>\"F\"),SUMIF($F$13:$J$13,BM$13,$F15:$J15),\"\")","v":""},{"$f":"IF(AND(LEN($D15)>0,SUMIF($F$13:$J$13,BN$13,$F15:$J15)>0,ASISTENCIA!BK13<>\"X\",ASISTENCIA!BK13<>\"L\",ASISTENCIA!BK13<>\"J\",ASISTENCIA!BK13<>\"F\"),SUMIF($F$13:$J$13,BN$13,$F15:$J15),\"\")","v":""},{"$f":"IF(AND(LEN($D15)>0,SUMIF($F$13:$J$13,BO$13,$F15:$J15)>0,ASISTENCIA!BL13<>\"X\",ASISTENCIA!BL13<>\"L\",ASISTENCIA!BL13<>\"J\",ASISTENCIA!BL13<>\"F\"),SUMIF($F$13:$J$13,BO$13,$F15:$J15),\"\")","v":""},{"$f":"IF(AND(LEN($D15)>0,SUMIF($F$13:$J$13,BP$13,$F15:$J15)>0,ASISTENCIA!BM13<>\"X\",ASISTENCIA!BM13<>\"L\",ASISTENCIA!BM13<>\"J\",ASISTENCIA!BM13<>\"F\"),SUMIF($F$13:$J$13,BP$13,$F15:$J15),\"\")","v":""},{"$f":"IF(AND(LEN($D15)>0,SUMIF($F$13:$J$13,BQ$13,$F15:$J15)>0,ASISTENCIA!BN13<>\"X\",ASISTENCIA!BN13<>\"L\",ASISTENCIA!BN13<>\"J\",ASISTENCIA!BN13<>\"F\"),SUMIF($F$13:$J$13,BQ$13,$F15:$J15),\"\")","v":""},{"$f":"IF(AND(LEN($D15)>0,SUMIF($F$13:$J$13,BR$13,$F15:$J15)>0,ASISTENCIA!BO13<>\"X\",ASISTENCIA!BO13<>\"L\",ASISTENCIA!BO13<>\"J\",ASISTENCIA!BO13<>\"F\"),SUMIF($F$13:$J$13,BR$13,$F15:$J15),\"\")","v":""},{"$f":"IF(AND(LEN($D15)>0,SUMIF($F$13:$J$13,BS$13,$F15:$J15)>0,ASISTENCIA!BP13<>\"X\",ASISTENCIA!BP13<>\"L\",ASISTENCIA!BP13<>\"J\",ASISTENCIA!BP13<>\"F\"),SUMIF($F$13:$J$13,BS$13,$F15:$J15),\"\")","v":""},{"$f":"IF(AND(LEN($D15)>0,SUMIF($F$13:$J$13,BT$13,$F15:$J15)>0,ASISTENCIA!BQ13<>\"X\",ASISTENCIA!BQ13<>\"L\",ASISTENCIA!BQ13<>\"J\",ASISTENCIA!BQ13<>\"F\"),SUMIF($F$13:$J$13,BT$13,$F15:$J15),\"\")","v":""},{"$f":"IF(AND(LEN($D15)>0,SUMIF($F$13:$J$13,BU$13,$F15:$J15)>0,ASISTENCIA!BR13<>\"X\",ASISTENCIA!BR13<>\"L\",ASISTENCIA!BR13<>\"J\",ASISTENCIA!BR13<>\"F\"),SUMIF($F$13:$J$13,BU$13,$F15:$J15),\"\")","v":""},{"$f":"IF(AND(LEN($D15)>0,SUMIF($F$13:$J$13,BV$13,$F15:$J15)>0,ASISTENCIA!BS13<>\"X\",ASISTENCIA!BS13<>\"L\",ASISTENCIA!BS13<>\"J\",ASISTENCIA!BS13<>\"F\"),SUMIF($F$13:$J$13,BV$13,$F15:$J15),\"\")","v":""},{"$f":"IF(AND(LEN($D15)>0,SUMIF($F$13:$J$13,BW$13,$F15:$J15)>0,ASISTENCIA!BT13<>\"X\",ASISTENCIA!BT13<>\"L\",ASISTENCIA!BT13<>\"J\",ASISTENCIA!BT13<>\"F\"),SUMIF($F$13:$J$13,BW$13,$F15:$J15),\"\")","v":""},{"$f":"IF(AND(LEN($D15)>0,SUMIF($F$13:$J$13,BX$13,$F15:$J15)>0,ASISTENCIA!BU13<>\"X\",ASISTENCIA!BU13<>\"L\",ASISTENCIA!BU13<>\"J\",ASISTENCIA!BU13<>\"F\"),SUMIF($F$13:$J$13,BX$13,$F15:$J15),\"\")","v":""},{"$f":"IF(AND(LEN($D15)>0,SUMIF($F$13:$J$13,BY$13,$F15:$J15)>0,ASISTENCIA!BV13<>\"X\",ASISTENCIA!BV13<>\"L\",ASISTENCIA!BV13<>\"J\",ASISTENCIA!BV13<>\"F\"),SUMIF($F$13:$J$13,BY$13,$F15:$J15),\"\")","v":""},{"$f":"IF(AND(LEN($D15)>0,SUMIF($F$13:$J$13,BZ$13,$F15:$J15)>0,ASISTENCIA!BW13<>\"X\",ASISTENCIA!BW13<>\"L\",ASISTENCIA!BW13<>\"J\",ASISTENCIA!BW13<>\"F\"),SUMIF($F$13:$J$13,BZ$13,$F15:$J15),\"\")","v":""},{"$f":"IF(AND(LEN($D15)>0,SUMIF($F$13:$J$13,CA$13,$F15:$J15)>0,ASISTENCIA!BX13<>\"X\",ASISTENCIA!BX13<>\"L\",ASISTENCIA!BX13<>\"J\",ASISTENCIA!BX13<>\"F\"),SUMIF($F$13:$J$13,CA$13,$F15:$J15),\"\")","v":""},{"$f":"IF(AND(LEN($D15)>0,SUMIF($F$13:$J$13,CB$13,$F15:$J15)>0,ASISTENCIA!BY13<>\"X\",ASISTENCIA!BY13<>\"L\",ASISTENCIA!BY13<>\"J\",ASISTENCIA!BY13<>\"F\"),SUMIF($F$13:$J$13,CB$13,$F15:$J15),\"\")","v":""},{"$f":"IF(SUM(AX15:CB15)>0,SUM(AX15:CB15),\"\")","v":{"$error":"#REF!"}}]
[{"$f":"IF(LEN(B16)>0,1+A15,\"\")","v":{"$error":"#REF!"}},{"$f":"IF(LEN(C16)>0,VLOOKUP($O$4,DATA!$A$1:$S$1,2,FALSE),\"\")","v":{"$error":"#REF!"}},{"$error":"#REF!"},{"$f":"IF(LEN(ASISTENCIA!#REF!)>0,ASISTENCIA!#REF!,\"\")","v":{"$error":"#REF!"}},{"$f":"IF(LEN(D16)>0,ASISTENCIA!#REF!,\"\")","v":{"$error":"#REF!"}},null,null,null,null,null,"",null,null,{"$f":"CC16","v":{"$error":"#REF!"}},{"$f":"IF(AND(LEN($D16)>0,SUMIF($F$13:$J$13,O$13,$F16:$J16)>0,ASISTENCIA!#REF!<>\"X\",ASISTENCIA!#REF!<>\"L\",ASISTENCIA!#REF!<>\"J\",ASISTENCIA!#REF!<>\"V\",ASISTENCIA!#REF!<>\"F\",ASISTENCIA!#REF!<>\"\"),SUMIF($F$13:$J$13,O$13,$F16:$J16),\"\")","v":{"$error":"#REF!"}},{"$f":"IF(AND(LEN($D16)>0,SUMIF($F$13:$J$13,P$13,$F16:$J16)>0,ASISTENCIA!#REF!<>\"X\",ASISTENCIA!#REF!<>\"L\",ASISTENCIA!#REF!<>\"J\",ASISTENCIA!#REF!<>\"V\",ASISTENCIA!#REF!<>\"F\",ASISTENCIA!#REF!<>\"\"),SUMIF($F$13:$J$13,P$13,$F16:$J16),\"\")","v":{"$error":"#REF!"}},{"$f":"IF(AND(LEN($D16)>0,SUMIF($F$13:$J$13,Q$13,$F16:$J16)>0,ASISTENCIA!#REF!<>\"X\",ASISTENCIA!#REF!<>\"L\",ASISTENCIA!#REF!<>\"J\",ASISTENCIA!#REF!<>\"V\",ASISTENCIA!#REF!<>\"F\",ASISTENCIA!#REF!<>\"\"),SUMIF($F$13:$J$13,Q$13,$F16:$J16),\"\")","v":{"$error":"#REF!"}},{"$f":"IF(AND(LEN($D16)>0,SUMIF($F$13:$J$13,R$13,$F16:$J16)>0,ASISTENCIA!#REF!<>\"X\",ASISTENCIA!#REF!<>\"L\",ASISTENCIA!#REF!<>\"J\",ASISTENCIA!#REF!<>\"V\",ASISTENCIA!#REF!<>\"F\",ASISTENCIA!#REF!<>\"\"),SUMIF($F$13:$J$13,R$13,$F16:$J16),\"\")","v":{"$error":"#REF!"}},{"$f":"IF(AND(LEN($D16)>0,SUMIF($F$13:$J$13,S$13,$F16:$J16)>0,ASISTENCIA!#REF!<>\"X\",ASISTENCIA!#REF!<>\"L\",ASISTENCIA!#REF!<>\"J\",ASISTENCIA!#REF!<>\"V\",ASISTENCIA!#REF!<>\"F\",ASISTENCIA!#REF!<>\"\"),SUMIF($F$13:$J$13,S$13,$F16:$J16),\"\")","v":{"$error":"#REF!"}},{"$f":"IF(AND(LEN($D16)>0,SUMIF($F$13:$J$13,T$13,$F16:$J16)>0,ASISTENCIA!#REF!<>\"X\",ASISTENCIA!#REF!<>\"L\",ASISTENCIA!#REF!<>\"J\",ASISTENCIA!#REF!<>\"V\",ASISTENCIA!#REF!<>\"F\",ASISTENCIA!#REF!<>\"\"),SUMIF($F$13:$J$13,T$13,$F16:$J16),\"\")","v":{"$error":"#REF!"}},{"$f":"IF(AND(LEN($D16)>0,SUMIF($F$13:$J$13,U$13,$F16:$J16)>0,ASISTENCIA!#REF!<>\"X\",ASISTENCIA!#REF!<>\"L\",ASISTENCIA!#REF!<>\"J\",ASISTENCIA!#REF!<>\"V\",ASISTENCIA!#REF!<>\"F\",ASISTENCIA!#REF!<>\"\"),SUMIF($F$13:$J$13,U$13,$F16:$J16),\"\")","v":{"$error":"#REF!"}},{"$f":"IF(AND(LEN($D16)>0,SUMIF($F$13:$J$13,V$13,$F16:$J16)>0,ASISTENCIA!#REF!<>\"X\",ASISTENCIA!#REF!<>\"L\",ASISTENCIA!#REF!<>\"J\",ASISTENCIA!#REF!<>\"V\",ASISTENCIA!#REF!<>\"F\",ASISTENCIA!#REF!<>\"\"),SUMIF($F$13:$J$13,V$13,$F16:$J16),\"\")","v":{"$error":"#REF!"}},{"$f":"IF(AND(LEN($D16)>0,SUMIF($F$13:$J$13,W$13,$F16:$J16)>0,ASISTENCIA!#REF!<>\"X\",ASISTENCIA!#REF!<>\"L\",ASISTENCIA!#REF!<>\"J\",ASISTENCIA!#REF!<>\"V\",ASISTENCIA!#REF!<>\"F\",ASISTENCIA!#REF!<>\"\"),SUMIF($F$13:$J$13,W$13,$F16:$J16),\"\")","v":{"$error":"#REF!"}},{"$f":"IF(AND(LEN($D16)>0,SUMIF($F$13:$J$13,X$13,$F16:$J16)>0,ASISTENCIA!#REF!<>\"X\",ASISTENCIA!#REF!<>\"L\",ASISTENCIA!#REF!<>\"J\",ASISTENCIA!#REF!<>\"V\",ASISTENCIA!#REF!<>\"F\",ASISTENCIA!#REF!<>\"\"),SUMIF($F$13:$J$13,X$13,$F16:$J16),\"\")","v":{"$error":"#REF!"}},{"$f":"IF(AND(LEN($D16)>0,SUMIF($F$13:$J$13,Y$13,$F16:$J16)>0,ASISTENCIA!#REF!<>\"X\",ASISTENCIA!#REF!<>\"L\",ASISTENCIA!#REF!<>\"J\",ASISTENCIA!#REF!<>\"V\",ASISTENCIA!#REF!<>\"F\",ASISTENCIA!#REF!<>\"\"),SUMIF($F$13:$J$13,Y$13,$F16:$J16),\"\")","v":{"$error":"#REF!"}},{"$f":"IF(AND(LEN($D16)>0,SUMIF($F$13:$J$13,Z$13,$F16:$J16)>0,ASISTENCIA!#REF!<>\"X\",ASISTENCIA!#REF!<>\"L\",ASISTENCIA!#REF!<>\"J\",ASISTENCIA!#REF!<>\"V\",ASISTENCIA!#REF!<>\"F\",ASISTENCIA!#REF!<>\"\"),SUMIF($F$13:$J$13,Z$13,$F16:$J16),\"\")","v":{"$error":"#REF!"}},{"$f":"IF(AND(LEN($D16)>0,SUMIF($F$13:$J$13,AA$13,$F16:$J16)>0,ASISTENCIA!#REF!<>\"X\",ASISTENCIA!#REF!<>\"L\",ASISTENCIA!#REF!<>\"J\",ASISTENCIA!#REF!<>\"V\",ASISTENCIA!#REF!<>\"F\",ASISTENCIA!#REF!<>\"\"),SUMIF($F$13:$J$13,AA$13,$F16:$J16),\"\")","v":{"$error":"#REF!"}},{"$f":"IF(AND(LEN($D16)>0,SUMIF($F$13:$J$13,AB$13,$F16:$J16)>0,ASISTENCIA!#REF!<>\"X\",ASISTENCIA!#REF!<>\"L\",ASISTENCIA!#REF!<>\"J\",ASISTENCIA!#REF!<>\"V\",ASISTENCIA!#REF!<>\"F\",ASISTENCIA!#REF!<>\"\"),SUMIF($F$13:$J$13,AB$13,$F16:$J16),\"\")","v":{"$error":"#REF!"}},{"$f":"IF(AND(LEN($D16)>0,SUMIF($F$13:$J$13,AC$13,$F16:$J16)>0,ASISTENCIA!#REF!<>\"X\",ASISTENCIA!#REF!<>\"L\",ASISTENCIA!#REF!<>\"J\",ASISTENCIA!#REF!<>\"V\",ASISTENCIA!#REF!<>\"F\",ASISTENCIA!#REF!<>\"\"),SUMIF($F$13:$J$13,AC$13,$F16:$J16),\"\")","v":{"$error":"#REF!"}},{"$f":"IF(AND(LEN($D16)>0,SUMIF($F$13:$J$13,AD$13,$F16:$J16)>0,ASISTENCIA!#REF!<>\"X\",ASISTENCIA!#REF!<>\"L\",ASISTENCIA!#REF!<>\"J\",ASISTENCIA!#REF!<>\"V\",ASISTENCIA!#REF!<>\"F\",ASISTENCIA!#REF!<>\"\"),SUMIF($F$13:$J$13,AD$13,$F16:$J16),\"\")","v":{"$error":"#REF!"}},{"$f":"IF(AND(LEN($D16)>0,SUMIF($F$13:$J$13,AE$13,$F16:$J16)>0,ASISTENCIA!#REF!<>\"X\",ASISTENCIA!#REF!<>\"L\",ASISTENCIA!#REF!<>\"J\",ASISTENCIA!#REF!<>\"V\",ASISTENCIA!#REF!<>\"F\",ASISTENCIA!#REF!<>\"\"),SUMIF($F$13:$J$13,AE$13,$F16:$J16),\"\")","v":{"$error":"#REF!"}},{"$f":"IF(AND(LEN($D16)>0,SUMIF($F$13:$J$13,AF$13,$F16:$J16)>0,ASISTENCIA!#REF!<>\"X\",ASISTENCIA!#REF!<>\"L\",ASISTENCIA!#REF!<>\"J\",ASISTENCIA!#REF!<>\"V\",ASISTENCIA!#REF!<>\"F\",ASISTENCIA!#REF!<>\"\"),SUMIF($F$13:$J$13,AF$13,$F16:$J16),\"\")","v":{"$error":"#REF!"}},{"$f":"IF(AND(LEN($D16)>0,SUMIF($F$13:$J$13,AG$13,$F16:$J16)>0,ASISTENCIA!#REF!<>\"X\",ASISTENCIA!#REF!<>\"L\",ASISTENCIA!#REF!<>\"J\",ASISTENCIA!#REF!<>\"V\",ASISTENCIA!#REF!<>\"F\",ASISTENCIA!#REF!<>\"\"),SUMIF($F$13:$J$13,AG$13,$F16:$J16),\"\")","v":{"$error":"#REF!"}},{"$f":"IF(AND(LEN($D16)>0,SUMIF($F$13:$J$13,AH$13,$F16:$J16)>0,ASISTENCIA!#REF!<>\"X\",ASISTENCIA!#REF!<>\"L\",ASISTENCIA!#REF!<>\"J\",ASISTENCIA!#REF!<>\"V\",ASISTENCIA!#REF!<>\"F\",ASISTENCIA!#REF!<>\"\"),SUMIF($F$13:$J$13,AH$13,$F16:$J16),\"\")","v":{"$error":"#REF!"}},{"$f":"IF(AND(LEN($D16)>0,SUMIF($F$13:$J$13,AI$13,$F16:$J16)>0,ASISTENCIA!#REF!<>\"X\",ASISTENCIA!#REF!<>\"L\",ASISTENCIA!#REF!<>\"J\",ASISTENCIA!#REF!<>\"V\",ASISTENCIA!#REF!<>\"F\",ASISTENCIA!#REF!<>\"\"),SUMIF($F$13:$J$13,AI$13,$F16:$J16),\"\")","v":{"$error":"#REF!"}},{"$f":"IF(AND(LEN($D16)>0,SUMIF($F$13:$J$13,AJ$13,$F16:$J16)>0,ASISTENCIA!#REF!<>\"X\",ASISTENCIA!#REF!<>\"L\",ASISTENCIA!#REF!<>\"J\",ASISTENCIA!#REF!<>\"V\",ASISTENCIA!#REF!<>\"F\",ASISTENCIA!#REF!<>\"\"),SUMIF($F$13:$J$13,AJ$13,$F16:$J16),\"\")","v":{"$error":"#REF!"}},{"$f":"IF(AND(LEN($D16)>0,SUMIF($F$13:$J$13,AK$13,$F16:$J16)>0,ASISTENCIA!#REF!<>\"X\",ASISTENCIA!#REF!<>\"L\",ASISTENCIA!#REF!<>\"J\",ASISTENCIA!#REF!<>\"V\",ASISTENCIA!#REF!<>\"F\",ASISTENCIA!#REF!<>\"\"),SUMIF($F$13:$J$13,AK$13,$F16:$J16),\"\")","v":{"$error":"#REF!"}},{"$f":"IF(AND(LEN($D16)>0,SUMIF($F$13:$J$13,AL$13,$F16:$J16)>0,ASISTENCIA!#REF!<>\"X\",ASISTENCIA!#REF!<>\"L\",ASISTENCIA!#REF!<>\"J\",ASISTENCIA!#REF!<>\"V\",ASISTENCIA!#REF!<>\"F\",ASISTENCIA!#REF!<>\"\"),SUMIF($F$13:$J$13,AL$13,$F16:$J16),\"\")","v":{"$error":"#REF!"}},{"$f":"IF(AND(LEN($D16)>0,SUMIF($F$13:$J$13,AM$13,$F16:$J16)>0,ASISTENCIA!#REF!<>\"X\",ASISTENCIA!#REF!<>\"L\",ASISTENCIA!#REF!<>\"J\",ASISTENCIA!#REF!<>\"V\",ASISTENCIA!#REF!<>\"F\",ASISTENCIA!#REF!<>\"\"),SUMIF($F$13:$J$13,AM$13,$F16:$J16),\"\")","v":{"$error":"#REF!"}},{"$f":"IF(AND(LEN($D16)>0,SUMIF($F$13:$J$13,AN$13,$F16:$J16)>0,ASISTENCIA!#REF!<>\"X\",ASISTENCIA!#REF!<>\"L\",ASISTENCIA!#REF!<>\"J\",ASISTENCIA!#REF!<>\"V\",ASISTENCIA!#REF!<>\"F\",ASISTENCIA!#REF!<>\"\"),SUMIF($F$13:$J$13,AN$13,$F16:$J16),\"\")","v":{"$error":"#REF!"}},{"$f":"IF(AND(LEN($D16)>0,SUMIF($F$13:$J$13,AO$13,$F16:$J16)>0,ASISTENCIA!#REF!<>\"X\",ASISTENCIA!#REF!<>\"L\",ASISTENCIA!#REF!<>\"J\",ASISTENCIA!#REF!<>\"V\",ASISTENCIA!#REF!<>\"F\",ASISTENCIA!#REF!<>\"\"),SUMIF($F$13:$J$13,AO$13,$F16:$J16),\"\")","v":{"$error":"#REF!"}},{"$f":"IF(AND(LEN($D16)>0,SUMIF($F$13:$J$13,AP$13,$F16:$J16)>0,ASISTENCIA!#REF!<>\"X\",ASISTENCIA!#REF!<>\"L\",ASISTENCIA!#REF!<>\"J\",ASISTENCIA!#REF!<>\"V\",ASISTENCIA!#REF!<>\"F\",ASISTENCIA!#REF!<>\"\"),SUMIF($F$13:$J$13,AP$13,$F16:$J16),\"\")","v":{"$error":"#REF!"}},{"$f":"IF(AND(LEN($D16)>0,SUMIF($F$13:$J$13,AQ$13,$F16:$J16)>0,ASISTENCIA!#REF!<>\"X\",ASISTENCIA!#REF!<>\"L\",ASISTENCIA!#REF!<>\"J\",ASISTENCIA!#REF!<>\"V\",ASISTENCIA!#REF!<>\"F\",ASISTENCIA!#REF!<>\"\"),SUMIF($F$13:$J$13,AQ$13,$F16:$J16),\"\")","v":{"$error":"#REF!"}},{"$f":"IF(AND(LEN($D16)>0,SUMIF($F$13:$J$13,AR$13,$F16:$J16)>0,ASISTENCIA!#REF!<>\"X\",ASISTENCIA!#REF!<>\"L\",ASISTENCIA!#REF!<>\"J\",ASISTENCIA!#REF!<>\"V\",ASISTENCIA!#REF!<>\"F\",ASISTENCIA!#REF!<>\"\"),SUMIF($F$13:$J$13,AR$13,$F16:$J16),\"\")","v":{"$error":"#REF!"}},{"$f":"IF(AND(LEN($D16)>0,SUMIF($F$13:$J$13,AS$13,$F16:$J16)>0,ASISTENCIA!#REF!<>\"X\",ASISTENCIA!#REF!<>\"L\",ASISTENCIA!#REF!<>\"J\",ASISTENCIA!#REF!<>\"V\",ASISTENCIA!#REF!<>\"F\",ASISTENCIA!#REF!<>\"\"),SUMIF($F$13:$J$13,AS$13,$F16:$J16),\"\")","v":{"$error":"#REF!"}},{"$error":"#REF!"},null,null,null,{"$f":"IF(AND(LEN($D16)>0,SUMIF($F$13:$J$13,AX$13,$F16:$J16)>0,ASISTENCIA!#REF!<>\"X\",ASISTENCIA!#REF!<>\"L\",ASISTENCIA!#REF!<>\"J\",ASISTENCIA!#REF!<>\"F\"),SUMIF($F$13:$J$13,AX$13,$F16:$J16),\"\")","v":{"$error":"#REF!"}},{"$f":"IF(AND(LEN($D16)>0,SUMIF($F$13:$J$13,AY$13,$F16:$J16)>0,ASISTENCIA!#REF!<>\"X\",ASISTENCIA!#REF!<>\"L\",ASISTENCIA!#REF!<>\"J\",ASISTENCIA!#REF!<>\"F\"),SUMIF($F$13:$J$13,AY$13,$F16:$J16),\"\")","v":{"$error":"#REF!"}},{"$f":"IF(AND(LEN($D16)>0,SUMIF($F$13:$J$13,AZ$13,$F16:$J16)>0,ASISTENCIA!#REF!<>\"X\",ASISTENCIA!#REF!<>\"L\",ASISTENCIA!#REF!<>\"J\",ASISTENCIA!#REF!<>\"F\"),SUMIF($F$13:$J$13,AZ$13,$F16:$J16),\"\")","v":{"$error":"#REF!"}},{"$f":"IF(AND(LEN($D16)>0,SUMIF($F$13:$J$13,BA$13,$F16:$J16)>0,ASISTENCIA!#REF!<>\"X\",ASISTENCIA!#REF!<>\"L\",ASISTENCIA!#REF!<>\"J\",ASISTENCIA!#REF!<>\"F\"),SUMIF($F$13:$J$13,BA$13,$F16:$J16),\"\")","v":{"$error":"#REF!"}},{"$f":"IF(AND(LEN($D16)>0,SUMIF($F$13:$J$13,BB$13,$F16:$J16)>0,ASISTENCIA!#REF!<>\"X\",ASISTENCIA!#REF!<>\"L\",ASISTENCIA!#REF!<>\"J\",ASISTENCIA!#REF!<>\"F\"),SUMIF($F$13:$J$13,BB$13,$F16:$J16),\"\")","v":{"$error":"#REF!"}},{"$f":"IF(AND(LEN($D16)>0,SUMIF($F$13:$J$13,BC$13,$F16:$J16)>0,ASISTENCIA!#REF!<>\"X\",ASISTENCIA!#REF!<>\"L\",ASISTENCIA!#REF!<>\"J\",ASISTENCIA!#REF!<>\"F\"),SUMIF($F$13:$J$13,BC$13,$F16:$J16),\"\")","v":{"$error":"#REF!"}},{"$f":"IF(AND(LEN($D16)>0,SUMIF($F$13:$J$13,BD$13,$F16:$J16)>0,ASISTENCIA!#REF!<>\"X\",ASISTENCIA!#REF!<>\"L\",ASISTENCIA!#REF!<>\"J\",ASISTENCIA!#REF!<>\"F\"),SUMIF($F$13:$J$13,BD$13,$F16:$J16),\"\")","v":{"$error":"#REF!"}},{"$f":"IF(AND(LEN($D16)>0,SUMIF($F$13:$J$13,BE$13,$F16:$J16)>0,ASISTENCIA!#REF!<>\"X\",ASISTENCIA!#REF!<>\"L\",ASISTENCIA!#REF!<>\"J\",ASISTENCIA!#REF!<>\"F\"),SUMIF($F$13:$J$13,BE$13,$F16:$J16),\"\")","v":{"$error":"#REF!"}},{"$f":"IF(AND(LEN($D16)>0,SUMIF($F$13:$J$13,BF$13,$F16:$J16)>0,ASISTENCIA!#REF!<>\"X\",ASISTENCIA!#REF!<>\"L\",ASISTENCIA!#REF!<>\"J\",ASISTENCIA!#REF!<>\"F\"),SUMIF($F$13:$J$13,BF$13,$F16:$J16),\"\")","v":{"$error":"#REF!"}},{"$f":"IF(AND(LEN($D16)>0,SUMIF($F$13:$J$13,BG$13,$F16:$J16)>0,ASISTENCIA!#REF!<>\"X\",ASISTENCIA!#REF!<>\"L\",ASISTENCIA!#REF!<>\"J\",ASISTENCIA!#REF!<>\"F\"),SUMIF($F$13:$J$13,BG$13,$F16:$J16),\"\")","v":{"$error":"#REF!"}},{"$f":"IF(AND(LEN($D16)>0,SUMIF($F$13:$J$13,BH$13,$F16:$J16)>0,ASISTENCIA!#REF!<>\"X\",ASISTENCIA!#REF!<>\"L\",ASISTENCIA!#REF!<>\"J\",ASISTENCIA!#REF!<>\"F\"),SUMIF($F$13:$J$13,BH$13,$F16:$J16),\"\")","v":{"$error":"#REF!"}},{"$f":"IF(AND(LEN($D16)>0,SUMIF($F$13:$J$13,BI$13,$F16:$J16)>0,ASISTENCIA!#REF!<>\"X\",ASISTENCIA!#REF!<>\"L\",ASISTENCIA!#REF!<>\"J\",ASISTENCIA!#REF!<>\"F\"),SUMIF($F$13:$J$13,BI$13,$F16:$J16),\"\")","v":{"$error":"#REF!"}},{"$f":"IF(AND(LEN($D16)>0,SUMIF($F$13:$J$13,BJ$13,$F16:$J16)>0,ASISTENCIA!#REF!<>\"X\",ASISTENCIA!#REF!<>\"L\",ASISTENCIA!#REF!<>\"J\",ASISTENCIA!#REF!<>\"F\"),SUMIF($F$13:$J$13,BJ$13,$F16:$J16),\"\")","v":{"$error":"#REF!"}},{"$f":"IF(AND(LEN($D16)>0,SUMIF($F$13:$J$13,BK$13,$F16:$J16)>0,ASISTENCIA!#REF!<>\"X\",ASISTENCIA!#REF!<>\"L\",ASISTENCIA!#REF!<>\"J\",ASISTENCIA!#REF!<>\"F\"),SUMIF($F$13:$J$13,BK$13,$F16:$J16),\"\")","v":{"$error":"#REF!"}},{"$f":"IF(AND(LEN($D16)>0,SUMIF($F$13:$J$13,BL$13,$F16:$J16)>0,ASISTENCIA!#REF!<>\"X\",ASISTENCIA!#REF!<>\"L\",ASISTENCIA!#REF!<>\"J\",ASISTENCIA!#REF!<>\"F\"),SUMIF($F$13:$J$13,BL$13,$F16:$J16),\"\")","v":{"$error":"#REF!"}},{"$f":"IF(AND(LEN($D16)>0,SUMIF($F$13:$J$13,BM$13,$F16:$J16)>0,ASISTENCIA!#REF!<>\"X\",ASISTENCIA!#REF!<>\"L\",ASISTENCIA!#REF!<>\"J\",ASISTENCIA!#REF!<>\"F\"),SUMIF($F$13:$J$13,BM$13,$F16:$J16),\"\")","v":{"$error":"#REF!"}},{"$f":"IF(AND(LEN($D16)>0,SUMIF($F$13:$J$13,BN$13,$F16:$J16)>0,ASISTENCIA!#REF!<>\"X\",ASISTENCIA!#REF!<>\"L\",ASISTENCIA!#REF!<>\"J\",ASISTENCIA!#REF!<>\"F\"),SUMIF($F$13:$J$13,BN$13,$F16:$J16),\"\")","v":{"$error":"#REF!"}},{"$f":"IF(AND(LEN($D16)>0,SUMIF($F$13:$J$13,BO$13,$F16:$J16)>0,ASISTENCIA!#REF!<>\"X\",ASISTENCIA!#REF!<>\"L\",ASISTENCIA!#REF!<>\"J\",ASISTENCIA!#REF!<>\"F\"),SUMIF($F$13:$J$13,BO$13,$F16:$J16),\"\")","v":{"$error":"#REF!"}},{"$f":"IF(AND(LEN($D16)>0,SUMIF($F$13:$J$13,BP$13,$F16:$J16)>0,ASISTENCIA!#REF!<>\"X\",ASISTENCIA!#REF!<>\"L\",ASISTENCIA!#REF!<>\"J\",ASISTENCIA!#REF!<>\"F\"),SUMIF($F$13:$J$13,BP$13,$F16:$J16),\"\")","v":{"$error":"#REF!"}},{"$f":"IF(AND(LEN($D16)>0,SUMIF($F$13:$J$13,BQ$13,$F16:$J16)>0,ASISTENCIA!#REF!<>\"X\",ASISTENCIA!#REF!<>\"L\",ASISTENCIA!#REF!<>\"J\",ASISTENCIA!#REF!<>\"F\"),SUMIF($F$13:$J$13,BQ$13,$F16:$J16),\"\")","v":{"$error":"#REF!"}},{"$f":"IF(AND(LEN($D16)>0,SUMIF($F$13:$J$13,BR$13,$F16:$J16)>0,ASISTENCIA!#REF!<>\"X\",ASISTENCIA!#REF!<>\"L\",ASISTENCIA!#REF!<>\"J\",ASISTENCIA!#REF!<>\"F\"),SUMIF($F$13:$J$13,BR$13,$F16:$J16),\"\")","v":{"$error":"#REF!"}},{"$f":"IF(AND(LEN($D16)>0,SUMIF($F$13:$J$13,BS$13,$F16:$J16)>0,ASISTENCIA!#REF!<>\"X\",ASISTENCIA!#REF!<>\"L\",ASISTENCIA!#REF!<>\"J\",ASISTENCIA!#REF!<>\"F\"),SUMIF($F$13:$J$13,BS$13,$F16:$J16),\"\")","v":{"$error":"#REF!"}},{"$f":"IF(AND(LEN($D16)>0,SUMIF($F$13:$J$13,BT$13,$F16:$J16)>0,ASISTENCIA!#REF!<>\"X\",ASISTENCIA!#REF!<>\"L\",ASISTENCIA!#REF!<>\"J\",ASISTENCIA!#REF!<>\"F\"),SUMIF($F$13:$J$13,BT$13,$F16:$J16),\"\")","v":{"$error":"#REF!"}},{"$f":"IF(AND(LEN($D16)>0,SUMIF($F$13:$J$13,BU$13,$F16:$J16)>0,ASISTENCIA!#REF!<>\"X\",ASISTENCIA!#REF!<>\"L\",ASISTENCIA!#REF!<>\"J\",ASISTENCIA!#REF!<>\"F\"),SUMIF($F$13:$J$13,BU$13,$F16:$J16),\"\")","v":{"$error":"#REF!"}},{"$f":"IF(AND(LEN($D16)>0,SUMIF($F$13:$J$13,BV$13,$F16:$J16)>0,ASISTENCIA!#REF!<>\"X\",ASISTENCIA!#REF!<>\"L\",ASISTENCIA!#REF!<>\"J\",ASISTENCIA!#REF!<>\"F\"),SUMIF($F$13:$J$13,BV$13,$F16:$J16),\"\")","v":{"$error":"#REF!"}},{"$f":"IF(AND(LEN($D16)>0,SUMIF($F$13:$J$13,BW$13,$F16:$J16)>0,ASISTENCIA!#REF!<>\"X\",ASISTENCIA!#REF!<>\"L\",ASISTENCIA!#REF!<>\"J\",ASISTENCIA!#REF!<>\"F\"),SUMIF($F$13:$J$13,BW$13,$F16:$J16),\"\")","v":{"$error":"#REF!"}},{"$f":"IF(AND(LEN($D16)>0,SUMIF($F$13:$J$13,BX$13,$F16:$J16)>0,ASISTENCIA!#REF!<>\"X\",ASISTENCIA!#REF!<>\"L\",ASISTENCIA!#REF!<>\"J\",ASISTENCIA!#REF!<>\"F\"),SUMIF($F$13:$J$13,BX$13,$F16:$J16),\"\")","v":{"$error":"#REF!"}},{"$f":"IF(AND(LEN($D16)>0,SUMIF($F$13:$J$13,BY$13,$F16:$J16)>0,ASISTENCIA!#REF!<>\"X\",ASISTENCIA!#REF!<>\"L\",ASISTENCIA!#REF!<>\"J\",ASISTENCIA!#REF!<>\"F\"),SUMIF($F$13:$J$13,BY$13,$F16:$J16),\"\")","v":{"$error":"#REF!"}},{"$f":"IF(AND(LEN($D16)>0,SUMIF($F$13:$J$13,BZ$13,$F16:$J16)>0,ASISTENCIA!#REF!<>\"X\",ASISTENCIA!#REF!<>\"L\",ASISTENCIA!#REF!<>\"J\",ASISTENCIA!#REF!<>\"F\"),SUMIF($F$13:$J$13,BZ$13,$F16:$J16),\"\")","v":{"$error":"#REF!"}},{"$f":"IF(AND(LEN($D16)>0,SUMIF($F$13:$J$13,CA$13,$F16:$J16)>0,ASISTENCIA!#REF!<>\"X\",ASISTENCIA!#REF!<>\"L\",ASISTENCIA!#REF!<>\"J\",ASISTENCIA!#REF!<>\"F\"),SUMIF($F$13:$J$13,CA$13,$F16:$J16),\"\")","v":{"$error":"#REF!"}},{"$f":"IF(AND(LEN($D16)>0,SUMIF($F$13:$J$13,CB$13,$F16:$J16)>0,ASISTENCIA!#REF!<>\"X\",ASISTENCIA!#REF!<>\"L\",ASISTENCIA!#REF!<>\"J\",ASISTENCIA!#REF!<>\"F\"),SUMIF($F$13:$J$13,CB$13,$F16:$J16),\"\")","v":{"$error":"#REF!"}},{"$error":"#REF!"}]
[{"$error":"#REF!"},{"$f":"IF(LEN(C17)>0,VLOOKUP($O$4,DATA!$A$1:$S$1,2,FALSE),\"\")","v":{"$error":"#REF!"}},{"$error":"#REF!"},{"$f":"IF(LEN(ASISTENCIA!#REF!)>0,ASISTENCIA!#REF!,\"\")","v":{"$error":"#REF!"}},{"$f":"IF(LEN(D17)>0,ASISTENCIA!#REF!,\"\")","v":{"$error":"#REF!"}},null,null,null,null,null,"",null,null,{"$error":"#REF!"},{"$f":"IF(AND(LEN($D17)>0,SUMIF($F$13:$J$13,O$13,$F17:$J17)>0,ASISTENCIA!#REF!<>\"X\",ASISTENCIA!#REF!<>\"L\",ASISTENCIA!#REF!<>\"J\",ASISTENCIA!#REF!<>\"V\",ASISTENCIA!#REF!<>\"F\",ASISTENCIA!#REF!<>\"\"),SUMIF($F$13:$J$13,O$13,$F17:$J17),\"\")","v":{"$error":"#REF!"}},{"$f":"IF(AND(LEN($D17)>0,SUMIF($F$13:$J$13,P$13,$F17:$J17)>0,ASISTENCIA!#REF!<>\"X\",ASISTENCIA!#REF!<>\"L\",ASISTENCIA!#REF!<>\"J\",ASISTENCIA!#REF!<>\"V\",ASISTENCIA!#REF!<>\"F\",ASISTENCIA!#REF!<>\"\"),SUMIF($F$13:$J$13,P$13,$F17:$J17),\"\")","v":{"$error":"#REF!"}},{"$f":"IF(AND(LEN($D17)>0,SUMIF($F$13:$J$13,Q$13,$F17:$J17)>0,ASISTENCIA!#REF!<>\"X\",ASISTENCIA!#REF!<>\"L\",ASISTENCIA!#REF!<>\"J\",ASISTENCIA!#REF!<>\"V\",ASISTENCIA!#REF!<>\"F\",ASISTENCIA!#REF!<>\"\"),SUMIF($F$13:$J$13,Q$13,$F17:$J17),\"\")","v":{"$error":"#REF!"}},{"$f":"IF(AND(LEN($D17)>0,SUMIF($F$13:$J$13,R$13,$F17:$J17)>0,ASISTENCIA!#REF!<>\"X\",ASISTENCIA!#REF!<>\"L\",ASISTENCIA!#REF!<>\"J\",ASISTENCIA!#REF!<>\"V\",ASISTENCIA!#REF!<>\"F\",ASISTENCIA!#REF!<>\"\"),SUMIF($F$13:$J$13,R$13,$F17:$J17),\"\")","v":{"$error":"#REF!"}},{"$f":"IF(AND(LEN($D17)>0,SUMIF($F$13:$J$13,S$13,$F17:$J17)>0,ASISTENCIA!#REF!<>\"X\",ASISTENCIA!#REF!<>\"L\",ASISTENCIA!#REF!<>\"J\",ASISTENCIA!#REF!<>\"V\",ASISTENCIA!#REF!<>\"F\",ASISTENCIA!#REF!<>\"\"),SUMIF($F$13:$J$13,S$13,$F17:$J17),\"\")","v":{"$error":"#REF!"}},{"$f":"IF(AND(LEN($D17)>0,SUMIF($F$13:$J$13,T$13,$F17:$J17)>0,ASISTENCIA!#REF!<>\"X\",ASISTENCIA!#REF!<>\"L\",ASISTENCIA!#REF!<>\"J\",ASISTENCIA!#REF!<>\"V\",ASISTENCIA!#REF!<>\"F\",ASISTENCIA!#REF!<>\"\"),SUMIF($F$13:$J$13,T$13,$F17:$J17),\"\")","v":{"$error":"#REF!"}},{"$f":"IF(AND(LEN($D17)>0,SUMIF($F$13:$J$13,U$13,$F17:$J17)>0,ASISTENCIA!#REF!<>\"X\",ASISTENCIA!#REF!<>\"L\",ASISTENCIA!#REF!<>\"J\",ASISTENCIA!#REF!<>\"V\",ASISTENCIA!#REF!<>\"F\",ASISTENCIA!#REF!<>\"\"),SUMIF($F$13:$J$13,U$13,$F17:$J17),\"\")","v":{"$error":"#REF!"}},{"$f":"IF(AND(LEN($D17)>0,SUMIF($F$13:$J$13,V$13,$F17:$J17)>0,ASISTENCIA!#REF!<>\"X\",ASISTENCIA!#REF!<>\"L\",ASISTENCIA!#REF!<>\"J\",ASISTENCIA!#REF!<>\"V\",ASISTENCIA!#REF!<>\"F\",ASISTENCIA!#REF!<>\"\"),SUMIF($F$13:$J$13,V$13,$F17:$J17),\"\")","v":{"$error":"#REF!"}},{"$f":"IF(AND(LEN($D17)>0,SUMIF($F$13:$J$13,W$13,$F17:$J17)>0,ASISTENCIA!#REF!<>\"X\",ASISTENCIA!#REF!<>\"L\",ASISTENCIA!#REF!<>\"J\",ASISTENCIA!#REF!<>\"V\",ASISTENCIA!#REF!<>\"F\",ASISTENCIA!#REF!<>\"\"),SUMIF($F$13:$J$13,W$13,$F17:$J17),\"\")","v":{"$error":"#REF!"}},{"$f":"IF(AND(LEN($D17)>0,SUMIF($F$13:$J$13,X$13,$F17:$J17)>0,ASISTENCIA!#REF!<>\"X\",ASISTENCIA!#REF!<>\"L\",ASISTENCIA!#REF!<>\"J\",ASISTENCIA!#REF!<>\"V\",ASISTENCIA!#REF!<>\"F\",ASISTENCIA!#REF!<>\"\"),SUMIF($F$13:$J$13,X$13,$F17:$J17),\"\")","v":{"$error":"#REF!"}},{"$f":"IF(AND(LEN($D17)>0,SUMIF($F$13:$J$13,Y$13,$F17:$J17)>0,ASISTENCIA!#REF!<>\"X\",ASISTENCIA!#REF!<>\"L\",ASISTENCIA!#REF!<>\"J\",ASISTENCIA!#REF!<>\"V\",ASISTENCIA!#REF!<>\"F\",ASISTENCIA!#REF!<>\"\"),SUMIF($F$13:$J$13,Y$13,$F17:$J17),\"\")","v":{"$error":"#REF!"}},{"$f":"IF(AND(LEN($D17)>0,SUMIF($F$13:$J$13,Z$13,$F17:$J17)>0,ASISTENCIA!#REF!<>\"X\",ASISTENCIA!#REF!<>\"L\",ASISTENCIA!#REF!<>\"J\",ASISTENCIA!#REF!<>\"V\",ASISTENCIA!#REF!<>\"F\",ASISTENCIA!#REF!<>\"\"),SUMIF($F$13:$J$13,Z$13,$F17:$J17),\"\")","v":{"$error":"#REF!"}},{"$f":"IF(AND(LEN($D17)>0,SUMIF($F$13:$J$13,AA$13,$F17:$J17)>0,ASISTENCIA!#REF!<>\"X\",ASISTENCIA!#REF!<>\"L\",ASISTENCIA!#REF!<>\"J\",ASISTENCIA!#REF!<>\"V\",ASISTENCIA!#REF!<>\"F\",ASISTENCIA!#REF!<>\"\"),SUMIF($F$13:$J$13,AA$13,$F17:$J17),\"\")","v":{"$error":"#REF!"}},{"$f":"IF(AND(LEN($D17)>0,SUMIF($F$13:$J$13,AB$13,$F17:$J17)>0,ASISTENCIA!#REF!<>\"X\",ASISTENCIA!#REF!<>\"L\",ASISTENCIA!#REF!<>\"J\",ASISTENCIA!#REF!<>\"V\",ASISTENCIA!#REF!<>\"F\",ASISTENCIA!#REF!<>\"\"),SUMIF($F$13:$J$13,AB$13,$F17:$J17),\"\")","v":{"$error":"#REF!"}},{"$f":"IF(AND(LEN($D17)>0,SUMIF($F$13:$J$13,AC$13,$F17:$J17)>0,ASISTENCIA!#REF!<>\"X\",ASISTENCIA!#REF!<>\"L\",ASISTENCIA!#REF!<>\"J\",ASISTENCIA!#REF!<>\"V\",ASISTENCIA!#REF!<>\"F\",ASISTENCIA!#REF!<>\"\"),SUMIF($F$13:$J$13,AC$13,$F17:$J17),\"\")","v":{"$error":"#REF!"}},{"$f":"IF(AND(LEN($D17)>0,SUMIF($F$13:$J$13,AD$13,$F17:$J17)>0,ASISTENCIA!#REF!<>\"X\",ASISTENCIA!#REF!<>\"L\",ASISTENCIA!#REF!<>\"J\",ASISTENCIA!#REF!<>\"V\",ASISTENCIA!#REF!<>\"F\",ASISTENCIA!#REF!<>\"\"),SUMIF($F$13:$J$13,AD$13,$F17:$J17),\"\")","v":{"$error":"#REF!"}},{"$f":"IF(AND(LEN($D17)>0,SUMIF($F$13:$J$13,AE$13,$F17:$J17)>0,ASISTENCIA!#REF!<>\"X\",ASISTENCIA!#REF!<>\"L\",ASISTENCIA!#REF!<>\"J\",ASISTENCIA!#REF!<>\"V\",ASISTENCIA!#REF!<>\"F\",ASISTENCIA!#REF!<>\"\"),SUMIF($F$13:$J$13,AE$13,$F17:$J17),\"\")","v":{"$error":"#REF!"}},{"$f":"IF(AND(LEN($D17)>0,SUMIF($F$13:$J$13,AF$13,$F17:$J17)>0,ASISTENCIA!#REF!<>\"X\",ASISTENCIA!#REF!<>\"L\",ASISTENCIA!#REF!<>\"J\",ASISTENCIA!#REF!<>\"V\",ASISTENCIA!#REF!<>\"F\",ASISTENCIA!#REF!<>\"\"),SUMIF($F$13:$J$13,AF$13,$F17:$J17),\"\")","v":{"$error":"#REF!"}},{"$f":"IF(AND(LEN($D17)>0,SUMIF($F$13:$J$13,AG$13,$F17:$J17)>0,ASISTENCIA!#REF!<>\"X\",ASISTENCIA!#REF!<>\"L\",ASISTENCIA!#REF!<>\"J\",ASISTENCIA!#REF!<>\"V\",ASISTENCIA!#REF!<>\"F\",ASISTENCIA!#REF!<>\"\"),SUMIF($F$13:$J$13,AG$13,$F17:$J17),\"\")","v":{"$error":"#REF!"}},{"$f":"IF(AND(LEN($D17)>0,SUMIF($F$13:$J$13,AH$13,$F17:$J17)>0,ASISTENCIA!#REF!<>\"X\",ASISTENCIA!#REF!<>\"L\",ASISTENCIA!#REF!<>\"J\",ASISTENCIA!#REF!<>\"V\",ASISTENCIA!#REF!<>\"F\",ASISTENCIA!#REF!<>\"\"),SUMIF($F$13:$J$13,AH$13,$F17:$J17),\"\")","v":{"$error":"#REF!"}},{"$f":"IF(AND(LEN($D17)>0,SUMIF($F$13:$J$13,AI$13,$F17:$J17)>0,ASISTENCIA!#REF!<>\"X\",ASISTENCIA!#REF!<>\"L\",ASISTENCIA!#REF!<>\"J\",ASISTENCIA!#REF!<>\"V\",ASISTENCIA!#REF!<>\"F\",ASISTENCIA!#REF!<>\"\"),SUMIF($F$13:$J$13,AI$13,$F17:$J17),\"\")","v":{"$error":"#REF!"}},{"$f":"IF(AND(LEN($D17)>0,SUMIF($F$13:$J$13,AJ$13,$F17:$J17)>0,ASISTENCIA!#REF!<>\"X\",ASISTENCIA!#REF!<>\"L\",ASISTENCIA!#REF!<>\"J\",ASISTENCIA!#REF!<>\"V\",ASISTENCIA!#REF!<>\"F\",ASISTENCIA!#REF!<>\"\"),SUMIF($F$13:$J$13,AJ$13,$F17:$J17),\"\")","v":{"$error":"#REF!"}},{"$f":"IF(AND(LEN($D17)>0,SUMIF($F$13:$J$13,AK$13,$F17:$J17)>0,ASISTENCIA!#REF!<>\"X\",ASISTENCIA!#REF!<>\"L\",ASISTENCIA!#REF!<>\"J\",ASISTENCIA!#REF!<>\"V\",ASISTENCIA!#REF!<>\"F\",ASISTENCIA!#REF!<>\"\"),SUMIF($F$13:$J$13,AK$13,$F17:$J17),\"\")","v":{"$error":"#REF!"}},{"$f":"IF(AND(LEN($D17)>0,SUMIF($F$13:$J$13,AL$13,$F17:$J17)>0,ASISTENCIA!#REF!<>\"X\",ASISTENCIA!#REF!<>\"L\",ASISTENCIA!#REF!<>\"J\",ASISTENCIA!#REF!<>\"V\",ASISTENCIA!#REF!<>\"F\",ASISTENCIA!#REF!<>\"\"),SUMIF($F$13:$J$13,AL$13,$F17:$J17),\"\")","v":{"$error":"#REF!"}},{"$f":"IF(AND(LEN($D17)>0,SUMIF($F$13:$J$13,AM$13,$F17:$J17)>0,ASISTENCIA!#REF!<>\"X\",ASISTENCIA!#REF!<>\"L\",ASISTENCIA!#REF!<>\"J\",ASISTENCIA!#REF!<>\"V\",ASISTENCIA!#REF!<>\"F\",ASISTENCIA!#REF!<>\"\"),SUMIF($F$13:$J$13,AM$13,$F17:$J17),\"\")","v":{"$error":"#REF!"}},{"$f":"IF(AND(LEN($D17)>0,SUMIF($F$13:$J$13,AN$13,$F17:$J17)>0,ASISTENCIA!#REF!<>\"X\",ASISTENCIA!#REF!<>\"L\",ASISTENCIA!#REF!<>\"J\",ASISTENCIA!#REF!<>\"V\",ASISTENCIA!#REF!<>\"F\",ASISTENCIA!#REF!<>\"\"),SUMIF($F$13:$J$13,AN$13,$F17:$J17),\"\")","v":{"$error":"#REF!"}},{"$f":"IF(AND(LEN($D17)>0,SUMIF($F$13:$J$13,AO$13,$F17:$J17)>0,ASISTENCIA!#REF!<>\"X\",ASISTENCIA!#REF!<>\"L\",ASISTENCIA!#REF!<>\"J\",ASISTENCIA!#REF!<>\"V\",ASISTENCIA!#REF!<>\"F\",ASISTENCIA!#REF!<>\"\"),SUMIF($F$13:$J$13,AO$13,$F17:$J17),\"\")","v":{"$error":"#REF!"}},{"$f":"IF(AND(LEN($D17)>0,SUMIF($F$13:$J$13,AP$13,$F17:$J17)>0,ASISTENCIA!#REF!<>\"X\",ASISTENCIA!#REF!<>\"L\",ASISTENCIA!#REF!<>\"J\",ASISTENCIA!#REF!<>\"V\",ASISTENCIA!#REF!<>\"F\",ASISTENCIA!#REF!<>\"\"),SUMIF($F$13:$J$13,AP$13,$F17:$J17),\"\")","v":{"$error":"#REF!"}},{"$f":"IF(AND(LEN($D17)>0,SUMIF($F$13:$J$13,AQ$13,$F17:$J17)>0,ASISTENCIA!#REF!<>\"X\",ASISTENCIA!#REF!<>\"L\",ASISTENCIA!#REF!<>\"J\",ASISTENCIA!#REF!<>\"V\",ASISTENCIA!#REF!<>\"F\",ASISTENCIA!#REF!<>\"\"),SUMIF($F$13:$J$13,AQ$13,$F17:$J17),\"\")","v":{"$error":"#REF!"}},{"$f":"IF(AND(LEN($D17)>0,SUMIF($F$13:$J$13,AR$13,$F17:$J17)>0,ASISTENCIA!#REF!<>\"X\",ASISTENCIA!#REF!<>\"L\",ASISTENCIA!#REF!<>\"J\",ASISTENCIA!#REF!<>\"V\",ASISTENCIA!#REF!<>\"F\",ASISTENCIA!#REF!<>\"\"),SUMIF($F$13:$J$13,AR$13,$F17:$J17),\"\")","v":{"$error":"#REF!"}},{"$f":"IF(AND(LEN($D17)>0,SUMIF($F$13:$J$13,AS$13,$F17:$J17)>0,ASISTENCIA!#REF!<>\"X\",ASISTENCIA!#REF!<>\"L\",ASISTENCIA!#REF!<>\"J\",ASISTENCIA!#REF!<>\"V\",ASISTENCIA!#REF!<>\"F\",ASISTENCIA!#REF!<>\"\"),SUMIF($F$13:$J$13,AS$13,$F17:$J17),\"\")","v":{"$error":"#REF!"}},{"$error":"#REF!"},null,null,null,{"$f":"IF(AND(LEN($D17)>0,SUMIF($F$13:$J$13,AX$13,$F17:$J17)>0,ASISTENCIA!#REF!<>\"X\",ASISTENCIA!#REF!<>\"L\",ASISTENCIA!#REF!<>\"J\",ASISTENCIA!#REF!<>\"F\"),SUMIF($F$13:$J$13,AX$13,$F17:$J17),\"\")","v":{"$error":"#REF!"}},{"$f":"IF(AND(LEN($D17)>0,SUMIF($F$13:$J$13,AY$13,$F17:$J17)>0,ASISTENCIA!#REF!<>\"X\",ASISTENCIA!#REF!<>\"L\",ASISTENCIA!#REF!<>\"J\",ASISTENCIA!#REF!<>\"F\"),SUMIF($F$13:$J$13,AY$13,$F17:$J17),\"\")","v":{"$error":"#REF!"}},{"$f":"IF(AND(LEN($D17)>0,SUMIF($F$13:$J$13,AZ$13,$F17:$J17)>0,ASISTENCIA!#REF!<>\"X\",ASISTENCIA!#REF!<>\"L\",ASISTENCIA!#REF!<>\"J\",ASISTENCIA!#REF!<>\"F\"),SUMIF($F$13:$J$13,AZ$13,$F17:$J17),\"\")","v":{"$error":"#REF!"}},{"$f":"IF(AND(LEN($D17)>0,SUMIF($F$13:$J$13,BA$13,$F17:$J17)>0,ASISTENCIA!#REF!<>\"X\",ASISTENCIA!#REF!<>\"L\",ASISTENCIA!#REF!<>\"J\",ASISTENCIA!#REF!<>\"F\"),SUMIF($F$13:$J$13,BA$13,$F17:$J17),\"\")","v":{"$error":"#REF!"}},{"$f":"IF(AND(LEN($D17)>0,SUMIF($F$13:$J$13,BB$13,$F17:$J17)>0,ASISTENCIA!#REF!<>\"X\",ASISTENCIA!#REF!<>\"L\",ASISTENCIA!#REF!<>\"J\",ASISTENCIA!#REF!<>\"F\"),SUMIF($F$13:$J$13,BB$13,$F17:$J17),\"\")","v":{"$error":"#REF!"}},{"$f":"IF(AND(LEN($D17)>0,SUMIF($F$13:$J$13,BC$13,$F17:$J17)>0,ASISTENCIA!#REF!<>\"X\",ASISTENCIA!#REF!<>\"L\",ASISTENCIA!#REF!<>\"J\",ASISTENCIA!#REF!<>\"F\"),SUMIF($F$13:$J$13,BC$13,$F17:$J17),\"\")","v":{"$error":"#REF!"}},{"$f":"IF(AND(LEN($D17)>0,SUMIF($F$13:$J$13,BD$13,$F17:$J17)>0,ASISTENCIA!#REF!<>\"X\",ASISTENCIA!#REF!<>\"L\",ASISTENCIA!#REF!<>\"J\",ASISTENCIA!#REF!<>\"F\"),SUMIF($F$13:$J$13,BD$13,$F17:$J17),\"\")","v":{"$error":"#REF!"}},{"$f":"IF(AND(LEN($D17)>0,SUMIF($F$13:$J$13,BE$13,$F17:$J17)>0,ASISTENCIA!#REF!<>\"X\",ASISTENCIA!#REF!<>\"L\",ASISTENCIA!#REF!<>\"J\",ASISTENCIA!#REF!<>\"F\"),SUMIF($F$13:$J$13,BE$13,$F17:$J17),\"\")","v":{"$error":"#REF!"}},{"$f":"IF(AND(LEN($D17)>0,SUMIF($F$13:$J$13,BF$13,$F17:$J17)>0,ASISTENCIA!#REF!<>\"X\",ASISTENCIA!#REF!<>\"L\",ASISTENCIA!#REF!<>\"J\",ASISTENCIA!#REF!<>\"F\"),SUMIF($F$13:$J$13,BF$13,$F17:$J17),\"\")","v":{"$error":"#REF!"}},{"$f":"IF(AND(LEN($D17)>0,SUMIF($F$13:$J$13,BG$13,$F17:$J17)>0,ASISTENCIA!#REF!<>\"X\",ASISTENCIA!#REF!<>\"L\",ASISTENCIA!#REF!<>\"J\",ASISTENCIA!#REF!<>\"F\"),SUMIF($F$13:$J$13,BG$13,$F17:$J17),\"\")","v":{"$error":"#REF!"}},{"$f":"IF(AND(LEN($D17)>0,SUMIF($F$13:$J$13,BH$13,$F17:$J17)>0,ASISTENCIA!#REF!<>\"X\",ASISTENCIA!#REF!<>\"L\",ASISTENCIA!#REF!<>\"J\",ASISTENCIA!#REF!<>\"F\"),SUMIF($F$13:$J$13,BH$13,$F17:$J17),\"\")","v":{"$error":"#REF!"}},{"$f":"IF(AND(LEN($D17)>0,SUMIF($F$13:$J$13,BI$13,$F17:$J17)>0,ASISTENCIA!#REF!<>\"X\",ASISTENCIA!#REF!<>\"L\",ASISTENCIA!#REF!<>\"J\",ASISTENCIA!#REF!<>\"F\"),SUMIF($F$13:$J$13,BI$13,$F17:$J17),\"\")","v":{"$error":"#REF!"}},{"$f":"IF(AND(LEN($D17)>0,SUMIF($F$13:$J$13,BJ$13,$F17:$J17)>0,ASISTENCIA!#REF!<>\"X\",ASISTENCIA!#REF!<>\"L\",ASISTENCIA!#REF!<>\"J\",ASISTENCIA!#REF!<>\"F\"),SUMIF($F$13:$J$13,BJ$13,$F17:$J17),\"\")","v":{"$error":"#REF!"}},{"$f":"IF(AND(LEN($D17)>0,SUMIF($F$13:$J$13,BK$13,$F17:$J17)>0,ASISTENCIA!#REF!<>\"X\",ASISTENCIA!#REF!<>\"L\",ASISTENCIA!#REF!<>\"J\",ASISTENCIA!#REF!<>\"F\"),SUMIF($F$13:$J$13,BK$13,$F17:$J17),\"\")","v":{"$error":"#REF!"}},{"$f":"IF(AND(LEN($D17)>0,SUMIF($F$13:$J$13,BL$13,$F17:$J17)>0,ASISTENCIA!#REF!<>\"X\",ASISTENCIA!#REF!<>\"L\",ASISTENCIA!#REF!<>\"J\",ASISTENCIA!#REF!<>\"F\"),SUMIF($F$13:$J$13,BL$13,$F17:$J17),\"\")","v":{"$error":"#REF!"}},{"$f":"IF(AND(LEN($D17)>0,SUMIF($F$13:$J$13,BM$13,$F17:$J17)>0,ASISTENCIA!#REF!<>\"X\",ASISTENCIA!#REF!<>\"L\",ASISTENCIA!#REF!<>\"J\",ASISTENCIA!#REF!<>\"F\"),SUMIF($F$13:$J$13,BM$13,$F17:$J17),\"\")","v":{"$error":"#REF!"}},{"$f":"IF(AND(LEN($D17)>0,SUMIF($F$13:$J$13,BN$13,$F17:$J17)>0,ASISTENCIA!#REF!<>\"X\",ASISTENCIA!#REF!<>\"L\",ASISTENCIA!#REF!<>\"J\",ASISTENCIA!#REF!<>\"F\"),SUMIF($F$13:$J$13,BN$13,$F17:$J17),\"\")","v":{"$error":"#REF!"}},{"$f":"IF(AND(LEN($D17)>0,SUMIF($F$13:$J$13,BO$13,$F17:$J17)>0,ASISTENCIA!#REF!<>\"X\",ASISTENCIA!#REF!<>\"L\",ASISTENCIA!#REF!<>\"J\",ASISTENCIA!#REF!<>\"F\"),SUMIF($F$13:$J$13,BO$13,$F17:$J17),\"\")","v":{"$error":"#REF!"}},{"$f":"IF(AND(LEN($D17)>0,SUMIF($F$13:$J$13,BP$13,$F17:$J17)>0,ASISTENCIA!#REF!<>\"X\",ASISTENCIA!#REF!<>\"L\",ASISTENCIA!#REF!<>\"J\",ASISTENCIA!#REF!<>\"F\"),SUMIF($F$13:$J$13,BP$13,$F17:$J17),\"\")","v":{"$error":"#REF!"}},{"$f":"IF(AND(LEN($D17)>0,SUMIF($F$13:$J$13,BQ$13,$F17:$J17)>0,ASISTENCIA!#REF!<>\"X\",ASISTENCIA!#REF!<>\"L\",ASISTENCIA!#REF!<>\"J\",ASISTENCIA!#REF!<>\"F\"),SUMIF($F$13:$J$13,BQ$13,$F17:$J17),\"\")","v":{"$error":"#REF!"}},{"$f":"IF(AND(LEN($D17)>0,SUMIF($F$13:$J$13,BR$13,$F17:$J17)>0,ASISTENCIA!#REF!<>\"X\",ASISTENCIA!#REF!<>\"L\",ASISTENCIA!#REF!<>\"J\",ASISTENCIA!#REF!<>\"F\"),SUMIF($F$13:$J$13,BR$13,$F17:$J17),\"\")","v":{"$error":"#REF!"}},{"$f":"IF(AND(LEN($D17)>0,SUMIF($F$13:$J$13,BS$13,$F17:$J17)>0,ASISTENCIA!#REF!<>\"X\",ASISTENCIA!#REF!<>\"L\",ASISTENCIA!#REF!<>\"J\",ASISTENCIA!#REF!<>\"F\"),SUMIF($F$13:$J$13,BS$13,$F17:$J17),\"\")","v":{"$error":"#REF!"}},{"$f":"IF(AND(LEN($D17)>0,SUMIF($F$13:$J$13,BT$13,$F17:$J17)>0,ASISTENCIA!#REF!<>\"X\",ASISTENCIA!#REF!<>\"L\",ASISTENCIA!#REF!<>\"J\",ASISTENCIA!#REF!<>\"F\"),SUMIF($F$13:$J$13,BT$13,$F17:$J17),\"\")","v":{"$error":"#REF!"}},{"$f":"IF(AND(LEN($D17)>0,SUMIF($F$13:$J$13,BU$13,$F17:$J17)>0,ASISTENCIA!#REF!<>\"X\",ASISTENCIA!#REF!<>\"L\",ASISTENCIA!#REF!<>\"J\",ASISTENCIA!#REF!<>\"F\"),SUMIF($F$13:$J$13,BU$13,$F17:$J17),\"\")","v":{"$error":"#REF!"}},{"$f":"IF(AND(LEN($D17)>0,SUMIF($F$13:$J$13,BV$13,$F17:$J17)>0,ASISTENCIA!#REF!<>\"X\",ASISTENCIA!#REF!<>\"L\",ASISTENCIA!#REF!<>\"J\",ASISTENCIA!#REF!<>\"F\"),SUMIF($F$13:$J$13,BV$13,$F17:$J17),\"\")","v":{"$error":"#REF!"}},{"$f":"IF(AND(LEN($D17)>0,SUMIF($F$13:$J$13,BW$13,$F17:$J17)>0,ASISTENCIA!#REF!<>\"X\",ASISTENCIA!#REF!<>\"L\",ASISTENCIA!#REF!<>\"J\",ASISTENCIA!#REF!<>\"F\"),SUMIF($F$13:$J$13,BW$13,$F17:$J17),\"\")","v":{"$error":"#REF!"}},{"$f":"IF(AND(LEN($D17)>0,SUMIF($F$13:$J$13,BX$13,$F17:$J17)>0,ASISTENCIA!#REF!<>\"X\",ASISTENCIA!#REF!<>\"L\",ASISTENCIA!#REF!<>\"J\",ASISTENCIA!#REF!<>\"F\"),SUMIF($F$13:$J$13,BX$13,$F17:$J17),\"\")","v":{"$error":"#REF!"}},{"$f":"IF(AND(LEN($D17)>0,SUMIF($F$13:$J$13,BY$13,$F17:$J17)>0,ASISTENCIA!#REF!<>\"X\",ASISTENCIA!#REF!<>\"L\",ASISTENCIA!#REF!<>\"J\",ASISTENCIA!#REF!<>\"F\"),SUMIF($F$13:$J$13,BY$13,$F17:$J17),\"\")","v":{"$error":"#REF!"}},{"$f":"IF(AND(LEN($D17)>0,SUMIF($F$13:$J$13,BZ$13,$F17:$J17)>0,ASISTENCIA!#REF!<>\"X\",ASISTENCIA!#REF!<>\"L\",ASISTENCIA!#REF!<>\"J\",ASISTENCIA!#REF!<>\"F\"),SUMIF($F$13:$J$13,BZ$13,$F17:$J17),\"\")","v":{"$error":"#REF!"}},{"$f":"IF(AND(LEN($D17)>0,SUMIF($F$13:$J$13,CA$13,$F17:$J17)>0,ASISTENCIA!#REF!<>\"X\",ASISTENCIA!#REF!<>\"L\",ASISTENCIA!#REF!<>\"J\",ASISTENCIA!#REF!<>\"F\"),SUMIF($F$13:$J$13,CA$13,$F17:$J17),\"\")","v":{"$error":"#REF!"}},{"$f":"IF(AND(LEN($D17)>0,SUMIF($F$13:$J$13,CB$13,$F17:$J17)>0,ASISTENCIA!#REF!<>\"X\",ASISTENCIA!#REF!<>\"L\",ASISTENCIA!#REF!<>\"J\",ASISTENCIA!#REF!<>\"F\"),SUMIF($F$13:$J$13,CB$13,$F17:$J17),\"\")","v":{"$error":"#REF!"}},{"$error":"#REF!"}]
[{"$error":"#REF!"},{"$f":"IF(LEN(C18)>0,VLOOKUP($O$4,DATA!$A$1:$S$1,2,FALSE),\"\")","v":{"$error":"#REF!"}},{"$error":"#REF!"},{"$f":"IF(LEN(ASISTENCIA!#REF!)>0,ASISTENCIA!#REF!,\"\")","v":{"$error":"#REF!"}},{"$f":"IF(LEN(D18)>0,ASISTENCIA!#REF!,\"\")","v":{"$error":"#REF!"}},null,null,null,null,null,"",null,null,{"$error":"#REF!"},{"$f":"IF(AND(LEN($D18)>0,SUMIF($F$13:$J$13,O$13,$F18:$J18)>0,ASISTENCIA!#REF!<>\"X\",ASISTENCIA!#REF!<>\"L\",ASISTENCIA!#REF!<>\"J\",ASISTENCIA!#REF!<>\"V\",ASISTENCIA!#REF!<>\"F\",ASISTENCIA!#REF!<>\"\"),SUMIF($F$13:$J$13,O$13,$F18:$J18),\"\")","v":{"$error":"#REF!"}},{"$f":"IF(AND(LEN($D18)>0,SUMIF($F$13:$J$13,P$13,$F18:$J18)>0,ASISTENCIA!#REF!<>\"X\",ASISTENCIA!#REF!<>\"L\",ASISTENCIA!#REF!<>\"J\",ASISTENCIA!#REF!<>\"V\",ASISTENCIA!#REF!<>\"F\",ASISTENCIA!#REF!<>\"\"),SUMIF($F$13:$J$13,P$13,$F18:$J18),\"\")","v":{"$error":"#REF!"}},{"$f":"IF(AND(LEN($D18)>0,SUMIF($F$13:$J$13,Q$13,$F18:$J18)>0,ASISTENCIA!#REF!<>\"X\",ASISTENCIA!#REF!<>\"L\",ASISTENCIA!#REF!<>\"J\",ASISTENCIA!#REF!<>\"V\",ASISTENCIA!#REF!<>\"F\",ASISTENCIA!#REF!<>\"\"),SUMIF($F$13:$J$13,Q$13,$F18:$J18),\"\")","v":{"$error":"#REF!"}},{"$f":"IF(AND(LEN($D18)>0,SUMIF($F$13:$J$13,R$13,$F18:$J18)>0,ASISTENCIA!#REF!<>\"X\",ASISTENCIA!#REF!<>\"L\",ASISTENCIA!#REF!<>\"J\",ASISTENCIA!#REF!<>\"V\",ASISTENCIA!#REF!<>\"F\",ASISTENCIA!#REF!<>\"\"),SUMIF($F$13:$J$13,R$13,$F18:$J18),\"\")","v":{"$error":"#REF!"}},{"$f":"IF(AND(LEN($D18)>0,SUMIF($F$13:$J$13,S$13,$F18:$J18)>0,ASISTENCIA!#REF!<>\"X\",ASISTENCIA!#REF!<>\"L\",ASISTENCIA!#REF!<>\"J\",ASISTENCIA!#REF!<>\"V\",ASISTENCIA!#REF!<>\"F\",ASISTENCIA!#REF!<>\"\"),SUMIF($F$13:$J$13,S$13,$F18:$J18),\"\")","v":{"$error":"#REF!"}},{"$f":"IF(AND(LEN($D18)>0,SUMIF($F$13:$J$13,T$13,$F18:$J18)>0,ASISTENCIA!#REF!<>\"X\",ASISTENCIA!#REF!<>\"L\",ASISTENCIA!#REF!<>\"J\",ASISTENCIA!#REF!<>\"V\",ASISTENCIA!#REF!<>\"F\",ASISTENCIA!#REF!<>\"\"),SUMIF($F$13:$J$13,T$13,$F18:$J18),\"\")","v":{"$error":"#REF!"}},{"$f":"IF(AND(LEN($D18)>0,SUMIF($F$13:$J$13,U$13,$F18:$J18)>0,ASISTENCIA!#REF!<>\"X\",ASISTENCIA!#REF!<>\"L\",ASISTENCIA!#REF!<>\"J\",ASISTENCIA!#REF!<>\"V\",ASISTENCIA!#REF!<>\"F\",ASISTENCIA!#REF!<>\"\"),SUMIF($F$13:$J$13,U$13,$F18:$J18),\"\")","v":{"$error":"#REF!"}},{"$f":"IF(AND(LEN($D18)>0,SUMIF($F$13:$J$13,V$13,$F18:$J18)>0,ASISTENCIA!#REF!<>\"X\",ASISTENCIA!#REF!<>\"L\",ASISTENCIA!#REF!<>\"J\",ASISTENCIA!#REF!<>\"V\",ASISTENCIA!#REF!<>\"F\",ASISTENCIA!#REF!<>\"\"),SUMIF($F$13:$J$13,V$13,$F18:$J18),\"\")","v":{"$error":"#REF!"}},{"$f":"IF(AND(LEN($D18)>0,SUMIF($F$13:$J$13,W$13,$F18:$J18)>0,ASISTENCIA!#REF!<>\"X\",ASISTENCIA!#REF!<>\"L\",ASISTENCIA!#REF!<>\"J\",ASISTENCIA!#REF!<>\"V\",ASISTENCIA!#REF!<>\"F\",ASISTENCIA!#REF!<>\"\"),SUMIF($F$13:$J$13,W$13,$F18:$J18),\"\")","v":{"$error":"#REF!"}},{"$f":"IF(AND(LEN($D18)>0,SUMIF($F$13:$J$13,X$13,$F18:$J18)>0,ASISTENCIA!#REF!<>\"X\",ASISTENCIA!#REF!<>\"L\",ASISTENCIA!#REF!<>\"J\",ASISTENCIA!#REF!<>\"V\",ASISTENCIA!#REF!<>\"F\",ASISTENCIA!#REF!<>\"\"),SUMIF($F$13:$J$13,X$13,$F18:$J18),\"\")","v":{"$error":"#REF!"}},{"$f":"IF(AND(LEN($D18)>0,SUMIF($F$13:$J$13,Y$13,$F18:$J18)>0,ASISTENCIA!#REF!<>\"X\",ASISTENCIA!#REF!<>\"L\",ASISTENCIA!#REF!<>\"J\",ASISTENCIA!#REF!<>\"V\",ASISTENCIA!#REF!<>\"F\",ASISTENCIA!#REF!<>\"\"),SUMIF($F$13:$J$13,Y$13,$F18:$J18),\"\")","v":{"$error":"#REF!"}},{"$f":"IF(AND(LEN($D18)>0,SUMIF($F$13:$J$13,Z$13,$F18:$J18)>0,ASISTENCIA!#REF!<>\"X\",ASISTENCIA!#REF!<>\"L\",ASISTENCIA!#REF!<>\"J\",ASISTENCIA!#REF!<>\"V\",ASISTENCIA!#REF!<>\"F\",ASISTENCIA!#REF!<>\"\"),SUMIF($F$13:$J$13,Z$13,$F18:$J18),\"\")","v":{"$error":"#REF!"}},{"$f":"IF(AND(LEN($D18)>0,SUMIF($F$13:$J$13,AA$13,$F18:$J18)>0,ASISTENCIA!#REF!<>\"X\",ASISTENCIA!#REF!<>\"L\",ASISTENCIA!#REF!<>\"J\",ASISTENCIA!#REF!<>\"V\",ASISTENCIA!#REF!<>\"F\",ASISTENCIA!#REF!<>\"\"),SUMIF($F$13:$J$13,AA$13,$F18:$J18),\"\")","v":{"$error":"#REF!"}},{"$f":"IF(AND(LEN($D18)>0,SUMIF($F$13:$J$13,AB$13,$F18:$J18)>0,ASISTENCIA!#REF!<>\"X\",ASISTENCIA!#REF!<>\"L\",ASISTENCIA!#REF!<>\"J\",ASISTENCIA!#REF!<>\"V\",ASISTENCIA!#REF!<>\"F\",ASISTENCIA!#REF!<>\"\"),SUMIF($F$13:$J$13,AB$13,$F18:$J18),\"\")","v":{"$error":"#REF!"}},{"$f":"IF(AND(LEN($D18)>0,SUMIF($F$13:$J$13,AC$13,$F18:$J18)>0,ASISTENCIA!#REF!<>\"X\",ASISTENCIA!#REF!<>\"L\",ASISTENCIA!#REF!<>\"J\",ASISTENCIA!#REF!<>\"V\",ASISTENCIA!#REF!<>\"F\",ASISTENCIA!#REF!<>\"\"),SUMIF($F$13:$J$13,AC$13,$F18:$J18),\"\")","v":{"$error":"#REF!"}},{"$f":"IF(AND(LEN($D18)>0,SUMIF($F$13:$J$13,AD$13,$F18:$J18)>0,ASISTENCIA!#REF!<>\"X\",ASISTENCIA!#REF!<>\"L\",ASISTENCIA!#REF!<>\"J\",ASISTENCIA!#REF!<>\"V\",ASISTENCIA!#REF!<>\"F\",ASISTENCIA!#REF!<>\"\"),SUMIF($F$13:$J$13,AD$13,$F18:$J18),\"\")","v":{"$error":"#REF!"}},{"$f":"IF(AND(LEN($D18)>0,SUMIF($F$13:$J$13,AE$13,$F18:$J18)>0,ASISTENCIA!#REF!<>\"X\",ASISTENCIA!#REF!<>\"L\",ASISTENCIA!#REF!<>\"J\",ASISTENCIA!#REF!<>\"V\",ASISTENCIA!#REF!<>\"F\",ASISTENCIA!#REF!<>\"\"),SUMIF($F$13:$J$13,AE$13,$F18:$J18),\"\")","v":{"$error":"#REF!"}},{"$f":"IF(AND(LEN($D18)>0,SUMIF($F$13:$J$13,AF$13,$F18:$J18)>0,ASISTENCIA!#REF!<>\"X\",ASISTENCIA!#REF!<>\"L\",ASISTENCIA!#REF!<>\"J\",ASISTENCIA!#REF!<>\"V\",ASISTENCIA!#REF!<>\"F\",ASISTENCIA!#REF!<>\"\"),SUMIF($F$13:$J$13,AF$13,$F18:$J18),\"\")","v":{"$error":"#REF!"}},{"$f":"IF(AND(LEN($D18)>0,SUMIF($F$13:$J$13,AG$13,$F18:$J18)>0,ASISTENCIA!#REF!<>\"X\",ASISTENCIA!#REF!<>\"L\",ASISTENCIA!#REF!<>\"J\",ASISTENCIA!#REF!<>\"V\",ASISTENCIA!#REF!<>\"F\",ASISTENCIA!#REF!<>\"\"),SUMIF($F$13:$J$13,AG$13,$F18:$J18),\"\")","v":{"$error":"#REF!"}},{"$f":"IF(AND(LEN($D18)>0,SUMIF($F$13:$J$13,AH$13,$F18:$J18)>0,ASISTENCIA!#REF!<>\"X\",ASISTENCIA!#REF!<>\"L\",ASISTENCIA!#REF!<>\"J\",ASISTENCIA!#REF!<>\"V\",ASISTENCIA!#REF!<>\"F\",ASISTENCIA!#REF!<>\"\"),SUMIF($F$13:$J$13,AH$13,$F18:$J18),\"\")","v":{"$error":"#REF!"}},{"$f":"IF(AND(LEN($D18)>0,SUMIF($F$13:$J$13,AI$13,$F18:$J18)>0,ASISTENCIA!#REF!<>\"X\",ASISTENCIA!#REF!<>\"L\",ASISTENCIA!#REF!<>\"J\",ASISTENCIA!#REF!<>\"V\",ASISTENCIA!#REF!<>\"F\",ASISTENCIA!#REF!<>\"\"),SUMIF($F$13:$J$13,AI$13,$F18:$J18),\"\")","v":{"$error":"#REF!"}},{"$f":"IF(AND(LEN($D18)>0,SUMIF($F$13:$J$13,AJ$13,$F18:$J18)>0,ASISTENCIA!#REF!<>\"X\",ASISTENCIA!#REF!<>\"L\",ASISTENCIA!#REF!<>\"J\",ASISTENCIA!#REF!<>\"V\",ASISTENCIA!#REF!<>\"F\",ASISTENCIA!#REF!<>\"\"),SUMIF($F$13:$J$13,AJ$13,$F18:$J18),\"\")","v":{"$error":"#REF!"}},{"$f":"IF(AND(LEN($D18)>0,SUMIF($F$13:$J$13,AK$13,$F18:$J18)>0,ASISTENCIA!#REF!<>\"X\",ASISTENCIA!#REF!<>\"L\",ASISTENCIA!#REF!<>\"J\",ASISTENCIA!#REF!<>\"V\",ASISTENCIA!#REF!<>\"F\",ASISTENCIA!#REF!<>\"\"),SUMIF($F$13:$J$13,AK$13,$F18:$J18),\"\")","v":{"$error":"#REF!"}},{"$f":"IF(AND(LEN($D18)>0,SUMIF($F$13:$J$13,AL$13,$F18:$J18)>0,ASISTENCIA!#REF!<>\"X\",ASISTENCIA!#REF!<>\"L\",ASISTENCIA!#REF!<>\"J\",ASISTENCIA!#REF!<>\"V\",ASISTENCIA!#REF!<>\"F\",ASISTENCIA!#REF!<>\"\"),SUMIF($F$13:$J$13,AL$13,$F18:$J18),\"\")","v":{"$error":"#REF!"}},{"$f":"IF(AND(LEN($D18)>0,SUMIF($F$13:$J$13,AM$13,$F18:$J18)>0,ASISTENCIA!#REF!<>\"X\",ASISTENCIA!#REF!<>\"L\",ASISTENCIA!#REF!<>\"J\",ASISTENCIA!#REF!<>\"V\",ASISTENCIA!#REF!<>\"F\",ASISTENCIA!#REF!<>\"\"),SUMIF($F$13:$J$13,AM$13,$F18:$J18),\"\")","v":{"$error":"#REF!"}},{"$f":"IF(AND(LEN($D18)>0,SUMIF($F$13:$J$13,AN$13,$F18:$J18)>0,ASISTENCIA!#REF!<>\"X\",ASISTENCIA!#REF!<>\"L\",ASISTENCIA!#REF!<>\"J\",ASISTENCIA!#REF!<>\"V\",ASISTENCIA!#REF!<>\"F\",ASISTENCIA!#REF!<>\"\"),SUMIF($F$13:$J$13,AN$13,$F18:$J18),\"\")","v":{"$error":"#REF!"}},{"$f":"IF(AND(LEN($D18)>0,SUMIF($F$13:$J$13,AO$13,$F18:$J18)>0,ASISTENCIA!#REF!<>\"X\",ASISTENCIA!#REF!<>\"L\",ASISTENCIA!#REF!<>\"J\",ASISTENCIA!#REF!<>\"V\",ASISTENCIA!#REF!<>\"F\",ASISTENCIA!#REF!<>\"\"),SUMIF($F$13:$J$13,AO$13,$F18:$J18),\"\")","v":{"$error":"#REF!"}},{"$f":"IF(AND(LEN($D18)>0,SUMIF($F$13:$J$13,AP$13,$F18:$J18)>0,ASISTENCIA!#REF!<>\"X\",ASISTENCIA!#REF!<>\"L\",ASISTENCIA!#REF!<>\"J\",ASISTENCIA!#REF!<>\"V\",ASISTENCIA!#REF!<>\"F\",ASISTENCIA!#REF!<>\"\"),SUMIF($F$13:$J$13,AP$13,$F18:$J18),\"\")","v":{"$error":"#REF!"}},{"$f":"IF(AND(LEN($D18)>0,SUMIF($F$13:$J$13,AQ$13,$F18:$J18)>0,ASISTENCIA!#REF!<>\"X\",ASISTENCIA!#REF!<>\"L\",ASISTENCIA!#REF!<>\"J\",ASISTENCIA!#REF!<>\"V\",ASISTENCIA!#REF!<>\"F\",ASISTENCIA!#REF!<>\"\"),SUMIF($F$13:$J$13,AQ$13,$F18:$J18),\"\")","v":{"$error":"#REF!"}},{"$f":"IF(AND(LEN($D18)>0,SUMIF($F$13:$J$13,AR$13,$F18:$J18)>0,ASISTENCIA!#REF!<>\"X\",ASISTENCIA!#REF!<>\"L\",ASISTENCIA!#REF!<>\"J\",ASISTENCIA!#REF!<>\"V\",ASISTENCIA!#REF!<>\"F\",ASISTENCIA!#REF!<>\"\"),SUMIF($F$13:$J$13,AR$13,$F18:$J18),\"\")","v":{"$error":"#REF!"}},{"$f":"IF(AND(LEN($D18)>0,SUMIF($F$13:$J$13,AS$13,$F18:$J18)>0,ASISTENCIA!#REF!<>\"X\",ASISTENCIA!#REF!<>\"L\",ASISTENCIA!#REF!<>\"J\",ASISTENCIA!#REF!<>\"V\",ASISTENCIA!#REF!<>\"F\",ASISTENCIA!#REF!<>\"\"),SUMIF($F$13:$J$13,AS$13,$F18:$J18),\"\")","v":{"$error":"#REF!"}},{"$error":"#REF!"},null,null,null,{"$f":"IF(AND(LEN($D18)>0,SUMIF($F$13:$J$13,AX$13,$F18:$J18)>0,ASISTENCIA!#REF!<>\"X\",ASISTENCIA!#REF!<>\"L\",ASISTENCIA!#REF!<>\"J\",ASISTENCIA!#REF!<>\"F\"),SUMIF($F$13:$J$13,AX$13,$F18:$J18),\"\")","v":{"$error":"#REF!"}},{"$f":"IF(AND(LEN($D18)>0,SUMIF($F$13:$J$13,AY$13,$F18:$J18)>0,ASISTENCIA!#REF!<>\"X\",ASISTENCIA!#REF!<>\"L\",ASISTENCIA!#REF!<>\"J\",ASISTENCIA!#REF!<>\"F\"),SUMIF($F$13:$J$13,AY$13,$F18:$J18),\"\")","v":{"$error":"#REF!"}},{"$f":"IF(AND(LEN($D18)>0,SUMIF($F$13:$J$13,AZ$13,$F18:$J18)>0,ASISTENCIA!#REF!<>\"X\",ASISTENCIA!#REF!<>\"L\",ASISTENCIA!#REF!<>\"J\",ASISTENCIA!#REF!<>\"F\"),SUMIF($F$13:$J$13,AZ$13,$F18:$J18),\"\")","v":{"$error":"#REF!"}},{"$f":"IF(AND(LEN($D18)>0,SUMIF($F$13:$J$13,BA$13,$F18:$J18)>0,ASISTENCIA!#REF!<>\"X\",ASISTENCIA!#REF!<>\"L\",ASISTENCIA!#REF!<>\"J\",ASISTENCIA!#REF!<>\"F\"),SUMIF($F$13:$J$13,BA$13,$F18:$J18),\"\")","v":{"$error":"#REF!"}},{"$f":"IF(AND(LEN($D18)>0,SUMIF($F$13:$J$13,BB$13,$F18:$J18)>0,ASISTENCIA!#REF!<>\"X\",ASISTENCIA!#REF!<>\"L\",ASISTENCIA!#REF!<>\"J\",ASISTENCIA!#REF!<>\"F\"),SUMIF($F$13:$J$13,BB$13,$F18:$J18),\"\")","v":{"$error":"#REF!"}},{"$f":"IF(AND(LEN($D18)>0,SUMIF($F$13:$J$13,BC$13,$F18:$J18)>0,ASISTENCIA!#REF!<>\"X\",ASISTENCIA!#REF!<>\"L\",ASISTENCIA!#REF!<>\"J\",ASISTENCIA!#REF!<>\"F\"),SUMIF($F$13:$J$13,BC$13,$F18:$J18),\"\")","v":{"$error":"#REF!"}},{"$f":"IF(AND(LEN($D18)>0,SUMIF($F$13:$J$13,BD$13,$F18:$J18)>0,ASISTENCIA!#REF!<>\"X\",ASISTENCIA!#REF!<>\"L\",ASISTENCIA!#REF!<>\"J\",ASISTENCIA!#REF!<>\"F\"),SUMIF($F$13:$J$13,BD$13,$F18:$J18),\"\")","v":{"$error":"#REF!"}},{"$f":"IF(AND(LEN($D18)>0,SUMIF($F$13:$J$13,BE$13,$F18:$J18)>0,ASISTENCIA!#REF!<>\"X\",ASISTENCIA!#REF!<>\"L\",ASISTENCIA!#REF!<>\"J\",ASISTENCIA!#REF!<>\"F\"),SUMIF($F$13:$J$13,BE$13,$F18:$J18),\"\")","v":{"$error":"#REF!"}},{"$f":"IF(AND(LEN($D18)>0,SUMIF($F$13:$J$13,BF$13,$F18:$J18)>0,ASISTENCIA!#REF!<>\"X\",ASISTENCIA!#REF!<>\"L\",ASISTENCIA!#REF!<>\"J\",ASISTENCIA!#REF!<>\"F\"),SUMIF($F$13:$J$13,BF$13,$F18:$J18),\"\")","v":{"$error":"#REF!"}},{"$f":"IF(AND(LEN($D18)>0,SUMIF($F$13:$J$13,BG$13,$F18:$J18)>0,ASISTENCIA!#REF!<>\"X\",ASISTENCIA!#REF!<>\"L\",ASISTENCIA!#REF!<>\"J\",ASISTENCIA!#REF!<>\"F\"),SUMIF($F$13:$J$13,BG$13,$F18:$J18),\"\")","v":{"$error":"#REF!"}},{"$f":"IF(AND(LEN($D18)>0,SUMIF($F$13:$J$13,BH$13,$F18:$J18)>0,ASISTENCIA!#REF!<>\"X\",ASISTENCIA!#REF!<>\"L\",ASISTENCIA!#REF!<>\"J\",ASISTENCIA!#REF!<>\"F\"),SUMIF($F$13:$J$13,BH$13,$F18:$J18),\"\")","v":{"$error":"#REF!"}},{"$f":"IF(AND(LEN($D18)>0,SUMIF($F$13:$J$13,BI$13,$F18:$J18)>0,ASISTENCIA!#REF!<>\"X\",ASISTENCIA!#REF!<>\"L\",ASISTENCIA!#REF!<>\"J\",ASISTENCIA!#REF!<>\"F\"),SUMIF($F$13:$J$13,BI$13,$F18:$J18),\"\")","v":{"$error":"#REF!"}},{"$f":"IF(AND(LEN($D18)>0,SUMIF($F$13:$J$13,BJ$13,$F18:$J18)>0,ASISTENCIA!#REF!<>\"X\",ASISTENCIA!#REF!<>\"L\",ASISTENCIA!#REF!<>\"J\",ASISTENCIA!#REF!<>\"F\"),SUMIF($F$13:$J$13,BJ$13,$F18:$J18),\"\")","v":{"$error":"#REF!"}},{"$f":"IF(AND(LEN($D18)>0,SUMIF($F$13:$J$13,BK$13,$F18:$J18)>0,ASISTENCIA!#REF!<>\"X\",ASISTENCIA!#REF!<>\"L\",ASISTENCIA!#REF!<>\"J\",ASISTENCIA!#REF!<>\"F\"),SUMIF($F$13:$J$13,BK$13,$F18:$J18),\"\")","v":{"$error":"#REF!"}},{"$f":"IF(AND(LEN($D18)>0,SUMIF($F$13:$J$13,BL$13,$F18:$J18)>0,ASISTENCIA!#REF!<>\"X\",ASISTENCIA!#REF!<>\"L\",ASISTENCIA!#REF!<>\"J\",ASISTENCIA!#REF!<>\"F\"),SUMIF($F$13:$J$13,BL$13,$F18:$J18),\"\")","v":{"$error":"#REF!"}},{"$f":"IF(AND(LEN($D18)>0,SUMIF($F$13:$J$13,BM$13,$F18:$J18)>0,ASISTENCIA!#REF!<>\"X\",ASISTENCIA!#REF!<>\"L\",ASISTENCIA!#REF!<>\"J\",ASISTENCIA!#REF!<>\"F\"),SUMIF($F$13:$J$13,BM$13,$F18:$J18),\"\")","v":{"$error":"#REF!"}},{"$f":"IF(AND(LEN($D18)>0,SUMIF($F$13:$J$13,BN$13,$F18:$J18)>0,ASISTENCIA!#REF!<>\"X\",ASISTENCIA!#REF!<>\"L\",ASISTENCIA!#REF!<>\"J\",ASISTENCIA!#REF!<>\"F\"),SUMIF($F$13:$J$13,BN$13,$F18:$J18),\"\")","v":{"$error":"#REF!"}},{"$f":"IF(AND(LEN($D18)>0,SUMIF($F$13:$J$13,BO$13,$F18:$J18)>0,ASISTENCIA!#REF!<>\"X\",ASISTENCIA!#REF!<>\"L\",ASISTENCIA!#REF!<>\"J\",ASISTENCIA!#REF!<>\"F\"),SUMIF($F$13:$J$13,BO$13,$F18:$J18),\"\")","v":{"$error":"#REF!"}},{"$f":"IF(AND(LEN($D18)>0,SUMIF($F$13:$J$13,BP$13,$F18:$J18)>0,ASISTENCIA!#REF!<>\"X\",ASISTENCIA!#REF!<>\"L\",ASISTENCIA!#REF!<>\"J\",ASISTENCIA!#REF!<>\"F\"),SUMIF($F$13:$J$13,BP$13,$F18:$J18),\"\")","v":{"$error":"#REF!"}},{"$f":"IF(AND(LEN($D18)>0,SUMIF($F$13:$J$13,BQ$13,$F18:$J18)>0,ASISTENCIA!#REF!<>\"X\",ASISTENCIA!#REF!<>\"L\",ASISTENCIA!#REF!<>\"J\",ASISTENCIA!#REF!<>\"F\"),SUMIF($F$13:$J$13,BQ$13,$F18:$J18),\"\")","v":{"$error":"#REF!"}},{"$f":"IF(AND(LEN($D18)>0,SUMIF($F$13:$J$13,BR$13,$F18:$J18)>0,ASISTENCIA!#REF!<>\"X\",ASISTENCIA!#REF!<>\"L\",ASISTENCIA!#REF!<>\"J\",ASISTENCIA!#REF!<>\"F\"),SUMIF($F$13:$J$13,BR$13,$F18:$J18),\"\")","v":{"$error":"#REF!"}},{"$f":"IF(AND(LEN($D18)>0,SUMIF($F$13:$J$13,BS$13,$F18:$J18)>0,ASISTENCIA!#REF!<>\"X\",ASISTENCIA!#REF!<>\"L\",ASISTENCIA!#REF!<>\"J\",ASISTENCIA!#REF!<>\"F\"),SUMIF($F$13:$J$13,BS$13,$F18:$J18),\"\")","v":{"$error":"#REF!"}},{"$f":"IF(AND(LEN($D18)>0,SUMIF($F$13:$J$13,BT$13,$F18:$J18)>0,ASISTENCIA!#REF!<>\"X\",ASISTENCIA!#REF!<>\"L\",ASISTENCIA!#REF!<>\"J\",ASISTENCIA!#REF!<>\"F\"),SUMIF($F$13:$J$13,BT$13,$F18:$J18),\"\")","v":{"$error":"#REF!"}},{"$f":"IF(AND(LEN($D18)>0,SUMIF($F$13:$J$13,BU$13,$F18:$J18)>0,ASISTENCIA!#REF!<>\"X\",ASISTENCIA!#REF!<>\"L\",ASISTENCIA!#REF!<>\"J\",ASISTENCIA!#REF!<>\"F\"),SUMIF($F$13:$J$13,BU$13,$F18:$J18),\"\")","v":{"$error":"#REF!"}},{"$f":"IF(AND(LEN($D18)>0,SUMIF($F$13:$J$13,BV$13,$F18:$J18)>0,ASISTENCIA!#REF!<>\"X\",ASISTENCIA!#REF!<>\"L\",ASISTENCIA!#REF!<>\"J\",ASISTENCIA!#REF!<>\"F\"),SUMIF($F$13:$J$13,BV$13,$F18:$J18),\"\")","v":{"$error":"#REF!"}},{"$f":"IF(AND(LEN($D18)>0,SUMIF($F$13:$J$13,BW$13,$F18:$J18)>0,ASISTENCIA!#REF!<>\"X\",ASISTENCIA!#REF!<>\"L\",ASISTENCIA!#REF!<>\"J\",ASISTENCIA!#REF!<>\"F\"),SUMIF($F$13:$J$13,BW$13,$F18:$J18),\"\")","v":{"$error":"#REF!"}},{"$f":"IF(AND(LEN($D18)>0,SUMIF($F$13:$J$13,BX$13,$F18:$J18)>0,ASISTENCIA!#REF!<>\"X\",ASISTENCIA!#REF!<>\"L\",ASISTENCIA!#REF!<>\"J\",ASISTENCIA!#REF!<>\"F\"),SUMIF($F$13:$J$13,BX$13,$F18:$J18),\"\")","v":{"$error":"#REF!"}},{"$f":"IF(AND(LEN($D18)>0,SUMIF($F$13:$J$13,BY$13,$F18:$J18)>0,ASISTENCIA!#REF!<>\"X\",ASISTENCIA!#REF!<>\"L\",ASISTENCIA!#REF!<>\"J\",ASISTENCIA!#REF!<>\"F\"),SUMIF($F$13:$J$13,BY$13,$F18:$J18),\"\")","v":{"$error":"#REF!"}},{"$f":"IF(AND(LEN($D18)>0,SUMIF($F$13:$J$13,BZ$13,$F18:$J18)>0,ASISTENCIA!#REF!<>\"X\",ASISTENCIA!#REF!<>\"L\",ASISTENCIA!#REF!<>\"J\",ASISTENCIA!#REF!<>\"F\"),SUMIF($F$13:$J$13,BZ$13,$F18:$J18),\"\")","v":{"$error":"#REF!"}},{"$f":"IF(AND(LEN($D18)>0,SUMIF($F$13:$J$13,CA$13,$F18:$J18)>0,ASISTENCIA!#REF!<>\"X\",ASISTENCIA!#REF!<>\"L\",ASISTENCIA!#REF!<>\"J\",ASISTENCIA!#REF!<>\"F\"),SUMIF($F$13:$J$13,CA$13,$F18:$J18),\"\")","v":{"$error":"#REF!"}},{"$f":"IF(AND(LEN($D18)>0,SUMIF($F$13:$J$13,CB$13,$F18:$J18)>0,ASISTENCIA!#REF!<>\"X\",ASISTENCIA!#REF!<>\"L\",ASISTENCIA!#REF!<>\"J\",ASISTENCIA!#REF!<>\"F\"),SUMIF($F$13:$J$13,CB$13,$F18:$J18),\"\")","v":{"$error":"#REF!"}},{"$error":"#REF!"}]
[{"$error":"#REF!"},{"$f":"IF(LEN(C19)>0,VLOOKUP($O$4,DATA!$A$1:$S$1,2,FALSE),\"\")","v":{"$error":"#REF!"}},{"$error":"#REF!"},{"$f":"IF(LEN(ASISTENCIA!#REF!)>0,ASISTENCIA!#REF!,\"\")","v":{"$error":"#REF!"}},{"$f":"IF(LEN(D19)>0,ASISTENCIA!#REF!,\"\")","v":{"$error":"#REF!"}},null,null,null,null,null,"",null,null,{"$error":"#REF!"},{"$f":"IF(AND(LEN($D19)>0,SUMIF($F$13:$J$13,O$13,$F19:$J19)>0,ASISTENCIA!#REF!<>\"X\",ASISTENCIA!#REF!<>\"L\",ASISTENCIA!#REF!<>\"J\",ASISTENCIA!#REF!<>\"V\",ASISTENCIA!#REF!<>\"F\",ASISTENCIA!#REF!<>\"\"),SUMIF($F$13:$J$13,O$13,$F19:$J19),\"\")","v":{"$error":"#REF!"}},{"$f":"IF(AND(LEN($D19)>0,SUMIF($F$13:$J$13,P$13,$F19:$J19)>0,ASISTENCIA!#REF!<>\"X\",ASISTENCIA!#REF!<>\"L\",ASISTENCIA!#REF!<>\"J\",ASISTENCIA!#REF!<>\"V\",ASISTENCIA!#REF!<>\"F\",ASISTENCIA!#REF!<>\"\"),SUMIF($F$13:$J$13,P$13,$F19:$J19),\"\")","v":{"$error":"#REF!"}},{"$f":"IF(AND(LEN($D19)>0,SUMIF($F$13:$J$13,Q$13,$F19:$J19)>0,ASISTENCIA!#REF!<>\"X\",ASISTENCIA!#REF!<>\"L\",ASISTENCIA!#REF!<>\"J\",ASISTENCIA!#REF!<>\"V\",ASISTENCIA!#REF!<>\"F\",ASISTENCIA!#REF!<>\"\"),SUMIF($F$13:$J$13,Q$13,$F19:$J19),\"\")","v":{"$error":"#REF!"}},{"$f":"IF(AND(LEN($D19)>0,SUMIF($F$13:$J$13,R$13,$F19:$J19)>0,ASISTENCIA!#REF!<>\"X\",ASISTENCIA!#REF!<>\"L\",ASISTENCIA!#REF!<>\"J\",ASISTENCIA!#REF!<>\"V\",ASISTENCIA!#REF!<>\"F\",ASISTENCIA!#REF!<>\"\"),SUMIF($F$13:$J$13,R$13,$F19:$J19),\"\")","v":{"$error":"#REF!"}},{"$f":"IF(AND(LEN($D19)>0,SUMIF($F$13:$J$13,S$13,$F19:$J19)>0,ASISTENCIA!#REF!<>\"X\",ASISTENCIA!#REF!<>\"L\",ASISTENCIA!#REF!<>\"J\",ASISTENCIA!#REF!<>\"V\",ASISTENCIA!#REF!<>\"F\",ASISTENCIA!#REF!<>\"\"),SUMIF($F$13:$J$13,S$13,$F19:$J19),\"\")","v":{"$error":"#REF!"}},{"$f":"IF(AND(LEN($D19)>0,SUMIF($F$13:$J$13,T$13,$F19:$J19)>0,ASISTENCIA!#REF!<>\"X\",ASISTENCIA!#REF!<>\"L\",ASISTENCIA!#REF!<>\"J\",ASISTENCIA!#REF!<>\"V\",ASISTENCIA!#REF!<>\"F\",ASISTENCIA!#REF!<>\"\"),SUMIF($F$13:$J$13,T$13,$F19:$J19),\"\")","v":{"$error":"#REF!"}},{"$f":"IF(AND(LEN($D19)>0,SUMIF($F$13:$J$13,U$13,$F19:$J19)>0,ASISTENCIA!#REF!<>\"X\",ASISTENCIA!#REF!<>\"L\",ASISTENCIA!#REF!<>\"J\",ASISTENCIA!#REF!<>\"V\",ASISTENCIA!#REF!<>\"F\",ASISTENCIA!#REF!<>\"\"),SUMIF($F$13:$J$13,U$13,$F19:$J19),\"\")","v":{"$error":"#REF!"}},{"$f":"IF(AND(LEN($D19)>0,SUMIF($F$13:$J$13,V$13,$F19:$J19)>0,ASISTENCIA!#REF!<>\"X\",ASISTENCIA!#REF!<>\"L\",ASISTENCIA!#REF!<>\"J\",ASISTENCIA!#REF!<>\"V\",ASISTENCIA!#REF!<>\"F\",ASISTENCIA!#REF!<>\"\"),SUMIF($F$13:$J$13,V$13,$F19:$J19),\"\")","v":{"$error":"#REF!"}},{"$f":"IF(AND(LEN($D19)>0,SUMIF($F$13:$J$13,W$13,$F19:$J19)>0,ASISTENCIA!#REF!<>\"X\",ASISTENCIA!#REF!<>\"L\",ASISTENCIA!#REF!<>\"J\",ASISTENCIA!#REF!<>\"V\",ASISTENCIA!#REF!<>\"F\",ASISTENCIA!#REF!<>\"\"),SUMIF($F$13:$J$13,W$13,$F19:$J19),\"\")","v":{"$error":"#REF!"}},{"$f":"IF(AND(LEN($D19)>0,SUMIF($F$13:$J$13,X$13,$F19:$J19)>0,ASISTENCIA!#REF!<>\"X\",ASISTENCIA!#REF!<>\"L\",ASISTENCIA!#REF!<>\"J\",ASISTENCIA!#REF!<>\"V\",ASISTENCIA!#REF!<>\"F\",ASISTENCIA!#REF!<>\"\"),SUMIF($F$13:$J$13,X$13,$F19:$J19),\"\")","v":{"$error":"#REF!"}},{"$f":"IF(AND(LEN($D19)>0,SUMIF($F$13:$J$13,Y$13,$F19:$J19)>0,ASISTENCIA!#REF!<>\"X\",ASISTENCIA!#REF!<>\"L\",ASISTENCIA!#REF!<>\"J\",ASISTENCIA!#REF!<>\"V\",ASISTENCIA!#REF!<>\"F\",ASISTENCIA!#REF!<>\"\"),SUMIF($F$13:$J$13,Y$13,$F19:$J19),\"\")","v":{"$error":"#REF!"}},{"$f":"IF(AND(LEN($D19)>0,SUMIF($F$13:$J$13,Z$13,$F19:$J19)>0,ASISTENCIA!#REF!<>\"X\",ASISTENCIA!#REF!<>\"L\",ASISTENCIA!#REF!<>\"J\",ASISTENCIA!#REF!<>\"V\",ASISTENCIA!#REF!<>\"F\",ASISTENCIA!#REF!<>\"\"),SUMIF($F$13:$J$13,Z$13,$F19:$J19),\"\")","v":{"$error":"#REF!"}},{"$f":"IF(AND(LEN($D19)>0,SUMIF($F$13:$J$13,AA$13,$F19:$J19)>0,ASISTENCIA!#REF!<>\"X\",ASISTENCIA!#REF!<>\"L\",ASISTENCIA!#REF!<>\"J\",ASISTENCIA!#REF!<>\"V\",ASISTENCIA!#REF!<>\"F\",ASISTENCIA!#REF!<>\"\"),SUMIF($F$13:$J$13,AA$13,$F19:$J19),\"\")","v":{"$error":"#REF!"}},{"$f":"IF(AND(LEN($D19)>0,SUMIF($F$13:$J$13,AB$13,$F19:$J19)>0,ASISTENCIA!#REF!<>\"X\",ASISTENCIA!#REF!<>\"L\",ASISTENCIA!#REF!<>\"J\",ASISTENCIA!#REF!<>\"V\",ASISTENCIA!#REF!<>\"F\",ASISTENCIA!#REF!<>\"\"),SUMIF($F$13:$J$13,AB$13,$F19:$J19),\"\")","v":{"$error":"#REF!"}},{"$f":"IF(AND(LEN($D19)>0,SUMIF($F$13:$J$13,AC$13,$F19:$J19)>0,ASISTENCIA!#REF!<>\"X\",ASISTENCIA!#REF!<>\"L\",ASISTENCIA!#REF!<>\"J\",ASISTENCIA!#REF!<>\"V\",ASISTENCIA!#REF!<>\"F\",ASISTENCIA!#REF!<>\"\"),SUMIF($F$13:$J$13,AC$13,$F19:$J19),\"\")","v":{"$error":"#REF!"}},{"$f":"IF(AND(LEN($D19)>0,SUMIF($F$13:$J$13,AD$13,$F19:$J19)>0,ASISTENCIA!#REF!<>\"X\",ASISTENCIA!#REF!<>\"L\",ASISTENCIA!#REF!<>\"J\",ASISTENCIA!#REF!<>\"V\",ASISTENCIA!#REF!<>\"F\",ASISTENCIA!#REF!<>\"\"),SUMIF($F$13:$J$13,AD$13,$F19:$J19),\"\")","v":{"$error":"#REF!"}},{"$f":"IF(AND(LEN($D19)>0,SUMIF($F$13:$J$13,AE$13,$F19:$J19)>0,ASISTENCIA!#REF!<>\"X\",ASISTENCIA!#REF!<>\"L\",ASISTENCIA!#REF!<>\"J\",ASISTENCIA!#REF!<>\"V\",ASISTENCIA!#REF!<>\"F\",ASISTENCIA!#REF!<>\"\"),SUMIF($F$13:$J$13,AE$13,$F19:$J19),\"\")","v":{"$error":"#REF!"}},{"$f":"IF(AND(LEN($D19)>0,SUMIF($F$13:$J$13,AF$13,$F19:$J19)>0,ASISTENCIA!#REF!<>\"X\",ASISTENCIA!#REF!<>\"L\",ASISTENCIA!#REF!<>\"J\",ASISTENCIA!#REF!<>\"V\",ASISTENCIA!#REF!<>\"F\",ASISTENCIA!#REF!<>\"\"),SUMIF($F$13:$J$13,AF$13,$F19:$J19),\"\")","v":{"$error":"#REF!"}},{"$f":"IF(AND(LEN($D19)>0,SUMIF($F$13:$J$13,AG$13,$F19:$J19)>0,ASISTENCIA!#REF!<>\"X\",ASISTENCIA!#REF!<>\"L\",ASISTENCIA!#REF!<>\"J\",ASISTENCIA!#REF!<>\"V\",ASISTENCIA!#REF!<>\"F\",ASISTENCIA!#REF!<>\"\"),SUMIF($F$13:$J$13,AG$13,$F19:$J19),\"\")","v":{"$error":"#REF!"}},{"$f":"IF(AND(LEN($D19)>0,SUMIF($F$13:$J$13,AH$13,$F19:$J19)>0,ASISTENCIA!#REF!<>\"X\",ASISTENCIA!#REF!<>\"L\",ASISTENCIA!#REF!<>\"J\",ASISTENCIA!#REF!<>\"V\",ASISTENCIA!#REF!<>\"F\",ASISTENCIA!#REF!<>\"\"),SUMIF($F$13:$J$13,AH$13,$F19:$J19),\"\")","v":{"$error":"#REF!"}},{"$f":"IF(AND(LEN($D19)>0,SUMIF($F$13:$J$13,AI$13,$F19:$J19)>0,ASISTENCIA!#REF!<>\"X\",ASISTENCIA!#REF!<>\"L\",ASISTENCIA!#REF!<>\"J\",ASISTENCIA!#REF!<>\"V\",ASISTENCIA!#REF!<>\"F\",ASISTENCIA!#REF!<>\"\"),SUMIF($F$13:$J$13,AI$13,$F19:$J19),\"\")","v":{"$error":"#REF!"}},{"$f":"IF(AND(LEN($D19)>0,SUMIF($F$13:$J$13,AJ$13,$F19:$J19)>0,ASISTENCIA!#REF!<>\"X\",ASISTENCIA!#REF!<>\"L\",ASISTENCIA!#REF!<>\"J\",ASISTENCIA!#REF!<>\"V\",ASISTENCIA!#REF!<>\"F\",ASISTENCIA!#REF!<>\"\"),SUMIF($F$13:$J$13,AJ$13,$F19:$J19),\"\")","v":{"$error":"#REF!"}},{"$f":"IF(AND(LEN($D19)>0,SUMIF($F$13:$J$13,AK$13,$F19:$J19)>0,ASISTENCIA!#REF!<>\"X\",ASISTENCIA!#REF!<>\"L\",ASISTENCIA!#REF!<>\"J\",ASISTENCIA!#REF!<>\"V\",ASISTENCIA!#REF!<>\"F\",ASISTENCIA!#REF!<>\"\"),SUMIF($F$13:$J$13,AK$13,$F19:$J19),\"\")","v":{"$error":"#REF!"}},{"$f":"IF(AND(LEN($D19)>0,SUMIF($F$13:$J$13,AL$13,$F19:$J19)>0,ASISTENCIA!#REF!<>\"X\",ASISTENCIA!#REF!<>\"L\",ASISTENCIA!#REF!<>\"J\",ASISTENCIA!#REF!<>\"V\",ASISTENCIA!#REF!<>\"F\",ASISTENCIA!#REF!<>\"\"),SUMIF($F$13:$J$13,AL$13,$F19:$J19),\"\")","v":{"$error":"#REF!"}},{"$f":"IF(AND(LEN($D19)>0,SUMIF($F$13:$J$13,AM$13,$F19:$J19)>0,ASISTENCIA!#REF!<>\"X\",ASISTENCIA!#REF!<>\"L\",ASISTENCIA!#REF!<>\"J\",ASISTENCIA!#REF!<>\"V\",ASISTENCIA!#REF!<>\"F\",ASISTENCIA!#REF!<>\"\"),SUMIF($F$13:$J$13,AM$13,$F19:$J19),\"\")","v":{"$error":"#REF!"}},{"$f":"IF(AND(LEN($D19)>0,SUMIF($F$13:$J$13,AN$13,$F19:$J19)>0,ASISTENCIA!#REF!<>\"X\",ASISTENCIA!#REF!<>\"L\",ASISTENCIA!#REF!<>\"J\",ASISTENCIA!#REF!<>\"V\",ASISTENCIA!#REF!<>\"F\",ASISTENCIA!#REF!<>\"\"),SUMIF($F$13:$J$13,AN$13,$F19:$J19),\"\")","v":{"$error":"#REF!"}},{"$f":"IF(AND(LEN($D19)>0,SUMIF($F$13:$J$13,AO$13,$F19:$J19)>0,ASISTENCIA!#REF!<>\"X\",ASISTENCIA!#REF!<>\"L\",ASISTENCIA!#REF!<>\"J\",ASISTENCIA!#REF!<>\"V\",ASISTENCIA!#REF!<>\"F\",ASISTENCIA!#REF!<>\"\"),SUMIF($F$13:$J$13,AO$13,$F19:$J19),\"\")","v":{"$error":"#REF!"}},{"$f":"IF(AND(LEN($D19)>0,SUMIF($F$13:$J$13,AP$13,$F19:$J19)>0,ASISTENCIA!#REF!<>\"X\",ASISTENCIA!#REF!<>\"L\",ASISTENCIA!#REF!<>\"J\",ASISTENCIA!#REF!<>\"V\",ASISTENCIA!#REF!<>\"F\",ASISTENCIA!#REF!<>\"\"),SUMIF($F$13:$J$13,AP$13,$F19:$J19),\"\")","v":{"$error":"#REF!"}},{"$f":"IF(AND(LEN($D19)>0,SUMIF($F$13:$J$13,AQ$13,$F19:$J19)>0,ASISTENCIA!#REF!<>\"X\",ASISTENCIA!#REF!<>\"L\",ASISTENCIA!#REF!<>\"J\",ASISTENCIA!#REF!<>\"V\",ASISTENCIA!#REF!<>\"F\",ASISTENCIA!#REF!<>\"\"),SUMIF($F$13:$J$13,AQ$13,$F19:$J19),\"\")","v":{"$error":"#REF!"}},{"$f":"IF(AND(LEN($D19)>0,SUMIF($F$13:$J$13,AR$13,$F19:$J19)>0,ASISTENCIA!#REF!<>\"X\",ASISTENCIA!#REF!<>\"L\",ASISTENCIA!#REF!<>\"J\",ASISTENCIA!#REF!<>\"V\",ASISTENCIA!#REF!<>\"F\",ASISTENCIA!#REF!<>\"\"),SUMIF($F$13:$J$13,AR$13,$F19:$J19),\"\")","v":{"$error":"#REF!"}},{"$f":"IF(AND(LEN($D19)>0,SUMIF($F$13:$J$13,AS$13,$F19:$J19)>0,ASISTENCIA!#REF!<>\"X\",ASISTENCIA!#REF!<>\"L\",ASISTENCIA!#REF!<>\"J\",ASISTENCIA!#REF!<>\"V\",ASISTENCIA!#REF!<>\"F\",ASISTENCIA!#REF!<>\"\"),SUMIF($F$13:$J$13,AS$13,$F19:$J19),\"\")","v":{"$error":"#REF!"}},{"$error":"#REF!"},null,null,null,{"$f":"IF(AND(LEN($D19)>0,SUMIF($F$13:$J$13,AX$13,$F19:$J19)>0,ASISTENCIA!#REF!<>\"X\",ASISTENCIA!#REF!<>\"L\",ASISTENCIA!#REF!<>\"J\",ASISTENCIA!#REF!<>\"F\"),SUMIF($F$13:$J$13,AX$13,$F19:$J19),\"\")","v":{"$error":"#REF!"}},{"$f":"IF(AND(LEN($D19)>0,SUMIF($F$13:$J$13,AY$13,$F19:$J19)>0,ASISTENCIA!#REF!<>\"X\",ASISTENCIA!#REF!<>\"L\",ASISTENCIA!#REF!<>\"J\",ASISTENCIA!#REF!<>\"F\"),SUMIF($F$13:$J$13,AY$13,$F19:$J19),\"\")","v":{"$error":"#REF!"}},{"$f":"IF(AND(LEN($D19)>0,SUMIF($F$13:$J$13,AZ$13,$F19:$J19)>0,ASISTENCIA!#REF!<>\"X\",ASISTENCIA!#REF!<>\"L\",ASISTENCIA!#REF!<>\"J\",ASISTENCIA!#REF!<>\"F\"),SUMIF($F$13:$J$13,AZ$13,$F19:$J19),\"\")","v":{"$error":"#REF!"}},{"$f":"IF(AND(LEN($D19)>0,SUMIF($F$13:$J$13,BA$13,$F19:$J19)>0,ASISTENCIA!#REF!<>\"X\",ASISTENCIA!#REF!<>\"L\",ASISTENCIA!#REF!<>\"J\",ASISTENCIA!#REF!<>\"F\"),SUMIF($F$13:$J$13,BA$13,$F19:$J19),\"\")","v":{"$error":"#REF!"}},{"$f":"IF(AND(LEN($D19)>0,SUMIF($F$13:$J$13,BB$13,$F19:$J19)>0,ASISTENCIA!#REF!<>\"X\",ASISTENCIA!#REF!<>\"L\",ASISTENCIA!#REF!<>\"J\",ASISTENCIA!#REF!<>\"F\"),SUMIF($F$13:$J$13,BB$13,$F19:$J19),\"\")","v":{"$error":"#REF!"}},{"$f":"IF(AND(LEN($D19)>0,SUMIF($F$13:$J$13,BC$13,$F19:$J19)>0,ASISTENCIA!#REF!<>\"X\",ASISTENCIA!#REF!<>\"L\",ASISTENCIA!#REF!<>\"J\",ASISTENCIA!#REF!<>\"F\"),SUMIF($F$13:$J$13,BC$13,$F19:$J19),\"\")","v":{"$error":"#REF!"}},{"$f":"IF(AND(LEN($D19)>0,SUMIF($F$13:$J$13,BD$13,$F19:$J19)>0,ASISTENCIA!#REF!<>\"X\",ASISTENCIA!#REF!<>\"L\",ASISTENCIA!#REF!<>\"J\",ASISTENCIA!#REF!<>\"F\"),SUMIF($F$13:$J$13,BD$13,$F19:$J19),\"\")","v":{"$error":"#REF!"}},{"$f":"IF(AND(LEN($D19)>0,SUMIF($F$13:$J$13,BE$13,$F19:$J19)>0,ASISTENCIA!#REF!<>\"X\",ASISTENCIA!#REF!<>\"L\",ASISTENCIA!#REF!<>\"J\",ASISTENCIA!#REF!<>\"F\"),SUMIF($F$13:$J$13,BE$13,$F19:$J19),\"\")","v":{"$error":"#REF!"}},{"$f":"IF(AND(LEN($D19)>0,SUMIF($F$13:$J$13,BF$13,$F19:$J19)>0,ASISTENCIA!#REF!<>\"X\",ASISTENCIA!#REF!<>\"L\",ASISTENCIA!#REF!<>\"J\",ASISTENCIA!#REF!<>\"F\"),SUMIF($F$13:$J$13,BF$13,$F19:$J19),\"\")","v":{"$error":"#REF!"}},{"$f":"IF(AND(LEN($D19)>0,SUMIF($F$13:$J$13,BG$13,$F19:$J19)>0,ASISTENCIA!#REF!<>\"X\",ASISTENCIA!#REF!<>\"L\",ASISTENCIA!#REF!<>\"J\",ASISTENCIA!#REF!<>\"F\"),SUMIF($F$13:$J$13,BG$13,$F19:$J19),\"\")","v":{"$error":"#REF!"}},{"$f":"IF(AND(LEN($D19)>0,SUMIF($F$13:$J$13,BH$13,$F19:$J19)>0,ASISTENCIA!#REF!<>\"X\",ASISTENCIA!#REF!<>\"L\",ASISTENCIA!#REF!<>\"J\",ASISTENCIA!#REF!<>\"F\"),SUMIF($F$13:$J$13,BH$13,$F19:$J19),\"\")","v":{"$error":"#REF!"}},{"$f":"IF(AND(LEN($D19)>0,SUMIF($F$13:$J$13,BI$13,$F19:$J19)>0,ASISTENCIA!#REF!<>\"X\",ASISTENCIA!#REF!<>\"L\",ASISTENCIA!#REF!<>\"J\",ASISTENCIA!#REF!<>\"F\"),SUMIF($F$13:$J$13,BI$13,$F19:$J19),\"\")","v":{"$error":"#REF!"}},{"$f":"IF(AND(LEN($D19)>0,SUMIF($F$13:$J$13,BJ$13,$F19:$J19)>0,ASISTENCIA!#REF!<>\"X\",ASISTENCIA!#REF!<>\"L\",ASISTENCIA!#REF!<>\"J\",ASISTENCIA!#REF!<>\"F\"),SUMIF($F$13:$J$13,BJ$13,$F19:$J19),\"\")","v":{"$error":"#REF!"}},{"$f":"IF(AND(LEN($D19)>0,SUMIF($F$13:$J$13,BK$13,$F19:$J19)>0,ASISTENCIA!#REF!<>\"X\",ASISTENCIA!#REF!<>\"L\",ASISTENCIA!#REF!<>\"J\",ASISTENCIA!#REF!<>\"F\"),SUMIF($F$13:$J$13,BK$13,$F19:$J19),\"\")","v":{"$error":"#REF!"}},{"$f":"IF(AND(LEN($D19)>0,SUMIF($F$13:$J$13,BL$13,$F19:$J19)>0,ASISTENCIA!#REF!<>\"X\",ASISTENCIA!#REF!<>\"L\",ASISTENCIA!#REF!<>\"J\",ASISTENCIA!#REF!<>\"F\"),SUMIF($F$13:$J$13,BL$13,$F19:$J19),\"\")","v":{"$error":"#REF!"}},{"$f":"IF(AND(LEN($D19)>0,SUMIF($F$13:$J$13,BM$13,$F19:$J19)>0,ASISTENCIA!#REF!<>\"X\",ASISTENCIA!#REF!<>\"L\",ASISTENCIA!#REF!<>\"J\",ASISTENCIA!#REF!<>\"F\"),SUMIF($F$13:$J$13,BM$13,$F19:$J19),\"\")","v":{"$error":"#REF!"}},{"$f":"IF(AND(LEN($D19)>0,SUMIF($F$13:$J$13,BN$13,$F19:$J19)>0,ASISTENCIA!#REF!<>\"X\",ASISTENCIA!#REF!<>\"L\",ASISTENCIA!#REF!<>\"J\",ASISTENCIA!#REF!<>\"F\"),SUMIF($F$13:$J$13,BN$13,$F19:$J19),\"\")","v":{"$error":"#REF!"}},{"$f":"IF(AND(LEN($D19)>0,SUMIF($F$13:$J$13,BO$13,$F19:$J19)>0,ASISTENCIA!#REF!<>\"X\",ASISTENCIA!#REF!<>\"L\",ASISTENCIA!#REF!<>\"J\",ASISTENCIA!#REF!<>\"F\"),SUMIF($F$13:$J$13,BO$13,$F19:$J19),\"\")","v":{"$error":"#REF!"}},{"$f":"IF(AND(LEN($D19)>0,SUMIF($F$13:$J$13,BP$13,$F19:$J19)>0,ASISTENCIA!#REF!<>\"X\",ASISTENCIA!#REF!<>\"L\",ASISTENCIA!#REF!<>\"J\",ASISTENCIA!#REF!<>\"F\"),SUMIF($F$13:$J$13,BP$13,$F19:$J19),\"\")","v":{"$error":"#REF!"}},{"$f":"IF(AND(LEN($D19)>0,SUMIF($F$13:$J$13,BQ$13,$F19:$J19)>0,ASISTENCIA!#REF!<>\"X\",ASISTENCIA!#REF!<>\"L\",ASISTENCIA!#REF!<>\"J\",ASISTENCIA!#REF!<>\"F\"),SUMIF($F$13:$J$13,BQ$13,$F19:$J19),\"\")","v":{"$error":"#REF!"}},{"$f":"IF(AND(LEN($D19)>0,SUMIF($F$13:$J$13,BR$13,$F19:$J19)>0,ASISTENCIA!#REF!<>\"X\",ASISTENCIA!#REF!<>\"L\",ASISTENCIA!#REF!<>\"J\",ASISTENCIA!#REF!<>\"F\"),SUMIF($F$13:$J$13,BR$13,$F19:$J19),\"\")","v":{"$error":"#REF!"}},{"$f":"IF(AND(LEN($D19)>0,SUMIF($F$13:$J$13,BS$13,$F19:$J19)>0,ASISTENCIA!#REF!<>\"X\",ASISTENCIA!#REF!<>\"L\",ASISTENCIA!#REF!<>\"J\",ASISTENCIA!#REF!<>\"F\"),SUMIF($F$13:$J$13,BS$13,$F19:$J19),\"\")","v":{"$error":"#REF!"}},{"$f":"IF(AND(LEN($D19)>0,SUMIF($F$13:$J$13,BT$13,$F19:$J19)>0,ASISTENCIA!#REF!<>\"X\",ASISTENCIA!#REF!<>\"L\",ASISTENCIA!#REF!<>\"J\",ASISTENCIA!#REF!<>\"F\"),SUMIF($F$13:$J$13,BT$13,$F19:$J19),\"\")","v":{"$error":"#REF!"}},{"$f":"IF(AND(LEN($D19)>0,SUMIF($F$13:$J$13,BU$13,$F19:$J19)>0,ASISTENCIA!#REF!<>\"X\",ASISTENCIA!#REF!<>\"L\",ASISTENCIA!#REF!<>\"J\",ASISTENCIA!#REF!<>\"F\"),SUMIF($F$13:$J$13,BU$13,$F19:$J19),\"\")","v":{"$error":"#REF!"}},{"$f":"IF(AND(LEN($D19)>0,SUMIF($F$13:$J$13,BV$13,$F19:$J19)>0,ASISTENCIA!#REF!<>\"X\",ASISTENCIA!#REF!<>\"L\",ASISTENCIA!#REF!<>\"J\",ASISTENCIA!#REF!<>\"F\"),SUMIF($F$13:$J$13,BV$13,$F19:$J19),\"\")","v":{"$error":"#REF!"}},{"$f":"IF(AND(LEN($D19)>0,SUMIF($F$13:$J$13,BW$13,$F19:$J19)>0,ASISTENCIA!#REF!<>\"X\",ASISTENCIA!#REF!<>\"L\",ASISTENCIA!#REF!<>\"J\",ASISTENCIA!#REF!<>\"F\"),SUMIF($F$13:$J$13,BW$13,$F19:$J19),\"\")","v":{"$error":"#REF!"}},{"$f":"IF(AND(LEN($D19)>0,SUMIF($F$13:$J$13,BX$13,$F19:$J19)>0,ASISTENCIA!#REF!<>\"X\",ASISTENCIA!#REF!<>\"L\",ASISTENCIA!#REF!<>\"J\",ASISTENCIA!#REF!<>\"F\"),SUMIF($F$13:$J$13,BX$13,$F19:$J19),\"\")","v":{"$error":"#REF!"}},{"$f":"IF(AND(LEN($D19)>0,SUMIF($F$13:$J$13,BY$13,$F19:$J19)>0,ASISTENCIA!#REF!<>\"X\",ASISTENCIA!#REF!<>\"L\",ASISTENCIA!#REF!<>\"J\",ASISTENCIA!#REF!<>\"F\"),SUMIF($F$13:$J$13,BY$13,$F19:$J19),\"\")","v":{"$error":"#REF!"}},{"$f":"IF(AND(LEN($D19)>0,SUMIF($F$13:$J$13,BZ$13,$F19:$J19)>0,ASISTENCIA!#REF!<>\"X\",ASISTENCIA!#REF!<>\"L\",ASISTENCIA!#REF!<>\"J\",ASISTENCIA!#REF!<>\"F\"),SUMIF($F$13:$J$13,BZ$13,$F19:$J19),\"\")","v":{"$error":"#REF!"}},{"$f":"IF(AND(LEN($D19)>0,SUMIF($F$13:$J$13,CA$13,$F19:$J19)>0,ASISTENCIA!#REF!<>\"X\",ASISTENCIA!#REF!<>\"L\",ASISTENCIA!#REF!<>\"J\",ASISTENCIA!#REF!<>\"F\"),SUMIF($F$13:$J$13,CA$13,$F19:$J19),\"\")","v":{"$error":"#REF!"}},{"$f":"IF(AND(LEN($D19)>0,SUMIF($F$13:$J$13,CB$13,$F19:$J19)>0,ASISTENCIA!#REF!<>\"X\",ASISTENCIA!#REF!<>\"L\",ASISTENCIA!#REF!<>\"J\",ASISTENCIA!#REF!<>\"F\"),SUMIF($F$13:$J$13,CB$13,$F19:$J19),\"\")","v":{"$error":"#REF!"}},{"$error":"#REF!"}]
[{"$error":"#REF!"},{"$f":"IF(LEN(C20)>0,VLOOKUP($O$4,DATA!$A$1:$S$1,2,FALSE),\"\")","v":{"$error":"#REF!"}},{"$error":"#REF!"},{"$f":"IF(LEN(ASISTENCIA!#REF!)>0,ASISTENCIA!#REF!,\"\")","v":{"$error":"#REF!"}},{"$f":"IF(LEN(D20)>0,ASISTENCIA!#REF!,\"\")","v":{"$error":"#REF!"}},null,null,null,null,null,"",null,null,{"$error":"#REF!"},{"$f":"IF(AND(LEN($D20)>0,SUMIF($F$13:$J$13,O$13,$F20:$J20)>0,ASISTENCIA!#REF!<>\"X\",ASISTENCIA!#REF!<>\"L\",ASISTENCIA!#REF!<>\"J\",ASISTENCIA!#REF!<>\"V\",ASISTENCIA!#REF!<>\"F\",ASISTENCIA!#REF!<>\"\"),SUMIF($F$13:$J$13,O$13,$F20:$J20),\"\")","v":{"$error":"#REF!"}},{"$f":"IF(AND(LEN($D20)>0,SUMIF($F$13:$J$13,P$13,$F20:$J20)>0,ASISTENCIA!#REF!<>\"X\",ASISTENCIA!#REF!<>\"L\",ASISTENCIA!#REF!<>\"J\",ASISTENCIA!#REF!<>\"V\",ASISTENCIA!#REF!<>\"F\",ASISTENCIA!#REF!<>\"\"),SUMIF($F$13:$J$13,P$13,$F20:$J20),\"\")","v":{"$error":"#REF!"}},{"$f":"IF(AND(LEN($D20)>0,SUMIF($F$13:$J$13,Q$13,$F20:$J20)>0,ASISTENCIA!#REF!<>\"X\",ASISTENCIA!#REF!<>\"L\",ASISTENCIA!#REF!<>\"J\",ASISTENCIA!#REF!<>\"V\",ASISTENCIA!#REF!<>\"F\",ASISTENCIA!#REF!<>\"\"),SUMIF($F$13:$J$13,Q$13,$F20:$J20),\"\")","v":{"$error":"#REF!"}},{"$f":"IF(AND(LEN($D20)>0,SUMIF($F$13:$J$13,R$13,$F20:$J20)>0,ASISTENCIA!#REF!<>\"X\",ASISTENCIA!#REF!<>\"L\",ASISTENCIA!#REF!<>\"J\",ASISTENCIA!#REF!<>\"V\",ASISTENCIA!#REF!<>\"F\",ASISTENCIA!#REF!<>\"\"),SUMIF($F$13:$J$13,R$13,$F20:$J20),\"\")","v":{"$error":"#REF!"}},{"$f":"IF(AND(LEN($D20)>0,SUMIF($F$13:$J$13,S$13,$F20:$J20)>0,ASISTENCIA!#REF!<>\"X\",ASISTENCIA!#REF!<>\"L\",ASISTENCIA!#REF!<>\"J\",ASISTENCIA!#REF!<>\"V\",ASISTENCIA!#REF!<>\"F\",ASISTENCIA!#REF!<>\"\"),SUMIF($F$13:$J$13,S$13,$F20:$J20),\"\")","v":{"$error":"#REF!"}},{"$f":"IF(AND(LEN($D20)>0,SUMIF($F$13:$J$13,T$13,$F20:$J20)>0,ASISTENCIA!#REF!<>\"X\",ASISTENCIA!#REF!<>\"L\",ASISTENCIA!#REF!<>\"J\",ASISTENCIA!#REF!<>\"V\",ASISTENCIA!#REF!<>\"F\",ASISTENCIA!#REF!<>\"\"),SUMIF($F$13:$J$13,T$13,$F20:$J20),\"\")","v":{"$error":"#REF!"}},{"$f":"IF(AND(LEN($D20)>0,SUMIF($F$13:$J$13,U$13,$F20:$J20)>0,ASISTENCIA!#REF!<>\"X\",ASISTENCIA!#REF!<>\"L\",ASISTENCIA!#REF!<>\"J\",ASISTENCIA!#REF!<>\"V\",ASISTENCIA!#REF!<>\"F\",ASISTENCIA!#REF!<>\"\"),SUMIF($F$13:$J$13,U$13,$F20:$J20),\"\")","v":{"$error":"#REF!"}},{"$f":"IF(AND(LEN($D20)>0,SUMIF($F$13:$J$13,V$13,$F20:$J20)>0,ASISTENCIA!#REF!<>\"X\",ASISTENCIA!#REF!<>\"L\",ASISTENCIA!#REF!<>\"J\",ASISTENCIA!#REF!<>\"V\",ASISTENCIA!#REF!<>\"F\",ASISTENCIA!#REF!<>\"\"),SUMIF($F$13:$J$13,V$13,$F20:$J20),\"\")","v":{"$error":"#REF!"}},{"$f":"IF(AND(LEN($D20)>0,SUMIF($F$13:$J$13,W$13,$F20:$J20)>0,ASISTENCIA!#REF!<>\"X\",ASISTENCIA!#REF!<>\"L\",ASISTENCIA!#REF!<>\"J\",ASISTENCIA!#REF!<>\"V\",ASISTENCIA!#REF!<>\"F\",ASISTENCIA!#REF!<>\"\"),SUMIF($F$13:$J$13,W$13,$F20:$J20),\"\")","v":{"$error":"#REF!"}},{"$f":"IF(AND(LEN($D20)>0,SUMIF($F$13:$J$13,X$13,$F20:$J20)>0,ASISTENCIA!#REF!<>\"X\",ASISTENCIA!#REF!<>\"L\",ASISTENCIA!#REF!<>\"J\",ASISTENCIA!#REF!<>\"V\",ASISTENCIA!#REF!<>\"F\",ASISTENCIA!#REF!<>\"\"),SUMIF($F$13:$J$13,X$13,$F20:$J20),\"\")","v":{"$error":"#REF!"}},{"$f":"IF(AND(LEN($D20)>0,SUMIF($F$13:$J$13,Y$13,$F20:$J20)>0,ASISTENCIA!#REF!<>\"X\",ASISTENCIA!#REF!<>\"L\",ASISTENCIA!#REF!<>\"J\",ASISTENCIA!#REF!<>\"V\",ASISTENCIA!#REF!<>\"F\",ASISTENCIA!#REF!<>\"\"),SUMIF($F$13:$J$13,Y$13,$F20:$J20),\"\")","v":{"$error":"#REF!"}},{"$f":"IF(AND(LEN($D20)>0,SUMIF($F$13:$J$13,Z$13,$F20:$J20)>0,ASISTENCIA!#REF!<>\"X\",ASISTENCIA!#REF!<>\"L\",ASISTENCIA!#REF!<>\"J\",ASISTENCIA!#REF!<>\"V\",ASISTENCIA!#REF!<>\"F\",ASISTENCIA!#REF!<>\"\"),SUMIF($F$13:$J$13,Z$13,$F20:$J20),\"\")","v":{"$error":"#REF!"}},{"$f":"IF(AND(LEN($D20)>0,SUMIF($F$13:$J$13,AA$13,$F20:$J20)>0,ASISTENCIA!#REF!<>\"X\",ASISTENCIA!#REF!<>\"L\",ASISTENCIA!#REF!<>\"J\",ASISTENCIA!#REF!<>\"V\",ASISTENCIA!#REF!<>\"F\",ASISTENCIA!#REF!<>\"\"),SUMIF($F$13:$J$13,AA$13,$F20:$J20),\"\")","v":{"$error":"#REF!"}},{"$f":"IF(AND(LEN($D20)>0,SUMIF($F$13:$J$13,AB$13,$F20:$J20)>0,ASISTENCIA!#REF!<>\"X\",ASISTENCIA!#REF!<>\"L\",ASISTENCIA!#REF!<>\"J\",ASISTENCIA!#REF!<>\"V\",ASISTENCIA!#REF!<>\"F\",ASISTENCIA!#REF!<>\"\"),SUMIF($F$13:$J$13,AB$13,$F20:$J20),\"\")","v":{"$error":"#REF!"}},{"$f":"IF(AND(LEN($D20)>0,SUMIF($F$13:$J$13,AC$13,$F20:$J20)>0,ASISTENCIA!#REF!<>\"X\",ASISTENCIA!#REF!<>\"L\",ASISTENCIA!#REF!<>\"J\",ASISTENCIA!#REF!<>\"V\",ASISTENCIA!#REF!<>\"F\",ASISTENCIA!#REF!<>\"\"),SUMIF($F$13:$J$13,AC$13,$F20:$J20),\"\")","v":{"$error":"#REF!"}},{"$f":"IF(AND(LEN($D20)>0,SUMIF($F$13:$J$13,AD$13,$F20:$J20)>0,ASISTENCIA!#REF!<>\"X\",ASISTENCIA!#REF!<>\"L\",ASISTENCIA!#REF!<>\"J\",ASISTENCIA!#REF!<>\"V\",ASISTENCIA!#REF!<>\"F\",ASISTENCIA!#REF!<>\"\"),SUMIF($F$13:$J$13,AD$13,$F20:$J20),\"\")","v":{"$error":"#REF!"}},{"$f":"IF(AND(LEN($D20)>0,SUMIF($F$13:$J$13,AE$13,$F20:$J20)>0,ASISTENCIA!#REF!<>\"X\",ASISTENCIA!#REF!<>\"L\",ASISTENCIA!#REF!<>\"J\",ASISTENCIA!#REF!<>\"V\",ASISTENCIA!#REF!<>\"F\",ASISTENCIA!#REF!<>\"\"),SUMIF($F$13:$J$13,AE$13,$F20:$J20),\"\")","v":{"$error":"#REF!"}},{"$f":"IF(AND(LEN($D20)>0,SUMIF($F$13:$J$13,AF$13,$F20:$J20)>0,ASISTENCIA!#REF!<>\"X\",ASISTENCIA!#REF!<>\"L\",ASISTENCIA!#REF!<>\"J\",ASISTENCIA!#REF!<>\"V\",ASISTENCIA!#REF!<>\"F\",ASISTENCIA!#REF!<>\"\"),SUMIF($F$13:$J$13,AF$13,$F20:$J20),\"\")","v":{"$error":"#REF!"}},{"$f":"IF(AND(LEN($D20)>0,SUMIF($F$13:$J$13,AG$13,$F20:$J20)>0,ASISTENCIA!#REF!<>\"X\",ASISTENCIA!#REF!<>\"L\",ASISTENCIA!#REF!<>\"J\",ASISTENCIA!#REF!<>\"V\",ASISTENCIA!#REF!<>\"F\",ASISTENCIA!#REF!<>\"\"),SUMIF($F$13:$J$13,AG$13,$F20:$J20),\"\")","v":{"$error":"#REF!"}},{"$f":"IF(AND(LEN($D20)>0,SUMIF($F$13:$J$13,AH$13,$F20:$J20)>0,ASISTENCIA!#REF!<>\"X\",ASISTENCIA!#REF!<>\"L\",ASISTENCIA!#REF!<>\"J\",ASISTENCIA!#REF!<>\"V\",ASISTENCIA!#REF!<>\"F\",ASISTENCIA!#REF!<>\"\"),SUMIF($F$13:$J$13,AH$13,$F20:$J20),\"\")","v":{"$error":"#REF!"}},{"$f":"IF(AND(LEN($D20)>0,SUMIF($F$13:$J$13,AI$13,$F20:$J20)>0,ASISTENCIA!#REF!<>\"X\",ASISTENCIA!#REF!<>\"L\",ASISTENCIA!#REF!<>\"J\",ASISTENCIA!#REF!<>\"V\",ASISTENCIA!#REF!<>\"F\",ASISTENCIA!#REF!<>\"\"),SUMIF($F$13:$J$13,AI$13,$F20:$J20),\"\")","v":{"$error":"#REF!"}},{"$f":"IF(AND(LEN($D20)>0,SUMIF($F$13:$J$13,AJ$13,$F20:$J20)>0,ASISTENCIA!#REF!<>\"X\",ASISTENCIA!#REF!<>\"L\",ASISTENCIA!#REF!<>\"J\",ASISTENCIA!#REF!<>\"V\",ASISTENCIA!#REF!<>\"F\",ASISTENCIA!#REF!<>\"\"),SUMIF($F$13:$J$13,AJ$13,$F20:$J20),\"\")","v":{"$error":"#REF!"}},{"$f":"IF(AND(LEN($D20)>0,SUMIF($F$13:$J$13,AK$13,$F20:$J20)>0,ASISTENCIA!#REF!<>\"X\",ASISTENCIA!#REF!<>\"L\",ASISTENCIA!#REF!<>\"J\",ASISTENCIA!#REF!<>\"V\",ASISTENCIA!#REF!<>\"F\",ASISTENCIA!#REF!<>\"\"),SUMIF($F$13:$J$13,AK$13,$F20:$J20),\"\")","v":{"$error":"#REF!"}},{"$f":"IF(AND(LEN($D20)>0,SUMIF($F$13:$J$13,AL$13,$F20:$J20)>0,ASISTENCIA!#REF!<>\"X\",ASISTENCIA!#REF!<>\"L\",ASISTENCIA!#REF!<>\"J\",ASISTENCIA!#REF!<>\"V\",ASISTENCIA!#REF!<>\"F\",ASISTENCIA!#REF!<>\"\"),SUMIF($F$13:$J$13,AL$13,$F20:$J20),\"\")","v":{"$error":"#REF!"}},{"$f":"IF(AND(LEN($D20)>0,SUMIF($F$13:$J$13,AM$13,$F20:$J20)>0,ASISTENCIA!#REF!<>\"X\",ASISTENCIA!#REF!<>\"L\",ASISTENCIA!#REF!<>\"J\",ASISTENCIA!#REF!<>\"V\",ASISTENCIA!#REF!<>\"F\",ASISTENCIA!#REF!<>\"\"),SUMIF($F$13:$J$13,AM$13,$F20:$J20),\"\")","v":{"$error":"#REF!"}},{"$f":"IF(AND(LEN($D20)>0,SUMIF($F$13:$J$13,AN$13,$F20:$J20)>0,ASISTENCIA!#REF!<>\"X\",ASISTENCIA!#REF!<>\"L\",ASISTENCIA!#REF!<>\"J\",ASISTENCIA!#REF!<>\"V\",ASISTENCIA!#REF!<>\"F\",ASISTENCIA!#REF!<>\"\"),SUMIF($F$13:$J$13,AN$13,$F20:$J20),\"\")","v":{"$error":"#REF!"}},{"$f":"IF(AND(LEN($D20)>0,SUMIF($F$13:$J$13,AO$13,$F20:$J20)>0,ASISTENCIA!#REF!<>\"X\",ASISTENCIA!#REF!<>\"L\",ASISTENCIA!#REF!<>\"J\",ASISTENCIA!#REF!<>\"V\",ASISTENCIA!#REF!<>\"F\",ASISTENCIA!#REF!<>\"\"),SUMIF($F$13:$J$13,AO$13,$F20:$J20),\"\")","v":{"$error":"#REF!"}},{"$f":"IF(AND(LEN($D20)>0,SUMIF($F$13:$J$13,AP$13,$F20:$J20)>0,ASISTENCIA!#REF!<>\"X\",ASISTENCIA!#REF!<>\"L\",ASISTENCIA!#REF!<>\"J\",ASISTENCIA!#REF!<>\"V\",ASISTENCIA!#REF!<>\"F\",ASISTENCIA!#REF!<>\"\"),SUMIF($F$13:$J$13,AP$13,$F20:$J20),\"\")","v":{"$error":"#REF!"}},{"$f":"IF(AND(LEN($D20)>0,SUMIF($F$13:$J$13,AQ$13,$F20:$J20)>0,ASISTENCIA!#REF!<>\"X\",ASISTENCIA!#REF!<>\"L\",ASISTENCIA!#REF!<>\"J\",ASISTENCIA!#REF!<>\"V\",ASISTENCIA!#REF!<>\"F\",ASISTENCIA!#REF!<>\"\"),SUMIF($F$13:$J$13,AQ$13,$F20:$J20),\"\")","v":{"$error":"#REF!"}},{"$f":"IF(AND(LEN($D20)>0,SUMIF($F$13:$J$13,AR$13,$F20:$J20)>0,ASISTENCIA!#REF!<>\"X\",ASISTENCIA!#REF!<>\"L\",ASISTENCIA!#REF!<>\"J\",ASISTENCIA!#REF!<>\"V\",ASISTENCIA!#REF!<>\"F\",ASISTENCIA!#REF!<>\"\"),SUMIF($F$13:$J$13,AR$13,$F20:$J20),\"\")","v":{"$error":"#REF!"}},{"$f":"IF(AND(LEN($D20)>0,SUMIF($F$13:$J$13,AS$13,$F20:$J20)>0,ASISTENCIA!#REF!<>\"X\",ASISTENCIA!#REF!<>\"L\",ASISTENCIA!#REF!<>\"J\",ASISTENCIA!#REF!<>\"V\",ASISTENCIA!#REF!<>\"F\",ASISTENCIA!#REF!<>\"\"),SUMIF($F$13:$J$13,AS$13,$F20:$J20),\"\")","v":{"$error":"#REF!"}},{"$error":"#REF!"},null,null,null,{"$f":"IF(AND(LEN($D20)>0,SUMIF($F$13:$J$13,AX$13,$F20:$J20)>0,ASISTENCIA!#REF!<>\"X\",ASISTENCIA!#REF!<>\"L\",ASISTENCIA!#REF!<>\"J\",ASISTENCIA!#REF!<>\"F\"),SUMIF($F$13:$J$13,AX$13,$F20:$J20),\"\")","v":{"$error":"#REF!"}},{"$f":"IF(AND(LEN($D20)>0,SUMIF($F$13:$J$13,AY$13,$F20:$J20)>0,ASISTENCIA!#REF!<>\"X\",ASISTENCIA!#REF!<>\"L\",ASISTENCIA!#REF!<>\"J\",ASISTENCIA!#REF!<>\"F\"),SUMIF($F$13:$J$13,AY$13,$F20:$J20),\"\")","v":{"$error":"#REF!"}},{"$f":"IF(AND(LEN($D20)>0,SUMIF($F$13:$J$13,AZ$13,$F20:$J20)>0,ASISTENCIA!#REF!<>\"X\",ASISTENCIA!#REF!<>\"L\",ASISTENCIA!#REF!<>\"J\",ASISTENCIA!#REF!<>\"F\"),SUMIF($F$13:$J$13,AZ$13,$F20:$J20),\"\")","v":{"$error":"#REF!"}},{"$f":"IF(AND(LEN($D20)>0,SUMIF($F$13:$J$13,BA$13,$F20:$J20)>0,ASISTENCIA!#REF!<>\"X\",ASISTENCIA!#REF!<>\"L\",ASISTENCIA!#REF!<>\"J\",ASISTENCIA!#REF!<>\"F\"),SUMIF($F$13:$J$13,BA$13,$F20:$J20),\"\")","v":{"$error":"#REF!"}},{"$f":"IF(AND(LEN($D20)>0,SUMIF($F$13:$J$13,BB$13,$F20:$J20)>0,ASISTENCIA!#REF!<>\"X\",ASISTENCIA!#REF!<>\"L\",ASISTENCIA!#REF!<>\"J\",ASISTENCIA!#REF!<>\"F\"),SUMIF($F$13:$J$13,BB$13,$F20:$J20),\"\")","v":{"$error":"#REF!"}},{"$f":"IF(AND(LEN($D20)>0,SUMIF($F$13:$J$13,BC$13,$F20:$J20)>0,ASISTENCIA!#REF!<>\"X\",ASISTENCIA!#REF!<>\"L\",ASISTENCIA!#REF!<>\"J\",ASISTENCIA!#REF!<>\"F\"),SUMIF($F$13:$J$13,BC$13,$F20:$J20),\"\")","v":{"$error":"#REF!"}},{"$f":"IF(AND(LEN($D20)>0,SUMIF($F$13:$J$13,BD$13,$F20:$J20)>0,ASISTENCIA!#REF!<>\"X\",ASISTENCIA!#REF!<>\"L\",ASISTENCIA!#REF!<>\"J\",ASISTENCIA!#REF!<>\"F\"),SUMIF($F$13:$J$13,BD$13,$F20:$J20),\"\")","v":{"$error":"#REF!"}},{"$f":"IF(AND(LEN($D20)>0,SUMIF($F$13:$J$13,BE$13,$F20:$J20)>0,ASISTENCIA!#REF!<>\"X\",ASISTENCIA!#REF!<>\"L\",ASISTENCIA!#REF!<>\"J\",ASISTENCIA!#REF!<>\"F\"),SUMIF($F$13:$J$13,BE$13,$F20:$J20),\"\")","v":{"$error":"#REF!"}},{"$f":"IF(AND(LEN($D20)>0,SUMIF($F$13:$J$13,BF$13,$F20:$J20)>0,ASISTENCIA!#REF!<>\"X\",ASISTENCIA!#REF!<>\"L\",ASISTENCIA!#REF!<>\"J\",ASISTENCIA!#REF!<>\"F\"),SUMIF($F$13:$J$13,BF$13,$F20:$J20),\"\")","v":{"$error":"#REF!"}},{"$f":"IF(AND(LEN($D20)>0,SUMIF($F$13:$J$13,BG$13,$F20:$J20)>0,ASISTENCIA!#REF!<>\"X\",ASISTENCIA!#REF!<>\"L\",ASISTENCIA!#REF!<>\"J\",ASISTENCIA!#REF!<>\"F\"),SUMIF($F$13:$J$13,BG$13,$F20:$J20),\"\")","v":{"$error":"#REF!"}},{"$f":"IF(AND(LEN($D20)>0,SUMIF($F$13:$J$13,BH$13,$F20:$J20)>0,ASISTENCIA!#REF!<>\"X\",ASISTENCIA!#REF!<>\"L\",ASISTENCIA!#REF!<>\"J\",ASISTENCIA!#REF!<>\"F\"),SUMIF($F$13:$J$13,BH$13,$F20:$J20),\"\")","v":{"$error":"#REF!"}},{"$f":"IF(AND(LEN($D20)>0,SUMIF($F$13:$J$13,BI$13,$F20:$J20)>0,ASISTENCIA!#REF!<>\"X\",ASISTENCIA!#REF!<>\"L\",ASISTENCIA!#REF!<>\"J\",ASISTENCIA!#REF!<>\"F\"),SUMIF($F$13:$J$13,BI$13,$F20:$J20),\"\")","v":{"$error":"#REF!"}},{"$f":"IF(AND(LEN($D20)>0,SUMIF($F$13:$J$13,BJ$13,$F20:$J20)>0,ASISTENCIA!#REF!<>\"X\",ASISTENCIA!#REF!<>\"L\",ASISTENCIA!#REF!<>\"J\",ASISTENCIA!#REF!<>\"F\"),SUMIF($F$13:$J$13,BJ$13,$F20:$J20),\"\")","v":{"$error":"#REF!"}},{"$f":"IF(AND(LEN($D20)>0,SUMIF($F$13:$J$13,BK$13,$F20:$J20)>0,ASISTENCIA!#REF!<>\"X\",ASISTENCIA!#REF!<>\"L\",ASISTENCIA!#REF!<>\"J\",ASISTENCIA!#REF!<>\"F\"),SUMIF($F$13:$J$13,BK$13,$F20:$J20),\"\")","v":{"$error":"#REF!"}},{"$f":"IF(AND(LEN($D20)>0,SUMIF($F$13:$J$13,BL$13,$F20:$J20)>0,ASISTENCIA!#REF!<>\"X\",ASISTENCIA!#REF!<>\"L\",ASISTENCIA!#REF!<>\"J\",ASISTENCIA!#REF!<>\"F\"),SUMIF($F$13:$J$13,BL$13,$F20:$J20),\"\")","v":{"$error":"#REF!"}},{"$f":"IF(AND(LEN($D20)>0,SUMIF($F$13:$J$13,BM$13,$F20:$J20)>0,ASISTENCIA!#REF!<>\"X\",ASISTENCIA!#REF!<>\"L\",ASISTENCIA!#REF!<>\"J\",ASISTENCIA!#REF!<>\"F\"),SUMIF($F$13:$J$13,BM$13,$F20:$J20),\"\")","v":{"$error":"#REF!"}},{"$f":"IF(AND(LEN($D20)>0,SUMIF($F$13:$J$13,BN$13,$F20:$J20)>0,ASISTENCIA!#REF!<>\"X\",ASISTENCIA!#REF!<>\"L\",ASISTENCIA!#REF!<>\"J\",ASISTENCIA!#REF!<>\"F\"),SUMIF($F$13:$J$13,BN$13,$F20:$J20),\"\")","v":{"$error":"#REF!"}},{"$f":"IF(AND(LEN($D20)>0,SUMIF($F$13:$J$13,BO$13,$F20:$J20)>0,ASISTENCIA!#REF!<>\"X\",ASISTENCIA!#REF!<>\"L\",ASISTENCIA!#REF!<>\"J\",ASISTENCIA!#REF!<>\"F\"),SUMIF($F$13:$J$13,BO$13,$F20:$J20),\"\")","v":{"$error":"#REF!"}},{"$f":"IF(AND(LEN($D20)>0,SUMIF($F$13:$J$13,BP$13,$F20:$J20)>0,ASISTENCIA!#REF!<>\"X\",ASISTENCIA!#REF!<>\"L\",ASISTENCIA!#REF!<>\"J\",ASISTENCIA!#REF!<>\"F\"),SUMIF($F$13:$J$13,BP$13,$F20:$J20),\"\")","v":{"$error":"#REF!"}},{"$f":"IF(AND(LEN($D20)>0,SUMIF($F$13:$J$13,BQ$13,$F20:$J20)>0,ASISTENCIA!#REF!<>\"X\",ASISTENCIA!#REF!<>\"L\",ASISTENCIA!#REF!<>\"J\",ASISTENCIA!#REF!<>\"F\"),SUMIF($F$13:$J$13,BQ$13,$F20:$J20),\"\")","v":{"$error":"#REF!"}},{"$f":"IF(AND(LEN($D20)>0,SUMIF($F$13:$J$13,BR$13,$F20:$J20)>0,ASISTENCIA!#REF!<>\"X\",ASISTENCIA!#REF!<>\"L\",ASISTENCIA!#REF!<>\"J\",ASISTENCIA!#REF!<>\"F\"),SUMIF($F$13:$J$13,BR$13,$F20:$J20),\"\")","v":{"$error":"#REF!"}},{"$f":"IF(AND(LEN($D20)>0,SUMIF($F$13:$J$13,BS$13,$F20:$J20)>0,ASISTENCIA!#REF!<>\"X\",ASISTENCIA!#REF!<>\"L\",ASISTENCIA!#REF!<>\"J\",ASISTENCIA!#REF!<>\"F\"),SUMIF($F$13:$J$13,BS$13,$F20:$J20),\"\")","v":{"$error":"#REF!"}},{"$f":"IF(AND(LEN($D20)>0,SUMIF($F$13:$J$13,BT$13,$F20:$J20)>0,ASISTENCIA!#REF!<>\"X\",ASISTENCIA!#REF!<>\"L\",ASISTENCIA!#REF!<>\"J\",ASISTENCIA!#REF!<>\"F\"),SUMIF($F$13:$J$13,BT$13,$F20:$J20),\"\")","v":{"$error":"#REF!"}},{"$f":"IF(AND(LEN($D20)>0,SUMIF($F$13:$J$13,BU$13,$F20:$J20)>0,ASISTENCIA!#REF!<>\"X\",ASISTENCIA!#REF!<>\"L\",ASISTENCIA!#REF!<>\"J\",ASISTENCIA!#REF!<>\"F\"),SUMIF($F$13:$J$13,BU$13,$F20:$J20),\"\")","v":{"$error":"#REF!"}},{"$f":"IF(AND(LEN($D20)>0,SUMIF($F$13:$J$13,BV$13,$F20:$J20)>0,ASISTENCIA!#REF!<>\"X\",ASISTENCIA!#REF!<>\"L\",ASISTENCIA!#REF!<>\"J\",ASISTENCIA!#REF!<>\"F\"),SUMIF($F$13:$J$13,BV$13,$F20:$J20),\"\")","v":{"$error":"#REF!"}},{"$f":"IF(AND(LEN($D20)>0,SUMIF($F$13:$J$13,BW$13,$F20:$J20)>0,ASISTENCIA!#REF!<>\"X\",ASISTENCIA!#REF!<>\"L\",ASISTENCIA!#REF!<>\"J\",ASISTENCIA!#REF!<>\"F\"),SUMIF($F$13:$J$13,BW$13,$F20:$J20),\"\")","v":{"$error":"#REF!"}},{"$f":"IF(AND(LEN($D20)>0,SUMIF($F$13:$J$13,BX$13,$F20:$J20)>0,ASISTENCIA!#REF!<>\"X\",ASISTENCIA!#REF!<>\"L\",ASISTENCIA!#REF!<>\"J\",ASISTENCIA!#REF!<>\"F\"),SUMIF($F$13:$J$13,BX$13,$F20:$J20),\"\")","v":{"$error":"#REF!"}},{"$f":"IF(AND(LEN($D20)>0,SUMIF($F$13:$J$13,BY$13,$F20:$J20)>0,ASISTENCIA!#REF!<>\"X\",ASISTENCIA!#REF!<>\"L\",ASISTENCIA!#REF!<>\"J\",ASISTENCIA!#REF!<>\"F\"),SUMIF($F$13:$J$13,BY$13,$F20:$J20),\"\")","v":{"$error":"#REF!"}},{"$f":"IF(AND(LEN($D20)>0,SUMIF($F$13:$J$13,BZ$13,$F20:$J20)>0,ASISTENCIA!#REF!<>\"X\",ASISTENCIA!#REF!<>\"L\",ASISTENCIA!#REF!<>\"J\",ASISTENCIA!#REF!<>\"F\"),SUMIF($F$13:$J$13,BZ$13,$F20:$J20),\"\")","v":{"$error":"#REF!"}},{"$f":"IF(AND(LEN($D20)>0,SUMIF($F$13:$J$13,CA$13,$F20:$J20)>0,ASISTENCIA!#REF!<>\"X\",ASISTENCIA!#REF!<>\"L\",ASISTENCIA!#REF!<>\"J\",ASISTENCIA!#REF!<>\"F\"),SUMIF($F$13:$J$13,CA$13,$F20:$J20),\"\")","v":{"$error":"#REF!"}},{"$f":"IF(AND(LEN($D20)>0,SUMIF($F$13:$J$13,CB$13,$F20:$J20)>0,ASISTENCIA!#REF!<>\"X\",ASISTENCIA!#REF!<>\"L\",ASISTENCIA!#REF!<>\"J\",ASISTENCIA!#REF!<>\"F\"),SUMIF($F$13:$J$13,CB$13,$F20:$J20),\"\")","v":{"$error":"#REF!"}},{"$error":"#REF!"}]
[{"$error":"#REF!"},{"$f":"IF(LEN(C21)>0,VLOOKUP($O$4,DATA!$A$1:$S$1,2,FALSE),\"\")","v":{"$error":"#REF!"}},{"$error":"#REF!"},{"$f":"IF(LEN(ASISTENCIA!#REF!)>0,ASISTENCIA!#REF!,\"\")","v":{"$error":"#REF!"}},{"$f":"IF(LEN(D21)>0,ASISTENCIA!#REF!,\"\")","v":{"$error":"#REF!"}},null,null,null,null,null,"",null,null,{"$error":"#REF!"},{"$f":"IF(AND(LEN($D21)>0,SUMIF($F$13:$J$13,O$13,$F21:$J21)>0,ASISTENCIA!#REF!<>\"X\",ASISTENCIA!#REF!<>\"L\",ASISTENCIA!#REF!<>\"J\",ASISTENCIA!#REF!<>\"V\",ASISTENCIA!#REF!<>\"F\",ASISTENCIA!#REF!<>\"\"),SUMIF($F$13:$J$13,O$13,$F21:$J21),\"\")","v":{"$error":"#REF!"}},{"$f":"IF(AND(LEN($D21)>0,SUMIF($F$13:$J$13,P$13,$F21:$J21)>0,ASISTENCIA!#REF!<>\"X\",ASISTENCIA!#REF!<>\"L\",ASISTENCIA!#REF!<>\"J\",ASISTENCIA!#REF!<>\"V\",ASISTENCIA!#REF!<>\"F\",ASISTENCIA!#REF!<>\"\"),SUMIF($F$13:$J$13,P$13,$F21:$J21),\"\")","v":{"$error":"#REF!"}},{"$f":"IF(AND(LEN($D21)>0,SUMIF($F$13:$J$13,Q$13,$F21:$J21)>0,ASISTENCIA!#REF!<>\"X\",ASISTENCIA!#REF!<>\"L\",ASISTENCIA!#REF!<>\"J\",ASISTENCIA!#REF!<>\"V\",ASISTENCIA!#REF!<>\"F\",ASISTENCIA!#REF!<>\"\"),SUMIF($F$13:$J$13,Q$13,$F21:$J21),\"\")","v":{"$error":"#REF!"}},{"$f":"IF(AND(LEN($D21)>0,SUMIF($F$13:$J$13,R$13,$F21:$J21)>0,ASISTENCIA!#REF!<>\"X\",ASISTENCIA!#REF!<>\"L\",ASISTENCIA!#REF!<>\"J\",ASISTENCIA!#REF!<>\"V\",ASISTENCIA!#REF!<>\"F\",ASISTENCIA!#REF!<>\"\"),SUMIF($F$13:$J$13,R$13,$F21:$J21),\"\")","v":{"$error":"#REF!"}},{"$f":"IF(AND(LEN($D21)>0,SUMIF($F$13:$J$13,S$13,$F21:$J21)>0,ASISTENCIA!#REF!<>\"X\",ASISTENCIA!#REF!<>\"L\",ASISTENCIA!#REF!<>\"J\",ASISTENCIA!#REF!<>\"V\",ASISTENCIA!#REF!<>\"F\",ASISTENCIA!#REF!<>\"\"),SUMIF($F$13:$J$13,S$13,$F21:$J21),\"\")","v":{"$error":"#REF!"}},{"$f":"IF(AND(LEN($D21)>0,SUMIF($F$13:$J$13,T$13,$F21:$J21)>0,ASISTENCIA!#REF!<>\"X\",ASISTENCIA!#REF!<>\"L\",ASISTENCIA!#REF!<>\"J\",ASISTENCIA!#REF!<>\"V\",ASISTENCIA!#REF!<>\"F\",ASISTENCIA!#REF!<>\"\"),SUMIF($F$13:$J$13,T$13,$F21:$J21),\"\")","v":{"$error":"#REF!"}},{"$f":"IF(AND(LEN($D21)>0,SUMIF($F$13:$J$13,U$13,$F21:$J21)>0,ASISTENCIA!#REF!<>\"X\",ASISTENCIA!#REF!<>\"L\",ASISTENCIA!#REF!<>\"J\",ASISTENCIA!#REF!<>\"V\",ASISTENCIA!#REF!<>\"F\",ASISTENCIA!#REF!<>\"\"),SUMIF($F$13:$J$13,U$13,$F21:$J21),\"\")","v":{"$error":"#REF!"}},{"$f":"IF(AND(LEN($D21)>0,SUMIF($F$13:$J$13,V$13,$F21:$J21)>0,ASISTENCIA!#REF!<>\"X\",ASISTENCIA!#REF!<>\"L\",ASISTENCIA!#REF!<>\"J\",ASISTENCIA!#REF!<>\"V\",ASISTENCIA!#REF!<>\"F\",ASISTENCIA!#REF!<>\"\"),SUMIF($F$13:$J$13,V$13,$F21:$J21),\"\")","v":{"$error":"#REF!"}},{"$f":"IF(AND(LEN($D21)>0,SUMIF($F$13:$J$13,W$13,$F21:$J21)>0,ASISTENCIA!#REF!<>\"X\",ASISTENCIA!#REF!<>\"L\",ASISTENCIA!#REF!<>\"J\",ASISTENCIA!#REF!<>\"V\",ASISTENCIA!#REF!<>\"F\",ASISTENCIA!#REF!<>\"\"),SUMIF($F$13:$J$13,W$13,$F21:$J21),\"\")","v":{"$error":"#REF!"}},{"$f":"IF(AND(LEN($D21)>0,SUMIF($F$13:$J$13,X$13,$F21:$J21)>0,ASISTENCIA!#REF!<>\"X\",ASISTENCIA!#REF!<>\"L\",ASISTENCIA!#REF!<>\"J\",ASISTENCIA!#REF!<>\"V\",ASISTENCIA!#REF!<>\"F\",ASISTENCIA!#REF!<>\"\"),SUMIF($F$13:$J$13,X$13,$F21:$J21),\"\")","v":{"$error":"#REF!"}},{"$f":"IF(AND(LEN($D21)>0,SUMIF($F$13:$J$13,Y$13,$F21:$J21)>0,ASISTENCIA!#REF!<>\"X\",ASISTENCIA!#REF!<>\"L\",ASISTENCIA!#REF!<>\"J\",ASISTENCIA!#REF!<>\"V\",ASISTENCIA!#REF!<>\"F\",ASISTENCIA!#REF!<>\"\"),SUMIF($F$13:$J$13,Y$13,$F21:$J21),\"\")","v":{"$error":"#REF!"}},{"$f":"IF(AND(LEN($D21)>0,SUMIF($F$13:$J$13,Z$13,$F21:$J21)>0,ASISTENCIA!#REF!<>\"X\",ASISTENCIA!#REF!<>\"L\",ASISTENCIA!#REF!<>\"J\",ASISTENCIA!#REF!<>\"V\",ASISTENCIA!#REF!<>\"F\",ASISTENCIA!#REF!<>\"\"),SUMIF($F$13:$J$13,Z$13,$F21:$J21),\"\")","v":{"$error":"#REF!"}},{"$f":"IF(AND(LEN($D21)>0,SUMIF($F$13:$J$13,AA$13,$F21:$J21)>0,ASISTENCIA!#REF!<>\"X\",ASISTENCIA!#REF!<>\"L\",ASISTENCIA!#REF!<>\"J\",ASISTENCIA!#REF!<>\"V\",ASISTENCIA!#REF!<>\"F\",ASISTENCIA!#REF!<>\"\"),SUMIF($F$13:$J$13,AA$13,$F21:$J21),\"\")","v":{"$error":"#REF!"}},{"$f":"IF(AND(LEN($D21)>0,SUMIF($F$13:$J$13,AB$13,$F21:$J21)>0,ASISTENCIA!#REF!<>\"X\",ASISTENCIA!#REF!<>\"L\",ASISTENCIA!#REF!<>\"J\",ASISTENCIA!#REF!<>\"V\",ASISTENCIA!#REF!<>\"F\",ASISTENCIA!#REF!<>\"\"),SUMIF($F$13:$J$13,AB$13,$F21:$J21),\"\")","v":{"$error":"#REF!"}},{"$f":"IF(AND(LEN($D21)>0,SUMIF($F$13:$J$13,AC$13,$F21:$J21)>0,ASISTENCIA!#REF!<>\"X\",ASISTENCIA!#REF!<>\"L\",ASISTENCIA!#REF!<>\"J\",ASISTENCIA!#REF!<>\"V\",ASISTENCIA!#REF!<>\"F\",ASISTENCIA!#REF!<>\"\"),SUMIF($F$13:$J$13,AC$13,$F21:$J21),\"\")","v":{"$error":"#REF!"}},{"$f":"IF(AND(LEN($D21)>0,SUMIF($F$13:$J$13,AD$13,$F21:$J21)>0,ASISTENCIA!#REF!<>\"X\",ASISTENCIA!#REF!<>\"L\",ASISTENCIA!#REF!<>\"J\",ASISTENCIA!#REF!<>\"V\",ASISTENCIA!#REF!<>\"F\",ASISTENCIA!#REF!<>\"\"),SUMIF($F$13:$J$13,AD$13,$F21:$J21),\"\")","v":{"$error":"#REF!"}},{"$f":"IF(AND(LEN($D21)>0,SUMIF($F$13:$J$13,AE$13,$F21:$J21)>0,ASISTENCIA!#REF!<>\"X\",ASISTENCIA!#REF!<>\"L\",ASISTENCIA!#REF!<>\"J\",ASISTENCIA!#REF!<>\"V\",ASISTENCIA!#REF!<>\"F\",ASISTENCIA!#REF!<>\"\"),SUMIF($F$13:$J$13,AE$13,$F21:$J21),\"\")","v":{"$error":"#REF!"}},{"$f":"IF(AND(LEN($D21)>0,SUMIF($F$13:$J$13,AF$13,$F21:$J21)>0,ASISTENCIA!#REF!<>\"X\",ASISTENCIA!#REF!<>\"L\",ASISTENCIA!#REF!<>\"J\",ASISTENCIA!#REF!<>\"V\",ASISTENCIA!#REF!<>\"F\",ASISTENCIA!#REF!<>\"\"),SUMIF($F$13:$J$13,AF$13,$F21:$J21),\"\")","v":{"$error":"#REF!"}},{"$f":"IF(AND(LEN($D21)>0,SUMIF($F$13:$J$13,AG$13,$F21:$J21)>0,ASISTENCIA!#REF!<>\"X\",ASISTENCIA!#REF!<>\"L\",ASISTENCIA!#REF!<>\"J\",ASISTENCIA!#REF!<>\"V\",ASISTENCIA!#REF!<>\"F\",ASISTENCIA!#REF!<>\"\"),SUMIF($F$13:$J$13,AG$13,$F21:$J21),\"\")","v":{"$error":"#REF!"}},{"$f":"IF(AND(LEN($D21)>0,SUMIF($F$13:$J$13,AH$13,$F21:$J21)>0,ASISTENCIA!#REF!<>\"X\",ASISTENCIA!#REF!<>\"L\",ASISTENCIA!#REF!<>\"J\",ASISTENCIA!#REF!<>\"V\",ASISTENCIA!#REF!<>\"F\",ASISTENCIA!#REF!<>\"\"),SUMIF($F$13:$J$13,AH$13,$F21:$J21),\"\")","v":{"$error":"#REF!"}},{"$f":"IF(AND(LEN($D21)>0,SUMIF($F$13:$J$13,AI$13,$F21:$J21)>0,ASISTENCIA!#REF!<>\"X\",ASISTENCIA!#REF!<>\"L\",ASISTENCIA!#REF!<>\"J\",ASISTENCIA!#REF!<>\"V\",ASISTENCIA!#REF!<>\"F\",ASISTENCIA!#REF!<>\"\"),SUMIF($F$13:$J$13,AI$13,$F21:$J21),\"\")","v":{"$error":"#REF!"}},{"$f":"IF(AND(LEN($D21)>0,SUMIF($F$13:$J$13,AJ$13,$F21:$J21)>0,ASISTENCIA!#REF!<>\"X\",ASISTENCIA!#REF!<>\"L\",ASISTENCIA!#REF!<>\"J\",ASISTENCIA!#REF!<>\"V\",ASISTENCIA!#REF!<>\"F\",ASISTENCIA!#REF!<>\"\"),SUMIF($F$13:$J$13,AJ$13,$F21:$J21),\"\")","v":{"$error":"#REF!"}},{"$f":"IF(AND(LEN($D21)>0,SUMIF($F$13:$J$13,AK$13,$F21:$J21)>0,ASISTENCIA!#REF!<>\"X\",ASISTENCIA!#REF!<>\"L\",ASISTENCIA!#REF!<>\"J\",ASISTENCIA!#REF!<>\"V\",ASISTENCIA!#REF!<>\"F\",ASISTENCIA!#REF!<>\"\"),SUMIF($F$13:$J$13,AK$13,$F21:$J21),\"\")","v":{"$error":"#REF!"}},{"$f":"IF(AND(LEN($D21)>0,SUMIF($F$13:$J$13,AL$13,$F21:$J21)>0,ASISTENCIA!#REF!<>\"X\",ASISTENCIA!#REF!<>\"L\",ASISTENCIA!#REF!<>\"J\",ASISTENCIA!#REF!<>\"V\",ASISTENCIA!#REF!<>\"F\",ASISTENCIA!#REF!<>\"\"),SUMIF($F$13:$J$13,AL$13,$F21:$J21),\"\")","v":{"$error":"#REF!"}},{"$f":"IF(AND(LEN($D21)>0,SUMIF($F$13:$J$13,AM$13,$F21:$J21)>0,ASISTENCIA!#REF!<>\"X\",ASISTENCIA!#REF!<>\"L\",ASISTENCIA!#REF!<>\"J\",ASISTENCIA!#REF!<>\"V\",ASISTENCIA!#REF!<>\"F\",ASISTENCIA!#REF!<>\"\"),SUMIF($F$13:$J$13,AM$13,$F21:$J21),\"\")","v":{"$error":"#REF!"}},{"$f":"IF(AND(LEN($D21)>0,SUMIF($F$13:$J$13,AN$13,$F21:$J21)>0,ASISTENCIA!#REF!<>\"X\",ASISTENCIA!#REF!<>\"L\",ASISTENCIA!#REF!<>\"J\",ASISTENCIA!#REF!<>\"V\",ASISTENCIA!#REF!<>\"F\",ASISTENCIA!#REF!<>\"\"),SUMIF($F$13:$J$13,AN$13,$F21:$J21),\"\")","v":{"$error":"#REF!"}},{"$f":"IF(AND(LEN($D21)>0,SUMIF($F$13:$J$13,AO$13,$F21:$J21)>0,ASISTENCIA!#REF!<>\"X\",ASISTENCIA!#REF!<>\"L\",ASISTENCIA!#REF!<>\"J\",ASISTENCIA!#REF!<>\"V\",ASISTENCIA!#REF!<>\"F\",ASISTENCIA!#REF!<>\"\"),SUMIF($F$13:$J$13,AO$13,$F21:$J21),\"\")","v":{"$error":"#REF!"}},{"$f":"IF(AND(LEN($D21)>0,SUMIF($F$13:$J$13,AP$13,$F21:$J21)>0,ASISTENCIA!#REF!<>\"X\",ASISTENCIA!#REF!<>\"L\",ASISTENCIA!#REF!<>\"J\",ASISTENCIA!#REF!<>\"V\",ASISTENCIA!#REF!<>\"F\",ASISTENCIA!#REF!<>\"\"),SUMIF($F$13:$J$13,AP$13,$F21:$J21),\"\")","v":{"$error":"#REF!"}},{"$f":"IF(AND(LEN($D21)>0,SUMIF($F$13:$J$13,AQ$13,$F21:$J21)>0,ASISTENCIA!#REF!<>\"X\",ASISTENCIA!#REF!<>\"L\",ASISTENCIA!#REF!<>\"J\",ASISTENCIA!#REF!<>\"V\",ASISTENCIA!#REF!<>\"F\",ASISTENCIA!#REF!<>\"\"),SUMIF($F$13:$J$13,AQ$13,$F21:$J21),\"\")","v":{"$error":"#REF!"}},{"$f":"IF(AND(LEN($D21)>0,SUMIF($F$13:$J$13,AR$13,$F21:$J21)>0,ASISTENCIA!#REF!<>\"X\",ASISTENCIA!#REF!<>\"L\",ASISTENCIA!#REF!<>\"J\",ASISTENCIA!#REF!<>\"V\",ASISTENCIA!#REF!<>\"F\",ASISTENCIA!#REF!<>\"\"),SUMIF($F$13:$J$13,AR$13,$F21:$J21),\"\")","v":{"$error":"#REF!"}},{"$f":"IF(AND(LEN($D21)>0,SUMIF($F$13:$J$13,AS$13,$F21:$J21)>0,ASISTENCIA!#REF!<>\"X\",ASISTENCIA!#REF!<>\"L\",ASISTENCIA!#REF!<>\"J\",ASISTENCIA!#REF!<>\"V\",ASISTENCIA!#REF!<>\"F\",ASISTENCIA!#REF!<>\"\"),SUMIF($F$13:$J$13,AS$13,$F21:$J21),\"\")","v":{"$error":"#REF!"}},{"$error":"#REF!"},null,null,null,{"$f":"IF(AND(LEN($D21)>0,SUMIF($F$13:$J$13,AX$13,$F21:$J21)>0,ASISTENCIA!#REF!<>\"X\",ASISTENCIA!#REF!<>\"L\",ASISTENCIA!#REF!<>\"J\",ASISTENCIA!#REF!<>\"F\"),SUMIF($F$13:$J$13,AX$13,$F21:$J21),\"\")","v":{"$error":"#REF!"}},{"$f":"IF(AND(LEN($D21)>0,SUMIF($F$13:$J$13,AY$13,$F21:$J21)>0,ASISTENCIA!#REF!<>\"X\",ASISTENCIA!#REF!<>\"L\",ASISTENCIA!#REF!<>\"J\",ASISTENCIA!#REF!<>\"F\"),SUMIF($F$13:$J$13,AY$13,$F21:$J21),\"\")","v":{"$error":"#REF!"}},{"$f":"IF(AND(LEN($D21)>0,SUMIF($F$13:$J$13,AZ$13,$F21:$J21)>0,ASISTENCIA!#REF!<>\"X\",ASISTENCIA!#REF!<>\"L\",ASISTENCIA!#REF!<>\"J\",ASISTENCIA!#REF!<>\"F\"),SUMIF($F$13:$J$13,AZ$13,$F21:$J21),\"\")","v":{"$error":"#REF!"}},{"$f":"IF(AND(LEN($D21)>0,SUMIF($F$13:$J$13,BA$13,$F21:$J21)>0,ASISTENCIA!#REF!<>\"X\",ASISTENCIA!#REF!<>\"L\",ASISTENCIA!#REF!<>\"J\",ASISTENCIA!#REF!<>\"F\"),SUMIF($F$13:$J$13,BA$13,$F21:$J21),\"\")","v":{"$error":"#REF!"}},{"$f":"IF(AND(LEN($D21)>0,SUMIF($F$13:$J$13,BB$13,$F21:$J21)>0,ASISTENCIA!#REF!<>\"X\",ASISTENCIA!#REF!<>\"L\",ASISTENCIA!#REF!<>\"J\",ASISTENCIA!#REF!<>\"F\"),SUMIF($F$13:$J$13,BB$13,$F21:$J21),\"\")","v":{"$error":"#REF!"}},{"$f":"IF(AND(LEN($D21)>0,SUMIF($F$13:$J$13,BC$13,$F21:$J21)>0,ASISTENCIA!#REF!<>\"X\",ASISTENCIA!#REF!<>\"L\",ASISTENCIA!#REF!<>\"J\",ASISTENCIA!#REF!<>\"F\"),SUMIF($F$13:$J$13,BC$13,$F21:$J21),\"\")","v":{"$error":"#REF!"}},{"$f":"IF(AND(LEN($D21)>0,SUMIF($F$13:$J$13,BD$13,$F21:$J21)>0,ASISTENCIA!#REF!<>\"X\",ASISTENCIA!#REF!<>\"L\",ASISTENCIA!#REF!<>\"J\",ASISTENCIA!#REF!<>\"F\"),SUMIF($F$13:$J$13,BD$13,$F21:$J21),\"\")","v":{"$error":"#REF!"}},{"$f":"IF(AND(LEN($D21)>0,SUMIF($F$13:$J$13,BE$13,$F21:$J21)>0,ASISTENCIA!#REF!<>\"X\",ASISTENCIA!#REF!<>\"L\",ASISTENCIA!#REF!<>\"J\",ASISTENCIA!#REF!<>\"F\"),SUMIF($F$13:$J$13,BE$13,$F21:$J21),\"\")","v":{"$error":"#REF!"}},{"$f":"IF(AND(LEN($D21)>0,SUMIF($F$13:$J$13,BF$13,$F21:$J21)>0,ASISTENCIA!#REF!<>\"X\",ASISTENCIA!#REF!<>\"L\",ASISTENCIA!#REF!<>\"J\",ASISTENCIA!#REF!<>\"F\"),SUMIF($F$13:$J$13,BF$13,$F21:$J21),\"\")","v":{"$error":"#REF!"}},{"$f":"IF(AND(LEN($D21)>0,SUMIF($F$13:$J$13,BG$13,$F21:$J21)>0,ASISTENCIA!#REF!<>\"X\",ASISTENCIA!#REF!<>\"L\",ASISTENCIA!#REF!<>\"J\",ASISTENCIA!#REF!<>\"F\"),SUMIF($F$13:$J$13,BG$13,$F21:$J21),\"\")","v":{"$error":"#REF!"}},{"$f":"IF(AND(LEN($D21)>0,SUMIF($F$13:$J$13,BH$13,$F21:$J21)>0,ASISTENCIA!#REF!<>\"X\",ASISTENCIA!#REF!<>\"L\",ASISTENCIA!#REF!<>\"J\",ASISTENCIA!#REF!<>\"F\"),SUMIF($F$13:$J$13,BH$13,$F21:$J21),\"\")","v":{"$error":"#REF!"}},{"$f":"IF(AND(LEN($D21)>0,SUMIF($F$13:$J$13,BI$13,$F21:$J21)>0,ASISTENCIA!#REF!<>\"X\",ASISTENCIA!#REF!<>\"L\",ASISTENCIA!#REF!<>\"J\",ASISTENCIA!#REF!<>\"F\"),SUMIF($F$13:$J$13,BI$13,$F21:$J21),\"\")","v":{"$error":"#REF!"}},{"$f":"IF(AND(LEN($D21)>0,SUMIF($F$13:$J$13,BJ$13,$F21:$J21)>0,ASISTENCIA!#REF!<>\"X\",ASISTENCIA!#REF!<>\"L\",ASISTENCIA!#REF!<>\"J\",ASISTENCIA!#REF!<>\"F\"),SUMIF($F$13:$J$13,BJ$13,$F21:$J21),\"\")","v":{"$error":"#REF!"}},{"$f":"IF(AND(LEN($D21)>0,SUMIF($F$13:$J$13,BK$13,$F21:$J21)>0,ASISTENCIA!#REF!<>\"X\",ASISTENCIA!#REF!<>\"L\",ASISTENCIA!#REF!<>\"J\",ASISTENCIA!#REF!<>\"F\"),SUMIF($F$13:$J$13,BK$13,$F21:$J21),\"\")","v":{"$error":"#REF!"}},{"$f":"IF(AND(LEN($D21)>0,SUMIF($F$13:$J$13,BL$13,$F21:$J21)>0,ASISTENCIA!#REF!<>\"X\",ASISTENCIA!#REF!<>\"L\",ASISTENCIA!#REF!<>\"J\",ASISTENCIA!#REF!<>\"F\"),SUMIF($F$13:$J$13,BL$13,$F21:$J21),\"\")","v":{"$error":"#REF!"}},{"$f":"IF(AND(LEN($D21)>0,SUMIF($F$13:$J$13,BM$13,$F21:$J21)>0,ASISTENCIA!#REF!<>\"X\",ASISTENCIA!#REF!<>\"L\",ASISTENCIA!#REF!<>\"J\",ASISTENCIA!#REF!<>\"F\"),SUMIF($F$13:$J$13,BM$13,$F21:$J21),\"\")","v":{"$error":"#REF!"}},{"$f":"IF(AND(LEN($D21)>0,SUMIF($F$13:$J$13,BN$13,$F21:$J21)>0,ASISTENCIA!#REF!<>\"X\",ASISTENCIA!#REF!<>\"L\",ASISTENCIA!#REF!<>\"J\",ASISTENCIA!#REF!<>\"F\"),SUMIF($F$13:$J$13,BN$13,$F21:$J21),\"\")","v":{"$error":"#REF!"}},{"$f":"IF(AND(LEN($D21)>0,SUMIF($F$13:$J$13,BO$13,$F21:$J21)>0,ASISTENCIA!#REF!<>\"X\",ASISTENCIA!#REF!<>\"L\",ASISTENCIA!#REF!<>\"J\",ASISTENCIA!#REF!<>\"F\"),SUMIF($F$13:$J$13,BO$13,$F21:$J21),\"\")","v":{"$error":"#REF!"}},{"$f":"IF(AND(LEN($D21)>0,SUMIF($F$13:$J$13,BP$13,$F21:$J21)>0,ASISTENCIA!#REF!<>\"X\",ASISTENCIA!#REF!<>\"L\",ASISTENCIA!#REF!<>\"J\",ASISTENCIA!#REF!<>\"F\"),SUMIF($F$13:$J$13,BP$13,$F21:$J21),\"\")","v":{"$error":"#REF!"}},{"$f":"IF(AND(LEN($D21)>0,SUMIF($F$13:$J$13,BQ$13,$F21:$J21)>0,ASISTENCIA!#REF!<>\"X\",ASISTENCIA!#REF!<>\"L\",ASISTENCIA!#REF!<>\"J\",ASISTENCIA!#REF!<>\"F\"),SUMIF($F$13:$J$13,BQ$13,$F21:$J21),\"\")","v":{"$error":"#REF!"}},{"$f":"IF(AND(LEN($D21)>0,SUMIF($F$13:$J$13,BR$13,$F21:$J21)>0,ASISTENCIA!#REF!<>\"X\",ASISTENCIA!#REF!<>\"L\",ASISTENCIA!#REF!<>\"J\",ASISTENCIA!#REF!<>\"F\"),SUMIF($F$13:$J$13,BR$13,$F21:$J21),\"\")","v":{"$error":"#REF!"}},{"$f":"IF(AND(LEN($D21)>0,SUMIF($F$13:$J$13,BS$13,$F21:$J21)>0,ASISTENCIA!#REF!<>\"X\",ASISTENCIA!#REF!<>\"L\",ASISTENCIA!#REF!<>\"J\",ASISTENCIA!#REF!<>\"F\"),SUMIF($F$13:$J$13,BS$13,$F21:$J21),\"\")","v":{"$error":"#REF!"}},{"$f":"IF(AND(LEN($D21)>0,SUMIF($F$13:$J$13,BT$13,$F21:$J21)>0,ASISTENCIA!#REF!<>\"X\",ASISTENCIA!#REF!<>\"L\",ASISTENCIA!#REF!<>\"J\",ASISTENCIA!#REF!<>\"F\"),SUMIF($F$13:$J$13,BT$13,$F21:$J21),\"\")","v":{"$error":"#REF!"}},{"$f":"IF(AND(LEN($D21)>0,SUMIF($F$13:$J$13,BU$13,$F21:$J21)>0,ASISTENCIA!#REF!<>\"X\",ASISTENCIA!#REF!<>\"L\",ASISTENCIA!#REF!<>\"J\",ASISTENCIA!#REF!<>\"F\"),SUMIF($F$13:$J$13,BU$13,$F21:$J21),\"\")","v":{"$error":"#REF!"}},{"$f":"IF(AND(LEN($D21)>0,SUMIF($F$13:$J$13,BV$13,$F21:$J21)>0,ASISTENCIA!#REF!<>\"X\",ASISTENCIA!#REF!<>\"L\",ASISTENCIA!#REF!<>\"J\",ASISTENCIA!#REF!<>\"F\"),SUMIF($F$13:$J$13,BV$13,$F21:$J21),\"\")","v":{"$error":"#REF!"}},{"$f":"IF(AND(LEN($D21)>0,SUMIF($F$13:$J$13,BW$13,$F21:$J21)>0,ASISTENCIA!#REF!<>\"X\",ASISTENCIA!#REF!<>\"L\",ASISTENCIA!#REF!<>\"J\",ASISTENCIA!#REF!<>\"F\"),SUMIF($F$13:$J$13,BW$13,$F21:$J21),\"\")","v":{"$error":"#REF!"}},{"$f":"IF(AND(LEN($D21)>0,SUMIF($F$13:$J$13,BX$13,$F21:$J21)>0,ASISTENCIA!#REF!<>\"X\",ASISTENCIA!#REF!<>\"L\",ASISTENCIA!#REF!<>\"J\",ASISTENCIA!#REF!<>\"F\"),SUMIF($F$13:$J$13,BX$13,$F21:$J21),\"\")","v":{"$error":"#REF!"}},{"$f":"IF(AND(LEN($D21)>0,SUMIF($F$13:$J$13,BY$13,$F21:$J21)>0,ASISTENCIA!#REF!<>\"X\",ASISTENCIA!#REF!<>\"L\",ASISTENCIA!#REF!<>\"J\",ASISTENCIA!#REF!<>\"F\"),SUMIF($F$13:$J$13,BY$13,$F21:$J21),\"\")","v":{"$error":"#REF!"}},{"$f":"IF(AND(LEN($D21)>0,SUMIF($F$13:$J$13,BZ$13,$F21:$J21)>0,ASISTENCIA!#REF!<>\"X\",ASISTENCIA!#REF!<>\"L\",ASISTENCIA!#REF!<>\"J\",ASISTENCIA!#REF!<>\"F\"),SUMIF($F$13:$J$13,BZ$13,$F21:$J21),\"\")","v":{"$error":"#REF!"}},{"$f":"IF(AND(LEN($D21)>0,SUMIF($F$13:$J$13,CA$13,$F21:$J21)>0,ASISTENCIA!#REF!<>\"X\",ASISTENCIA!#REF!<>\"L\",ASISTENCIA!#REF!<>\"J\",ASISTENCIA!#REF!<>\"F\"),SUMIF($F$13:$J$13,CA$13,$F21:$J21),\"\")","v":{"$error":"#REF!"}},{"$f":"IF(AND(LEN($D21)>0,SUMIF($F$13:$J$13,CB$13,$F21:$J21)>0,ASISTENCIA!#REF!<>\"X\",ASISTENCIA!#REF!<>\"L\",ASISTENCIA!#REF!<>\"J\",ASISTENCIA!#REF!<>\"F\"),SUMIF($F$13:$J$13,CB$13,$F21:$J21),\"\")","v":{"$error":"#REF!"}},{"$error":"#REF!"}]
[{"$error":"#REF!"},{"$f":"IF(LEN(C22)>0,VLOOKUP($O$4,DATA!$A$1:$S$1,2,FALSE),\"\")","v":{"$error":"#REF!"}},{"$error":"#REF!"},{"$f":"IF(LEN(ASISTENCIA!#REF!)>0,ASISTENCIA!#REF!,\"\")","v":{"$error":"#REF!"}},{"$f":"IF(LEN(D22)>0,ASISTENCIA!#REF!,\"\")","v":{"$error":"#REF!"}},null,null,null,null,null,"",null,null,{"$error":"#REF!"},{"$f":"IF(AND(LEN($D22)>0,SUMIF($F$13:$J$13,O$13,$F22:$J22)>0,ASISTENCIA!#REF!<>\"X\",ASISTENCIA!#REF!<>\"L\",ASISTENCIA!#REF!<>\"J\",ASISTENCIA!#REF!<>\"V\",ASISTENCIA!#REF!<>\"F\",ASISTENCIA!#REF!<>\"\"),SUMIF($F$13:$J$13,O$13,$F22:$J22),\"\")","v":{"$error":"#REF!"}},{"$f":"IF(AND(LEN($D22)>0,SUMIF($F$13:$J$13,P$13,$F22:$J22)>0,ASISTENCIA!#REF!<>\"X\",ASISTENCIA!#REF!<>\"L\",ASISTENCIA!#REF!<>\"J\",ASISTENCIA!#REF!<>\"V\",ASISTENCIA!#REF!<>\"F\",ASISTENCIA!#REF!<>\"\"),SUMIF($F$13:$J$13,P$13,$F22:$J22),\"\")","v":{"$error":"#REF!"}},{"$f":"IF(AND(LEN($D22)>0,SUMIF($F$13:$J$13,Q$13,$F22:$J22)>0,ASISTENCIA!#REF!<>\"X\",ASISTENCIA!#REF!<>\"L\",ASISTENCIA!#REF!<>\"J\",ASISTENCIA!#REF!<>\"V\",ASISTENCIA!#REF!<>\"F\",ASISTENCIA!#REF!<>\"\"),SUMIF($F$13:$J$13,Q$13,$F22:$J22),\"\")","v":{"$error":"#REF!"}},{"$f":"IF(AND(LEN($D22)>0,SUMIF($F$13:$J$13,R$13,$F22:$J22)>0,ASISTENCIA!#REF!<>\"X\",ASISTENCIA!#REF!<>\"L\",ASISTENCIA!#REF!<>\"J\",ASISTENCIA!#REF!<>\"V\",ASISTENCIA!#REF!<>\"F\",ASISTENCIA!#REF!<>\"\"),SUMIF($F$13:$J$13,R$13,$F22:$J22),\"\")","v":{"$error":"#REF!"}},{"$f":"IF(AND(LEN($D22)>0,SUMIF($F$13:$J$13,S$13,$F22:$J22)>0,ASISTENCIA!#REF!<>\"X\",ASISTENCIA!#REF!<>\"L\",ASISTENCIA!#REF!<>\"J\",ASISTENCIA!#REF!<>\"V\",ASISTENCIA!#REF!<>\"F\",ASISTENCIA!#REF!<>\"\"),SUMIF($F$13:$J$13,S$13,$F22:$J22),\"\")","v":{"$error":"#REF!"}},{"$f":"IF(AND(LEN($D22)>0,SUMIF($F$13:$J$13,T$13,$F22:$J22)>0,ASISTENCIA!#REF!<>\"X\",ASISTENCIA!#REF!<>\"L\",ASISTENCIA!#REF!<>\"J\",ASISTENCIA!#REF!<>\"V\",ASISTENCIA!#REF!<>\"F\",ASISTENCIA!#REF!<>\"\"),SUMIF($F$13:$J$13,T$13,$F22:$J22),\"\")","v":{"$error":"#REF!"}},{"$f":"IF(AND(LEN($D22)>0,SUMIF($F$13:$J$13,U$13,$F22:$J22)>0,ASISTENCIA!#REF!<>\"X\",ASISTENCIA!#REF!<>\"L\",ASISTENCIA!#REF!<>\"J\",ASISTENCIA!#REF!<>\"V\",ASISTENCIA!#REF!<>\"F\",ASISTENCIA!#REF!<>\"\"),SUMIF($F$13:$J$13,U$13,$F22:$J22),\"\")","v":{"$error":"#REF!"}},{"$f":"IF(AND(LEN($D22)>0,SUMIF($F$13:$J$13,V$13,$F22:$J22)>0,ASISTENCIA!#REF!<>\"X\",ASISTENCIA!#REF!<>\"L\",ASISTENCIA!#REF!<>\"J\",ASISTENCIA!#REF!<>\"V\",ASISTENCIA!#REF!<>\"F\",ASISTENCIA!#REF!<>\"\"),SUMIF($F$13:$J$13,V$13,$F22:$J22),\"\")","v":{"$error":"#REF!"}},{"$f":"IF(AND(LEN($D22)>0,SUMIF($F$13:$J$13,W$13,$F22:$J22)>0,ASISTENCIA!#REF!<>\"X\",ASISTENCIA!#REF!<>\"L\",ASISTENCIA!#REF!<>\"J\",ASISTENCIA!#REF!<>\"V\",ASISTENCIA!#REF!<>\"F\",ASISTENCIA!#REF!<>\"\"),SUMIF($F$13:$J$13,W$13,$F22:$J22),\"\")","v":{"$error":"#REF!"}},{"$f":"IF(AND(LEN($D22)>0,SUMIF($F$13:$J$13,X$13,$F22:$J22)>0,ASISTENCIA!#REF!<>\"X\",ASISTENCIA!#REF!<>\"L\",ASISTENCIA!#REF!<>\"J\",ASISTENCIA!#REF!<>\"V\",ASISTENCIA!#REF!<>\"F\",ASISTENCIA!#REF!<>\"\"),SUMIF($F$13:$J$13,X$13,$F22:$J22),\"\")","v":{"$error":"#REF!"}},{"$f":"IF(AND(LEN($D22)>0,SUMIF($F$13:$J$13,Y$13,$F22:$J22)>0,ASISTENCIA!#REF!<>\"X\",ASISTENCIA!#REF!<>\"L\",ASISTENCIA!#REF!<>\"J\",ASISTENCIA!#REF!<>\"V\",ASISTENCIA!#REF!<>\"F\",ASISTENCIA!#REF!<>\"\"),SUMIF($F$13:$J$13,Y$13,$F22:$J22),\"\")","v":{"$error":"#REF!"}},{"$f":"IF(AND(LEN($D22)>0,SUMIF($F$13:$J$13,Z$13,$F22:$J22)>0,ASISTENCIA!#REF!<>\"X\",ASISTENCIA!#REF!<>\"L\",ASISTENCIA!#REF!<>\"J\",ASISTENCIA!#REF!<>\"V\",ASISTENCIA!#REF!<>\"F\",ASISTENCIA!#REF!<>\"\"),SUMIF($F$13:$J$13,Z$13,$F22:$J22),\"\")","v":{"$error":"#REF!"}},{"$f":"IF(AND(LEN($D22)>0,SUMIF($F$13:$J$13,AA$13,$F22:$J22)>0,ASISTENCIA!#REF!<>\"X\",ASISTENCIA!#REF!<>\"L\",ASISTENCIA!#REF!<>\"J\",ASISTENCIA!#REF!<>\"V\",ASISTENCIA!#REF!<>\"F\",ASISTENCIA!#REF!<>\"\"),SUMIF($F$13:$J$13,AA$13,$F22:$J22),\"\")","v":{"$error":"#REF!"}},{"$f":"IF(AND(LEN($D22)>0,SUMIF($F$13:$J$13,AB$13,$F22:$J22)>0,ASISTENCIA!#REF!<>\"X\",ASISTENCIA!#REF!<>\"L\",ASISTENCIA!#REF!<>\"J\",ASISTENCIA!#REF!<>\"V\",ASISTENCIA!#REF!<>\"F\",ASISTENCIA!#REF!<>\"\"),SUMIF($F$13:$J$13,AB$13,$F22:$J22),\"\")","v":{"$error":"#REF!"}},{"$f":"IF(AND(LEN($D22)>0,SUMIF($F$13:$J$13,AC$13,$F22:$J22)>0,ASISTENCIA!#REF!<>\"X\",ASISTENCIA!#REF!<>\"L\",ASISTENCIA!#REF!<>\"J\",ASISTENCIA!#REF!<>\"V\",ASISTENCIA!#REF!<>\"F\",ASISTENCIA!#REF!<>\"\"),SUMIF($F$13:$J$13,AC$13,$F22:$J22),\"\")","v":{"$error":"#REF!"}},{"$f":"IF(AND(LEN($D22)>0,SUMIF($F$13:$J$13,AD$13,$F22:$J22)>0,ASISTENCIA!#REF!<>\"X\",ASISTENCIA!#REF!<>\"L\",ASISTENCIA!#REF!<>\"J\",ASISTENCIA!#REF!<>\"V\",ASISTENCIA!#REF!<>\"F\",ASISTENCIA!#REF!<>\"\"),SUMIF($F$13:$J$13,AD$13,$F22:$J22),\"\")","v":{"$error":"#REF!"}},{"$f":"IF(AND(LEN($D22)>0,SUMIF($F$13:$J$13,AE$13,$F22:$J22)>0,ASISTENCIA!#REF!<>\"X\",ASISTENCIA!#REF!<>\"L\",ASISTENCIA!#REF!<>\"J\",ASISTENCIA!#REF!<>\"V\",ASISTENCIA!#REF!<>\"F\",ASISTENCIA!#REF!<>\"\"),SUMIF($F$13:$J$13,AE$13,$F22:$J22),\"\")","v":{"$error":"#REF!"}},{"$f":"IF(AND(LEN($D22)>0,SUMIF($F$13:$J$13,AF$13,$F22:$J22)>0,ASISTENCIA!#REF!<>\"X\",ASISTENCIA!#REF!<>\"L\",ASISTENCIA!#REF!<>\"J\",ASISTENCIA!#REF!<>\"V\",ASISTENCIA!#REF!<>\"F\",ASISTENCIA!#REF!<>\"\"),SUMIF($F$13:$J$13,AF$13,$F22:$J22),\"\")","v":{"$error":"#REF!"}},{"$f":"IF(AND(LEN($D22)>0,SUMIF($F$13:$J$13,AG$13,$F22:$J22)>0,ASISTENCIA!#REF!<>\"X\",ASISTENCIA!#REF!<>\"L\",ASISTENCIA!#REF!<>\"J\",ASISTENCIA!#REF!<>\"V\",ASISTENCIA!#REF!<>\"F\",ASISTENCIA!#REF!<>\"\"),SUMIF($F$13:$J$13,AG$13,$F22:$J22),\"\")","v":{"$error":"#REF!"}},{"$f":"IF(AND(LEN($D22)>0,SUMIF($F$13:$J$13,AH$13,$F22:$J22)>0,ASISTENCIA!#REF!<>\"X\",ASISTENCIA!#REF!<>\"L\",ASISTENCIA!#REF!<>\"J\",ASISTENCIA!#REF!<>\"V\",ASISTENCIA!#REF!<>\"F\",ASISTENCIA!#REF!<>\"\"),SUMIF($F$13:$J$13,AH$13,$F22:$J22),\"\")","v":{"$error":"#REF!"}},{"$f":"IF(AND(LEN($D22)>0,SUMIF($F$13:$J$13,AI$13,$F22:$J22)>0,ASISTENCIA!#REF!<>\"X\",ASISTENCIA!#REF!<>\"L\",ASISTENCIA!#REF!<>\"J\",ASISTENCIA!#REF!<>\"V\",ASISTENCIA!#REF!<>\"F\",ASISTENCIA!#REF!<>\"\"),SUMIF($F$13:$J$13,AI$13,$F22:$J22),\"\")","v":{"$error":"#REF!"}},{"$f":"IF(AND(LEN($D22)>0,SUMIF($F$13:$J$13,AJ$13,$F22:$J22)>0,ASISTENCIA!#REF!<>\"X\",ASISTENCIA!#REF!<>\"L\",ASISTENCIA!#REF!<>\"J\",ASISTENCIA!#REF!<>\"V\",ASISTENCIA!#REF!<>\"F\",ASISTENCIA!#REF!<>\"\"),SUMIF($F$13:$J$13,AJ$13,$F22:$J22),\"\")","v":{"$error":"#REF!"}},{"$f":"IF(AND(LEN($D22)>0,SUMIF($F$13:$J$13,AK$13,$F22:$J22)>0,ASISTENCIA!#REF!<>\"X\",ASISTENCIA!#REF!<>\"L\",ASISTENCIA!#REF!<>\"J\",ASISTENCIA!#REF!<>\"V\",ASISTENCIA!#REF!<>\"F\",ASISTENCIA!#REF!<>\"\"),SUMIF($F$13:$J$13,AK$13,$F22:$J22),\"\")","v":{"$error":"#REF!"}},{"$f":"IF(AND(LEN($D22)>0,SUMIF($F$13:$J$13,AL$13,$F22:$J22)>0,ASISTENCIA!#REF!<>\"X\",ASISTENCIA!#REF!<>\"L\",ASISTENCIA!#REF!<>\"J\",ASISTENCIA!#REF!<>\"V\",ASISTENCIA!#REF!<>\"F\",ASISTENCIA!#REF!<>\"\"),SUMIF($F$13:$J$13,AL$13,$F22:$J22),\"\")","v":{"$error":"#REF!"}},{"$f":"IF(AND(LEN($D22)>0,SUMIF($F$13:$J$13,AM$13,$F22:$J22)>0,ASISTENCIA!#REF!<>\"X\",ASISTENCIA!#REF!<>\"L\",ASISTENCIA!#REF!<>\"J\",ASISTENCIA!#REF!<>\"V\",ASISTENCIA!#REF!<>\"F\",ASISTENCIA!#REF!<>\"\"),SUMIF($F$13:$J$13,AM$13,$F22:$J22),\"\")","v":{"$error":"#REF!"}},{"$f":"IF(AND(LEN($D22)>0,SUMIF($F$13:$J$13,AN$13,$F22:$J22)>0,ASISTENCIA!#REF!<>\"X\",ASISTENCIA!#REF!<>\"L\",ASISTENCIA!#REF!<>\"J\",ASISTENCIA!#REF!<>\"V\",ASISTENCIA!#REF!<>\"F\",ASISTENCIA!#REF!<>\"\"),SUMIF($F$13:$J$13,AN$13,$F22:$J22),\"\")","v":{"$error":"#REF!"}},{"$f":"IF(AND(LEN($D22)>0,SUMIF($F$13:$J$13,AO$13,$F22:$J22)>0,ASISTENCIA!#REF!<>\"X\",ASISTENCIA!#REF!<>\"L\",ASISTENCIA!#REF!<>\"J\",ASISTENCIA!#REF!<>\"V\",ASISTENCIA!#REF!<>\"F\",ASISTENCIA!#REF!<>\"\"),SUMIF($F$13:$J$13,AO$13,$F22:$J22),\"\")","v":{"$error":"#REF!"}},{"$f":"IF(AND(LEN($D22)>0,SUMIF($F$13:$J$13,AP$13,$F22:$J22)>0,ASISTENCIA!#REF!<>\"X\",ASISTENCIA!#REF!<>\"L\",ASISTENCIA!#REF!<>\"J\",ASISTENCIA!#REF!<>\"V\",ASISTENCIA!#REF!<>\"F\",ASISTENCIA!#REF!<>\"\"),SUMIF($F$13:$J$13,AP$13,$F22:$J22),\"\")","v":{"$error":"#REF!"}},{"$f":"IF(AND(LEN($D22)>0,SUMIF($F$13:$J$13,AQ$13,$F22:$J22)>0,ASISTENCIA!#REF!<>\"X\",ASISTENCIA!#REF!<>\"L\",ASISTENCIA!#REF!<>\"J\",ASISTENCIA!#REF!<>\"V\",ASISTENCIA!#REF!<>\"F\",ASISTENCIA!#REF!<>\"\"),SUMIF($F$13:$J$13,AQ$13,$F22:$J22),\"\")","v":{"$error":"#REF!"}},{"$f":"IF(AND(LEN($D22)>0,SUMIF($F$13:$J$13,AR$13,$F22:$J22)>0,ASISTENCIA!#REF!<>\"X\",ASISTENCIA!#REF!<>\"L\",ASISTENCIA!#REF!<>\"J\",ASISTENCIA!#REF!<>\"V\",ASISTENCIA!#REF!<>\"F\",ASISTENCIA!#REF!<>\"\"),SUMIF($F$13:$J$13,AR$13,$F22:$J22),\"\")","v":{"$error":"#REF!"}},{"$f":"IF(AND(LEN($D22)>0,SUMIF($F$13:$J$13,AS$13,$F22:$J22)>0,ASISTENCIA!#REF!<>\"X\",ASISTENCIA!#REF!<>\"L\",ASISTENCIA!#REF!<>\"J\",ASISTENCIA!#REF!<>\"V\",ASISTENCIA!#REF!<>\"F\",ASISTENCIA!#REF!<>\"\"),SUMIF($F$13:$J$13,AS$13,$F22:$J22),\"\")","v":{"$error":"#REF!"}},{"$error":"#REF!"},null,null,null,{"$f":"IF(AND(LEN($D22)>0,SUMIF($F$13:$J$13,AX$13,$F22:$J22)>0,ASISTENCIA!#REF!<>\"X\",ASISTENCIA!#REF!<>\"L\",ASISTENCIA!#REF!<>\"J\",ASISTENCIA!#REF!<>\"F\"),SUMIF($F$13:$J$13,AX$13,$F22:$J22),\"\")","v":{"$error":"#REF!"}},{"$f":"IF(AND(LEN($D22)>0,SUMIF($F$13:$J$13,AY$13,$F22:$J22)>0,ASISTENCIA!#REF!<>\"X\",ASISTENCIA!#REF!<>\"L\",ASISTENCIA!#REF!<>\"J\",ASISTENCIA!#REF!<>\"F\"),SUMIF($F$13:$J$13,AY$13,$F22:$J22),\"\")","v":{"$error":"#REF!"}},{"$f":"IF(AND(LEN($D22)>0,SUMIF($F$13:$J$13,AZ$13,$F22:$J22)>0,ASISTENCIA!#REF!<>\"X\",ASISTENCIA!#REF!<>\"L\",ASISTENCIA!#REF!<>\"J\",ASISTENCIA!#REF!<>\"F\"),SUMIF($F$13:$J$13,AZ$13,$F22:$J22),\"\")","v":{"$error":"#REF!"}},{"$f":"IF(AND(LEN($D22)>0,SUMIF($F$13:$J$13,BA$13,$F22:$J22)>0,ASISTENCIA!#REF!<>\"X\",ASISTENCIA!#REF!<>\"L\",ASISTENCIA!#REF!<>\"J\",ASISTENCIA!#REF!<>\"F\"),SUMIF($F$13:$J$13,BA$13,$F22:$J22),\"\")","v":{"$error":"#REF!"}},{"$f":"IF(AND(LEN($D22)>0,SUMIF($F$13:$J$13,BB$13,$F22:$J22)>0,ASISTENCIA!#REF!<>\"X\",ASISTENCIA!#REF!<>\"L\",ASISTENCIA!#REF!<>\"J\",ASISTENCIA!#REF!<>\"F\"),SUMIF($F$13:$J$13,BB$13,$F22:$J22),\"\")","v":{"$error":"#REF!"}},{"$f":"IF(AND(LEN($D22)>0,SUMIF($F$13:$J$13,BC$13,$F22:$J22)>0,ASISTENCIA!#REF!<>\"X\",ASISTENCIA!#REF!<>\"L\",ASISTENCIA!#REF!<>\"J\",ASISTENCIA!#REF!<>\"F\"),SUMIF($F$13:$J$13,BC$13,$F22:$J22),\"\")","v":{"$error":"#REF!"}},{"$f":"IF(AND(LEN($D22)>0,SUMIF($F$13:$J$13,BD$13,$F22:$J22)>0,ASISTENCIA!#REF!<>\"X\",ASISTENCIA!#REF!<>\"L\",ASISTENCIA!#REF!<>\"J\",ASISTENCIA!#REF!<>\"F\"),SUMIF($F$13:$J$13,BD$13,$F22:$J22),\"\")","v":{"$error":"#REF!"}},{"$f":"IF(AND(LEN($D22)>0,SUMIF($F$13:$J$13,BE$13,$F22:$J22)>0,ASISTENCIA!#REF!<>\"X\",ASISTENCIA!#REF!<>\"L\",ASISTENCIA!#REF!<>\"J\",ASISTENCIA!#REF!<>\"F\"),SUMIF($F$13:$J$13,BE$13,$F22:$J22),\"\")","v":{"$error":"#REF!"}},{"$f":"IF(AND(LEN($D22)>0,SUMIF($F$13:$J$13,BF$13,$F22:$J22)>0,ASISTENCIA!#REF!<>\"X\",ASISTENCIA!#REF!<>\"L\",ASISTENCIA!#REF!<>\"J\",ASISTENCIA!#REF!<>\"F\"),SUMIF($F$13:$J$13,BF$13,$F22:$J22),\"\")","v":{"$error":"#REF!"}},{"$f":"IF(AND(LEN($D22)>0,SUMIF($F$13:$J$13,BG$13,$F22:$J22)>0,ASISTENCIA!#REF!<>\"X\",ASISTENCIA!#REF!<>\"L\",ASISTENCIA!#REF!<>\"J\",ASISTENCIA!#REF!<>\"F\"),SUMIF($F$13:$J$13,BG$13,$F22:$J22),\"\")","v":{"$error":"#REF!"}},{"$f":"IF(AND(LEN($D22)>0,SUMIF($F$13:$J$13,BH$13,$F22:$J22)>0,ASISTENCIA!#REF!<>\"X\",ASISTENCIA!#REF!<>\"L\",ASISTENCIA!#REF!<>\"J\",ASISTENCIA!#REF!<>\"F\"),SUMIF($F$13:$J$13,BH$13,$F22:$J22),\"\")","v":{"$error":"#REF!"}},{"$f":"IF(AND(LEN($D22)>0,SUMIF($F$13:$J$13,BI$13,$F22:$J22)>0,ASISTENCIA!#REF!<>\"X\",ASISTENCIA!#REF!<>\"L\",ASISTENCIA!#REF!<>\"J\",ASISTENCIA!#REF!<>\"F\"),SUMIF($F$13:$J$13,BI$13,$F22:$J22),\"\")","v":{"$error":"#REF!"}},{"$f":"IF(AND(LEN($D22)>0,SUMIF($F$13:$J$13,BJ$13,$F22:$J22)>0,ASISTENCIA!#REF!<>\"X\",ASISTENCIA!#REF!<>\"L\",ASISTENCIA!#REF!<>\"J\",ASISTENCIA!#REF!<>\"F\"),SUMIF($F$13:$J$13,BJ$13,$F22:$J22),\"\")","v":{"$error":"#REF!"}},{"$f":"IF(AND(LEN($D22)>0,SUMIF($F$13:$J$13,BK$13,$F22:$J22)>0,ASISTENCIA!#REF!<>\"X\",ASISTENCIA!#REF!<>\"L\",ASISTENCIA!#REF!<>\"J\",ASISTENCIA!#REF!<>\"F\"),SUMIF($F$13:$J$13,BK$13,$F22:$J22),\"\")","v":{"$error":"#REF!"}},{"$f":"IF(AND(LEN($D22)>0,SUMIF($F$13:$J$13,BL$13,$F22:$J22)>0,ASISTENCIA!#REF!<>\"X\",ASISTENCIA!#REF!<>\"L\",ASISTENCIA!#REF!<>\"J\",ASISTENCIA!#REF!<>\"F\"),SUMIF($F$13:$J$13,BL$13,$F22:$J22),\"\")","v":{"$error":"#REF!"}},{"$f":"IF(AND(LEN($D22)>0,SUMIF($F$13:$J$13,BM$13,$F22:$J22)>0,ASISTENCIA!#REF!<>\"X\",ASISTENCIA!#REF!<>\"L\",ASISTENCIA!#REF!<>\"J\",ASISTENCIA!#REF!<>\"F\"),SUMIF($F$13:$J$13,BM$13,$F22:$J22),\"\")","v":{"$error":"#REF!"}},{"$f":"IF(AND(LEN($D22)>0,SUMIF($F$13:$J$13,BN$13,$F22:$J22)>0,ASISTENCIA!#REF!<>\"X\",ASISTENCIA!#REF!<>\"L\",ASISTENCIA!#REF!<>\"J\",ASISTENCIA!#REF!<>\"F\"),SUMIF($F$13:$J$13,BN$13,$F22:$J22),\"\")","v":{"$error":"#REF!"}},{"$f":"IF(AND(LEN($D22)>0,SUMIF($F$13:$J$13,BO$13,$F22:$J22)>0,ASISTENCIA!#REF!<>\"X\",ASISTENCIA!#REF!<>\"L\",ASISTENCIA!#REF!<>\"J\",ASISTENCIA!#REF!<>\"F\"),SUMIF($F$13:$J$13,BO$13,$F22:$J22),\"\")","v":{"$error":"#REF!"}},{"$f":"IF(AND(LEN($D22)>0,SUMIF($F$13:$J$13,BP$13,$F22:$J22)>0,ASISTENCIA!#REF!<>\"X\",ASISTENCIA!#REF!<>\"L\",ASISTENCIA!#REF!<>\"J\",ASISTENCIA!#REF!<>\"F\"),SUMIF($F$13:$J$13,BP$13,$F22:$J22),\"\")","v":{"$error":"#REF!"}},{"$f":"IF(AND(LEN($D22)>0,SUMIF($F$13:$J$13,BQ$13,$F22:$J22)>0,ASISTENCIA!#REF!<>\"X\",ASISTENCIA!#REF!<>\"L\",ASISTENCIA!#REF!<>\"J\",ASISTENCIA!#REF!<>\"F\"),SUMIF($F$13:$J$13,BQ$13,$F22:$J22),\"\")","v":{"$error":"#REF!"}},{"$f":"IF(AND(LEN($D22)>0,SUMIF($F$13:$J$13,BR$13,$F22:$J22)>0,ASISTENCIA!#REF!<>\"X\",ASISTENCIA!#REF!<>\"L\",ASISTENCIA!#REF!<>\"J\",ASISTENCIA!#REF!<>\"F\"),SUMIF($F$13:$J$13,BR$13,$F22:$J22),\"\")","v":{"$error":"#REF!"}},{"$f":"IF(AND(LEN($D22)>0,SUMIF($F$13:$J$13,BS$13,$F22:$J22)>0,ASISTENCIA!#REF!<>\"X\",ASISTENCIA!#REF!<>\"L\",ASISTENCIA!#REF!<>\"J\",ASISTENCIA!#REF!<>\"F\"),SUMIF($F$13:$J$13,BS$13,$F22:$J22),\"\")","v":{"$error":"#REF!"}},{"$f":"IF(AND(LEN($D22)>0,SUMIF($F$13:$J$13,BT$13,$F22:$J22)>0,ASISTENCIA!#REF!<>\"X\",ASISTENCIA!#REF!<>\"L\",ASISTENCIA!#REF!<>\"J\",ASISTENCIA!#REF!<>\"F\"),SUMIF($F$13:$J$13,BT$13,$F22:$J22),\"\")","v":{"$error":"#REF!"}},{"$f":"IF(AND(LEN($D22)>0,SUMIF($F$13:$J$13,BU$13,$F22:$J22)>0,ASISTENCIA!#REF!<>\"X\",ASISTENCIA!#REF!<>\"L\",ASISTENCIA!#REF!<>\"J\",ASISTENCIA!#REF!<>\"F\"),SUMIF($F$13:$J$13,BU$13,$F22:$J22),\"\")","v":{"$error":"#REF!"}},{"$f":"IF(AND(LEN($D22)>0,SUMIF($F$13:$J$13,BV$13,$F22:$J22)>0,ASISTENCIA!#REF!<>\"X\",ASISTENCIA!#REF!<>\"L\",ASISTENCIA!#REF!<>\"J\",ASISTENCIA!#REF!<>\"F\"),SUMIF($F$13:$J$13,BV$13,$F22:$J22),\"\")","v":{"$error":"#REF!"}},{"$f":"IF(AND(LEN($D22)>0,SUMIF($F$13:$J$13,BW$13,$F22:$J22)>0,ASISTENCIA!#REF!<>\"X\",ASISTENCIA!#REF!<>\"L\",ASISTENCIA!#REF!<>\"J\",ASISTENCIA!#REF!<>\"F\"),SUMIF($F$13:$J$13,BW$13,$F22:$J22),\"\")","v":{"$error":"#REF!"}},{"$f":"IF(AND(LEN($D22)>0,SUMIF($F$13:$J$13,BX$13,$F22:$J22)>0,ASISTENCIA!#REF!<>\"X\",ASISTENCIA!#REF!<>\"L\",ASISTENCIA!#REF!<>\"J\",ASISTENCIA!#REF!<>\"F\"),SUMIF($F$13:$J$13,BX$13,$F22:$J22),\"\")","v":{"$error":"#REF!"}},{"$f":"IF(AND(LEN($D22)>0,SUMIF($F$13:$J$13,BY$13,$F22:$J22)>0,ASISTENCIA!#REF!<>\"X\",ASISTENCIA!#REF!<>\"L\",ASISTENCIA!#REF!<>\"J\",ASISTENCIA!#REF!<>\"F\"),SUMIF($F$13:$J$13,BY$13,$F22:$J22),\"\")","v":{"$error":"#REF!"}},{"$f":"IF(AND(LEN($D22)>0,SUMIF($F$13:$J$13,BZ$13,$F22:$J22)>0,ASISTENCIA!#REF!<>\"X\",ASISTENCIA!#REF!<>\"L\",ASISTENCIA!#REF!<>\"J\",ASISTENCIA!#REF!<>\"F\"),SUMIF($F$13:$J$13,BZ$13,$F22:$J22),\"\")","v":{"$error":"#REF!"}},{"$f":"IF(AND(LEN($D22)>0,SUMIF($F$13:$J$13,CA$13,$F22:$J22)>0,ASISTENCIA!#REF!<>\"X\",ASISTENCIA!#REF!<>\"L\",ASISTENCIA!#REF!<>\"J\",ASISTENCIA!#REF!<>\"F\"),SUMIF($F$13:$J$13,CA$13,$F22:$J22),\"\")","v":{"$error":"#REF!"}},{"$f":"IF(AND(LEN($D22)>0,SUMIF($F$13:$J$13,CB$13,$F22:$J22)>0,ASISTENCIA!#REF!<>\"X\",ASISTENCIA!#REF!<>\"L\",ASISTENCIA!#REF!<>\"J\",ASISTENCIA!#REF!<>\"F\"),SUMIF($F$13:$J$13,CB$13,$F22:$J22),\"\")","v":{"$error":"#REF!"}},{"$error":"#REF!"}]
[{"$error":"#REF!"},{"$f":"IF(LEN(C23)>0,VLOOKUP($O$4,DATA!$A$1:$S$1,2,FALSE),\"\")","v":{"$error":"#REF!"}},{"$error":"#REF!"},{"$f":"IF(LEN(ASISTENCIA!#REF!)>0,ASISTENCIA!#REF!,\"\")","v":{"$error":"#REF!"}},{"$f":"IF(LEN(D23)>0,ASISTENCIA!#REF!,\"\")","v":{"$error":"#REF!"}},null,null,null,null,null,"",null,null,{"$error":"#REF!"},{"$f":"IF(AND(LEN($D23)>0,SUMIF($F$13:$J$13,O$13,$F23:$J23)>0,ASISTENCIA!#REF!<>\"X\",ASISTENCIA!#REF!<>\"L\",ASISTENCIA!#REF!<>\"J\",ASISTENCIA!#REF!<>\"V\",ASISTENCIA!#REF!<>\"F\",ASISTENCIA!#REF!<>\"\"),SUMIF($F$13:$J$13,O$13,$F23:$J23),\"\")","v":{"$error":"#REF!"}},{"$f":"IF(AND(LEN($D23)>0,SUMIF($F$13:$J$13,P$13,$F23:$J23)>0,ASISTENCIA!#REF!<>\"X\",ASISTENCIA!#REF!<>\"L\",ASISTENCIA!#REF!<>\"J\",ASISTENCIA!#REF!<>\"V\",ASISTENCIA!#REF!<>\"F\",ASISTENCIA!#REF!<>\"\"),SUMIF($F$13:$J$13,P$13,$F23:$J23),\"\")","v":{"$error":"#REF!"}},{"$f":"IF(AND(LEN($D23)>0,SUMIF($F$13:$J$13,Q$13,$F23:$J23)>0,ASISTENCIA!#REF!<>\"X\",ASISTENCIA!#REF!<>\"L\",ASISTENCIA!#REF!<>\"J\",ASISTENCIA!#REF!<>\"V\",ASISTENCIA!#REF!<>\"F\",ASISTENCIA!#REF!<>\"\"),SUMIF($F$13:$J$13,Q$13,$F23:$J23),\"\")","v":{"$error":"#REF!"}},{"$f":"IF(AND(LEN($D23)>0,SUMIF($F$13:$J$13,R$13,$F23:$J23)>0,ASISTENCIA!#REF!<>\"X\",ASISTENCIA!#REF!<>\"L\",ASISTENCIA!#REF!<>\"J\",ASISTENCIA!#REF!<>\"V\",ASISTENCIA!#REF!<>\"F\",ASISTENCIA!#REF!<>\"\"),SUMIF($F$13:$J$13,R$13,$F23:$J23),\"\")","v":{"$error":"#REF!"}},{"$f":"IF(AND(LEN($D23)>0,SUMIF($F$13:$J$13,S$13,$F23:$J23)>0,ASISTENCIA!#REF!<>\"X\",ASISTENCIA!#REF!<>\"L\",ASISTENCIA!#REF!<>\"J\",ASISTENCIA!#REF!<>\"V\",ASISTENCIA!#REF!<>\"F\",ASISTENCIA!#REF!<>\"\"),SUMIF($F$13:$J$13,S$13,$F23:$J23),\"\")","v":{"$error":"#REF!"}},{"$f":"IF(AND(LEN($D23)>0,SUMIF($F$13:$J$13,T$13,$F23:$J23)>0,ASISTENCIA!#REF!<>\"X\",ASISTENCIA!#REF!<>\"L\",ASISTENCIA!#REF!<>\"J\",ASISTENCIA!#REF!<>\"V\",ASISTENCIA!#REF!<>\"F\",ASISTENCIA!#REF!<>\"\"),SUMIF($F$13:$J$13,T$13,$F23:$J23),\"\")","v":{"$error":"#REF!"}},{"$f":"IF(AND(LEN($D23)>0,SUMIF($F$13:$J$13,U$13,$F23:$J23)>0,ASISTENCIA!#REF!<>\"X\",ASISTENCIA!#REF!<>\"L\",ASISTENCIA!#REF!<>\"J\",ASISTENCIA!#REF!<>\"V\",ASISTENCIA!#REF!<>\"F\",ASISTENCIA!#REF!<>\"\"),SUMIF($F$13:$J$13,U$13,$F23:$J23),\"\")","v":{"$error":"#REF!"}},{"$f":"IF(AND(LEN($D23)>0,SUMIF($F$13:$J$13,V$13,$F23:$J23)>0,ASISTENCIA!#REF!<>\"X\",ASISTENCIA!#REF!<>\"L\",ASISTENCIA!#REF!<>\"J\",ASISTENCIA!#REF!<>\"V\",ASISTENCIA!#REF!<>\"F\",ASISTENCIA!#REF!<>\"\"),SUMIF($F$13:$J$13,V$13,$F23:$J23),\"\")","v":{"$error":"#REF!"}},{"$f":"IF(AND(LEN($D23)>0,SUMIF($F$13:$J$13,W$13,$F23:$J23)>0,ASISTENCIA!#REF!<>\"X\",ASISTENCIA!#REF!<>\"L\",ASISTENCIA!#REF!<>\"J\",ASISTENCIA!#REF!<>\"V\",ASISTENCIA!#REF!<>\"F\",ASISTENCIA!#REF!<>\"\"),SUMIF($F$13:$J$13,W$13,$F23:$J23),\"\")","v":{"$error":"#REF!"}},{"$f":"IF(AND(LEN($D23)>0,SUMIF($F$13:$J$13,X$13,$F23:$J23)>0,ASISTENCIA!#REF!<>\"X\",ASISTENCIA!#REF!<>\"L\",ASISTENCIA!#REF!<>\"J\",ASISTENCIA!#REF!<>\"V\",ASISTENCIA!#REF!<>\"F\",ASISTENCIA!#REF!<>\"\"),SUMIF($F$13:$J$13,X$13,$F23:$J23),\"\")","v":{"$error":"#REF!"}},{"$f":"IF(AND(LEN($D23)>0,SUMIF($F$13:$J$13,Y$13,$F23:$J23)>0,ASISTENCIA!#REF!<>\"X\",ASISTENCIA!#REF!<>\"L\",ASISTENCIA!#REF!<>\"J\",ASISTENCIA!#REF!<>\"V\",ASISTENCIA!#REF!<>\"F\",ASISTENCIA!#REF!<>\"\"),SUMIF($F$13:$J$13,Y$13,$F23:$J23),\"\")","v":{"$error":"#REF!"}},{"$f":"IF(AND(LEN($D23)>0,SUMIF($F$13:$J$13,Z$13,$F23:$J23)>0,ASISTENCIA!#REF!<>\"X\",ASISTENCIA!#REF!<>\"L\",ASISTENCIA!#REF!<>\"J\",ASISTENCIA!#REF!<>\"V\",ASISTENCIA!#REF!<>\"F\",ASISTENCIA!#REF!<>\"\"),SUMIF($F$13:$J$13,Z$13,$F23:$J23),\"\")","v":{"$error":"#REF!"}},{"$f":"IF(AND(LEN($D23)>0,SUMIF($F$13:$J$13,AA$13,$F23:$J23)>0,ASISTENCIA!#REF!<>\"X\",ASISTENCIA!#REF!<>\"L\",ASISTENCIA!#REF!<>\"J\",ASISTENCIA!#REF!<>\"V\",ASISTENCIA!#REF!<>\"F\",ASISTENCIA!#REF!<>\"\"),SUMIF($F$13:$J$13,AA$13,$F23:$J23),\"\")","v":{"$error":"#REF!"}},{"$f":"IF(AND(LEN($D23)>0,SUMIF($F$13:$J$13,AB$13,$F23:$J23)>0,ASISTENCIA!#REF!<>\"X\",ASISTENCIA!#REF!<>\"L\",ASISTENCIA!#REF!<>\"J\",ASISTENCIA!#REF!<>\"V\",ASISTENCIA!#REF!<>\"F\",ASISTENCIA!#REF!<>\"\"),SUMIF($F$13:$J$13,AB$13,$F23:$J23),\"\")","v":{"$error":"#REF!"}},{"$f":"IF(AND(LEN($D23)>0,SUMIF($F$13:$J$13,AC$13,$F23:$J23)>0,ASISTENCIA!#REF!<>\"X\",ASISTENCIA!#REF!<>\"L\",ASISTENCIA!#REF!<>\"J\",ASISTENCIA!#REF!<>\"V\",ASISTENCIA!#REF!<>\"F\",ASISTENCIA!#REF!<>\"\"),SUMIF($F$13:$J$13,AC$13,$F23:$J23),\"\")","v":{"$error":"#REF!"}},{"$f":"IF(AND(LEN($D23)>0,SUMIF($F$13:$J$13,AD$13,$F23:$J23)>0,ASISTENCIA!#REF!<>\"X\",ASISTENCIA!#REF!<>\"L\",ASISTENCIA!#REF!<>\"J\",ASISTENCIA!#REF!<>\"V\",ASISTENCIA!#REF!<>\"F\",ASISTENCIA!#REF!<>\"\"),SUMIF($F$13:$J$13,AD$13,$F23:$J23),\"\")","v":{"$error":"#REF!"}},{"$f":"IF(AND(LEN($D23)>0,SUMIF($F$13:$J$13,AE$13,$F23:$J23)>0,ASISTENCIA!#REF!<>\"X\",ASISTENCIA!#REF!<>\"L\",ASISTENCIA!#REF!<>\"J\",ASISTENCIA!#REF!<>\"V\",ASISTENCIA!#REF!<>\"F\",ASISTENCIA!#REF!<>\"\"),SUMIF($F$13:$J$13,AE$13,$F23:$J23),\"\")","v":{"$error":"#REF!"}},{"$f":"IF(AND(LEN($D23)>0,SUMIF($F$13:$J$13,AF$13,$F23:$J23)>0,ASISTENCIA!#REF!<>\"X\",ASISTENCIA!#REF!<>\"L\",ASISTENCIA!#REF!<>\"J\",ASISTENCIA!#REF!<>\"V\",ASISTENCIA!#REF!<>\"F\",ASISTENCIA!#REF!<>\"\"),SUMIF($F$13:$J$13,AF$13,$F23:$J23),\"\")","v":{"$error":"#REF!"}},{"$f":"IF(AND(LEN($D23)>0,SUMIF($F$13:$J$13,AG$13,$F23:$J23)>0,ASISTENCIA!#REF!<>\"X\",ASISTENCIA!#REF!<>\"L\",ASISTENCIA!#REF!<>\"J\",ASISTENCIA!#REF!<>\"V\",ASISTENCIA!#REF!<>\"F\",ASISTENCIA!#REF!<>\"\"),SUMIF($F$13:$J$13,AG$13,$F23:$J23),\"\")","v":{"$error":"#REF!"}},{"$f":"IF(AND(LEN($D23)>0,SUMIF($F$13:$J$13,AH$13,$F23:$J23)>0,ASISTENCIA!#REF!<>\"X\",ASISTENCIA!#REF!<>\"L\",ASISTENCIA!#REF!<>\"J\",ASISTENCIA!#REF!<>\"V\",ASISTENCIA!#REF!<>\"F\",ASISTENCIA!#REF!<>\"\"),SUMIF($F$13:$J$13,AH$13,$F23:$J23),\"\")","v":{"$error":"#REF!"}},{"$f":"IF(AND(LEN($D23)>0,SUMIF($F$13:$J$13,AI$13,$F23:$J23)>0,ASISTENCIA!#REF!<>\"X\",ASISTENCIA!#REF!<>\"L\",ASISTENCIA!#REF!<>\"J\",ASISTENCIA!#REF!<>\"V\",ASISTENCIA!#REF!<>\"F\",ASISTENCIA!#REF!<>\"\"),SUMIF($F$13:$J$13,AI$13,$F23:$J23),\"\")","v":{"$error":"#REF!"}},{"$f":"IF(AND(LEN($D23)>0,SUMIF($F$13:$J$13,AJ$13,$F23:$J23)>0,ASISTENCIA!#REF!<>\"X\",ASISTENCIA!#REF!<>\"L\",ASISTENCIA!#REF!<>\"J\",ASISTENCIA!#REF!<>\"V\",ASISTENCIA!#REF!<>\"F\",ASISTENCIA!#REF!<>\"\"),SUMIF($F$13:$J$13,AJ$13,$F23:$J23),\"\")","v":{"$error":"#REF!"}},{"$f":"IF(AND(LEN($D23)>0,SUMIF($F$13:$J$13,AK$13,$F23:$J23)>0,ASISTENCIA!#REF!<>\"X\",ASISTENCIA!#REF!<>\"L\",ASISTENCIA!#REF!<>\"J\",ASISTENCIA!#REF!<>\"V\",ASISTENCIA!#REF!<>\"F\",ASISTENCIA!#REF!<>\"\"),SUMIF($F$13:$J$13,AK$13,$F23:$J23),\"\")","v":{"$error":"#REF!"}},{"$f":"IF(AND(LEN($D23)>0,SUMIF($F$13:$J$13,AL$13,$F23:$J23)>0,ASISTENCIA!#REF!<>\"X\",ASISTENCIA!#REF!<>\"L\",ASISTENCIA!#REF!<>\"J\",ASISTENCIA!#REF!<>\"V\",ASISTENCIA!#REF!<>\"F\",ASISTENCIA!#REF!<>\"\"),SUMIF($F$13:$J$13,AL$13,$F23:$J23),\"\")","v":{"$error":"#REF!"}},{"$f":"IF(AND(LEN($D23)>0,SUMIF($F$13:$J$13,AM$13,$F23:$J23)>0,ASISTENCIA!#REF!<>\"X\",ASISTENCIA!#REF!<>\"L\",ASISTENCIA!#REF!<>\"J\",ASISTENCIA!#REF!<>\"V\",ASISTENCIA!#REF!<>\"F\",ASISTENCIA!#REF!<>\"\"),SUMIF($F$13:$J$13,AM$13,$F23:$J23),\"\")","v":{"$error":"#REF!"}},{"$f":"IF(AND(LEN($D23)>0,SUMIF($F$13:$J$13,AN$13,$F23:$J23)>0,ASISTENCIA!#REF!<>\"X\",ASISTENCIA!#REF!<>\"L\",ASISTENCIA!#REF!<>\"J\",ASISTENCIA!#REF!<>\"V\",ASISTENCIA!#REF!<>\"F\",ASISTENCIA!#REF!<>\"\"),SUMIF($F$13:$J$13,AN$13,$F23:$J23),\"\")","v":{"$error":"#REF!"}},{"$f":"IF(AND(LEN($D23)>0,SUMIF($F$13:$J$13,AO$13,$F23:$J23)>0,ASISTENCIA!#REF!<>\"X\",ASISTENCIA!#REF!<>\"L\",ASISTENCIA!#REF!<>\"J\",ASISTENCIA!#REF!<>\"V\",ASISTENCIA!#REF!<>\"F\",ASISTENCIA!#REF!<>\"\"),SUMIF($F$13:$J$13,AO$13,$F23:$J23),\"\")","v":{"$error":"#REF!"}},{"$f":"IF(AND(LEN($D23)>0,SUMIF($F$13:$J$13,AP$13,$F23:$J23)>0,ASISTENCIA!#REF!<>\"X\",ASISTENCIA!#REF!<>\"L\",ASISTENCIA!#REF!<>\"J\",ASISTENCIA!#REF!<>\"V\",ASISTENCIA!#REF!<>\"F\",ASISTENCIA!#REF!<>\"\"),SUMIF($F$13:$J$13,AP$13,$F23:$J23),\"\")","v":{"$error":"#REF!"}},{"$f":"IF(AND(LEN($D23)>0,SUMIF($F$13:$J$13,AQ$13,$F23:$J23)>0,ASISTENCIA!#REF!<>\"X\",ASISTENCIA!#REF!<>\"L\",ASISTENCIA!#REF!<>\"J\",ASISTENCIA!#REF!<>\"V\",ASISTENCIA!#REF!<>\"F\",ASISTENCIA!#REF!<>\"\"),SUMIF($F$13:$J$13,AQ$13,$F23:$J23),\"\")","v":{"$error":"#REF!"}},{"$f":"IF(AND(LEN($D23)>0,SUMIF($F$13:$J$13,AR$13,$F23:$J23)>0,ASISTENCIA!#REF!<>\"X\",ASISTENCIA!#REF!<>\"L\",ASISTENCIA!#REF!<>\"J\",ASISTENCIA!#REF!<>\"V\",ASISTENCIA!#REF!<>\"F\",ASISTENCIA!#REF!<>\"\"),SUMIF($F$13:$J$13,AR$13,$F23:$J23),\"\")","v":{"$error":"#REF!"}},{"$f":"IF(AND(LEN($D23)>0,SUMIF($F$13:$J$13,AS$13,$F23:$J23)>0,ASISTENCIA!#REF!<>\"X\",ASISTENCIA!#REF!<>\"L\",ASISTENCIA!#REF!<>\"J\",ASISTENCIA!#REF!<>\"V\",ASISTENCIA!#REF!<>\"F\",ASISTENCIA!#REF!<>\"\"),SUMIF($F$13:$J$13,AS$13,$F23:$J23),\"\")","v":{"$error":"#REF!"}},{"$error":"#REF!"},null,null,null,{"$f":"IF(AND(LEN($D23)>0,SUMIF($F$13:$J$13,AX$13,$F23:$J23)>0,ASISTENCIA!#REF!<>\"X\",ASISTENCIA!#REF!<>\"L\",ASISTENCIA!#REF!<>\"J\",ASISTENCIA!#REF!<>\"F\"),SUMIF($F$13:$J$13,AX$13,$F23:$J23),\"\")","v":{"$error":"#REF!"}},{"$f":"IF(AND(LEN($D23)>0,SUMIF($F$13:$J$13,AY$13,$F23:$J23)>0,ASISTENCIA!#REF!<>\"X\",ASISTENCIA!#REF!<>\"L\",ASISTENCIA!#REF!<>\"J\",ASISTENCIA!#REF!<>\"F\"),SUMIF($F$13:$J$13,AY$13,$F23:$J23),\"\")","v":{"$error":"#REF!"}},{"$f":"IF(AND(LEN($D23)>0,SUMIF($F$13:$J$13,AZ$13,$F23:$J23)>0,ASISTENCIA!#REF!<>\"X\",ASISTENCIA!#REF!<>\"L\",ASISTENCIA!#REF!<>\"J\",ASISTENCIA!#REF!<>\"F\"),SUMIF($F$13:$J$13,AZ$13,$F23:$J23),\"\")","v":{"$error":"#REF!"}},{"$f":"IF(AND(LEN($D23)>0,SUMIF($F$13:$J$13,BA$13,$F23:$J23)>0,ASISTENCIA!#REF!<>\"X\",ASISTENCIA!#REF!<>\"L\",ASISTENCIA!#REF!<>\"J\",ASISTENCIA!#REF!<>\"F\"),SUMIF($F$13:$J$13,BA$13,$F23:$J23),\"\")","v":{"$error":"#REF!"}},{"$f":"IF(AND(LEN($D23)>0,SUMIF($F$13:$J$13,BB$13,$F23:$J23)>0,ASISTENCIA!#REF!<>\"X\",ASISTENCIA!#REF!<>\"L\",ASISTENCIA!#REF!<>\"J\",ASISTENCIA!#REF!<>\"F\"),SUMIF($F$13:$J$13,BB$13,$F23:$J23),\"\")","v":{"$error":"#REF!"}},{"$f":"IF(AND(LEN($D23)>0,SUMIF($F$13:$J$13,BC$13,$F23:$J23)>0,ASISTENCIA!#REF!<>\"X\",ASISTENCIA!#REF!<>\"L\",ASISTENCIA!#REF!<>\"J\",ASISTENCIA!#REF!<>\"F\"),SUMIF($F$13:$J$13,BC$13,$F23:$J23),\"\")","v":{"$error":"#REF!"}},{"$f":"IF(AND(LEN($D23)>0,SUMIF($F$13:$J$13,BD$13,$F23:$J23)>0,ASISTENCIA!#REF!<>\"X\",ASISTENCIA!#REF!<>\"L\",ASISTENCIA!#REF!<>\"J\",ASISTENCIA!#REF!<>\"F\"),SUMIF($F$13:$J$13,BD$13,$F23:$J23),\"\")","v":{"$error":"#REF!"}},{"$f":"IF(AND(LEN($D23)>0,SUMIF($F$13:$J$13,BE$13,$F23:$J23)>0,ASISTENCIA!#REF!<>\"X\",ASISTENCIA!#REF!<>\"L\",ASISTENCIA!#REF!<>\"J\",ASISTENCIA!#REF!<>\"F\"),SUMIF($F$13:$J$13,BE$13,$F23:$J23),\"\")","v":{"$error":"#REF!"}},{"$f":"IF(AND(LEN($D23)>0,SUMIF($F$13:$J$13,BF$13,$F23:$J23)>0,ASISTENCIA!#REF!<>\"X\",ASISTENCIA!#REF!<>\"L\",ASISTENCIA!#REF!<>\"J\",ASISTENCIA!#REF!<>\"F\"),SUMIF($F$13:$J$13,BF$13,$F23:$J23),\"\")","v":{"$error":"#REF!"}},{"$f":"IF(AND(LEN($D23)>0,SUMIF($F$13:$J$13,BG$13,$F23:$J23)>0,ASISTENCIA!#REF!<>\"X\",ASISTENCIA!#REF!<>\"L\",ASISTENCIA!#REF!<>\"J\",ASISTENCIA!#REF!<>\"F\"),SUMIF($F$13:$J$13,BG$13,$F23:$J23),\"\")","v":{"$error":"#REF!"}},{"$f":"IF(AND(LEN($D23)>0,SUMIF($F$13:$J$13,BH$13,$F23:$J23)>0,ASISTENCIA!#REF!<>\"X\",ASISTENCIA!#REF!<>\"L\",ASISTENCIA!#REF!<>\"J\",ASISTENCIA!#REF!<>\"F\"),SUMIF($F$13:$J$13,BH$13,$F23:$J23),\"\")","v":{"$error":"#REF!"}},{"$f":"IF(AND(LEN($D23)>0,SUMIF($F$13:$J$13,BI$13,$F23:$J23)>0,ASISTENCIA!#REF!<>\"X\",ASISTENCIA!#REF!<>\"L\",ASISTENCIA!#REF!<>\"J\",ASISTENCIA!#REF!<>\"F\"),SUMIF($F$13:$J$13,BI$13,$F23:$J23),\"\")","v":{"$error":"#REF!"}},{"$f":"IF(AND(LEN($D23)>0,SUMIF($F$13:$J$13,BJ$13,$F23:$J23)>0,ASISTENCIA!#REF!<>\"X\",ASISTENCIA!#REF!<>\"L\",ASISTENCIA!#REF!<>\"J\",ASISTENCIA!#REF!<>\"F\"),SUMIF($F$13:$J$13,BJ$13,$F23:$J23),\"\")","v":{"$error":"#REF!"}},{"$f":"IF(AND(LEN($D23)>0,SUMIF($F$13:$J$13,BK$13,$F23:$J23)>0,ASISTENCIA!#REF!<>\"X\",ASISTENCIA!#REF!<>\"L\",ASISTENCIA!#REF!<>\"J\",ASISTENCIA!#REF!<>\"F\"),SUMIF($F$13:$J$13,BK$13,$F23:$J23),\"\")","v":{"$error":"#REF!"}},{"$f":"IF(AND(LEN($D23)>0,SUMIF($F$13:$J$13,BL$13,$F23:$J23)>0,ASISTENCIA!#REF!<>\"X\",ASISTENCIA!#REF!<>\"L\",ASISTENCIA!#REF!<>\"J\",ASISTENCIA!#REF!<>\"F\"),SUMIF($F$13:$J$13,BL$13,$F23:$J23),\"\")","v":{"$error":"#REF!"}},{"$f":"IF(AND(LEN($D23)>0,SUMIF($F$13:$J$13,BM$13,$F23:$J23)>0,ASISTENCIA!#REF!<>\"X\",ASISTENCIA!#REF!<>\"L\",ASISTENCIA!#REF!<>\"J\",ASISTENCIA!#REF!<>\"F\"),SUMIF($F$13:$J$13,BM$13,$F23:$J23),\"\")","v":{"$error":"#REF!"}},{"$f":"IF(AND(LEN($D23)>0,SUMIF($F$13:$J$13,BN$13,$F23:$J23)>0,ASISTENCIA!#REF!<>\"X\",ASISTENCIA!#REF!<>\"L\",ASISTENCIA!#REF!<>\"J\",ASISTENCIA!#REF!<>\"F\"),SUMIF($F$13:$J$13,BN$13,$F23:$J23),\"\")","v":{"$error":"#REF!"}},{"$f":"IF(AND(LEN($D23)>0,SUMIF($F$13:$J$13,BO$13,$F23:$J23)>0,ASISTENCIA!#REF!<>\"X\",ASISTENCIA!#REF!<>\"L\",ASISTENCIA!#REF!<>\"J\",ASISTENCIA!#REF!<>\"F\"),SUMIF($F$13:$J$13,BO$13,$F23:$J23),\"\")","v":{"$error":"#REF!"}},{"$f":"IF(AND(LEN($D23)>0,SUMIF($F$13:$J$13,BP$13,$F23:$J23)>0,ASISTENCIA!#REF!<>\"X\",ASISTENCIA!#REF!<>\"L\",ASISTENCIA!#REF!<>\"J\",ASISTENCIA!#REF!<>\"F\"),SUMIF($F$13:$J$13,BP$13,$F23:$J23),\"\")","v":{"$error":"#REF!"}},{"$f":"IF(AND(LEN($D23)>0,SUMIF($F$13:$J$13,BQ$13,$F23:$J23)>0,ASISTENCIA!#REF!<>\"X\",ASISTENCIA!#REF!<>\"L\",ASISTENCIA!#REF!<>\"J\",ASISTENCIA!#REF!<>\"F\"),SUMIF($F$13:$J$13,BQ$13,$F23:$J23),\"\")","v":{"$error":"#REF!"}},{"$f":"IF(AND(LEN($D23)>0,SUMIF($F$13:$J$13,BR$13,$F23:$J23)>0,ASISTENCIA!#REF!<>\"X\",ASISTENCIA!#REF!<>\"L\",ASISTENCIA!#REF!<>\"J\",ASISTENCIA!#REF!<>\"F\"),SUMIF($F$13:$J$13,BR$13,$F23:$J23),\"\")","v":{"$error":"#REF!"}},{"$f":"IF(AND(LEN($D23)>0,SUMIF($F$13:$J$13,BS$13,$F23:$J23)>0,ASISTENCIA!#REF!<>\"X\",ASISTENCIA!#REF!<>\"L\",ASISTENCIA!#REF!<>\"J\",ASISTENCIA!#REF!<>\"F\"),SUMIF($F$13:$J$13,BS$13,$F23:$J23),\"\")","v":{"$error":"#REF!"}},{"$f":"IF(AND(LEN($D23)>0,SUMIF($F$13:$J$13,BT$13,$F23:$J23)>0,ASISTENCIA!#REF!<>\"X\",ASISTENCIA!#REF!<>\"L\",ASISTENCIA!#REF!<>\"J\",ASISTENCIA!#REF!<>\"F\"),SUMIF($F$13:$J$13,BT$13,$F23:$J23),\"\")","v":{"$error":"#REF!"}},{"$f":"IF(AND(LEN($D23)>0,SUMIF($F$13:$J$13,BU$13,$F23:$J23)>0,ASISTENCIA!#REF!<>\"X\",ASISTENCIA!#REF!<>\"L\",ASISTENCIA!#REF!<>\"J\",ASISTENCIA!#REF!<>\"F\"),SUMIF($F$13:$J$13,BU$13,$F23:$J23),\"\")","v":{"$error":"#REF!"}},{"$f":"IF(AND(LEN($D23)>0,SUMIF($F$13:$J$13,BV$13,$F23:$J23)>0,ASISTENCIA!#REF!<>\"X\",ASISTENCIA!#REF!<>\"L\",ASISTENCIA!#REF!<>\"J\",ASISTENCIA!#REF!<>\"F\"),SUMIF($F$13:$J$13,BV$13,$F23:$J23),\"\")","v":{"$error":"#REF!"}},{"$f":"IF(AND(LEN($D23)>0,SUMIF($F$13:$J$13,BW$13,$F23:$J23)>0,ASISTENCIA!#REF!<>\"X\",ASISTENCIA!#REF!<>\"L\",ASISTENCIA!#REF!<>\"J\",ASISTENCIA!#REF!<>\"F\"),SUMIF($F$13:$J$13,BW$13,$F23:$J23),\"\")","v":{"$error":"#REF!"}},{"$f":"IF(AND(LEN($D23)>0,SUMIF($F$13:$J$13,BX$13,$F23:$J23)>0,ASISTENCIA!#REF!<>\"X\",ASISTENCIA!#REF!<>\"L\",ASISTENCIA!#REF!<>\"J\",ASISTENCIA!#REF!<>\"F\"),SUMIF($F$13:$J$13,BX$13,$F23:$J23),\"\")","v":{"$error":"#REF!"}},{"$f":"IF(AND(LEN($D23)>0,SUMIF($F$13:$J$13,BY$13,$F23:$J23)>0,ASISTENCIA!#REF!<>\"X\",ASISTENCIA!#REF!<>\"L\",ASISTENCIA!#REF!<>\"J\",ASISTENCIA!#REF!<>\"F\"),SUMIF($F$13:$J$13,BY$13,$F23:$J23),\"\")","v":{"$error":"#REF!"}},{"$f":"IF(AND(LEN($D23)>0,SUMIF($F$13:$J$13,BZ$13,$F23:$J23)>0,ASISTENCIA!#REF!<>\"X\",ASISTENCIA!#REF!<>\"L\",ASISTENCIA!#REF!<>\"J\",ASISTENCIA!#REF!<>\"F\"),SUMIF($F$13:$J$13,BZ$13,$F23:$J23),\"\")","v":{"$error":"#REF!"}},{"$f":"IF(AND(LEN($D23)>0,SUMIF($F$13:$J$13,CA$13,$F23:$J23)>0,ASISTENCIA!#REF!<>\"X\",ASISTENCIA!#REF!<>\"L\",ASISTENCIA!#REF!<>\"J\",ASISTENCIA!#REF!<>\"F\"),SUMIF($F$13:$J$13,CA$13,$F23:$J23),\"\")","v":{"$error":"#REF!"}},{"$f":"IF(AND(LEN($D23)>0,SUMIF($F$13:$J$13,CB$13,$F23:$J23)>0,ASISTENCIA!#REF!<>\"X\",ASISTENCIA!#REF!<>\"L\",ASISTENCIA!#REF!<>\"J\",ASISTENCIA!#REF!<>\"F\"),SUMIF($F$13:$J$13,CB$13,$F23:$J23),\"\")","v":{"$error":"#REF!"}},{"$error":"#REF!"}]
[{"$error":"#REF!"},{"$f":"IF(LEN(C24)>0,VLOOKUP($O$4,DATA!$A$1:$S$1,2,FALSE),\"\")","v":{"$error":"#REF!"}},{"$error":"#REF!"},{"$f":"IF(LEN(ASISTENCIA!#REF!)>0,ASISTENCIA!#REF!,\"\")","v":{"$error":"#REF!"}},{"$f":"IF(LEN(D24)>0,ASISTENCIA!#REF!,\"\")","v":{"$error":"#REF!"}},null,null,null,null,null,"",null,null,{"$error":"#REF!"},{"$f":"IF(AND(LEN($D24)>0,SUMIF($F$13:$J$13,O$13,$F24:$J24)>0,ASISTENCIA!#REF!<>\"X\",ASISTENCIA!#REF!<>\"L\",ASISTENCIA!#REF!<>\"J\",ASISTENCIA!#REF!<>\"V\",ASISTENCIA!#REF!<>\"F\",ASISTENCIA!#REF!<>\"\"),SUMIF($F$13:$J$13,O$13,$F24:$J24),\"\")","v":{"$error":"#REF!"}},{"$f":"IF(AND(LEN($D24)>0,SUMIF($F$13:$J$13,P$13,$F24:$J24)>0,ASISTENCIA!#REF!<>\"X\",ASISTENCIA!#REF!<>\"L\",ASISTENCIA!#REF!<>\"J\",ASISTENCIA!#REF!<>\"V\",ASISTENCIA!#REF!<>\"F\",ASISTENCIA!#REF!<>\"\"),SUMIF($F$13:$J$13,P$13,$F24:$J24),\"\")","v":{"$error":"#REF!"}},{"$f":"IF(AND(LEN($D24)>0,SUMIF($F$13:$J$13,Q$13,$F24:$J24)>0,ASISTENCIA!#REF!<>\"X\",ASISTENCIA!#REF!<>\"L\",ASISTENCIA!#REF!<>\"J\",ASISTENCIA!#REF!<>\"V\",ASISTENCIA!#REF!<>\"F\",ASISTENCIA!#REF!<>\"\"),SUMIF($F$13:$J$13,Q$13,$F24:$J24),\"\")","v":{"$error":"#REF!"}},{"$f":"IF(AND(LEN($D24)>0,SUMIF($F$13:$J$13,R$13,$F24:$J24)>0,ASISTENCIA!#REF!<>\"X\",ASISTENCIA!#REF!<>\"L\",ASISTENCIA!#REF!<>\"J\",ASISTENCIA!#REF!<>\"V\",ASISTENCIA!#REF!<>\"F\",ASISTENCIA!#REF!<>\"\"),SUMIF($F$13:$J$13,R$13,$F24:$J24),\"\")","v":{"$error":"#REF!"}},{"$f":"IF(AND(LEN($D24)>0,SUMIF($F$13:$J$13,S$13,$F24:$J24)>0,ASISTENCIA!#REF!<>\"X\",ASISTENCIA!#REF!<>\"L\",ASISTENCIA!#REF!<>\"J\",ASISTENCIA!#REF!<>\"V\",ASISTENCIA!#REF!<>\"F\",ASISTENCIA!#REF!<>\"\"),SUMIF($F$13:$J$13,S$13,$F24:$J24),\"\")","v":{"$error":"#REF!"}},{"$f":"IF(AND(LEN($D24)>0,SUMIF($F$13:$J$13,T$13,$F24:$J24)>0,ASISTENCIA!#REF!<>\"X\",ASISTENCIA!#REF!<>\"L\",ASISTENCIA!#REF!<>\"J\",ASISTENCIA!#REF!<>\"V\",ASISTENCIA!#REF!<>\"F\",ASISTENCIA!#REF!<>\"\"),SUMIF($F$13:$J$13,T$13,$F24:$J24),\"\")","v":{"$error":"#REF!"}},{"$f":"IF(AND(LEN($D24)>0,SUMIF($F$13:$J$13,U$13,$F24:$J24)>0,ASISTENCIA!#REF!<>\"X\",ASISTENCIA!#REF!<>\"L\",ASISTENCIA!#REF!<>\"J\",ASISTENCIA!#REF!<>\"V\",ASISTENCIA!#REF!<>\"F\",ASISTENCIA!#REF!<>\"\"),SUMIF($F$13:$J$13,U$13,$F24:$J24),\"\")","v":{"$error":"#REF!"}},{"$f":"IF(AND(LEN($D24)>0,SUMIF($F$13:$J$13,V$13,$F24:$J24)>0,ASISTENCIA!#REF!<>\"X\",ASISTENCIA!#REF!<>\"L\",ASISTENCIA!#REF!<>\"J\",ASISTENCIA!#REF!<>\"V\",ASISTENCIA!#REF!<>\"F\",ASISTENCIA!#REF!<>\"\"),SUMIF($F$13:$J$13,V$13,$F24:$J24),\"\")","v":{"$error":"#REF!"}},{"$f":"IF(AND(LEN($D24)>0,SUMIF($F$13:$J$13,W$13,$F24:$J24)>0,ASISTENCIA!#REF!<>\"X\",ASISTENCIA!#REF!<>\"L\",ASISTENCIA!#REF!<>\"J\",ASISTENCIA!#REF!<>\"V\",ASISTENCIA!#REF!<>\"F\",ASISTENCIA!#REF!<>\"\"),SUMIF($F$13:$J$13,W$13,$F24:$J24),\"\")","v":{"$error":"#REF!"}},{"$f":"IF(AND(LEN($D24)>0,SUMIF($F$13:$J$13,X$13,$F24:$J24)>0,ASISTENCIA!#REF!<>\"X\",ASISTENCIA!#REF!<>\"L\",ASISTENCIA!#REF!<>\"J\",ASISTENCIA!#REF!<>\"V\",ASISTENCIA!#REF!<>\"F\",ASISTENCIA!#REF!<>\"\"),SUMIF($F$13:$J$13,X$13,$F24:$J24),\"\")","v":{"$error":"#REF!"}},{"$f":"IF(AND(LEN($D24)>0,SUMIF($F$13:$J$13,Y$13,$F24:$J24)>0,ASISTENCIA!#REF!<>\"X\",ASISTENCIA!#REF!<>\"L\",ASISTENCIA!#REF!<>\"J\",ASISTENCIA!#REF!<>\"V\",ASISTENCIA!#REF!<>\"F\",ASISTENCIA!#REF!<>\"\"),SUMIF($F$13:$J$13,Y$13,$F24:$J24),\"\")","v":{"$error":"#REF!"}},{"$f":"IF(AND(LEN($D24)>0,SUMIF($F$13:$J$13,Z$13,$F24:$J24)>0,ASISTENCIA!#REF!<>\"X\",ASISTENCIA!#REF!<>\"L\",ASISTENCIA!#REF!<>\"J\",ASISTENCIA!#REF!<>\"V\",ASISTENCIA!#REF!<>\"F\",ASISTENCIA!#REF!<>\"\"),SUMIF($F$13:$J$13,Z$13,$F24:$J24),\"\")","v":{"$error":"#REF!"}},{"$f":"IF(AND(LEN($D24)>0,SUMIF($F$13:$J$13,AA$13,$F24:$J24)>0,ASISTENCIA!#REF!<>\"X\",ASISTENCIA!#REF!<>\"L\",ASISTENCIA!#REF!<>\"J\",ASISTENCIA!#REF!<>\"V\",ASISTENCIA!#REF!<>\"F\",ASISTENCIA!#REF!<>\"\"),SUMIF($F$13:$J$13,AA$13,$F24:$J24),\"\")","v":{"$error":"#REF!"}},{"$f":"IF(AND(LEN($D24)>0,SUMIF($F$13:$J$13,AB$13,$F24:$J24)>0,ASISTENCIA!#REF!<>\"X\",ASISTENCIA!#REF!<>\"L\",ASISTENCIA!#REF!<>\"J\",ASISTENCIA!#REF!<>\"V\",ASISTENCIA!#REF!<>\"F\",ASISTENCIA!#REF!<>\"\"),SUMIF($F$13:$J$13,AB$13,$F24:$J24),\"\")","v":{"$error":"#REF!"}},{"$f":"IF(AND(LEN($D24)>0,SUMIF($F$13:$J$13,AC$13,$F24:$J24)>0,ASISTENCIA!#REF!<>\"X\",ASISTENCIA!#REF!<>\"L\",ASISTENCIA!#REF!<>\"J\",ASISTENCIA!#REF!<>\"V\",ASISTENCIA!#REF!<>\"F\",ASISTENCIA!#REF!<>\"\"),SUMIF($F$13:$J$13,AC$13,$F24:$J24),\"\")","v":{"$error":"#REF!"}},{"$f":"IF(AND(LEN($D24)>0,SUMIF($F$13:$J$13,AD$13,$F24:$J24)>0,ASISTENCIA!#REF!<>\"X\",ASISTENCIA!#REF!<>\"L\",ASISTENCIA!#REF!<>\"J\",ASISTENCIA!#REF!<>\"V\",ASISTENCIA!#REF!<>\"F\",ASISTENCIA!#REF!<>\"\"),SUMIF($F$13:$J$13,AD$13,$F24:$J24),\"\")","v":{"$error":"#REF!"}},{"$f":"IF(AND(LEN($D24)>0,SUMIF($F$13:$J$13,AE$13,$F24:$J24)>0,ASISTENCIA!#REF!<>\"X\",ASISTENCIA!#REF!<>\"L\",ASISTENCIA!#REF!<>\"J\",ASISTENCIA!#REF!<>\"V\",ASISTENCIA!#REF!<>\"F\",ASISTENCIA!#REF!<>\"\"),SUMIF($F$13:$J$13,AE$13,$F24:$J24),\"\")","v":{"$error":"#REF!"}},{"$f":"IF(AND(LEN($D24)>0,SUMIF($F$13:$J$13,AF$13,$F24:$J24)>0,ASISTENCIA!#REF!<>\"X\",ASISTENCIA!#REF!<>\"L\",ASISTENCIA!#REF!<>\"J\",ASISTENCIA!#REF!<>\"V\",ASISTENCIA!#REF!<>\"F\",ASISTENCIA!#REF!<>\"\"),SUMIF($F$13:$J$13,AF$13,$F24:$J24),\"\")","v":{"$error":"#REF!"}},{"$f":"IF(AND(LEN($D24)>0,SUMIF($F$13:$J$13,AG$13,$F24:$J24)>0,ASISTENCIA!#REF!<>\"X\",ASISTENCIA!#REF!<>\"L\",ASISTENCIA!#REF!<>\"J\",ASISTENCIA!#REF!<>\"V\",ASISTENCIA!#REF!<>\"F\",ASISTENCIA!#REF!<>\"\"),SUMIF($F$13:$J$13,AG$13,$F24:$J24),\"\")","v":{"$error":"#REF!"}},{"$f":"IF(AND(LEN($D24)>0,SUMIF($F$13:$J$13,AH$13,$F24:$J24)>0,ASISTENCIA!#REF!<>\"X\",ASISTENCIA!#REF!<>\"L\",ASISTENCIA!#REF!<>\"J\",ASISTENCIA!#REF!<>\"V\",ASISTENCIA!#REF!<>\"F\",ASISTENCIA!#REF!<>\"\"),SUMIF($F$13:$J$13,AH$13,$F24:$J24),\"\")","v":{"$error":"#REF!"}},{"$f":"IF(AND(LEN($D24)>0,SUMIF($F$13:$J$13,AI$13,$F24:$J24)>0,ASISTENCIA!#REF!<>\"X\",ASISTENCIA!#REF!<>\"L\",ASISTENCIA!#REF!<>\"J\",ASISTENCIA!#REF!<>\"V\",ASISTENCIA!#REF!<>\"F\",ASISTENCIA!#REF!<>\"\"),SUMIF($F$13:$J$13,AI$13,$F24:$J24),\"\")","v":{"$error":"#REF!"}},{"$f":"IF(AND(LEN($D24)>0,SUMIF($F$13:$J$13,AJ$13,$F24:$J24)>0,ASISTENCIA!#REF!<>\"X\",ASISTENCIA!#REF!<>\"L\",ASISTENCIA!#REF!<>\"J\",ASISTENCIA!#REF!<>\"V\",ASISTENCIA!#REF!<>\"F\",ASISTENCIA!#REF!<>\"\"),SUMIF($F$13:$J$13,AJ$13,$F24:$J24),\"\")","v":{"$error":"#REF!"}},{"$f":"IF(AND(LEN($D24)>0,SUMIF($F$13:$J$13,AK$13,$F24:$J24)>0,ASISTENCIA!#REF!<>\"X\",ASISTENCIA!#REF!<>\"L\",ASISTENCIA!#REF!<>\"J\",ASISTENCIA!#REF!<>\"V\",ASISTENCIA!#REF!<>\"F\",ASISTENCIA!#REF!<>\"\"),SUMIF($F$13:$J$13,AK$13,$F24:$J24),\"\")","v":{"$error":"#REF!"}},{"$f":"IF(AND(LEN($D24)>0,SUMIF($F$13:$J$13,AL$13,$F24:$J24)>0,ASISTENCIA!#REF!<>\"X\",ASISTENCIA!#REF!<>\"L\",ASISTENCIA!#REF!<>\"J\",ASISTENCIA!#REF!<>\"V\",ASISTENCIA!#REF!<>\"F\",ASISTENCIA!#REF!<>\"\"),SUMIF($F$13:$J$13,AL$13,$F24:$J24),\"\")","v":{"$error":"#REF!"}},{"$f":"IF(AND(LEN($D24)>0,SUMIF($F$13:$J$13,AM$13,$F24:$J24)>0,ASISTENCIA!#REF!<>\"X\",ASISTENCIA!#REF!<>\"L\",ASISTENCIA!#REF!<>\"J\",ASISTENCIA!#REF!<>\"V\",ASISTENCIA!#REF!<>\"F\",ASISTENCIA!#REF!<>\"\"),SUMIF($F$13:$J$13,AM$13,$F24:$J24),\"\")","v":{"$error":"#REF!"}},{"$f":"IF(AND(LEN($D24)>0,SUMIF($F$13:$J$13,AN$13,$F24:$J24)>0,ASISTENCIA!#REF!<>\"X\",ASISTENCIA!#REF!<>\"L\",ASISTENCIA!#REF!<>\"J\",ASISTENCIA!#REF!<>\"V\",ASISTENCIA!#REF!<>\"F\",ASISTENCIA!#REF!<>\"\"),SUMIF($F$13:$J$13,AN$13,$F24:$J24),\"\")","v":{"$error":"#REF!"}},{"$f":"IF(AND(LEN($D24)>0,SUMIF($F$13:$J$13,AO$13,$F24:$J24)>0,ASISTENCIA!#REF!<>\"X\",ASISTENCIA!#REF!<>\"L\",ASISTENCIA!#REF!<>\"J\",ASISTENCIA!#REF!<>\"V\",ASISTENCIA!#REF!<>\"F\",ASISTENCIA!#REF!<>\"\"),SUMIF($F$13:$J$13,AO$13,$F24:$J24),\"\")","v":{"$error":"#REF!"}},{"$f":"IF(AND(LEN($D24)>0,SUMIF($F$13:$J$13,AP$13,$F24:$J24)>0,ASISTENCIA!#REF!<>\"X\",ASISTENCIA!#REF!<>\"L\",ASISTENCIA!#REF!<>\"J\",ASISTENCIA!#REF!<>\"V\",ASISTENCIA!#REF!<>\"F\",ASISTENCIA!#REF!<>\"\"),SUMIF($F$13:$J$13,AP$13,$F24:$J24),\"\")","v":{"$error":"#REF!"}},{"$f":"IF(AND(LEN($D24)>0,SUMIF($F$13:$J$13,AQ$13,$F24:$J24)>0,ASISTENCIA!#REF!<>\"X\",ASISTENCIA!#REF!<>\"L\",ASISTENCIA!#REF!<>\"J\",ASISTENCIA!#REF!<>\"V\",ASISTENCIA!#REF!<>\"F\",ASISTENCIA!#REF!<>\"\"),SUMIF($F$13:$J$13,AQ$13,$F24:$J24),\"\")","v":{"$error":"#REF!"}},{"$f":"IF(AND(LEN($D24)>0,SUMIF($F$13:$J$13,AR$13,$F24:$J24)>0,ASISTENCIA!#REF!<>\"X\",ASISTENCIA!#REF!<>\"L\",ASISTENCIA!#REF!<>\"J\",ASISTENCIA!#REF!<>\"V\",ASISTENCIA!#REF!<>\"F\",ASISTENCIA!#REF!<>\"\"),SUMIF($F$13:$J$13,AR$13,$F24:$J24),\"\")","v":{"$error":"#REF!"}},{"$f":"IF(AND(LEN($D24)>0,SUMIF($F$13:$J$13,AS$13,$F24:$J24)>0,ASISTENCIA!#REF!<>\"X\",ASISTENCIA!#REF!<>\"L\",ASISTENCIA!#REF!<>\"J\",ASISTENCIA!#REF!<>\"V\",ASISTENCIA!#REF!<>\"F\",ASISTENCIA!#REF!<>\"\"),SUMIF($F$13:$J$13,AS$13,$F24:$J24),\"\")","v":{"$error":"#REF!"}},{"$error":"#REF!"},null,null,null,{"$f":"IF(AND(LEN($D24)>0,SUMIF($F$13:$J$13,AX$13,$F24:$J24)>0,ASISTENCIA!#REF!<>\"X\",ASISTENCIA!#REF!<>\"L\",ASISTENCIA!#REF!<>\"J\",ASISTENCIA!#REF!<>\"F\"),SUMIF($F$13:$J$13,AX$13,$F24:$J24),\"\")","v":{"$error":"#REF!"}},{"$f":"IF(AND(LEN($D24)>0,SUMIF($F$13:$J$13,AY$13,$F24:$J24)>0,ASISTENCIA!#REF!<>\"X\",ASISTENCIA!#REF!<>\"L\",ASISTENCIA!#REF!<>\"J\",ASISTENCIA!#REF!<>\"F\"),SUMIF($F$13:$J$13,AY$13,$F24:$J24),\"\")","v":{"$error":"#REF!"}},{"$f":"IF(AND(LEN($D24)>0,SUMIF($F$13:$J$13,AZ$13,$F24:$J24)>0,ASISTENCIA!#REF!<>\"X\",ASISTENCIA!#REF!<>\"L\",ASISTENCIA!#REF!<>\"J\",ASISTENCIA!#REF!<>\"F\"),SUMIF($F$13:$J$13,AZ$13,$F24:$J24),\"\")","v":{"$error":"#REF!"}},{"$f":"IF(AND(LEN($D24)>0,SUMIF($F$13:$J$13,BA$13,$F24:$J24)>0,ASISTENCIA!#REF!<>\"X\",ASISTENCIA!#REF!<>\"L\",ASISTENCIA!#REF!<>\"J\",ASISTENCIA!#REF!<>\"F\"),SUMIF($F$13:$J$13,BA$13,$F24:$J24),\"\")","v":{"$error":"#REF!"}},{"$f":"IF(AND(LEN($D24)>0,SUMIF($F$13:$J$13,BB$13,$F24:$J24)>0,ASISTENCIA!#REF!<>\"X\",ASISTENCIA!#REF!<>\"L\",ASISTENCIA!#REF!<>\"J\",ASISTENCIA!#REF!<>\"F\"),SUMIF($F$13:$J$13,BB$13,$F24:$J24),\"\")","v":{"$error":"#REF!"}},{"$f":"IF(AND(LEN($D24)>0,SUMIF($F$13:$J$13,BC$13,$F24:$J24)>0,ASISTENCIA!#REF!<>\"X\",ASISTENCIA!#REF!<>\"L\",ASISTENCIA!#REF!<>\"J\",ASISTENCIA!#REF!<>\"F\"),SUMIF($F$13:$J$13,BC$13,$F24:$J24),\"\")","v":{"$error":"#REF!"}},{"$f":"IF(AND(LEN($D24)>0,SUMIF($F$13:$J$13,BD$13,$F24:$J24)>0,ASISTENCIA!#REF!<>\"X\",ASISTENCIA!#REF!<>\"L\",ASISTENCIA!#REF!<>\"J\",ASISTENCIA!#REF!<>\"F\"),SUMIF($F$13:$J$13,BD$13,$F24:$J24),\"\")","v":{"$error":"#REF!"}},{"$f":"IF(AND(LEN($D24)>0,SUMIF($F$13:$J$13,BE$13,$F24:$J24)>0,ASISTENCIA!#REF!<>\"X\",ASISTENCIA!#REF!<>\"L\",ASISTENCIA!#REF!<>\"J\",ASISTENCIA!#REF!<>\"F\"),SUMIF($F$13:$J$13,BE$13,$F24:$J24),\"\")","v":{"$error":"#REF!"}},{"$f":"IF(AND(LEN($D24)>0,SUMIF($F$13:$J$13,BF$13,$F24:$J24)>0,ASISTENCIA!#REF!<>\"X\",ASISTENCIA!#REF!<>\"L\",ASISTENCIA!#REF!<>\"J\",ASISTENCIA!#REF!<>\"F\"),SUMIF($F$13:$J$13,BF$13,$F24:$J24),\"\")","v":{"$error":"#REF!"}},{"$f":"IF(AND(LEN($D24)>0,SUMIF($F$13:$J$13,BG$13,$F24:$J24)>0,ASISTENCIA!#REF!<>\"X\",ASISTENCIA!#REF!<>\"L\",ASISTENCIA!#REF!<>\"J\",ASISTENCIA!#REF!<>\"F\"),SUMIF($F$13:$J$13,BG$13,$F24:$J24),\"\")","v":{"$error":"#REF!"}},{"$f":"IF(AND(LEN($D24)>0,SUMIF($F$13:$J$13,BH$13,$F24:$J24)>0,ASISTENCIA!#REF!<>\"X\",ASISTENCIA!#REF!<>\"L\",ASISTENCIA!#REF!<>\"J\",ASISTENCIA!#REF!<>\"F\"),SUMIF($F$13:$J$13,BH$13,$F24:$J24),\"\")","v":{"$error":"#REF!"}},{"$f":"IF(AND(LEN($D24)>0,SUMIF($F$13:$J$13,BI$13,$F24:$J24)>0,ASISTENCIA!#REF!<>\"X\",ASISTENCIA!#REF!<>\"L\",ASISTENCIA!#REF!<>\"J\",ASISTENCIA!#REF!<>\"F\"),SUMIF($F$13:$J$13,BI$13,$F24:$J24),\"\")","v":{"$error":"#REF!"}},{"$f":"IF(AND(LEN($D24)>0,SUMIF($F$13:$J$13,BJ$13,$F24:$J24)>0,ASISTENCIA!#REF!<>\"X\",ASISTENCIA!#REF!<>\"L\",ASISTENCIA!#REF!<>\"J\",ASISTENCIA!#REF!<>\"F\"),SUMIF($F$13:$J$13,BJ$13,$F24:$J24),\"\")","v":{"$error":"#REF!"}},{"$f":"IF(AND(LEN($D24)>0,SUMIF($F$13:$J$13,BK$13,$F24:$J24)>0,ASISTENCIA!#REF!<>\"X\",ASISTENCIA!#REF!<>\"L\",ASISTENCIA!#REF!<>\"J\",ASISTENCIA!#REF!<>\"F\"),SUMIF($F$13:$J$13,BK$13,$F24:$J24),\"\")","v":{"$error":"#REF!"}},{"$f":"IF(AND(LEN($D24)>0,SUMIF($F$13:$J$13,BL$13,$F24:$J24)>0,ASISTENCIA!#REF!<>\"X\",ASISTENCIA!#REF!<>\"L\",ASISTENCIA!#REF!<>\"J\",ASISTENCIA!#REF!<>\"F\"),SUMIF($F$13:$J$13,BL$13,$F24:$J24),\"\")","v":{"$error":"#REF!"}},{"$f":"IF(AND(LEN($D24)>0,SUMIF($F$13:$J$13,BM$13,$F24:$J24)>0,ASISTENCIA!#REF!<>\"X\",ASISTENCIA!#REF!<>\"L\",ASISTENCIA!#REF!<>\"J\",ASISTENCIA!#REF!<>\"F\"),SUMIF($F$13:$J$13,BM$13,$F24:$J24),\"\")","v":{"$error":"#REF!"}},{"$f":"IF(AND(LEN($D24)>0,SUMIF($F$13:$J$13,BN$13,$F24:$J24)>0,ASISTENCIA!#REF!<>\"X\",ASISTENCIA!#REF!<>\"L\",ASISTENCIA!#REF!<>\"J\",ASISTENCIA!#REF!<>\"F\"),SUMIF($F$13:$J$13,BN$13,$F24:$J24),\"\")","v":{"$error":"#REF!"}},{"$f":"IF(AND(LEN($D24)>0,SUMIF($F$13:$J$13,BO$13,$F24:$J24)>0,ASISTENCIA!#REF!<>\"X\",ASISTENCIA!#REF!<>\"L\",ASISTENCIA!#REF!<>\"J\",ASISTENCIA!#REF!<>\"F\"),SUMIF($F$13:$J$13,BO$13,$F24:$J24),\"\")","v":{"$error":"#REF!"}},{"$f":"IF(AND(LEN($D24)>0,SUMIF($F$13:$J$13,BP$13,$F24:$J24)>0,ASISTENCIA!#REF!<>\"X\",ASISTENCIA!#REF!<>\"L\",ASISTENCIA!#REF!<>\"J\",ASISTENCIA!#REF!<>\"F\"),SUMIF($F$13:$J$13,BP$13,$F24:$J24),\"\")","v":{"$error":"#REF!"}},{"$f":"IF(AND(LEN($D24)>0,SUMIF($F$13:$J$13,BQ$13,$F24:$J24)>0,ASISTENCIA!#REF!<>\"X\",ASISTENCIA!#REF!<>\"L\",ASISTENCIA!#REF!<>\"J\",ASISTENCIA!#REF!<>\"F\"),SUMIF($F$13:$J$13,BQ$13,$F24:$J24),\"\")","v":{"$error":"#REF!"}},{"$f":"IF(AND(LEN($D24)>0,SUMIF($F$13:$J$13,BR$13,$F24:$J24)>0,ASISTENCIA!#REF!<>\"X\",ASISTENCIA!#REF!<>\"L\",ASISTENCIA!#REF!<>\"J\",ASISTENCIA!#REF!<>\"F\"),SUMIF($F$13:$J$13,BR$13,$F24:$J24),\"\")","v":{"$error":"#REF!"}},{"$f":"IF(AND(LEN($D24)>0,SUMIF($F$13:$J$13,BS$13,$F24:$J24)>0,ASISTENCIA!#REF!<>\"X\",ASISTENCIA!#REF!<>\"L\",ASISTENCIA!#REF!<>\"J\",ASISTENCIA!#REF!<>\"F\"),SUMIF($F$13:$J$13,BS$13,$F24:$J24),\"\")","v":{"$error":"#REF!"}},{"$f":"IF(AND(LEN($D24)>0,SUMIF($F$13:$J$13,BT$13,$F24:$J24)>0,ASISTENCIA!#REF!<>\"X\",ASISTENCIA!#REF!<>\"L\",ASISTENCIA!#REF!<>\"J\",ASISTENCIA!#REF!<>\"F\"),SUMIF($F$13:$J$13,BT$13,$F24:$J24),\"\")","v":{"$error":"#REF!"}},{"$f":"IF(AND(LEN($D24)>0,SUMIF($F$13:$J$13,BU$13,$F24:$J24)>0,ASISTENCIA!#REF!<>\"X\",ASISTENCIA!#REF!<>\"L\",ASISTENCIA!#REF!<>\"J\",ASISTENCIA!#REF!<>\"F\"),SUMIF($F$13:$J$13,BU$13,$F24:$J24),\"\")","v":{"$error":"#REF!"}},{"$f":"IF(AND(LEN($D24)>0,SUMIF($F$13:$J$13,BV$13,$F24:$J24)>0,ASISTENCIA!#REF!<>\"X\",ASISTENCIA!#REF!<>\"L\",ASISTENCIA!#REF!<>\"J\",ASISTENCIA!#REF!<>\"F\"),SUMIF($F$13:$J$13,BV$13,$F24:$J24),\"\")","v":{"$error":"#REF!"}},{"$f":"IF(AND(LEN($D24)>0,SUMIF($F$13:$J$13,BW$13,$F24:$J24)>0,ASISTENCIA!#REF!<>\"X\",ASISTENCIA!#REF!<>\"L\",ASISTENCIA!#REF!<>\"J\",ASISTENCIA!#REF!<>\"F\"),SUMIF($F$13:$J$13,BW$13,$F24:$J24),\"\")","v":{"$error":"#REF!"}},{"$f":"IF(AND(LEN($D24)>0,SUMIF($F$13:$J$13,BX$13,$F24:$J24)>0,ASISTENCIA!#REF!<>\"X\",ASISTENCIA!#REF!<>\"L\",ASISTENCIA!#REF!<>\"J\",ASISTENCIA!#REF!<>\"F\"),SUMIF($F$13:$J$13,BX$13,$F24:$J24),\"\")","v":{"$error":"#REF!"}},{"$f":"IF(AND(LEN($D24)>0,SUMIF($F$13:$J$13,BY$13,$F24:$J24)>0,ASISTENCIA!#REF!<>\"X\",ASISTENCIA!#REF!<>\"L\",ASISTENCIA!#REF!<>\"J\",ASISTENCIA!#REF!<>\"F\"),SUMIF($F$13:$J$13,BY$13,$F24:$J24),\"\")","v":{"$error":"#REF!"}},{"$f":"IF(AND(LEN($D24)>0,SUMIF($F$13:$J$13,BZ$13,$F24:$J24)>0,ASISTENCIA!#REF!<>\"X\",ASISTENCIA!#REF!<>\"L\",ASISTENCIA!#REF!<>\"J\",ASISTENCIA!#REF!<>\"F\"),SUMIF($F$13:$J$13,BZ$13,$F24:$J24),\"\")","v":{"$error":"#REF!"}},{"$f":"IF(AND(LEN($D24)>0,SUMIF($F$13:$J$13,CA$13,$F24:$J24)>0,ASISTENCIA!#REF!<>\"X\",ASISTENCIA!#REF!<>\"L\",ASISTENCIA!#REF!<>\"J\",ASISTENCIA!#REF!<>\"F\"),SUMIF($F$13:$J$13,CA$13,$F24:$J24),\"\")","v":{"$error":"#REF!"}},{"$f":"IF(AND(LEN($D24)>0,SUMIF($F$13:$J$13,CB$13,$F24:$J24)>0,ASISTENCIA!#REF!<>\"X\",ASISTENCIA!#REF!<>\"L\",ASISTENCIA!#REF!<>\"J\",ASISTENCIA!#REF!<>\"F\"),SUMIF($F$13:$J$13,CB$13,$F24:$J24),\"\")","v":{"$error":"#REF!"}},{"$error":"#REF!"}]
[{"$error":"#REF!"},{"$f":"IF(LEN(C25)>0,VLOOKUP($O$4,DATA!$A$1:$S$1,2,FALSE),\"\")","v":{"$error":"#REF!"}},{"$error":"#REF!"},{"$f":"IF(LEN(ASISTENCIA!#REF!)>0,ASISTENCIA!#REF!,\"\")","v":{"$error":"#REF!"}},{"$f":"IF(LEN(D25)>0,ASISTENCIA!#REF!,\"\")","v":{"$error":"#REF!"}},null,null,null,null,null,"",null,null,{"$error":"#REF!"},{"$f":"IF(AND(LEN($D25)>0,SUMIF($F$13:$J$13,O$13,$F25:$J25)>0,ASISTENCIA!#REF!<>\"X\",ASISTENCIA!#REF!<>\"L\",ASISTENCIA!#REF!<>\"J\",ASISTENCIA!#REF!<>\"V\",ASISTENCIA!#REF!<>\"F\",ASISTENCIA!#REF!<>\"\"),SUMIF($F$13:$J$13,O$13,$F25:$J25),\"\")","v":{"$error":"#REF!"}},{"$f":"IF(AND(LEN($D25)>0,SUMIF($F$13:$J$13,P$13,$F25:$J25)>0,ASISTENCIA!#REF!<>\"X\",ASISTENCIA!#REF!<>\"L\",ASISTENCIA!#REF!<>\"J\",ASISTENCIA!#REF!<>\"V\",ASISTENCIA!#REF!<>\"F\",ASISTENCIA!#REF!<>\"\"),SUMIF($F$13:$J$13,P$13,$F25:$J25),\"\")","v":{"$error":"#REF!"}},{"$f":"IF(AND(LEN($D25)>0,SUMIF($F$13:$J$13,Q$13,$F25:$J25)>0,ASISTENCIA!#REF!<>\"X\",ASISTENCIA!#REF!<>\"L\",ASISTENCIA!#REF!<>\"J\",ASISTENCIA!#REF!<>\"V\",ASISTENCIA!#REF!<>\"F\",ASISTENCIA!#REF!<>\"\"),SUMIF($F$13:$J$13,Q$13,$F25:$J25),\"\")","v":{"$error":"#REF!"}},{"$f":"IF(AND(LEN($D25)>0,SUMIF($F$13:$J$13,R$13,$F25:$J25)>0,ASISTENCIA!#REF!<>\"X\",ASISTENCIA!#REF!<>\"L\",ASISTENCIA!#REF!<>\"J\",ASISTENCIA!#REF!<>\"V\",ASISTENCIA!#REF!<>\"F\",ASISTENCIA!#REF!<>\"\"),SUMIF($F$13:$J$13,R$13,$F25:$J25),\"\")","v":{"$error":"#REF!"}},{"$f":"IF(AND(LEN($D25)>0,SUMIF($F$13:$J$13,S$13,$F25:$J25)>0,ASISTENCIA!#REF!<>\"X\",ASISTENCIA!#REF!<>\"L\",ASISTENCIA!#REF!<>\"J\",ASISTENCIA!#REF!<>\"V\",ASISTENCIA!#REF!<>\"F\",ASISTENCIA!#REF!<>\"\"),SUMIF($F$13:$J$13,S$13,$F25:$J25),\"\")","v":{"$error":"#REF!"}},{"$f":"IF(AND(LEN($D25)>0,SUMIF($F$13:$J$13,T$13,$F25:$J25)>0,ASISTENCIA!#REF!<>\"X\",ASISTENCIA!#REF!<>\"L\",ASISTENCIA!#REF!<>\"J\",ASISTENCIA!#REF!<>\"V\",ASISTENCIA!#REF!<>\"F\",ASISTENCIA!#REF!<>\"\"),SUMIF($F$13:$J$13,T$13,$F25:$J25),\"\")","v":{"$error":"#REF!"}},{"$f":"IF(AND(LEN($D25)>0,SUMIF($F$13:$J$13,U$13,$F25:$J25)>0,ASISTENCIA!#REF!<>\"X\",ASISTENCIA!#REF!<>\"L\",ASISTENCIA!#REF!<>\"J\",ASISTENCIA!#REF!<>\"V\",ASISTENCIA!#REF!<>\"F\",ASISTENCIA!#REF!<>\"\"),SUMIF($F$13:$J$13,U$13,$F25:$J25),\"\")","v":{"$error":"#REF!"}},{"$f":"IF(AND(LEN($D25)>0,SUMIF($F$13:$J$13,V$13,$F25:$J25)>0,ASISTENCIA!#REF!<>\"X\",ASISTENCIA!#REF!<>\"L\",ASISTENCIA!#REF!<>\"J\",ASISTENCIA!#REF!<>\"V\",ASISTENCIA!#REF!<>\"F\",ASISTENCIA!#REF!<>\"\"),SUMIF($F$13:$J$13,V$13,$F25:$J25),\"\")","v":{"$error":"#REF!"}},{"$f":"IF(AND(LEN($D25)>0,SUMIF($F$13:$J$13,W$13,$F25:$J25)>0,ASISTENCIA!#REF!<>\"X\",ASISTENCIA!#REF!<>\"L\",ASISTENCIA!#REF!<>\"J\",ASISTENCIA!#REF!<>\"V\",ASISTENCIA!#REF!<>\"F\",ASISTENCIA!#REF!<>\"\"),SUMIF($F$13:$J$13,W$13,$F25:$J25),\"\")","v":{"$error":"#REF!"}},{"$f":"IF(AND(LEN($D25)>0,SUMIF($F$13:$J$13,X$13,$F25:$J25)>0,ASISTENCIA!#REF!<>\"X\",ASISTENCIA!#REF!<>\"L\",ASISTENCIA!#REF!<>\"J\",ASISTENCIA!#REF!<>\"V\",ASISTENCIA!#REF!<>\"F\",ASISTENCIA!#REF!<>\"\"),SUMIF($F$13:$J$13,X$13,$F25:$J25),\"\")","v":{"$error":"#REF!"}},{"$f":"IF(AND(LEN($D25)>0,SUMIF($F$13:$J$13,Y$13,$F25:$J25)>0,ASISTENCIA!#REF!<>\"X\",ASISTENCIA!#REF!<>\"L\",ASISTENCIA!#REF!<>\"J\",ASISTENCIA!#REF!<>\"V\",ASISTENCIA!#REF!<>\"F\",ASISTENCIA!#REF!<>\"\"),SUMIF($F$13:$J$13,Y$13,$F25:$J25),\"\")","v":{"$error":"#REF!"}},{"$f":"IF(AND(LEN($D25)>0,SUMIF($F$13:$J$13,Z$13,$F25:$J25)>0,ASISTENCIA!#REF!<>\"X\",ASISTENCIA!#REF!<>\"L\",ASISTENCIA!#REF!<>\"J\",ASISTENCIA!#REF!<>\"V\",ASISTENCIA!#REF!<>\"F\",ASISTENCIA!#REF!<>\"\"),SUMIF($F$13:$J$13,Z$13,$F25:$J25),\"\")","v":{"$error":"#REF!"}},{"$f":"IF(AND(LEN($D25)>0,SUMIF($F$13:$J$13,AA$13,$F25:$J25)>0,ASISTENCIA!#REF!<>\"X\",ASISTENCIA!#REF!<>\"L\",ASISTENCIA!#REF!<>\"J\",ASISTENCIA!#REF!<>\"V\",ASISTENCIA!#REF!<>\"F\",ASISTENCIA!#REF!<>\"\"),SUMIF($F$13:$J$13,AA$13,$F25:$J25),\"\")","v":{"$error":"#REF!"}},{"$f":"IF(AND(LEN($D25)>0,SUMIF($F$13:$J$13,AB$13,$F25:$J25)>0,ASISTENCIA!#REF!<>\"X\",ASISTENCIA!#REF!<>\"L\",ASISTENCIA!#REF!<>\"J\",ASISTENCIA!#REF!<>\"V\",ASISTENCIA!#REF!<>\"F\",ASISTENCIA!#REF!<>\"\"),SUMIF($F$13:$J$13,AB$13,$F25:$J25),\"\")","v":{"$error":"#REF!"}},{"$f":"IF(AND(LEN($D25)>0,SUMIF($F$13:$J$13,AC$13,$F25:$J25)>0,ASISTENCIA!#REF!<>\"X\",ASISTENCIA!#REF!<>\"L\",ASISTENCIA!#REF!<>\"J\",ASISTENCIA!#REF!<>\"V\",ASISTENCIA!#REF!<>\"F\",ASISTENCIA!#REF!<>\"\"),SUMIF($F$13:$J$13,AC$13,$F25:$J25),\"\")","v":{"$error":"#REF!"}},{"$f":"IF(AND(LEN($D25)>0,SUMIF($F$13:$J$13,AD$13,$F25:$J25)>0,ASISTENCIA!#REF!<>\"X\",ASISTENCIA!#REF!<>\"L\",ASISTENCIA!#REF!<>\"J\",ASISTENCIA!#REF!<>\"V\",ASISTENCIA!#REF!<>\"F\",ASISTENCIA!#REF!<>\"\"),SUMIF($F$13:$J$13,AD$13,$F25:$J25),\"\")","v":{"$error":"#REF!"}},{"$f":"IF(AND(LEN($D25)>0,SUMIF($F$13:$J$13,AE$13,$F25:$J25)>0,ASISTENCIA!#REF!<>\"X\",ASISTENCIA!#REF!<>\"L\",ASISTENCIA!#REF!<>\"J\",ASISTENCIA!#REF!<>\"V\",ASISTENCIA!#REF!<>\"F\",ASISTENCIA!#REF!<>\"\"),SUMIF($F$13:$J$13,AE$13,$F25:$J25),\"\")","v":{"$error":"#REF!"}},{"$f":"IF(AND(LEN($D25)>0,SUMIF($F$13:$J$13,AF$13,$F25:$J25)>0,ASISTENCIA!#REF!<>\"X\",ASISTENCIA!#REF!<>\"L\",ASISTENCIA!#REF!<>\"J\",ASISTENCIA!#REF!<>\"V\",ASISTENCIA!#REF!<>\"F\",ASISTENCIA!#REF!<>\"\"),SUMIF($F$13:$J$13,AF$13,$F25:$J25),\"\")","v":{"$error":"#REF!"}},{"$f":"IF(AND(LEN($D25)>0,SUMIF($F$13:$J$13,AG$13,$F25:$J25)>0,ASISTENCIA!#REF!<>\"X\",ASISTENCIA!#REF!<>\"L\",ASISTENCIA!#REF!<>\"J\",ASISTENCIA!#REF!<>\"V\",ASISTENCIA!#REF!<>\"F\",ASISTENCIA!#REF!<>\"\"),SUMIF($F$13:$J$13,AG$13,$F25:$J25),\"\")","v":{"$error":"#REF!"}},{"$f":"IF(AND(LEN($D25)>0,SUMIF($F$13:$J$13,AH$13,$F25:$J25)>0,ASISTENCIA!#REF!<>\"X\",ASISTENCIA!#REF!<>\"L\",ASISTENCIA!#REF!<>\"J\",ASISTENCIA!#REF!<>\"V\",ASISTENCIA!#REF!<>\"F\",ASISTENCIA!#REF!<>\"\"),SUMIF($F$13:$J$13,AH$13,$F25:$J25),\"\")","v":{"$error":"#REF!"}},{"$f":"IF(AND(LEN($D25)>0,SUMIF($F$13:$J$13,AI$13,$F25:$J25)>0,ASISTENCIA!#REF!<>\"X\",ASISTENCIA!#REF!<>\"L\",ASISTENCIA!#REF!<>\"J\",ASISTENCIA!#REF!<>\"V\",ASISTENCIA!#REF!<>\"F\",ASISTENCIA!#REF!<>\"\"),SUMIF($F$13:$J$13,AI$13,$F25:$J25),\"\")","v":{"$error":"#REF!"}},{"$f":"IF(AND(LEN($D25)>0,SUMIF($F$13:$J$13,AJ$13,$F25:$J25)>0,ASISTENCIA!#REF!<>\"X\",ASISTENCIA!#REF!<>\"L\",ASISTENCIA!#REF!<>\"J\",ASISTENCIA!#REF!<>\"V\",ASISTENCIA!#REF!<>\"F\",ASISTENCIA!#REF!<>\"\"),SUMIF($F$13:$J$13,AJ$13,$F25:$J25),\"\")","v":{"$error":"#REF!"}},{"$f":"IF(AND(LEN($D25)>0,SUMIF($F$13:$J$13,AK$13,$F25:$J25)>0,ASISTENCIA!#REF!<>\"X\",ASISTENCIA!#REF!<>\"L\",ASISTENCIA!#REF!<>\"J\",ASISTENCIA!#REF!<>\"V\",ASISTENCIA!#REF!<>\"F\",ASISTENCIA!#REF!<>\"\"),SUMIF($F$13:$J$13,AK$13,$F25:$J25),\"\")","v":{"$error":"#REF!"}},{"$f":"IF(AND(LEN($D25)>0,SUMIF($F$13:$J$13,AL$13,$F25:$J25)>0,ASISTENCIA!#REF!<>\"X\",ASISTENCIA!#REF!<>\"L\",ASISTENCIA!#REF!<>\"J\",ASISTENCIA!#REF!<>\"V\",ASISTENCIA!#REF!<>\"F\",ASISTENCIA!#REF!<>\"\"),SUMIF($F$13:$J$13,AL$13,$F25:$J25),\"\")","v":{"$error":"#REF!"}},{"$f":"IF(AND(LEN($D25)>0,SUMIF($F$13:$J$13,AM$13,$F25:$J25)>0,ASISTENCIA!#REF!<>\"X\",ASISTENCIA!#REF!<>\"L\",ASISTENCIA!#REF!<>\"J\",ASISTENCIA!#REF!<>\"V\",ASISTENCIA!#REF!<>\"F\",ASISTENCIA!#REF!<>\"\"),SUMIF($F$13:$J$13,AM$13,$F25:$J25),\"\")","v":{"$error":"#REF!"}},{"$f":"IF(AND(LEN($D25)>0,SUMIF($F$13:$J$13,AN$13,$F25:$J25)>0,ASISTENCIA!#REF!<>\"X\",ASISTENCIA!#REF!<>\"L\",ASISTENCIA!#REF!<>\"J\",ASISTENCIA!#REF!<>\"V\",ASISTENCIA!#REF!<>\"F\",ASISTENCIA!#REF!<>\"\"),SUMIF($F$13:$J$13,AN$13,$F25:$J25),\"\")","v":{"$error":"#REF!"}},{"$f":"IF(AND(LEN($D25)>0,SUMIF($F$13:$J$13,AO$13,$F25:$J25)>0,ASISTENCIA!#REF!<>\"X\",ASISTENCIA!#REF!<>\"L\",ASISTENCIA!#REF!<>\"J\",ASISTENCIA!#REF!<>\"V\",ASISTENCIA!#REF!<>\"F\",ASISTENCIA!#REF!<>\"\"),SUMIF($F$13:$J$13,AO$13,$F25:$J25),\"\")","v":{"$error":"#REF!"}},{"$f":"IF(AND(LEN($D25)>0,SUMIF($F$13:$J$13,AP$13,$F25:$J25)>0,ASISTENCIA!#REF!<>\"X\",ASISTENCIA!#REF!<>\"L\",ASISTENCIA!#REF!<>\"J\",ASISTENCIA!#REF!<>\"V\",ASISTENCIA!#REF!<>\"F\",ASISTENCIA!#REF!<>\"\"),SUMIF($F$13:$J$13,AP$13,$F25:$J25),\"\")","v":{"$error":"#REF!"}},{"$f":"IF(AND(LEN($D25)>0,SUMIF($F$13:$J$13,AQ$13,$F25:$J25)>0,ASISTENCIA!#REF!<>\"X\",ASISTENCIA!#REF!<>\"L\",ASISTENCIA!#REF!<>\"J\",ASISTENCIA!#REF!<>\"V\",ASISTENCIA!#REF!<>\"F\",ASISTENCIA!#REF!<>\"\"),SUMIF($F$13:$J$13,AQ$13,$F25:$J25),\"\")","v":{"$error":"#REF!"}},{"$f":"IF(AND(LEN($D25)>0,SUMIF($F$13:$J$13,AR$13,$F25:$J25)>0,ASISTENCIA!#REF!<>\"X\",ASISTENCIA!#REF!<>\"L\",ASISTENCIA!#REF!<>\"J\",ASISTENCIA!#REF!<>\"V\",ASISTENCIA!#REF!<>\"F\",ASISTENCIA!#REF!<>\"\"),SUMIF($F$13:$J$13,AR$13,$F25:$J25),\"\")","v":{"$error":"#REF!"}},{"$f":"IF(AND(LEN($D25)>0,SUMIF($F$13:$J$13,AS$13,$F25:$J25)>0,ASISTENCIA!#REF!<>\"X\",ASISTENCIA!#REF!<>\"L\",ASISTENCIA!#REF!<>\"J\",ASISTENCIA!#REF!<>\"V\",ASISTENCIA!#REF!<>\"F\",ASISTENCIA!#REF!<>\"\"),SUMIF($F$13:$J$13,AS$13,$F25:$J25),\"\")","v":{"$error":"#REF!"}},{"$error":"#REF!"},null,null,null,{"$f":"IF(AND(LEN($D25)>0,SUMIF($F$13:$J$13,AX$13,$F25:$J25)>0,ASISTENCIA!#REF!<>\"X\",ASISTENCIA!#REF!<>\"L\",ASISTENCIA!#REF!<>\"J\",ASISTENCIA!#REF!<>\"F\"),SUMIF($F$13:$J$13,AX$13,$F25:$J25),\"\")","v":{"$error":"#REF!"}},{"$f":"IF(AND(LEN($D25)>0,SUMIF($F$13:$J$13,AY$13,$F25:$J25)>0,ASISTENCIA!#REF!<>\"X\",ASISTENCIA!#REF!<>\"L\",ASISTENCIA!#REF!<>\"J\",ASISTENCIA!#REF!<>\"F\"),SUMIF($F$13:$J$13,AY$13,$F25:$J25),\"\")","v":{"$error":"#REF!"}},{"$f":"IF(AND(LEN($D25)>0,SUMIF($F$13:$J$13,AZ$13,$F25:$J25)>0,ASISTENCIA!#REF!<>\"X\",ASISTENCIA!#REF!<>\"L\",ASISTENCIA!#REF!<>\"J\",ASISTENCIA!#REF!<>\"F\"),SUMIF($F$13:$J$13,AZ$13,$F25:$J25),\"\")","v":{"$error":"#REF!"}},{"$f":"IF(AND(LEN($D25)>0,SUMIF($F$13:$J$13,BA$13,$F25:$J25)>0,ASISTENCIA!#REF!<>\"X\",ASISTENCIA!#REF!<>\"L\",ASISTENCIA!#REF!<>\"J\",ASISTENCIA!#REF!<>\"F\"),SUMIF($F$13:$J$13,BA$13,$F25:$J25),\"\")","v":{"$error":"#REF!"}},{"$f":"IF(AND(LEN($D25)>0,SUMIF($F$13:$J$13,BB$13,$F25:$J25)>0,ASISTENCIA!#REF!<>\"X\",ASISTENCIA!#REF!<>\"L\",ASISTENCIA!#REF!<>\"J\",ASISTENCIA!#REF!<>\"F\"),SUMIF($F$13:$J$13,BB$13,$F25:$J25),\"\")","v":{"$error":"#REF!"}},{"$f":"IF(AND(LEN($D25)>0,SUMIF($F$13:$J$13,BC$13,$F25:$J25)>0,ASISTENCIA!#REF!<>\"X\",ASISTENCIA!#REF!<>\"L\",ASISTENCIA!#REF!<>\"J\",ASISTENCIA!#REF!<>\"F\"),SUMIF($F$13:$J$13,BC$13,$F25:$J25),\"\")","v":{"$error":"#REF!"}},{"$f":"IF(AND(LEN($D25)>0,SUMIF($F$13:$J$13,BD$13,$F25:$J25)>0,ASISTENCIA!#REF!<>\"X\",ASISTENCIA!#REF!<>\"L\",ASISTENCIA!#REF!<>\"J\",ASISTENCIA!#REF!<>\"F\"),SUMIF($F$13:$J$13,BD$13,$F25:$J25),\"\")","v":{"$error":"#REF!"}},{"$f":"IF(AND(LEN($D25)>0,SUMIF($F$13:$J$13,BE$13,$F25:$J25)>0,ASISTENCIA!#REF!<>\"X\",ASISTENCIA!#REF!<>\"L\",ASISTENCIA!#REF!<>\"J\",ASISTENCIA!#REF!<>\"F\"),SUMIF($F$13:$J$13,BE$13,$F25:$J25),\"\")","v":{"$error":"#REF!"}},{"$f":"IF(AND(LEN($D25)>0,SUMIF($F$13:$J$13,BF$13,$F25:$J25)>0,ASISTENCIA!#REF!<>\"X\",ASISTENCIA!#REF!<>\"L\",ASISTENCIA!#REF!<>\"J\",ASISTENCIA!#REF!<>\"F\"),SUMIF($F$13:$J$13,BF$13,$F25:$J25),\"\")","v":{"$error":"#REF!"}},{"$f":"IF(AND(LEN($D25)>0,SUMIF($F$13:$J$13,BG$13,$F25:$J25)>0,ASISTENCIA!#REF!<>\"X\",ASISTENCIA!#REF!<>\"L\",ASISTENCIA!#REF!<>\"J\",ASISTENCIA!#REF!<>\"F\"),SUMIF($F$13:$J$13,BG$13,$F25:$J25),\"\")","v":{"$error":"#REF!"}},{"$f":"IF(AND(LEN($D25)>0,SUMIF($F$13:$J$13,BH$13,$F25:$J25)>0,ASISTENCIA!#REF!<>\"X\",ASISTENCIA!#REF!<>\"L\",ASISTENCIA!#REF!<>\"J\",ASISTENCIA!#REF!<>\"F\"),SUMIF($F$13:$J$13,BH$13,$F25:$J25),\"\")","v":{"$error":"#REF!"}},{"$f":"IF(AND(LEN($D25)>0,SUMIF($F$13:$J$13,BI$13,$F25:$J25)>0,ASISTENCIA!#REF!<>\"X\",ASISTENCIA!#REF!<>\"L\",ASISTENCIA!#REF!<>\"J\",ASISTENCIA!#REF!<>\"F\"),SUMIF($F$13:$J$13,BI$13,$F25:$J25),\"\")","v":{"$error":"#REF!"}},{"$f":"IF(AND(LEN($D25)>0,SUMIF($F$13:$J$13,BJ$13,$F25:$J25)>0,ASISTENCIA!#REF!<>\"X\",ASISTENCIA!#REF!<>\"L\",ASISTENCIA!#REF!<>\"J\",ASISTENCIA!#REF!<>\"F\"),SUMIF($F$13:$J$13,BJ$13,$F25:$J25),\"\")","v":{"$error":"#REF!"}},{"$f":"IF(AND(LEN($D25)>0,SUMIF($F$13:$J$13,BK$13,$F25:$J25)>0,ASISTENCIA!#REF!<>\"X\",ASISTENCIA!#REF!<>\"L\",ASISTENCIA!#REF!<>\"J\",ASISTENCIA!#REF!<>\"F\"),SUMIF($F$13:$J$13,BK$13,$F25:$J25),\"\")","v":{"$error":"#REF!"}},{"$f":"IF(AND(LEN($D25)>0,SUMIF($F$13:$J$13,BL$13,$F25:$J25)>0,ASISTENCIA!#REF!<>\"X\",ASISTENCIA!#REF!<>\"L\",ASISTENCIA!#REF!<>\"J\",ASISTENCIA!#REF!<>\"F\"),SUMIF($F$13:$J$13,BL$13,$F25:$J25),\"\")","v":{"$error":"#REF!"}},{"$f":"IF(AND(LEN($D25)>0,SUMIF($F$13:$J$13,BM$13,$F25:$J25)>0,ASISTENCIA!#REF!<>\"X\",ASISTENCIA!#REF!<>\"L\",ASISTENCIA!#REF!<>\"J\",ASISTENCIA!#REF!<>\"F\"),SUMIF($F$13:$J$13,BM$13,$F25:$J25),\"\")","v":{"$error":"#REF!"}},{"$f":"IF(AND(LEN($D25)>0,SUMIF($F$13:$J$13,BN$13,$F25:$J25)>0,ASISTENCIA!#REF!<>\"X\",ASISTENCIA!#REF!<>\"L\",ASISTENCIA!#REF!<>\"J\",ASISTENCIA!#REF!<>\"F\"),SUMIF($F$13:$J$13,BN$13,$F25:$J25),\"\")","v":{"$error":"#REF!"}},{"$f":"IF(AND(LEN($D25)>0,SUMIF($F$13:$J$13,BO$13,$F25:$J25)>0,ASISTENCIA!#REF!<>\"X\",ASISTENCIA!#REF!<>\"L\",ASISTENCIA!#REF!<>\"J\",ASISTENCIA!#REF!<>\"F\"),SUMIF($F$13:$J$13,BO$13,$F25:$J25),\"\")","v":{"$error":"#REF!"}},{"$f":"IF(AND(LEN($D25)>0,SUMIF($F$13:$J$13,BP$13,$F25:$J25)>0,ASISTENCIA!#REF!<>\"X\",ASISTENCIA!#REF!<>\"L\",ASISTENCIA!#REF!<>\"J\",ASISTENCIA!#REF!<>\"F\"),SUMIF($F$13:$J$13,BP$13,$F25:$J25),\"\")","v":{"$error":"#REF!"}},{"$f":"IF(AND(LEN($D25)>0,SUMIF($F$13:$J$13,BQ$13,$F25:$J25)>0,ASISTENCIA!#REF!<>\"X\",ASISTENCIA!#REF!<>\"L\",ASISTENCIA!#REF!<>\"J\",ASISTENCIA!#REF!<>\"F\"),SUMIF($F$13:$J$13,BQ$13,$F25:$J25),\"\")","v":{"$error":"#REF!"}},{"$f":"IF(AND(LEN($D25)>0,SUMIF($F$13:$J$13,BR$13,$F25:$J25)>0,ASISTENCIA!#REF!<>\"X\",ASISTENCIA!#REF!<>\"L\",ASISTENCIA!#REF!<>\"J\",ASISTENCIA!#REF!<>\"F\"),SUMIF($F$13:$J$13,BR$13,$F25:$J25),\"\")","v":{"$error":"#REF!"}},{"$f":"IF(AND(LEN($D25)>0,SUMIF($F$13:$J$13,BS$13,$F25:$J25)>0,ASISTENCIA!#REF!<>\"X\",ASISTENCIA!#REF!<>\"L\",ASISTENCIA!#REF!<>\"J\",ASISTENCIA!#REF!<>\"F\"),SUMIF($F$13:$J$13,BS$13,$F25:$J25),\"\")","v":{"$error":"#REF!"}},{"$f":"IF(AND(LEN($D25)>0,SUMIF($F$13:$J$13,BT$13,$F25:$J25)>0,ASISTENCIA!#REF!<>\"X\",ASISTENCIA!#REF!<>\"L\",ASISTENCIA!#REF!<>\"J\",ASISTENCIA!#REF!<>\"F\"),SUMIF($F$13:$J$13,BT$13,$F25:$J25),\"\")","v":{"$error":"#REF!"}},{"$f":"IF(AND(LEN($D25)>0,SUMIF($F$13:$J$13,BU$13,$F25:$J25)>0,ASISTENCIA!#REF!<>\"X\",ASISTENCIA!#REF!<>\"L\",ASISTENCIA!#REF!<>\"J\",ASISTENCIA!#REF!<>\"F\"),SUMIF($F$13:$J$13,BU$13,$F25:$J25),\"\")","v":{"$error":"#REF!"}},{"$f":"IF(AND(LEN($D25)>0,SUMIF($F$13:$J$13,BV$13,$F25:$J25)>0,ASISTENCIA!#REF!<>\"X\",ASISTENCIA!#REF!<>\"L\",ASISTENCIA!#REF!<>\"J\",ASISTENCIA!#REF!<>\"F\"),SUMIF($F$13:$J$13,BV$13,$F25:$J25),\"\")","v":{"$error":"#REF!"}},{"$f":"IF(AND(LEN($D25)>0,SUMIF($F$13:$J$13,BW$13,$F25:$J25)>0,ASISTENCIA!#REF!<>\"X\",ASISTENCIA!#REF!<>\"L\",ASISTENCIA!#REF!<>\"J\",ASISTENCIA!#REF!<>\"F\"),SUMIF($F$13:$J$13,BW$13,$F25:$J25),\"\")","v":{"$error":"#REF!"}},{"$f":"IF(AND(LEN($D25)>0,SUMIF($F$13:$J$13,BX$13,$F25:$J25)>0,ASISTENCIA!#REF!<>\"X\",ASISTENCIA!#REF!<>\"L\",ASISTENCIA!#REF!<>\"J\",ASISTENCIA!#REF!<>\"F\"),SUMIF($F$13:$J$13,BX$13,$F25:$J25),\"\")","v":{"$error":"#REF!"}},{"$f":"IF(AND(LEN($D25)>0,SUMIF($F$13:$J$13,BY$13,$F25:$J25)>0,ASISTENCIA!#REF!<>\"X\",ASISTENCIA!#REF!<>\"L\",ASISTENCIA!#REF!<>\"J\",ASISTENCIA!#REF!<>\"F\"),SUMIF($F$13:$J$13,BY$13,$F25:$J25),\"\")","v":{"$error":"#REF!"}},{"$f":"IF(AND(LEN($D25)>0,SUMIF($F$13:$J$13,BZ$13,$F25:$J25)>0,ASISTENCIA!#REF!<>\"X\",ASISTENCIA!#REF!<>\"L\",ASISTENCIA!#REF!<>\"J\",ASISTENCIA!#REF!<>\"F\"),SUMIF($F$13:$J$13,BZ$13,$F25:$J25),\"\")","v":{"$error":"#REF!"}},{"$f":"IF(AND(LEN($D25)>0,SUMIF($F$13:$J$13,CA$13,$F25:$J25)>0,ASISTENCIA!#REF!<>\"X\",ASISTENCIA!#REF!<>\"L\",ASISTENCIA!#REF!<>\"J\",ASISTENCIA!#REF!<>\"F\"),SUMIF($F$13:$J$13,CA$13,$F25:$J25),\"\")","v":{"$error":"#REF!"}},{"$f":"IF(AND(LEN($D25)>0,SUMIF($F$13:$J$13,CB$13,$F25:$J25)>0,ASISTENCIA!#REF!<>\"X\",ASISTENCIA!#REF!<>\"L\",ASISTENCIA!#REF!<>\"J\",ASISTENCIA!#REF!<>\"F\"),SUMIF($F$13:$J$13,CB$13,$F25:$J25),\"\")","v":{"$error":"#REF!"}},{"$error":"#REF!"}]
[{"$error":"#REF!"},{"$f":"IF(LEN(C26)>0,VLOOKUP($O$4,DATA!$A$1:$S$1,2,FALSE),\"\")","v":{"$error":"#REF!"}},{"$error":"#REF!"},{"$f":"IF(LEN(ASISTENCIA!#REF!)>0,ASISTENCIA!#REF!,\"\")","v":{"$error":"#REF!"}},{"$f":"IF(LEN(D26)>0,ASISTENCIA!#REF!,\"\")","v":{"$error":"#REF!"}},null,null,null,null,null,"",null,null,{"$error":"#REF!"},{"$f":"IF(AND(LEN($D26)>0,SUMIF($F$13:$J$13,O$13,$F26:$J26)>0,ASISTENCIA!#REF!<>\"X\",ASISTENCIA!#REF!<>\"L\",ASISTENCIA!#REF!<>\"J\",ASISTENCIA!#REF!<>\"V\",ASISTENCIA!#REF!<>\"F\",ASISTENCIA!#REF!<>\"\"),SUMIF($F$13:$J$13,O$13,$F26:$J26),\"\")","v":{"$error":"#REF!"}},{"$f":"IF(AND(LEN($D26)>0,SUMIF($F$13:$J$13,P$13,$F26:$J26)>0,ASISTENCIA!#REF!<>\"X\",ASISTENCIA!#REF!<>\"L\",ASISTENCIA!#REF!<>\"J\",ASISTENCIA!#REF!<>\"V\",ASISTENCIA!#REF!<>\"F\",ASISTENCIA!#REF!<>\"\"),SUMIF($F$13:$J$13,P$13,$F26:$J26),\"\")","v":{"$error":"#REF!"}},{"$f":"IF(AND(LEN($D26)>0,SUMIF($F$13:$J$13,Q$13,$F26:$J26)>0,ASISTENCIA!#REF!<>\"X\",ASISTENCIA!#REF!<>\"L\",ASISTENCIA!#REF!<>\"J\",ASISTENCIA!#REF!<>\"V\",ASISTENCIA!#REF!<>\"F\",ASISTENCIA!#REF!<>\"\"),SUMIF($F$13:$J$13,Q$13,$F26:$J26),\"\")","v":{"$error":"#REF!"}},{"$f":"IF(AND(LEN($D26)>0,SUMIF($F$13:$J$13,R$13,$F26:$J26)>0,ASISTENCIA!#REF!<>\"X\",ASISTENCIA!#REF!<>\"L\",ASISTENCIA!#REF!<>\"J\",ASISTENCIA!#REF!<>\"V\",ASISTENCIA!#REF!<>\"F\",ASISTENCIA!#REF!<>\"\"),SUMIF($F$13:$J$13,R$13,$F26:$J26),\"\")","v":{"$error":"#REF!"}},{"$f":"IF(AND(LEN($D26)>0,SUMIF($F$13:$J$13,S$13,$F26:$J26)>0,ASISTENCIA!#REF!<>\"X\",ASISTENCIA!#REF!<>\"L\",ASISTENCIA!#REF!<>\"J\",ASISTENCIA!#REF!<>\"V\",ASISTENCIA!#REF!<>\"F\",ASISTENCIA!#REF!<>\"\"),SUMIF($F$13:$J$13,S$13,$F26:$J26),\"\")","v":{"$error":"#REF!"}},{"$f":"IF(AND(LEN($D26)>0,SUMIF($F$13:$J$13,T$13,$F26:$J26)>0,ASISTENCIA!#REF!<>\"X\",ASISTENCIA!#REF!<>\"L\",ASISTENCIA!#REF!<>\"J\",ASISTENCIA!#REF!<>\"V\",ASISTENCIA!#REF!<>\"F\",ASISTENCIA!#REF!<>\"\"),SUMIF($F$13:$J$13,T$13,$F26:$J26),\"\")","v":{"$error":"#REF!"}},{"$f":"IF(AND(LEN($D26)>0,SUMIF($F$13:$J$13,U$13,$F26:$J26)>0,ASISTENCIA!#REF!<>\"X\",ASISTENCIA!#REF!<>\"L\",ASISTENCIA!#REF!<>\"J\",ASISTENCIA!#REF!<>\"V\",ASISTENCIA!#REF!<>\"F\",ASISTENCIA!#REF!<>\"\"),SUMIF($F$13:$J$13,U$13,$F26:$J26),\"\")","v":{"$error":"#REF!"}},{"$f":"IF(AND(LEN($D26)>0,SUMIF($F$13:$J$13,V$13,$F26:$J26)>0,ASISTENCIA!#REF!<>\"X\",ASISTENCIA!#REF!<>\"L\",ASISTENCIA!#REF!<>\"J\",ASISTENCIA!#REF!<>\"V\",ASISTENCIA!#REF!<>\"F\",ASISTENCIA!#REF!<>\"\"),SUMIF($F$13:$J$13,V$13,$F26:$J26),\"\")","v":{"$error":"#REF!"}},{"$f":"IF(AND(LEN($D26)>0,SUMIF($F$13:$J$13,W$13,$F26:$J26)>0,ASISTENCIA!#REF!<>\"X\",ASISTENCIA!#REF!<>\"L\",ASISTENCIA!#REF!<>\"J\",ASISTENCIA!#REF!<>\"V\",ASISTENCIA!#REF!<>\"F\",ASISTENCIA!#REF!<>\"\"),SUMIF($F$13:$J$13,W$13,$F26:$J26),\"\")","v":{"$error":"#REF!"}},{"$f":"IF(AND(LEN($D26)>0,SUMIF($F$13:$J$13,X$13,$F26:$J26)>0,ASISTENCIA!#REF!<>\"X\",ASISTENCIA!#REF!<>\"L\",ASISTENCIA!#REF!<>\"J\",ASISTENCIA!#REF!<>\"V\",ASISTENCIA!#REF!<>\"F\",ASISTENCIA!#REF!<>\"\"),SUMIF($F$13:$J$13,X$13,$F26:$J26),\"\")","v":{"$error":"#REF!"}},{"$f":"IF(AND(LEN($D26)>0,SUMIF($F$13:$J$13,Y$13,$F26:$J26)>0,ASISTENCIA!#REF!<>\"X\",ASISTENCIA!#REF!<>\"L\",ASISTENCIA!#REF!<>\"J\",ASISTENCIA!#REF!<>\"V\",ASISTENCIA!#REF!<>\"F\",ASISTENCIA!#REF!<>\"\"),SUMIF($F$13:$J$13,Y$13,$F26:$J26),\"\")","v":{"$error":"#REF!"}},{"$f":"IF(AND(LEN($D26)>0,SUMIF($F$13:$J$13,Z$13,$F26:$J26)>0,ASISTENCIA!#REF!<>\"X\",ASISTENCIA!#REF!<>\"L\",ASISTENCIA!#REF!<>\"J\",ASISTENCIA!#REF!<>\"V\",ASISTENCIA!#REF!<>\"F\",ASISTENCIA!#REF!<>\"\"),SUMIF($F$13:$J$13,Z$13,$F26:$J26),\"\")","v":{"$error":"#REF!"}},{"$f":"IF(AND(LEN($D26)>0,SUMIF($F$13:$J$13,AA$13,$F26:$J26)>0,ASISTENCIA!#REF!<>\"X\",ASISTENCIA!#REF!<>\"L\",ASISTENCIA!#REF!<>\"J\",ASISTENCIA!#REF!<>\"V\",ASISTENCIA!#REF!<>\"F\",ASISTENCIA!#REF!<>\"\"),SUMIF($F$13:$J$13,AA$13,$F26:$J26),\"\")","v":{"$error":"#REF!"}},{"$f":"IF(AND(LEN($D26)>0,SUMIF($F$13:$J$13,AB$13,$F26:$J26)>0,ASISTENCIA!#REF!<>\"X\",ASISTENCIA!#REF!<>\"L\",ASISTENCIA!#REF!<>\"J\",ASISTENCIA!#REF!<>\"V\",ASISTENCIA!#REF!<>\"F\",ASISTENCIA!#REF!<>\"\"),SUMIF($F$13:$J$13,AB$13,$F26:$J26),\"\")","v":{"$error":"#REF!"}},{"$f":"IF(AND(LEN($D26)>0,SUMIF($F$13:$J$13,AC$13,$F26:$J26)>0,ASISTENCIA!#REF!<>\"X\",ASISTENCIA!#REF!<>\"L\",ASISTENCIA!#REF!<>\"J\",ASISTENCIA!#REF!<>\"V\",ASISTENCIA!#REF!<>\"F\",ASISTENCIA!#REF!<>\"\"),SUMIF($F$13:$J$13,AC$13,$F26:$J26),\"\")","v":{"$error":"#REF!"}},{"$f":"IF(AND(LEN($D26)>0,SUMIF($F$13:$J$13,AD$13,$F26:$J26)>0,ASISTENCIA!#REF!<>\"X\",ASISTENCIA!#REF!<>\"L\",ASISTENCIA!#REF!<>\"J\",ASISTENCIA!#REF!<>\"V\",ASISTENCIA!#REF!<>\"F\",ASISTENCIA!#REF!<>\"\"),SUMIF($F$13:$J$13,AD$13,$F26:$J26),\"\")","v":{"$error":"#REF!"}},{"$f":"IF(AND(LEN($D26)>0,SUMIF($F$13:$J$13,AE$13,$F26:$J26)>0,ASISTENCIA!#REF!<>\"X\",ASISTENCIA!#REF!<>\"L\",ASISTENCIA!#REF!<>\"J\",ASISTENCIA!#REF!<>\"V\",ASISTENCIA!#REF!<>\"F\",ASISTENCIA!#REF!<>\"\"),SUMIF($F$13:$J$13,AE$13,$F26:$J26),\"\")","v":{"$error":"#REF!"}},{"$f":"IF(AND(LEN($D26)>0,SUMIF($F$13:$J$13,AF$13,$F26:$J26)>0,ASISTENCIA!#REF!<>\"X\",ASISTENCIA!#REF!<>\"L\",ASISTENCIA!#REF!<>\"J\",ASISTENCIA!#REF!<>\"V\",ASISTENCIA!#REF!<>\"F\",ASISTENCIA!#REF!<>\"\"),SUMIF($F$13:$J$13,AF$13,$F26:$J26),\"\")","v":{"$error":"#REF!"}},{"$f":"IF(AND(LEN($D26)>0,SUMIF($F$13:$J$13,AG$13,$F26:$J26)>0,ASISTENCIA!#REF!<>\"X\",ASISTENCIA!#REF!<>\"L\",ASISTENCIA!#REF!<>\"J\",ASISTENCIA!#REF!<>\"V\",ASISTENCIA!#REF!<>\"F\",ASISTENCIA!#REF!<>\"\"),SUMIF($F$13:$J$13,AG$13,$F26:$J26),\"\")","v":{"$error":"#REF!"}},{"$f":"IF(AND(LEN($D26)>0,SUMIF($F$13:$J$13,AH$13,$F26:$J26)>0,ASISTENCIA!#REF!<>\"X\",ASISTENCIA!#REF!<>\"L\",ASISTENCIA!#REF!<>\"J\",ASISTENCIA!#REF!<>\"V\",ASISTENCIA!#REF!<>\"F\",ASISTENCIA!#REF!<>\"\"),SUMIF($F$13:$J$13,AH$13,$F26:$J26),\"\")","v":{"$error":"#REF!"}},{"$f":"IF(AND(LEN($D26)>0,SUMIF($F$13:$J$13,AI$13,$F26:$J26)>0,ASISTENCIA!#REF!<>\"X\",ASISTENCIA!#REF!<>\"L\",ASISTENCIA!#REF!<>\"J\",ASISTENCIA!#REF!<>\"V\",ASISTENCIA!#REF!<>\"F\",ASISTENCIA!#REF!<>\"\"),SUMIF($F$13:$J$13,AI$13,$F26:$J26),\"\")","v":{"$error":"#REF!"}},{"$f":"IF(AND(LEN($D26)>0,SUMIF($F$13:$J$13,AJ$13,$F26:$J26)>0,ASISTENCIA!#REF!<>\"X\",ASISTENCIA!#REF!<>\"L\",ASISTENCIA!#REF!<>\"J\",ASISTENCIA!#REF!<>\"V\",ASISTENCIA!#REF!<>\"F\",ASISTENCIA!#REF!<>\"\"),SUMIF($F$13:$J$13,AJ$13,$F26:$J26),\"\")","v":{"$error":"#REF!"}},{"$f":"IF(AND(LEN($D26)>0,SUMIF($F$13:$J$13,AK$13,$F26:$J26)>0,ASISTENCIA!#REF!<>\"X\",ASISTENCIA!#REF!<>\"L\",ASISTENCIA!#REF!<>\"J\",ASISTENCIA!#REF!<>\"V\",ASISTENCIA!#REF!<>\"F\",ASISTENCIA!#REF!<>\"\"),SUMIF($F$13:$J$13,AK$13,$F26:$J26),\"\")","v":{"$error":"#REF!"}},{"$f":"IF(AND(LEN($D26)>0,SUMIF($F$13:$J$13,AL$13,$F26:$J26)>0,ASISTENCIA!#REF!<>\"X\",ASISTENCIA!#REF!<>\"L\",ASISTENCIA!#REF!<>\"J\",ASISTENCIA!#REF!<>\"V\",ASISTENCIA!#REF!<>\"F\",ASISTENCIA!#REF!<>\"\"),SUMIF($F$13:$J$13,AL$13,$F26:$J26),\"\")","v":{"$error":"#REF!"}},{"$f":"IF(AND(LEN($D26)>0,SUMIF($F$13:$J$13,AM$13,$F26:$J26)>0,ASISTENCIA!#REF!<>\"X\",ASISTENCIA!#REF!<>\"L\",ASISTENCIA!#REF!<>\"J\",ASISTENCIA!#REF!<>\"V\",ASISTENCIA!#REF!<>\"F\",ASISTENCIA!#REF!<>\"\"),SUMIF($F$13:$J$13,AM$13,$F26:$J26),\"\")","v":{"$error":"#REF!"}},{"$f":"IF(AND(LEN($D26)>0,SUMIF($F$13:$J$13,AN$13,$F26:$J26)>0,ASISTENCIA!#REF!<>\"X\",ASISTENCIA!#REF!<>\"L\",ASISTENCIA!#REF!<>\"J\",ASISTENCIA!#REF!<>\"V\",ASISTENCIA!#REF!<>\"F\",ASISTENCIA!#REF!<>\"\"),SUMIF($F$13:$J$13,AN$13,$F26:$J26),\"\")","v":{"$error":"#REF!"}},{"$f":"IF(AND(LEN($D26)>0,SUMIF($F$13:$J$13,AO$13,$F26:$J26)>0,ASISTENCIA!#REF!<>\"X\",ASISTENCIA!#REF!<>\"L\",ASISTENCIA!#REF!<>\"J\",ASISTENCIA!#REF!<>\"V\",ASISTENCIA!#REF!<>\"F\",ASISTENCIA!#REF!<>\"\"),SUMIF($F$13:$J$13,AO$13,$F26:$J26),\"\")","v":{"$error":"#REF!"}},{"$f":"IF(AND(LEN($D26)>0,SUMIF($F$13:$J$13,AP$13,$F26:$J26)>0,ASISTENCIA!#REF!<>\"X\",ASISTENCIA!#REF!<>\"L\",ASISTENCIA!#REF!<>\"J\",ASISTENCIA!#REF!<>\"V\",ASISTENCIA!#REF!<>\"F\",ASISTENCIA!#REF!<>\"\"),SUMIF($F$13:$J$13,AP$13,$F26:$J26),\"\")","v":{"$error":"#REF!"}},{"$f":"IF(AND(LEN($D26)>0,SUMIF($F$13:$J$13,AQ$13,$F26:$J26)>0,ASISTENCIA!#REF!<>\"X\",ASISTENCIA!#REF!<>\"L\",ASISTENCIA!#REF!<>\"J\",ASISTENCIA!#REF!<>\"V\",ASISTENCIA!#REF!<>\"F\",ASISTENCIA!#REF!<>\"\"),SUMIF($F$13:$J$13,AQ$13,$F26:$J26),\"\")","v":{"$error":"#REF!"}},{"$f":"IF(AND(LEN($D26)>0,SUMIF($F$13:$J$13,AR$13,$F26:$J26)>0,ASISTENCIA!#REF!<>\"X\",ASISTENCIA!#REF!<>\"L\",ASISTENCIA!#REF!<>\"J\",ASISTENCIA!#REF!<>\"V\",ASISTENCIA!#REF!<>\"F\",ASISTENCIA!#REF!<>\"\"),SUMIF($F$13:$J$13,AR$13,$F26:$J26),\"\")","v":{"$error":"#REF!"}},{"$f":"IF(AND(LEN($D26)>0,SUMIF($F$13:$J$13,AS$13,$F26:$J26)>0,ASISTENCIA!#REF!<>\"X\",ASISTENCIA!#REF!<>\"L\",ASISTENCIA!#REF!<>\"J\",ASISTENCIA!#REF!<>\"V\",ASISTENCIA!#REF!<>\"F\",ASISTENCIA!#REF!<>\"\"),SUMIF($F$13:$J$13,AS$13,$F26:$J26),\"\")","v":{"$error":"#REF!"}},{"$error":"#REF!"},null,null,null,{"$f":"IF(AND(LEN($D26)>0,SUMIF($F$13:$J$13,AX$13,$F26:$J26)>0,ASISTENCIA!#REF!<>\"X\",ASISTENCIA!#REF!<>\"L\",ASISTENCIA!#REF!<>\"J\",ASISTENCIA!#REF!<>\"F\"),SUMIF($F$13:$J$13,AX$13,$F26:$J26),\"\")","v":{"$error":"#REF!"}},{"$f":"IF(AND(LEN($D26)>0,SUMIF($F$13:$J$13,AY$13,$F26:$J26)>0,ASISTENCIA!#REF!<>\"X\",ASISTENCIA!#REF!<>\"L\",ASISTENCIA!#REF!<>\"J\",ASISTENCIA!#REF!<>\"F\"),SUMIF($F$13:$J$13,AY$13,$F26:$J26),\"\")","v":{"$error":"#REF!"}},{"$f":"IF(AND(LEN($D26)>0,SUMIF($F$13:$J$13,AZ$13,$F26:$J26)>0,ASISTENCIA!#REF!<>\"X\",ASISTENCIA!#REF!<>\"L\",ASISTENCIA!#REF!<>\"J\",ASISTENCIA!#REF!<>\"F\"),SUMIF($F$13:$J$13,AZ$13,$F26:$J26),\"\")","v":{"$error":"#REF!"}},{"$f":"IF(AND(LEN($D26)>0,SUMIF($F$13:$J$13,BA$13,$F26:$J26)>0,ASISTENCIA!#REF!<>\"X\",ASISTENCIA!#REF!<>\"L\",ASISTENCIA!#REF!<>\"J\",ASISTENCIA!#REF!<>\"F\"),SUMIF($F$13:$J$13,BA$13,$F26:$J26),\"\")","v":{"$error":"#REF!"}},{"$f":"IF(AND(LEN($D26)>0,SUMIF($F$13:$J$13,BB$13,$F26:$J26)>0,ASISTENCIA!#REF!<>\"X\",ASISTENCIA!#REF!<>\"L\",ASISTENCIA!#REF!<>\"J\",ASISTENCIA!#REF!<>\"F\"),SUMIF($F$13:$J$13,BB$13,$F26:$J26),\"\")","v":{"$error":"#REF!"}},{"$f":"IF(AND(LEN($D26)>0,SUMIF($F$13:$J$13,BC$13,$F26:$J26)>0,ASISTENCIA!#REF!<>\"X\",ASISTENCIA!#REF!<>\"L\",ASISTENCIA!#REF!<>\"J\",ASISTENCIA!#REF!<>\"F\"),SUMIF($F$13:$J$13,BC$13,$F26:$J26),\"\")","v":{"$error":"#REF!"}},{"$f":"IF(AND(LEN($D26)>0,SUMIF($F$13:$J$13,BD$13,$F26:$J26)>0,ASISTENCIA!#REF!<>\"X\",ASISTENCIA!#REF!<>\"L\",ASISTENCIA!#REF!<>\"J\",ASISTENCIA!#REF!<>\"F\"),SUMIF($F$13:$J$13,BD$13,$F26:$J26),\"\")","v":{"$error":"#REF!"}},{"$f":"IF(AND(LEN($D26)>0,SUMIF($F$13:$J$13,BE$13,$F26:$J26)>0,ASISTENCIA!#REF!<>\"X\",ASISTENCIA!#REF!<>\"L\",ASISTENCIA!#REF!<>\"J\",ASISTENCIA!#REF!<>\"F\"),SUMIF($F$13:$J$13,BE$13,$F26:$J26),\"\")","v":{"$error":"#REF!"}},{"$f":"IF(AND(LEN($D26)>0,SUMIF($F$13:$J$13,BF$13,$F26:$J26)>0,ASISTENCIA!#REF!<>\"X\",ASISTENCIA!#REF!<>\"L\",ASISTENCIA!#REF!<>\"J\",ASISTENCIA!#REF!<>\"F\"),SUMIF($F$13:$J$13,BF$13,$F26:$J26),\"\")","v":{"$error":"#REF!"}},{"$f":"IF(AND(LEN($D26)>0,SUMIF($F$13:$J$13,BG$13,$F26:$J26)>0,ASISTENCIA!#REF!<>\"X\",ASISTENCIA!#REF!<>\"L\",ASISTENCIA!#REF!<>\"J\",ASISTENCIA!#REF!<>\"F\"),SUMIF($F$13:$J$13,BG$13,$F26:$J26),\"\")","v":{"$error":"#REF!"}},{"$f":"IF(AND(LEN($D26)>0,SUMIF($F$13:$J$13,BH$13,$F26:$J26)>0,ASISTENCIA!#REF!<>\"X\",ASISTENCIA!#REF!<>\"L\",ASISTENCIA!#REF!<>\"J\",ASISTENCIA!#REF!<>\"F\"),SUMIF($F$13:$J$13,BH$13,$F26:$J26),\"\")","v":{"$error":"#REF!"}},{"$f":"IF(AND(LEN($D26)>0,SUMIF($F$13:$J$13,BI$13,$F26:$J26)>0,ASISTENCIA!#REF!<>\"X\",ASISTENCIA!#REF!<>\"L\",ASISTENCIA!#REF!<>\"J\",ASISTENCIA!#REF!<>\"F\"),SUMIF($F$13:$J$13,BI$13,$F26:$J26),\"\")","v":{"$error":"#REF!"}},{"$f":"IF(AND(LEN($D26)>0,SUMIF($F$13:$J$13,BJ$13,$F26:$J26)>0,ASISTENCIA!#REF!<>\"X\",ASISTENCIA!#REF!<>\"L\",ASISTENCIA!#REF!<>\"J\",ASISTENCIA!#REF!<>\"F\"),SUMIF($F$13:$J$13,BJ$13,$F26:$J26),\"\")","v":{"$error":"#REF!"}},{"$f":"IF(AND(LEN($D26)>0,SUMIF($F$13:$J$13,BK$13,$F26:$J26)>0,ASISTENCIA!#REF!<>\"X\",ASISTENCIA!#REF!<>\"L\",ASISTENCIA!#REF!<>\"J\",ASISTENCIA!#REF!<>\"F\"),SUMIF($F$13:$J$13,BK$13,$F26:$J26),\"\")","v":{"$error":"#REF!"}},{"$f":"IF(AND(LEN($D26)>0,SUMIF($F$13:$J$13,BL$13,$F26:$J26)>0,ASISTENCIA!#REF!<>\"X\",ASISTENCIA!#REF!<>\"L\",ASISTENCIA!#REF!<>\"J\",ASISTENCIA!#REF!<>\"F\"),SUMIF($F$13:$J$13,BL$13,$F26:$J26),\"\")","v":{"$error":"#REF!"}},{"$f":"IF(AND(LEN($D26)>0,SUMIF($F$13:$J$13,BM$13,$F26:$J26)>0,ASISTENCIA!#REF!<>\"X\",ASISTENCIA!#REF!<>\"L\",ASISTENCIA!#REF!<>\"J\",ASISTENCIA!#REF!<>\"F\"),SUMIF($F$13:$J$13,BM$13,$F26:$J26),\"\")","v":{"$error":"#REF!"}},{"$f":"IF(AND(LEN($D26)>0,SUMIF($F$13:$J$13,BN$13,$F26:$J26)>0,ASISTENCIA!#REF!<>\"X\",ASISTENCIA!#REF!<>\"L\",ASISTENCIA!#REF!<>\"J\",ASISTENCIA!#REF!<>\"F\"),SUMIF($F$13:$J$13,BN$13,$F26:$J26),\"\")","v":{"$error":"#REF!"}},{"$f":"IF(AND(LEN($D26)>0,SUMIF($F$13:$J$13,BO$13,$F26:$J26)>0,ASISTENCIA!#REF!<>\"X\",ASISTENCIA!#REF!<>\"L\",ASISTENCIA!#REF!<>\"J\",ASISTENCIA!#REF!<>\"F\"),SUMIF($F$13:$J$13,BO$13,$F26:$J26),\"\")","v":{"$error":"#REF!"}},{"$f":"IF(AND(LEN($D26)>0,SUMIF($F$13:$J$13,BP$13,$F26:$J26)>0,ASISTENCIA!#REF!<>\"X\",ASISTENCIA!#REF!<>\"L\",ASISTENCIA!#REF!<>\"J\",ASISTENCIA!#REF!<>\"F\"),SUMIF($F$13:$J$13,BP$13,$F26:$J26),\"\")","v":{"$error":"#REF!"}},{"$f":"IF(AND(LEN($D26)>0,SUMIF($F$13:$J$13,BQ$13,$F26:$J26)>0,ASISTENCIA!#REF!<>\"X\",ASISTENCIA!#REF!<>\"L\",ASISTENCIA!#REF!<>\"J\",ASISTENCIA!#REF!<>\"F\"),SUMIF($F$13:$J$13,BQ$13,$F26:$J26),\"\")","v":{"$error":"#REF!"}},{"$f":"IF(AND(LEN($D26)>0,SUMIF($F$13:$J$13,BR$13,$F26:$J26)>0,ASISTENCIA!#REF!<>\"X\",ASISTENCIA!#REF!<>\"L\",ASISTENCIA!#REF!<>\"J\",ASISTENCIA!#REF!<>\"F\"),SUMIF($F$13:$J$13,BR$13,$F26:$J26),\"\")","v":{"$error":"#REF!"}},{"$f":"IF(AND(LEN($D26)>0,SUMIF($F$13:$J$13,BS$13,$F26:$J26)>0,ASISTENCIA!#REF!<>\"X\",ASISTENCIA!#REF!<>\"L\",ASISTENCIA!#REF!<>\"J\",ASISTENCIA!#REF!<>\"F\"),SUMIF($F$13:$J$13,BS$13,$F26:$J26),\"\")","v":{"$error":"#REF!"}},{"$f":"IF(AND(LEN($D26)>0,SUMIF($F$13:$J$13,BT$13,$F26:$J26)>0,ASISTENCIA!#REF!<>\"X\",ASISTENCIA!#REF!<>\"L\",ASISTENCIA!#REF!<>\"J\",ASISTENCIA!#REF!<>\"F\"),SUMIF($F$13:$J$13,BT$13,$F26:$J26),\"\")","v":{"$error":"#REF!"}},{"$f":"IF(AND(LEN($D26)>0,SUMIF($F$13:$J$13,BU$13,$F26:$J26)>0,ASISTENCIA!#REF!<>\"X\",ASISTENCIA!#REF!<>\"L\",ASISTENCIA!#REF!<>\"J\",ASISTENCIA!#REF!<>\"F\"),SUMIF($F$13:$J$13,BU$13,$F26:$J26),\"\")","v":{"$error":"#REF!"}},{"$f":"IF(AND(LEN($D26)>0,SUMIF($F$13:$J$13,BV$13,$F26:$J26)>0,ASISTENCIA!#REF!<>\"X\",ASISTENCIA!#REF!<>\"L\",ASISTENCIA!#REF!<>\"J\",ASISTENCIA!#REF!<>\"F\"),SUMIF($F$13:$J$13,BV$13,$F26:$J26),\"\")","v":{"$error":"#REF!"}},{"$f":"IF(AND(LEN($D26)>0,SUMIF($F$13:$J$13,BW$13,$F26:$J26)>0,ASISTENCIA!#REF!<>\"X\",ASISTENCIA!#REF!<>\"L\",ASISTENCIA!#REF!<>\"J\",ASISTENCIA!#REF!<>\"F\"),SUMIF($F$13:$J$13,BW$13,$F26:$J26),\"\")","v":{"$error":"#REF!"}},{"$f":"IF(AND(LEN($D26)>0,SUMIF($F$13:$J$13,BX$13,$F26:$J26)>0,ASISTENCIA!#REF!<>\"X\",ASISTENCIA!#REF!<>\"L\",ASISTENCIA!#REF!<>\"J\",ASISTENCIA!#REF!<>\"F\"),SUMIF($F$13:$J$13,BX$13,$F26:$J26),\"\")","v":{"$error":"#REF!"}},{"$f":"IF(AND(LEN($D26)>0,SUMIF($F$13:$J$13,BY$13,$F26:$J26)>0,ASISTENCIA!#REF!<>\"X\",ASISTENCIA!#REF!<>\"L\",ASISTENCIA!#REF!<>\"J\",ASISTENCIA!#REF!<>\"F\"),SUMIF($F$13:$J$13,BY$13,$F26:$J26),\"\")","v":{"$error":"#REF!"}},{"$f":"IF(AND(LEN($D26)>0,SUMIF($F$13:$J$13,BZ$13,$F26:$J26)>0,ASISTENCIA!#REF!<>\"X\",ASISTENCIA!#REF!<>\"L\",ASISTENCIA!#REF!<>\"J\",ASISTENCIA!#REF!<>\"F\"),SUMIF($F$13:$J$13,BZ$13,$F26:$J26),\"\")","v":{"$error":"#REF!"}},{"$f":"IF(AND(LEN($D26)>0,SUMIF($F$13:$J$13,CA$13,$F26:$J26)>0,ASISTENCIA!#REF!<>\"X\",ASISTENCIA!#REF!<>\"L\",ASISTENCIA!#REF!<>\"J\",ASISTENCIA!#REF!<>\"F\"),SUMIF($F$13:$J$13,CA$13,$F26:$J26),\"\")","v":{"$error":"#REF!"}},{"$f":"IF(AND(LEN($D26)>0,SUMIF($F$13:$J$13,CB$13,$F26:$J26)>0,ASISTENCIA!#REF!<>\"X\",ASISTENCIA!#REF!<>\"L\",ASISTENCIA!#REF!<>\"J\",ASISTENCIA!#REF!<>\"F\"),SUMIF($F$13:$J$13,CB$13,$F26:$J26),\"\")","v":{"$error":"#REF!"}},{"$error":"#REF!"}]
[{"$error":"#REF!"},{"$f":"IF(LEN(C27)>0,VLOOKUP($O$4,DATA!$A$1:$S$1,2,FALSE),\"\")","v":{"$error":"#REF!"}},{"$error":"#REF!"},{"$f":"IF(LEN(ASISTENCIA!#REF!)>0,ASISTENCIA!#REF!,\"\")","v":{"$error":"#REF!"}},{"$f":"IF(LEN(D27)>0,ASISTENCIA!#REF!,\"\")","v":{"$error":"#REF!"}},null,null,null,null,null,"",null,null,{"$error":"#REF!"},{"$f":"IF(AND(LEN($D27)>0,SUMIF($F$13:$J$13,O$13,$F27:$J27)>0,ASISTENCIA!#REF!<>\"X\",ASISTENCIA!#REF!<>\"L\",ASISTENCIA!#REF!<>\"J\",ASISTENCIA!#REF!<>\"V\",ASISTENCIA!#REF!<>\"F\",ASISTENCIA!#REF!<>\"\"),SUMIF($F$13:$J$13,O$13,$F27:$J27),\"\")","v":{"$error":"#REF!"}},{"$f":"IF(AND(LEN($D27)>0,SUMIF($F$13:$J$13,P$13,$F27:$J27)>0,ASISTENCIA!#REF!<>\"X\",ASISTENCIA!#REF!<>\"L\",ASISTENCIA!#REF!<>\"J\",ASISTENCIA!#REF!<>\"V\",ASISTENCIA!#REF!<>\"F\",ASISTENCIA!#REF!<>\"\"),SUMIF($F$13:$J$13,P$13,$F27:$J27),\"\")","v":{"$error":"#REF!"}},{"$f":"IF(AND(LEN($D27)>0,SUMIF($F$13:$J$13,Q$13,$F27:$J27)>0,ASISTENCIA!#REF!<>\"X\",ASISTENCIA!#REF!<>\"L\",ASISTENCIA!#REF!<>\"J\",ASISTENCIA!#REF!<>\"V\",ASISTENCIA!#REF!<>\"F\",ASISTENCIA!#REF!<>\"\"),SUMIF($F$13:$J$13,Q$13,$F27:$J27),\"\")","v":{"$error":"#REF!"}},{"$f":"IF(AND(LEN($D27)>0,SUMIF($F$13:$J$13,R$13,$F27:$J27)>0,ASISTENCIA!#REF!<>\"X\",ASISTENCIA!#REF!<>\"L\",ASISTENCIA!#REF!<>\"J\",ASISTENCIA!#REF!<>\"V\",ASISTENCIA!#REF!<>\"F\",ASISTENCIA!#REF!<>\"\"),SUMIF($F$13:$J$13,R$13,$F27:$J27),\"\")","v":{"$error":"#REF!"}},{"$f":"IF(AND(LEN($D27)>0,SUMIF($F$13:$J$13,S$13,$F27:$J27)>0,ASISTENCIA!#REF!<>\"X\",ASISTENCIA!#REF!<>\"L\",ASISTENCIA!#REF!<>\"J\",ASISTENCIA!#REF!<>\"V\",ASISTENCIA!#REF!<>\"F\",ASISTENCIA!#REF!<>\"\"),SUMIF($F$13:$J$13,S$13,$F27:$J27),\"\")","v":{"$error":"#REF!"}},{"$f":"IF(AND(LEN($D27)>0,SUMIF($F$13:$J$13,T$13,$F27:$J27)>0,ASISTENCIA!#REF!<>\"X\",ASISTENCIA!#REF!<>\"L\",ASISTENCIA!#REF!<>\"J\",ASISTENCIA!#REF!<>\"V\",ASISTENCIA!#REF!<>\"F\",ASISTENCIA!#REF!<>\"\"),SUMIF($F$13:$J$13,T$13,$F27:$J27),\"\")","v":{"$error":"#REF!"}},{"$f":"IF(AND(LEN($D27)>0,SUMIF($F$13:$J$13,U$13,$F27:$J27)>0,ASISTENCIA!#REF!<>\"X\",ASISTENCIA!#REF!<>\"L\",ASISTENCIA!#REF!<>\"J\",ASISTENCIA!#REF!<>\"V\",ASISTENCIA!#REF!<>\"F\",ASISTENCIA!#REF!<>\"\"),SUMIF($F$13:$J$13,U$13,$F27:$J27),\"\")","v":{"$error":"#REF!"}},{"$f":"IF(AND(LEN($D27)>0,SUMIF($F$13:$J$13,V$13,$F27:$J27)>0,ASISTENCIA!#REF!<>\"X\",ASISTENCIA!#REF!<>\"L\",ASISTENCIA!#REF!<>\"J\",ASISTENCIA!#REF!<>\"V\",ASISTENCIA!#REF!<>\"F\",ASISTENCIA!#REF!<>\"\"),SUMIF($F$13:$J$13,V$13,$F27:$J27),\"\")","v":{"$error":"#REF!"}},{"$f":"IF(AND(LEN($D27)>0,SUMIF($F$13:$J$13,W$13,$F27:$J27)>0,ASISTENCIA!#REF!<>\"X\",ASISTENCIA!#REF!<>\"L\",ASISTENCIA!#REF!<>\"J\",ASISTENCIA!#REF!<>\"V\",ASISTENCIA!#REF!<>\"F\",ASISTENCIA!#REF!<>\"\"),SUMIF($F$13:$J$13,W$13,$F27:$J27),\"\")","v":{"$error":"#REF!"}},{"$f":"IF(AND(LEN($D27)>0,SUMIF($F$13:$J$13,X$13,$F27:$J27)>0,ASISTENCIA!#REF!<>\"X\",ASISTENCIA!#REF!<>\"L\",ASISTENCIA!#REF!<>\"J\",ASISTENCIA!#REF!<>\"V\",ASISTENCIA!#REF!<>\"F\",ASISTENCIA!#REF!<>\"\"),SUMIF($F$13:$J$13,X$13,$F27:$J27),\"\")","v":{"$error":"#REF!"}},{"$f":"IF(AND(LEN($D27)>0,SUMIF($F$13:$J$13,Y$13,$F27:$J27)>0,ASISTENCIA!#REF!<>\"X\",ASISTENCIA!#REF!<>\"L\",ASISTENCIA!#REF!<>\"J\",ASISTENCIA!#REF!<>\"V\",ASISTENCIA!#REF!<>\"F\",ASISTENCIA!#REF!<>\"\"),SUMIF($F$13:$J$13,Y$13,$F27:$J27),\"\")","v":{"$error":"#REF!"}},{"$f":"IF(AND(LEN($D27)>0,SUMIF($F$13:$J$13,Z$13,$F27:$J27)>0,ASISTENCIA!#REF!<>\"X\",ASISTENCIA!#REF!<>\"L\",ASISTENCIA!#REF!<>\"J\",ASISTENCIA!#REF!<>\"V\",ASISTENCIA!#REF!<>\"F\",ASISTENCIA!#REF!<>\"\"),SUMIF($F$13:$J$13,Z$13,$F27:$J27),\"\")","v":{"$error":"#REF!"}},{"$f":"IF(AND(LEN($D27)>0,SUMIF($F$13:$J$13,AA$13,$F27:$J27)>0,ASISTENCIA!#REF!<>\"X\",ASISTENCIA!#REF!<>\"L\",ASISTENCIA!#REF!<>\"J\",ASISTENCIA!#REF!<>\"V\",ASISTENCIA!#REF!<>\"F\",ASISTENCIA!#REF!<>\"\"),SUMIF($F$13:$J$13,AA$13,$F27:$J27),\"\")","v":{"$error":"#REF!"}},{"$f":"IF(AND(LEN($D27)>0,SUMIF($F$13:$J$13,AB$13,$F27:$J27)>0,ASISTENCIA!#REF!<>\"X\",ASISTENCIA!#REF!<>\"L\",ASISTENCIA!#REF!<>\"J\",ASISTENCIA!#REF!<>\"V\",ASISTENCIA!#REF!<>\"F\",ASISTENCIA!#REF!<>\"\"),SUMIF($F$13:$J$13,AB$13,$F27:$J27),\"\")","v":{"$error":"#REF!"}},{"$f":"IF(AND(LEN($D27)>0,SUMIF($F$13:$J$13,AC$13,$F27:$J27)>0,ASISTENCIA!#REF!<>\"X\",ASISTENCIA!#REF!<>\"L\",ASISTENCIA!#REF!<>\"J\",ASISTENCIA!#REF!<>\"V\",ASISTENCIA!#REF!<>\"F\",ASISTENCIA!#REF!<>\"\"),SUMIF($F$13:$J$13,AC$13,$F27:$J27),\"\")","v":{"$error":"#REF!"}},{"$f":"IF(AND(LEN($D27)>0,SUMIF($F$13:$J$13,AD$13,$F27:$J27)>0,ASISTENCIA!#REF!<>\"X\",ASISTENCIA!#REF!<>\"L\",ASISTENCIA!#REF!<>\"J\",ASISTENCIA!#REF!<>\"V\",ASISTENCIA!#REF!<>\"F\",ASISTENCIA!#REF!<>\"\"),SUMIF($F$13:$J$13,AD$13,$F27:$J27),\"\")","v":{"$error":"#REF!"}},{"$f":"IF(AND(LEN($D27)>0,SUMIF($F$13:$J$13,AE$13,$F27:$J27)>0,ASISTENCIA!#REF!<>\"X\",ASISTENCIA!#REF!<>\"L\",ASISTENCIA!#REF!<>\"J\",ASISTENCIA!#REF!<>\"V\",ASISTENCIA!#REF!<>\"F\",ASISTENCIA!#REF!<>\"\"),SUMIF($F$13:$J$13,AE$13,$F27:$J27),\"\")","v":{"$error":"#REF!"}},{"$f":"IF(AND(LEN($D27)>0,SUMIF($F$13:$J$13,AF$13,$F27:$J27)>0,ASISTENCIA!#REF!<>\"X\",ASISTENCIA!#REF!<>\"L\",ASISTENCIA!#REF!<>\"J\",ASISTENCIA!#REF!<>\"V\",ASISTENCIA!#REF!<>\"F\",ASISTENCIA!#REF!<>\"\"),SUMIF($F$13:$J$13,AF$13,$F27:$J27),\"\")","v":{"$error":"#REF!"}},{"$f":"IF(AND(LEN($D27)>0,SUMIF($F$13:$J$13,AG$13,$F27:$J27)>0,ASISTENCIA!#REF!<>\"X\",ASISTENCIA!#REF!<>\"L\",ASISTENCIA!#REF!<>\"J\",ASISTENCIA!#REF!<>\"V\",ASISTENCIA!#REF!<>\"F\",ASISTENCIA!#REF!<>\"\"),SUMIF($F$13:$J$13,AG$13,$F27:$J27),\"\")","v":{"$error":"#REF!"}},{"$f":"IF(AND(LEN($D27)>0,SUMIF($F$13:$J$13,AH$13,$F27:$J27)>0,ASISTENCIA!#REF!<>\"X\",ASISTENCIA!#REF!<>\"L\",ASISTENCIA!#REF!<>\"J\",ASISTENCIA!#REF!<>\"V\",ASISTENCIA!#REF!<>\"F\",ASISTENCIA!#REF!<>\"\"),SUMIF($F$13:$J$13,AH$13,$F27:$J27),\"\")","v":{"$error":"#REF!"}},{"$f":"IF(AND(LEN($D27)>0,SUMIF($F$13:$J$13,AI$13,$F27:$J27)>0,ASISTENCIA!#REF!<>\"X\",ASISTENCIA!#REF!<>\"L\",ASISTENCIA!#REF!<>\"J\",ASISTENCIA!#REF!<>\"V\",ASISTENCIA!#REF!<>\"F\",ASISTENCIA!#REF!<>\"\"),SUMIF($F$13:$J$13,AI$13,$F27:$J27),\"\")","v":{"$error":"#REF!"}},{"$f":"IF(AND(LEN($D27)>0,SUMIF($F$13:$J$13,AJ$13,$F27:$J27)>0,ASISTENCIA!#REF!<>\"X\",ASISTENCIA!#REF!<>\"L\",ASISTENCIA!#REF!<>\"J\",ASISTENCIA!#REF!<>\"V\",ASISTENCIA!#REF!<>\"F\",ASISTENCIA!#REF!<>\"\"),SUMIF($F$13:$J$13,AJ$13,$F27:$J27),\"\")","v":{"$error":"#REF!"}},{"$f":"IF(AND(LEN($D27)>0,SUMIF($F$13:$J$13,AK$13,$F27:$J27)>0,ASISTENCIA!#REF!<>\"X\",ASISTENCIA!#REF!<>\"L\",ASISTENCIA!#REF!<>\"J\",ASISTENCIA!#REF!<>\"V\",ASISTENCIA!#REF!<>\"F\",ASISTENCIA!#REF!<>\"\"),SUMIF($F$13:$J$13,AK$13,$F27:$J27),\"\")","v":{"$error":"#REF!"}},{"$f":"IF(AND(LEN($D27)>0,SUMIF($F$13:$J$13,AL$13,$F27:$J27)>0,ASISTENCIA!#REF!<>\"X\",ASISTENCIA!#REF!<>\"L\",ASISTENCIA!#REF!<>\"J\",ASISTENCIA!#REF!<>\"V\",ASISTENCIA!#REF!<>\"F\",ASISTENCIA!#REF!<>\"\"),SUMIF($F$13:$J$13,AL$13,$F27:$J27),\"\")","v":{"$error":"#REF!"}},{"$f":"IF(AND(LEN($D27)>0,SUMIF($F$13:$J$13,AM$13,$F27:$J27)>0,ASISTENCIA!#REF!<>\"X\",ASISTENCIA!#REF!<>\"L\",ASISTENCIA!#REF!<>\"J\",ASISTENCIA!#REF!<>\"V\",ASISTENCIA!#REF!<>\"F\",ASISTENCIA!#REF!<>\"\"),SUMIF($F$13:$J$13,AM$13,$F27:$J27),\"\")","v":{"$error":"#REF!"}},{"$f":"IF(AND(LEN($D27)>0,SUMIF($F$13:$J$13,AN$13,$F27:$J27)>0,ASISTENCIA!#REF!<>\"X\",ASISTENCIA!#REF!<>\"L\",ASISTENCIA!#REF!<>\"J\",ASISTENCIA!#REF!<>\"V\",ASISTENCIA!#REF!<>\"F\",ASISTENCIA!#REF!<>\"\"),SUMIF($F$13:$J$13,AN$13,$F27:$J27),\"\")","v":{"$error":"#REF!"}},{"$f":"IF(AND(LEN($D27)>0,SUMIF($F$13:$J$13,AO$13,$F27:$J27)>0,ASISTENCIA!#REF!<>\"X\",ASISTENCIA!#REF!<>\"L\",ASISTENCIA!#REF!<>\"J\",ASISTENCIA!#REF!<>\"V\",ASISTENCIA!#REF!<>\"F\",ASISTENCIA!#REF!<>\"\"),SUMIF($F$13:$J$13,AO$13,$F27:$J27),\"\")","v":{"$error":"#REF!"}},{"$f":"IF(AND(LEN($D27)>0,SUMIF($F$13:$J$13,AP$13,$F27:$J27)>0,ASISTENCIA!#REF!<>\"X\",ASISTENCIA!#REF!<>\"L\",ASISTENCIA!#REF!<>\"J\",ASISTENCIA!#REF!<>\"V\",ASISTENCIA!#REF!<>\"F\",ASISTENCIA!#REF!<>\"\"),SUMIF($F$13:$J$13,AP$13,$F27:$J27),\"\")","v":{"$error":"#REF!"}},{"$f":"IF(AND(LEN($D27)>0,SUMIF($F$13:$J$13,AQ$13,$F27:$J27)>0,ASISTENCIA!#REF!<>\"X\",ASISTENCIA!#REF!<>\"L\",ASISTENCIA!#REF!<>\"J\",ASISTENCIA!#REF!<>\"V\",ASISTENCIA!#REF!<>\"F\",ASISTENCIA!#REF!<>\"\"),SUMIF($F$13:$J$13,AQ$13,$F27:$J27),\"\")","v":{"$error":"#REF!"}},{"$f":"IF(AND(LEN($D27)>0,SUMIF($F$13:$J$13,AR$13,$F27:$J27)>0,ASISTENCIA!#REF!<>\"X\",ASISTENCIA!#REF!<>\"L\",ASISTENCIA!#REF!<>\"J\",ASISTENCIA!#REF!<>\"V\",ASISTENCIA!#REF!<>\"F\",ASISTENCIA!#REF!<>\"\"),SUMIF($F$13:$J$13,AR$13,$F27:$J27),\"\")","v":{"$error":"#REF!"}},{"$f":"IF(AND(LEN($D27)>0,SUMIF($F$13:$J$13,AS$13,$F27:$J27)>0,ASISTENCIA!#REF!<>\"X\",ASISTENCIA!#REF!<>\"L\",ASISTENCIA!#REF!<>\"J\",ASISTENCIA!#REF!<>\"V\",ASISTENCIA!#REF!<>\"F\",ASISTENCIA!#REF!<>\"\"),SUMIF($F$13:$J$13,AS$13,$F27:$J27),\"\")","v":{"$error":"#REF!"}},{"$error":"#REF!"},null,null,null,{"$f":"IF(AND(LEN($D27)>0,SUMIF($F$13:$J$13,AX$13,$F27:$J27)>0,ASISTENCIA!#REF!<>\"X\",ASISTENCIA!#REF!<>\"L\",ASISTENCIA!#REF!<>\"J\",ASISTENCIA!#REF!<>\"F\"),SUMIF($F$13:$J$13,AX$13,$F27:$J27),\"\")","v":{"$error":"#REF!"}},{"$f":"IF(AND(LEN($D27)>0,SUMIF($F$13:$J$13,AY$13,$F27:$J27)>0,ASISTENCIA!#REF!<>\"X\",ASISTENCIA!#REF!<>\"L\",ASISTENCIA!#REF!<>\"J\",ASISTENCIA!#REF!<>\"F\"),SUMIF($F$13:$J$13,AY$13,$F27:$J27),\"\")","v":{"$error":"#REF!"}},{"$f":"IF(AND(LEN($D27)>0,SUMIF($F$13:$J$13,AZ$13,$F27:$J27)>0,ASISTENCIA!#REF!<>\"X\",ASISTENCIA!#REF!<>\"L\",ASISTENCIA!#REF!<>\"J\",ASISTENCIA!#REF!<>\"F\"),SUMIF($F$13:$J$13,AZ$13,$F27:$J27),\"\")","v":{"$error":"#REF!"}},{"$f":"IF(AND(LEN($D27)>0,SUMIF($F$13:$J$13,BA$13,$F27:$J27)>0,ASISTENCIA!#REF!<>\"X\",ASISTENCIA!#REF!<>\"L\",ASISTENCIA!#REF!<>\"J\",ASISTENCIA!#REF!<>\"F\"),SUMIF($F$13:$J$13,BA$13,$F27:$J27),\"\")","v":{"$error":"#REF!"}},{"$f":"IF(AND(LEN($D27)>0,SUMIF($F$13:$J$13,BB$13,$F27:$J27)>0,ASISTENCIA!#REF!<>\"X\",ASISTENCIA!#REF!<>\"L\",ASISTENCIA!#REF!<>\"J\",ASISTENCIA!#REF!<>\"F\"),SUMIF($F$13:$J$13,BB$13,$F27:$J27),\"\")","v":{"$error":"#REF!"}},{"$f":"IF(AND(LEN($D27)>0,SUMIF($F$13:$J$13,BC$13,$F27:$J27)>0,ASISTENCIA!#REF!<>\"X\",ASISTENCIA!#REF!<>\"L\",ASISTENCIA!#REF!<>\"J\",ASISTENCIA!#REF!<>\"F\"),SUMIF($F$13:$J$13,BC$13,$F27:$J27),\"\")","v":{"$error":"#REF!"}},{"$f":"IF(AND(LEN($D27)>0,SUMIF($F$13:$J$13,BD$13,$F27:$J27)>0,ASISTENCIA!#REF!<>\"X\",ASISTENCIA!#REF!<>\"L\",ASISTENCIA!#REF!<>\"J\",ASISTENCIA!#REF!<>\"F\"),SUMIF($F$13:$J$13,BD$13,$F27:$J27),\"\")","v":{"$error":"#REF!"}},{"$f":"IF(AND(LEN($D27)>0,SUMIF($F$13:$J$13,BE$13,$F27:$J27)>0,ASISTENCIA!#REF!<>\"X\",ASISTENCIA!#REF!<>\"L\",ASISTENCIA!#REF!<>\"J\",ASISTENCIA!#REF!<>\"F\"),SUMIF($F$13:$J$13,BE$13,$F27:$J27),\"\")","v":{"$error":"#REF!"}},{"$f":"IF(AND(LEN($D27)>0,SUMIF($F$13:$J$13,BF$13,$F27:$J27)>0,ASISTENCIA!#REF!<>\"X\",ASISTENCIA!#REF!<>\"L\",ASISTENCIA!#REF!<>\"J\",ASISTENCIA!#REF!<>\"F\"),SUMIF($F$13:$J$13,BF$13,$F27:$J27),\"\")","v":{"$error":"#REF!"}},{"$f":"IF(AND(LEN($D27)>0,SUMIF($F$13:$J$13,BG$13,$F27:$J27)>0,ASISTENCIA!#REF!<>\"X\",ASISTENCIA!#REF!<>\"L\",ASISTENCIA!#REF!<>\"J\",ASISTENCIA!#REF!<>\"F\"),SUMIF($F$13:$J$13,BG$13,$F27:$J27),\"\")","v":{"$error":"#REF!"}},{"$f":"IF(AND(LEN($D27)>0,SUMIF($F$13:$J$13,BH$13,$F27:$J27)>0,ASISTENCIA!#REF!<>\"X\",ASISTENCIA!#REF!<>\"L\",ASISTENCIA!#REF!<>\"J\",ASISTENCIA!#REF!<>\"F\"),SUMIF($F$13:$J$13,BH$13,$F27:$J27),\"\")","v":{"$error":"#REF!"}},{"$f":"IF(AND(LEN($D27)>0,SUMIF($F$13:$J$13,BI$13,$F27:$J27)>0,ASISTENCIA!#REF!<>\"X\",ASISTENCIA!#REF!<>\"L\",ASISTENCIA!#REF!<>\"J\",ASISTENCIA!#REF!<>\"F\"),SUMIF($F$13:$J$13,BI$13,$F27:$J27),\"\")","v":{"$error":"#REF!"}},{"$f":"IF(AND(LEN($D27)>0,SUMIF($F$13:$J$13,BJ$13,$F27:$J27)>0,ASISTENCIA!#REF!<>\"X\",ASISTENCIA!#REF!<>\"L\",ASISTENCIA!#REF!<>\"J\",ASISTENCIA!#REF!<>\"F\"),SUMIF($F$13:$J$13,BJ$13,$F27:$J27),\"\")","v":{"$error":"#REF!"}},{"$f":"IF(AND(LEN($D27)>0,SUMIF($F$13:$J$13,BK$13,$F27:$J27)>0,ASISTENCIA!#REF!<>\"X\",ASISTENCIA!#REF!<>\"L\",ASISTENCIA!#REF!<>\"J\",ASISTENCIA!#REF!<>\"F\"),SUMIF($F$13:$J$13,BK$13,$F27:$J27),\"\")","v":{"$error":"#REF!"}},{"$f":"IF(AND(LEN($D27)>0,SUMIF($F$13:$J$13,BL$13,$F27:$J27)>0,ASISTENCIA!#REF!<>\"X\",ASISTENCIA!#REF!<>\"L\",ASISTENCIA!#REF!<>\"J\",ASISTENCIA!#REF!<>\"F\"),SUMIF($F$13:$J$13,BL$13,$F27:$J27),\"\")","v":{"$error":"#REF!"}},{"$f":"IF(AND(LEN($D27)>0,SUMIF($F$13:$J$13,BM$13,$F27:$J27)>0,ASISTENCIA!#REF!<>\"X\",ASISTENCIA!#REF!<>\"L\",ASISTENCIA!#REF!<>\"J\",ASISTENCIA!#REF!<>\"F\"),SUMIF($F$13:$J$13,BM$13,$F27:$J27),\"\")","v":{"$error":"#REF!"}},{"$f":"IF(AND(LEN($D27)>0,SUMIF($F$13:$J$13,BN$13,$F27:$J27)>0,ASISTENCIA!#REF!<>\"X\",ASISTENCIA!#REF!<>\"L\",ASISTENCIA!#REF!<>\"J\",ASISTENCIA!#REF!<>\"F\"),SUMIF($F$13:$J$13,BN$13,$F27:$J27),\"\")","v":{"$error":"#REF!"}},{"$f":"IF(AND(LEN($D27)>0,SUMIF($F$13:$J$13,BO$13,$F27:$J27)>0,ASISTENCIA!#REF!<>\"X\",ASISTENCIA!#REF!<>\"L\",ASISTENCIA!#REF!<>\"J\",ASISTENCIA!#REF!<>\"F\"),SUMIF($F$13:$J$13,BO$13,$F27:$J27),\"\")","v":{"$error":"#REF!"}},{"$f":"IF(AND(LEN($D27)>0,SUMIF($F$13:$J$13,BP$13,$F27:$J27)>0,ASISTENCIA!#REF!<>\"X\",ASISTENCIA!#REF!<>\"L\",ASISTENCIA!#REF!<>\"J\",ASISTENCIA!#REF!<>\"F\"),SUMIF($F$13:$J$13,BP$13,$F27:$J27),\"\")","v":{"$error":"#REF!"}},{"$f":"IF(AND(LEN($D27)>0,SUMIF($F$13:$J$13,BQ$13,$F27:$J27)>0,ASISTENCIA!#REF!<>\"X\",ASISTENCIA!#REF!<>\"L\",ASISTENCIA!#REF!<>\"J\",ASISTENCIA!#REF!<>\"F\"),SUMIF($F$13:$J$13,BQ$13,$F27:$J27),\"\")","v":{"$error":"#REF!"}},{"$f":"IF(AND(LEN($D27)>0,SUMIF($F$13:$J$13,BR$13,$F27:$J27)>0,ASISTENCIA!#REF!<>\"X\",ASISTENCIA!#REF!<>\"L\",ASISTENCIA!#REF!<>\"J\",ASISTENCIA!#REF!<>\"F\"),SUMIF($F$13:$J$13,BR$13,$F27:$J27),\"\")","v":{"$error":"#REF!"}},{"$f":"IF(AND(LEN($D27)>0,SUMIF($F$13:$J$13,BS$13,$F27:$J27)>0,ASISTENCIA!#REF!<>\"X\",ASISTENCIA!#REF!<>\"L\",ASISTENCIA!#REF!<>\"J\",ASISTENCIA!#REF!<>\"F\"),SUMIF($F$13:$J$13,BS$13,$F27:$J27),\"\")","v":{"$error":"#REF!"}},{"$f":"IF(AND(LEN($D27)>0,SUMIF($F$13:$J$13,BT$13,$F27:$J27)>0,ASISTENCIA!#REF!<>\"X\",ASISTENCIA!#REF!<>\"L\",ASISTENCIA!#REF!<>\"J\",ASISTENCIA!#REF!<>\"F\"),SUMIF($F$13:$J$13,BT$13,$F27:$J27),\"\")","v":{"$error":"#REF!"}},{"$f":"IF(AND(LEN($D27)>0,SUMIF($F$13:$J$13,BU$13,$F27:$J27)>0,ASISTENCIA!#REF!<>\"X\",ASISTENCIA!#REF!<>\"L\",ASISTENCIA!#REF!<>\"J\",ASISTENCIA!#REF!<>\"F\"),SUMIF($F$13:$J$13,BU$13,$F27:$J27),\"\")","v":{"$error":"#REF!"}},{"$f":"IF(AND(LEN($D27)>0,SUMIF($F$13:$J$13,BV$13,$F27:$J27)>0,ASISTENCIA!#REF!<>\"X\",ASISTENCIA!#REF!<>\"L\",ASISTENCIA!#REF!<>\"J\",ASISTENCIA!#REF!<>\"F\"),SUMIF($F$13:$J$13,BV$13,$F27:$J27),\"\")","v":{"$error":"#REF!"}},{"$f":"IF(AND(LEN($D27)>0,SUMIF($F$13:$J$13,BW$13,$F27:$J27)>0,ASISTENCIA!#REF!<>\"X\",ASISTENCIA!#REF!<>\"L\",ASISTENCIA!#REF!<>\"J\",ASISTENCIA!#REF!<>\"F\"),SUMIF($F$13:$J$13,BW$13,$F27:$J27),\"\")","v":{"$error":"#REF!"}},{"$f":"IF(AND(LEN($D27)>0,SUMIF($F$13:$J$13,BX$13,$F27:$J27)>0,ASISTENCIA!#REF!<>\"X\",ASISTENCIA!#REF!<>\"L\",ASISTENCIA!#REF!<>\"J\",ASISTENCIA!#REF!<>\"F\"),SUMIF($F$13:$J$13,BX$13,$F27:$J27),\"\")","v":{"$error":"#REF!"}},{"$f":"IF(AND(LEN($D27)>0,SUMIF($F$13:$J$13,BY$13,$F27:$J27)>0,ASISTENCIA!#REF!<>\"X\",ASISTENCIA!#REF!<>\"L\",ASISTENCIA!#REF!<>\"J\",ASISTENCIA!#REF!<>\"F\"),SUMIF($F$13:$J$13,BY$13,$F27:$J27),\"\")","v":{"$error":"#REF!"}},{"$f":"IF(AND(LEN($D27)>0,SUMIF($F$13:$J$13,BZ$13,$F27:$J27)>0,ASISTENCIA!#REF!<>\"X\",ASISTENCIA!#REF!<>\"L\",ASISTENCIA!#REF!<>\"J\",ASISTENCIA!#REF!<>\"F\"),SUMIF($F$13:$J$13,BZ$13,$F27:$J27),\"\")","v":{"$error":"#REF!"}},{"$f":"IF(AND(LEN($D27)>0,SUMIF($F$13:$J$13,CA$13,$F27:$J27)>0,ASISTENCIA!#REF!<>\"X\",ASISTENCIA!#REF!<>\"L\",ASISTENCIA!#REF!<>\"J\",ASISTENCIA!#REF!<>\"F\"),SUMIF($F$13:$J$13,CA$13,$F27:$J27),\"\")","v":{"$error":"#REF!"}},{"$f":"IF(AND(LEN($D27)>0,SUMIF($F$13:$J$13,CB$13,$F27:$J27)>0,ASISTENCIA!#REF!<>\"X\",ASISTENCIA!#REF!<>\"L\",ASISTENCIA!#REF!<>\"J\",ASISTENCIA!#REF!<>\"F\"),SUMIF($F$13:$J$13,CB$13,$F27:$J27),\"\")","v":{"$error":"#REF!"}},{"$error":"#REF!"}]
[{"$error":"#REF!"},{"$f":"IF(LEN(C28)>0,VLOOKUP($O$4,DATA!$A$1:$S$1,2,FALSE),\"\")","v":{"$error":"#REF!"}},{"$error":"#REF!"},{"$f":"IF(LEN(ASISTENCIA!#REF!)>0,ASISTENCIA!#REF!,\"\")","v":{"$error":"#REF!"}},{"$f":"IF(LEN(D28)>0,ASISTENCIA!#REF!,\"\")","v":{"$error":"#REF!"}},null,null,null,null,null,"",null,null,{"$error":"#REF!"},{"$f":"IF(AND(LEN($D28)>0,SUMIF($F$13:$J$13,O$13,$F28:$J28)>0,ASISTENCIA!#REF!<>\"X\",ASISTENCIA!#REF!<>\"L\",ASISTENCIA!#REF!<>\"J\",ASISTENCIA!#REF!<>\"V\",ASISTENCIA!#REF!<>\"F\",ASISTENCIA!#REF!<>\"\"),SUMIF($F$13:$J$13,O$13,$F28:$J28),\"\")","v":{"$error":"#REF!"}},{"$f":"IF(AND(LEN($D28)>0,SUMIF($F$13:$J$13,P$13,$F28:$J28)>0,ASISTENCIA!#REF!<>\"X\",ASISTENCIA!#REF!<>\"L\",ASISTENCIA!#REF!<>\"J\",ASISTENCIA!#REF!<>\"V\",ASISTENCIA!#REF!<>\"F\",ASISTENCIA!#REF!<>\"\"),SUMIF($F$13:$J$13,P$13,$F28:$J28),\"\")","v":{"$error":"#REF!"}},{"$f":"IF(AND(LEN($D28)>0,SUMIF($F$13:$J$13,Q$13,$F28:$J28)>0,ASISTENCIA!#REF!<>\"X\",ASISTENCIA!#REF!<>\"L\",ASISTENCIA!#REF!<>\"J\",ASISTENCIA!#REF!<>\"V\",ASISTENCIA!#REF!<>\"F\",ASISTENCIA!#REF!<>\"\"),SUMIF($F$13:$J$13,Q$13,$F28:$J28),\"\")","v":{"$error":"#REF!"}},{"$f":"IF(AND(LEN($D28)>0,SUMIF($F$13:$J$13,R$13,$F28:$J28)>0,ASISTENCIA!#REF!<>\"X\",ASISTENCIA!#REF!<>\"L\",ASISTENCIA!#REF!<>\"J\",ASISTENCIA!#REF!<>\"V\",ASISTENCIA!#REF!<>\"F\",ASISTENCIA!#REF!<>\"\"),SUMIF($F$13:$J$13,R$13,$F28:$J28),\"\")","v":{"$error":"#REF!"}},{"$f":"IF(AND(LEN($D28)>0,SUMIF($F$13:$J$13,S$13,$F28:$J28)>0,ASISTENCIA!#REF!<>\"X\",ASISTENCIA!#REF!<>\"L\",ASISTENCIA!#REF!<>\"J\",ASISTENCIA!#REF!<>\"V\",ASISTENCIA!#REF!<>\"F\",ASISTENCIA!#REF!<>\"\"),SUMIF($F$13:$J$13,S$13,$F28:$J28),\"\")","v":{"$error":"#REF!"}},{"$f":"IF(AND(LEN($D28)>0,SUMIF($F$13:$J$13,T$13,$F28:$J28)>0,ASISTENCIA!#REF!<>\"X\",ASISTENCIA!#REF!<>\"L\",ASISTENCIA!#REF!<>\"J\",ASISTENCIA!#REF!<>\"V\",ASISTENCIA!#REF!<>\"F\",ASISTENCIA!#REF!<>\"\"),SUMIF($F$13:$J$13,T$13,$F28:$J28),\"\")","v":{"$error":"#REF!"}},{"$f":"IF(AND(LEN($D28)>0,SUMIF($F$13:$J$13,U$13,$F28:$J28)>0,ASISTENCIA!#REF!<>\"X\",ASISTENCIA!#REF!<>\"L\",ASISTENCIA!#REF!<>\"J\",ASISTENCIA!#REF!<>\"V\",ASISTENCIA!#REF!<>\"F\",ASISTENCIA!#REF!<>\"\"),SUMIF($F$13:$J$13,U$13,$F28:$J28),\"\")","v":{"$error":"#REF!"}},{"$f":"IF(AND(LEN($D28)>0,SUMIF($F$13:$J$13,V$13,$F28:$J28)>0,ASISTENCIA!#REF!<>\"X\",ASISTENCIA!#REF!<>\"L\",ASISTENCIA!#REF!<>\"J\",ASISTENCIA!#REF!<>\"V\",ASISTENCIA!#REF!<>\"F\",ASISTENCIA!#REF!<>\"\"),SUMIF($F$13:$J$13,V$13,$F28:$J28),\"\")","v":{"$error":"#REF!"}},{"$f":"IF(AND(LEN($D28)>0,SUMIF($F$13:$J$13,W$13,$F28:$J28)>0,ASISTENCIA!#REF!<>\"X\",ASISTENCIA!#REF!<>\"L\",ASISTENCIA!#REF!<>\"J\",ASISTENCIA!#REF!<>\"V\",ASISTENCIA!#REF!<>\"F\",ASISTENCIA!#REF!<>\"\"),SUMIF($F$13:$J$13,W$13,$F28:$J28),\"\")","v":{"$error":"#REF!"}},{"$f":"IF(AND(LEN($D28)>0,SUMIF($F$13:$J$13,X$13,$F28:$J28)>0,ASISTENCIA!#REF!<>\"X\",ASISTENCIA!#REF!<>\"L\",ASISTENCIA!#REF!<>\"J\",ASISTENCIA!#REF!<>\"V\",ASISTENCIA!#REF!<>\"F\",ASISTENCIA!#REF!<>\"\"),SUMIF($F$13:$J$13,X$13,$F28:$J28),\"\")","v":{"$error":"#REF!"}},{"$f":"IF(AND(LEN($D28)>0,SUMIF($F$13:$J$13,Y$13,$F28:$J28)>0,ASISTENCIA!#REF!<>\"X\",ASISTENCIA!#REF!<>\"L\",ASISTENCIA!#REF!<>\"J\",ASISTENCIA!#REF!<>\"V\",ASISTENCIA!#REF!<>\"F\",ASISTENCIA!#REF!<>\"\"),SUMIF($F$13:$J$13,Y$13,$F28:$J28),\"\")","v":{"$error":"#REF!"}},{"$f":"IF(AND(LEN($D28)>0,SUMIF($F$13:$J$13,Z$13,$F28:$J28)>0,ASISTENCIA!#REF!<>\"X\",ASISTENCIA!#REF!<>\"L\",ASISTENCIA!#REF!<>\"J\",ASISTENCIA!#REF!<>\"V\",ASISTENCIA!#REF!<>\"F\",ASISTENCIA!#REF!<>\"\"),SUMIF($F$13:$J$13,Z$13,$F28:$J28),\"\")","v":{"$error":"#REF!"}},{"$f":"IF(AND(LEN($D28)>0,SUMIF($F$13:$J$13,AA$13,$F28:$J28)>0,ASISTENCIA!#REF!<>\"X\",ASISTENCIA!#REF!<>\"L\",ASISTENCIA!#REF!<>\"J\",ASISTENCIA!#REF!<>\"V\",ASISTENCIA!#REF!<>\"F\",ASISTENCIA!#REF!<>\"\"),SUMIF($F$13:$J$13,AA$13,$F28:$J28),\"\")","v":{"$error":"#REF!"}},{"$f":"IF(AND(LEN($D28)>0,SUMIF($F$13:$J$13,AB$13,$F28:$J28)>0,ASISTENCIA!#REF!<>\"X\",ASISTENCIA!#REF!<>\"L\",ASISTENCIA!#REF!<>\"J\",ASISTENCIA!#REF!<>\"V\",ASISTENCIA!#REF!<>\"F\",ASISTENCIA!#REF!<>\"\"),SUMIF($F$13:$J$13,AB$13,$F28:$J28),\"\")","v":{"$error":"#REF!"}},{"$f":"IF(AND(LEN($D28)>0,SUMIF($F$13:$J$13,AC$13,$F28:$J28)>0,ASISTENCIA!#REF!<>\"X\",ASISTENCIA!#REF!<>\"L\",ASISTENCIA!#REF!<>\"J\",ASISTENCIA!#REF!<>\"V\",ASISTENCIA!#REF!<>\"F\",ASISTENCIA!#REF!<>\"\"),SUMIF($F$13:$J$13,AC$13,$F28:$J28),\"\")","v":{"$error":"#REF!"}},{"$f":"IF(AND(LEN($D28)>0,SUMIF($F$13:$J$13,AD$13,$F28:$J28)>0,ASISTENCIA!#REF!<>\"X\",ASISTENCIA!#REF!<>\"L\",ASISTENCIA!#REF!<>\"J\",ASISTENCIA!#REF!<>\"V\",ASISTENCIA!#REF!<>\"F\",ASISTENCIA!#REF!<>\"\"),SUMIF($F$13:$J$13,AD$13,$F28:$J28),\"\")","v":{"$error":"#REF!"}},{"$f":"IF(AND(LEN($D28)>0,SUMIF($F$13:$J$13,AE$13,$F28:$J28)>0,ASISTENCIA!#REF!<>\"X\",ASISTENCIA!#REF!<>\"L\",ASISTENCIA!#REF!<>\"J\",ASISTENCIA!#REF!<>\"V\",ASISTENCIA!#REF!<>\"F\",ASISTENCIA!#REF!<>\"\"),SUMIF($F$13:$J$13,AE$13,$F28:$J28),\"\")","v":{"$error":"#REF!"}},{"$f":"IF(AND(LEN($D28)>0,SUMIF($F$13:$J$13,AF$13,$F28:$J28)>0,ASISTENCIA!#REF!<>\"X\",ASISTENCIA!#REF!<>\"L\",ASISTENCIA!#REF!<>\"J\",ASISTENCIA!#REF!<>\"V\",ASISTENCIA!#REF!<>\"F\",ASISTENCIA!#REF!<>\"\"),SUMIF($F$13:$J$13,AF$13,$F28:$J28),\"\")","v":{"$error":"#REF!"}},{"$f":"IF(AND(LEN($D28)>0,SUMIF($F$13:$J$13,AG$13,$F28:$J28)>0,ASISTENCIA!#REF!<>\"X\",ASISTENCIA!#REF!<>\"L\",ASISTENCIA!#REF!<>\"J\",ASISTENCIA!#REF!<>\"V\",ASISTENCIA!#REF!<>\"F\",ASISTENCIA!#REF!<>\"\"),SUMIF($F$13:$J$13,AG$13,$F28:$J28),\"\")","v":{"$error":"#REF!"}},{"$f":"IF(AND(LEN($D28)>0,SUMIF($F$13:$J$13,AH$13,$F28:$J28)>0,ASISTENCIA!#REF!<>\"X\",ASISTENCIA!#REF!<>\"L\",ASISTENCIA!#REF!<>\"J\",ASISTENCIA!#REF!<>\"V\",ASISTENCIA!#REF!<>\"F\",ASISTENCIA!#REF!<>\"\"),SUMIF($F$13:$J$13,AH$13,$F28:$J28),\"\")","v":{"$error":"#REF!"}},{"$f":"IF(AND(LEN($D28)>0,SUMIF($F$13:$J$13,AI$13,$F28:$J28)>0,ASISTENCIA!#REF!<>\"X\",ASISTENCIA!#REF!<>\"L\",ASISTENCIA!#REF!<>\"J\",ASISTENCIA!#REF!<>\"V\",ASISTENCIA!#REF!<>\"F\",ASISTENCIA!#REF!<>\"\"),SUMIF($F$13:$J$13,AI$13,$F28:$J28),\"\")","v":{"$error":"#REF!"}},{"$f":"IF(AND(LEN($D28)>0,SUMIF($F$13:$J$13,AJ$13,$F28:$J28)>0,ASISTENCIA!#REF!<>\"X\",ASISTENCIA!#REF!<>\"L\",ASISTENCIA!#REF!<>\"J\",ASISTENCIA!#REF!<>\"V\",ASISTENCIA!#REF!<>\"F\",ASISTENCIA!#REF!<>\"\"),SUMIF($F$13:$J$13,AJ$13,$F28:$J28),\"\")","v":{"$error":"#REF!"}},{"$f":"IF(AND(LEN($D28)>0,SUMIF($F$13:$J$13,AK$13,$F28:$J28)>0,ASISTENCIA!#REF!<>\"X\",ASISTENCIA!#REF!<>\"L\",ASISTENCIA!#REF!<>\"J\",ASISTENCIA!#REF!<>\"V\",ASISTENCIA!#REF!<>\"F\",ASISTENCIA!#REF!<>\"\"),SUMIF($F$13:$J$13,AK$13,$F28:$J28),\"\")","v":{"$error":"#REF!"}},{"$f":"IF(AND(LEN($D28)>0,SUMIF($F$13:$J$13,AL$13,$F28:$J28)>0,ASISTENCIA!#REF!<>\"X\",ASISTENCIA!#REF!<>\"L\",ASISTENCIA!#REF!<>\"J\",ASISTENCIA!#REF!<>\"V\",ASISTENCIA!#REF!<>\"F\",ASISTENCIA!#REF!<>\"\"),SUMIF($F$13:$J$13,AL$13,$F28:$J28),\"\")","v":{"$error":"#REF!"}},{"$f":"IF(AND(LEN($D28)>0,SUMIF($F$13:$J$13,AM$13,$F28:$J28)>0,ASISTENCIA!#REF!<>\"X\",ASISTENCIA!#REF!<>\"L\",ASISTENCIA!#REF!<>\"J\",ASISTENCIA!#REF!<>\"V\",ASISTENCIA!#REF!<>\"F\",ASISTENCIA!#REF!<>\"\"),SUMIF($F$13:$J$13,AM$13,$F28:$J28),\"\")","v":{"$error":"#REF!"}},{"$f":"IF(AND(LEN($D28)>0,SUMIF($F$13:$J$13,AN$13,$F28:$J28)>0,ASISTENCIA!#REF!<>\"X\",ASISTENCIA!#REF!<>\"L\",ASISTENCIA!#REF!<>\"J\",ASISTENCIA!#REF!<>\"V\",ASISTENCIA!#REF!<>\"F\",ASISTENCIA!#REF!<>\"\"),SUMIF($F$13:$J$13,AN$13,$F28:$J28),\"\")","v":{"$error":"#REF!"}},{"$f":"IF(AND(LEN($D28)>0,SUMIF($F$13:$J$13,AO$13,$F28:$J28)>0,ASISTENCIA!#REF!<>\"X\",ASISTENCIA!#REF!<>\"L\",ASISTENCIA!#REF!<>\"J\",ASISTENCIA!#REF!<>\"V\",ASISTENCIA!#REF!<>\"F\",ASISTENCIA!#REF!<>\"\"),SUMIF($F$13:$J$13,AO$13,$F28:$J28),\"\")","v":{"$error":"#REF!"}},{"$f":"IF(AND(LEN($D28)>0,SUMIF($F$13:$J$13,AP$13,$F28:$J28)>0,ASISTENCIA!#REF!<>\"X\",ASISTENCIA!#REF!<>\"L\",ASISTENCIA!#REF!<>\"J\",ASISTENCIA!#REF!<>\"V\",ASISTENCIA!#REF!<>\"F\",ASISTENCIA!#REF!<>\"\"),SUMIF($F$13:$J$13,AP$13,$F28:$J28),\"\")","v":{"$error":"#REF!"}},{"$f":"IF(AND(LEN($D28)>0,SUMIF($F$13:$J$13,AQ$13,$F28:$J28)>0,ASISTENCIA!#REF!<>\"X\",ASISTENCIA!#REF!<>\"L\",ASISTENCIA!#REF!<>\"J\",ASISTENCIA!#REF!<>\"V\",ASISTENCIA!#REF!<>\"F\",ASISTENCIA!#REF!<>\"\"),SUMIF($F$13:$J$13,AQ$13,$F28:$J28),\"\")","v":{"$error":"#REF!"}},{"$f":"IF(AND(LEN($D28)>0,SUMIF($F$13:$J$13,AR$13,$F28:$J28)>0,ASISTENCIA!#REF!<>\"X\",ASISTENCIA!#REF!<>\"L\",ASISTENCIA!#REF!<>\"J\",ASISTENCIA!#REF!<>\"V\",ASISTENCIA!#REF!<>\"F\",ASISTENCIA!#REF!<>\"\"),SUMIF($F$13:$J$13,AR$13,$F28:$J28),\"\")","v":{"$error":"#REF!"}},{"$f":"IF(AND(LEN($D28)>0,SUMIF($F$13:$J$13,AS$13,$F28:$J28)>0,ASISTENCIA!#REF!<>\"X\",ASISTENCIA!#REF!<>\"L\",ASISTENCIA!#REF!<>\"J\",ASISTENCIA!#REF!<>\"V\",ASISTENCIA!#REF!<>\"F\",ASISTENCIA!#REF!<>\"\"),SUMIF($F$13:$J$13,AS$13,$F28:$J28),\"\")","v":{"$error":"#REF!"}},{"$error":"#REF!"},null,null,null,{"$f":"IF(AND(LEN($D28)>0,SUMIF($F$13:$J$13,AX$13,$F28:$J28)>0,ASISTENCIA!#REF!<>\"X\",ASISTENCIA!#REF!<>\"L\",ASISTENCIA!#REF!<>\"J\",ASISTENCIA!#REF!<>\"F\"),SUMIF($F$13:$J$13,AX$13,$F28:$J28),\"\")","v":{"$error":"#REF!"}},{"$f":"IF(AND(LEN($D28)>0,SUMIF($F$13:$J$13,AY$13,$F28:$J28)>0,ASISTENCIA!#REF!<>\"X\",ASISTENCIA!#REF!<>\"L\",ASISTENCIA!#REF!<>\"J\",ASISTENCIA!#REF!<>\"F\"),SUMIF($F$13:$J$13,AY$13,$F28:$J28),\"\")","v":{"$error":"#REF!"}},{"$f":"IF(AND(LEN($D28)>0,SUMIF($F$13:$J$13,AZ$13,$F28:$J28)>0,ASISTENCIA!#REF!<>\"X\",ASISTENCIA!#REF!<>\"L\",ASISTENCIA!#REF!<>\"J\",ASISTENCIA!#REF!<>\"F\"),SUMIF($F$13:$J$13,AZ$13,$F28:$J28),\"\")","v":{"$error":"#REF!"}},{"$f":"IF(AND(LEN($D28)>0,SUMIF($F$13:$J$13,BA$13,$F28:$J28)>0,ASISTENCIA!#REF!<>\"X\",ASISTENCIA!#REF!<>\"L\",ASISTENCIA!#REF!<>\"J\",ASISTENCIA!#REF!<>\"F\"),SUMIF($F$13:$J$13,BA$13,$F28:$J28),\"\")","v":{"$error":"#REF!"}},{"$f":"IF(AND(LEN($D28)>0,SUMIF($F$13:$J$13,BB$13,$F28:$J28)>0,ASISTENCIA!#REF!<>\"X\",ASISTENCIA!#REF!<>\"L\",ASISTENCIA!#REF!<>\"J\",ASISTENCIA!#REF!<>\"F\"),SUMIF($F$13:$J$13,BB$13,$F28:$J28),\"\")","v":{"$error":"#REF!"}},{"$f":"IF(AND(LEN($D28)>0,SUMIF($F$13:$J$13,BC$13,$F28:$J28)>0,ASISTENCIA!#REF!<>\"X\",ASISTENCIA!#REF!<>\"L\",ASISTENCIA!#REF!<>\"J\",ASISTENCIA!#REF!<>\"F\"),SUMIF($F$13:$J$13,BC$13,$F28:$J28),\"\")","v":{"$error":"#REF!"}},{"$f":"IF(AND(LEN($D28)>0,SUMIF($F$13:$J$13,BD$13,$F28:$J28)>0,ASISTENCIA!#REF!<>\"X\",ASISTENCIA!#REF!<>\"L\",ASISTENCIA!#REF!<>\"J\",ASISTENCIA!#REF!<>\"F\"),SUMIF($F$13:$J$13,BD$13,$F28:$J28),\"\")","v":{"$error":"#REF!"}},{"$f":"IF(AND(LEN($D28)>0,SUMIF($F$13:$J$13,BE$13,$F28:$J28)>0,ASISTENCIA!#REF!<>\"X\",ASISTENCIA!#REF!<>\"L\",ASISTENCIA!#REF!<>\"J\",ASISTENCIA!#REF!<>\"F\"),SUMIF($F$13:$J$13,BE$13,$F28:$J28),\"\")","v":{"$error":"#REF!"}},{"$f":"IF(AND(LEN($D28)>0,SUMIF($F$13:$J$13,BF$13,$F28:$J28)>0,ASISTENCIA!#REF!<>\"X\",ASISTENCIA!#REF!<>\"L\",ASISTENCIA!#REF!<>\"J\",ASISTENCIA!#REF!<>\"F\"),SUMIF($F$13:$J$13,BF$13,$F28:$J28),\"\")","v":{"$error":"#REF!"}},{"$f":"IF(AND(LEN($D28)>0,SUMIF($F$13:$J$13,BG$13,$F28:$J28)>0,ASISTENCIA!#REF!<>\"X\",ASISTENCIA!#REF!<>\"L\",ASISTENCIA!#REF!<>\"J\",ASISTENCIA!#REF!<>\"F\"),SUMIF($F$13:$J$13,BG$13,$F28:$J28),\"\")","v":{"$error":"#REF!"}},{"$f":"IF(AND(LEN($D28)>0,SUMIF($F$13:$J$13,BH$13,$F28:$J28)>0,ASISTENCIA!#REF!<>\"X\",ASISTENCIA!#REF!<>\"L\",ASISTENCIA!#REF!<>\"J\",ASISTENCIA!#REF!<>\"F\"),SUMIF($F$13:$J$13,BH$13,$F28:$J28),\"\")","v":{"$error":"#REF!"}},{"$f":"IF(AND(LEN($D28)>0,SUMIF($F$13:$J$13,BI$13,$F28:$J28)>0,ASISTENCIA!#REF!<>\"X\",ASISTENCIA!#REF!<>\"L\",ASISTENCIA!#REF!<>\"J\",ASISTENCIA!#REF!<>\"F\"),SUMIF($F$13:$J$13,BI$13,$F28:$J28),\"\")","v":{"$error":"#REF!"}},{"$f":"IF(AND(LEN($D28)>0,SUMIF($F$13:$J$13,BJ$13,$F28:$J28)>0,ASISTENCIA!#REF!<>\"X\",ASISTENCIA!#REF!<>\"L\",ASISTENCIA!#REF!<>\"J\",ASISTENCIA!#REF!<>\"F\"),SUMIF($F$13:$J$13,BJ$13,$F28:$J28),\"\")","v":{"$error":"#REF!"}},{"$f":"IF(AND(LEN($D28)>0,SUMIF($F$13:$J$13,BK$13,$F28:$J28)>0,ASISTENCIA!#REF!<>\"X\",ASISTENCIA!#REF!<>\"L\",ASISTENCIA!#REF!<>\"J\",ASISTENCIA!#REF!<>\"F\"),SUMIF($F$13:$J$13,BK$13,$F28:$J28),\"\")","v":{"$error":"#REF!"}},{"$f":"IF(AND(LEN($D28)>0,SUMIF($F$13:$J$13,BL$13,$F28:$J28)>0,ASISTENCIA!#REF!<>\"X\",ASISTENCIA!#REF!<>\"L\",ASISTENCIA!#REF!<>\"J\",ASISTENCIA!#REF!<>\"F\"),SUMIF($F$13:$J$13,BL$13,$F28:$J28),\"\")","v":{"$error":"#REF!"}},{"$f":"IF(AND(LEN($D28)>0,SUMIF($F$13:$J$13,BM$13,$F28:$J28)>0,ASISTENCIA!#REF!<>\"X\",ASISTENCIA!#REF!<>\"L\",ASISTENCIA!#REF!<>\"J\",ASISTENCIA!#REF!<>\"F\"),SUMIF($F$13:$J$13,BM$13,$F28:$J28),\"\")","v":{"$error":"#REF!"}},{"$f":"IF(AND(LEN($D28)>0,SUMIF($F$13:$J$13,BN$13,$F28:$J28)>0,ASISTENCIA!#REF!<>\"X\",ASISTENCIA!#REF!<>\"L\",ASISTENCIA!#REF!<>\"J\",ASISTENCIA!#REF!<>\"F\"),SUMIF($F$13:$J$13,BN$13,$F28:$J28),\"\")","v":{"$error":"#REF!"}},{"$f":"IF(AND(LEN($D28)>0,SUMIF($F$13:$J$13,BO$13,$F28:$J28)>0,ASISTENCIA!#REF!<>\"X\",ASISTENCIA!#REF!<>\"L\",ASISTENCIA!#REF!<>\"J\",ASISTENCIA!#REF!<>\"F\"),SUMIF($F$13:$J$13,BO$13,$F28:$J28),\"\")","v":{"$error":"#REF!"}},{"$f":"IF(AND(LEN($D28)>0,SUMIF($F$13:$J$13,BP$13,$F28:$J28)>0,ASISTENCIA!#REF!<>\"X\",ASISTENCIA!#REF!<>\"L\",ASISTENCIA!#REF!<>\"J\",ASISTENCIA!#REF!<>\"F\"),SUMIF($F$13:$J$13,BP$13,$F28:$J28),\"\")","v":{"$error":"#REF!"}},{"$f":"IF(AND(LEN($D28)>0,SUMIF($F$13:$J$13,BQ$13,$F28:$J28)>0,ASISTENCIA!#REF!<>\"X\",ASISTENCIA!#REF!<>\"L\",ASISTENCIA!#REF!<>\"J\",ASISTENCIA!#REF!<>\"F\"),SUMIF($F$13:$J$13,BQ$13,$F28:$J28),\"\")","v":{"$error":"#REF!"}},{"$f":"IF(AND(LEN($D28)>0,SUMIF($F$13:$J$13,BR$13,$F28:$J28)>0,ASISTENCIA!#REF!<>\"X\",ASISTENCIA!#REF!<>\"L\",ASISTENCIA!#REF!<>\"J\",ASISTENCIA!#REF!<>\"F\"),SUMIF($F$13:$J$13,BR$13,$F28:$J28),\"\")","v":{"$error":"#REF!"}},{"$f":"IF(AND(LEN($D28)>0,SUMIF($F$13:$J$13,BS$13,$F28:$J28)>0,ASISTENCIA!#REF!<>\"X\",ASISTENCIA!#REF!<>\"L\",ASISTENCIA!#REF!<>\"J\",ASISTENCIA!#REF!<>\"F\"),SUMIF($F$13:$J$13,BS$13,$F28:$J28),\"\")","v":{"$error":"#REF!"}},{"$f":"IF(AND(LEN($D28)>0,SUMIF($F$13:$J$13,BT$13,$F28:$J28)>0,ASISTENCIA!#REF!<>\"X\",ASISTENCIA!#REF!<>\"L\",ASISTENCIA!#REF!<>\"J\",ASISTENCIA!#REF!<>\"F\"),SUMIF($F$13:$J$13,BT$13,$F28:$J28),\"\")","v":{"$error":"#REF!"}},{"$f":"IF(AND(LEN($D28)>0,SUMIF($F$13:$J$13,BU$13,$F28:$J28)>0,ASISTENCIA!#REF!<>\"X\",ASISTENCIA!#REF!<>\"L\",ASISTENCIA!#REF!<>\"J\",ASISTENCIA!#REF!<>\"F\"),SUMIF($F$13:$J$13,BU$13,$F28:$J28),\"\")","v":{"$error":"#REF!"}},{"$f":"IF(AND(LEN($D28)>0,SUMIF($F$13:$J$13,BV$13,$F28:$J28)>0,ASISTENCIA!#REF!<>\"X\",ASISTENCIA!#REF!<>\"L\",ASISTENCIA!#REF!<>\"J\",ASISTENCIA!#REF!<>\"F\"),SUMIF($F$13:$J$13,BV$13,$F28:$J28),\"\")","v":{"$error":"#REF!"}},{"$f":"IF(AND(LEN($D28)>0,SUMIF($F$13:$J$13,BW$13,$F28:$J28)>0,ASISTENCIA!#REF!<>\"X\",ASISTENCIA!#REF!<>\"L\",ASISTENCIA!#REF!<>\"J\",ASISTENCIA!#REF!<>\"F\"),SUMIF($F$13:$J$13,BW$13,$F28:$J28),\"\")","v":{"$error":"#REF!"}},{"$f":"IF(AND(LEN($D28)>0,SUMIF($F$13:$J$13,BX$13,$F28:$J28)>0,ASISTENCIA!#REF!<>\"X\",ASISTENCIA!#REF!<>\"L\",ASISTENCIA!#REF!<>\"J\",ASISTENCIA!#REF!<>\"F\"),SUMIF($F$13:$J$13,BX$13,$F28:$J28),\"\")","v":{"$error":"#REF!"}},{"$f":"IF(AND(LEN($D28)>0,SUMIF($F$13:$J$13,BY$13,$F28:$J28)>0,ASISTENCIA!#REF!<>\"X\",ASISTENCIA!#REF!<>\"L\",ASISTENCIA!#REF!<>\"J\",ASISTENCIA!#REF!<>\"F\"),SUMIF($F$13:$J$13,BY$13,$F28:$J28),\"\")","v":{"$error":"#REF!"}},{"$f":"IF(AND(LEN($D28)>0,SUMIF($F$13:$J$13,BZ$13,$F28:$J28)>0,ASISTENCIA!#REF!<>\"X\",ASISTENCIA!#REF!<>\"L\",ASISTENCIA!#REF!<>\"J\",ASISTENCIA!#REF!<>\"F\"),SUMIF($F$13:$J$13,BZ$13,$F28:$J28),\"\")","v":{"$error":"#REF!"}},{"$f":"IF(AND(LEN($D28)>0,SUMIF($F$13:$J$13,CA$13,$F28:$J28)>0,ASISTENCIA!#REF!<>\"X\",ASISTENCIA!#REF!<>\"L\",ASISTENCIA!#REF!<>\"J\",ASISTENCIA!#REF!<>\"F\"),SUMIF($F$13:$J$13,CA$13,$F28:$J28),\"\")","v":{"$error":"#REF!"}},{"$f":"IF(AND(LEN($D28)>0,SUMIF($F$13:$J$13,CB$13,$F28:$J28)>0,ASISTENCIA!#REF!<>\"X\",ASISTENCIA!#REF!<>\"L\",ASISTENCIA!#REF!<>\"J\",ASISTENCIA!#REF!<>\"F\"),SUMIF($F$13:$J$13,CB$13,$F28:$J28),\"\")","v":{"$error":"#REF!"}},{"$error":"#REF!"}]
[{"$error":"#REF!"},{"$f":"IF(LEN(C29)>0,VLOOKUP($O$4,DATA!$A$1:$S$1,2,FALSE),\"\")","v":{"$error":"#REF!"}},{"$error":"#REF!"},{"$f":"IF(LEN(ASISTENCIA!#REF!)>0,ASISTENCIA!#REF!,\"\")","v":{"$error":"#REF!"}},{"$f":"IF(LEN(D29)>0,ASISTENCIA!#REF!,\"\")","v":{"$error":"#REF!"}},null,null,null,null,null,"",null,null,{"$error":"#REF!"},{"$f":"IF(AND(LEN($D29)>0,SUMIF($F$13:$J$13,O$13,$F29:$J29)>0,ASISTENCIA!#REF!<>\"X\",ASISTENCIA!#REF!<>\"L\",ASISTENCIA!#REF!<>\"J\",ASISTENCIA!#REF!<>\"V\",ASISTENCIA!#REF!<>\"F\",ASISTENCIA!#REF!<>\"\"),SUMIF($F$13:$J$13,O$13,$F29:$J29),\"\")","v":{"$error":"#REF!"}},{"$f":"IF(AND(LEN($D29)>0,SUMIF($F$13:$J$13,P$13,$F29:$J29)>0,ASISTENCIA!#REF!<>\"X\",ASISTENCIA!#REF!<>\"L\",ASISTENCIA!#REF!<>\"J\",ASISTENCIA!#REF!<>\"V\",ASISTENCIA!#REF!<>\"F\",ASISTENCIA!#REF!<>\"\"),SUMIF($F$13:$J$13,P$13,$F29:$J29),\"\")","v":{"$error":"#REF!"}},{"$f":"IF(AND(LEN($D29)>0,SUMIF($F$13:$J$13,Q$13,$F29:$J29)>0,ASISTENCIA!#REF!<>\"X\",ASISTENCIA!#REF!<>\"L\",ASISTENCIA!#REF!<>\"J\",ASISTENCIA!#REF!<>\"V\",ASISTENCIA!#REF!<>\"F\",ASISTENCIA!#REF!<>\"\"),SUMIF($F$13:$J$13,Q$13,$F29:$J29),\"\")","v":{"$error":"#REF!"}},{"$f":"IF(AND(LEN($D29)>0,SUMIF($F$13:$J$13,R$13,$F29:$J29)>0,ASISTENCIA!#REF!<>\"X\",ASISTENCIA!#REF!<>\"L\",ASISTENCIA!#REF!<>\"J\",ASISTENCIA!#REF!<>\"V\",ASISTENCIA!#REF!<>\"F\",ASISTENCIA!#REF!<>\"\"),SUMIF($F$13:$J$13,R$13,$F29:$J29),\"\")","v":{"$error":"#REF!"}},{"$f":"IF(AND(LEN($D29)>0,SUMIF($F$13:$J$13,S$13,$F29:$J29)>0,ASISTENCIA!#REF!<>\"X\",ASISTENCIA!#REF!<>\"L\",ASISTENCIA!#REF!<>\"J\",ASISTENCIA!#REF!<>\"V\",ASISTENCIA!#REF!<>\"F\",ASISTENCIA!#REF!<>\"\"),SUMIF($F$13:$J$13,S$13,$F29:$J29),\"\")","v":{"$error":"#REF!"}},{"$f":"IF(AND(LEN($D29)>0,SUMIF($F$13:$J$13,T$13,$F29:$J29)>0,ASISTENCIA!#REF!<>\"X\",ASISTENCIA!#REF!<>\"L\",ASISTENCIA!#REF!<>\"J\",ASISTENCIA!#REF!<>\"V\",ASISTENCIA!#REF!<>\"F\",ASISTENCIA!#REF!<>\"\"),SUMIF($F$13:$J$13,T$13,$F29:$J29),\"\")","v":{"$error":"#REF!"}},{"$f":"IF(AND(LEN($D29)>0,SUMIF($F$13:$J$13,U$13,$F29:$J29)>0,ASISTENCIA!#REF!<>\"X\",ASISTENCIA!#REF!<>\"L\",ASISTENCIA!#REF!<>\"J\",ASISTENCIA!#REF!<>\"V\",ASISTENCIA!#REF!<>\"F\",ASISTENCIA!#REF!<>\"\"),SUMIF($F$13:$J$13,U$13,$F29:$J29),\"\")","v":{"$error":"#REF!"}},{"$f":"IF(AND(LEN($D29)>0,SUMIF($F$13:$J$13,V$13,$F29:$J29)>0,ASISTENCIA!#REF!<>\"X\",ASISTENCIA!#REF!<>\"L\",ASISTENCIA!#REF!<>\"J\",ASISTENCIA!#REF!<>\"V\",ASISTENCIA!#REF!<>\"F\",ASISTENCIA!#REF!<>\"\"),SUMIF($F$13:$J$13,V$13,$F29:$J29),\"\")","v":{"$error":"#REF!"}},{"$f":"IF(AND(LEN($D29)>0,SUMIF($F$13:$J$13,W$13,$F29:$J29)>0,ASISTENCIA!#REF!<>\"X\",ASISTENCIA!#REF!<>\"L\",ASISTENCIA!#REF!<>\"J\",ASISTENCIA!#REF!<>\"V\",ASISTENCIA!#REF!<>\"F\",ASISTENCIA!#REF!<>\"\"),SUMIF($F$13:$J$13,W$13,$F29:$J29),\"\")","v":{"$error":"#REF!"}},{"$f":"IF(AND(LEN($D29)>0,SUMIF($F$13:$J$13,X$13,$F29:$J29)>0,ASISTENCIA!#REF!<>\"X\",ASISTENCIA!#REF!<>\"L\",ASISTENCIA!#REF!<>\"J\",ASISTENCIA!#REF!<>\"V\",ASISTENCIA!#REF!<>\"F\",ASISTENCIA!#REF!<>\"\"),SUMIF($F$13:$J$13,X$13,$F29:$J29),\"\")","v":{"$error":"#REF!"}},{"$f":"IF(AND(LEN($D29)>0,SUMIF($F$13:$J$13,Y$13,$F29:$J29)>0,ASISTENCIA!#REF!<>\"X\",ASISTENCIA!#REF!<>\"L\",ASISTENCIA!#REF!<>\"J\",ASISTENCIA!#REF!<>\"V\",ASISTENCIA!#REF!<>\"F\",ASISTENCIA!#REF!<>\"\"),SUMIF($F$13:$J$13,Y$13,$F29:$J29),\"\")","v":{"$error":"#REF!"}},{"$f":"IF(AND(LEN($D29)>0,SUMIF($F$13:$J$13,Z$13,$F29:$J29)>0,ASISTENCIA!#REF!<>\"X\",ASISTENCIA!#REF!<>\"L\",ASISTENCIA!#REF!<>\"J\",ASISTENCIA!#REF!<>\"V\",ASISTENCIA!#REF!<>\"F\",ASISTENCIA!#REF!<>\"\"),SUMIF($F$13:$J$13,Z$13,$F29:$J29),\"\")","v":{"$error":"#REF!"}},{"$f":"IF(AND(LEN($D29)>0,SUMIF($F$13:$J$13,AA$13,$F29:$J29)>0,ASISTENCIA!#REF!<>\"X\",ASISTENCIA!#REF!<>\"L\",ASISTENCIA!#REF!<>\"J\",ASISTENCIA!#REF!<>\"V\",ASISTENCIA!#REF!<>\"F\",ASISTENCIA!#REF!<>\"\"),SUMIF($F$13:$J$13,AA$13,$F29:$J29),\"\")","v":{"$error":"#REF!"}},{"$f":"IF(AND(LEN($D29)>0,SUMIF($F$13:$J$13,AB$13,$F29:$J29)>0,ASISTENCIA!#REF!<>\"X\",ASISTENCIA!#REF!<>\"L\",ASISTENCIA!#REF!<>\"J\",ASISTENCIA!#REF!<>\"V\",ASISTENCIA!#REF!<>\"F\",ASISTENCIA!#REF!<>\"\"),SUMIF($F$13:$J$13,AB$13,$F29:$J29),\"\")","v":{"$error":"#REF!"}},{"$f":"IF(AND(LEN($D29)>0,SUMIF($F$13:$J$13,AC$13,$F29:$J29)>0,ASISTENCIA!#REF!<>\"X\",ASISTENCIA!#REF!<>\"L\",ASISTENCIA!#REF!<>\"J\",ASISTENCIA!#REF!<>\"V\",ASISTENCIA!#REF!<>\"F\",ASISTENCIA!#REF!<>\"\"),SUMIF($F$13:$J$13,AC$13,$F29:$J29),\"\")","v":{"$error":"#REF!"}},{"$f":"IF(AND(LEN($D29)>0,SUMIF($F$13:$J$13,AD$13,$F29:$J29)>0,ASISTENCIA!#REF!<>\"X\",ASISTENCIA!#REF!<>\"L\",ASISTENCIA!#REF!<>\"J\",ASISTENCIA!#REF!<>\"V\",ASISTENCIA!#REF!<>\"F\",ASISTENCIA!#REF!<>\"\"),SUMIF($F$13:$J$13,AD$13,$F29:$J29),\"\")","v":{"$error":"#REF!"}},{"$f":"IF(AND(LEN($D29)>0,SUMIF($F$13:$J$13,AE$13,$F29:$J29)>0,ASISTENCIA!#REF!<>\"X\",ASISTENCIA!#REF!<>\"L\",ASISTENCIA!#REF!<>\"J\",ASISTENCIA!#REF!<>\"V\",ASISTENCIA!#REF!<>\"F\",ASISTENCIA!#REF!<>\"\"),SUMIF($F$13:$J$13,AE$13,$F29:$J29),\"\")","v":{"$error":"#REF!"}},{"$f":"IF(AND(LEN($D29)>0,SUMIF($F$13:$J$13,AF$13,$F29:$J29)>0,ASISTENCIA!#REF!<>\"X\",ASISTENCIA!#REF!<>\"L\",ASISTENCIA!#REF!<>\"J\",ASISTENCIA!#REF!<>\"V\",ASISTENCIA!#REF!<>\"F\",ASISTENCIA!#REF!<>\"\"),SUMIF($F$13:$J$13,AF$13,$F29:$J29),\"\")","v":{"$error":"#REF!"}},{"$f":"IF(AND(LEN($D29)>0,SUMIF($F$13:$J$13,AG$13,$F29:$J29)>0,ASISTENCIA!#REF!<>\"X\",ASISTENCIA!#REF!<>\"L\",ASISTENCIA!#REF!<>\"J\",ASISTENCIA!#REF!<>\"V\",ASISTENCIA!#REF!<>\"F\",ASISTENCIA!#REF!<>\"\"),SUMIF($F$13:$J$13,AG$13,$F29:$J29),\"\")","v":{"$error":"#REF!"}},{"$f":"IF(AND(LEN($D29)>0,SUMIF($F$13:$J$13,AH$13,$F29:$J29)>0,ASISTENCIA!#REF!<>\"X\",ASISTENCIA!#REF!<>\"L\",ASISTENCIA!#REF!<>\"J\",ASISTENCIA!#REF!<>\"V\",ASISTENCIA!#REF!<>\"F\",ASISTENCIA!#REF!<>\"\"),SUMIF($F$13:$J$13,AH$13,$F29:$J29),\"\")","v":{"$error":"#REF!"}},{"$f":"IF(AND(LEN($D29)>0,SUMIF($F$13:$J$13,AI$13,$F29:$J29)>0,ASISTENCIA!#REF!<>\"X\",ASISTENCIA!#REF!<>\"L\",ASISTENCIA!#REF!<>\"J\",ASISTENCIA!#REF!<>\"V\",ASISTENCIA!#REF!<>\"F\",ASISTENCIA!#REF!<>\"\"),SUMIF($F$13:$J$13,AI$13,$F29:$J29),\"\")","v":{"$error":"#REF!"}},{"$f":"IF(AND(LEN($D29)>0,SUMIF($F$13:$J$13,AJ$13,$F29:$J29)>0,ASISTENCIA!#REF!<>\"X\",ASISTENCIA!#REF!<>\"L\",ASISTENCIA!#REF!<>\"J\",ASISTENCIA!#REF!<>\"V\",ASISTENCIA!#REF!<>\"F\",ASISTENCIA!#REF!<>\"\"),SUMIF($F$13:$J$13,AJ$13,$F29:$J29),\"\")","v":{"$error":"#REF!"}},{"$f":"IF(AND(LEN($D29)>0,SUMIF($F$13:$J$13,AK$13,$F29:$J29)>0,ASISTENCIA!#REF!<>\"X\",ASISTENCIA!#REF!<>\"L\",ASISTENCIA!#REF!<>\"J\",ASISTENCIA!#REF!<>\"V\",ASISTENCIA!#REF!<>\"F\",ASISTENCIA!#REF!<>\"\"),SUMIF($F$13:$J$13,AK$13,$F29:$J29),\"\")","v":{"$error":"#REF!"}},{"$f":"IF(AND(LEN($D29)>0,SUMIF($F$13:$J$13,AL$13,$F29:$J29)>0,ASISTENCIA!#REF!<>\"X\",ASISTENCIA!#REF!<>\"L\",ASISTENCIA!#REF!<>\"J\",ASISTENCIA!#REF!<>\"V\",ASISTENCIA!#REF!<>\"F\",ASISTENCIA!#REF!<>\"\"),SUMIF($F$13:$J$13,AL$13,$F29:$J29),\"\")","v":{"$error":"#REF!"}},{"$f":"IF(AND(LEN($D29)>0,SUMIF($F$13:$J$13,AM$13,$F29:$J29)>0,ASISTENCIA!#REF!<>\"X\",ASISTENCIA!#REF!<>\"L\",ASISTENCIA!#REF!<>\"J\",ASISTENCIA!#REF!<>\"V\",ASISTENCIA!#REF!<>\"F\",ASISTENCIA!#REF!<>\"\"),SUMIF($F$13:$J$13,AM$13,$F29:$J29),\"\")","v":{"$error":"#REF!"}},{"$f":"IF(AND(LEN($D29)>0,SUMIF($F$13:$J$13,AN$13,$F29:$J29)>0,ASISTENCIA!#REF!<>\"X\",ASISTENCIA!#REF!<>\"L\",ASISTENCIA!#REF!<>\"J\",ASISTENCIA!#REF!<>\"V\",ASISTENCIA!#REF!<>\"F\",ASISTENCIA!#REF!<>\"\"),SUMIF($F$13:$J$13,AN$13,$F29:$J29),\"\")","v":{"$error":"#REF!"}},{"$f":"IF(AND(LEN($D29)>0,SUMIF($F$13:$J$13,AO$13,$F29:$J29)>0,ASISTENCIA!#REF!<>\"X\",ASISTENCIA!#REF!<>\"L\",ASISTENCIA!#REF!<>\"J\",ASISTENCIA!#REF!<>\"V\",ASISTENCIA!#REF!<>\"F\",ASISTENCIA!#REF!<>\"\"),SUMIF($F$13:$J$13,AO$13,$F29:$J29),\"\")","v":{"$error":"#REF!"}},{"$f":"IF(AND(LEN($D29)>0,SUMIF($F$13:$J$13,AP$13,$F29:$J29)>0,ASISTENCIA!#REF!<>\"X\",ASISTENCIA!#REF!<>\"L\",ASISTENCIA!#REF!<>\"J\",ASISTENCIA!#REF!<>\"V\",ASISTENCIA!#REF!<>\"F\",ASISTENCIA!#REF!<>\"\"),SUMIF($F$13:$J$13,AP$13,$F29:$J29),\"\")","v":{"$error":"#REF!"}},{"$f":"IF(AND(LEN($D29)>0,SUMIF($F$13:$J$13,AQ$13,$F29:$J29)>0,ASISTENCIA!#REF!<>\"X\",ASISTENCIA!#REF!<>\"L\",ASISTENCIA!#REF!<>\"J\",ASISTENCIA!#REF!<>\"V\",ASISTENCIA!#REF!<>\"F\",ASISTENCIA!#REF!<>\"\"),SUMIF($F$13:$J$13,AQ$13,$F29:$J29),\"\")","v":{"$error":"#REF!"}},{"$f":"IF(AND(LEN($D29)>0,SUMIF($F$13:$J$13,AR$13,$F29:$J29)>0,ASISTENCIA!#REF!<>\"X\",ASISTENCIA!#REF!<>\"L\",ASISTENCIA!#REF!<>\"J\",ASISTENCIA!#REF!<>\"V\",ASISTENCIA!#REF!<>\"F\",ASISTENCIA!#REF!<>\"\"),SUMIF($F$13:$J$13,AR$13,$F29:$J29),\"\")","v":{"$error":"#REF!"}},{"$f":"IF(AND(LEN($D29)>0,SUMIF($F$13:$J$13,AS$13,$F29:$J29)>0,ASISTENCIA!#REF!<>\"X\",ASISTENCIA!#REF!<>\"L\",ASISTENCIA!#REF!<>\"J\",ASISTENCIA!#REF!<>\"V\",ASISTENCIA!#REF!<>\"F\",ASISTENCIA!#REF!<>\"\"),SUMIF($F$13:$J$13,AS$13,$F29:$J29),\"\")","v":{"$error":"#REF!"}},{"$error":"#REF!"},null,null,null,{"$f":"IF(AND(LEN($D29)>0,SUMIF($F$13:$J$13,AX$13,$F29:$J29)>0,ASISTENCIA!#REF!<>\"X\",ASISTENCIA!#REF!<>\"L\",ASISTENCIA!#REF!<>\"J\",ASISTENCIA!#REF!<>\"F\"),SUMIF($F$13:$J$13,AX$13,$F29:$J29),\"\")","v":{"$error":"#REF!"}},{"$f":"IF(AND(LEN($D29)>0,SUMIF($F$13:$J$13,AY$13,$F29:$J29)>0,ASISTENCIA!#REF!<>\"X\",ASISTENCIA!#REF!<>\"L\",ASISTENCIA!#REF!<>\"J\",ASISTENCIA!#REF!<>\"F\"),SUMIF($F$13:$J$13,AY$13,$F29:$J29),\"\")","v":{"$error":"#REF!"}},{"$f":"IF(AND(LEN($D29)>0,SUMIF($F$13:$J$13,AZ$13,$F29:$J29)>0,ASISTENCIA!#REF!<>\"X\",ASISTENCIA!#REF!<>\"L\",ASISTENCIA!#REF!<>\"J\",ASISTENCIA!#REF!<>\"F\"),SUMIF($F$13:$J$13,AZ$13,$F29:$J29),\"\")","v":{"$error":"#REF!"}},{"$f":"IF(AND(LEN($D29)>0,SUMIF($F$13:$J$13,BA$13,$F29:$J29)>0,ASISTENCIA!#REF!<>\"X\",ASISTENCIA!#REF!<>\"L\",ASISTENCIA!#REF!<>\"J\",ASISTENCIA!#REF!<>\"F\"),SUMIF($F$13:$J$13,BA$13,$F29:$J29),\"\")","v":{"$error":"#REF!"}},{"$f":"IF(AND(LEN($D29)>0,SUMIF($F$13:$J$13,BB$13,$F29:$J29)>0,ASISTENCIA!#REF!<>\"X\",ASISTENCIA!#REF!<>\"L\",ASISTENCIA!#REF!<>\"J\",ASISTENCIA!#REF!<>\"F\"),SUMIF($F$13:$J$13,BB$13,$F29:$J29),\"\")","v":{"$error":"#REF!"}},{"$f":"IF(AND(LEN($D29)>0,SUMIF($F$13:$J$13,BC$13,$F29:$J29)>0,ASISTENCIA!#REF!<>\"X\",ASISTENCIA!#REF!<>\"L\",ASISTENCIA!#REF!<>\"J\",ASISTENCIA!#REF!<>\"F\"),SUMIF($F$13:$J$13,BC$13,$F29:$J29),\"\")","v":{"$error":"#REF!"}},{"$f":"IF(AND(LEN($D29)>0,SUMIF($F$13:$J$13,BD$13,$F29:$J29)>0,ASISTENCIA!#REF!<>\"X\",ASISTENCIA!#REF!<>\"L\",ASISTENCIA!#REF!<>\"J\",ASISTENCIA!#REF!<>\"F\"),SUMIF($F$13:$J$13,BD$13,$F29:$J29),\"\")","v":{"$error":"#REF!"}},{"$f":"IF(AND(LEN($D29)>0,SUMIF($F$13:$J$13,BE$13,$F29:$J29)>0,ASISTENCIA!#REF!<>\"X\",ASISTENCIA!#REF!<>\"L\",ASISTENCIA!#REF!<>\"J\",ASISTENCIA!#REF!<>\"F\"),SUMIF($F$13:$J$13,BE$13,$F29:$J29),\"\")","v":{"$error":"#REF!"}},{"$f":"IF(AND(LEN($D29)>0,SUMIF($F$13:$J$13,BF$13,$F29:$J29)>0,ASISTENCIA!#REF!<>\"X\",ASISTENCIA!#REF!<>\"L\",ASISTENCIA!#REF!<>\"J\",ASISTENCIA!#REF!<>\"F\"),SUMIF($F$13:$J$13,BF$13,$F29:$J29),\"\")","v":{"$error":"#REF!"}},{"$f":"IF(AND(LEN($D29)>0,SUMIF($F$13:$J$13,BG$13,$F29:$J29)>0,ASISTENCIA!#REF!<>\"X\",ASISTENCIA!#REF!<>\"L\",ASISTENCIA!#REF!<>\"J\",ASISTENCIA!#REF!<>\"F\"),SUMIF($F$13:$J$13,BG$13,$F29:$J29),\"\")","v":{"$error":"#REF!"}},{"$f":"IF(AND(LEN($D29)>0,SUMIF($F$13:$J$13,BH$13,$F29:$J29)>0,ASISTENCIA!#REF!<>\"X\",ASISTENCIA!#REF!<>\"L\",ASISTENCIA!#REF!<>\"J\",ASISTENCIA!#REF!<>\"F\"),SUMIF($F$13:$J$13,BH$13,$F29:$J29),\"\")","v":{"$error":"#REF!"}},{"$f":"IF(AND(LEN($D29)>0,SUMIF($F$13:$J$13,BI$13,$F29:$J29)>0,ASISTENCIA!#REF!<>\"X\",ASISTENCIA!#REF!<>\"L\",ASISTENCIA!#REF!<>\"J\",ASISTENCIA!#REF!<>\"F\"),SUMIF($F$13:$J$13,BI$13,$F29:$J29),\"\")","v":{"$error":"#REF!"}},{"$f":"IF(AND(LEN($D29)>0,SUMIF($F$13:$J$13,BJ$13,$F29:$J29)>0,ASISTENCIA!#REF!<>\"X\",ASISTENCIA!#REF!<>\"L\",ASISTENCIA!#REF!<>\"J\",ASISTENCIA!#REF!<>\"F\"),SUMIF($F$13:$J$13,BJ$13,$F29:$J29),\"\")","v":{"$error":"#REF!"}},{"$f":"IF(AND(LEN($D29)>0,SUMIF($F$13:$J$13,BK$13,$F29:$J29)>0,ASISTENCIA!#REF!<>\"X\",ASISTENCIA!#REF!<>\"L\",ASISTENCIA!#REF!<>\"J\",ASISTENCIA!#REF!<>\"F\"),SUMIF($F$13:$J$13,BK$13,$F29:$J29),\"\")","v":{"$error":"#REF!"}},{"$f":"IF(AND(LEN($D29)>0,SUMIF($F$13:$J$13,BL$13,$F29:$J29)>0,ASISTENCIA!#REF!<>\"X\",ASISTENCIA!#REF!<>\"L\",ASISTENCIA!#REF!<>\"J\",ASISTENCIA!#REF!<>\"F\"),SUMIF($F$13:$J$13,BL$13,$F29:$J29),\"\")","v":{"$error":"#REF!"}},{"$f":"IF(AND(LEN($D29)>0,SUMIF($F$13:$J$13,BM$13,$F29:$J29)>0,ASISTENCIA!#REF!<>\"X\",ASISTENCIA!#REF!<>\"L\",ASISTENCIA!#REF!<>\"J\",ASISTENCIA!#REF!<>\"F\"),SUMIF($F$13:$J$13,BM$13,$F29:$J29),\"\")","v":{"$error":"#REF!"}},{"$f":"IF(AND(LEN($D29)>0,SUMIF($F$13:$J$13,BN$13,$F29:$J29)>0,ASISTENCIA!#REF!<>\"X\",ASISTENCIA!#REF!<>\"L\",ASISTENCIA!#REF!<>\"J\",ASISTENCIA!#REF!<>\"F\"),SUMIF($F$13:$J$13,BN$13,$F29:$J29),\"\")","v":{"$error":"#REF!"}},{"$f":"IF(AND(LEN($D29)>0,SUMIF($F$13:$J$13,BO$13,$F29:$J29)>0,ASISTENCIA!#REF!<>\"X\",ASISTENCIA!#REF!<>\"L\",ASISTENCIA!#REF!<>\"J\",ASISTENCIA!#REF!<>\"F\"),SUMIF($F$13:$J$13,BO$13,$F29:$J29),\"\")","v":{"$error":"#REF!"}},{"$f":"IF(AND(LEN($D29)>0,SUMIF($F$13:$J$13,BP$13,$F29:$J29)>0,ASISTENCIA!#REF!<>\"X\",ASISTENCIA!#REF!<>\"L\",ASISTENCIA!#REF!<>\"J\",ASISTENCIA!#REF!<>\"F\"),SUMIF($F$13:$J$13,BP$13,$F29:$J29),\"\")","v":{"$error":"#REF!"}},{"$f":"IF(AND(LEN($D29)>0,SUMIF($F$13:$J$13,BQ$13,$F29:$J29)>0,ASISTENCIA!#REF!<>\"X\",ASISTENCIA!#REF!<>\"L\",ASISTENCIA!#REF!<>\"J\",ASISTENCIA!#REF!<>\"F\"),SUMIF($F$13:$J$13,BQ$13,$F29:$J29),\"\")","v":{"$error":"#REF!"}},{"$f":"IF(AND(LEN($D29)>0,SUMIF($F$13:$J$13,BR$13,$F29:$J29)>0,ASISTENCIA!#REF!<>\"X\",ASISTENCIA!#REF!<>\"L\",ASISTENCIA!#REF!<>\"J\",ASISTENCIA!#REF!<>\"F\"),SUMIF($F$13:$J$13,BR$13,$F29:$J29),\"\")","v":{"$error":"#REF!"}},{"$f":"IF(AND(LEN($D29)>0,SUMIF($F$13:$J$13,BS$13,$F29:$J29)>0,ASISTENCIA!#REF!<>\"X\",ASISTENCIA!#REF!<>\"L\",ASISTENCIA!#REF!<>\"J\",ASISTENCIA!#REF!<>\"F\"),SUMIF($F$13:$J$13,BS$13,$F29:$J29),\"\")","v":{"$error":"#REF!"}},{"$f":"IF(AND(LEN($D29)>0,SUMIF($F$13:$J$13,BT$13,$F29:$J29)>0,ASISTENCIA!#REF!<>\"X\",ASISTENCIA!#REF!<>\"L\",ASISTENCIA!#REF!<>\"J\",ASISTENCIA!#REF!<>\"F\"),SUMIF($F$13:$J$13,BT$13,$F29:$J29),\"\")","v":{"$error":"#REF!"}},{"$f":"IF(AND(LEN($D29)>0,SUMIF($F$13:$J$13,BU$13,$F29:$J29)>0,ASISTENCIA!#REF!<>\"X\",ASISTENCIA!#REF!<>\"L\",ASISTENCIA!#REF!<>\"J\",ASISTENCIA!#REF!<>\"F\"),SUMIF($F$13:$J$13,BU$13,$F29:$J29),\"\")","v":{"$error":"#REF!"}},{"$f":"IF(AND(LEN($D29)>0,SUMIF($F$13:$J$13,BV$13,$F29:$J29)>0,ASISTENCIA!#REF!<>\"X\",ASISTENCIA!#REF!<>\"L\",ASISTENCIA!#REF!<>\"J\",ASISTENCIA!#REF!<>\"F\"),SUMIF($F$13:$J$13,BV$13,$F29:$J29),\"\")","v":{"$error":"#REF!"}},{"$f":"IF(AND(LEN($D29)>0,SUMIF($F$13:$J$13,BW$13,$F29:$J29)>0,ASISTENCIA!#REF!<>\"X\",ASISTENCIA!#REF!<>\"L\",ASISTENCIA!#REF!<>\"J\",ASISTENCIA!#REF!<>\"F\"),SUMIF($F$13:$J$13,BW$13,$F29:$J29),\"\")","v":{"$error":"#REF!"}},{"$f":"IF(AND(LEN($D29)>0,SUMIF($F$13:$J$13,BX$13,$F29:$J29)>0,ASISTENCIA!#REF!<>\"X\",ASISTENCIA!#REF!<>\"L\",ASISTENCIA!#REF!<>\"J\",ASISTENCIA!#REF!<>\"F\"),SUMIF($F$13:$J$13,BX$13,$F29:$J29),\"\")","v":{"$error":"#REF!"}},{"$f":"IF(AND(LEN($D29)>0,SUMIF($F$13:$J$13,BY$13,$F29:$J29)>0,ASISTENCIA!#REF!<>\"X\",ASISTENCIA!#REF!<>\"L\",ASISTENCIA!#REF!<>\"J\",ASISTENCIA!#REF!<>\"F\"),SUMIF($F$13:$J$13,BY$13,$F29:$J29),\"\")","v":{"$error":"#REF!"}},{"$f":"IF(AND(LEN($D29)>0,SUMIF($F$13:$J$13,BZ$13,$F29:$J29)>0,ASISTENCIA!#REF!<>\"X\",ASISTENCIA!#REF!<>\"L\",ASISTENCIA!#REF!<>\"J\",ASISTENCIA!#REF!<>\"F\"),SUMIF($F$13:$J$13,BZ$13,$F29:$J29),\"\")","v":{"$error":"#REF!"}},{"$f":"IF(AND(LEN($D29)>0,SUMIF($F$13:$J$13,CA$13,$F29:$J29)>0,ASISTENCIA!#REF!<>\"X\",ASISTENCIA!#REF!<>\"L\",ASISTENCIA!#REF!<>\"J\",ASISTENCIA!#REF!<>\"F\"),SUMIF($F$13:$J$13,CA$13,$F29:$J29),\"\")","v":{"$error":"#REF!"}},{"$f":"IF(AND(LEN($D29)>0,SUMIF($F$13:$J$13,CB$13,$F29:$J29)>0,ASISTENCIA!#REF!<>\"X\",ASISTENCIA!#REF!<>\"L\",ASISTENCIA!#REF!<>\"J\",ASISTENCIA!#REF!<>\"F\"),SUMIF($F$13:$J$13,CB$13,$F29:$J29),\"\")","v":{"$error":"#REF!"}},{"$error":"#REF!"}]
[{"$error":"#REF!"},{"$f":"IF(LEN(C30)>0,VLOOKUP($O$4,DATA!$A$1:$S$1,2,FALSE),\"\")","v":{"$error":"#REF!"}},{"$error":"#REF!"},{"$f":"IF(LEN(ASISTENCIA!#REF!)>0,ASISTENCIA!#REF!,\"\")","v":{"$error":"#REF!"}},{"$f":"IF(LEN(D30)>0,ASISTENCIA!#REF!,\"\")","v":{"$error":"#REF!"}},null,null,null,null,null,"",null,null,{"$error":"#REF!"},{"$f":"IF(AND(LEN($D30)>0,SUMIF($F$13:$J$13,O$13,$F30:$J30)>0,ASISTENCIA!#REF!<>\"X\",ASISTENCIA!#REF!<>\"L\",ASISTENCIA!#REF!<>\"J\",ASISTENCIA!#REF!<>\"V\",ASISTENCIA!#REF!<>\"F\",ASISTENCIA!#REF!<>\"\"),SUMIF($F$13:$J$13,O$13,$F30:$J30),\"\")","v":{"$error":"#REF!"}},{"$f":"IF(AND(LEN($D30)>0,SUMIF($F$13:$J$13,P$13,$F30:$J30)>0,ASISTENCIA!#REF!<>\"X\",ASISTENCIA!#REF!<>\"L\",ASISTENCIA!#REF!<>\"J\",ASISTENCIA!#REF!<>\"V\",ASISTENCIA!#REF!<>\"F\",ASISTENCIA!#REF!<>\"\"),SUMIF($F$13:$J$13,P$13,$F30:$J30),\"\")","v":{"$error":"#REF!"}},{"$f":"IF(AND(LEN($D30)>0,SUMIF($F$13:$J$13,Q$13,$F30:$J30)>0,ASISTENCIA!#REF!<>\"X\",ASISTENCIA!#REF!<>\"L\",ASISTENCIA!#REF!<>\"J\",ASISTENCIA!#REF!<>\"V\",ASISTENCIA!#REF!<>\"F\",ASISTENCIA!#REF!<>\"\"),SUMIF($F$13:$J$13,Q$13,$F30:$J30),\"\")","v":{"$error":"#REF!"}},{"$f":"IF(AND(LEN($D30)>0,SUMIF($F$13:$J$13,R$13,$F30:$J30)>0,ASISTENCIA!#REF!<>\"X\",ASISTENCIA!#REF!<>\"L\",ASISTENCIA!#REF!<>\"J\",ASISTENCIA!#REF!<>\"V\",ASISTENCIA!#REF!<>\"F\",ASISTENCIA!#REF!<>\"\"),SUMIF($F$13:$J$13,R$13,$F30:$J30),\"\")","v":{"$error":"#REF!"}},{"$f":"IF(AND(LEN($D30)>0,SUMIF($F$13:$J$13,S$13,$F30:$J30)>0,ASISTENCIA!#REF!<>\"X\",ASISTENCIA!#REF!<>\"L\",ASISTENCIA!#REF!<>\"J\",ASISTENCIA!#REF!<>\"V\",ASISTENCIA!#REF!<>\"F\",ASISTENCIA!#REF!<>\"\"),SUMIF($F$13:$J$13,S$13,$F30:$J30),\"\")","v":{"$error":"#REF!"}},{"$f":"IF(AND(LEN($D30)>0,SUMIF($F$13:$J$13,T$13,$F30:$J30)>0,ASISTENCIA!#REF!<>\"X\",ASISTENCIA!#REF!<>\"L\",ASISTENCIA!#REF!<>\"J\",ASISTENCIA!#REF!<>\"V\",ASISTENCIA!#REF!<>\"F\",ASISTENCIA!#REF!<>\"\"),SUMIF($F$13:$J$13,T$13,$F30:$J30),\"\")","v":{"$error":"#REF!"}},{"$f":"IF(AND(LEN($D30)>0,SUMIF($F$13:$J$13,U$13,$F30:$J30)>0,ASISTENCIA!#REF!<>\"X\",ASISTENCIA!#REF!<>\"L\",ASISTENCIA!#REF!<>\"J\",ASISTENCIA!#REF!<>\"V\",ASISTENCIA!#REF!<>\"F\",ASISTENCIA!#REF!<>\"\"),SUMIF($F$13:$J$13,U$13,$F30:$J30),\"\")","v":{"$error":"#REF!"}},{"$f":"IF(AND(LEN($D30)>0,SUMIF($F$13:$J$13,V$13,$F30:$J30)>0,ASISTENCIA!#REF!<>\"X\",ASISTENCIA!#REF!<>\"L\",ASISTENCIA!#REF!<>\"J\",ASISTENCIA!#REF!<>\"V\",ASISTENCIA!#REF!<>\"F\",ASISTENCIA!#REF!<>\"\"),SUMIF($F$13:$J$13,V$13,$F30:$J30),\"\")","v":{"$error":"#REF!"}},{"$f":"IF(AND(LEN($D30)>0,SUMIF($F$13:$J$13,W$13,$F30:$J30)>0,ASISTENCIA!#REF!<>\"X\",ASISTENCIA!#REF!<>\"L\",ASISTENCIA!#REF!<>\"J\",ASISTENCIA!#REF!<>\"V\",ASISTENCIA!#REF!<>\"F\",ASISTENCIA!#REF!<>\"\"),SUMIF($F$13:$J$13,W$13,$F30:$J30),\"\")","v":{"$error":"#REF!"}},{"$f":"IF(AND(LEN($D30)>0,SUMIF($F$13:$J$13,X$13,$F30:$J30)>0,ASISTENCIA!#REF!<>\"X\",ASISTENCIA!#REF!<>\"L\",ASISTENCIA!#REF!<>\"J\",ASISTENCIA!#REF!<>\"V\",ASISTENCIA!#REF!<>\"F\",ASISTENCIA!#REF!<>\"\"),SUMIF($F$13:$J$13,X$13,$F30:$J30),\"\")","v":{"$error":"#REF!"}},{"$f":"IF(AND(LEN($D30)>0,SUMIF($F$13:$J$13,Y$13,$F30:$J30)>0,ASISTENCIA!#REF!<>\"X\",ASISTENCIA!#REF!<>\"L\",ASISTENCIA!#REF!<>\"J\",ASISTENCIA!#REF!<>\"V\",ASISTENCIA!#REF!<>\"F\",ASISTENCIA!#REF!<>\"\"),SUMIF($F$13:$J$13,Y$13,$F30:$J30),\"\")","v":{"$error":"#REF!"}},{"$f":"IF(AND(LEN($D30)>0,SUMIF($F$13:$J$13,Z$13,$F30:$J30)>0,ASISTENCIA!#REF!<>\"X\",ASISTENCIA!#REF!<>\"L\",ASISTENCIA!#REF!<>\"J\",ASISTENCIA!#REF!<>\"V\",ASISTENCIA!#REF!<>\"F\",ASISTENCIA!#REF!<>\"\"),SUMIF($F$13:$J$13,Z$13,$F30:$J30),\"\")","v":{"$error":"#REF!"}},{"$f":"IF(AND(LEN($D30)>0,SUMIF($F$13:$J$13,AA$13,$F30:$J30)>0,ASISTENCIA!#REF!<>\"X\",ASISTENCIA!#REF!<>\"L\",ASISTENCIA!#REF!<>\"J\",ASISTENCIA!#REF!<>\"V\",ASISTENCIA!#REF!<>\"F\",ASISTENCIA!#REF!<>\"\"),SUMIF($F$13:$J$13,AA$13,$F30:$J30),\"\")","v":{"$error":"#REF!"}},{"$f":"IF(AND(LEN($D30)>0,SUMIF($F$13:$J$13,AB$13,$F30:$J30)>0,ASISTENCIA!#REF!<>\"X\",ASISTENCIA!#REF!<>\"L\",ASISTENCIA!#REF!<>\"J\",ASISTENCIA!#REF!<>\"V\",ASISTENCIA!#REF!<>\"F\",ASISTENCIA!#REF!<>\"\"),SUMIF($F$13:$J$13,AB$13,$F30:$J30),\"\")","v":{"$error":"#REF!"}},{"$f":"IF(AND(LEN($D30)>0,SUMIF($F$13:$J$13,AC$13,$F30:$J30)>0,ASISTENCIA!#REF!<>\"X\",ASISTENCIA!#REF!<>\"L\",ASISTENCIA!#REF!<>\"J\",ASISTENCIA!#REF!<>\"V\",ASISTENCIA!#REF!<>\"F\",ASISTENCIA!#REF!<>\"\"),SUMIF($F$13:$J$13,AC$13,$F30:$J30),\"\")","v":{"$error":"#REF!"}},{"$f":"IF(AND(LEN($D30)>0,SUMIF($F$13:$J$13,AD$13,$F30:$J30)>0,ASISTENCIA!#REF!<>\"X\",ASISTENCIA!#REF!<>\"L\",ASISTENCIA!#REF!<>\"J\",ASISTENCIA!#REF!<>\"V\",ASISTENCIA!#REF!<>\"F\",ASISTENCIA!#REF!<>\"\"),SUMIF($F$13:$J$13,AD$13,$F30:$J30),\"\")","v":{"$error":"#REF!"}},{"$f":"IF(AND(LEN($D30)>0,SUMIF($F$13:$J$13,AE$13,$F30:$J30)>0,ASISTENCIA!#REF!<>\"X\",ASISTENCIA!#REF!<>\"L\",ASISTENCIA!#REF!<>\"J\",ASISTENCIA!#REF!<>\"V\",ASISTENCIA!#REF!<>\"F\",ASISTENCIA!#REF!<>\"\"),SUMIF($F$13:$J$13,AE$13,$F30:$J30),\"\")","v":{"$error":"#REF!"}},{"$f":"IF(AND(LEN($D30)>0,SUMIF($F$13:$J$13,AF$13,$F30:$J30)>0,ASISTENCIA!#REF!<>\"X\",ASISTENCIA!#REF!<>\"L\",ASISTENCIA!#REF!<>\"J\",ASISTENCIA!#REF!<>\"V\",ASISTENCIA!#REF!<>\"F\",ASISTENCIA!#REF!<>\"\"),SUMIF($F$13:$J$13,AF$13,$F30:$J30),\"\")","v":{"$error":"#REF!"}},{"$f":"IF(AND(LEN($D30)>0,SUMIF($F$13:$J$13,AG$13,$F30:$J30)>0,ASISTENCIA!#REF!<>\"X\",ASISTENCIA!#REF!<>\"L\",ASISTENCIA!#REF!<>\"J\",ASISTENCIA!#REF!<>\"V\",ASISTENCIA!#REF!<>\"F\",ASISTENCIA!#REF!<>\"\"),SUMIF($F$13:$J$13,AG$13,$F30:$J30),\"\")","v":{"$error":"#REF!"}},{"$f":"IF(AND(LEN($D30)>0,SUMIF($F$13:$J$13,AH$13,$F30:$J30)>0,ASISTENCIA!#REF!<>\"X\",ASISTENCIA!#REF!<>\"L\",ASISTENCIA!#REF!<>\"J\",ASISTENCIA!#REF!<>\"V\",ASISTENCIA!#REF!<>\"F\",ASISTENCIA!#REF!<>\"\"),SUMIF($F$13:$J$13,AH$13,$F30:$J30),\"\")","v":{"$error":"#REF!"}},{"$f":"IF(AND(LEN($D30)>0,SUMIF($F$13:$J$13,AI$13,$F30:$J30)>0,ASISTENCIA!#REF!<>\"X\",ASISTENCIA!#REF!<>\"L\",ASISTENCIA!#REF!<>\"J\",ASISTENCIA!#REF!<>\"V\",ASISTENCIA!#REF!<>\"F\",ASISTENCIA!#REF!<>\"\"),SUMIF($F$13:$J$13,AI$13,$F30:$J30),\"\")","v":{"$error":"#REF!"}},{"$f":"IF(AND(LEN($D30)>0,SUMIF($F$13:$J$13,AJ$13,$F30:$J30)>0,ASISTENCIA!#REF!<>\"X\",ASISTENCIA!#REF!<>\"L\",ASISTENCIA!#REF!<>\"J\",ASISTENCIA!#REF!<>\"V\",ASISTENCIA!#REF!<>\"F\",ASISTENCIA!#REF!<>\"\"),SUMIF($F$13:$J$13,AJ$13,$F30:$J30),\"\")","v":{"$error":"#REF!"}},{"$f":"IF(AND(LEN($D30)>0,SUMIF($F$13:$J$13,AK$13,$F30:$J30)>0,ASISTENCIA!#REF!<>\"X\",ASISTENCIA!#REF!<>\"L\",ASISTENCIA!#REF!<>\"J\",ASISTENCIA!#REF!<>\"V\",ASISTENCIA!#REF!<>\"F\",ASISTENCIA!#REF!<>\"\"),SUMIF($F$13:$J$13,AK$13,$F30:$J30),\"\")","v":{"$error":"#REF!"}},{"$f":"IF(AND(LEN($D30)>0,SUMIF($F$13:$J$13,AL$13,$F30:$J30)>0,ASISTENCIA!#REF!<>\"X\",ASISTENCIA!#REF!<>\"L\",ASISTENCIA!#REF!<>\"J\",ASISTENCIA!#REF!<>\"V\",ASISTENCIA!#REF!<>\"F\",ASISTENCIA!#REF!<>\"\"),SUMIF($F$13:$J$13,AL$13,$F30:$J30),\"\")","v":{"$error":"#REF!"}},{"$f":"IF(AND(LEN($D30)>0,SUMIF($F$13:$J$13,AM$13,$F30:$J30)>0,ASISTENCIA!#REF!<>\"X\",ASISTENCIA!#REF!<>\"L\",ASISTENCIA!#REF!<>\"J\",ASISTENCIA!#REF!<>\"V\",ASISTENCIA!#REF!<>\"F\",ASISTENCIA!#REF!<>\"\"),SUMIF($F$13:$J$13,AM$13,$F30:$J30),\"\")","v":{"$error":"#REF!"}},{"$f":"IF(AND(LEN($D30)>0,SUMIF($F$13:$J$13,AN$13,$F30:$J30)>0,ASISTENCIA!#REF!<>\"X\",ASISTENCIA!#REF!<>\"L\",ASISTENCIA!#REF!<>\"J\",ASISTENCIA!#REF!<>\"V\",ASISTENCIA!#REF!<>\"F\",ASISTENCIA!#REF!<>\"\"),SUMIF($F$13:$J$13,AN$13,$F30:$J30),\"\")","v":{"$error":"#REF!"}},{"$f":"IF(AND(LEN($D30)>0,SUMIF($F$13:$J$13,AO$13,$F30:$J30)>0,ASISTENCIA!#REF!<>\"X\",ASISTENCIA!#REF!<>\"L\",ASISTENCIA!#REF!<>\"J\",ASISTENCIA!#REF!<>\"V\",ASISTENCIA!#REF!<>\"F\",ASISTENCIA!#REF!<>\"\"),SUMIF($F$13:$J$13,AO$13,$F30:$J30),\"\")","v":{"$error":"#REF!"}},{"$f":"IF(AND(LEN($D30)>0,SUMIF($F$13:$J$13,AP$13,$F30:$J30)>0,ASISTENCIA!#REF!<>\"X\",ASISTENCIA!#REF!<>\"L\",ASISTENCIA!#REF!<>\"J\",ASISTENCIA!#REF!<>\"V\",ASISTENCIA!#REF!<>\"F\",ASISTENCIA!#REF!<>\"\"),SUMIF($F$13:$J$13,AP$13,$F30:$J30),\"\")","v":{"$error":"#REF!"}},{"$f":"IF(AND(LEN($D30)>0,SUMIF($F$13:$J$13,AQ$13,$F30:$J30)>0,ASISTENCIA!#REF!<>\"X\",ASISTENCIA!#REF!<>\"L\",ASISTENCIA!#REF!<>\"J\",ASISTENCIA!#REF!<>\"V\",ASISTENCIA!#REF!<>\"F\",ASISTENCIA!#REF!<>\"\"),SUMIF($F$13:$J$13,AQ$13,$F30:$J30),\"\")","v":{"$error":"#REF!"}},{"$f":"IF(AND(LEN($D30)>0,SUMIF($F$13:$J$13,AR$13,$F30:$J30)>0,ASISTENCIA!#REF!<>\"X\",ASISTENCIA!#REF!<>\"L\",ASISTENCIA!#REF!<>\"J\",ASISTENCIA!#REF!<>\"V\",ASISTENCIA!#REF!<>\"F\",ASISTENCIA!#REF!<>\"\"),SUMIF($F$13:$J$13,AR$13,$F30:$J30),\"\")","v":{"$error":"#REF!"}},{"$f":"IF(AND(LEN($D30)>0,SUMIF($F$13:$J$13,AS$13,$F30:$J30)>0,ASISTENCIA!#REF!<>\"X\",ASISTENCIA!#REF!<>\"L\",ASISTENCIA!#REF!<>\"J\",ASISTENCIA!#REF!<>\"V\",ASISTENCIA!#REF!<>\"F\",ASISTENCIA!#REF!<>\"\"),SUMIF($F$13:$J$13,AS$13,$F30:$J30),\"\")","v":{"$error":"#REF!"}},{"$error":"#REF!"},null,null,null,{"$f":"IF(AND(LEN($D30)>0,SUMIF($F$13:$J$13,AX$13,$F30:$J30)>0,ASISTENCIA!#REF!<>\"X\",ASISTENCIA!#REF!<>\"L\",ASISTENCIA!#REF!<>\"J\",ASISTENCIA!#REF!<>\"F\"),SUMIF($F$13:$J$13,AX$13,$F30:$J30),\"\")","v":{"$error":"#REF!"}},{"$f":"IF(AND(LEN($D30)>0,SUMIF($F$13:$J$13,AY$13,$F30:$J30)>0,ASISTENCIA!#REF!<>\"X\",ASISTENCIA!#REF!<>\"L\",ASISTENCIA!#REF!<>\"J\",ASISTENCIA!#REF!<>\"F\"),SUMIF($F$13:$J$13,AY$13,$F30:$J30),\"\")","v":{"$error":"#REF!"}},{"$f":"IF(AND(LEN($D30)>0,SUMIF($F$13:$J$13,AZ$13,$F30:$J30)>0,ASISTENCIA!#REF!<>\"X\",ASISTENCIA!#REF!<>\"L\",ASISTENCIA!#REF!<>\"J\",ASISTENCIA!#REF!<>\"F\"),SUMIF($F$13:$J$13,AZ$13,$F30:$J30),\"\")","v":{"$error":"#REF!"}},{"$f":"IF(AND(LEN($D30)>0,SUMIF($F$13:$J$13,BA$13,$F30:$J30)>0,ASISTENCIA!#REF!<>\"X\",ASISTENCIA!#REF!<>\"L\",ASISTENCIA!#REF!<>\"J\",ASISTENCIA!#REF!<>\"F\"),SUMIF($F$13:$J$13,BA$13,$F30:$J30),\"\")","v":{"$error":"#REF!"}},{"$f":"IF(AND(LEN($D30)>0,SUMIF($F$13:$J$13,BB$13,$F30:$J30)>0,ASISTENCIA!#REF!<>\"X\",ASISTENCIA!#REF!<>\"L\",ASISTENCIA!#REF!<>\"J\",ASISTENCIA!#REF!<>\"F\"),SUMIF($F$13:$J$13,BB$13,$F30:$J30),\"\")","v":{"$error":"#REF!"}},{"$f":"IF(AND(LEN($D30)>0,SUMIF($F$13:$J$13,BC$13,$F30:$J30)>0,ASISTENCIA!#REF!<>\"X\",ASISTENCIA!#REF!<>\"L\",ASISTENCIA!#REF!<>\"J\",ASISTENCIA!#REF!<>\"F\"),SUMIF($F$13:$J$13,BC$13,$F30:$J30),\"\")","v":{"$error":"#REF!"}},{"$f":"IF(AND(LEN($D30)>0,SUMIF($F$13:$J$13,BD$13,$F30:$J30)>0,ASISTENCIA!#REF!<>\"X\",ASISTENCIA!#REF!<>\"L\",ASISTENCIA!#REF!<>\"J\",ASISTENCIA!#REF!<>\"F\"),SUMIF($F$13:$J$13,BD$13,$F30:$J30),\"\")","v":{"$error":"#REF!"}},{"$f":"IF(AND(LEN($D30)>0,SUMIF($F$13:$J$13,BE$13,$F30:$J30)>0,ASISTENCIA!#REF!<>\"X\",ASISTENCIA!#REF!<>\"L\",ASISTENCIA!#REF!<>\"J\",ASISTENCIA!#REF!<>\"F\"),SUMIF($F$13:$J$13,BE$13,$F30:$J30),\"\")","v":{"$error":"#REF!"}},{"$f":"IF(AND(LEN($D30)>0,SUMIF($F$13:$J$13,BF$13,$F30:$J30)>0,ASISTENCIA!#REF!<>\"X\",ASISTENCIA!#REF!<>\"L\",ASISTENCIA!#REF!<>\"J\",ASISTENCIA!#REF!<>\"F\"),SUMIF($F$13:$J$13,BF$13,$F30:$J30),\"\")","v":{"$error":"#REF!"}},{"$f":"IF(AND(LEN($D30)>0,SUMIF($F$13:$J$13,BG$13,$F30:$J30)>0,ASISTENCIA!#REF!<>\"X\",ASISTENCIA!#REF!<>\"L\",ASISTENCIA!#REF!<>\"J\",ASISTENCIA!#REF!<>\"F\"),SUMIF($F$13:$J$13,BG$13,$F30:$J30),\"\")","v":{"$error":"#REF!"}},{"$f":"IF(AND(LEN($D30)>0,SUMIF($F$13:$J$13,BH$13,$F30:$J30)>0,ASISTENCIA!#REF!<>\"X\",ASISTENCIA!#REF!<>\"L\",ASISTENCIA!#REF!<>\"J\",ASISTENCIA!#REF!<>\"F\"),SUMIF($F$13:$J$13,BH$13,$F30:$J30),\"\")","v":{"$error":"#REF!"}},{"$f":"IF(AND(LEN($D30)>0,SUMIF($F$13:$J$13,BI$13,$F30:$J30)>0,ASISTENCIA!#REF!<>\"X\",ASISTENCIA!#REF!<>\"L\",ASISTENCIA!#REF!<>\"J\",ASISTENCIA!#REF!<>\"F\"),SUMIF($F$13:$J$13,BI$13,$F30:$J30),\"\")","v":{"$error":"#REF!"}},{"$f":"IF(AND(LEN($D30)>0,SUMIF($F$13:$J$13,BJ$13,$F30:$J30)>0,ASISTENCIA!#REF!<>\"X\",ASISTENCIA!#REF!<>\"L\",ASISTENCIA!#REF!<>\"J\",ASISTENCIA!#REF!<>\"F\"),SUMIF($F$13:$J$13,BJ$13,$F30:$J30),\"\")","v":{"$error":"#REF!"}},{"$f":"IF(AND(LEN($D30)>0,SUMIF($F$13:$J$13,BK$13,$F30:$J30)>0,ASISTENCIA!#REF!<>\"X\",ASISTENCIA!#REF!<>\"L\",ASISTENCIA!#REF!<>\"J\",ASISTENCIA!#REF!<>\"F\"),SUMIF($F$13:$J$13,BK$13,$F30:$J30),\"\")","v":{"$error":"#REF!"}},{"$f":"IF(AND(LEN($D30)>0,SUMIF($F$13:$J$13,BL$13,$F30:$J30)>0,ASISTENCIA!#REF!<>\"X\",ASISTENCIA!#REF!<>\"L\",ASISTENCIA!#REF!<>\"J\",ASISTENCIA!#REF!<>\"F\"),SUMIF($F$13:$J$13,BL$13,$F30:$J30),\"\")","v":{"$error":"#REF!"}},{"$f":"IF(AND(LEN($D30)>0,SUMIF($F$13:$J$13,BM$13,$F30:$J30)>0,ASISTENCIA!#REF!<>\"X\",ASISTENCIA!#REF!<>\"L\",ASISTENCIA!#REF!<>\"J\",ASISTENCIA!#REF!<>\"F\"),SUMIF($F$13:$J$13,BM$13,$F30:$J30),\"\")","v":{"$error":"#REF!"}},{"$f":"IF(AND(LEN($D30)>0,SUMIF($F$13:$J$13,BN$13,$F30:$J30)>0,ASISTENCIA!#REF!<>\"X\",ASISTENCIA!#REF!<>\"L\",ASISTENCIA!#REF!<>\"J\",ASISTENCIA!#REF!<>\"F\"),SUMIF($F$13:$J$13,BN$13,$F30:$J30),\"\")","v":{"$error":"#REF!"}},{"$f":"IF(AND(LEN($D30)>0,SUMIF($F$13:$J$13,BO$13,$F30:$J30)>0,ASISTENCIA!#REF!<>\"X\",ASISTENCIA!#REF!<>\"L\",ASISTENCIA!#REF!<>\"J\",ASISTENCIA!#REF!<>\"F\"),SUMIF($F$13:$J$13,BO$13,$F30:$J30),\"\")","v":{"$error":"#REF!"}},{"$f":"IF(AND(LEN($D30)>0,SUMIF($F$13:$J$13,BP$13,$F30:$J30)>0,ASISTENCIA!#REF!<>\"X\",ASISTENCIA!#REF!<>\"L\",ASISTENCIA!#REF!<>\"J\",ASISTENCIA!#REF!<>\"F\"),SUMIF($F$13:$J$13,BP$13,$F30:$J30),\"\")","v":{"$error":"#REF!"}},{"$f":"IF(AND(LEN($D30)>0,SUMIF($F$13:$J$13,BQ$13,$F30:$J30)>0,ASISTENCIA!#REF!<>\"X\",ASISTENCIA!#REF!<>\"L\",ASISTENCIA!#REF!<>\"J\",ASISTENCIA!#REF!<>\"F\"),SUMIF($F$13:$J$13,BQ$13,$F30:$J30),\"\")","v":{"$error":"#REF!"}},{"$f":"IF(AND(LEN($D30)>0,SUMIF($F$13:$J$13,BR$13,$F30:$J30)>0,ASISTENCIA!#REF!<>\"X\",ASISTENCIA!#REF!<>\"L\",ASISTENCIA!#REF!<>\"J\",ASISTENCIA!#REF!<>\"F\"),SUMIF($F$13:$J$13,BR$13,$F30:$J30),\"\")","v":{"$error":"#REF!"}},{"$f":"IF(AND(LEN($D30)>0,SUMIF($F$13:$J$13,BS$13,$F30:$J30)>0,ASISTENCIA!#REF!<>\"X\",ASISTENCIA!#REF!<>\"L\",ASISTENCIA!#REF!<>\"J\",ASISTENCIA!#REF!<>\"F\"),SUMIF($F$13:$J$13,BS$13,$F30:$J30),\"\")","v":{"$error":"#REF!"}},{"$f":"IF(AND(LEN($D30)>0,SUMIF($F$13:$J$13,BT$13,$F30:$J30)>0,ASISTENCIA!#REF!<>\"X\",ASISTENCIA!#REF!<>\"L\",ASISTENCIA!#REF!<>\"J\",ASISTENCIA!#REF!<>\"F\"),SUMIF($F$13:$J$13,BT$13,$F30:$J30),\"\")","v":{"$error":"#REF!"}},{"$f":"IF(AND(LEN($D30)>0,SUMIF($F$13:$J$13,BU$13,$F30:$J30)>0,ASISTENCIA!#REF!<>\"X\",ASISTENCIA!#REF!<>\"L\",ASISTENCIA!#REF!<>\"J\",ASISTENCIA!#REF!<>\"F\"),SUMIF($F$13:$J$13,BU$13,$F30:$J30),\"\")","v":{"$error":"#REF!"}},{"$f":"IF(AND(LEN($D30)>0,SUMIF($F$13:$J$13,BV$13,$F30:$J30)>0,ASISTENCIA!#REF!<>\"X\",ASISTENCIA!#REF!<>\"L\",ASISTENCIA!#REF!<>\"J\",ASISTENCIA!#REF!<>\"F\"),SUMIF($F$13:$J$13,BV$13,$F30:$J30),\"\")","v":{"$error":"#REF!"}},{"$f":"IF(AND(LEN($D30)>0,SUMIF($F$13:$J$13,BW$13,$F30:$J30)>0,ASISTENCIA!#REF!<>\"X\",ASISTENCIA!#REF!<>\"L\",ASISTENCIA!#REF!<>\"J\",ASISTENCIA!#REF!<>\"F\"),SUMIF($F$13:$J$13,BW$13,$F30:$J30),\"\")","v":{"$error":"#REF!"}},{"$f":"IF(AND(LEN($D30)>0,SUMIF($F$13:$J$13,BX$13,$F30:$J30)>0,ASISTENCIA!#REF!<>\"X\",ASISTENCIA!#REF!<>\"L\",ASISTENCIA!#REF!<>\"J\",ASISTENCIA!#REF!<>\"F\"),SUMIF($F$13:$J$13,BX$13,$F30:$J30),\"\")","v":{"$error":"#REF!"}},{"$f":"IF(AND(LEN($D30)>0,SUMIF($F$13:$J$13,BY$13,$F30:$J30)>0,ASISTENCIA!#REF!<>\"X\",ASISTENCIA!#REF!<>\"L\",ASISTENCIA!#REF!<>\"J\",ASISTENCIA!#REF!<>\"F\"),SUMIF($F$13:$J$13,BY$13,$F30:$J30),\"\")","v":{"$error":"#REF!"}},{"$f":"IF(AND(LEN($D30)>0,SUMIF($F$13:$J$13,BZ$13,$F30:$J30)>0,ASISTENCIA!#REF!<>\"X\",ASISTENCIA!#REF!<>\"L\",ASISTENCIA!#REF!<>\"J\",ASISTENCIA!#REF!<>\"F\"),SUMIF($F$13:$J$13,BZ$13,$F30:$J30),\"\")","v":{"$error":"#REF!"}},{"$f":"IF(AND(LEN($D30)>0,SUMIF($F$13:$J$13,CA$13,$F30:$J30)>0,ASISTENCIA!#REF!<>\"X\",ASISTENCIA!#REF!<>\"L\",ASISTENCIA!#REF!<>\"J\",ASISTENCIA!#REF!<>\"F\"),SUMIF($F$13:$J$13,CA$13,$F30:$J30),\"\")","v":{"$error":"#REF!"}},{"$f":"IF(AND(LEN($D30)>0,SUMIF($F$13:$J$13,CB$13,$F30:$J30)>0,ASISTENCIA!#REF!<>\"X\",ASISTENCIA!#REF!<>\"L\",ASISTENCIA!#REF!<>\"J\",ASISTENCIA!#REF!<>\"F\"),SUMIF($F$13:$J$13,CB$13,$F30:$J30),\"\")","v":{"$error":"#REF!"}},{"$error":"#REF!"}]
[{"$error":"#REF!"},{"$f":"IF(LEN(C31)>0,VLOOKUP($O$4,DATA!$A$1:$S$1,2,FALSE),\"\")","v":{"$error":"#REF!"}},{"$error":"#REF!"},{"$f":"IF(LEN(ASISTENCIA!#REF!)>0,ASISTENCIA!#REF!,\"\")","v":{"$error":"#REF!"}},{"$f":"IF(LEN(D31)>0,ASISTENCIA!#REF!,\"\")","v":{"$error":"#REF!"}},null,null,null,null,null,"",null,null,{"$error":"#REF!"},{"$f":"IF(AND(LEN($D31)>0,SUMIF($F$13:$J$13,O$13,$F31:$J31)>0,ASISTENCIA!#REF!<>\"X\",ASISTENCIA!#REF!<>\"L\",ASISTENCIA!#REF!<>\"J\",ASISTENCIA!#REF!<>\"V\",ASISTENCIA!#REF!<>\"F\",ASISTENCIA!#REF!<>\"\"),SUMIF($F$13:$J$13,O$13,$F31:$J31),\"\")","v":{"$error":"#REF!"}},{"$f":"IF(AND(LEN($D31)>0,SUMIF($F$13:$J$13,P$13,$F31:$J31)>0,ASISTENCIA!#REF!<>\"X\",ASISTENCIA!#REF!<>\"L\",ASISTENCIA!#REF!<>\"J\",ASISTENCIA!#REF!<>\"V\",ASISTENCIA!#REF!<>\"F\",ASISTENCIA!#REF!<>\"\"),SUMIF($F$13:$J$13,P$13,$F31:$J31),\"\")","v":{"$error":"#REF!"}},{"$f":"IF(AND(LEN($D31)>0,SUMIF($F$13:$J$13,Q$13,$F31:$J31)>0,ASISTENCIA!#REF!<>\"X\",ASISTENCIA!#REF!<>\"L\",ASISTENCIA!#REF!<>\"J\",ASISTENCIA!#REF!<>\"V\",ASISTENCIA!#REF!<>\"F\",ASISTENCIA!#REF!<>\"\"),SUMIF($F$13:$J$13,Q$13,$F31:$J31),\"\")","v":{"$error":"#REF!"}},{"$f":"IF(AND(LEN($D31)>0,SUMIF($F$13:$J$13,R$13,$F31:$J31)>0,ASISTENCIA!#REF!<>\"X\",ASISTENCIA!#REF!<>\"L\",ASISTENCIA!#REF!<>\"J\",ASISTENCIA!#REF!<>\"V\",ASISTENCIA!#REF!<>\"F\",ASISTENCIA!#REF!<>\"\"),SUMIF($F$13:$J$13,R$13,$F31:$J31),\"\")","v":{"$error":"#REF!"}},{"$f":"IF(AND(LEN($D31)>0,SUMIF($F$13:$J$13,S$13,$F31:$J31)>0,ASISTENCIA!#REF!<>\"X\",ASISTENCIA!#REF!<>\"L\",ASISTENCIA!#REF!<>\"J\",ASISTENCIA!#REF!<>\"V\",ASISTENCIA!#REF!<>\"F\",ASISTENCIA!#REF!<>\"\"),SUMIF($F$13:$J$13,S$13,$F31:$J31),\"\")","v":{"$error":"#REF!"}},{"$f":"IF(AND(LEN($D31)>0,SUMIF($F$13:$J$13,T$13,$F31:$J31)>0,ASISTENCIA!#REF!<>\"X\",ASISTENCIA!#REF!<>\"L\",ASISTENCIA!#REF!<>\"J\",ASISTENCIA!#REF!<>\"V\",ASISTENCIA!#REF!<>\"F\",ASISTENCIA!#REF!<>\"\"),SUMIF($F$13:$J$13,T$13,$F31:$J31),\"\")","v":{"$error":"#REF!"}},{"$f":"IF(AND(LEN($D31)>0,SUMIF($F$13:$J$13,U$13,$F31:$J31)>0,ASISTENCIA!#REF!<>\"X\",ASISTENCIA!#REF!<>\"L\",ASISTENCIA!#REF!<>\"J\",ASISTENCIA!#REF!<>\"V\",ASISTENCIA!#REF!<>\"F\",ASISTENCIA!#REF!<>\"\"),SUMIF($F$13:$J$13,U$13,$F31:$J31),\"\")","v":{"$error":"#REF!"}},{"$f":"IF(AND(LEN($D31)>0,SUMIF($F$13:$J$13,V$13,$F31:$J31)>0,ASISTENCIA!#REF!<>\"X\",ASISTENCIA!#REF!<>\"L\",ASISTENCIA!#REF!<>\"J\",ASISTENCIA!#REF!<>\"V\",ASISTENCIA!#REF!<>\"F\",ASISTENCIA!#REF!<>\"\"),SUMIF($F$13:$J$13,V$13,$F31:$J31),\"\")","v":{"$error":"#REF!"}},{"$f":"IF(AND(LEN($D31)>0,SUMIF($F$13:$J$13,W$13,$F31:$J31)>0,ASISTENCIA!#REF!<>\"X\",ASISTENCIA!#REF!<>\"L\",ASISTENCIA!#REF!<>\"J\",ASISTENCIA!#REF!<>\"V\",ASISTENCIA!#REF!<>\"F\",ASISTENCIA!#REF!<>\"\"),SUMIF($F$13:$J$13,W$13,$F31:$J31),\"\")","v":{"$error":"#REF!"}},{"$f":"IF(AND(LEN($D31)>0,SUMIF($F$13:$J$13,X$13,$F31:$J31)>0,ASISTENCIA!#REF!<>\"X\",ASISTENCIA!#REF!<>\"L\",ASISTENCIA!#REF!<>\"J\",ASISTENCIA!#REF!<>\"V\",ASISTENCIA!#REF!<>\"F\",ASISTENCIA!#REF!<>\"\"),SUMIF($F$13:$J$13,X$13,$F31:$J31),\"\")","v":{"$error":"#REF!"}},{"$f":"IF(AND(LEN($D31)>0,SUMIF($F$13:$J$13,Y$13,$F31:$J31)>0,ASISTENCIA!#REF!<>\"X\",ASISTENCIA!#REF!<>\"L\",ASISTENCIA!#REF!<>\"J\",ASISTENCIA!#REF!<>\"V\",ASISTENCIA!#REF!<>\"F\",ASISTENCIA!#REF!<>\"\"),SUMIF($F$13:$J$13,Y$13,$F31:$J31),\"\")","v":{"$error":"#REF!"}},{"$f":"IF(AND(LEN($D31)>0,SUMIF($F$13:$J$13,Z$13,$F31:$J31)>0,ASISTENCIA!#REF!<>\"X\",ASISTENCIA!#REF!<>\"L\",ASISTENCIA!#REF!<>\"J\",ASISTENCIA!#REF!<>\"V\",ASISTENCIA!#REF!<>\"F\",ASISTENCIA!#REF!<>\"\"),SUMIF($F$13:$J$13,Z$13,$F31:$J31),\"\")","v":{"$error":"#REF!"}},{"$f":"IF(AND(LEN($D31)>0,SUMIF($F$13:$J$13,AA$13,$F31:$J31)>0,ASISTENCIA!#REF!<>\"X\",ASISTENCIA!#REF!<>\"L\",ASISTENCIA!#REF!<>\"J\",ASISTENCIA!#REF!<>\"V\",ASISTENCIA!#REF!<>\"F\",ASISTENCIA!#REF!<>\"\"),SUMIF($F$13:$J$13,AA$13,$F31:$J31),\"\")","v":{"$error":"#REF!"}},{"$f":"IF(AND(LEN($D31)>0,SUMIF($F$13:$J$13,AB$13,$F31:$J31)>0,ASISTENCIA!#REF!<>\"X\",ASISTENCIA!#REF!<>\"L\",ASISTENCIA!#REF!<>\"J\",ASISTENCIA!#REF!<>\"V\",ASISTENCIA!#REF!<>\"F\",ASISTENCIA!#REF!<>\"\"),SUMIF($F$13:$J$13,AB$13,$F31:$J31),\"\")","v":{"$error":"#REF!"}},{"$f":"IF(AND(LEN($D31)>0,SUMIF($F$13:$J$13,AC$13,$F31:$J31)>0,ASISTENCIA!#REF!<>\"X\",ASISTENCIA!#REF!<>\"L\",ASISTENCIA!#REF!<>\"J\",ASISTENCIA!#REF!<>\"V\",ASISTENCIA!#REF!<>\"F\",ASISTENCIA!#REF!<>\"\"),SUMIF($F$13:$J$13,AC$13,$F31:$J31),\"\")","v":{"$error":"#REF!"}},{"$f":"IF(AND(LEN($D31)>0,SUMIF($F$13:$J$13,AD$13,$F31:$J31)>0,ASISTENCIA!#REF!<>\"X\",ASISTENCIA!#REF!<>\"L\",ASISTENCIA!#REF!<>\"J\",ASISTENCIA!#REF!<>\"V\",ASISTENCIA!#REF!<>\"F\",ASISTENCIA!#REF!<>\"\"),SUMIF($F$13:$J$13,AD$13,$F31:$J31),\"\")","v":{"$error":"#REF!"}},{"$f":"IF(AND(LEN($D31)>0,SUMIF($F$13:$J$13,AE$13,$F31:$J31)>0,ASISTENCIA!#REF!<>\"X\",ASISTENCIA!#REF!<>\"L\",ASISTENCIA!#REF!<>\"J\",ASISTENCIA!#REF!<>\"V\",ASISTENCIA!#REF!<>\"F\",ASISTENCIA!#REF!<>\"\"),SUMIF($F$13:$J$13,AE$13,$F31:$J31),\"\")","v":{"$error":"#REF!"}},{"$f":"IF(AND(LEN($D31)>0,SUMIF($F$13:$J$13,AF$13,$F31:$J31)>0,ASISTENCIA!#REF!<>\"X\",ASISTENCIA!#REF!<>\"L\",ASISTENCIA!#REF!<>\"J\",ASISTENCIA!#REF!<>\"V\",ASISTENCIA!#REF!<>\"F\",ASISTENCIA!#REF!<>\"\"),SUMIF($F$13:$J$13,AF$13,$F31:$J31),\"\")","v":{"$error":"#REF!"}},{"$f":"IF(AND(LEN($D31)>0,SUMIF($F$13:$J$13,AG$13,$F31:$J31)>0,ASISTENCIA!#REF!<>\"X\",ASISTENCIA!#REF!<>\"L\",ASISTENCIA!#REF!<>\"J\",ASISTENCIA!#REF!<>\"V\",ASISTENCIA!#REF!<>\"F\",ASISTENCIA!#REF!<>\"\"),SUMIF($F$13:$J$13,AG$13,$F31:$J31),\"\")","v":{"$error":"#REF!"}},{"$f":"IF(AND(LEN($D31)>0,SUMIF($F$13:$J$13,AH$13,$F31:$J31)>0,ASISTENCIA!#REF!<>\"X\",ASISTENCIA!#REF!<>\"L\",ASISTENCIA!#REF!<>\"J\",ASISTENCIA!#REF!<>\"V\",ASISTENCIA!#REF!<>\"F\",ASISTENCIA!#REF!<>\"\"),SUMIF($F$13:$J$13,AH$13,$F31:$J31),\"\")","v":{"$error":"#REF!"}},{"$f":"IF(AND(LEN($D31)>0,SUMIF($F$13:$J$13,AI$13,$F31:$J31)>0,ASISTENCIA!#REF!<>\"X\",ASISTENCIA!#REF!<>\"L\",ASISTENCIA!#REF!<>\"J\",ASISTENCIA!#REF!<>\"V\",ASISTENCIA!#REF!<>\"F\",ASISTENCIA!#REF!<>\"\"),SUMIF($F$13:$J$13,AI$13,$F31:$J31),\"\")","v":{"$error":"#REF!"}},{"$f":"IF(AND(LEN($D31)>0,SUMIF($F$13:$J$13,AJ$13,$F31:$J31)>0,ASISTENCIA!#REF!<>\"X\",ASISTENCIA!#REF!<>\"L\",ASISTENCIA!#REF!<>\"J\",ASISTENCIA!#REF!<>\"V\",ASISTENCIA!#REF!<>\"F\",ASISTENCIA!#REF!<>\"\"),SUMIF($F$13:$J$13,AJ$13,$F31:$J31),\"\")","v":{"$error":"#REF!"}},{"$f":"IF(AND(LEN($D31)>0,SUMIF($F$13:$J$13,AK$13,$F31:$J31)>0,ASISTENCIA!#REF!<>\"X\",ASISTENCIA!#REF!<>\"L\",ASISTENCIA!#REF!<>\"J\",ASISTENCIA!#REF!<>\"V\",ASISTENCIA!#REF!<>\"F\",ASISTENCIA!#REF!<>\"\"),SUMIF($F$13:$J$13,AK$13,$F31:$J31),\"\")","v":{"$error":"#REF!"}},{"$f":"IF(AND(LEN($D31)>0,SUMIF($F$13:$J$13,AL$13,$F31:$J31)>0,ASISTENCIA!#REF!<>\"X\",ASISTENCIA!#REF!<>\"L\",ASISTENCIA!#REF!<>\"J\",ASISTENCIA!#REF!<>\"V\",ASISTENCIA!#REF!<>\"F\",ASISTENCIA!#REF!<>\"\"),SUMIF($F$13:$J$13,AL$13,$F31:$J31),\"\")","v":{"$error":"#REF!"}},{"$f":"IF(AND(LEN($D31)>0,SUMIF($F$13:$J$13,AM$13,$F31:$J31)>0,ASISTENCIA!#REF!<>\"X\",ASISTENCIA!#REF!<>\"L\",ASISTENCIA!#REF!<>\"J\",ASISTENCIA!#REF!<>\"V\",ASISTENCIA!#REF!<>\"F\",ASISTENCIA!#REF!<>\"\"),SUMIF($F$13:$J$13,AM$13,$F31:$J31),\"\")","v":{"$error":"#REF!"}},{"$f":"IF(AND(LEN($D31)>0,SUMIF($F$13:$J$13,AN$13,$F31:$J31)>0,ASISTENCIA!#REF!<>\"X\",ASISTENCIA!#REF!<>\"L\",ASISTENCIA!#REF!<>\"J\",ASISTENCIA!#REF!<>\"V\",ASISTENCIA!#REF!<>\"F\",ASISTENCIA!#REF!<>\"\"),SUMIF($F$13:$J$13,AN$13,$F31:$J31),\"\")","v":{"$error":"#REF!"}},{"$f":"IF(AND(LEN($D31)>0,SUMIF($F$13:$J$13,AO$13,$F31:$J31)>0,ASISTENCIA!#REF!<>\"X\",ASISTENCIA!#REF!<>\"L\",ASISTENCIA!#REF!<>\"J\",ASISTENCIA!#REF!<>\"V\",ASISTENCIA!#REF!<>\"F\",ASISTENCIA!#REF!<>\"\"),SUMIF($F$13:$J$13,AO$13,$F31:$J31),\"\")","v":{"$error":"#REF!"}},{"$f":"IF(AND(LEN($D31)>0,SUMIF($F$13:$J$13,AP$13,$F31:$J31)>0,ASISTENCIA!#REF!<>\"X\",ASISTENCIA!#REF!<>\"L\",ASISTENCIA!#REF!<>\"J\",ASISTENCIA!#REF!<>\"V\",ASISTENCIA!#REF!<>\"F\",ASISTENCIA!#REF!<>\"\"),SUMIF($F$13:$J$13,AP$13,$F31:$J31),\"\")","v":{"$error":"#REF!"}},{"$f":"IF(AND(LEN($D31)>0,SUMIF($F$13:$J$13,AQ$13,$F31:$J31)>0,ASISTENCIA!#REF!<>\"X\",ASISTENCIA!#REF!<>\"L\",ASISTENCIA!#REF!<>\"J\",ASISTENCIA!#REF!<>\"V\",ASISTENCIA!#REF!<>\"F\",ASISTENCIA!#REF!<>\"\"),SUMIF($F$13:$J$13,AQ$13,$F31:$J31),\"\")","v":{"$error":"#REF!"}},{"$f":"IF(AND(LEN($D31)>0,SUMIF($F$13:$J$13,AR$13,$F31:$J31)>0,ASISTENCIA!#REF!<>\"X\",ASISTENCIA!#REF!<>\"L\",ASISTENCIA!#REF!<>\"J\",ASISTENCIA!#REF!<>\"V\",ASISTENCIA!#REF!<>\"F\",ASISTENCIA!#REF!<>\"\"),SUMIF($F$13:$J$13,AR$13,$F31:$J31),\"\")","v":{"$error":"#REF!"}},{"$f":"IF(AND(LEN($D31)>0,SUMIF($F$13:$J$13,AS$13,$F31:$J31)>0,ASISTENCIA!#REF!<>\"X\",ASISTENCIA!#REF!<>\"L\",ASISTENCIA!#REF!<>\"J\",ASISTENCIA!#REF!<>\"V\",ASISTENCIA!#REF!<>\"F\",ASISTENCIA!#REF!<>\"\"),SUMIF($F$13:$J$13,AS$13,$F31:$J31),\"\")","v":{"$error":"#REF!"}},{"$error":"#REF!"},null,null,null,{"$f":"IF(AND(LEN($D31)>0,SUMIF($F$13:$J$13,AX$13,$F31:$J31)>0,ASISTENCIA!#REF!<>\"X\",ASISTENCIA!#REF!<>\"L\",ASISTENCIA!#REF!<>\"J\",ASISTENCIA!#REF!<>\"F\"),SUMIF($F$13:$J$13,AX$13,$F31:$J31),\"\")","v":{"$error":"#REF!"}},{"$f":"IF(AND(LEN($D31)>0,SUMIF($F$13:$J$13,AY$13,$F31:$J31)>0,ASISTENCIA!#REF!<>\"X\",ASISTENCIA!#REF!<>\"L\",ASISTENCIA!#REF!<>\"J\",ASISTENCIA!#REF!<>\"F\"),SUMIF($F$13:$J$13,AY$13,$F31:$J31),\"\")","v":{"$error":"#REF!"}},{"$f":"IF(AND(LEN($D31)>0,SUMIF($F$13:$J$13,AZ$13,$F31:$J31)>0,ASISTENCIA!#REF!<>\"X\",ASISTENCIA!#REF!<>\"L\",ASISTENCIA!#REF!<>\"J\",ASISTENCIA!#REF!<>\"F\"),SUMIF($F$13:$J$13,AZ$13,$F31:$J31),\"\")","v":{"$error":"#REF!"}},{"$f":"IF(AND(LEN($D31)>0,SUMIF($F$13:$J$13,BA$13,$F31:$J31)>0,ASISTENCIA!#REF!<>\"X\",ASISTENCIA!#REF!<>\"L\",ASISTENCIA!#REF!<>\"J\",ASISTENCIA!#REF!<>\"F\"),SUMIF($F$13:$J$13,BA$13,$F31:$J31),\"\")","v":{"$error":"#REF!"}},{"$f":"IF(AND(LEN($D31)>0,SUMIF($F$13:$J$13,BB$13,$F31:$J31)>0,ASISTENCIA!#REF!<>\"X\",ASISTENCIA!#REF!<>\"L\",ASISTENCIA!#REF!<>\"J\",ASISTENCIA!#REF!<>\"F\"),SUMIF($F$13:$J$13,BB$13,$F31:$J31),\"\")","v":{"$error":"#REF!"}},{"$f":"IF(AND(LEN($D31)>0,SUMIF($F$13:$J$13,BC$13,$F31:$J31)>0,ASISTENCIA!#REF!<>\"X\",ASISTENCIA!#REF!<>\"L\",ASISTENCIA!#REF!<>\"J\",ASISTENCIA!#REF!<>\"F\"),SUMIF($F$13:$J$13,BC$13,$F31:$J31),\"\")","v":{"$error":"#REF!"}},{"$f":"IF(AND(LEN($D31)>0,SUMIF($F$13:$J$13,BD$13,$F31:$J31)>0,ASISTENCIA!#REF!<>\"X\",ASISTENCIA!#REF!<>\"L\",ASISTENCIA!#REF!<>\"J\",ASISTENCIA!#REF!<>\"F\"),SUMIF($F$13:$J$13,BD$13,$F31:$J31),\"\")","v":{"$error":"#REF!"}},{"$f":"IF(AND(LEN($D31)>0,SUMIF($F$13:$J$13,BE$13,$F31:$J31)>0,ASISTENCIA!#REF!<>\"X\",ASISTENCIA!#REF!<>\"L\",ASISTENCIA!#REF!<>\"J\",ASISTENCIA!#REF!<>\"F\"),SUMIF($F$13:$J$13,BE$13,$F31:$J31),\"\")","v":{"$error":"#REF!"}},{"$f":"IF(AND(LEN($D31)>0,SUMIF($F$13:$J$13,BF$13,$F31:$J31)>0,ASISTENCIA!#REF!<>\"X\",ASISTENCIA!#REF!<>\"L\",ASISTENCIA!#REF!<>\"J\",ASISTENCIA!#REF!<>\"F\"),SUMIF($F$13:$J$13,BF$13,$F31:$J31),\"\")","v":{"$error":"#REF!"}},{"$f":"IF(AND(LEN($D31)>0,SUMIF($F$13:$J$13,BG$13,$F31:$J31)>0,ASISTENCIA!#REF!<>\"X\",ASISTENCIA!#REF!<>\"L\",ASISTENCIA!#REF!<>\"J\",ASISTENCIA!#REF!<>\"F\"),SUMIF($F$13:$J$13,BG$13,$F31:$J31),\"\")","v":{"$error":"#REF!"}},{"$f":"IF(AND(LEN($D31)>0,SUMIF($F$13:$J$13,BH$13,$F31:$J31)>0,ASISTENCIA!#REF!<>\"X\",ASISTENCIA!#REF!<>\"L\",ASISTENCIA!#REF!<>\"J\",ASISTENCIA!#REF!<>\"F\"),SUMIF($F$13:$J$13,BH$13,$F31:$J31),\"\")","v":{"$error":"#REF!"}},{"$f":"IF(AND(LEN($D31)>0,SUMIF($F$13:$J$13,BI$13,$F31:$J31)>0,ASISTENCIA!#REF!<>\"X\",ASISTENCIA!#REF!<>\"L\",ASISTENCIA!#REF!<>\"J\",ASISTENCIA!#REF!<>\"F\"),SUMIF($F$13:$J$13,BI$13,$F31:$J31),\"\")","v":{"$error":"#REF!"}},{"$f":"IF(AND(LEN($D31)>0,SUMIF($F$13:$J$13,BJ$13,$F31:$J31)>0,ASISTENCIA!#REF!<>\"X\",ASISTENCIA!#REF!<>\"L\",ASISTENCIA!#REF!<>\"J\",ASISTENCIA!#REF!<>\"F\"),SUMIF($F$13:$J$13,BJ$13,$F31:$J31),\"\")","v":{"$error":"#REF!"}},{"$f":"IF(AND(LEN($D31)>0,SUMIF($F$13:$J$13,BK$13,$F31:$J31)>0,ASISTENCIA!#REF!<>\"X\",ASISTENCIA!#REF!<>\"L\",ASISTENCIA!#REF!<>\"J\",ASISTENCIA!#REF!<>\"F\"),SUMIF($F$13:$J$13,BK$13,$F31:$J31),\"\")","v":{"$error":"#REF!"}},{"$f":"IF(AND(LEN($D31)>0,SUMIF($F$13:$J$13,BL$13,$F31:$J31)>0,ASISTENCIA!#REF!<>\"X\",ASISTENCIA!#REF!<>\"L\",ASISTENCIA!#REF!<>\"J\",ASISTENCIA!#REF!<>\"F\"),SUMIF($F$13:$J$13,BL$13,$F31:$J31),\"\")","v":{"$error":"#REF!"}},{"$f":"IF(AND(LEN($D31)>0,SUMIF($F$13:$J$13,BM$13,$F31:$J31)>0,ASISTENCIA!#REF!<>\"X\",ASISTENCIA!#REF!<>\"L\",ASISTENCIA!#REF!<>\"J\",ASISTENCIA!#REF!<>\"F\"),SUMIF($F$13:$J$13,BM$13,$F31:$J31),\"\")","v":{"$error":"#REF!"}},{"$f":"IF(AND(LEN($D31)>0,SUMIF($F$13:$J$13,BN$13,$F31:$J31)>0,ASISTENCIA!#REF!<>\"X\",ASISTENCIA!#REF!<>\"L\",ASISTENCIA!#REF!<>\"J\",ASISTENCIA!#REF!<>\"F\"),SUMIF($F$13:$J$13,BN$13,$F31:$J31),\"\")","v":{"$error":"#REF!"}},{"$f":"IF(AND(LEN($D31)>0,SUMIF($F$13:$J$13,BO$13,$F31:$J31)>0,ASISTENCIA!#REF!<>\"X\",ASISTENCIA!#REF!<>\"L\",ASISTENCIA!#REF!<>\"J\",ASISTENCIA!#REF!<>\"F\"),SUMIF($F$13:$J$13,BO$13,$F31:$J31),\"\")","v":{"$error":"#REF!"}},{"$f":"IF(AND(LEN($D31)>0,SUMIF($F$13:$J$13,BP$13,$F31:$J31)>0,ASISTENCIA!#REF!<>\"X\",ASISTENCIA!#REF!<>\"L\",ASISTENCIA!#REF!<>\"J\",ASISTENCIA!#REF!<>\"F\"),SUMIF($F$13:$J$13,BP$13,$F31:$J31),\"\")","v":{"$error":"#REF!"}},{"$f":"IF(AND(LEN($D31)>0,SUMIF($F$13:$J$13,BQ$13,$F31:$J31)>0,ASISTENCIA!#REF!<>\"X\",ASISTENCIA!#REF!<>\"L\",ASISTENCIA!#REF!<>\"J\",ASISTENCIA!#REF!<>\"F\"),SUMIF($F$13:$J$13,BQ$13,$F31:$J31),\"\")","v":{"$error":"#REF!"}},{"$f":"IF(AND(LEN($D31)>0,SUMIF($F$13:$J$13,BR$13,$F31:$J31)>0,ASISTENCIA!#REF!<>\"X\",ASISTENCIA!#REF!<>\"L\",ASISTENCIA!#REF!<>\"J\",ASISTENCIA!#REF!<>\"F\"),SUMIF($F$13:$J$13,BR$13,$F31:$J31),\"\")","v":{"$error":"#REF!"}},{"$f":"IF(AND(LEN($D31)>0,SUMIF($F$13:$J$13,BS$13,$F31:$J31)>0,ASISTENCIA!#REF!<>\"X\",ASISTENCIA!#REF!<>\"L\",ASISTENCIA!#REF!<>\"J\",ASISTENCIA!#REF!<>\"F\"),SUMIF($F$13:$J$13,BS$13,$F31:$J31),\"\")","v":{"$error":"#REF!"}},{"$f":"IF(AND(LEN($D31)>0,SUMIF($F$13:$J$13,BT$13,$F31:$J31)>0,ASISTENCIA!#REF!<>\"X\",ASISTENCIA!#REF!<>\"L\",ASISTENCIA!#REF!<>\"J\",ASISTENCIA!#REF!<>\"F\"),SUMIF($F$13:$J$13,BT$13,$F31:$J31),\"\")","v":{"$error":"#REF!"}},{"$f":"IF(AND(LEN($D31)>0,SUMIF($F$13:$J$13,BU$13,$F31:$J31)>0,ASISTENCIA!#REF!<>\"X\",ASISTENCIA!#REF!<>\"L\",ASISTENCIA!#REF!<>\"J\",ASISTENCIA!#REF!<>\"F\"),SUMIF($F$13:$J$13,BU$13,$F31:$J31),\"\")","v":{"$error":"#REF!"}},{"$f":"IF(AND(LEN($D31)>0,SUMIF($F$13:$J$13,BV$13,$F31:$J31)>0,ASISTENCIA!#REF!<>\"X\",ASISTENCIA!#REF!<>\"L\",ASISTENCIA!#REF!<>\"J\",ASISTENCIA!#REF!<>\"F\"),SUMIF($F$13:$J$13,BV$13,$F31:$J31),\"\")","v":{"$error":"#REF!"}},{"$f":"IF(AND(LEN($D31)>0,SUMIF($F$13:$J$13,BW$13,$F31:$J31)>0,ASISTENCIA!#REF!<>\"X\",ASISTENCIA!#REF!<>\"L\",ASISTENCIA!#REF!<>\"J\",ASISTENCIA!#REF!<>\"F\"),SUMIF($F$13:$J$13,BW$13,$F31:$J31),\"\")","v":{"$error":"#REF!"}},{"$f":"IF(AND(LEN($D31)>0,SUMIF($F$13:$J$13,BX$13,$F31:$J31)>0,ASISTENCIA!#REF!<>\"X\",ASISTENCIA!#REF!<>\"L\",ASISTENCIA!#REF!<>\"J\",ASISTENCIA!#REF!<>\"F\"),SUMIF($F$13:$J$13,BX$13,$F31:$J31),\"\")","v":{"$error":"#REF!"}},{"$f":"IF(AND(LEN($D31)>0,SUMIF($F$13:$J$13,BY$13,$F31:$J31)>0,ASISTENCIA!#REF!<>\"X\",ASISTENCIA!#REF!<>\"L\",ASISTENCIA!#REF!<>\"J\",ASISTENCIA!#REF!<>\"F\"),SUMIF($F$13:$J$13,BY$13,$F31:$J31),\"\")","v":{"$error":"#REF!"}},{"$f":"IF(AND(LEN($D31)>0,SUMIF($F$13:$J$13,BZ$13,$F31:$J31)>0,ASISTENCIA!#REF!<>\"X\",ASISTENCIA!#REF!<>\"L\",ASISTENCIA!#REF!<>\"J\",ASISTENCIA!#REF!<>\"F\"),SUMIF($F$13:$J$13,BZ$13,$F31:$J31),\"\")","v":{"$error":"#REF!"}},{"$f":"IF(AND(LEN($D31)>0,SUMIF($F$13:$J$13,CA$13,$F31:$J31)>0,ASISTENCIA!#REF!<>\"X\",ASISTENCIA!#REF!<>\"L\",ASISTENCIA!#REF!<>\"J\",ASISTENCIA!#REF!<>\"F\"),SUMIF($F$13:$J$13,CA$13,$F31:$J31),\"\")","v":{"$error":"#REF!"}},{"$f":"IF(AND(LEN($D31)>0,SUMIF($F$13:$J$13,CB$13,$F31:$J31)>0,ASISTENCIA!#REF!<>\"X\",ASISTENCIA!#REF!<>\"L\",ASISTENCIA!#REF!<>\"J\",ASISTENCIA!#REF!<>\"F\"),SUMIF($F$13:$J$13,CB$13,$F31:$J31),\"\")","v":{"$error":"#REF!"}},{"$error":"#REF!"}]
[{"$error":"#REF!"},{"$f":"IF(LEN(C32)>0,VLOOKUP($O$4,DATA!$A$1:$S$1,2,FALSE),\"\")","v":{"$error":"#REF!"}},{"$error":"#REF!"},{"$f":"IF(LEN(ASISTENCIA!#REF!)>0,ASISTENCIA!#REF!,\"\")","v":{"$error":"#REF!"}},{"$f":"IF(LEN(D32)>0,ASISTENCIA!#REF!,\"\")","v":{"$error":"#REF!"}},null,null,null,null,null,"",null,null,{"$error":"#REF!"},{"$f":"IF(AND(LEN($D32)>0,SUMIF($F$13:$J$13,O$13,$F32:$J32)>0,ASISTENCIA!#REF!<>\"X\",ASISTENCIA!#REF!<>\"L\",ASISTENCIA!#REF!<>\"J\",ASISTENCIA!#REF!<>\"V\",ASISTENCIA!#REF!<>\"F\",ASISTENCIA!#REF!<>\"\"),SUMIF($F$13:$J$13,O$13,$F32:$J32),\"\")","v":{"$error":"#REF!"}},{"$f":"IF(AND(LEN($D32)>0,SUMIF($F$13:$J$13,P$13,$F32:$J32)>0,ASISTENCIA!#REF!<>\"X\",ASISTENCIA!#REF!<>\"L\",ASISTENCIA!#REF!<>\"J\",ASISTENCIA!#REF!<>\"V\",ASISTENCIA!#REF!<>\"F\",ASISTENCIA!#REF!<>\"\"),SUMIF($F$13:$J$13,P$13,$F32:$J32),\"\")","v":{"$error":"#REF!"}},{"$f":"IF(AND(LEN($D32)>0,SUMIF($F$13:$J$13,Q$13,$F32:$J32)>0,ASISTENCIA!#REF!<>\"X\",ASISTENCIA!#REF!<>\"L\",ASISTENCIA!#REF!<>\"J\",ASISTENCIA!#REF!<>\"V\",ASISTENCIA!#REF!<>\"F\",ASISTENCIA!#REF!<>\"\"),SUMIF($F$13:$J$13,Q$13,$F32:$J32),\"\")","v":{"$error":"#REF!"}},{"$f":"IF(AND(LEN($D32)>0,SUMIF($F$13:$J$13,R$13,$F32:$J32)>0,ASISTENCIA!#REF!<>\"X\",ASISTENCIA!#REF!<>\"L\",ASISTENCIA!#REF!<>\"J\",ASISTENCIA!#REF!<>\"V\",ASISTENCIA!#REF!<>\"F\",ASISTENCIA!#REF!<>\"\"),SUMIF($F$13:$J$13,R$13,$F32:$J32),\"\")","v":{"$error":"#REF!"}},{"$f":"IF(AND(LEN($D32)>0,SUMIF($F$13:$J$13,S$13,$F32:$J32)>0,ASISTENCIA!#REF!<>\"X\",ASISTENCIA!#REF!<>\"L\",ASISTENCIA!#REF!<>\"J\",ASISTENCIA!#REF!<>\"V\",ASISTENCIA!#REF!<>\"F\",ASISTENCIA!#REF!<>\"\"),SUMIF($F$13:$J$13,S$13,$F32:$J32),\"\")","v":{"$error":"#REF!"}},{"$f":"IF(AND(LEN($D32)>0,SUMIF($F$13:$J$13,T$13,$F32:$J32)>0,ASISTENCIA!#REF!<>\"X\",ASISTENCIA!#REF!<>\"L\",ASISTENCIA!#REF!<>\"J\",ASISTENCIA!#REF!<>\"V\",ASISTENCIA!#REF!<>\"F\",ASISTENCIA!#REF!<>\"\"),SUMIF($F$13:$J$13,T$13,$F32:$J32),\"\")","v":{"$error":"#REF!"}},{"$f":"IF(AND(LEN($D32)>0,SUMIF($F$13:$J$13,U$13,$F32:$J32)>0,ASISTENCIA!#REF!<>\"X\",ASISTENCIA!#REF!<>\"L\",ASISTENCIA!#REF!<>\"J\",ASISTENCIA!#REF!<>\"V\",ASISTENCIA!#REF!<>\"F\",ASISTENCIA!#REF!<>\"\"),SUMIF($F$13:$J$13,U$13,$F32:$J32),\"\")","v":{"$error":"#REF!"}},{"$f":"IF(AND(LEN($D32)>0,SUMIF($F$13:$J$13,V$13,$F32:$J32)>0,ASISTENCIA!#REF!<>\"X\",ASISTENCIA!#REF!<>\"L\",ASISTENCIA!#REF!<>\"J\",ASISTENCIA!#REF!<>\"V\",ASISTENCIA!#REF!<>\"F\",ASISTENCIA!#REF!<>\"\"),SUMIF($F$13:$J$13,V$13,$F32:$J32),\"\")","v":{"$error":"#REF!"}},{"$f":"IF(AND(LEN($D32)>0,SUMIF($F$13:$J$13,W$13,$F32:$J32)>0,ASISTENCIA!#REF!<>\"X\",ASISTENCIA!#REF!<>\"L\",ASISTENCIA!#REF!<>\"J\",ASISTENCIA!#REF!<>\"V\",ASISTENCIA!#REF!<>\"F\",ASISTENCIA!#REF!<>\"\"),SUMIF($F$13:$J$13,W$13,$F32:$J32),\"\")","v":{"$error":"#REF!"}},{"$f":"IF(AND(LEN($D32)>0,SUMIF($F$13:$J$13,X$13,$F32:$J32)>0,ASISTENCIA!#REF!<>\"X\",ASISTENCIA!#REF!<>\"L\",ASISTENCIA!#REF!<>\"J\",ASISTENCIA!#REF!<>\"V\",ASISTENCIA!#REF!<>\"F\",ASISTENCIA!#REF!<>\"\"),SUMIF($F$13:$J$13,X$13,$F32:$J32),\"\")","v":{"$error":"#REF!"}},{"$f":"IF(AND(LEN($D32)>0,SUMIF($F$13:$J$13,Y$13,$F32:$J32)>0,ASISTENCIA!#REF!<>\"X\",ASISTENCIA!#REF!<>\"L\",ASISTENCIA!#REF!<>\"J\",ASISTENCIA!#REF!<>\"V\",ASISTENCIA!#REF!<>\"F\",ASISTENCIA!#REF!<>\"\"),SUMIF($F$13:$J$13,Y$13,$F32:$J32),\"\")","v":{"$error":"#REF!"}},{"$f":"IF(AND(LEN($D32)>0,SUMIF($F$13:$J$13,Z$13,$F32:$J32)>0,ASISTENCIA!#REF!<>\"X\",ASISTENCIA!#REF!<>\"L\",ASISTENCIA!#REF!<>\"J\",ASISTENCIA!#REF!<>\"V\",ASISTENCIA!#REF!<>\"F\",ASISTENCIA!#REF!<>\"\"),SUMIF($F$13:$J$13,Z$13,$F32:$J32),\"\")","v":{"$error":"#REF!"}},{"$f":"IF(AND(LEN($D32)>0,SUMIF($F$13:$J$13,AA$13,$F32:$J32)>0,ASISTENCIA!#REF!<>\"X\",ASISTENCIA!#REF!<>\"L\",ASISTENCIA!#REF!<>\"J\",ASISTENCIA!#REF!<>\"V\",ASISTENCIA!#REF!<>\"F\",ASISTENCIA!#REF!<>\"\"),SUMIF($F$13:$J$13,AA$13,$F32:$J32),\"\")","v":{"$error":"#REF!"}},{"$f":"IF(AND(LEN($D32)>0,SUMIF($F$13:$J$13,AB$13,$F32:$J32)>0,ASISTENCIA!#REF!<>\"X\",ASISTENCIA!#REF!<>\"L\",ASISTENCIA!#REF!<>\"J\",ASISTENCIA!#REF!<>\"V\",ASISTENCIA!#REF!<>\"F\",ASISTENCIA!#REF!<>\"\"),SUMIF($F$13:$J$13,AB$13,$F32:$J32),\"\")","v":{"$error":"#REF!"}},{"$f":"IF(AND(LEN($D32)>0,SUMIF($F$13:$J$13,AC$13,$F32:$J32)>0,ASISTENCIA!#REF!<>\"X\",ASISTENCIA!#REF!<>\"L\",ASISTENCIA!#REF!<>\"J\",ASISTENCIA!#REF!<>\"V\",ASISTENCIA!#REF!<>\"F\",ASISTENCIA!#REF!<>\"\"),SUMIF($F$13:$J$13,AC$13,$F32:$J32),\"\")","v":{"$error":"#REF!"}},{"$f":"IF(AND(LEN($D32)>0,SUMIF($F$13:$J$13,AD$13,$F32:$J32)>0,ASISTENCIA!#REF!<>\"X\",ASISTENCIA!#REF!<>\"L\",ASISTENCIA!#REF!<>\"J\",ASISTENCIA!#REF!<>\"V\",ASISTENCIA!#REF!<>\"F\",ASISTENCIA!#REF!<>\"\"),SUMIF($F$13:$J$13,AD$13,$F32:$J32),\"\")","v":{"$error":"#REF!"}},{"$f":"IF(AND(LEN($D32)>0,SUMIF($F$13:$J$13,AE$13,$F32:$J32)>0,ASISTENCIA!#REF!<>\"X\",ASISTENCIA!#REF!<>\"L\",ASISTENCIA!#REF!<>\"J\",ASISTENCIA!#REF!<>\"V\",ASISTENCIA!#REF!<>\"F\",ASISTENCIA!#REF!<>\"\"),SUMIF($F$13:$J$13,AE$13,$F32:$J32),\"\")","v":{"$error":"#REF!"}},{"$f":"IF(AND(LEN($D32)>0,SUMIF($F$13:$J$13,AF$13,$F32:$J32)>0,ASISTENCIA!#REF!<>\"X\",ASISTENCIA!#REF!<>\"L\",ASISTENCIA!#REF!<>\"J\",ASISTENCIA!#REF!<>\"V\",ASISTENCIA!#REF!<>\"F\",ASISTENCIA!#REF!<>\"\"),SUMIF($F$13:$J$13,AF$13,$F32:$J32),\"\")","v":{"$error":"#REF!"}},{"$f":"IF(AND(LEN($D32)>0,SUMIF($F$13:$J$13,AG$13,$F32:$J32)>0,ASISTENCIA!#REF!<>\"X\",ASISTENCIA!#REF!<>\"L\",ASISTENCIA!#REF!<>\"J\",ASISTENCIA!#REF!<>\"V\",ASISTENCIA!#REF!<>\"F\",ASISTENCIA!#REF!<>\"\"),SUMIF($F$13:$J$13,AG$13,$F32:$J32),\"\")","v":{"$error":"#REF!"}},{"$f":"IF(AND(LEN($D32)>0,SUMIF($F$13:$J$13,AH$13,$F32:$J32)>0,ASISTENCIA!#REF!<>\"X\",ASISTENCIA!#REF!<>\"L\",ASISTENCIA!#REF!<>\"J\",ASISTENCIA!#REF!<>\"V\",ASISTENCIA!#REF!<>\"F\",ASISTENCIA!#REF!<>\"\"),SUMIF($F$13:$J$13,AH$13,$F32:$J32),\"\")","v":{"$error":"#REF!"}},{"$f":"IF(AND(LEN($D32)>0,SUMIF($F$13:$J$13,AI$13,$F32:$J32)>0,ASISTENCIA!#REF!<>\"X\",ASISTENCIA!#REF!<>\"L\",ASISTENCIA!#REF!<>\"J\",ASISTENCIA!#REF!<>\"V\",ASISTENCIA!#REF!<>\"F\",ASISTENCIA!#REF!<>\"\"),SUMIF($F$13:$J$13,AI$13,$F32:$J32),\"\")","v":{"$error":"#REF!"}},{"$f":"IF(AND(LEN($D32)>0,SUMIF($F$13:$J$13,AJ$13,$F32:$J32)>0,ASISTENCIA!#REF!<>\"X\",ASISTENCIA!#REF!<>\"L\",ASISTENCIA!#REF!<>\"J\",ASISTENCIA!#REF!<>\"V\",ASISTENCIA!#REF!<>\"F\",ASISTENCIA!#REF!<>\"\"),SUMIF($F$13:$J$13,AJ$13,$F32:$J32),\"\")","v":{"$error":"#REF!"}},{"$f":"IF(AND(LEN($D32)>0,SUMIF($F$13:$J$13,AK$13,$F32:$J32)>0,ASISTENCIA!#REF!<>\"X\",ASISTENCIA!#REF!<>\"L\",ASISTENCIA!#REF!<>\"J\",ASISTENCIA!#REF!<>\"V\",ASISTENCIA!#REF!<>\"F\",ASISTENCIA!#REF!<>\"\"),SUMIF($F$13:$J$13,AK$13,$F32:$J32),\"\")","v":{"$error":"#REF!"}},{"$f":"IF(AND(LEN($D32)>0,SUMIF($F$13:$J$13,AL$13,$F32:$J32)>0,ASISTENCIA!#REF!<>\"X\",ASISTENCIA!#REF!<>\"L\",ASISTENCIA!#REF!<>\"J\",ASISTENCIA!#REF!<>\"V\",ASISTENCIA!#REF!<>\"F\",ASISTENCIA!#REF!<>\"\"),SUMIF($F$13:$J$13,AL$13,$F32:$J32),\"\")","v":{"$error":"#REF!"}},{"$f":"IF(AND(LEN($D32)>0,SUMIF($F$13:$J$13,AM$13,$F32:$J32)>0,ASISTENCIA!#REF!<>\"X\",ASISTENCIA!#REF!<>\"L\",ASISTENCIA!#REF!<>\"J\",ASISTENCIA!#REF!<>\"V\",ASISTENCIA!#REF!<>\"F\",ASISTENCIA!#REF!<>\"\"),SUMIF($F$13:$J$13,AM$13,$F32:$J32),\"\")","v":{"$error":"#REF!"}},{"$f":"IF(AND(LEN($D32)>0,SUMIF($F$13:$J$13,AN$13,$F32:$J32)>0,ASISTENCIA!#REF!<>\"X\",ASISTENCIA!#REF!<>\"L\",ASISTENCIA!#REF!<>\"J\",ASISTENCIA!#REF!<>\"V\",ASISTENCIA!#REF!<>\"F\",ASISTENCIA!#REF!<>\"\"),SUMIF($F$13:$J$13,AN$13,$F32:$J32),\"\")","v":{"$error":"#REF!"}},{"$f":"IF(AND(LEN($D32)>0,SUMIF($F$13:$J$13,AO$13,$F32:$J32)>0,ASISTENCIA!#REF!<>\"X\",ASISTENCIA!#REF!<>\"L\",ASISTENCIA!#REF!<>\"J\",ASISTENCIA!#REF!<>\"V\",ASISTENCIA!#REF!<>\"F\",ASISTENCIA!#REF!<>\"\"),SUMIF($F$13:$J$13,AO$13,$F32:$J32),\"\")","v":{"$error":"#REF!"}},{"$f":"IF(AND(LEN($D32)>0,SUMIF($F$13:$J$13,AP$13,$F32:$J32)>0,ASISTENCIA!#REF!<>\"X\",ASISTENCIA!#REF!<>\"L\",ASISTENCIA!#REF!<>\"J\",ASISTENCIA!#REF!<>\"V\",ASISTENCIA!#REF!<>\"F\",ASISTENCIA!#REF!<>\"\"),SUMIF($F$13:$J$13,AP$13,$F32:$J32),\"\")","v":{"$error":"#REF!"}},{"$f":"IF(AND(LEN($D32)>0,SUMIF($F$13:$J$13,AQ$13,$F32:$J32)>0,ASISTENCIA!#REF!<>\"X\",ASISTENCIA!#REF!<>\"L\",ASISTENCIA!#REF!<>\"J\",ASISTENCIA!#REF!<>\"V\",ASISTENCIA!#REF!<>\"F\",ASISTENCIA!#REF!<>\"\"),SUMIF($F$13:$J$13,AQ$13,$F32:$J32),\"\")","v":{"$error":"#REF!"}},{"$f":"IF(AND(LEN($D32)>0,SUMIF($F$13:$J$13,AR$13,$F32:$J32)>0,ASISTENCIA!#REF!<>\"X\",ASISTENCIA!#REF!<>\"L\",ASISTENCIA!#REF!<>\"J\",ASISTENCIA!#REF!<>\"V\",ASISTENCIA!#REF!<>\"F\",ASISTENCIA!#REF!<>\"\"),SUMIF($F$13:$J$13,AR$13,$F32:$J32),\"\")","v":{"$error":"#REF!"}},{"$f":"IF(AND(LEN($D32)>0,SUMIF($F$13:$J$13,AS$13,$F32:$J32)>0,ASISTENCIA!#REF!<>\"X\",ASISTENCIA!#REF!<>\"L\",ASISTENCIA!#REF!<>\"J\",ASISTENCIA!#REF!<>\"V\",ASISTENCIA!#REF!<>\"F\",ASISTENCIA!#REF!<>\"\"),SUMIF($F$13:$J$13,AS$13,$F32:$J32),\"\")","v":{"$error":"#REF!"}},{"$error":"#REF!"},null,null,null,{"$f":"IF(AND(LEN($D32)>0,SUMIF($F$13:$J$13,AX$13,$F32:$J32)>0,ASISTENCIA!#REF!<>\"X\",ASISTENCIA!#REF!<>\"L\",ASISTENCIA!#REF!<>\"J\",ASISTENCIA!#REF!<>\"F\"),SUMIF($F$13:$J$13,AX$13,$F32:$J32),\"\")","v":{"$error":"#REF!"}},{"$f":"IF(AND(LEN($D32)>0,SUMIF($F$13:$J$13,AY$13,$F32:$J32)>0,ASISTENCIA!#REF!<>\"X\",ASISTENCIA!#REF!<>\"L\",ASISTENCIA!#REF!<>\"J\",ASISTENCIA!#REF!<>\"F\"),SUMIF($F$13:$J$13,AY$13,$F32:$J32),\"\")","v":{"$error":"#REF!"}},{"$f":"IF(AND(LEN($D32)>0,SUMIF($F$13:$J$13,AZ$13,$F32:$J32)>0,ASISTENCIA!#REF!<>\"X\",ASISTENCIA!#REF!<>\"L\",ASISTENCIA!#REF!<>\"J\",ASISTENCIA!#REF!<>\"F\"),SUMIF($F$13:$J$13,AZ$13,$F32:$J32),\"\")","v":{"$error":"#REF!"}},{"$f":"IF(AND(LEN($D32)>0,SUMIF($F$13:$J$13,BA$13,$F32:$J32)>0,ASISTENCIA!#REF!<>\"X\",ASISTENCIA!#REF!<>\"L\",ASISTENCIA!#REF!<>\"J\",ASISTENCIA!#REF!<>\"F\"),SUMIF($F$13:$J$13,BA$13,$F32:$J32),\"\")","v":{"$error":"#REF!"}},{"$f":"IF(AND(LEN($D32)>0,SUMIF($F$13:$J$13,BB$13,$F32:$J32)>0,ASISTENCIA!#REF!<>\"X\",ASISTENCIA!#REF!<>\"L\",ASISTENCIA!#REF!<>\"J\",ASISTENCIA!#REF!<>\"F\"),SUMIF($F$13:$J$13,BB$13,$F32:$J32),\"\")","v":{"$error":"#REF!"}},{"$f":"IF(AND(LEN($D32)>0,SUMIF($F$13:$J$13,BC$13,$F32:$J32)>0,ASISTENCIA!#REF!<>\"X\",ASISTENCIA!#REF!<>\"L\",ASISTENCIA!#REF!<>\"J\",ASISTENCIA!#REF!<>\"F\"),SUMIF($F$13:$J$13,BC$13,$F32:$J32),\"\")","v":{"$error":"#REF!"}},{"$f":"IF(AND(LEN($D32)>0,SUMIF($F$13:$J$13,BD$13,$F32:$J32)>0,ASISTENCIA!#REF!<>\"X\",ASISTENCIA!#REF!<>\"L\",ASISTENCIA!#REF!<>\"J\",ASISTENCIA!#REF!<>\"F\"),SUMIF($F$13:$J$13,BD$13,$F32:$J32),\"\")","v":{"$error":"#REF!"}},{"$f":"IF(AND(LEN($D32)>0,SUMIF($F$13:$J$13,BE$13,$F32:$J32)>0,ASISTENCIA!#REF!<>\"X\",ASISTENCIA!#REF!<>\"L\",ASISTENCIA!#REF!<>\"J\",ASISTENCIA!#REF!<>\"F\"),SUMIF($F$13:$J$13,BE$13,$F32:$J32),\"\")","v":{"$error":"#REF!"}},{"$f":"IF(AND(LEN($D32)>0,SUMIF($F$13:$J$13,BF$13,$F32:$J32)>0,ASISTENCIA!#REF!<>\"X\",ASISTENCIA!#REF!<>\"L\",ASISTENCIA!#REF!<>\"J\",ASISTENCIA!#REF!<>\"F\"),SUMIF($F$13:$J$13,BF$13,$F32:$J32),\"\")","v":{"$error":"#REF!"}},{"$f":"IF(AND(LEN($D32)>0,SUMIF($F$13:$J$13,BG$13,$F32:$J32)>0,ASISTENCIA!#REF!<>\"X\",ASISTENCIA!#REF!<>\"L\",ASISTENCIA!#REF!<>\"J\",ASISTENCIA!#REF!<>\"F\"),SUMIF($F$13:$J$13,BG$13,$F32:$J32),\"\")","v":{"$error":"#REF!"}},{"$f":"IF(AND(LEN($D32)>0,SUMIF($F$13:$J$13,BH$13,$F32:$J32)>0,ASISTENCIA!#REF!<>\"X\",ASISTENCIA!#REF!<>\"L\",ASISTENCIA!#REF!<>\"J\",ASISTENCIA!#REF!<>\"F\"),SUMIF($F$13:$J$13,BH$13,$F32:$J32),\"\")","v":{"$error":"#REF!"}},{"$f":"IF(AND(LEN($D32)>0,SUMIF($F$13:$J$13,BI$13,$F32:$J32)>0,ASISTENCIA!#REF!<>\"X\",ASISTENCIA!#REF!<>\"L\",ASISTENCIA!#REF!<>\"J\",ASISTENCIA!#REF!<>\"F\"),SUMIF($F$13:$J$13,BI$13,$F32:$J32),\"\")","v":{"$error":"#REF!"}},{"$f":"IF(AND(LEN($D32)>0,SUMIF($F$13:$J$13,BJ$13,$F32:$J32)>0,ASISTENCIA!#REF!<>\"X\",ASISTENCIA!#REF!<>\"L\",ASISTENCIA!#REF!<>\"J\",ASISTENCIA!#REF!<>\"F\"),SUMIF($F$13:$J$13,BJ$13,$F32:$J32),\"\")","v":{"$error":"#REF!"}},{"$f":"IF(AND(LEN($D32)>0,SUMIF($F$13:$J$13,BK$13,$F32:$J32)>0,ASISTENCIA!#REF!<>\"X\",ASISTENCIA!#REF!<>\"L\",ASISTENCIA!#REF!<>\"J\",ASISTENCIA!#REF!<>\"F\"),SUMIF($F$13:$J$13,BK$13,$F32:$J32),\"\")","v":{"$error":"#REF!"}},{"$f":"IF(AND(LEN($D32)>0,SUMIF($F$13:$J$13,BL$13,$F32:$J32)>0,ASISTENCIA!#REF!<>\"X\",ASISTENCIA!#REF!<>\"L\",ASISTENCIA!#REF!<>\"J\",ASISTENCIA!#REF!<>\"F\"),SUMIF($F$13:$J$13,BL$13,$F32:$J32),\"\")","v":{"$error":"#REF!"}},{"$f":"IF(AND(LEN($D32)>0,SUMIF($F$13:$J$13,BM$13,$F32:$J32)>0,ASISTENCIA!#REF!<>\"X\",ASISTENCIA!#REF!<>\"L\",ASISTENCIA!#REF!<>\"J\",ASISTENCIA!#REF!<>\"F\"),SUMIF($F$13:$J$13,BM$13,$F32:$J32),\"\")","v":{"$error":"#REF!"}},{"$f":"IF(AND(LEN($D32)>0,SUMIF($F$13:$J$13,BN$13,$F32:$J32)>0,ASISTENCIA!#REF!<>\"X\",ASISTENCIA!#REF!<>\"L\",ASISTENCIA!#REF!<>\"J\",ASISTENCIA!#REF!<>\"F\"),SUMIF($F$13:$J$13,BN$13,$F32:$J32),\"\")","v":{"$error":"#REF!"}},{"$f":"IF(AND(LEN($D32)>0,SUMIF($F$13:$J$13,BO$13,$F32:$J32)>0,ASISTENCIA!#REF!<>\"X\",ASISTENCIA!#REF!<>\"L\",ASISTENCIA!#REF!<>\"J\",ASISTENCIA!#REF!<>\"F\"),SUMIF($F$13:$J$13,BO$13,$F32:$J32),\"\")","v":{"$error":"#REF!"}},{"$f":"IF(AND(LEN($D32)>0,SUMIF($F$13:$J$13,BP$13,$F32:$J32)>0,ASISTENCIA!#REF!<>\"X\",ASISTENCIA!#REF!<>\"L\",ASISTENCIA!#REF!<>\"J\",ASISTENCIA!#REF!<>\"F\"),SUMIF($F$13:$J$13,BP$13,$F32:$J32),\"\")","v":{"$error":"#REF!"}},{"$f":"IF(AND(LEN($D32)>0,SUMIF($F$13:$J$13,BQ$13,$F32:$J32)>0,ASISTENCIA!#REF!<>\"X\",ASISTENCIA!#REF!<>\"L\",ASISTENCIA!#REF!<>\"J\",ASISTENCIA!#REF!<>\"F\"),SUMIF($F$13:$J$13,BQ$13,$F32:$J32),\"\")","v":{"$error":"#REF!"}},{"$f":"IF(AND(LEN($D32)>0,SUMIF($F$13:$J$13,BR$13,$F32:$J32)>0,ASISTENCIA!#REF!<>\"X\",ASISTENCIA!#REF!<>\"L\",ASISTENCIA!#REF!<>\"J\",ASISTENCIA!#REF!<>\"F\"),SUMIF($F$13:$J$13,BR$13,$F32:$J32),\"\")","v":{"$error":"#REF!"}},{"$f":"IF(AND(LEN($D32)>0,SUMIF($F$13:$J$13,BS$13,$F32:$J32)>0,ASISTENCIA!#REF!<>\"X\",ASISTENCIA!#REF!<>\"L\",ASISTENCIA!#REF!<>\"J\",ASISTENCIA!#REF!<>\"F\"),SUMIF($F$13:$J$13,BS$13,$F32:$J32),\"\")","v":{"$error":"#REF!"}},{"$f":"IF(AND(LEN($D32)>0,SUMIF($F$13:$J$13,BT$13,$F32:$J32)>0,ASISTENCIA!#REF!<>\"X\",ASISTENCIA!#REF!<>\"L\",ASISTENCIA!#REF!<>\"J\",ASISTENCIA!#REF!<>\"F\"),SUMIF($F$13:$J$13,BT$13,$F32:$J32),\"\")","v":{"$error":"#REF!"}},{"$f":"IF(AND(LEN($D32)>0,SUMIF($F$13:$J$13,BU$13,$F32:$J32)>0,ASISTENCIA!#REF!<>\"X\",ASISTENCIA!#REF!<>\"L\",ASISTENCIA!#REF!<>\"J\",ASISTENCIA!#REF!<>\"F\"),SUMIF($F$13:$J$13,BU$13,$F32:$J32),\"\")","v":{"$error":"#REF!"}},{"$f":"IF(AND(LEN($D32)>0,SUMIF($F$13:$J$13,BV$13,$F32:$J32)>0,ASISTENCIA!#REF!<>\"X\",ASISTENCIA!#REF!<>\"L\",ASISTENCIA!#REF!<>\"J\",ASISTENCIA!#REF!<>\"F\"),SUMIF($F$13:$J$13,BV$13,$F32:$J32),\"\")","v":{"$error":"#REF!"}},{"$f":"IF(AND(LEN($D32)>0,SUMIF($F$13:$J$13,BW$13,$F32:$J32)>0,ASISTENCIA!#REF!<>\"X\",ASISTENCIA!#REF!<>\"L\",ASISTENCIA!#REF!<>\"J\",ASISTENCIA!#REF!<>\"F\"),SUMIF($F$13:$J$13,BW$13,$F32:$J32),\"\")","v":{"$error":"#REF!"}},{"$f":"IF(AND(LEN($D32)>0,SUMIF($F$13:$J$13,BX$13,$F32:$J32)>0,ASISTENCIA!#REF!<>\"X\",ASISTENCIA!#REF!<>\"L\",ASISTENCIA!#REF!<>\"J\",ASISTENCIA!#REF!<>\"F\"),SUMIF($F$13:$J$13,BX$13,$F32:$J32),\"\")","v":{"$error":"#REF!"}},{"$f":"IF(AND(LEN($D32)>0,SUMIF($F$13:$J$13,BY$13,$F32:$J32)>0,ASISTENCIA!#REF!<>\"X\",ASISTENCIA!#REF!<>\"L\",ASISTENCIA!#REF!<>\"J\",ASISTENCIA!#REF!<>\"F\"),SUMIF($F$13:$J$13,BY$13,$F32:$J32),\"\")","v":{"$error":"#REF!"}},{"$f":"IF(AND(LEN($D32)>0,SUMIF($F$13:$J$13,BZ$13,$F32:$J32)>0,ASISTENCIA!#REF!<>\"X\",ASISTENCIA!#REF!<>\"L\",ASISTENCIA!#REF!<>\"J\",ASISTENCIA!#REF!<>\"F\"),SUMIF($F$13:$J$13,BZ$13,$F32:$J32),\"\")","v":{"$error":"#REF!"}},{"$f":"IF(AND(LEN($D32)>0,SUMIF($F$13:$J$13,CA$13,$F32:$J32)>0,ASISTENCIA!#REF!<>\"X\",ASISTENCIA!#REF!<>\"L\",ASISTENCIA!#REF!<>\"J\",ASISTENCIA!#REF!<>\"F\"),SUMIF($F$13:$J$13,CA$13,$F32:$J32),\"\")","v":{"$error":"#REF!"}},{"$f":"IF(AND(LEN($D32)>0,SUMIF($F$13:$J$13,CB$13,$F32:$J32)>0,ASISTENCIA!#REF!<>\"X\",ASISTENCIA!#REF!<>\"L\",ASISTENCIA!#REF!<>\"J\",ASISTENCIA!#REF!<>\"F\"),SUMIF($F$13:$J$13,CB$13,$F32:$J32),\"\")","v":{"$error":"#REF!"}},{"$error":"#REF!"}]
[{"$error":"#REF!"},{"$f":"IF(LEN(C33)>0,VLOOKUP($O$4,DATA!$A$1:$S$1,2,FALSE),\"\")","v":{"$error":"#REF!"}},{"$error":"#REF!"},{"$f":"IF(LEN(ASISTENCIA!#REF!)>0,ASISTENCIA!#REF!,\"\")","v":{"$error":"#REF!"}},{"$f":"IF(LEN(D33)>0,ASISTENCIA!#REF!,\"\")","v":{"$error":"#REF!"}},null,null,null,null,null,"",null,null,{"$error":"#REF!"},{"$f":"IF(AND(LEN($D33)>0,SUMIF($F$13:$J$13,O$13,$F33:$J33)>0,ASISTENCIA!#REF!<>\"X\",ASISTENCIA!#REF!<>\"L\",ASISTENCIA!#REF!<>\"J\",ASISTENCIA!#REF!<>\"V\",ASISTENCIA!#REF!<>\"F\",ASISTENCIA!#REF!<>\"\"),SUMIF($F$13:$J$13,O$13,$F33:$J33),\"\")","v":{"$error":"#REF!"}},{"$f":"IF(AND(LEN($D33)>0,SUMIF($F$13:$J$13,P$13,$F33:$J33)>0,ASISTENCIA!#REF!<>\"X\",ASISTENCIA!#REF!<>\"L\",ASISTENCIA!#REF!<>\"J\",ASISTENCIA!#REF!<>\"V\",ASISTENCIA!#REF!<>\"F\",ASISTENCIA!#REF!<>\"\"),SUMIF($F$13:$J$13,P$13,$F33:$J33),\"\")","v":{"$error":"#REF!"}},{"$f":"IF(AND(LEN($D33)>0,SUMIF($F$13:$J$13,Q$13,$F33:$J33)>0,ASISTENCIA!#REF!<>\"X\",ASISTENCIA!#REF!<>\"L\",ASISTENCIA!#REF!<>\"J\",ASISTENCIA!#REF!<>\"V\",ASISTENCIA!#REF!<>\"F\",ASISTENCIA!#REF!<>\"\"),SUMIF($F$13:$J$13,Q$13,$F33:$J33),\"\")","v":{"$error":"#REF!"}},{"$f":"IF(AND(LEN($D33)>0,SUMIF($F$13:$J$13,R$13,$F33:$J33)>0,ASISTENCIA!#REF!<>\"X\",ASISTENCIA!#REF!<>\"L\",ASISTENCIA!#REF!<>\"J\",ASISTENCIA!#REF!<>\"V\",ASISTENCIA!#REF!<>\"F\",ASISTENCIA!#REF!<>\"\"),SUMIF($F$13:$J$13,R$13,$F33:$J33),\"\")","v":{"$error":"#REF!"}},{"$f":"IF(AND(LEN($D33)>0,SUMIF($F$13:$J$13,S$13,$F33:$J33)>0,ASISTENCIA!#REF!<>\"X\",ASISTENCIA!#REF!<>\"L\",ASISTENCIA!#REF!<>\"J\",ASISTENCIA!#REF!<>\"V\",ASISTENCIA!#REF!<>\"F\",ASISTENCIA!#REF!<>\"\"),SUMIF($F$13:$J$13,S$13,$F33:$J33),\"\")","v":{"$error":"#REF!"}},{"$f":"IF(AND(LEN($D33)>0,SUMIF($F$13:$J$13,T$13,$F33:$J33)>0,ASISTENCIA!#REF!<>\"X\",ASISTENCIA!#REF!<>\"L\",ASISTENCIA!#REF!<>\"J\",ASISTENCIA!#REF!<>\"V\",ASISTENCIA!#REF!<>\"F\",ASISTENCIA!#REF!<>\"\"),SUMIF($F$13:$J$13,T$13,$F33:$J33),\"\")","v":{"$error":"#REF!"}},{"$f":"IF(AND(LEN($D33)>0,SUMIF($F$13:$J$13,U$13,$F33:$J33)>0,ASISTENCIA!#REF!<>\"X\",ASISTENCIA!#REF!<>\"L\",ASISTENCIA!#REF!<>\"J\",ASISTENCIA!#REF!<>\"V\",ASISTENCIA!#REF!<>\"F\",ASISTENCIA!#REF!<>\"\"),SUMIF($F$13:$J$13,U$13,$F33:$J33),\"\")","v":{"$error":"#REF!"}},{"$f":"IF(AND(LEN($D33)>0,SUMIF($F$13:$J$13,V$13,$F33:$J33)>0,ASISTENCIA!#REF!<>\"X\",ASISTENCIA!#REF!<>\"L\",ASISTENCIA!#REF!<>\"J\",ASISTENCIA!#REF!<>\"V\",ASISTENCIA!#REF!<>\"F\",ASISTENCIA!#REF!<>\"\"),SUMIF($F$13:$J$13,V$13,$F33:$J33),\"\")","v":{"$error":"#REF!"}},{"$f":"IF(AND(LEN($D33)>0,SUMIF($F$13:$J$13,W$13,$F33:$J33)>0,ASISTENCIA!#REF!<>\"X\",ASISTENCIA!#REF!<>\"L\",ASISTENCIA!#REF!<>\"J\",ASISTENCIA!#REF!<>\"V\",ASISTENCIA!#REF!<>\"F\",ASISTENCIA!#REF!<>\"\"),SUMIF($F$13:$J$13,W$13,$F33:$J33),\"\")","v":{"$error":"#REF!"}},{"$f":"IF(AND(LEN($D33)>0,SUMIF($F$13:$J$13,X$13,$F33:$J33)>0,ASISTENCIA!#REF!<>\"X\",ASISTENCIA!#REF!<>\"L\",ASISTENCIA!#REF!<>\"J\",ASISTENCIA!#REF!<>\"V\",ASISTENCIA!#REF!<>\"F\",ASISTENCIA!#REF!<>\"\"),SUMIF($F$13:$J$13,X$13,$F33:$J33),\"\")","v":{"$error":"#REF!"}},{"$f":"IF(AND(LEN($D33)>0,SUMIF($F$13:$J$13,Y$13,$F33:$J33)>0,ASISTENCIA!#REF!<>\"X\",ASISTENCIA!#REF!<>\"L\",ASISTENCIA!#REF!<>\"J\",ASISTENCIA!#REF!<>\"V\",ASISTENCIA!#REF!<>\"F\",ASISTENCIA!#REF!<>\"\"),SUMIF($F$13:$J$13,Y$13,$F33:$J33),\"\")","v":{"$error":"#REF!"}},{"$f":"IF(AND(LEN($D33)>0,SUMIF($F$13:$J$13,Z$13,$F33:$J33)>0,ASISTENCIA!#REF!<>\"X\",ASISTENCIA!#REF!<>\"L\",ASISTENCIA!#REF!<>\"J\",ASISTENCIA!#REF!<>\"V\",ASISTENCIA!#REF!<>\"F\",ASISTENCIA!#REF!<>\"\"),SUMIF($F$13:$J$13,Z$13,$F33:$J33),\"\")","v":{"$error":"#REF!"}},{"$f":"IF(AND(LEN($D33)>0,SUMIF($F$13:$J$13,AA$13,$F33:$J33)>0,ASISTENCIA!#REF!<>\"X\",ASISTENCIA!#REF!<>\"L\",ASISTENCIA!#REF!<>\"J\",ASISTENCIA!#REF!<>\"V\",ASISTENCIA!#REF!<>\"F\",ASISTENCIA!#REF!<>\"\"),SUMIF($F$13:$J$13,AA$13,$F33:$J33),\"\")","v":{"$error":"#REF!"}},{"$f":"IF(AND(LEN($D33)>0,SUMIF($F$13:$J$13,AB$13,$F33:$J33)>0,ASISTENCIA!#REF!<>\"X\",ASISTENCIA!#REF!<>\"L\",ASISTENCIA!#REF!<>\"J\",ASISTENCIA!#REF!<>\"V\",ASISTENCIA!#REF!<>\"F\",ASISTENCIA!#REF!<>\"\"),SUMIF($F$13:$J$13,AB$13,$F33:$J33),\"\")","v":{"$error":"#REF!"}},{"$f":"IF(AND(LEN($D33)>0,SUMIF($F$13:$J$13,AC$13,$F33:$J33)>0,ASISTENCIA!#REF!<>\"X\",ASISTENCIA!#REF!<>\"L\",ASISTENCIA!#REF!<>\"J\",ASISTENCIA!#REF!<>\"V\",ASISTENCIA!#REF!<>\"F\",ASISTENCIA!#REF!<>\"\"),SUMIF($F$13:$J$13,AC$13,$F33:$J33),\"\")","v":{"$error":"#REF!"}},{"$f":"IF(AND(LEN($D33)>0,SUMIF($F$13:$J$13,AD$13,$F33:$J33)>0,ASISTENCIA!#REF!<>\"X\",ASISTENCIA!#REF!<>\"L\",ASISTENCIA!#REF!<>\"J\",ASISTENCIA!#REF!<>\"V\",ASISTENCIA!#REF!<>\"F\",ASISTENCIA!#REF!<>\"\"),SUMIF($F$13:$J$13,AD$13,$F33:$J33),\"\")","v":{"$error":"#REF!"}},{"$f":"IF(AND(LEN($D33)>0,SUMIF($F$13:$J$13,AE$13,$F33:$J33)>0,ASISTENCIA!#REF!<>\"X\",ASISTENCIA!#REF!<>\"L\",ASISTENCIA!#REF!<>\"J\",ASISTENCIA!#REF!<>\"V\",ASISTENCIA!#REF!<>\"F\",ASISTENCIA!#REF!<>\"\"),SUMIF($F$13:$J$13,AE$13,$F33:$J33),\"\")","v":{"$error":"#REF!"}},{"$f":"IF(AND(LEN($D33)>0,SUMIF($F$13:$J$13,AF$13,$F33:$J33)>0,ASISTENCIA!#REF!<>\"X\",ASISTENCIA!#REF!<>\"L\",ASISTENCIA!#REF!<>\"J\",ASISTENCIA!#REF!<>\"V\",ASISTENCIA!#REF!<>\"F\",ASISTENCIA!#REF!<>\"\"),SUMIF($F$13:$J$13,AF$13,$F33:$J33),\"\")","v":{"$error":"#REF!"}},{"$f":"IF(AND(LEN($D33)>0,SUMIF($F$13:$J$13,AG$13,$F33:$J33)>0,ASISTENCIA!#REF!<>\"X\",ASISTENCIA!#REF!<>\"L\",ASISTENCIA!#REF!<>\"J\",ASISTENCIA!#REF!<>\"V\",ASISTENCIA!#REF!<>\"F\",ASISTENCIA!#REF!<>\"\"),SUMIF($F$13:$J$13,AG$13,$F33:$J33),\"\")","v":{"$error":"#REF!"}},{"$f":"IF(AND(LEN($D33)>0,SUMIF($F$13:$J$13,AH$13,$F33:$J33)>0,ASISTENCIA!#REF!<>\"X\",ASISTENCIA!#REF!<>\"L\",ASISTENCIA!#REF!<>\"J\",ASISTENCIA!#REF!<>\"V\",ASISTENCIA!#REF!<>\"F\",ASISTENCIA!#REF!<>\"\"),SUMIF($F$13:$J$13,AH$13,$F33:$J33),\"\")","v":{"$error":"#REF!"}},{"$f":"IF(AND(LEN($D33)>0,SUMIF($F$13:$J$13,AI$13,$F33:$J33)>0,ASISTENCIA!#REF!<>\"X\",ASISTENCIA!#REF!<>\"L\",ASISTENCIA!#REF!<>\"J\",ASISTENCIA!#REF!<>\"V\",ASISTENCIA!#REF!<>\"F\",ASISTENCIA!#REF!<>\"\"),SUMIF($F$13:$J$13,AI$13,$F33:$J33),\"\")","v":{"$error":"#REF!"}},{"$f":"IF(AND(LEN($D33)>0,SUMIF($F$13:$J$13,AJ$13,$F33:$J33)>0,ASISTENCIA!#REF!<>\"X\",ASISTENCIA!#REF!<>\"L\",ASISTENCIA!#REF!<>\"J\",ASISTENCIA!#REF!<>\"V\",ASISTENCIA!#REF!<>\"F\",ASISTENCIA!#REF!<>\"\"),SUMIF($F$13:$J$13,AJ$13,$F33:$J33),\"\")","v":{"$error":"#REF!"}},{"$f":"IF(AND(LEN($D33)>0,SUMIF($F$13:$J$13,AK$13,$F33:$J33)>0,ASISTENCIA!#REF!<>\"X\",ASISTENCIA!#REF!<>\"L\",ASISTENCIA!#REF!<>\"J\",ASISTENCIA!#REF!<>\"V\",ASISTENCIA!#REF!<>\"F\",ASISTENCIA!#REF!<>\"\"),SUMIF($F$13:$J$13,AK$13,$F33:$J33),\"\")","v":{"$error":"#REF!"}},{"$f":"IF(AND(LEN($D33)>0,SUMIF($F$13:$J$13,AL$13,$F33:$J33)>0,ASISTENCIA!#REF!<>\"X\",ASISTENCIA!#REF!<>\"L\",ASISTENCIA!#REF!<>\"J\",ASISTENCIA!#REF!<>\"V\",ASISTENCIA!#REF!<>\"F\",ASISTENCIA!#REF!<>\"\"),SUMIF($F$13:$J$13,AL$13,$F33:$J33),\"\")","v":{"$error":"#REF!"}},{"$f":"IF(AND(LEN($D33)>0,SUMIF($F$13:$J$13,AM$13,$F33:$J33)>0,ASISTENCIA!#REF!<>\"X\",ASISTENCIA!#REF!<>\"L\",ASISTENCIA!#REF!<>\"J\",ASISTENCIA!#REF!<>\"V\",ASISTENCIA!#REF!<>\"F\",ASISTENCIA!#REF!<>\"\"),SUMIF($F$13:$J$13,AM$13,$F33:$J33),\"\")","v":{"$error":"#REF!"}},{"$f":"IF(AND(LEN($D33)>0,SUMIF($F$13:$J$13,AN$13,$F33:$J33)>0,ASISTENCIA!#REF!<>\"X\",ASISTENCIA!#REF!<>\"L\",ASISTENCIA!#REF!<>\"J\",ASISTENCIA!#REF!<>\"V\",ASISTENCIA!#REF!<>\"F\",ASISTENCIA!#REF!<>\"\"),SUMIF($F$13:$J$13,AN$13,$F33:$J33),\"\")","v":{"$error":"#REF!"}},{"$f":"IF(AND(LEN($D33)>0,SUMIF($F$13:$J$13,AO$13,$F33:$J33)>0,ASISTENCIA!#REF!<>\"X\",ASISTENCIA!#REF!<>\"L\",ASISTENCIA!#REF!<>\"J\",ASISTENCIA!#REF!<>\"V\",ASISTENCIA!#REF!<>\"F\",ASISTENCIA!#REF!<>\"\"),SUMIF($F$13:$J$13,AO$13,$F33:$J33),\"\")","v":{"$error":"#REF!"}},{"$f":"IF(AND(LEN($D33)>0,SUMIF($F$13:$J$13,AP$13,$F33:$J33)>0,ASISTENCIA!#REF!<>\"X\",ASISTENCIA!#REF!<>\"L\",ASISTENCIA!#REF!<>\"J\",ASISTENCIA!#REF!<>\"V\",ASISTENCIA!#REF!<>\"F\",ASISTENCIA!#REF!<>\"\"),SUMIF($F$13:$J$13,AP$13,$F33:$J33),\"\")","v":{"$error":"#REF!"}},{"$f":"IF(AND(LEN($D33)>0,SUMIF($F$13:$J$13,AQ$13,$F33:$J33)>0,ASISTENCIA!#REF!<>\"X\",ASISTENCIA!#REF!<>\"L\",ASISTENCIA!#REF!<>\"J\",ASISTENCIA!#REF!<>\"V\",ASISTENCIA!#REF!<>\"F\",ASISTENCIA!#REF!<>\"\"),SUMIF($F$13:$J$13,AQ$13,$F33:$J33),\"\")","v":{"$error":"#REF!"}},{"$f":"IF(AND(LEN($D33)>0,SUMIF($F$13:$J$13,AR$13,$F33:$J33)>0,ASISTENCIA!#REF!<>\"X\",ASISTENCIA!#REF!<>\"L\",ASISTENCIA!#REF!<>\"J\",ASISTENCIA!#REF!<>\"V\",ASISTENCIA!#REF!<>\"F\",ASISTENCIA!#REF!<>\"\"),SUMIF($F$13:$J$13,AR$13,$F33:$J33),\"\")","v":{"$error":"#REF!"}},{"$f":"IF(AND(LEN($D33)>0,SUMIF($F$13:$J$13,AS$13,$F33:$J33)>0,ASISTENCIA!#REF!<>\"X\",ASISTENCIA!#REF!<>\"L\",ASISTENCIA!#REF!<>\"J\",ASISTENCIA!#REF!<>\"V\",ASISTENCIA!#REF!<>\"F\",ASISTENCIA!#REF!<>\"\"),SUMIF($F$13:$J$13,AS$13,$F33:$J33),\"\")","v":{"$error":"#REF!"}},{"$error":"#REF!"},null,null,null,{"$f":"IF(AND(LEN($D33)>0,SUMIF($F$13:$J$13,AX$13,$F33:$J33)>0,ASISTENCIA!#REF!<>\"X\",ASISTENCIA!#REF!<>\"L\",ASISTENCIA!#REF!<>\"J\",ASISTENCIA!#REF!<>\"F\"),SUMIF($F$13:$J$13,AX$13,$F33:$J33),\"\")","v":{"$error":"#REF!"}},{"$f":"IF(AND(LEN($D33)>0,SUMIF($F$13:$J$13,AY$13,$F33:$J33)>0,ASISTENCIA!#REF!<>\"X\",ASISTENCIA!#REF!<>\"L\",ASISTENCIA!#REF!<>\"J\",ASISTENCIA!#REF!<>\"F\"),SUMIF($F$13:$J$13,AY$13,$F33:$J33),\"\")","v":{"$error":"#REF!"}},{"$f":"IF(AND(LEN($D33)>0,SUMIF($F$13:$J$13,AZ$13,$F33:$J33)>0,ASISTENCIA!#REF!<>\"X\",ASISTENCIA!#REF!<>\"L\",ASISTENCIA!#REF!<>\"J\",ASISTENCIA!#REF!<>\"F\"),SUMIF($F$13:$J$13,AZ$13,$F33:$J33),\"\")","v":{"$error":"#REF!"}},{"$f":"IF(AND(LEN($D33)>0,SUMIF($F$13:$J$13,BA$13,$F33:$J33)>0,ASISTENCIA!#REF!<>\"X\",ASISTENCIA!#REF!<>\"L\",ASISTENCIA!#REF!<>\"J\",ASISTENCIA!#REF!<>\"F\"),SUMIF($F$13:$J$13,BA$13,$F33:$J33),\"\")","v":{"$error":"#REF!"}},{"$f":"IF(AND(LEN($D33)>0,SUMIF($F$13:$J$13,BB$13,$F33:$J33)>0,ASISTENCIA!#REF!<>\"X\",ASISTENCIA!#REF!<>\"L\",ASISTENCIA!#REF!<>\"J\",ASISTENCIA!#REF!<>\"F\"),SUMIF($F$13:$J$13,BB$13,$F33:$J33),\"\")","v":{"$error":"#REF!"}},{"$f":"IF(AND(LEN($D33)>0,SUMIF($F$13:$J$13,BC$13,$F33:$J33)>0,ASISTENCIA!#REF!<>\"X\",ASISTENCIA!#REF!<>\"L\",ASISTENCIA!#REF!<>\"J\",ASISTENCIA!#REF!<>\"F\"),SUMIF($F$13:$J$13,BC$13,$F33:$J33),\"\")","v":{"$error":"#REF!"}},{"$f":"IF(AND(LEN($D33)>0,SUMIF($F$13:$J$13,BD$13,$F33:$J33)>0,ASISTENCIA!#REF!<>\"X\",ASISTENCIA!#REF!<>\"L\",ASISTENCIA!#REF!<>\"J\",ASISTENCIA!#REF!<>\"F\"),SUMIF($F$13:$J$13,BD$13,$F33:$J33),\"\")","v":{"$error":"#REF!"}},{"$f":"IF(AND(LEN($D33)>0,SUMIF($F$13:$J$13,BE$13,$F33:$J33)>0,ASISTENCIA!#REF!<>\"X\",ASISTENCIA!#REF!<>\"L\",ASISTENCIA!#REF!<>\"J\",ASISTENCIA!#REF!<>\"F\"),SUMIF($F$13:$J$13,BE$13,$F33:$J33),\"\")","v":{"$error":"#REF!"}},{"$f":"IF(AND(LEN($D33)>0,SUMIF($F$13:$J$13,BF$13,$F33:$J33)>0,ASISTENCIA!#REF!<>\"X\",ASISTENCIA!#REF!<>\"L\",ASISTENCIA!#REF!<>\"J\",ASISTENCIA!#REF!<>\"F\"),SUMIF($F$13:$J$13,BF$13,$F33:$J33),\"\")","v":{"$error":"#REF!"}},{"$f":"IF(AND(LEN($D33)>0,SUMIF($F$13:$J$13,BG$13,$F33:$J33)>0,ASISTENCIA!#REF!<>\"X\",ASISTENCIA!#REF!<>\"L\",ASISTENCIA!#REF!<>\"J\",ASISTENCIA!#REF!<>\"F\"),SUMIF($F$13:$J$13,BG$13,$F33:$J33),\"\")","v":{"$error":"#REF!"}},{"$f":"IF(AND(LEN($D33)>0,SUMIF($F$13:$J$13,BH$13,$F33:$J33)>0,ASISTENCIA!#REF!<>\"X\",ASISTENCIA!#REF!<>\"L\",ASISTENCIA!#REF!<>\"J\",ASISTENCIA!#REF!<>\"F\"),SUMIF($F$13:$J$13,BH$13,$F33:$J33),\"\")","v":{"$error":"#REF!"}},{"$f":"IF(AND(LEN($D33)>0,SUMIF($F$13:$J$13,BI$13,$F33:$J33)>0,ASISTENCIA!#REF!<>\"X\",ASISTENCIA!#REF!<>\"L\",ASISTENCIA!#REF!<>\"J\",ASISTENCIA!#REF!<>\"F\"),SUMIF($F$13:$J$13,BI$13,$F33:$J33),\"\")","v":{"$error":"#REF!"}},{"$f":"IF(AND(LEN($D33)>0,SUMIF($F$13:$J$13,BJ$13,$F33:$J33)>0,ASISTENCIA!#REF!<>\"X\",ASISTENCIA!#REF!<>\"L\",ASISTENCIA!#REF!<>\"J\",ASISTENCIA!#REF!<>\"F\"),SUMIF($F$13:$J$13,BJ$13,$F33:$J33),\"\")","v":{"$error":"#REF!"}},{"$f":"IF(AND(LEN($D33)>0,SUMIF($F$13:$J$13,BK$13,$F33:$J33)>0,ASISTENCIA!#REF!<>\"X\",ASISTENCIA!#REF!<>\"L\",ASISTENCIA!#REF!<>\"J\",ASISTENCIA!#REF!<>\"F\"),SUMIF($F$13:$J$13,BK$13,$F33:$J33),\"\")","v":{"$error":"#REF!"}},{"$f":"IF(AND(LEN($D33)>0,SUMIF($F$13:$J$13,BL$13,$F33:$J33)>0,ASISTENCIA!#REF!<>\"X\",ASISTENCIA!#REF!<>\"L\",ASISTENCIA!#REF!<>\"J\",ASISTENCIA!#REF!<>\"F\"),SUMIF($F$13:$J$13,BL$13,$F33:$J33),\"\")","v":{"$error":"#REF!"}},{"$f":"IF(AND(LEN($D33)>0,SUMIF($F$13:$J$13,BM$13,$F33:$J33)>0,ASISTENCIA!#REF!<>\"X\",ASISTENCIA!#REF!<>\"L\",ASISTENCIA!#REF!<>\"J\",ASISTENCIA!#REF!<>\"F\"),SUMIF($F$13:$J$13,BM$13,$F33:$J33),\"\")","v":{"$error":"#REF!"}},{"$f":"IF(AND(LEN($D33)>0,SUMIF($F$13:$J$13,BN$13,$F33:$J33)>0,ASISTENCIA!#REF!<>\"X\",ASISTENCIA!#REF!<>\"L\",ASISTENCIA!#REF!<>\"J\",ASISTENCIA!#REF!<>\"F\"),SUMIF($F$13:$J$13,BN$13,$F33:$J33),\"\")","v":{"$error":"#REF!"}},{"$f":"IF(AND(LEN($D33)>0,SUMIF($F$13:$J$13,BO$13,$F33:$J33)>0,ASISTENCIA!#REF!<>\"X\",ASISTENCIA!#REF!<>\"L\",ASISTENCIA!#REF!<>\"J\",ASISTENCIA!#REF!<>\"F\"),SUMIF($F$13:$J$13,BO$13,$F33:$J33),\"\")","v":{"$error":"#REF!"}},{"$f":"IF(AND(LEN($D33)>0,SUMIF($F$13:$J$13,BP$13,$F33:$J33)>0,ASISTENCIA!#REF!<>\"X\",ASISTENCIA!#REF!<>\"L\",ASISTENCIA!#REF!<>\"J\",ASISTENCIA!#REF!<>\"F\"),SUMIF($F$13:$J$13,BP$13,$F33:$J33),\"\")","v":{"$error":"#REF!"}},{"$f":"IF(AND(LEN($D33)>0,SUMIF($F$13:$J$13,BQ$13,$F33:$J33)>0,ASISTENCIA!#REF!<>\"X\",ASISTENCIA!#REF!<>\"L\",ASISTENCIA!#REF!<>\"J\",ASISTENCIA!#REF!<>\"F\"),SUMIF($F$13:$J$13,BQ$13,$F33:$J33),\"\")","v":{"$error":"#REF!"}},{"$f":"IF(AND(LEN($D33)>0,SUMIF($F$13:$J$13,BR$13,$F33:$J33)>0,ASISTENCIA!#REF!<>\"X\",ASISTENCIA!#REF!<>\"L\",ASISTENCIA!#REF!<>\"J\",ASISTENCIA!#REF!<>\"F\"),SUMIF($F$13:$J$13,BR$13,$F33:$J33),\"\")","v":{"$error":"#REF!"}},{"$f":"IF(AND(LEN($D33)>0,SUMIF($F$13:$J$13,BS$13,$F33:$J33)>0,ASISTENCIA!#REF!<>\"X\",ASISTENCIA!#REF!<>\"L\",ASISTENCIA!#REF!<>\"J\",ASISTENCIA!#REF!<>\"F\"),SUMIF($F$13:$J$13,BS$13,$F33:$J33),\"\")","v":{"$error":"#REF!"}},{"$f":"IF(AND(LEN($D33)>0,SUMIF($F$13:$J$13,BT$13,$F33:$J33)>0,ASISTENCIA!#REF!<>\"X\",ASISTENCIA!#REF!<>\"L\",ASISTENCIA!#REF!<>\"J\",ASISTENCIA!#REF!<>\"F\"),SUMIF($F$13:$J$13,BT$13,$F33:$J33),\"\")","v":{"$error":"#REF!"}},{"$f":"IF(AND(LEN($D33)>0,SUMIF($F$13:$J$13,BU$13,$F33:$J33)>0,ASISTENCIA!#REF!<>\"X\",ASISTENCIA!#REF!<>\"L\",ASISTENCIA!#REF!<>\"J\",ASISTENCIA!#REF!<>\"F\"),SUMIF($F$13:$J$13,BU$13,$F33:$J33),\"\")","v":{"$error":"#REF!"}},{"$f":"IF(AND(LEN($D33)>0,SUMIF($F$13:$J$13,BV$13,$F33:$J33)>0,ASISTENCIA!#REF!<>\"X\",ASISTENCIA!#REF!<>\"L\",ASISTENCIA!#REF!<>\"J\",ASISTENCIA!#REF!<>\"F\"),SUMIF($F$13:$J$13,BV$13,$F33:$J33),\"\")","v":{"$error":"#REF!"}},{"$f":"IF(AND(LEN($D33)>0,SUMIF($F$13:$J$13,BW$13,$F33:$J33)>0,ASISTENCIA!#REF!<>\"X\",ASISTENCIA!#REF!<>\"L\",ASISTENCIA!#REF!<>\"J\",ASISTENCIA!#REF!<>\"F\"),SUMIF($F$13:$J$13,BW$13,$F33:$J33),\"\")","v":{"$error":"#REF!"}},{"$f":"IF(AND(LEN($D33)>0,SUMIF($F$13:$J$13,BX$13,$F33:$J33)>0,ASISTENCIA!#REF!<>\"X\",ASISTENCIA!#REF!<>\"L\",ASISTENCIA!#REF!<>\"J\",ASISTENCIA!#REF!<>\"F\"),SUMIF($F$13:$J$13,BX$13,$F33:$J33),\"\")","v":{"$error":"#REF!"}},{"$f":"IF(AND(LEN($D33)>0,SUMIF($F$13:$J$13,BY$13,$F33:$J33)>0,ASISTENCIA!#REF!<>\"X\",ASISTENCIA!#REF!<>\"L\",ASISTENCIA!#REF!<>\"J\",ASISTENCIA!#REF!<>\"F\"),SUMIF($F$13:$J$13,BY$13,$F33:$J33),\"\")","v":{"$error":"#REF!"}},{"$f":"IF(AND(LEN($D33)>0,SUMIF($F$13:$J$13,BZ$13,$F33:$J33)>0,ASISTENCIA!#REF!<>\"X\",ASISTENCIA!#REF!<>\"L\",ASISTENCIA!#REF!<>\"J\",ASISTENCIA!#REF!<>\"F\"),SUMIF($F$13:$J$13,BZ$13,$F33:$J33),\"\")","v":{"$error":"#REF!"}},{"$f":"IF(AND(LEN($D33)>0,SUMIF($F$13:$J$13,CA$13,$F33:$J33)>0,ASISTENCIA!#REF!<>\"X\",ASISTENCIA!#REF!<>\"L\",ASISTENCIA!#REF!<>\"J\",ASISTENCIA!#REF!<>\"F\"),SUMIF($F$13:$J$13,CA$13,$F33:$J33),\"\")","v":{"$error":"#REF!"}},{"$f":"IF(AND(LEN($D33)>0,SUMIF($F$13:$J$13,CB$13,$F33:$J33)>0,ASISTENCIA!#REF!<>\"X\",ASISTENCIA!#REF!<>\"L\",ASISTENCIA!#REF!<>\"J\",ASISTENCIA!#REF!<>\"F\"),SUMIF($F$13:$J$13,CB$13,$F33:$J33),\"\")","v":{"$error":"#REF!"}},{"$error":"#REF!"}]
[{"$error":"#REF!"},{"$f":"IF(LEN(C34)>0,VLOOKUP($O$4,DATA!$A$1:$S$1,2,FALSE),\"\")","v":{"$error":"#REF!"}},{"$error":"#REF!"},{"$f":"IF(LEN(ASISTENCIA!#REF!)>0,ASISTENCIA!#REF!,\"\")","v":{"$error":"#REF!"}},{"$f":"IF(LEN(D34)>0,ASISTENCIA!#REF!,\"\")","v":{"$error":"#REF!"}},null,null,null,null,null,"",null,null,{"$error":"#REF!"},{"$f":"IF(AND(LEN($D34)>0,SUMIF($F$13:$J$13,O$13,$F34:$J34)>0,ASISTENCIA!#REF!<>\"X\",ASISTENCIA!#REF!<>\"L\",ASISTENCIA!#REF!<>\"J\",ASISTENCIA!#REF!<>\"V\",ASISTENCIA!#REF!<>\"F\",ASISTENCIA!#REF!<>\"\"),SUMIF($F$13:$J$13,O$13,$F34:$J34),\"\")","v":{"$error":"#REF!"}},{"$f":"IF(AND(LEN($D34)>0,SUMIF($F$13:$J$13,P$13,$F34:$J34)>0,ASISTENCIA!#REF!<>\"X\",ASISTENCIA!#REF!<>\"L\",ASISTENCIA!#REF!<>\"J\",ASISTENCIA!#REF!<>\"V\",ASISTENCIA!#REF!<>\"F\",ASISTENCIA!#REF!<>\"\"),SUMIF($F$13:$J$13,P$13,$F34:$J34),\"\")","v":{"$error":"#REF!"}},{"$f":"IF(AND(LEN($D34)>0,SUMIF($F$13:$J$13,Q$13,$F34:$J34)>0,ASISTENCIA!#REF!<>\"X\",ASISTENCIA!#REF!<>\"L\",ASISTENCIA!#REF!<>\"J\",ASISTENCIA!#REF!<>\"V\",ASISTENCIA!#REF!<>\"F\",ASISTENCIA!#REF!<>\"\"),SUMIF($F$13:$J$13,Q$13,$F34:$J34),\"\")","v":{"$error":"#REF!"}},{"$f":"IF(AND(LEN($D34)>0,SUMIF($F$13:$J$13,R$13,$F34:$J34)>0,ASISTENCIA!#REF!<>\"X\",ASISTENCIA!#REF!<>\"L\",ASISTENCIA!#REF!<>\"J\",ASISTENCIA!#REF!<>\"V\",ASISTENCIA!#REF!<>\"F\",ASISTENCIA!#REF!<>\"\"),SUMIF($F$13:$J$13,R$13,$F34:$J34),\"\")","v":{"$error":"#REF!"}},{"$f":"IF(AND(LEN($D34)>0,SUMIF($F$13:$J$13,S$13,$F34:$J34)>0,ASISTENCIA!#REF!<>\"X\",ASISTENCIA!#REF!<>\"L\",ASISTENCIA!#REF!<>\"J\",ASISTENCIA!#REF!<>\"V\",ASISTENCIA!#REF!<>\"F\",ASISTENCIA!#REF!<>\"\"),SUMIF($F$13:$J$13,S$13,$F34:$J34),\"\")","v":{"$error":"#REF!"}},{"$f":"IF(AND(LEN($D34)>0,SUMIF($F$13:$J$13,T$13,$F34:$J34)>0,ASISTENCIA!#REF!<>\"X\",ASISTENCIA!#REF!<>\"L\",ASISTENCIA!#REF!<>\"J\",ASISTENCIA!#REF!<>\"V\",ASISTENCIA!#REF!<>\"F\",ASISTENCIA!#REF!<>\"\"),SUMIF($F$13:$J$13,T$13,$F34:$J34),\"\")","v":{"$error":"#REF!"}},{"$f":"IF(AND(LEN($D34)>0,SUMIF($F$13:$J$13,U$13,$F34:$J34)>0,ASISTENCIA!#REF!<>\"X\",ASISTENCIA!#REF!<>\"L\",ASISTENCIA!#REF!<>\"J\",ASISTENCIA!#REF!<>\"V\",ASISTENCIA!#REF!<>\"F\",ASISTENCIA!#REF!<>\"\"),SUMIF($F$13:$J$13,U$13,$F34:$J34),\"\")","v":{"$error":"#REF!"}},{"$f":"IF(AND(LEN($D34)>0,SUMIF($F$13:$J$13,V$13,$F34:$J34)>0,ASISTENCIA!#REF!<>\"X\",ASISTENCIA!#REF!<>\"L\",ASISTENCIA!#REF!<>\"J\",ASISTENCIA!#REF!<>\"V\",ASISTENCIA!#REF!<>\"F\",ASISTENCIA!#REF!<>\"\"),SUMIF($F$13:$J$13,V$13,$F34:$J34),\"\")","v":{"$error":"#REF!"}},{"$f":"IF(AND(LEN($D34)>0,SUMIF($F$13:$J$13,W$13,$F34:$J34)>0,ASISTENCIA!#REF!<>\"X\",ASISTENCIA!#REF!<>\"L\",ASISTENCIA!#REF!<>\"J\",ASISTENCIA!#REF!<>\"V\",ASISTENCIA!#REF!<>\"F\",ASISTENCIA!#REF!<>\"\"),SUMIF($F$13:$J$13,W$13,$F34:$J34),\"\")","v":{"$error":"#REF!"}},{"$f":"IF(AND(LEN($D34)>0,SUMIF($F$13:$J$13,X$13,$F34:$J34)>0,ASISTENCIA!#REF!<>\"X\",ASISTENCIA!#REF!<>\"L\",ASISTENCIA!#REF!<>\"J\",ASISTENCIA!#REF!<>\"V\",ASISTENCIA!#REF!<>\"F\",ASISTENCIA!#REF!<>\"\"),SUMIF($F$13:$J$13,X$13,$F34:$J34),\"\")","v":{"$error":"#REF!"}},{"$f":"IF(AND(LEN($D34)>0,SUMIF($F$13:$J$13,Y$13,$F34:$J34)>0,ASISTENCIA!#REF!<>\"X\",ASISTENCIA!#REF!<>\"L\",ASISTENCIA!#REF!<>\"J\",ASISTENCIA!#REF!<>\"V\",ASISTENCIA!#REF!<>\"F\",ASISTENCIA!#REF!<>\"\"),SUMIF($F$13:$J$13,Y$13,$F34:$J34),\"\")","v":{"$error":"#REF!"}},{"$f":"IF(AND(LEN($D34)>0,SUMIF($F$13:$J$13,Z$13,$F34:$J34)>0,ASISTENCIA!#REF!<>\"X\",ASISTENCIA!#REF!<>\"L\",ASISTENCIA!#REF!<>\"J\",ASISTENCIA!#REF!<>\"V\",ASISTENCIA!#REF!<>\"F\",ASISTENCIA!#REF!<>\"\"),SUMIF($F$13:$J$13,Z$13,$F34:$J34),\"\")","v":{"$error":"#REF!"}},{"$f":"IF(AND(LEN($D34)>0,SUMIF($F$13:$J$13,AA$13,$F34:$J34)>0,ASISTENCIA!#REF!<>\"X\",ASISTENCIA!#REF!<>\"L\",ASISTENCIA!#REF!<>\"J\",ASISTENCIA!#REF!<>\"V\",ASISTENCIA!#REF!<>\"F\",ASISTENCIA!#REF!<>\"\"),SUMIF($F$13:$J$13,AA$13,$F34:$J34),\"\")","v":{"$error":"#REF!"}},{"$f":"IF(AND(LEN($D34)>0,SUMIF($F$13:$J$13,AB$13,$F34:$J34)>0,ASISTENCIA!#REF!<>\"X\",ASISTENCIA!#REF!<>\"L\",ASISTENCIA!#REF!<>\"J\",ASISTENCIA!#REF!<>\"V\",ASISTENCIA!#REF!<>\"F\",ASISTENCIA!#REF!<>\"\"),SUMIF($F$13:$J$13,AB$13,$F34:$J34),\"\")","v":{"$error":"#REF!"}},{"$f":"IF(AND(LEN($D34)>0,SUMIF($F$13:$J$13,AC$13,$F34:$J34)>0,ASISTENCIA!#REF!<>\"X\",ASISTENCIA!#REF!<>\"L\",ASISTENCIA!#REF!<>\"J\",ASISTENCIA!#REF!<>\"V\",ASISTENCIA!#REF!<>\"F\",ASISTENCIA!#REF!<>\"\"),SUMIF($F$13:$J$13,AC$13,$F34:$J34),\"\")","v":{"$error":"#REF!"}},{"$f":"IF(AND(LEN($D34)>0,SUMIF($F$13:$J$13,AD$13,$F34:$J34)>0,ASISTENCIA!#REF!<>\"X\",ASISTENCIA!#REF!<>\"L\",ASISTENCIA!#REF!<>\"J\",ASISTENCIA!#REF!<>\"V\",ASISTENCIA!#REF!<>\"F\",ASISTENCIA!#REF!<>\"\"),SUMIF($F$13:$J$13,AD$13,$F34:$J34),\"\")","v":{"$error":"#REF!"}},{"$f":"IF(AND(LEN($D34)>0,SUMIF($F$13:$J$13,AE$13,$F34:$J34)>0,ASISTENCIA!#REF!<>\"X\",ASISTENCIA!#REF!<>\"L\",ASISTENCIA!#REF!<>\"J\",ASISTENCIA!#REF!<>\"V\",ASISTENCIA!#REF!<>\"F\",ASISTENCIA!#REF!<>\"\"),SUMIF($F$13:$J$13,AE$13,$F34:$J34),\"\")","v":{"$error":"#REF!"}},{"$f":"IF(AND(LEN($D34)>0,SUMIF($F$13:$J$13,AF$13,$F34:$J34)>0,ASISTENCIA!#REF!<>\"X\",ASISTENCIA!#REF!<>\"L\",ASISTENCIA!#REF!<>\"J\",ASISTENCIA!#REF!<>\"V\",ASISTENCIA!#REF!<>\"F\",ASISTENCIA!#REF!<>\"\"),SUMIF($F$13:$J$13,AF$13,$F34:$J34),\"\")","v":{"$error":"#REF!"}},{"$f":"IF(AND(LEN($D34)>0,SUMIF($F$13:$J$13,AG$13,$F34:$J34)>0,ASISTENCIA!#REF!<>\"X\",ASISTENCIA!#REF!<>\"L\",ASISTENCIA!#REF!<>\"J\",ASISTENCIA!#REF!<>\"V\",ASISTENCIA!#REF!<>\"F\",ASISTENCIA!#REF!<>\"\"),SUMIF($F$13:$J$13,AG$13,$F34:$J34),\"\")","v":{"$error":"#REF!"}},{"$f":"IF(AND(LEN($D34)>0,SUMIF($F$13:$J$13,AH$13,$F34:$J34)>0,ASISTENCIA!#REF!<>\"X\",ASISTENCIA!#REF!<>\"L\",ASISTENCIA!#REF!<>\"J\",ASISTENCIA!#REF!<>\"V\",ASISTENCIA!#REF!<>\"F\",ASISTENCIA!#REF!<>\"\"),SUMIF($F$13:$J$13,AH$13,$F34:$J34),\"\")","v":{"$error":"#REF!"}},{"$f":"IF(AND(LEN($D34)>0,SUMIF($F$13:$J$13,AI$13,$F34:$J34)>0,ASISTENCIA!#REF!<>\"X\",ASISTENCIA!#REF!<>\"L\",ASISTENCIA!#REF!<>\"J\",ASISTENCIA!#REF!<>\"V\",ASISTENCIA!#REF!<>\"F\",ASISTENCIA!#REF!<>\"\"),SUMIF($F$13:$J$13,AI$13,$F34:$J34),\"\")","v":{"$error":"#REF!"}},{"$f":"IF(AND(LEN($D34)>0,SUMIF($F$13:$J$13,AJ$13,$F34:$J34)>0,ASISTENCIA!#REF!<>\"X\",ASISTENCIA!#REF!<>\"L\",ASISTENCIA!#REF!<>\"J\",ASISTENCIA!#REF!<>\"V\",ASISTENCIA!#REF!<>\"F\",ASISTENCIA!#REF!<>\"\"),SUMIF($F$13:$J$13,AJ$13,$F34:$J34),\"\")","v":{"$error":"#REF!"}},{"$f":"IF(AND(LEN($D34)>0,SUMIF($F$13:$J$13,AK$13,$F34:$J34)>0,ASISTENCIA!#REF!<>\"X\",ASISTENCIA!#REF!<>\"L\",ASISTENCIA!#REF!<>\"J\",ASISTENCIA!#REF!<>\"V\",ASISTENCIA!#REF!<>\"F\",ASISTENCIA!#REF!<>\"\"),SUMIF($F$13:$J$13,AK$13,$F34:$J34),\"\")","v":{"$error":"#REF!"}},{"$f":"IF(AND(LEN($D34)>0,SUMIF($F$13:$J$13,AL$13,$F34:$J34)>0,ASISTENCIA!#REF!<>\"X\",ASISTENCIA!#REF!<>\"L\",ASISTENCIA!#REF!<>\"J\",ASISTENCIA!#REF!<>\"V\",ASISTENCIA!#REF!<>\"F\",ASISTENCIA!#REF!<>\"\"),SUMIF($F$13:$J$13,AL$13,$F34:$J34),\"\")","v":{"$error":"#REF!"}},{"$f":"IF(AND(LEN($D34)>0,SUMIF($F$13:$J$13,AM$13,$F34:$J34)>0,ASISTENCIA!#REF!<>\"X\",ASISTENCIA!#REF!<>\"L\",ASISTENCIA!#REF!<>\"J\",ASISTENCIA!#REF!<>\"V\",ASISTENCIA!#REF!<>\"F\",ASISTENCIA!#REF!<>\"\"),SUMIF($F$13:$J$13,AM$13,$F34:$J34),\"\")","v":{"$error":"#REF!"}},{"$f":"IF(AND(LEN($D34)>0,SUMIF($F$13:$J$13,AN$13,$F34:$J34)>0,ASISTENCIA!#REF!<>\"X\",ASISTENCIA!#REF!<>\"L\",ASISTENCIA!#REF!<>\"J\",ASISTENCIA!#REF!<>\"V\",ASISTENCIA!#REF!<>\"F\",ASISTENCIA!#REF!<>\"\"),SUMIF($F$13:$J$13,AN$13,$F34:$J34),\"\")","v":{"$error":"#REF!"}},{"$f":"IF(AND(LEN($D34)>0,SUMIF($F$13:$J$13,AO$13,$F34:$J34)>0,ASISTENCIA!#REF!<>\"X\",ASISTENCIA!#REF!<>\"L\",ASISTENCIA!#REF!<>\"J\",ASISTENCIA!#REF!<>\"V\",ASISTENCIA!#REF!<>\"F\",ASISTENCIA!#REF!<>\"\"),SUMIF($F$13:$J$13,AO$13,$F34:$J34),\"\")","v":{"$error":"#REF!"}},{"$f":"IF(AND(LEN($D34)>0,SUMIF($F$13:$J$13,AP$13,$F34:$J34)>0,ASISTENCIA!#REF!<>\"X\",ASISTENCIA!#REF!<>\"L\",ASISTENCIA!#REF!<>\"J\",ASISTENCIA!#REF!<>\"V\",ASISTENCIA!#REF!<>\"F\",ASISTENCIA!#REF!<>\"\"),SUMIF($F$13:$J$13,AP$13,$F34:$J34),\"\")","v":{"$error":"#REF!"}},{"$f":"IF(AND(LEN($D34)>0,SUMIF($F$13:$J$13,AQ$13,$F34:$J34)>0,ASISTENCIA!#REF!<>\"X\",ASISTENCIA!#REF!<>\"L\",ASISTENCIA!#REF!<>\"J\",ASISTENCIA!#REF!<>\"V\",ASISTENCIA!#REF!<>\"F\",ASISTENCIA!#REF!<>\"\"),SUMIF($F$13:$J$13,AQ$13,$F34:$J34),\"\")","v":{"$error":"#REF!"}},{"$f":"IF(AND(LEN($D34)>0,SUMIF($F$13:$J$13,AR$13,$F34:$J34)>0,ASISTENCIA!#REF!<>\"X\",ASISTENCIA!#REF!<>\"L\",ASISTENCIA!#REF!<>\"J\",ASISTENCIA!#REF!<>\"V\",ASISTENCIA!#REF!<>\"F\",ASISTENCIA!#REF!<>\"\"),SUMIF($F$13:$J$13,AR$13,$F34:$J34),\"\")","v":{"$error":"#REF!"}},{"$f":"IF(AND(LEN($D34)>0,SUMIF($F$13:$J$13,AS$13,$F34:$J34)>0,ASISTENCIA!#REF!<>\"X\",ASISTENCIA!#REF!<>\"L\",ASISTENCIA!#REF!<>\"J\",ASISTENCIA!#REF!<>\"V\",ASISTENCIA!#REF!<>\"F\",ASISTENCIA!#REF!<>\"\"),SUMIF($F$13:$J$13,AS$13,$F34:$J34),\"\")","v":{"$error":"#REF!"}},{"$error":"#REF!"},null,null,null,{"$f":"IF(AND(LEN($D34)>0,SUMIF($F$13:$J$13,AX$13,$F34:$J34)>0,ASISTENCIA!#REF!<>\"X\",ASISTENCIA!#REF!<>\"L\",ASISTENCIA!#REF!<>\"J\",ASISTENCIA!#REF!<>\"F\"),SUMIF($F$13:$J$13,AX$13,$F34:$J34),\"\")","v":{"$error":"#REF!"}},{"$f":"IF(AND(LEN($D34)>0,SUMIF($F$13:$J$13,AY$13,$F34:$J34)>0,ASISTENCIA!#REF!<>\"X\",ASISTENCIA!#REF!<>\"L\",ASISTENCIA!#REF!<>\"J\",ASISTENCIA!#REF!<>\"F\"),SUMIF($F$13:$J$13,AY$13,$F34:$J34),\"\")","v":{"$error":"#REF!"}},{"$f":"IF(AND(LEN($D34)>0,SUMIF($F$13:$J$13,AZ$13,$F34:$J34)>0,ASISTENCIA!#REF!<>\"X\",ASISTENCIA!#REF!<>\"L\",ASISTENCIA!#REF!<>\"J\",ASISTENCIA!#REF!<>\"F\"),SUMIF($F$13:$J$13,AZ$13,$F34:$J34),\"\")","v":{"$error":"#REF!"}},{"$f":"IF(AND(LEN($D34)>0,SUMIF($F$13:$J$13,BA$13,$F34:$J34)>0,ASISTENCIA!#REF!<>\"X\",ASISTENCIA!#REF!<>\"L\",ASISTENCIA!#REF!<>\"J\",ASISTENCIA!#REF!<>\"F\"),SUMIF($F$13:$J$13,BA$13,$F34:$J34),\"\")","v":{"$error":"#REF!"}},{"$f":"IF(AND(LEN($D34)>0,SUMIF($F$13:$J$13,BB$13,$F34:$J34)>0,ASISTENCIA!#REF!<>\"X\",ASISTENCIA!#REF!<>\"L\",ASISTENCIA!#REF!<>\"J\",ASISTENCIA!#REF!<>\"F\"),SUMIF($F$13:$J$13,BB$13,$F34:$J34),\"\")","v":{"$error":"#REF!"}},{"$f":"IF(AND(LEN($D34)>0,SUMIF($F$13:$J$13,BC$13,$F34:$J34)>0,ASISTENCIA!#REF!<>\"X\",ASISTENCIA!#REF!<>\"L\",ASISTENCIA!#REF!<>\"J\",ASISTENCIA!#REF!<>\"F\"),SUMIF($F$13:$J$13,BC$13,$F34:$J34),\"\")","v":{"$error":"#REF!"}},{"$f":"IF(AND(LEN($D34)>0,SUMIF($F$13:$J$13,BD$13,$F34:$J34)>0,ASISTENCIA!#REF!<>\"X\",ASISTENCIA!#REF!<>\"L\",ASISTENCIA!#REF!<>\"J\",ASISTENCIA!#REF!<>\"F\"),SUMIF($F$13:$J$13,BD$13,$F34:$J34),\"\")","v":{"$error":"#REF!"}},{"$f":"IF(AND(LEN($D34)>0,SUMIF($F$13:$J$13,BE$13,$F34:$J34)>0,ASISTENCIA!#REF!<>\"X\",ASISTENCIA!#REF!<>\"L\",ASISTENCIA!#REF!<>\"J\",ASISTENCIA!#REF!<>\"F\"),SUMIF($F$13:$J$13,BE$13,$F34:$J34),\"\")","v":{"$error":"#REF!"}},{"$f":"IF(AND(LEN($D34)>0,SUMIF($F$13:$J$13,BF$13,$F34:$J34)>0,ASISTENCIA!#REF!<>\"X\",ASISTENCIA!#REF!<>\"L\",ASISTENCIA!#REF!<>\"J\",ASISTENCIA!#REF!<>\"F\"),SUMIF($F$13:$J$13,BF$13,$F34:$J34),\"\")","v":{"$error":"#REF!"}},{"$f":"IF(AND(LEN($D34)>0,SUMIF($F$13:$J$13,BG$13,$F34:$J34)>0,ASISTENCIA!#REF!<>\"X\",ASISTENCIA!#REF!<>\"L\",ASISTENCIA!#REF!<>\"J\",ASISTENCIA!#REF!<>\"F\"),SUMIF($F$13:$J$13,BG$13,$F34:$J34),\"\")","v":{"$error":"#REF!"}},{"$f":"IF(AND(LEN($D34)>0,SUMIF($F$13:$J$13,BH$13,$F34:$J34)>0,ASISTENCIA!#REF!<>\"X\",ASISTENCIA!#REF!<>\"L\",ASISTENCIA!#REF!<>\"J\",ASISTENCIA!#REF!<>\"F\"),SUMIF($F$13:$J$13,BH$13,$F34:$J34),\"\")","v":{"$error":"#REF!"}},{"$f":"IF(AND(LEN($D34)>0,SUMIF($F$13:$J$13,BI$13,$F34:$J34)>0,ASISTENCIA!#REF!<>\"X\",ASISTENCIA!#REF!<>\"L\",ASISTENCIA!#REF!<>\"J\",ASISTENCIA!#REF!<>\"F\"),SUMIF($F$13:$J$13,BI$13,$F34:$J34),\"\")","v":{"$error":"#REF!"}},{"$f":"IF(AND(LEN($D34)>0,SUMIF($F$13:$J$13,BJ$13,$F34:$J34)>0,ASISTENCIA!#REF!<>\"X\",ASISTENCIA!#REF!<>\"L\",ASISTENCIA!#REF!<>\"J\",ASISTENCIA!#REF!<>\"F\"),SUMIF($F$13:$J$13,BJ$13,$F34:$J34),\"\")","v":{"$error":"#REF!"}},{"$f":"IF(AND(LEN($D34)>0,SUMIF($F$13:$J$13,BK$13,$F34:$J34)>0,ASISTENCIA!#REF!<>\"X\",ASISTENCIA!#REF!<>\"L\",ASISTENCIA!#REF!<>\"J\",ASISTENCIA!#REF!<>\"F\"),SUMIF($F$13:$J$13,BK$13,$F34:$J34),\"\")","v":{"$error":"#REF!"}},{"$f":"IF(AND(LEN($D34)>0,SUMIF($F$13:$J$13,BL$13,$F34:$J34)>0,ASISTENCIA!#REF!<>\"X\",ASISTENCIA!#REF!<>\"L\",ASISTENCIA!#REF!<>\"J\",ASISTENCIA!#REF!<>\"F\"),SUMIF($F$13:$J$13,BL$13,$F34:$J34),\"\")","v":{"$error":"#REF!"}},{"$f":"IF(AND(LEN($D34)>0,SUMIF($F$13:$J$13,BM$13,$F34:$J34)>0,ASISTENCIA!#REF!<>\"X\",ASISTENCIA!#REF!<>\"L\",ASISTENCIA!#REF!<>\"J\",ASISTENCIA!#REF!<>\"F\"),SUMIF($F$13:$J$13,BM$13,$F34:$J34),\"\")","v":{"$error":"#REF!"}},{"$f":"IF(AND(LEN($D34)>0,SUMIF($F$13:$J$13,BN$13,$F34:$J34)>0,ASISTENCIA!#REF!<>\"X\",ASISTENCIA!#REF!<>\"L\",ASISTENCIA!#REF!<>\"J\",ASISTENCIA!#REF!<>\"F\"),SUMIF($F$13:$J$13,BN$13,$F34:$J34),\"\")","v":{"$error":"#REF!"}},{"$f":"IF(AND(LEN($D34)>0,SUMIF($F$13:$J$13,BO$13,$F34:$J34)>0,ASISTENCIA!#REF!<>\"X\",ASISTENCIA!#REF!<>\"L\",ASISTENCIA!#REF!<>\"J\",ASISTENCIA!#REF!<>\"F\"),SUMIF($F$13:$J$13,BO$13,$F34:$J34),\"\")","v":{"$error":"#REF!"}},{"$f":"IF(AND(LEN($D34)>0,SUMIF($F$13:$J$13,BP$13,$F34:$J34)>0,ASISTENCIA!#REF!<>\"X\",ASISTENCIA!#REF!<>\"L\",ASISTENCIA!#REF!<>\"J\",ASISTENCIA!#REF!<>\"F\"),SUMIF($F$13:$J$13,BP$13,$F34:$J34),\"\")","v":{"$error":"#REF!"}},{"$f":"IF(AND(LEN($D34)>0,SUMIF($F$13:$J$13,BQ$13,$F34:$J34)>0,ASISTENCIA!#REF!<>\"X\",ASISTENCIA!#REF!<>\"L\",ASISTENCIA!#REF!<>\"J\",ASISTENCIA!#REF!<>\"F\"),SUMIF($F$13:$J$13,BQ$13,$F34:$J34),\"\")","v":{"$error":"#REF!"}},{"$f":"IF(AND(LEN($D34)>0,SUMIF($F$13:$J$13,BR$13,$F34:$J34)>0,ASISTENCIA!#REF!<>\"X\",ASISTENCIA!#REF!<>\"L\",ASISTENCIA!#REF!<>\"J\",ASISTENCIA!#REF!<>\"F\"),SUMIF($F$13:$J$13,BR$13,$F34:$J34),\"\")","v":{"$error":"#REF!"}},{"$f":"IF(AND(LEN($D34)>0,SUMIF($F$13:$J$13,BS$13,$F34:$J34)>0,ASISTENCIA!#REF!<>\"X\",ASISTENCIA!#REF!<>\"L\",ASISTENCIA!#REF!<>\"J\",ASISTENCIA!#REF!<>\"F\"),SUMIF($F$13:$J$13,BS$13,$F34:$J34),\"\")","v":{"$error":"#REF!"}},{"$f":"IF(AND(LEN($D34)>0,SUMIF($F$13:$J$13,BT$13,$F34:$J34)>0,ASISTENCIA!#REF!<>\"X\",ASISTENCIA!#REF!<>\"L\",ASISTENCIA!#REF!<>\"J\",ASISTENCIA!#REF!<>\"F\"),SUMIF($F$13:$J$13,BT$13,$F34:$J34),\"\")","v":{"$error":"#REF!"}},{"$f":"IF(AND(LEN($D34)>0,SUMIF($F$13:$J$13,BU$13,$F34:$J34)>0,ASISTENCIA!#REF!<>\"X\",ASISTENCIA!#REF!<>\"L\",ASISTENCIA!#REF!<>\"J\",ASISTENCIA!#REF!<>\"F\"),SUMIF($F$13:$J$13,BU$13,$F34:$J34),\"\")","v":{"$error":"#REF!"}},{"$f":"IF(AND(LEN($D34)>0,SUMIF($F$13:$J$13,BV$13,$F34:$J34)>0,ASISTENCIA!#REF!<>\"X\",ASISTENCIA!#REF!<>\"L\",ASISTENCIA!#REF!<>\"J\",ASISTENCIA!#REF!<>\"F\"),SUMIF($F$13:$J$13,BV$13,$F34:$J34),\"\")","v":{"$error":"#REF!"}},{"$f":"IF(AND(LEN($D34)>0,SUMIF($F$13:$J$13,BW$13,$F34:$J34)>0,ASISTENCIA!#REF!<>\"X\",ASISTENCIA!#REF!<>\"L\",ASISTENCIA!#REF!<>\"J\",ASISTENCIA!#REF!<>\"F\"),SUMIF($F$13:$J$13,BW$13,$F34:$J34),\"\")","v":{"$error":"#REF!"}},{"$f":"IF(AND(LEN($D34)>0,SUMIF($F$13:$J$13,BX$13,$F34:$J34)>0,ASISTENCIA!#REF!<>\"X\",ASISTENCIA!#REF!<>\"L\",ASISTENCIA!#REF!<>\"J\",ASISTENCIA!#REF!<>\"F\"),SUMIF($F$13:$J$13,BX$13,$F34:$J34),\"\")","v":{"$error":"#REF!"}},{"$f":"IF(AND(LEN($D34)>0,SUMIF($F$13:$J$13,BY$13,$F34:$J34)>0,ASISTENCIA!#REF!<>\"X\",ASISTENCIA!#REF!<>\"L\",ASISTENCIA!#REF!<>\"J\",ASISTENCIA!#REF!<>\"F\"),SUMIF($F$13:$J$13,BY$13,$F34:$J34),\"\")","v":{"$error":"#REF!"}},{"$f":"IF(AND(LEN($D34)>0,SUMIF($F$13:$J$13,BZ$13,$F34:$J34)>0,ASISTENCIA!#REF!<>\"X\",ASISTENCIA!#REF!<>\"L\",ASISTENCIA!#REF!<>\"J\",ASISTENCIA!#REF!<>\"F\"),SUMIF($F$13:$J$13,BZ$13,$F34:$J34),\"\")","v":{"$error":"#REF!"}},{"$f":"IF(AND(LEN($D34)>0,SUMIF($F$13:$J$13,CA$13,$F34:$J34)>0,ASISTENCIA!#REF!<>\"X\",ASISTENCIA!#REF!<>\"L\",ASISTENCIA!#REF!<>\"J\",ASISTENCIA!#REF!<>\"F\"),SUMIF($F$13:$J$13,CA$13,$F34:$J34),\"\")","v":{"$error":"#REF!"}},{"$f":"IF(AND(LEN($D34)>0,SUMIF($F$13:$J$13,CB$13,$F34:$J34)>0,ASISTENCIA!#REF!<>\"X\",ASISTENCIA!#REF!<>\"L\",ASISTENCIA!#REF!<>\"J\",ASISTENCIA!#REF!<>\"F\"),SUMIF($F$13:$J$13,CB$13,$F34:$J34),\"\")","v":{"$error":"#REF!"}},{"$error":"#REF!"}]
[{"$error":"#REF!"},{"$f":"IF(LEN(C35)>0,VLOOKUP($O$4,DATA!$A$1:$S$1,2,FALSE),\"\")","v":{"$error":"#REF!"}},{"$error":"#REF!"},{"$f":"IF(LEN(ASISTENCIA!#REF!)>0,ASISTENCIA!#REF!,\"\")","v":{"$error":"#REF!"}},{"$f":"IF(LEN(D35)>0,ASISTENCIA!#REF!,\"\")","v":{"$error":"#REF!"}},null,null,null,null,null,"",null,null,{"$error":"#REF!"},{"$f":"IF(AND(LEN($D35)>0,SUMIF($F$13:$J$13,O$13,$F35:$J35)>0,ASISTENCIA!#REF!<>\"X\",ASISTENCIA!#REF!<>\"L\",ASISTENCIA!#REF!<>\"J\",ASISTENCIA!#REF!<>\"V\",ASISTENCIA!#REF!<>\"F\",ASISTENCIA!#REF!<>\"\"),SUMIF($F$13:$J$13,O$13,$F35:$J35),\"\")","v":{"$error":"#REF!"}},{"$f":"IF(AND(LEN($D35)>0,SUMIF($F$13:$J$13,P$13,$F35:$J35)>0,ASISTENCIA!#REF!<>\"X\",ASISTENCIA!#REF!<>\"L\",ASISTENCIA!#REF!<>\"J\",ASISTENCIA!#REF!<>\"V\",ASISTENCIA!#REF!<>\"F\",ASISTENCIA!#REF!<>\"\"),SUMIF($F$13:$J$13,P$13,$F35:$J35),\"\")","v":{"$error":"#REF!"}},{"$f":"IF(AND(LEN($D35)>0,SUMIF($F$13:$J$13,Q$13,$F35:$J35)>0,ASISTENCIA!#REF!<>\"X\",ASISTENCIA!#REF!<>\"L\",ASISTENCIA!#REF!<>\"J\",ASISTENCIA!#REF!<>\"V\",ASISTENCIA!#REF!<>\"F\",ASISTENCIA!#REF!<>\"\"),SUMIF($F$13:$J$13,Q$13,$F35:$J35),\"\")","v":{"$error":"#REF!"}},{"$f":"IF(AND(LEN($D35)>0,SUMIF($F$13:$J$13,R$13,$F35:$J35)>0,ASISTENCIA!#REF!<>\"X\",ASISTENCIA!#REF!<>\"L\",ASISTENCIA!#REF!<>\"J\",ASISTENCIA!#REF!<>\"V\",ASISTENCIA!#REF!<>\"F\",ASISTENCIA!#REF!<>\"\"),SUMIF($F$13:$J$13,R$13,$F35:$J35),\"\")","v":{"$error":"#REF!"}},{"$f":"IF(AND(LEN($D35)>0,SUMIF($F$13:$J$13,S$13,$F35:$J35)>0,ASISTENCIA!#REF!<>\"X\",ASISTENCIA!#REF!<>\"L\",ASISTENCIA!#REF!<>\"J\",ASISTENCIA!#REF!<>\"V\",ASISTENCIA!#REF!<>\"F\",ASISTENCIA!#REF!<>\"\"),SUMIF($F$13:$J$13,S$13,$F35:$J35),\"\")","v":{"$error":"#REF!"}},{"$f":"IF(AND(LEN($D35)>0,SUMIF($F$13:$J$13,T$13,$F35:$J35)>0,ASISTENCIA!#REF!<>\"X\",ASISTENCIA!#REF!<>\"L\",ASISTENCIA!#REF!<>\"J\",ASISTENCIA!#REF!<>\"V\",ASISTENCIA!#REF!<>\"F\",ASISTENCIA!#REF!<>\"\"),SUMIF($F$13:$J$13,T$13,$F35:$J35),\"\")","v":{"$error":"#REF!"}},{"$f":"IF(AND(LEN($D35)>0,SUMIF($F$13:$J$13,U$13,$F35:$J35)>0,ASISTENCIA!#REF!<>\"X\",ASISTENCIA!#REF!<>\"L\",ASISTENCIA!#REF!<>\"J\",ASISTENCIA!#REF!<>\"V\",ASISTENCIA!#REF!<>\"F\",ASISTENCIA!#REF!<>\"\"),SUMIF($F$13:$J$13,U$13,$F35:$J35),\"\")","v":{"$error":"#REF!"}},{"$f":"IF(AND(LEN($D35)>0,SUMIF($F$13:$J$13,V$13,$F35:$J35)>0,ASISTENCIA!#REF!<>\"X\",ASISTENCIA!#REF!<>\"L\",ASISTENCIA!#REF!<>\"J\",ASISTENCIA!#REF!<>\"V\",ASISTENCIA!#REF!<>\"F\",ASISTENCIA!#REF!<>\"\"),SUMIF($F$13:$J$13,V$13,$F35:$J35),\"\")","v":{"$error":"#REF!"}},{"$f":"IF(AND(LEN($D35)>0,SUMIF($F$13:$J$13,W$13,$F35:$J35)>0,ASISTENCIA!#REF!<>\"X\",ASISTENCIA!#REF!<>\"L\",ASISTENCIA!#REF!<>\"J\",ASISTENCIA!#REF!<>\"V\",ASISTENCIA!#REF!<>\"F\",ASISTENCIA!#REF!<>\"\"),SUMIF($F$13:$J$13,W$13,$F35:$J35),\"\")","v":{"$error":"#REF!"}},{"$f":"IF(AND(LEN($D35)>0,SUMIF($F$13:$J$13,X$13,$F35:$J35)>0,ASISTENCIA!#REF!<>\"X\",ASISTENCIA!#REF!<>\"L\",ASISTENCIA!#REF!<>\"J\",ASISTENCIA!#REF!<>\"V\",ASISTENCIA!#REF!<>\"F\",ASISTENCIA!#REF!<>\"\"),SUMIF($F$13:$J$13,X$13,$F35:$J35),\"\")","v":{"$error":"#REF!"}},{"$f":"IF(AND(LEN($D35)>0,SUMIF($F$13:$J$13,Y$13,$F35:$J35)>0,ASISTENCIA!#REF!<>\"X\",ASISTENCIA!#REF!<>\"L\",ASISTENCIA!#REF!<>\"J\",ASISTENCIA!#REF!<>\"V\",ASISTENCIA!#REF!<>\"F\",ASISTENCIA!#REF!<>\"\"),SUMIF($F$13:$J$13,Y$13,$F35:$J35),\"\")","v":{"$error":"#REF!"}},{"$f":"IF(AND(LEN($D35)>0,SUMIF($F$13:$J$13,Z$13,$F35:$J35)>0,ASISTENCIA!#REF!<>\"X\",ASISTENCIA!#REF!<>\"L\",ASISTENCIA!#REF!<>\"J\",ASISTENCIA!#REF!<>\"V\",ASISTENCIA!#REF!<>\"F\",ASISTENCIA!#REF!<>\"\"),SUMIF($F$13:$J$13,Z$13,$F35:$J35),\"\")","v":{"$error":"#REF!"}},{"$f":"IF(AND(LEN($D35)>0,SUMIF($F$13:$J$13,AA$13,$F35:$J35)>0,ASISTENCIA!#REF!<>\"X\",ASISTENCIA!#REF!<>\"L\",ASISTENCIA!#REF!<>\"J\",ASISTENCIA!#REF!<>\"V\",ASISTENCIA!#REF!<>\"F\",ASISTENCIA!#REF!<>\"\"),SUMIF($F$13:$J$13,AA$13,$F35:$J35),\"\")","v":{"$error":"#REF!"}},{"$f":"IF(AND(LEN($D35)>0,SUMIF($F$13:$J$13,AB$13,$F35:$J35)>0,ASISTENCIA!#REF!<>\"X\",ASISTENCIA!#REF!<>\"L\",ASISTENCIA!#REF!<>\"J\",ASISTENCIA!#REF!<>\"V\",ASISTENCIA!#REF!<>\"F\",ASISTENCIA!#REF!<>\"\"),SUMIF($F$13:$J$13,AB$13,$F35:$J35),\"\")","v":{"$error":"#REF!"}},{"$f":"IF(AND(LEN($D35)>0,SUMIF($F$13:$J$13,AC$13,$F35:$J35)>0,ASISTENCIA!#REF!<>\"X\",ASISTENCIA!#REF!<>\"L\",ASISTENCIA!#REF!<>\"J\",ASISTENCIA!#REF!<>\"V\",ASISTENCIA!#REF!<>\"F\",ASISTENCIA!#REF!<>\"\"),SUMIF($F$13:$J$13,AC$13,$F35:$J35),\"\")","v":{"$error":"#REF!"}},{"$f":"IF(AND(LEN($D35)>0,SUMIF($F$13:$J$13,AD$13,$F35:$J35)>0,ASISTENCIA!#REF!<>\"X\",ASISTENCIA!#REF!<>\"L\",ASISTENCIA!#REF!<>\"J\",ASISTENCIA!#REF!<>\"V\",ASISTENCIA!#REF!<>\"F\",ASISTENCIA!#REF!<>\"\"),SUMIF($F$13:$J$13,AD$13,$F35:$J35),\"\")","v":{"$error":"#REF!"}},{"$f":"IF(AND(LEN($D35)>0,SUMIF($F$13:$J$13,AE$13,$F35:$J35)>0,ASISTENCIA!#REF!<>\"X\",ASISTENCIA!#REF!<>\"L\",ASISTENCIA!#REF!<>\"J\",ASISTENCIA!#REF!<>\"V\",ASISTENCIA!#REF!<>\"F\",ASISTENCIA!#REF!<>\"\"),SUMIF($F$13:$J$13,AE$13,$F35:$J35),\"\")","v":{"$error":"#REF!"}},{"$f":"IF(AND(LEN($D35)>0,SUMIF($F$13:$J$13,AF$13,$F35:$J35)>0,ASISTENCIA!#REF!<>\"X\",ASISTENCIA!#REF!<>\"L\",ASISTENCIA!#REF!<>\"J\",ASISTENCIA!#REF!<>\"V\",ASISTENCIA!#REF!<>\"F\",ASISTENCIA!#REF!<>\"\"),SUMIF($F$13:$J$13,AF$13,$F35:$J35),\"\")","v":{"$error":"#REF!"}},{"$f":"IF(AND(LEN($D35)>0,SUMIF($F$13:$J$13,AG$13,$F35:$J35)>0,ASISTENCIA!#REF!<>\"X\",ASISTENCIA!#REF!<>\"L\",ASISTENCIA!#REF!<>\"J\",ASISTENCIA!#REF!<>\"V\",ASISTENCIA!#REF!<>\"F\",ASISTENCIA!#REF!<>\"\"),SUMIF($F$13:$J$13,AG$13,$F35:$J35),\"\")","v":{"$error":"#REF!"}},{"$f":"IF(AND(LEN($D35)>0,SUMIF($F$13:$J$13,AH$13,$F35:$J35)>0,ASISTENCIA!#REF!<>\"X\",ASISTENCIA!#REF!<>\"L\",ASISTENCIA!#REF!<>\"J\",ASISTENCIA!#REF!<>\"V\",ASISTENCIA!#REF!<>\"F\",ASISTENCIA!#REF!<>\"\"),SUMIF($F$13:$J$13,AH$13,$F35:$J35),\"\")","v":{"$error":"#REF!"}},{"$f":"IF(AND(LEN($D35)>0,SUMIF($F$13:$J$13,AI$13,$F35:$J35)>0,ASISTENCIA!#REF!<>\"X\",ASISTENCIA!#REF!<>\"L\",ASISTENCIA!#REF!<>\"J\",ASISTENCIA!#REF!<>\"V\",ASISTENCIA!#REF!<>\"F\",ASISTENCIA!#REF!<>\"\"),SUMIF($F$13:$J$13,AI$13,$F35:$J35),\"\")","v":{"$error":"#REF!"}},{"$f":"IF(AND(LEN($D35)>0,SUMIF($F$13:$J$13,AJ$13,$F35:$J35)>0,ASISTENCIA!#REF!<>\"X\",ASISTENCIA!#REF!<>\"L\",ASISTENCIA!#REF!<>\"J\",ASISTENCIA!#REF!<>\"V\",ASISTENCIA!#REF!<>\"F\",ASISTENCIA!#REF!<>\"\"),SUMIF($F$13:$J$13,AJ$13,$F35:$J35),\"\")","v":{"$error":"#REF!"}},{"$f":"IF(AND(LEN($D35)>0,SUMIF($F$13:$J$13,AK$13,$F35:$J35)>0,ASISTENCIA!#REF!<>\"X\",ASISTENCIA!#REF!<>\"L\",ASISTENCIA!#REF!<>\"J\",ASISTENCIA!#REF!<>\"V\",ASISTENCIA!#REF!<>\"F\",ASISTENCIA!#REF!<>\"\"),SUMIF($F$13:$J$13,AK$13,$F35:$J35),\"\")","v":{"$error":"#REF!"}},{"$f":"IF(AND(LEN($D35)>0,SUMIF($F$13:$J$13,AL$13,$F35:$J35)>0,ASISTENCIA!#REF!<>\"X\",ASISTENCIA!#REF!<>\"L\",ASISTENCIA!#REF!<>\"J\",ASISTENCIA!#REF!<>\"V\",ASISTENCIA!#REF!<>\"F\",ASISTENCIA!#REF!<>\"\"),SUMIF($F$13:$J$13,AL$13,$F35:$J35),\"\")","v":{"$error":"#REF!"}},{"$f":"IF(AND(LEN($D35)>0,SUMIF($F$13:$J$13,AM$13,$F35:$J35)>0,ASISTENCIA!#REF!<>\"X\",ASISTENCIA!#REF!<>\"L\",ASISTENCIA!#REF!<>\"J\",ASISTENCIA!#REF!<>\"V\",ASISTENCIA!#REF!<>\"F\",ASISTENCIA!#REF!<>\"\"),SUMIF($F$13:$J$13,AM$13,$F35:$J35),\"\")","v":{"$error":"#REF!"}},{"$f":"IF(AND(LEN($D35)>0,SUMIF($F$13:$J$13,AN$13,$F35:$J35)>0,ASISTENCIA!#REF!<>\"X\",ASISTENCIA!#REF!<>\"L\",ASISTENCIA!#REF!<>\"J\",ASISTENCIA!#REF!<>\"V\",ASISTENCIA!#REF!<>\"F\",ASISTENCIA!#REF!<>\"\"),SUMIF($F$13:$J$13,AN$13,$F35:$J35),\"\")","v":{"$error":"#REF!"}},{"$f":"IF(AND(LEN($D35)>0,SUMIF($F$13:$J$13,AO$13,$F35:$J35)>0,ASISTENCIA!#REF!<>\"X\",ASISTENCIA!#REF!<>\"L\",ASISTENCIA!#REF!<>\"J\",ASISTENCIA!#REF!<>\"V\",ASISTENCIA!#REF!<>\"F\",ASISTENCIA!#REF!<>\"\"),SUMIF($F$13:$J$13,AO$13,$F35:$J35),\"\")","v":{"$error":"#REF!"}},{"$f":"IF(AND(LEN($D35)>0,SUMIF($F$13:$J$13,AP$13,$F35:$J35)>0,ASISTENCIA!#REF!<>\"X\",ASISTENCIA!#REF!<>\"L\",ASISTENCIA!#REF!<>\"J\",ASISTENCIA!#REF!<>\"V\",ASISTENCIA!#REF!<>\"F\",ASISTENCIA!#REF!<>\"\"),SUMIF($F$13:$J$13,AP$13,$F35:$J35),\"\")","v":{"$error":"#REF!"}},{"$f":"IF(AND(LEN($D35)>0,SUMIF($F$13:$J$13,AQ$13,$F35:$J35)>0,ASISTENCIA!#REF!<>\"X\",ASISTENCIA!#REF!<>\"L\",ASISTENCIA!#REF!<>\"J\",ASISTENCIA!#REF!<>\"V\",ASISTENCIA!#REF!<>\"F\",ASISTENCIA!#REF!<>\"\"),SUMIF($F$13:$J$13,AQ$13,$F35:$J35),\"\")","v":{"$error":"#REF!"}},{"$f":"IF(AND(LEN($D35)>0,SUMIF($F$13:$J$13,AR$13,$F35:$J35)>0,ASISTENCIA!#REF!<>\"X\",ASISTENCIA!#REF!<>\"L\",ASISTENCIA!#REF!<>\"J\",ASISTENCIA!#REF!<>\"V\",ASISTENCIA!#REF!<>\"F\",ASISTENCIA!#REF!<>\"\"),SUMIF($F$13:$J$13,AR$13,$F35:$J35),\"\")","v":{"$error":"#REF!"}},{"$f":"IF(AND(LEN($D35)>0,SUMIF($F$13:$J$13,AS$13,$F35:$J35)>0,ASISTENCIA!#REF!<>\"X\",ASISTENCIA!#REF!<>\"L\",ASISTENCIA!#REF!<>\"J\",ASISTENCIA!#REF!<>\"V\",ASISTENCIA!#REF!<>\"F\",ASISTENCIA!#REF!<>\"\"),SUMIF($F$13:$J$13,AS$13,$F35:$J35),\"\")","v":{"$error":"#REF!"}},{"$error":"#REF!"},null,null,null,{"$f":"IF(AND(LEN($D35)>0,SUMIF($F$13:$J$13,AX$13,$F35:$J35)>0,ASISTENCIA!#REF!<>\"X\",ASISTENCIA!#REF!<>\"L\",ASISTENCIA!#REF!<>\"J\",ASISTENCIA!#REF!<>\"F\"),SUMIF($F$13:$J$13,AX$13,$F35:$J35),\"\")","v":{"$error":"#REF!"}},{"$f":"IF(AND(LEN($D35)>0,SUMIF($F$13:$J$13,AY$13,$F35:$J35)>0,ASISTENCIA!#REF!<>\"X\",ASISTENCIA!#REF!<>\"L\",ASISTENCIA!#REF!<>\"J\",ASISTENCIA!#REF!<>\"F\"),SUMIF($F$13:$J$13,AY$13,$F35:$J35),\"\")","v":{"$error":"#REF!"}},{"$f":"IF(AND(LEN($D35)>0,SUMIF($F$13:$J$13,AZ$13,$F35:$J35)>0,ASISTENCIA!#REF!<>\"X\",ASISTENCIA!#REF!<>\"L\",ASISTENCIA!#REF!<>\"J\",ASISTENCIA!#REF!<>\"F\"),SUMIF($F$13:$J$13,AZ$13,$F35:$J35),\"\")","v":{"$error":"#REF!"}},{"$f":"IF(AND(LEN($D35)>0,SUMIF($F$13:$J$13,BA$13,$F35:$J35)>0,ASISTENCIA!#REF!<>\"X\",ASISTENCIA!#REF!<>\"L\",ASISTENCIA!#REF!<>\"J\",ASISTENCIA!#REF!<>\"F\"),SUMIF($F$13:$J$13,BA$13,$F35:$J35),\"\")","v":{"$error":"#REF!"}},{"$f":"IF(AND(LEN($D35)>0,SUMIF($F$13:$J$13,BB$13,$F35:$J35)>0,ASISTENCIA!#REF!<>\"X\",ASISTENCIA!#REF!<>\"L\",ASISTENCIA!#REF!<>\"J\",ASISTENCIA!#REF!<>\"F\"),SUMIF($F$13:$J$13,BB$13,$F35:$J35),\"\")","v":{"$error":"#REF!"}},{"$f":"IF(AND(LEN($D35)>0,SUMIF($F$13:$J$13,BC$13,$F35:$J35)>0,ASISTENCIA!#REF!<>\"X\",ASISTENCIA!#REF!<>\"L\",ASISTENCIA!#REF!<>\"J\",ASISTENCIA!#REF!<>\"F\"),SUMIF($F$13:$J$13,BC$13,$F35:$J35),\"\")","v":{"$error":"#REF!"}},{"$f":"IF(AND(LEN($D35)>0,SUMIF($F$13:$J$13,BD$13,$F35:$J35)>0,ASISTENCIA!#REF!<>\"X\",ASISTENCIA!#REF!<>\"L\",ASISTENCIA!#REF!<>\"J\",ASISTENCIA!#REF!<>\"F\"),SUMIF($F$13:$J$13,BD$13,$F35:$J35),\"\")","v":{"$error":"#REF!"}},{"$f":"IF(AND(LEN($D35)>0,SUMIF($F$13:$J$13,BE$13,$F35:$J35)>0,ASISTENCIA!#REF!<>\"X\",ASISTENCIA!#REF!<>\"L\",ASISTENCIA!#REF!<>\"J\",ASISTENCIA!#REF!<>\"F\"),SUMIF($F$13:$J$13,BE$13,$F35:$J35),\"\")","v":{"$error":"#REF!"}},{"$f":"IF(AND(LEN($D35)>0,SUMIF($F$13:$J$13,BF$13,$F35:$J35)>0,ASISTENCIA!#REF!<>\"X\",ASISTENCIA!#REF!<>\"L\",ASISTENCIA!#REF!<>\"J\",ASISTENCIA!#REF!<>\"F\"),SUMIF($F$13:$J$13,BF$13,$F35:$J35),\"\")","v":{"$error":"#REF!"}},{"$f":"IF(AND(LEN($D35)>0,SUMIF($F$13:$J$13,BG$13,$F35:$J35)>0,ASISTENCIA!#REF!<>\"X\",ASISTENCIA!#REF!<>\"L\",ASISTENCIA!#REF!<>\"J\",ASISTENCIA!#REF!<>\"F\"),SUMIF($F$13:$J$13,BG$13,$F35:$J35),\"\")","v":{"$error":"#REF!"}},{"$f":"IF(AND(LEN($D35)>0,SUMIF($F$13:$J$13,BH$13,$F35:$J35)>0,ASISTENCIA!#REF!<>\"X\",ASISTENCIA!#REF!<>\"L\",ASISTENCIA!#REF!<>\"J\",ASISTENCIA!#REF!<>\"F\"),SUMIF($F$13:$J$13,BH$13,$F35:$J35),\"\")","v":{"$error":"#REF!"}},{"$f":"IF(AND(LEN($D35)>0,SUMIF($F$13:$J$13,BI$13,$F35:$J35)>0,ASISTENCIA!#REF!<>\"X\",ASISTENCIA!#REF!<>\"L\",ASISTENCIA!#REF!<>\"J\",ASISTENCIA!#REF!<>\"F\"),SUMIF($F$13:$J$13,BI$13,$F35:$J35),\"\")","v":{"$error":"#REF!"}},{"$f":"IF(AND(LEN($D35)>0,SUMIF($F$13:$J$13,BJ$13,$F35:$J35)>0,ASISTENCIA!#REF!<>\"X\",ASISTENCIA!#REF!<>\"L\",ASISTENCIA!#REF!<>\"J\",ASISTENCIA!#REF!<>\"F\"),SUMIF($F$13:$J$13,BJ$13,$F35:$J35),\"\")","v":{"$error":"#REF!"}},{"$f":"IF(AND(LEN($D35)>0,SUMIF($F$13:$J$13,BK$13,$F35:$J35)>0,ASISTENCIA!#REF!<>\"X\",ASISTENCIA!#REF!<>\"L\",ASISTENCIA!#REF!<>\"J\",ASISTENCIA!#REF!<>\"F\"),SUMIF($F$13:$J$13,BK$13,$F35:$J35),\"\")","v":{"$error":"#REF!"}},{"$f":"IF(AND(LEN($D35)>0,SUMIF($F$13:$J$13,BL$13,$F35:$J35)>0,ASISTENCIA!#REF!<>\"X\",ASISTENCIA!#REF!<>\"L\",ASISTENCIA!#REF!<>\"J\",ASISTENCIA!#REF!<>\"F\"),SUMIF($F$13:$J$13,BL$13,$F35:$J35),\"\")","v":{"$error":"#REF!"}},{"$f":"IF(AND(LEN($D35)>0,SUMIF($F$13:$J$13,BM$13,$F35:$J35)>0,ASISTENCIA!#REF!<>\"X\",ASISTENCIA!#REF!<>\"L\",ASISTENCIA!#REF!<>\"J\",ASISTENCIA!#REF!<>\"F\"),SUMIF($F$13:$J$13,BM$13,$F35:$J35),\"\")","v":{"$error":"#REF!"}},{"$f":"IF(AND(LEN($D35)>0,SUMIF($F$13:$J$13,BN$13,$F35:$J35)>0,ASISTENCIA!#REF!<>\"X\",ASISTENCIA!#REF!<>\"L\",ASISTENCIA!#REF!<>\"J\",ASISTENCIA!#REF!<>\"F\"),SUMIF($F$13:$J$13,BN$13,$F35:$J35),\"\")","v":{"$error":"#REF!"}},{"$f":"IF(AND(LEN($D35)>0,SUMIF($F$13:$J$13,BO$13,$F35:$J35)>0,ASISTENCIA!#REF!<>\"X\",ASISTENCIA!#REF!<>\"L\",ASISTENCIA!#REF!<>\"J\",ASISTENCIA!#REF!<>\"F\"),SUMIF($F$13:$J$13,BO$13,$F35:$J35),\"\")","v":{"$error":"#REF!"}},{"$f":"IF(AND(LEN($D35)>0,SUMIF($F$13:$J$13,BP$13,$F35:$J35)>0,ASISTENCIA!#REF!<>\"X\",ASISTENCIA!#REF!<>\"L\",ASISTENCIA!#REF!<>\"J\",ASISTENCIA!#REF!<>\"F\"),SUMIF($F$13:$J$13,BP$13,$F35:$J35),\"\")","v":{"$error":"#REF!"}},{"$f":"IF(AND(LEN($D35)>0,SUMIF($F$13:$J$13,BQ$13,$F35:$J35)>0,ASISTENCIA!#REF!<>\"X\",ASISTENCIA!#REF!<>\"L\",ASISTENCIA!#REF!<>\"J\",ASISTENCIA!#REF!<>\"F\"),SUMIF($F$13:$J$13,BQ$13,$F35:$J35),\"\")","v":{"$error":"#REF!"}},{"$f":"IF(AND(LEN($D35)>0,SUMIF($F$13:$J$13,BR$13,$F35:$J35)>0,ASISTENCIA!#REF!<>\"X\",ASISTENCIA!#REF!<>\"L\",ASISTENCIA!#REF!<>\"J\",ASISTENCIA!#REF!<>\"F\"),SUMIF($F$13:$J$13,BR$13,$F35:$J35),\"\")","v":{"$error":"#REF!"}},{"$f":"IF(AND(LEN($D35)>0,SUMIF($F$13:$J$13,BS$13,$F35:$J35)>0,ASISTENCIA!#REF!<>\"X\",ASISTENCIA!#REF!<>\"L\",ASISTENCIA!#REF!<>\"J\",ASISTENCIA!#REF!<>\"F\"),SUMIF($F$13:$J$13,BS$13,$F35:$J35),\"\")","v":{"$error":"#REF!"}},{"$f":"IF(AND(LEN($D35)>0,SUMIF($F$13:$J$13,BT$13,$F35:$J35)>0,ASISTENCIA!#REF!<>\"X\",ASISTENCIA!#REF!<>\"L\",ASISTENCIA!#REF!<>\"J\",ASISTENCIA!#REF!<>\"F\"),SUMIF($F$13:$J$13,BT$13,$F35:$J35),\"\")","v":{"$error":"#REF!"}},{"$f":"IF(AND(LEN($D35)>0,SUMIF($F$13:$J$13,BU$13,$F35:$J35)>0,ASISTENCIA!#REF!<>\"X\",ASISTENCIA!#REF!<>\"L\",ASISTENCIA!#REF!<>\"J\",ASISTENCIA!#REF!<>\"F\"),SUMIF($F$13:$J$13,BU$13,$F35:$J35),\"\")","v":{"$error":"#REF!"}},{"$f":"IF(AND(LEN($D35)>0,SUMIF($F$13:$J$13,BV$13,$F35:$J35)>0,ASISTENCIA!#REF!<>\"X\",ASISTENCIA!#REF!<>\"L\",ASISTENCIA!#REF!<>\"J\",ASISTENCIA!#REF!<>\"F\"),SUMIF($F$13:$J$13,BV$13,$F35:$J35),\"\")","v":{"$error":"#REF!"}},{"$f":"IF(AND(LEN($D35)>0,SUMIF($F$13:$J$13,BW$13,$F35:$J35)>0,ASISTENCIA!#REF!<>\"X\",ASISTENCIA!#REF!<>\"L\",ASISTENCIA!#REF!<>\"J\",ASISTENCIA!#REF!<>\"F\"),SUMIF($F$13:$J$13,BW$13,$F35:$J35),\"\")","v":{"$error":"#REF!"}},{"$f":"IF(AND(LEN($D35)>0,SUMIF($F$13:$J$13,BX$13,$F35:$J35)>0,ASISTENCIA!#REF!<>\"X\",ASISTENCIA!#REF!<>\"L\",ASISTENCIA!#REF!<>\"J\",ASISTENCIA!#REF!<>\"F\"),SUMIF($F$13:$J$13,BX$13,$F35:$J35),\"\")","v":{"$error":"#REF!"}},{"$f":"IF(AND(LEN($D35)>0,SUMIF($F$13:$J$13,BY$13,$F35:$J35)>0,ASISTENCIA!#REF!<>\"X\",ASISTENCIA!#REF!<>\"L\",ASISTENCIA!#REF!<>\"J\",ASISTENCIA!#REF!<>\"F\"),SUMIF($F$13:$J$13,BY$13,$F35:$J35),\"\")","v":{"$error":"#REF!"}},{"$f":"IF(AND(LEN($D35)>0,SUMIF($F$13:$J$13,BZ$13,$F35:$J35)>0,ASISTENCIA!#REF!<>\"X\",ASISTENCIA!#REF!<>\"L\",ASISTENCIA!#REF!<>\"J\",ASISTENCIA!#REF!<>\"F\"),SUMIF($F$13:$J$13,BZ$13,$F35:$J35),\"\")","v":{"$error":"#REF!"}},{"$f":"IF(AND(LEN($D35)>0,SUMIF($F$13:$J$13,CA$13,$F35:$J35)>0,ASISTENCIA!#REF!<>\"X\",ASISTENCIA!#REF!<>\"L\",ASISTENCIA!#REF!<>\"J\",ASISTENCIA!#REF!<>\"F\"),SUMIF($F$13:$J$13,CA$13,$F35:$J35),\"\")","v":{"$error":"#REF!"}},{"$f":"IF(AND(LEN($D35)>0,SUMIF($F$13:$J$13,CB$13,$F35:$J35)>0,ASISTENCIA!#REF!<>\"X\",ASISTENCIA!#REF!<>\"L\",ASISTENCIA!#REF!<>\"J\",ASISTENCIA!#REF!<>\"F\"),SUMIF($F$13:$J$13,CB$13,$F35:$J35),\"\")","v":{"$error":"#REF!"}},{"$error":"#REF!"}]
[{"$error":"#REF!"},{"$f":"IF(LEN(C36)>0,VLOOKUP($O$4,DATA!$A$1:$S$1,2,FALSE),\"\")","v":{"$error":"#REF!"}},{"$error":"#REF!"},{"$f":"IF(LEN(ASISTENCIA!#REF!)>0,ASISTENCIA!#REF!,\"\")","v":{"$error":"#REF!"}},{"$f":"IF(LEN(D36)>0,ASISTENCIA!#REF!,\"\")","v":{"$error":"#REF!"}},null,null,null,null,null,"",null,null,{"$error":"#REF!"},{"$f":"IF(AND(LEN($D36)>0,SUMIF($F$13:$J$13,O$13,$F36:$J36)>0,ASISTENCIA!#REF!<>\"X\",ASISTENCIA!#REF!<>\"L\",ASISTENCIA!#REF!<>\"J\",ASISTENCIA!#REF!<>\"V\",ASISTENCIA!#REF!<>\"F\",ASISTENCIA!#REF!<>\"\"),SUMIF($F$13:$J$13,O$13,$F36:$J36),\"\")","v":{"$error":"#REF!"}},{"$f":"IF(AND(LEN($D36)>0,SUMIF($F$13:$J$13,P$13,$F36:$J36)>0,ASISTENCIA!#REF!<>\"X\",ASISTENCIA!#REF!<>\"L\",ASISTENCIA!#REF!<>\"J\",ASISTENCIA!#REF!<>\"V\",ASISTENCIA!#REF!<>\"F\",ASISTENCIA!#REF!<>\"\"),SUMIF($F$13:$J$13,P$13,$F36:$J36),\"\")","v":{"$error":"#REF!"}},{"$f":"IF(AND(LEN($D36)>0,SUMIF($F$13:$J$13,Q$13,$F36:$J36)>0,ASISTENCIA!#REF!<>\"X\",ASISTENCIA!#REF!<>\"L\",ASISTENCIA!#REF!<>\"J\",ASISTENCIA!#REF!<>\"V\",ASISTENCIA!#REF!<>\"F\",ASISTENCIA!#REF!<>\"\"),SUMIF($F$13:$J$13,Q$13,$F36:$J36),\"\")","v":{"$error":"#REF!"}},{"$f":"IF(AND(LEN($D36)>0,SUMIF($F$13:$J$13,R$13,$F36:$J36)>0,ASISTENCIA!#REF!<>\"X\",ASISTENCIA!#REF!<>\"L\",ASISTENCIA!#REF!<>\"J\",ASISTENCIA!#REF!<>\"V\",ASISTENCIA!#REF!<>\"F\",ASISTENCIA!#REF!<>\"\"),SUMIF($F$13:$J$13,R$13,$F36:$J36),\"\")","v":{"$error":"#REF!"}},{"$f":"IF(AND(LEN($D36)>0,SUMIF($F$13:$J$13,S$13,$F36:$J36)>0,ASISTENCIA!#REF!<>\"X\",ASISTENCIA!#REF!<>\"L\",ASISTENCIA!#REF!<>\"J\",ASISTENCIA!#REF!<>\"V\",ASISTENCIA!#REF!<>\"F\",ASISTENCIA!#REF!<>\"\"),SUMIF($F$13:$J$13,S$13,$F36:$J36),\"\")","v":{"$error":"#REF!"}},{"$f":"IF(AND(LEN($D36)>0,SUMIF($F$13:$J$13,T$13,$F36:$J36)>0,ASISTENCIA!#REF!<>\"X\",ASISTENCIA!#REF!<>\"L\",ASISTENCIA!#REF!<>\"J\",ASISTENCIA!#REF!<>\"V\",ASISTENCIA!#REF!<>\"F\",ASISTENCIA!#REF!<>\"\"),SUMIF($F$13:$J$13,T$13,$F36:$J36),\"\")","v":{"$error":"#REF!"}},{"$f":"IF(AND(LEN($D36)>0,SUMIF($F$13:$J$13,U$13,$F36:$J36)>0,ASISTENCIA!#REF!<>\"X\",ASISTENCIA!#REF!<>\"L\",ASISTENCIA!#REF!<>\"J\",ASISTENCIA!#REF!<>\"V\",ASISTENCIA!#REF!<>\"F\",ASISTENCIA!#REF!<>\"\"),SUMIF($F$13:$J$13,U$13,$F36:$J36),\"\")","v":{"$error":"#REF!"}},{"$f":"IF(AND(LEN($D36)>0,SUMIF($F$13:$J$13,V$13,$F36:$J36)>0,ASISTENCIA!#REF!<>\"X\",ASISTENCIA!#REF!<>\"L\",ASISTENCIA!#REF!<>\"J\",ASISTENCIA!#REF!<>\"V\",ASISTENCIA!#REF!<>\"F\",ASISTENCIA!#REF!<>\"\"),SUMIF($F$13:$J$13,V$13,$F36:$J36),\"\")","v":{"$error":"#REF!"}},{"$f":"IF(AND(LEN($D36)>0,SUMIF($F$13:$J$13,W$13,$F36:$J36)>0,ASISTENCIA!#REF!<>\"X\",ASISTENCIA!#REF!<>\"L\",ASISTENCIA!#REF!<>\"J\",ASISTENCIA!#REF!<>\"V\",ASISTENCIA!#REF!<>\"F\",ASISTENCIA!#REF!<>\"\"),SUMIF($F$13:$J$13,W$13,$F36:$J36),\"\")","v":{"$error":"#REF!"}},{"$f":"IF(AND(LEN($D36)>0,SUMIF($F$13:$J$13,X$13,$F36:$J36)>0,ASISTENCIA!#REF!<>\"X\",ASISTENCIA!#REF!<>\"L\",ASISTENCIA!#REF!<>\"J\",ASISTENCIA!#REF!<>\"V\",ASISTENCIA!#REF!<>\"F\",ASISTENCIA!#REF!<>\"\"),SUMIF($F$13:$J$13,X$13,$F36:$J36),\"\")","v":{"$error":"#REF!"}},{"$f":"IF(AND(LEN($D36)>0,SUMIF($F$13:$J$13,Y$13,$F36:$J36)>0,ASISTENCIA!#REF!<>\"X\",ASISTENCIA!#REF!<>\"L\",ASISTENCIA!#REF!<>\"J\",ASISTENCIA!#REF!<>\"V\",ASISTENCIA!#REF!<>\"F\",ASISTENCIA!#REF!<>\"\"),SUMIF($F$13:$J$13,Y$13,$F36:$J36),\"\")","v":{"$error":"#REF!"}},{"$f":"IF(AND(LEN($D36)>0,SUMIF($F$13:$J$13,Z$13,$F36:$J36)>0,ASISTENCIA!#REF!<>\"X\",ASISTENCIA!#REF!<>\"L\",ASISTENCIA!#REF!<>\"J\",ASISTENCIA!#REF!<>\"V\",ASISTENCIA!#REF!<>\"F\",ASISTENCIA!#REF!<>\"\"),SUMIF($F$13:$J$13,Z$13,$F36:$J36),\"\")","v":{"$error":"#REF!"}},{"$f":"IF(AND(LEN($D36)>0,SUMIF($F$13:$J$13,AA$13,$F36:$J36)>0,ASISTENCIA!#REF!<>\"X\",ASISTENCIA!#REF!<>\"L\",ASISTENCIA!#REF!<>\"J\",ASISTENCIA!#REF!<>\"V\",ASISTENCIA!#REF!<>\"F\",ASISTENCIA!#REF!<>\"\"),SUMIF($F$13:$J$13,AA$13,$F36:$J36),\"\")","v":{"$error":"#REF!"}},{"$f":"IF(AND(LEN($D36)>0,SUMIF($F$13:$J$13,AB$13,$F36:$J36)>0,ASISTENCIA!#REF!<>\"X\",ASISTENCIA!#REF!<>\"L\",ASISTENCIA!#REF!<>\"J\",ASISTENCIA!#REF!<>\"V\",ASISTENCIA!#REF!<>\"F\",ASISTENCIA!#REF!<>\"\"),SUMIF($F$13:$J$13,AB$13,$F36:$J36),\"\")","v":{"$error":"#REF!"}},{"$f":"IF(AND(LEN($D36)>0,SUMIF($F$13:$J$13,AC$13,$F36:$J36)>0,ASISTENCIA!#REF!<>\"X\",ASISTENCIA!#REF!<>\"L\",ASISTENCIA!#REF!<>\"J\",ASISTENCIA!#REF!<>\"V\",ASISTENCIA!#REF!<>\"F\",ASISTENCIA!#REF!<>\"\"),SUMIF($F$13:$J$13,AC$13,$F36:$J36),\"\")","v":{"$error":"#REF!"}},{"$f":"IF(AND(LEN($D36)>0,SUMIF($F$13:$J$13,AD$13,$F36:$J36)>0,ASISTENCIA!#REF!<>\"X\",ASISTENCIA!#REF!<>\"L\",ASISTENCIA!#REF!<>\"J\",ASISTENCIA!#REF!<>\"V\",ASISTENCIA!#REF!<>\"F\",ASISTENCIA!#REF!<>\"\"),SUMIF($F$13:$J$13,AD$13,$F36:$J36),\"\")","v":{"$error":"#REF!"}},{"$f":"IF(AND(LEN($D36)>0,SUMIF($F$13:$J$13,AE$13,$F36:$J36)>0,ASISTENCIA!#REF!<>\"X\",ASISTENCIA!#REF!<>\"L\",ASISTENCIA!#REF!<>\"J\",ASISTENCIA!#REF!<>\"V\",ASISTENCIA!#REF!<>\"F\",ASISTENCIA!#REF!<>\"\"),SUMIF($F$13:$J$13,AE$13,$F36:$J36),\"\")","v":{"$error":"#REF!"}},{"$f":"IF(AND(LEN($D36)>0,SUMIF($F$13:$J$13,AF$13,$F36:$J36)>0,ASISTENCIA!#REF!<>\"X\",ASISTENCIA!#REF!<>\"L\",ASISTENCIA!#REF!<>\"J\",ASISTENCIA!#REF!<>\"V\",ASISTENCIA!#REF!<>\"F\",ASISTENCIA!#REF!<>\"\"),SUMIF($F$13:$J$13,AF$13,$F36:$J36),\"\")","v":{"$error":"#REF!"}},{"$f":"IF(AND(LEN($D36)>0,SUMIF($F$13:$J$13,AG$13,$F36:$J36)>0,ASISTENCIA!#REF!<>\"X\",ASISTENCIA!#REF!<>\"L\",ASISTENCIA!#REF!<>\"J\",ASISTENCIA!#REF!<>\"V\",ASISTENCIA!#REF!<>\"F\",ASISTENCIA!#REF!<>\"\"),SUMIF($F$13:$J$13,AG$13,$F36:$J36),\"\")","v":{"$error":"#REF!"}},{"$f":"IF(AND(LEN($D36)>0,SUMIF($F$13:$J$13,AH$13,$F36:$J36)>0,ASISTENCIA!#REF!<>\"X\",ASISTENCIA!#REF!<>\"L\",ASISTENCIA!#REF!<>\"J\",ASISTENCIA!#REF!<>\"V\",ASISTENCIA!#REF!<>\"F\",ASISTENCIA!#REF!<>\"\"),SUMIF($F$13:$J$13,AH$13,$F36:$J36),\"\")","v":{"$error":"#REF!"}},{"$f":"IF(AND(LEN($D36)>0,SUMIF($F$13:$J$13,AI$13,$F36:$J36)>0,ASISTENCIA!#REF!<>\"X\",ASISTENCIA!#REF!<>\"L\",ASISTENCIA!#REF!<>\"J\",ASISTENCIA!#REF!<>\"V\",ASISTENCIA!#REF!<>\"F\",ASISTENCIA!#REF!<>\"\"),SUMIF($F$13:$J$13,AI$13,$F36:$J36),\"\")","v":{"$error":"#REF!"}},{"$f":"IF(AND(LEN($D36)>0,SUMIF($F$13:$J$13,AJ$13,$F36:$J36)>0,ASISTENCIA!#REF!<>\"X\",ASISTENCIA!#REF!<>\"L\",ASISTENCIA!#REF!<>\"J\",ASISTENCIA!#REF!<>\"V\",ASISTENCIA!#REF!<>\"F\",ASISTENCIA!#REF!<>\"\"),SUMIF($F$13:$J$13,AJ$13,$F36:$J36),\"\")","v":{"$error":"#REF!"}},{"$f":"IF(AND(LEN($D36)>0,SUMIF($F$13:$J$13,AK$13,$F36:$J36)>0,ASISTENCIA!#REF!<>\"X\",ASISTENCIA!#REF!<>\"L\",ASISTENCIA!#REF!<>\"J\",ASISTENCIA!#REF!<>\"V\",ASISTENCIA!#REF!<>\"F\",ASISTENCIA!#REF!<>\"\"),SUMIF($F$13:$J$13,AK$13,$F36:$J36),\"\")","v":{"$error":"#REF!"}},{"$f":"IF(AND(LEN($D36)>0,SUMIF($F$13:$J$13,AL$13,$F36:$J36)>0,ASISTENCIA!#REF!<>\"X\",ASISTENCIA!#REF!<>\"L\",ASISTENCIA!#REF!<>\"J\",ASISTENCIA!#REF!<>\"V\",ASISTENCIA!#REF!<>\"F\",ASISTENCIA!#REF!<>\"\"),SUMIF($F$13:$J$13,AL$13,$F36:$J36),\"\")","v":{"$error":"#REF!"}},{"$f":"IF(AND(LEN($D36)>0,SUMIF($F$13:$J$13,AM$13,$F36:$J36)>0,ASISTENCIA!#REF!<>\"X\",ASISTENCIA!#REF!<>\"L\",ASISTENCIA!#REF!<>\"J\",ASISTENCIA!#REF!<>\"V\",ASISTENCIA!#REF!<>\"F\",ASISTENCIA!#REF!<>\"\"),SUMIF($F$13:$J$13,AM$13,$F36:$J36),\"\")","v":{"$error":"#REF!"}},{"$f":"IF(AND(LEN($D36)>0,SUMIF($F$13:$J$13,AN$13,$F36:$J36)>0,ASISTENCIA!#REF!<>\"X\",ASISTENCIA!#REF!<>\"L\",ASISTENCIA!#REF!<>\"J\",ASISTENCIA!#REF!<>\"V\",ASISTENCIA!#REF!<>\"F\",ASISTENCIA!#REF!<>\"\"),SUMIF($F$13:$J$13,AN$13,$F36:$J36),\"\")","v":{"$error":"#REF!"}},{"$f":"IF(AND(LEN($D36)>0,SUMIF($F$13:$J$13,AO$13,$F36:$J36)>0,ASISTENCIA!#REF!<>\"X\",ASISTENCIA!#REF!<>\"L\",ASISTENCIA!#REF!<>\"J\",ASISTENCIA!#REF!<>\"V\",ASISTENCIA!#REF!<>\"F\",ASISTENCIA!#REF!<>\"\"),SUMIF($F$13:$J$13,AO$13,$F36:$J36),\"\")","v":{"$error":"#REF!"}},{"$f":"IF(AND(LEN($D36)>0,SUMIF($F$13:$J$13,AP$13,$F36:$J36)>0,ASISTENCIA!#REF!<>\"X\",ASISTENCIA!#REF!<>\"L\",ASISTENCIA!#REF!<>\"J\",ASISTENCIA!#REF!<>\"V\",ASISTENCIA!#REF!<>\"F\",ASISTENCIA!#REF!<>\"\"),SUMIF($F$13:$J$13,AP$13,$F36:$J36),\"\")","v":{"$error":"#REF!"}},{"$f":"IF(AND(LEN($D36)>0,SUMIF($F$13:$J$13,AQ$13,$F36:$J36)>0,ASISTENCIA!#REF!<>\"X\",ASISTENCIA!#REF!<>\"L\",ASISTENCIA!#REF!<>\"J\",ASISTENCIA!#REF!<>\"V\",ASISTENCIA!#REF!<>\"F\",ASISTENCIA!#REF!<>\"\"),SUMIF($F$13:$J$13,AQ$13,$F36:$J36),\"\")","v":{"$error":"#REF!"}},{"$f":"IF(AND(LEN($D36)>0,SUMIF($F$13:$J$13,AR$13,$F36:$J36)>0,ASISTENCIA!#REF!<>\"X\",ASISTENCIA!#REF!<>\"L\",ASISTENCIA!#REF!<>\"J\",ASISTENCIA!#REF!<>\"V\",ASISTENCIA!#REF!<>\"F\",ASISTENCIA!#REF!<>\"\"),SUMIF($F$13:$J$13,AR$13,$F36:$J36),\"\")","v":{"$error":"#REF!"}},{"$f":"IF(AND(LEN($D36)>0,SUMIF($F$13:$J$13,AS$13,$F36:$J36)>0,ASISTENCIA!#REF!<>\"X\",ASISTENCIA!#REF!<>\"L\",ASISTENCIA!#REF!<>\"J\",ASISTENCIA!#REF!<>\"V\",ASISTENCIA!#REF!<>\"F\",ASISTENCIA!#REF!<>\"\"),SUMIF($F$13:$J$13,AS$13,$F36:$J36),\"\")","v":{"$error":"#REF!"}},{"$error":"#REF!"},null,null,null,{"$f":"IF(AND(LEN($D36)>0,SUMIF($F$13:$J$13,AX$13,$F36:$J36)>0,ASISTENCIA!#REF!<>\"X\",ASISTENCIA!#REF!<>\"L\",ASISTENCIA!#REF!<>\"J\",ASISTENCIA!#REF!<>\"F\"),SUMIF($F$13:$J$13,AX$13,$F36:$J36),\"\")","v":{"$error":"#REF!"}},{"$f":"IF(AND(LEN($D36)>0,SUMIF($F$13:$J$13,AY$13,$F36:$J36)>0,ASISTENCIA!#REF!<>\"X\",ASISTENCIA!#REF!<>\"L\",ASISTENCIA!#REF!<>\"J\",ASISTENCIA!#REF!<>\"F\"),SUMIF($F$13:$J$13,AY$13,$F36:$J36),\"\")","v":{"$error":"#REF!"}},{"$f":"IF(AND(LEN($D36)>0,SUMIF($F$13:$J$13,AZ$13,$F36:$J36)>0,ASISTENCIA!#REF!<>\"X\",ASISTENCIA!#REF!<>\"L\",ASISTENCIA!#REF!<>\"J\",ASISTENCIA!#REF!<>\"F\"),SUMIF($F$13:$J$13,AZ$13,$F36:$J36),\"\")","v":{"$error":"#REF!"}},{"$f":"IF(AND(LEN($D36)>0,SUMIF($F$13:$J$13,BA$13,$F36:$J36)>0,ASISTENCIA!#REF!<>\"X\",ASISTENCIA!#REF!<>\"L\",ASISTENCIA!#REF!<>\"J\",ASISTENCIA!#REF!<>\"F\"),SUMIF($F$13:$J$13,BA$13,$F36:$J36),\"\")","v":{"$error":"#REF!"}},{"$f":"IF(AND(LEN($D36)>0,SUMIF($F$13:$J$13,BB$13,$F36:$J36)>0,ASISTENCIA!#REF!<>\"X\",ASISTENCIA!#REF!<>\"L\",ASISTENCIA!#REF!<>\"J\",ASISTENCIA!#REF!<>\"F\"),SUMIF($F$13:$J$13,BB$13,$F36:$J36),\"\")","v":{"$error":"#REF!"}},{"$f":"IF(AND(LEN($D36)>0,SUMIF($F$13:$J$13,BC$13,$F36:$J36)>0,ASISTENCIA!#REF!<>\"X\",ASISTENCIA!#REF!<>\"L\",ASISTENCIA!#REF!<>\"J\",ASISTENCIA!#REF!<>\"F\"),SUMIF($F$13:$J$13,BC$13,$F36:$J36),\"\")","v":{"$error":"#REF!"}},{"$f":"IF(AND(LEN($D36)>0,SUMIF($F$13:$J$13,BD$13,$F36:$J36)>0,ASISTENCIA!#REF!<>\"X\",ASISTENCIA!#REF!<>\"L\",ASISTENCIA!#REF!<>\"J\",ASISTENCIA!#REF!<>\"F\"),SUMIF($F$13:$J$13,BD$13,$F36:$J36),\"\")","v":{"$error":"#REF!"}},{"$f":"IF(AND(LEN($D36)>0,SUMIF($F$13:$J$13,BE$13,$F36:$J36)>0,ASISTENCIA!#REF!<>\"X\",ASISTENCIA!#REF!<>\"L\",ASISTENCIA!#REF!<>\"J\",ASISTENCIA!#REF!<>\"F\"),SUMIF($F$13:$J$13,BE$13,$F36:$J36),\"\")","v":{"$error":"#REF!"}},{"$f":"IF(AND(LEN($D36)>0,SUMIF($F$13:$J$13,BF$13,$F36:$J36)>0,ASISTENCIA!#REF!<>\"X\",ASISTENCIA!#REF!<>\"L\",ASISTENCIA!#REF!<>\"J\",ASISTENCIA!#REF!<>\"F\"),SUMIF($F$13:$J$13,BF$13,$F36:$J36),\"\")","v":{"$error":"#REF!"}},{"$f":"IF(AND(LEN($D36)>0,SUMIF($F$13:$J$13,BG$13,$F36:$J36)>0,ASISTENCIA!#REF!<>\"X\",ASISTENCIA!#REF!<>\"L\",ASISTENCIA!#REF!<>\"J\",ASISTENCIA!#REF!<>\"F\"),SUMIF($F$13:$J$13,BG$13,$F36:$J36),\"\")","v":{"$error":"#REF!"}},{"$f":"IF(AND(LEN($D36)>0,SUMIF($F$13:$J$13,BH$13,$F36:$J36)>0,ASISTENCIA!#REF!<>\"X\",ASISTENCIA!#REF!<>\"L\",ASISTENCIA!#REF!<>\"J\",ASISTENCIA!#REF!<>\"F\"),SUMIF($F$13:$J$13,BH$13,$F36:$J36),\"\")","v":{"$error":"#REF!"}},{"$f":"IF(AND(LEN($D36)>0,SUMIF($F$13:$J$13,BI$13,$F36:$J36)>0,ASISTENCIA!#REF!<>\"X\",ASISTENCIA!#REF!<>\"L\",ASISTENCIA!#REF!<>\"J\",ASISTENCIA!#REF!<>\"F\"),SUMIF($F$13:$J$13,BI$13,$F36:$J36),\"\")","v":{"$error":"#REF!"}},{"$f":"IF(AND(LEN($D36)>0,SUMIF($F$13:$J$13,BJ$13,$F36:$J36)>0,ASISTENCIA!#REF!<>\"X\",ASISTENCIA!#REF!<>\"L\",ASISTENCIA!#REF!<>\"J\",ASISTENCIA!#REF!<>\"F\"),SUMIF($F$13:$J$13,BJ$13,$F36:$J36),\"\")","v":{"$error":"#REF!"}},{"$f":"IF(AND(LEN($D36)>0,SUMIF($F$13:$J$13,BK$13,$F36:$J36)>0,ASISTENCIA!#REF!<>\"X\",ASISTENCIA!#REF!<>\"L\",ASISTENCIA!#REF!<>\"J\",ASISTENCIA!#REF!<>\"F\"),SUMIF($F$13:$J$13,BK$13,$F36:$J36),\"\")","v":{"$error":"#REF!"}},{"$f":"IF(AND(LEN($D36)>0,SUMIF($F$13:$J$13,BL$13,$F36:$J36)>0,ASISTENCIA!#REF!<>\"X\",ASISTENCIA!#REF!<>\"L\",ASISTENCIA!#REF!<>\"J\",ASISTENCIA!#REF!<>\"F\"),SUMIF($F$13:$J$13,BL$13,$F36:$J36),\"\")","v":{"$error":"#REF!"}},{"$f":"IF(AND(LEN($D36)>0,SUMIF($F$13:$J$13,BM$13,$F36:$J36)>0,ASISTENCIA!#REF!<>\"X\",ASISTENCIA!#REF!<>\"L\",ASISTENCIA!#REF!<>\"J\",ASISTENCIA!#REF!<>\"F\"),SUMIF($F$13:$J$13,BM$13,$F36:$J36),\"\")","v":{"$error":"#REF!"}},{"$f":"IF(AND(LEN($D36)>0,SUMIF($F$13:$J$13,BN$13,$F36:$J36)>0,ASISTENCIA!#REF!<>\"X\",ASISTENCIA!#REF!<>\"L\",ASISTENCIA!#REF!<>\"J\",ASISTENCIA!#REF!<>\"F\"),SUMIF($F$13:$J$13,BN$13,$F36:$J36),\"\")","v":{"$error":"#REF!"}},{"$f":"IF(AND(LEN($D36)>0,SUMIF($F$13:$J$13,BO$13,$F36:$J36)>0,ASISTENCIA!#REF!<>\"X\",ASISTENCIA!#REF!<>\"L\",ASISTENCIA!#REF!<>\"J\",ASISTENCIA!#REF!<>\"F\"),SUMIF($F$13:$J$13,BO$13,$F36:$J36),\"\")","v":{"$error":"#REF!"}},{"$f":"IF(AND(LEN($D36)>0,SUMIF($F$13:$J$13,BP$13,$F36:$J36)>0,ASISTENCIA!#REF!<>\"X\",ASISTENCIA!#REF!<>\"L\",ASISTENCIA!#REF!<>\"J\",ASISTENCIA!#REF!<>\"F\"),SUMIF($F$13:$J$13,BP$13,$F36:$J36),\"\")","v":{"$error":"#REF!"}},{"$f":"IF(AND(LEN($D36)>0,SUMIF($F$13:$J$13,BQ$13,$F36:$J36)>0,ASISTENCIA!#REF!<>\"X\",ASISTENCIA!#REF!<>\"L\",ASISTENCIA!#REF!<>\"J\",ASISTENCIA!#REF!<>\"F\"),SUMIF($F$13:$J$13,BQ$13,$F36:$J36),\"\")","v":{"$error":"#REF!"}},{"$f":"IF(AND(LEN($D36)>0,SUMIF($F$13:$J$13,BR$13,$F36:$J36)>0,ASISTENCIA!#REF!<>\"X\",ASISTENCIA!#REF!<>\"L\",ASISTENCIA!#REF!<>\"J\",ASISTENCIA!#REF!<>\"F\"),SUMIF($F$13:$J$13,BR$13,$F36:$J36),\"\")","v":{"$error":"#REF!"}},{"$f":"IF(AND(LEN($D36)>0,SUMIF($F$13:$J$13,BS$13,$F36:$J36)>0,ASISTENCIA!#REF!<>\"X\",ASISTENCIA!#REF!<>\"L\",ASISTENCIA!#REF!<>\"J\",ASISTENCIA!#REF!<>\"F\"),SUMIF($F$13:$J$13,BS$13,$F36:$J36),\"\")","v":{"$error":"#REF!"}},{"$f":"IF(AND(LEN($D36)>0,SUMIF($F$13:$J$13,BT$13,$F36:$J36)>0,ASISTENCIA!#REF!<>\"X\",ASISTENCIA!#REF!<>\"L\",ASISTENCIA!#REF!<>\"J\",ASISTENCIA!#REF!<>\"F\"),SUMIF($F$13:$J$13,BT$13,$F36:$J36),\"\")","v":{"$error":"#REF!"}},{"$f":"IF(AND(LEN($D36)>0,SUMIF($F$13:$J$13,BU$13,$F36:$J36)>0,ASISTENCIA!#REF!<>\"X\",ASISTENCIA!#REF!<>\"L\",ASISTENCIA!#REF!<>\"J\",ASISTENCIA!#REF!<>\"F\"),SUMIF($F$13:$J$13,BU$13,$F36:$J36),\"\")","v":{"$error":"#REF!"}},{"$f":"IF(AND(LEN($D36)>0,SUMIF($F$13:$J$13,BV$13,$F36:$J36)>0,ASISTENCIA!#REF!<>\"X\",ASISTENCIA!#REF!<>\"L\",ASISTENCIA!#REF!<>\"J\",ASISTENCIA!#REF!<>\"F\"),SUMIF($F$13:$J$13,BV$13,$F36:$J36),\"\")","v":{"$error":"#REF!"}},{"$f":"IF(AND(LEN($D36)>0,SUMIF($F$13:$J$13,BW$13,$F36:$J36)>0,ASISTENCIA!#REF!<>\"X\",ASISTENCIA!#REF!<>\"L\",ASISTENCIA!#REF!<>\"J\",ASISTENCIA!#REF!<>\"F\"),SUMIF($F$13:$J$13,BW$13,$F36:$J36),\"\")","v":{"$error":"#REF!"}},{"$f":"IF(AND(LEN($D36)>0,SUMIF($F$13:$J$13,BX$13,$F36:$J36)>0,ASISTENCIA!#REF!<>\"X\",ASISTENCIA!#REF!<>\"L\",ASISTENCIA!#REF!<>\"J\",ASISTENCIA!#REF!<>\"F\"),SUMIF($F$13:$J$13,BX$13,$F36:$J36),\"\")","v":{"$error":"#REF!"}},{"$f":"IF(AND(LEN($D36)>0,SUMIF($F$13:$J$13,BY$13,$F36:$J36)>0,ASISTENCIA!#REF!<>\"X\",ASISTENCIA!#REF!<>\"L\",ASISTENCIA!#REF!<>\"J\",ASISTENCIA!#REF!<>\"F\"),SUMIF($F$13:$J$13,BY$13,$F36:$J36),\"\")","v":{"$error":"#REF!"}},{"$f":"IF(AND(LEN($D36)>0,SUMIF($F$13:$J$13,BZ$13,$F36:$J36)>0,ASISTENCIA!#REF!<>\"X\",ASISTENCIA!#REF!<>\"L\",ASISTENCIA!#REF!<>\"J\",ASISTENCIA!#REF!<>\"F\"),SUMIF($F$13:$J$13,BZ$13,$F36:$J36),\"\")","v":{"$error":"#REF!"}},{"$f":"IF(AND(LEN($D36)>0,SUMIF($F$13:$J$13,CA$13,$F36:$J36)>0,ASISTENCIA!#REF!<>\"X\",ASISTENCIA!#REF!<>\"L\",ASISTENCIA!#REF!<>\"J\",ASISTENCIA!#REF!<>\"F\"),SUMIF($F$13:$J$13,CA$13,$F36:$J36),\"\")","v":{"$error":"#REF!"}},{"$f":"IF(AND(LEN($D36)>0,SUMIF($F$13:$J$13,CB$13,$F36:$J36)>0,ASISTENCIA!#REF!<>\"X\",ASISTENCIA!#REF!<>\"L\",ASISTENCIA!#REF!<>\"J\",ASISTENCIA!#REF!<>\"F\"),SUMIF($F$13:$J$13,CB$13,$F36:$J36),\"\")","v":{"$error":"#REF!"}},{"$error":"#REF!"}]
[{"$error":"#REF!"},{"$f":"IF(LEN(C37)>0,VLOOKUP($O$4,DATA!$A$1:$S$1,2,FALSE),\"\")","v":{"$error":"#REF!"}},{"$error":"#REF!"},{"$f":"IF(LEN(ASISTENCIA!#REF!)>0,ASISTENCIA!#REF!,\"\")","v":{"$error":"#REF!"}},{"$f":"IF(LEN(D37)>0,ASISTENCIA!#REF!,\"\")","v":{"$error":"#REF!"}},null,null,null,null,null,"",null,null,{"$error":"#REF!"},{"$f":"IF(AND(LEN($D37)>0,SUMIF($F$13:$J$13,O$13,$F37:$J37)>0,ASISTENCIA!#REF!<>\"X\",ASISTENCIA!#REF!<>\"L\",ASISTENCIA!#REF!<>\"J\",ASISTENCIA!#REF!<>\"V\",ASISTENCIA!#REF!<>\"F\",ASISTENCIA!#REF!<>\"\"),SUMIF($F$13:$J$13,O$13,$F37:$J37),\"\")","v":{"$error":"#REF!"}},{"$f":"IF(AND(LEN($D37)>0,SUMIF($F$13:$J$13,P$13,$F37:$J37)>0,ASISTENCIA!#REF!<>\"X\",ASISTENCIA!#REF!<>\"L\",ASISTENCIA!#REF!<>\"J\",ASISTENCIA!#REF!<>\"V\",ASISTENCIA!#REF!<>\"F\",ASISTENCIA!#REF!<>\"\"),SUMIF($F$13:$J$13,P$13,$F37:$J37),\"\")","v":{"$error":"#REF!"}},{"$f":"IF(AND(LEN($D37)>0,SUMIF($F$13:$J$13,Q$13,$F37:$J37)>0,ASISTENCIA!#REF!<>\"X\",ASISTENCIA!#REF!<>\"L\",ASISTENCIA!#REF!<>\"J\",ASISTENCIA!#REF!<>\"V\",ASISTENCIA!#REF!<>\"F\",ASISTENCIA!#REF!<>\"\"),SUMIF($F$13:$J$13,Q$13,$F37:$J37),\"\")","v":{"$error":"#REF!"}},{"$f":"IF(AND(LEN($D37)>0,SUMIF($F$13:$J$13,R$13,$F37:$J37)>0,ASISTENCIA!#REF!<>\"X\",ASISTENCIA!#REF!<>\"L\",ASISTENCIA!#REF!<>\"J\",ASISTENCIA!#REF!<>\"V\",ASISTENCIA!#REF!<>\"F\",ASISTENCIA!#REF!<>\"\"),SUMIF($F$13:$J$13,R$13,$F37:$J37),\"\")","v":{"$error":"#REF!"}},{"$f":"IF(AND(LEN($D37)>0,SUMIF($F$13:$J$13,S$13,$F37:$J37)>0,ASISTENCIA!#REF!<>\"X\",ASISTENCIA!#REF!<>\"L\",ASISTENCIA!#REF!<>\"J\",ASISTENCIA!#REF!<>\"V\",ASISTENCIA!#REF!<>\"F\",ASISTENCIA!#REF!<>\"\"),SUMIF($F$13:$J$13,S$13,$F37:$J37),\"\")","v":{"$error":"#REF!"}},{"$f":"IF(AND(LEN($D37)>0,SUMIF($F$13:$J$13,T$13,$F37:$J37)>0,ASISTENCIA!#REF!<>\"X\",ASISTENCIA!#REF!<>\"L\",ASISTENCIA!#REF!<>\"J\",ASISTENCIA!#REF!<>\"V\",ASISTENCIA!#REF!<>\"F\",ASISTENCIA!#REF!<>\"\"),SUMIF($F$13:$J$13,T$13,$F37:$J37),\"\")","v":{"$error":"#REF!"}},{"$f":"IF(AND(LEN($D37)>0,SUMIF($F$13:$J$13,U$13,$F37:$J37)>0,ASISTENCIA!#REF!<>\"X\",ASISTENCIA!#REF!<>\"L\",ASISTENCIA!#REF!<>\"J\",ASISTENCIA!#REF!<>\"V\",ASISTENCIA!#REF!<>\"F\",ASISTENCIA!#REF!<>\"\"),SUMIF($F$13:$J$13,U$13,$F37:$J37),\"\")","v":{"$error":"#REF!"}},{"$f":"IF(AND(LEN($D37)>0,SUMIF($F$13:$J$13,V$13,$F37:$J37)>0,ASISTENCIA!#REF!<>\"X\",ASISTENCIA!#REF!<>\"L\",ASISTENCIA!#REF!<>\"J\",ASISTENCIA!#REF!<>\"V\",ASISTENCIA!#REF!<>\"F\",ASISTENCIA!#REF!<>\"\"),SUMIF($F$13:$J$13,V$13,$F37:$J37),\"\")","v":{"$error":"#REF!"}},{"$f":"IF(AND(LEN($D37)>0,SUMIF($F$13:$J$13,W$13,$F37:$J37)>0,ASISTENCIA!#REF!<>\"X\",ASISTENCIA!#REF!<>\"L\",ASISTENCIA!#REF!<>\"J\",ASISTENCIA!#REF!<>\"V\",ASISTENCIA!#REF!<>\"F\",ASISTENCIA!#REF!<>\"\"),SUMIF($F$13:$J$13,W$13,$F37:$J37),\"\")","v":{"$error":"#REF!"}},{"$f":"IF(AND(LEN($D37)>0,SUMIF($F$13:$J$13,X$13,$F37:$J37)>0,ASISTENCIA!#REF!<>\"X\",ASISTENCIA!#REF!<>\"L\",ASISTENCIA!#REF!<>\"J\",ASISTENCIA!#REF!<>\"V\",ASISTENCIA!#REF!<>\"F\",ASISTENCIA!#REF!<>\"\"),SUMIF($F$13:$J$13,X$13,$F37:$J37),\"\")","v":{"$error":"#REF!"}},{"$f":"IF(AND(LEN($D37)>0,SUMIF($F$13:$J$13,Y$13,$F37:$J37)>0,ASISTENCIA!#REF!<>\"X\",ASISTENCIA!#REF!<>\"L\",ASISTENCIA!#REF!<>\"J\",ASISTENCIA!#REF!<>\"V\",ASISTENCIA!#REF!<>\"F\",ASISTENCIA!#REF!<>\"\"),SUMIF($F$13:$J$13,Y$13,$F37:$J37),\"\")","v":{"$error":"#REF!"}},{"$f":"IF(AND(LEN($D37)>0,SUMIF($F$13:$J$13,Z$13,$F37:$J37)>0,ASISTENCIA!#REF!<>\"X\",ASISTENCIA!#REF!<>\"L\",ASISTENCIA!#REF!<>\"J\",ASISTENCIA!#REF!<>\"V\",ASISTENCIA!#REF!<>\"F\",ASISTENCIA!#REF!<>\"\"),SUMIF($F$13:$J$13,Z$13,$F37:$J37),\"\")","v":{"$error":"#REF!"}},{"$f":"IF(AND(LEN($D37)>0,SUMIF($F$13:$J$13,AA$13,$F37:$J37)>0,ASISTENCIA!#REF!<>\"X\",ASISTENCIA!#REF!<>\"L\",ASISTENCIA!#REF!<>\"J\",ASISTENCIA!#REF!<>\"V\",ASISTENCIA!#REF!<>\"F\",ASISTENCIA!#REF!<>\"\"),SUMIF($F$13:$J$13,AA$13,$F37:$J37),\"\")","v":{"$error":"#REF!"}},{"$f":"IF(AND(LEN($D37)>0,SUMIF($F$13:$J$13,AB$13,$F37:$J37)>0,ASISTENCIA!#REF!<>\"X\",ASISTENCIA!#REF!<>\"L\",ASISTENCIA!#REF!<>\"J\",ASISTENCIA!#REF!<>\"V\",ASISTENCIA!#REF!<>\"F\",ASISTENCIA!#REF!<>\"\"),SUMIF($F$13:$J$13,AB$13,$F37:$J37),\"\")","v":{"$error":"#REF!"}},{"$f":"IF(AND(LEN($D37)>0,SUMIF($F$13:$J$13,AC$13,$F37:$J37)>0,ASISTENCIA!#REF!<>\"X\",ASISTENCIA!#REF!<>\"L\",ASISTENCIA!#REF!<>\"J\",ASISTENCIA!#REF!<>\"V\",ASISTENCIA!#REF!<>\"F\",ASISTENCIA!#REF!<>\"\"),SUMIF($F$13:$J$13,AC$13,$F37:$J37),\"\")","v":{"$error":"#REF!"}},{"$f":"IF(AND(LEN($D37)>0,SUMIF($F$13:$J$13,AD$13,$F37:$J37)>0,ASISTENCIA!#REF!<>\"X\",ASISTENCIA!#REF!<>\"L\",ASISTENCIA!#REF!<>\"J\",ASISTENCIA!#REF!<>\"V\",ASISTENCIA!#REF!<>\"F\",ASISTENCIA!#REF!<>\"\"),SUMIF($F$13:$J$13,AD$13,$F37:$J37),\"\")","v":{"$error":"#REF!"}},{"$f":"IF(AND(LEN($D37)>0,SUMIF($F$13:$J$13,AE$13,$F37:$J37)>0,ASISTENCIA!#REF!<>\"X\",ASISTENCIA!#REF!<>\"L\",ASISTENCIA!#REF!<>\"J\",ASISTENCIA!#REF!<>\"V\",ASISTENCIA!#REF!<>\"F\",ASISTENCIA!#REF!<>\"\"),SUMIF($F$13:$J$13,AE$13,$F37:$J37),\"\")","v":{"$error":"#REF!"}},{"$f":"IF(AND(LEN($D37)>0,SUMIF($F$13:$J$13,AF$13,$F37:$J37)>0,ASISTENCIA!#REF!<>\"X\",ASISTENCIA!#REF!<>\"L\",ASISTENCIA!#REF!<>\"J\",ASISTENCIA!#REF!<>\"V\",ASISTENCIA!#REF!<>\"F\",ASISTENCIA!#REF!<>\"\"),SUMIF($F$13:$J$13,AF$13,$F37:$J37),\"\")","v":{"$error":"#REF!"}},{"$f":"IF(AND(LEN($D37)>0,SUMIF($F$13:$J$13,AG$13,$F37:$J37)>0,ASISTENCIA!#REF!<>\"X\",ASISTENCIA!#REF!<>\"L\",ASISTENCIA!#REF!<>\"J\",ASISTENCIA!#REF!<>\"V\",ASISTENCIA!#REF!<>\"F\",ASISTENCIA!#REF!<>\"\"),SUMIF($F$13:$J$13,AG$13,$F37:$J37),\"\")","v":{"$error":"#REF!"}},{"$f":"IF(AND(LEN($D37)>0,SUMIF($F$13:$J$13,AH$13,$F37:$J37)>0,ASISTENCIA!#REF!<>\"X\",ASISTENCIA!#REF!<>\"L\",ASISTENCIA!#REF!<>\"J\",ASISTENCIA!#REF!<>\"V\",ASISTENCIA!#REF!<>\"F\",ASISTENCIA!#REF!<>\"\"),SUMIF($F$13:$J$13,AH$13,$F37:$J37),\"\")","v":{"$error":"#REF!"}},{"$f":"IF(AND(LEN($D37)>0,SUMIF($F$13:$J$13,AI$13,$F37:$J37)>0,ASISTENCIA!#REF!<>\"X\",ASISTENCIA!#REF!<>\"L\",ASISTENCIA!#REF!<>\"J\",ASISTENCIA!#REF!<>\"V\",ASISTENCIA!#REF!<>\"F\",ASISTENCIA!#REF!<>\"\"),SUMIF($F$13:$J$13,AI$13,$F37:$J37),\"\")","v":{"$error":"#REF!"}},{"$f":"IF(AND(LEN($D37)>0,SUMIF($F$13:$J$13,AJ$13,$F37:$J37)>0,ASISTENCIA!#REF!<>\"X\",ASISTENCIA!#REF!<>\"L\",ASISTENCIA!#REF!<>\"J\",ASISTENCIA!#REF!<>\"V\",ASISTENCIA!#REF!<>\"F\",ASISTENCIA!#REF!<>\"\"),SUMIF($F$13:$J$13,AJ$13,$F37:$J37),\"\")","v":{"$error":"#REF!"}},{"$f":"IF(AND(LEN($D37)>0,SUMIF($F$13:$J$13,AK$13,$F37:$J37)>0,ASISTENCIA!#REF!<>\"X\",ASISTENCIA!#REF!<>\"L\",ASISTENCIA!#REF!<>\"J\",ASISTENCIA!#REF!<>\"V\",ASISTENCIA!#REF!<>\"F\",ASISTENCIA!#REF!<>\"\"),SUMIF($F$13:$J$13,AK$13,$F37:$J37),\"\")","v":{"$error":"#REF!"}},{"$f":"IF(AND(LEN($D37)>0,SUMIF($F$13:$J$13,AL$13,$F37:$J37)>0,ASISTENCIA!#REF!<>\"X\",ASISTENCIA!#REF!<>\"L\",ASISTENCIA!#REF!<>\"J\",ASISTENCIA!#REF!<>\"V\",ASISTENCIA!#REF!<>\"F\",ASISTENCIA!#REF!<>\"\"),SUMIF($F$13:$J$13,AL$13,$F37:$J37),\"\")","v":{"$error":"#REF!"}},{"$f":"IF(AND(LEN($D37)>0,SUMIF($F$13:$J$13,AM$13,$F37:$J37)>0,ASISTENCIA!#REF!<>\"X\",ASISTENCIA!#REF!<>\"L\",ASISTENCIA!#REF!<>\"J\",ASISTENCIA!#REF!<>\"V\",ASISTENCIA!#REF!<>\"F\",ASISTENCIA!#REF!<>\"\"),SUMIF($F$13:$J$13,AM$13,$F37:$J37),\"\")","v":{"$error":"#REF!"}},{"$f":"IF(AND(LEN($D37)>0,SUMIF($F$13:$J$13,AN$13,$F37:$J37)>0,ASISTENCIA!#REF!<>\"X\",ASISTENCIA!#REF!<>\"L\",ASISTENCIA!#REF!<>\"J\",ASISTENCIA!#REF!<>\"V\",ASISTENCIA!#REF!<>\"F\",ASISTENCIA!#REF!<>\"\"),SUMIF($F$13:$J$13,AN$13,$F37:$J37),\"\")","v":{"$error":"#REF!"}},{"$f":"IF(AND(LEN($D37)>0,SUMIF($F$13:$J$13,AO$13,$F37:$J37)>0,ASISTENCIA!#REF!<>\"X\",ASISTENCIA!#REF!<>\"L\",ASISTENCIA!#REF!<>\"J\",ASISTENCIA!#REF!<>\"V\",ASISTENCIA!#REF!<>\"F\",ASISTENCIA!#REF!<>\"\"),SUMIF($F$13:$J$13,AO$13,$F37:$J37),\"\")","v":{"$error":"#REF!"}},{"$f":"IF(AND(LEN($D37)>0,SUMIF($F$13:$J$13,AP$13,$F37:$J37)>0,ASISTENCIA!#REF!<>\"X\",ASISTENCIA!#REF!<>\"L\",ASISTENCIA!#REF!<>\"J\",ASISTENCIA!#REF!<>\"V\",ASISTENCIA!#REF!<>\"F\",ASISTENCIA!#REF!<>\"\"),SUMIF($F$13:$J$13,AP$13,$F37:$J37),\"\")","v":{"$error":"#REF!"}},{"$f":"IF(AND(LEN($D37)>0,SUMIF($F$13:$J$13,AQ$13,$F37:$J37)>0,ASISTENCIA!#REF!<>\"X\",ASISTENCIA!#REF!<>\"L\",ASISTENCIA!#REF!<>\"J\",ASISTENCIA!#REF!<>\"V\",ASISTENCIA!#REF!<>\"F\",ASISTENCIA!#REF!<>\"\"),SUMIF($F$13:$J$13,AQ$13,$F37:$J37),\"\")","v":{"$error":"#REF!"}},{"$f":"IF(AND(LEN($D37)>0,SUMIF($F$13:$J$13,AR$13,$F37:$J37)>0,ASISTENCIA!#REF!<>\"X\",ASISTENCIA!#REF!<>\"L\",ASISTENCIA!#REF!<>\"J\",ASISTENCIA!#REF!<>\"V\",ASISTENCIA!#REF!<>\"F\",ASISTENCIA!#REF!<>\"\"),SUMIF($F$13:$J$13,AR$13,$F37:$J37),\"\")","v":{"$error":"#REF!"}},{"$f":"IF(AND(LEN($D37)>0,SUMIF($F$13:$J$13,AS$13,$F37:$J37)>0,ASISTENCIA!#REF!<>\"X\",ASISTENCIA!#REF!<>\"L\",ASISTENCIA!#REF!<>\"J\",ASISTENCIA!#REF!<>\"V\",ASISTENCIA!#REF!<>\"F\",ASISTENCIA!#REF!<>\"\"),SUMIF($F$13:$J$13,AS$13,$F37:$J37),\"\")","v":{"$error":"#REF!"}},{"$error":"#REF!"},null,null,null,{"$f":"IF(AND(LEN($D37)>0,SUMIF($F$13:$J$13,AX$13,$F37:$J37)>0,ASISTENCIA!#REF!<>\"X\",ASISTENCIA!#REF!<>\"L\",ASISTENCIA!#REF!<>\"J\",ASISTENCIA!#REF!<>\"F\"),SUMIF($F$13:$J$13,AX$13,$F37:$J37),\"\")","v":{"$error":"#REF!"}},{"$f":"IF(AND(LEN($D37)>0,SUMIF($F$13:$J$13,AY$13,$F37:$J37)>0,ASISTENCIA!#REF!<>\"X\",ASISTENCIA!#REF!<>\"L\",ASISTENCIA!#REF!<>\"J\",ASISTENCIA!#REF!<>\"F\"),SUMIF($F$13:$J$13,AY$13,$F37:$J37),\"\")","v":{"$error":"#REF!"}},{"$f":"IF(AND(LEN($D37)>0,SUMIF($F$13:$J$13,AZ$13,$F37:$J37)>0,ASISTENCIA!#REF!<>\"X\",ASISTENCIA!#REF!<>\"L\",ASISTENCIA!#REF!<>\"J\",ASISTENCIA!#REF!<>\"F\"),SUMIF($F$13:$J$13,AZ$13,$F37:$J37),\"\")","v":{"$error":"#REF!"}},{"$f":"IF(AND(LEN($D37)>0,SUMIF($F$13:$J$13,BA$13,$F37:$J37)>0,ASISTENCIA!#REF!<>\"X\",ASISTENCIA!#REF!<>\"L\",ASISTENCIA!#REF!<>\"J\",ASISTENCIA!#REF!<>\"F\"),SUMIF($F$13:$J$13,BA$13,$F37:$J37),\"\")","v":{"$error":"#REF!"}},{"$f":"IF(AND(LEN($D37)>0,SUMIF($F$13:$J$13,BB$13,$F37:$J37)>0,ASISTENCIA!#REF!<>\"X\",ASISTENCIA!#REF!<>\"L\",ASISTENCIA!#REF!<>\"J\",ASISTENCIA!#REF!<>\"F\"),SUMIF($F$13:$J$13,BB$13,$F37:$J37),\"\")","v":{"$error":"#REF!"}},{"$f":"IF(AND(LEN($D37)>0,SUMIF($F$13:$J$13,BC$13,$F37:$J37)>0,ASISTENCIA!#REF!<>\"X\",ASISTENCIA!#REF!<>\"L\",ASISTENCIA!#REF!<>\"J\",ASISTENCIA!#REF!<>\"F\"),SUMIF($F$13:$J$13,BC$13,$F37:$J37),\"\")","v":{"$error":"#REF!"}},{"$f":"IF(AND(LEN($D37)>0,SUMIF($F$13:$J$13,BD$13,$F37:$J37)>0,ASISTENCIA!#REF!<>\"X\",ASISTENCIA!#REF!<>\"L\",ASISTENCIA!#REF!<>\"J\",ASISTENCIA!#REF!<>\"F\"),SUMIF($F$13:$J$13,BD$13,$F37:$J37),\"\")","v":{"$error":"#REF!"}},{"$f":"IF(AND(LEN($D37)>0,SUMIF($F$13:$J$13,BE$13,$F37:$J37)>0,ASISTENCIA!#REF!<>\"X\",ASISTENCIA!#REF!<>\"L\",ASISTENCIA!#REF!<>\"J\",ASISTENCIA!#REF!<>\"F\"),SUMIF($F$13:$J$13,BE$13,$F37:$J37),\"\")","v":{"$error":"#REF!"}},{"$f":"IF(AND(LEN($D37)>0,SUMIF($F$13:$J$13,BF$13,$F37:$J37)>0,ASISTENCIA!#REF!<>\"X\",ASISTENCIA!#REF!<>\"L\",ASISTENCIA!#REF!<>\"J\",ASISTENCIA!#REF!<>\"F\"),SUMIF($F$13:$J$13,BF$13,$F37:$J37),\"\")","v":{"$error":"#REF!"}},{"$f":"IF(AND(LEN($D37)>0,SUMIF($F$13:$J$13,BG$13,$F37:$J37)>0,ASISTENCIA!#REF!<>\"X\",ASISTENCIA!#REF!<>\"L\",ASISTENCIA!#REF!<>\"J\",ASISTENCIA!#REF!<>\"F\"),SUMIF($F$13:$J$13,BG$13,$F37:$J37),\"\")","v":{"$error":"#REF!"}},{"$f":"IF(AND(LEN($D37)>0,SUMIF($F$13:$J$13,BH$13,$F37:$J37)>0,ASISTENCIA!#REF!<>\"X\",ASISTENCIA!#REF!<>\"L\",ASISTENCIA!#REF!<>\"J\",ASISTENCIA!#REF!<>\"F\"),SUMIF($F$13:$J$13,BH$13,$F37:$J37),\"\")","v":{"$error":"#REF!"}},{"$f":"IF(AND(LEN($D37)>0,SUMIF($F$13:$J$13,BI$13,$F37:$J37)>0,ASISTENCIA!#REF!<>\"X\",ASISTENCIA!#REF!<>\"L\",ASISTENCIA!#REF!<>\"J\",ASISTENCIA!#REF!<>\"F\"),SUMIF($F$13:$J$13,BI$13,$F37:$J37),\"\")","v":{"$error":"#REF!"}},{"$f":"IF(AND(LEN($D37)>0,SUMIF($F$13:$J$13,BJ$13,$F37:$J37)>0,ASISTENCIA!#REF!<>\"X\",ASISTENCIA!#REF!<>\"L\",ASISTENCIA!#REF!<>\"J\",ASISTENCIA!#REF!<>\"F\"),SUMIF($F$13:$J$13,BJ$13,$F37:$J37),\"\")","v":{"$error":"#REF!"}},{"$f":"IF(AND(LEN($D37)>0,SUMIF($F$13:$J$13,BK$13,$F37:$J37)>0,ASISTENCIA!#REF!<>\"X\",ASISTENCIA!#REF!<>\"L\",ASISTENCIA!#REF!<>\"J\",ASISTENCIA!#REF!<>\"F\"),SUMIF($F$13:$J$13,BK$13,$F37:$J37),\"\")","v":{"$error":"#REF!"}},{"$f":"IF(AND(LEN($D37)>0,SUMIF($F$13:$J$13,BL$13,$F37:$J37)>0,ASISTENCIA!#REF!<>\"X\",ASISTENCIA!#REF!<>\"L\",ASISTENCIA!#REF!<>\"J\",ASISTENCIA!#REF!<>\"F\"),SUMIF($F$13:$J$13,BL$13,$F37:$J37),\"\")","v":{"$error":"#REF!"}},{"$f":"IF(AND(LEN($D37)>0,SUMIF($F$13:$J$13,BM$13,$F37:$J37)>0,ASISTENCIA!#REF!<>\"X\",ASISTENCIA!#REF!<>\"L\",ASISTENCIA!#REF!<>\"J\",ASISTENCIA!#REF!<>\"F\"),SUMIF($F$13:$J$13,BM$13,$F37:$J37),\"\")","v":{"$error":"#REF!"}},{"$f":"IF(AND(LEN($D37)>0,SUMIF($F$13:$J$13,BN$13,$F37:$J37)>0,ASISTENCIA!#REF!<>\"X\",ASISTENCIA!#REF!<>\"L\",ASISTENCIA!#REF!<>\"J\",ASISTENCIA!#REF!<>\"F\"),SUMIF($F$13:$J$13,BN$13,$F37:$J37),\"\")","v":{"$error":"#REF!"}},{"$f":"IF(AND(LEN($D37)>0,SUMIF($F$13:$J$13,BO$13,$F37:$J37)>0,ASISTENCIA!#REF!<>\"X\",ASISTENCIA!#REF!<>\"L\",ASISTENCIA!#REF!<>\"J\",ASISTENCIA!#REF!<>\"F\"),SUMIF($F$13:$J$13,BO$13,$F37:$J37),\"\")","v":{"$error":"#REF!"}},{"$f":"IF(AND(LEN($D37)>0,SUMIF($F$13:$J$13,BP$13,$F37:$J37)>0,ASISTENCIA!#REF!<>\"X\",ASISTENCIA!#REF!<>\"L\",ASISTENCIA!#REF!<>\"J\",ASISTENCIA!#REF!<>\"F\"),SUMIF($F$13:$J$13,BP$13,$F37:$J37),\"\")","v":{"$error":"#REF!"}},{"$f":"IF(AND(LEN($D37)>0,SUMIF($F$13:$J$13,BQ$13,$F37:$J37)>0,ASISTENCIA!#REF!<>\"X\",ASISTENCIA!#REF!<>\"L\",ASISTENCIA!#REF!<>\"J\",ASISTENCIA!#REF!<>\"F\"),SUMIF($F$13:$J$13,BQ$13,$F37:$J37),\"\")","v":{"$error":"#REF!"}},{"$f":"IF(AND(LEN($D37)>0,SUMIF($F$13:$J$13,BR$13,$F37:$J37)>0,ASISTENCIA!#REF!<>\"X\",ASISTENCIA!#REF!<>\"L\",ASISTENCIA!#REF!<>\"J\",ASISTENCIA!#REF!<>\"F\"),SUMIF($F$13:$J$13,BR$13,$F37:$J37),\"\")","v":{"$error":"#REF!"}},{"$f":"IF(AND(LEN($D37)>0,SUMIF($F$13:$J$13,BS$13,$F37:$J37)>0,ASISTENCIA!#REF!<>\"X\",ASISTENCIA!#REF!<>\"L\",ASISTENCIA!#REF!<>\"J\",ASISTENCIA!#REF!<>\"F\"),SUMIF($F$13:$J$13,BS$13,$F37:$J37),\"\")","v":{"$error":"#REF!"}},{"$f":"IF(AND(LEN($D37)>0,SUMIF($F$13:$J$13,BT$13,$F37:$J37)>0,ASISTENCIA!#REF!<>\"X\",ASISTENCIA!#REF!<>\"L\",ASISTENCIA!#REF!<>\"J\",ASISTENCIA!#REF!<>\"F\"),SUMIF($F$13:$J$13,BT$13,$F37:$J37),\"\")","v":{"$error":"#REF!"}},{"$f":"IF(AND(LEN($D37)>0,SUMIF($F$13:$J$13,BU$13,$F37:$J37)>0,ASISTENCIA!#REF!<>\"X\",ASISTENCIA!#REF!<>\"L\",ASISTENCIA!#REF!<>\"J\",ASISTENCIA!#REF!<>\"F\"),SUMIF($F$13:$J$13,BU$13,$F37:$J37),\"\")","v":{"$error":"#REF!"}},{"$f":"IF(AND(LEN($D37)>0,SUMIF($F$13:$J$13,BV$13,$F37:$J37)>0,ASISTENCIA!#REF!<>\"X\",ASISTENCIA!#REF!<>\"L\",ASISTENCIA!#REF!<>\"J\",ASISTENCIA!#REF!<>\"F\"),SUMIF($F$13:$J$13,BV$13,$F37:$J37),\"\")","v":{"$error":"#REF!"}},{"$f":"IF(AND(LEN($D37)>0,SUMIF($F$13:$J$13,BW$13,$F37:$J37)>0,ASISTENCIA!#REF!<>\"X\",ASISTENCIA!#REF!<>\"L\",ASISTENCIA!#REF!<>\"J\",ASISTENCIA!#REF!<>\"F\"),SUMIF($F$13:$J$13,BW$13,$F37:$J37),\"\")","v":{"$error":"#REF!"}},{"$f":"IF(AND(LEN($D37)>0,SUMIF($F$13:$J$13,BX$13,$F37:$J37)>0,ASISTENCIA!#REF!<>\"X\",ASISTENCIA!#REF!<>\"L\",ASISTENCIA!#REF!<>\"J\",ASISTENCIA!#REF!<>\"F\"),SUMIF($F$13:$J$13,BX$13,$F37:$J37),\"\")","v":{"$error":"#REF!"}},{"$f":"IF(AND(LEN($D37)>0,SUMIF($F$13:$J$13,BY$13,$F37:$J37)>0,ASISTENCIA!#REF!<>\"X\",ASISTENCIA!#REF!<>\"L\",ASISTENCIA!#REF!<>\"J\",ASISTENCIA!#REF!<>\"F\"),SUMIF($F$13:$J$13,BY$13,$F37:$J37),\"\")","v":{"$error":"#REF!"}},{"$f":"IF(AND(LEN($D37)>0,SUMIF($F$13:$J$13,BZ$13,$F37:$J37)>0,ASISTENCIA!#REF!<>\"X\",ASISTENCIA!#REF!<>\"L\",ASISTENCIA!#REF!<>\"J\",ASISTENCIA!#REF!<>\"F\"),SUMIF($F$13:$J$13,BZ$13,$F37:$J37),\"\")","v":{"$error":"#REF!"}},{"$f":"IF(AND(LEN($D37)>0,SUMIF($F$13:$J$13,CA$13,$F37:$J37)>0,ASISTENCIA!#REF!<>\"X\",ASISTENCIA!#REF!<>\"L\",ASISTENCIA!#REF!<>\"J\",ASISTENCIA!#REF!<>\"F\"),SUMIF($F$13:$J$13,CA$13,$F37:$J37),\"\")","v":{"$error":"#REF!"}},{"$f":"IF(AND(LEN($D37)>0,SUMIF($F$13:$J$13,CB$13,$F37:$J37)>0,ASISTENCIA!#REF!<>\"X\",ASISTENCIA!#REF!<>\"L\",ASISTENCIA!#REF!<>\"J\",ASISTENCIA!#REF!<>\"F\"),SUMIF($F$13:$J$13,CB$13,$F37:$J37),\"\")","v":{"$error":"#REF!"}},{"$error":"#REF!"}]
[{"$error":"#REF!"},{"$f":"IF(LEN(C38)>0,VLOOKUP($O$4,DATA!$A$1:$S$1,2,FALSE),\"\")","v":{"$error":"#REF!"}},{"$error":"#REF!"},{"$f":"IF(LEN(ASISTENCIA!#REF!)>0,ASISTENCIA!#REF!,\"\")","v":{"$error":"#REF!"}},{"$f":"IF(LEN(D38)>0,ASISTENCIA!#REF!,\"\")","v":{"$error":"#REF!"}},null,null,null,null,null,"",null,null,{"$error":"#REF!"},{"$f":"IF(AND(LEN($D38)>0,SUMIF($F$13:$J$13,O$13,$F38:$J38)>0,ASISTENCIA!#REF!<>\"X\",ASISTENCIA!#REF!<>\"L\",ASISTENCIA!#REF!<>\"J\",ASISTENCIA!#REF!<>\"V\",ASISTENCIA!#REF!<>\"F\",ASISTENCIA!#REF!<>\"\"),SUMIF($F$13:$J$13,O$13,$F38:$J38),\"\")","v":{"$error":"#REF!"}},{"$f":"IF(AND(LEN($D38)>0,SUMIF($F$13:$J$13,P$13,$F38:$J38)>0,ASISTENCIA!#REF!<>\"X\",ASISTENCIA!#REF!<>\"L\",ASISTENCIA!#REF!<>\"J\",ASISTENCIA!#REF!<>\"V\",ASISTENCIA!#REF!<>\"F\",ASISTENCIA!#REF!<>\"\"),SUMIF($F$13:$J$13,P$13,$F38:$J38),\"\")","v":{"$error":"#REF!"}},{"$f":"IF(AND(LEN($D38)>0,SUMIF($F$13:$J$13,Q$13,$F38:$J38)>0,ASISTENCIA!#REF!<>\"X\",ASISTENCIA!#REF!<>\"L\",ASISTENCIA!#REF!<>\"J\",ASISTENCIA!#REF!<>\"V\",ASISTENCIA!#REF!<>\"F\",ASISTENCIA!#REF!<>\"\"),SUMIF($F$13:$J$13,Q$13,$F38:$J38),\"\")","v":{"$error":"#REF!"}},{"$f":"IF(AND(LEN($D38)>0,SUMIF($F$13:$J$13,R$13,$F38:$J38)>0,ASISTENCIA!#REF!<>\"X\",ASISTENCIA!#REF!<>\"L\",ASISTENCIA!#REF!<>\"J\",ASISTENCIA!#REF!<>\"V\",ASISTENCIA!#REF!<>\"F\",ASISTENCIA!#REF!<>\"\"),SUMIF($F$13:$J$13,R$13,$F38:$J38),\"\")","v":{"$error":"#REF!"}},{"$f":"IF(AND(LEN($D38)>0,SUMIF($F$13:$J$13,S$13,$F38:$J38)>0,ASISTENCIA!#REF!<>\"X\",ASISTENCIA!#REF!<>\"L\",ASISTENCIA!#REF!<>\"J\",ASISTENCIA!#REF!<>\"V\",ASISTENCIA!#REF!<>\"F\",ASISTENCIA!#REF!<>\"\"),SUMIF($F$13:$J$13,S$13,$F38:$J38),\"\")","v":{"$error":"#REF!"}},{"$f":"IF(AND(LEN($D38)>0,SUMIF($F$13:$J$13,T$13,$F38:$J38)>0,ASISTENCIA!#REF!<>\"X\",ASISTENCIA!#REF!<>\"L\",ASISTENCIA!#REF!<>\"J\",ASISTENCIA!#REF!<>\"V\",ASISTENCIA!#REF!<>\"F\",ASISTENCIA!#REF!<>\"\"),SUMIF($F$13:$J$13,T$13,$F38:$J38),\"\")","v":{"$error":"#REF!"}},{"$f":"IF(AND(LEN($D38)>0,SUMIF($F$13:$J$13,U$13,$F38:$J38)>0,ASISTENCIA!#REF!<>\"X\",ASISTENCIA!#REF!<>\"L\",ASISTENCIA!#REF!<>\"J\",ASISTENCIA!#REF!<>\"V\",ASISTENCIA!#REF!<>\"F\",ASISTENCIA!#REF!<>\"\"),SUMIF($F$13:$J$13,U$13,$F38:$J38),\"\")","v":{"$error":"#REF!"}},{"$f":"IF(AND(LEN($D38)>0,SUMIF($F$13:$J$13,V$13,$F38:$J38)>0,ASISTENCIA!#REF!<>\"X\",ASISTENCIA!#REF!<>\"L\",ASISTENCIA!#REF!<>\"J\",ASISTENCIA!#REF!<>\"V\",ASISTENCIA!#REF!<>\"F\",ASISTENCIA!#REF!<>\"\"),SUMIF($F$13:$J$13,V$13,$F38:$J38),\"\")","v":{"$error":"#REF!"}},{"$f":"IF(AND(LEN($D38)>0,SUMIF($F$13:$J$13,W$13,$F38:$J38)>0,ASISTENCIA!#REF!<>\"X\",ASISTENCIA!#REF!<>\"L\",ASISTENCIA!#REF!<>\"J\",ASISTENCIA!#REF!<>\"V\",ASISTENCIA!#REF!<>\"F\",ASISTENCIA!#REF!<>\"\"),SUMIF($F$13:$J$13,W$13,$F38:$J38),\"\")","v":{"$error":"#REF!"}},{"$f":"IF(AND(LEN($D38)>0,SUMIF($F$13:$J$13,X$13,$F38:$J38)>0,ASISTENCIA!#REF!<>\"X\",ASISTENCIA!#REF!<>\"L\",ASISTENCIA!#REF!<>\"J\",ASISTENCIA!#REF!<>\"V\",ASISTENCIA!#REF!<>\"F\",ASISTENCIA!#REF!<>\"\"),SUMIF($F$13:$J$13,X$13,$F38:$J38),\"\")","v":{"$error":"#REF!"}},{"$f":"IF(AND(LEN($D38)>0,SUMIF($F$13:$J$13,Y$13,$F38:$J38)>0,ASISTENCIA!#REF!<>\"X\",ASISTENCIA!#REF!<>\"L\",ASISTENCIA!#REF!<>\"J\",ASISTENCIA!#REF!<>\"V\",ASISTENCIA!#REF!<>\"F\",ASISTENCIA!#REF!<>\"\"),SUMIF($F$13:$J$13,Y$13,$F38:$J38),\"\")","v":{"$error":"#REF!"}},{"$f":"IF(AND(LEN($D38)>0,SUMIF($F$13:$J$13,Z$13,$F38:$J38)>0,ASISTENCIA!#REF!<>\"X\",ASISTENCIA!#REF!<>\"L\",ASISTENCIA!#REF!<>\"J\",ASISTENCIA!#REF!<>\"V\",ASISTENCIA!#REF!<>\"F\",ASISTENCIA!#REF!<>\"\"),SUMIF($F$13:$J$13,Z$13,$F38:$J38),\"\")","v":{"$error":"#REF!"}},{"$f":"IF(AND(LEN($D38)>0,SUMIF($F$13:$J$13,AA$13,$F38:$J38)>0,ASISTENCIA!#REF!<>\"X\",ASISTENCIA!#REF!<>\"L\",ASISTENCIA!#REF!<>\"J\",ASISTENCIA!#REF!<>\"V\",ASISTENCIA!#REF!<>\"F\",ASISTENCIA!#REF!<>\"\"),SUMIF($F$13:$J$13,AA$13,$F38:$J38),\"\")","v":{"$error":"#REF!"}},{"$f":"IF(AND(LEN($D38)>0,SUMIF($F$13:$J$13,AB$13,$F38:$J38)>0,ASISTENCIA!#REF!<>\"X\",ASISTENCIA!#REF!<>\"L\",ASISTENCIA!#REF!<>\"J\",ASISTENCIA!#REF!<>\"V\",ASISTENCIA!#REF!<>\"F\",ASISTENCIA!#REF!<>\"\"),SUMIF($F$13:$J$13,AB$13,$F38:$J38),\"\")","v":{"$error":"#REF!"}},{"$f":"IF(AND(LEN($D38)>0,SUMIF($F$13:$J$13,AC$13,$F38:$J38)>0,ASISTENCIA!#REF!<>\"X\",ASISTENCIA!#REF!<>\"L\",ASISTENCIA!#REF!<>\"J\",ASISTENCIA!#REF!<>\"V\",ASISTENCIA!#REF!<>\"F\",ASISTENCIA!#REF!<>\"\"),SUMIF($F$13:$J$13,AC$13,$F38:$J38),\"\")","v":{"$error":"#REF!"}},{"$f":"IF(AND(LEN($D38)>0,SUMIF($F$13:$J$13,AD$13,$F38:$J38)>0,ASISTENCIA!#REF!<>\"X\",ASISTENCIA!#REF!<>\"L\",ASISTENCIA!#REF!<>\"J\",ASISTENCIA!#REF!<>\"V\",ASISTENCIA!#REF!<>\"F\",ASISTENCIA!#REF!<>\"\"),SUMIF($F$13:$J$13,AD$13,$F38:$J38),\"\")","v":{"$error":"#REF!"}},{"$f":"IF(AND(LEN($D38)>0,SUMIF($F$13:$J$13,AE$13,$F38:$J38)>0,ASISTENCIA!#REF!<>\"X\",ASISTENCIA!#REF!<>\"L\",ASISTENCIA!#REF!<>\"J\",ASISTENCIA!#REF!<>\"V\",ASISTENCIA!#REF!<>\"F\",ASISTENCIA!#REF!<>\"\"),SUMIF($F$13:$J$13,AE$13,$F38:$J38),\"\")","v":{"$error":"#REF!"}},{"$f":"IF(AND(LEN($D38)>0,SUMIF($F$13:$J$13,AF$13,$F38:$J38)>0,ASISTENCIA!#REF!<>\"X\",ASISTENCIA!#REF!<>\"L\",ASISTENCIA!#REF!<>\"J\",ASISTENCIA!#REF!<>\"V\",ASISTENCIA!#REF!<>\"F\",ASISTENCIA!#REF!<>\"\"),SUMIF($F$13:$J$13,AF$13,$F38:$J38),\"\")","v":{"$error":"#REF!"}},{"$f":"IF(AND(LEN($D38)>0,SUMIF($F$13:$J$13,AG$13,$F38:$J38)>0,ASISTENCIA!#REF!<>\"X\",ASISTENCIA!#REF!<>\"L\",ASISTENCIA!#REF!<>\"J\",ASISTENCIA!#REF!<>\"V\",ASISTENCIA!#REF!<>\"F\",ASISTENCIA!#REF!<>\"\"),SUMIF($F$13:$J$13,AG$13,$F38:$J38),\"\")","v":{"$error":"#REF!"}},{"$f":"IF(AND(LEN($D38)>0,SUMIF($F$13:$J$13,AH$13,$F38:$J38)>0,ASISTENCIA!#REF!<>\"X\",ASISTENCIA!#REF!<>\"L\",ASISTENCIA!#REF!<>\"J\",ASISTENCIA!#REF!<>\"V\",ASISTENCIA!#REF!<>\"F\",ASISTENCIA!#REF!<>\"\"),SUMIF($F$13:$J$13,AH$13,$F38:$J38),\"\")","v":{"$error":"#REF!"}},{"$f":"IF(AND(LEN($D38)>0,SUMIF($F$13:$J$13,AI$13,$F38:$J38)>0,ASISTENCIA!#REF!<>\"X\",ASISTENCIA!#REF!<>\"L\",ASISTENCIA!#REF!<>\"J\",ASISTENCIA!#REF!<>\"V\",ASISTENCIA!#REF!<>\"F\",ASISTENCIA!#REF!<>\"\"),SUMIF($F$13:$J$13,AI$13,$F38:$J38),\"\")","v":{"$error":"#REF!"}},{"$f":"IF(AND(LEN($D38)>0,SUMIF($F$13:$J$13,AJ$13,$F38:$J38)>0,ASISTENCIA!#REF!<>\"X\",ASISTENCIA!#REF!<>\"L\",ASISTENCIA!#REF!<>\"J\",ASISTENCIA!#REF!<>\"V\",ASISTENCIA!#REF!<>\"F\",ASISTENCIA!#REF!<>\"\"),SUMIF($F$13:$J$13,AJ$13,$F38:$J38),\"\")","v":{"$error":"#REF!"}},{"$f":"IF(AND(LEN($D38)>0,SUMIF($F$13:$J$13,AK$13,$F38:$J38)>0,ASISTENCIA!#REF!<>\"X\",ASISTENCIA!#REF!<>\"L\",ASISTENCIA!#REF!<>\"J\",ASISTENCIA!#REF!<>\"V\",ASISTENCIA!#REF!<>\"F\",ASISTENCIA!#REF!<>\"\"),SUMIF($F$13:$J$13,AK$13,$F38:$J38),\"\")","v":{"$error":"#REF!"}},{"$f":"IF(AND(LEN($D38)>0,SUMIF($F$13:$J$13,AL$13,$F38:$J38)>0,ASISTENCIA!#REF!<>\"X\",ASISTENCIA!#REF!<>\"L\",ASISTENCIA!#REF!<>\"J\",ASISTENCIA!#REF!<>\"V\",ASISTENCIA!#REF!<>\"F\",ASISTENCIA!#REF!<>\"\"),SUMIF($F$13:$J$13,AL$13,$F38:$J38),\"\")","v":{"$error":"#REF!"}},{"$f":"IF(AND(LEN($D38)>0,SUMIF($F$13:$J$13,AM$13,$F38:$J38)>0,ASISTENCIA!#REF!<>\"X\",ASISTENCIA!#REF!<>\"L\",ASISTENCIA!#REF!<>\"J\",ASISTENCIA!#REF!<>\"V\",ASISTENCIA!#REF!<>\"F\",ASISTENCIA!#REF!<>\"\"),SUMIF($F$13:$J$13,AM$13,$F38:$J38),\"\")","v":{"$error":"#REF!"}},{"$f":"IF(AND(LEN($D38)>0,SUMIF($F$13:$J$13,AN$13,$F38:$J38)>0,ASISTENCIA!#REF!<>\"X\",ASISTENCIA!#REF!<>\"L\",ASISTENCIA!#REF!<>\"J\",ASISTENCIA!#REF!<>\"V\",ASISTENCIA!#REF!<>\"F\",ASISTENCIA!#REF!<>\"\"),SUMIF($F$13:$J$13,AN$13,$F38:$J38),\"\")","v":{"$error":"#REF!"}},{"$f":"IF(AND(LEN($D38)>0,SUMIF($F$13:$J$13,AO$13,$F38:$J38)>0,ASISTENCIA!#REF!<>\"X\",ASISTENCIA!#REF!<>\"L\",ASISTENCIA!#REF!<>\"J\",ASISTENCIA!#REF!<>\"V\",ASISTENCIA!#REF!<>\"F\",ASISTENCIA!#REF!<>\"\"),SUMIF($F$13:$J$13,AO$13,$F38:$J38),\"\")","v":{"$error":"#REF!"}},{"$f":"IF(AND(LEN($D38)>0,SUMIF($F$13:$J$13,AP$13,$F38:$J38)>0,ASISTENCIA!#REF!<>\"X\",ASISTENCIA!#REF!<>\"L\",ASISTENCIA!#REF!<>\"J\",ASISTENCIA!#REF!<>\"V\",ASISTENCIA!#REF!<>\"F\",ASISTENCIA!#REF!<>\"\"),SUMIF($F$13:$J$13,AP$13,$F38:$J38),\"\")","v":{"$error":"#REF!"}},{"$f":"IF(AND(LEN($D38)>0,SUMIF($F$13:$J$13,AQ$13,$F38:$J38)>0,ASISTENCIA!#REF!<>\"X\",ASISTENCIA!#REF!<>\"L\",ASISTENCIA!#REF!<>\"J\",ASISTENCIA!#REF!<>\"V\",ASISTENCIA!#REF!<>\"F\",ASISTENCIA!#REF!<>\"\"),SUMIF($F$13:$J$13,AQ$13,$F38:$J38),\"\")","v":{"$error":"#REF!"}},{"$f":"IF(AND(LEN($D38)>0,SUMIF($F$13:$J$13,AR$13,$F38:$J38)>0,ASISTENCIA!#REF!<>\"X\",ASISTENCIA!#REF!<>\"L\",ASISTENCIA!#REF!<>\"J\",ASISTENCIA!#REF!<>\"V\",ASISTENCIA!#REF!<>\"F\",ASISTENCIA!#REF!<>\"\"),SUMIF($F$13:$J$13,AR$13,$F38:$J38),\"\")","v":{"$error":"#REF!"}},{"$f":"IF(AND(LEN($D38)>0,SUMIF($F$13:$J$13,AS$13,$F38:$J38)>0,ASISTENCIA!#REF!<>\"X\",ASISTENCIA!#REF!<>\"L\",ASISTENCIA!#REF!<>\"J\",ASISTENCIA!#REF!<>\"V\",ASISTENCIA!#REF!<>\"F\",ASISTENCIA!#REF!<>\"\"),SUMIF($F$13:$J$13,AS$13,$F38:$J38),\"\")","v":{"$error":"#REF!"}},{"$error":"#REF!"},null,null,null,{"$f":"IF(AND(LEN($D38)>0,SUMIF($F$13:$J$13,AX$13,$F38:$J38)>0,ASISTENCIA!#REF!<>\"X\",ASISTENCIA!#REF!<>\"L\",ASISTENCIA!#REF!<>\"J\",ASISTENCIA!#REF!<>\"F\"),SUMIF($F$13:$J$13,AX$13,$F38:$J38),\"\")","v":{"$error":"#REF!"}},{"$f":"IF(AND(LEN($D38)>0,SUMIF($F$13:$J$13,AY$13,$F38:$J38)>0,ASISTENCIA!#REF!<>\"X\",ASISTENCIA!#REF!<>\"L\",ASISTENCIA!#REF!<>\"J\",ASISTENCIA!#REF!<>\"F\"),SUMIF($F$13:$J$13,AY$13,$F38:$J38),\"\")","v":{"$error":"#REF!"}},{"$f":"IF(AND(LEN($D38)>0,SUMIF($F$13:$J$13,AZ$13,$F38:$J38)>0,ASISTENCIA!#REF!<>\"X\",ASISTENCIA!#REF!<>\"L\",ASISTENCIA!#REF!<>\"J\",ASISTENCIA!#REF!<>\"F\"),SUMIF($F$13:$J$13,AZ$13,$F38:$J38),\"\")","v":{"$error":"#REF!"}},{"$f":"IF(AND(LEN($D38)>0,SUMIF($F$13:$J$13,BA$13,$F38:$J38)>0,ASISTENCIA!#REF!<>\"X\",ASISTENCIA!#REF!<>\"L\",ASISTENCIA!#REF!<>\"J\",ASISTENCIA!#REF!<>\"F\"),SUMIF($F$13:$J$13,BA$13,$F38:$J38),\"\")","v":{"$error":"#REF!"}},{"$f":"IF(AND(LEN($D38)>0,SUMIF($F$13:$J$13,BB$13,$F38:$J38)>0,ASISTENCIA!#REF!<>\"X\",ASISTENCIA!#REF!<>\"L\",ASISTENCIA!#REF!<>\"J\",ASISTENCIA!#REF!<>\"F\"),SUMIF($F$13:$J$13,BB$13,$F38:$J38),\"\")","v":{"$error":"#REF!"}},{"$f":"IF(AND(LEN($D38)>0,SUMIF($F$13:$J$13,BC$13,$F38:$J38)>0,ASISTENCIA!#REF!<>\"X\",ASISTENCIA!#REF!<>\"L\",ASISTENCIA!#REF!<>\"J\",ASISTENCIA!#REF!<>\"F\"),SUMIF($F$13:$J$13,BC$13,$F38:$J38),\"\")","v":{"$error":"#REF!"}},{"$f":"IF(AND(LEN($D38)>0,SUMIF($F$13:$J$13,BD$13,$F38:$J38)>0,ASISTENCIA!#REF!<>\"X\",ASISTENCIA!#REF!<>\"L\",ASISTENCIA!#REF!<>\"J\",ASISTENCIA!#REF!<>\"F\"),SUMIF($F$13:$J$13,BD$13,$F38:$J38),\"\")","v":{"$error":"#REF!"}},{"$f":"IF(AND(LEN($D38)>0,SUMIF($F$13:$J$13,BE$13,$F38:$J38)>0,ASISTENCIA!#REF!<>\"X\",ASISTENCIA!#REF!<>\"L\",ASISTENCIA!#REF!<>\"J\",ASISTENCIA!#REF!<>\"F\"),SUMIF($F$13:$J$13,BE$13,$F38:$J38),\"\")","v":{"$error":"#REF!"}},{"$f":"IF(AND(LEN($D38)>0,SUMIF($F$13:$J$13,BF$13,$F38:$J38)>0,ASISTENCIA!#REF!<>\"X\",ASISTENCIA!#REF!<>\"L\",ASISTENCIA!#REF!<>\"J\",ASISTENCIA!#REF!<>\"F\"),SUMIF($F$13:$J$13,BF$13,$F38:$J38),\"\")","v":{"$error":"#REF!"}},{"$f":"IF(AND(LEN($D38)>0,SUMIF($F$13:$J$13,BG$13,$F38:$J38)>0,ASISTENCIA!#REF!<>\"X\",ASISTENCIA!#REF!<>\"L\",ASISTENCIA!#REF!<>\"J\",ASISTENCIA!#REF!<>\"F\"),SUMIF($F$13:$J$13,BG$13,$F38:$J38),\"\")","v":{"$error":"#REF!"}},{"$f":"IF(AND(LEN($D38)>0,SUMIF($F$13:$J$13,BH$13,$F38:$J38)>0,ASISTENCIA!#REF!<>\"X\",ASISTENCIA!#REF!<>\"L\",ASISTENCIA!#REF!<>\"J\",ASISTENCIA!#REF!<>\"F\"),SUMIF($F$13:$J$13,BH$13,$F38:$J38),\"\")","v":{"$error":"#REF!"}},{"$f":"IF(AND(LEN($D38)>0,SUMIF($F$13:$J$13,BI$13,$F38:$J38)>0,ASISTENCIA!#REF!<>\"X\",ASISTENCIA!#REF!<>\"L\",ASISTENCIA!#REF!<>\"J\",ASISTENCIA!#REF!<>\"F\"),SUMIF($F$13:$J$13,BI$13,$F38:$J38),\"\")","v":{"$error":"#REF!"}},{"$f":"IF(AND(LEN($D38)>0,SUMIF($F$13:$J$13,BJ$13,$F38:$J38)>0,ASISTENCIA!#REF!<>\"X\",ASISTENCIA!#REF!<>\"L\",ASISTENCIA!#REF!<>\"J\",ASISTENCIA!#REF!<>\"F\"),SUMIF($F$13:$J$13,BJ$13,$F38:$J38),\"\")","v":{"$error":"#REF!"}},{"$f":"IF(AND(LEN($D38)>0,SUMIF($F$13:$J$13,BK$13,$F38:$J38)>0,ASISTENCIA!#REF!<>\"X\",ASISTENCIA!#REF!<>\"L\",ASISTENCIA!#REF!<>\"J\",ASISTENCIA!#REF!<>\"F\"),SUMIF($F$13:$J$13,BK$13,$F38:$J38),\"\")","v":{"$error":"#REF!"}},{"$f":"IF(AND(LEN($D38)>0,SUMIF($F$13:$J$13,BL$13,$F38:$J38)>0,ASISTENCIA!#REF!<>\"X\",ASISTENCIA!#REF!<>\"L\",ASISTENCIA!#REF!<>\"J\",ASISTENCIA!#REF!<>\"F\"),SUMIF($F$13:$J$13,BL$13,$F38:$J38),\"\")","v":{"$error":"#REF!"}},{"$f":"IF(AND(LEN($D38)>0,SUMIF($F$13:$J$13,BM$13,$F38:$J38)>0,ASISTENCIA!#REF!<>\"X\",ASISTENCIA!#REF!<>\"L\",ASISTENCIA!#REF!<>\"J\",ASISTENCIA!#REF!<>\"F\"),SUMIF($F$13:$J$13,BM$13,$F38:$J38),\"\")","v":{"$error":"#REF!"}},{"$f":"IF(AND(LEN($D38)>0,SUMIF($F$13:$J$13,BN$13,$F38:$J38)>0,ASISTENCIA!#REF!<>\"X\",ASISTENCIA!#REF!<>\"L\",ASISTENCIA!#REF!<>\"J\",ASISTENCIA!#REF!<>\"F\"),SUMIF($F$13:$J$13,BN$13,$F38:$J38),\"\")","v":{"$error":"#REF!"}},{"$f":"IF(AND(LEN($D38)>0,SUMIF($F$13:$J$13,BO$13,$F38:$J38)>0,ASISTENCIA!#REF!<>\"X\",ASISTENCIA!#REF!<>\"L\",ASISTENCIA!#REF!<>\"J\",ASISTENCIA!#REF!<>\"F\"),SUMIF($F$13:$J$13,BO$13,$F38:$J38),\"\")","v":{"$error":"#REF!"}},{"$f":"IF(AND(LEN($D38)>0,SUMIF($F$13:$J$13,BP$13,$F38:$J38)>0,ASISTENCIA!#REF!<>\"X\",ASISTENCIA!#REF!<>\"L\",ASISTENCIA!#REF!<>\"J\",ASISTENCIA!#REF!<>\"F\"),SUMIF($F$13:$J$13,BP$13,$F38:$J38),\"\")","v":{"$error":"#REF!"}},{"$f":"IF(AND(LEN($D38)>0,SUMIF($F$13:$J$13,BQ$13,$F38:$J38)>0,ASISTENCIA!#REF!<>\"X\",ASISTENCIA!#REF!<>\"L\",ASISTENCIA!#REF!<>\"J\",ASISTENCIA!#REF!<>\"F\"),SUMIF($F$13:$J$13,BQ$13,$F38:$J38),\"\")","v":{"$error":"#REF!"}},{"$f":"IF(AND(LEN($D38)>0,SUMIF($F$13:$J$13,BR$13,$F38:$J38)>0,ASISTENCIA!#REF!<>\"X\",ASISTENCIA!#REF!<>\"L\",ASISTENCIA!#REF!<>\"J\",ASISTENCIA!#REF!<>\"F\"),SUMIF($F$13:$J$13,BR$13,$F38:$J38),\"\")","v":{"$error":"#REF!"}},{"$f":"IF(AND(LEN($D38)>0,SUMIF($F$13:$J$13,BS$13,$F38:$J38)>0,ASISTENCIA!#REF!<>\"X\",ASISTENCIA!#REF!<>\"L\",ASISTENCIA!#REF!<>\"J\",ASISTENCIA!#REF!<>\"F\"),SUMIF($F$13:$J$13,BS$13,$F38:$J38),\"\")","v":{"$error":"#REF!"}},{"$f":"IF(AND(LEN($D38)>0,SUMIF($F$13:$J$13,BT$13,$F38:$J38)>0,ASISTENCIA!#REF!<>\"X\",ASISTENCIA!#REF!<>\"L\",ASISTENCIA!#REF!<>\"J\",ASISTENCIA!#REF!<>\"F\"),SUMIF($F$13:$J$13,BT$13,$F38:$J38),\"\")","v":{"$error":"#REF!"}},{"$f":"IF(AND(LEN($D38)>0,SUMIF($F$13:$J$13,BU$13,$F38:$J38)>0,ASISTENCIA!#REF!<>\"X\",ASISTENCIA!#REF!<>\"L\",ASISTENCIA!#REF!<>\"J\",ASISTENCIA!#REF!<>\"F\"),SUMIF($F$13:$J$13,BU$13,$F38:$J38),\"\")","v":{"$error":"#REF!"}},{"$f":"IF(AND(LEN($D38)>0,SUMIF($F$13:$J$13,BV$13,$F38:$J38)>0,ASISTENCIA!#REF!<>\"X\",ASISTENCIA!#REF!<>\"L\",ASISTENCIA!#REF!<>\"J\",ASISTENCIA!#REF!<>\"F\"),SUMIF($F$13:$J$13,BV$13,$F38:$J38),\"\")","v":{"$error":"#REF!"}},{"$f":"IF(AND(LEN($D38)>0,SUMIF($F$13:$J$13,BW$13,$F38:$J38)>0,ASISTENCIA!#REF!<>\"X\",ASISTENCIA!#REF!<>\"L\",ASISTENCIA!#REF!<>\"J\",ASISTENCIA!#REF!<>\"F\"),SUMIF($F$13:$J$13,BW$13,$F38:$J38),\"\")","v":{"$error":"#REF!"}},{"$f":"IF(AND(LEN($D38)>0,SUMIF($F$13:$J$13,BX$13,$F38:$J38)>0,ASISTENCIA!#REF!<>\"X\",ASISTENCIA!#REF!<>\"L\",ASISTENCIA!#REF!<>\"J\",ASISTENCIA!#REF!<>\"F\"),SUMIF($F$13:$J$13,BX$13,$F38:$J38),\"\")","v":{"$error":"#REF!"}},{"$f":"IF(AND(LEN($D38)>0,SUMIF($F$13:$J$13,BY$13,$F38:$J38)>0,ASISTENCIA!#REF!<>\"X\",ASISTENCIA!#REF!<>\"L\",ASISTENCIA!#REF!<>\"J\",ASISTENCIA!#REF!<>\"F\"),SUMIF($F$13:$J$13,BY$13,$F38:$J38),\"\")","v":{"$error":"#REF!"}},{"$f":"IF(AND(LEN($D38)>0,SUMIF($F$13:$J$13,BZ$13,$F38:$J38)>0,ASISTENCIA!#REF!<>\"X\",ASISTENCIA!#REF!<>\"L\",ASISTENCIA!#REF!<>\"J\",ASISTENCIA!#REF!<>\"F\"),SUMIF($F$13:$J$13,BZ$13,$F38:$J38),\"\")","v":{"$error":"#REF!"}},{"$f":"IF(AND(LEN($D38)>0,SUMIF($F$13:$J$13,CA$13,$F38:$J38)>0,ASISTENCIA!#REF!<>\"X\",ASISTENCIA!#REF!<>\"L\",ASISTENCIA!#REF!<>\"J\",ASISTENCIA!#REF!<>\"F\"),SUMIF($F$13:$J$13,CA$13,$F38:$J38),\"\")","v":{"$error":"#REF!"}},{"$f":"IF(AND(LEN($D38)>0,SUMIF($F$13:$J$13,CB$13,$F38:$J38)>0,ASISTENCIA!#REF!<>\"X\",ASISTENCIA!#REF!<>\"L\",ASISTENCIA!#REF!<>\"J\",ASISTENCIA!#REF!<>\"F\"),SUMIF($F$13:$J$13,CB$13,$F38:$J38),\"\")","v":{"$error":"#REF!"}},{"$error":"#REF!"}]
[{"$error":"#REF!"},{"$f":"IF(LEN(C39)>0,VLOOKUP($O$4,DATA!$A$1:$S$1,2,FALSE),\"\")","v":{"$error":"#REF!"}},{"$error":"#REF!"},{"$f":"IF(LEN(ASISTENCIA!#REF!)>0,ASISTENCIA!#REF!,\"\")","v":{"$error":"#REF!"}},{"$f":"IF(LEN(D39)>0,ASISTENCIA!#REF!,\"\")","v":{"$error":"#REF!"}},null,null,null,null,null,"",null,null,{"$error":"#REF!"},{"$f":"IF(AND(LEN($D39)>0,SUMIF($F$13:$J$13,O$13,$F39:$J39)>0,ASISTENCIA!#REF!<>\"X\",ASISTENCIA!#REF!<>\"L\",ASISTENCIA!#REF!<>\"J\",ASISTENCIA!#REF!<>\"V\",ASISTENCIA!#REF!<>\"F\",ASISTENCIA!#REF!<>\"\"),SUMIF($F$13:$J$13,O$13,$F39:$J39),\"\")","v":{"$error":"#REF!"}},{"$f":"IF(AND(LEN($D39)>0,SUMIF($F$13:$J$13,P$13,$F39:$J39)>0,ASISTENCIA!#REF!<>\"X\",ASISTENCIA!#REF!<>\"L\",ASISTENCIA!#REF!<>\"J\",ASISTENCIA!#REF!<>\"V\",ASISTENCIA!#REF!<>\"F\",ASISTENCIA!#REF!<>\"\"),SUMIF($F$13:$J$13,P$13,$F39:$J39),\"\")","v":{"$error":"#REF!"}},{"$f":"IF(AND(LEN($D39)>0,SUMIF($F$13:$J$13,Q$13,$F39:$J39)>0,ASISTENCIA!#REF!<>\"X\",ASISTENCIA!#REF!<>\"L\",ASISTENCIA!#REF!<>\"J\",ASISTENCIA!#REF!<>\"V\",ASISTENCIA!#REF!<>\"F\",ASISTENCIA!#REF!<>\"\"),SUMIF($F$13:$J$13,Q$13,$F39:$J39),\"\")","v":{"$error":"#REF!"}},{"$f":"IF(AND(LEN($D39)>0,SUMIF($F$13:$J$13,R$13,$F39:$J39)>0,ASISTENCIA!#REF!<>\"X\",ASISTENCIA!#REF!<>\"L\",ASISTENCIA!#REF!<>\"J\",ASISTENCIA!#REF!<>\"V\",ASISTENCIA!#REF!<>\"F\",ASISTENCIA!#REF!<>\"\"),SUMIF($F$13:$J$13,R$13,$F39:$J39),\"\")","v":{"$error":"#REF!"}},{"$f":"IF(AND(LEN($D39)>0,SUMIF($F$13:$J$13,S$13,$F39:$J39)>0,ASISTENCIA!#REF!<>\"X\",ASISTENCIA!#REF!<>\"L\",ASISTENCIA!#REF!<>\"J\",ASISTENCIA!#REF!<>\"V\",ASISTENCIA!#REF!<>\"F\",ASISTENCIA!#REF!<>\"\"),SUMIF($F$13:$J$13,S$13,$F39:$J39),\"\")","v":{"$error":"#REF!"}},{"$f":"IF(AND(LEN($D39)>0,SUMIF($F$13:$J$13,T$13,$F39:$J39)>0,ASISTENCIA!#REF!<>\"X\",ASISTENCIA!#REF!<>\"L\",ASISTENCIA!#REF!<>\"J\",ASISTENCIA!#REF!<>\"V\",ASISTENCIA!#REF!<>\"F\",ASISTENCIA!#REF!<>\"\"),SUMIF($F$13:$J$13,T$13,$F39:$J39),\"\")","v":{"$error":"#REF!"}},{"$f":"IF(AND(LEN($D39)>0,SUMIF($F$13:$J$13,U$13,$F39:$J39)>0,ASISTENCIA!#REF!<>\"X\",ASISTENCIA!#REF!<>\"L\",ASISTENCIA!#REF!<>\"J\",ASISTENCIA!#REF!<>\"V\",ASISTENCIA!#REF!<>\"F\",ASISTENCIA!#REF!<>\"\"),SUMIF($F$13:$J$13,U$13,$F39:$J39),\"\")","v":{"$error":"#REF!"}},{"$f":"IF(AND(LEN($D39)>0,SUMIF($F$13:$J$13,V$13,$F39:$J39)>0,ASISTENCIA!#REF!<>\"X\",ASISTENCIA!#REF!<>\"L\",ASISTENCIA!#REF!<>\"J\",ASISTENCIA!#REF!<>\"V\",ASISTENCIA!#REF!<>\"F\",ASISTENCIA!#REF!<>\"\"),SUMIF($F$13:$J$13,V$13,$F39:$J39),\"\")","v":{"$error":"#REF!"}},{"$f":"IF(AND(LEN($D39)>0,SUMIF($F$13:$J$13,W$13,$F39:$J39)>0,ASISTENCIA!#REF!<>\"X\",ASISTENCIA!#REF!<>\"L\",ASISTENCIA!#REF!<>\"J\",ASISTENCIA!#REF!<>\"V\",ASISTENCIA!#REF!<>\"F\",ASISTENCIA!#REF!<>\"\"),SUMIF($F$13:$J$13,W$13,$F39:$J39),\"\")","v":{"$error":"#REF!"}},{"$f":"IF(AND(LEN($D39)>0,SUMIF($F$13:$J$13,X$13,$F39:$J39)>0,ASISTENCIA!#REF!<>\"X\",ASISTENCIA!#REF!<>\"L\",ASISTENCIA!#REF!<>\"J\",ASISTENCIA!#REF!<>\"V\",ASISTENCIA!#REF!<>\"F\",ASISTENCIA!#REF!<>\"\"),SUMIF($F$13:$J$13,X$13,$F39:$J39),\"\")","v":{"$error":"#REF!"}},{"$f":"IF(AND(LEN($D39)>0,SUMIF($F$13:$J$13,Y$13,$F39:$J39)>0,ASISTENCIA!#REF!<>\"X\",ASISTENCIA!#REF!<>\"L\",ASISTENCIA!#REF!<>\"J\",ASISTENCIA!#REF!<>\"V\",ASISTENCIA!#REF!<>\"F\",ASISTENCIA!#REF!<>\"\"),SUMIF($F$13:$J$13,Y$13,$F39:$J39),\"\")","v":{"$error":"#REF!"}},{"$f":"IF(AND(LEN($D39)>0,SUMIF($F$13:$J$13,Z$13,$F39:$J39)>0,ASISTENCIA!#REF!<>\"X\",ASISTENCIA!#REF!<>\"L\",ASISTENCIA!#REF!<>\"J\",ASISTENCIA!#REF!<>\"V\",ASISTENCIA!#REF!<>\"F\",ASISTENCIA!#REF!<>\"\"),SUMIF($F$13:$J$13,Z$13,$F39:$J39),\"\")","v":{"$error":"#REF!"}},{"$f":"IF(AND(LEN($D39)>0,SUMIF($F$13:$J$13,AA$13,$F39:$J39)>0,ASISTENCIA!#REF!<>\"X\",ASISTENCIA!#REF!<>\"L\",ASISTENCIA!#REF!<>\"J\",ASISTENCIA!#REF!<>\"V\",ASISTENCIA!#REF!<>\"F\",ASISTENCIA!#REF!<>\"\"),SUMIF($F$13:$J$13,AA$13,$F39:$J39),\"\")","v":{"$error":"#REF!"}},{"$f":"IF(AND(LEN($D39)>0,SUMIF($F$13:$J$13,AB$13,$F39:$J39)>0,ASISTENCIA!#REF!<>\"X\",ASISTENCIA!#REF!<>\"L\",ASISTENCIA!#REF!<>\"J\",ASISTENCIA!#REF!<>\"V\",ASISTENCIA!#REF!<>\"F\",ASISTENCIA!#REF!<>\"\"),SUMIF($F$13:$J$13,AB$13,$F39:$J39),\"\")","v":{"$error":"#REF!"}},{"$f":"IF(AND(LEN($D39)>0,SUMIF($F$13:$J$13,AC$13,$F39:$J39)>0,ASISTENCIA!#REF!<>\"X\",ASISTENCIA!#REF!<>\"L\",ASISTENCIA!#REF!<>\"J\",ASISTENCIA!#REF!<>\"V\",ASISTENCIA!#REF!<>\"F\",ASISTENCIA!#REF!<>\"\"),SUMIF($F$13:$J$13,AC$13,$F39:$J39),\"\")","v":{"$error":"#REF!"}},{"$f":"IF(AND(LEN($D39)>0,SUMIF($F$13:$J$13,AD$13,$F39:$J39)>0,ASISTENCIA!#REF!<>\"X\",ASISTENCIA!#REF!<>\"L\",ASISTENCIA!#REF!<>\"J\",ASISTENCIA!#REF!<>\"V\",ASISTENCIA!#REF!<>\"F\",ASISTENCIA!#REF!<>\"\"),SUMIF($F$13:$J$13,AD$13,$F39:$J39),\"\")","v":{"$error":"#REF!"}},{"$f":"IF(AND(LEN($D39)>0,SUMIF($F$13:$J$13,AE$13,$F39:$J39)>0,ASISTENCIA!#REF!<>\"X\",ASISTENCIA!#REF!<>\"L\",ASISTENCIA!#REF!<>\"J\",ASISTENCIA!#REF!<>\"V\",ASISTENCIA!#REF!<>\"F\",ASISTENCIA!#REF!<>\"\"),SUMIF($F$13:$J$13,AE$13,$F39:$J39),\"\")","v":{"$error":"#REF!"}},{"$f":"IF(AND(LEN($D39)>0,SUMIF($F$13:$J$13,AF$13,$F39:$J39)>0,ASISTENCIA!#REF!<>\"X\",ASISTENCIA!#REF!<>\"L\",ASISTENCIA!#REF!<>\"J\",ASISTENCIA!#REF!<>\"V\",ASISTENCIA!#REF!<>\"F\",ASISTENCIA!#REF!<>\"\"),SUMIF($F$13:$J$13,AF$13,$F39:$J39),\"\")","v":{"$error":"#REF!"}},{"$f":"IF(AND(LEN($D39)>0,SUMIF($F$13:$J$13,AG$13,$F39:$J39)>0,ASISTENCIA!#REF!<>\"X\",ASISTENCIA!#REF!<>\"L\",ASISTENCIA!#REF!<>\"J\",ASISTENCIA!#REF!<>\"V\",ASISTENCIA!#REF!<>\"F\",ASISTENCIA!#REF!<>\"\"),SUMIF($F$13:$J$13,AG$13,$F39:$J39),\"\")","v":{"$error":"#REF!"}},{"$f":"IF(AND(LEN($D39)>0,SUMIF($F$13:$J$13,AH$13,$F39:$J39)>0,ASISTENCIA!#REF!<>\"X\",ASISTENCIA!#REF!<>\"L\",ASISTENCIA!#REF!<>\"J\",ASISTENCIA!#REF!<>\"V\",ASISTENCIA!#REF!<>\"F\",ASISTENCIA!#REF!<>\"\"),SUMIF($F$13:$J$13,AH$13,$F39:$J39),\"\")","v":{"$error":"#REF!"}},{"$f":"IF(AND(LEN($D39)>0,SUMIF($F$13:$J$13,AI$13,$F39:$J39)>0,ASISTENCIA!#REF!<>\"X\",ASISTENCIA!#REF!<>\"L\",ASISTENCIA!#REF!<>\"J\",ASISTENCIA!#REF!<>\"V\",ASISTENCIA!#REF!<>\"F\",ASISTENCIA!#REF!<>\"\"),SUMIF($F$13:$J$13,AI$13,$F39:$J39),\"\")","v":{"$error":"#REF!"}},{"$f":"IF(AND(LEN($D39)>0,SUMIF($F$13:$J$13,AJ$13,$F39:$J39)>0,ASISTENCIA!#REF!<>\"X\",ASISTENCIA!#REF!<>\"L\",ASISTENCIA!#REF!<>\"J\",ASISTENCIA!#REF!<>\"V\",ASISTENCIA!#REF!<>\"F\",ASISTENCIA!#REF!<>\"\"),SUMIF($F$13:$J$13,AJ$13,$F39:$J39),\"\")","v":{"$error":"#REF!"}},{"$f":"IF(AND(LEN($D39)>0,SUMIF($F$13:$J$13,AK$13,$F39:$J39)>0,ASISTENCIA!#REF!<>\"X\",ASISTENCIA!#REF!<>\"L\",ASISTENCIA!#REF!<>\"J\",ASISTENCIA!#REF!<>\"V\",ASISTENCIA!#REF!<>\"F\",ASISTENCIA!#REF!<>\"\"),SUMIF($F$13:$J$13,AK$13,$F39:$J39),\"\")","v":{"$error":"#REF!"}},{"$f":"IF(AND(LEN($D39)>0,SUMIF($F$13:$J$13,AL$13,$F39:$J39)>0,ASISTENCIA!#REF!<>\"X\",ASISTENCIA!#REF!<>\"L\",ASISTENCIA!#REF!<>\"J\",ASISTENCIA!#REF!<>\"V\",ASISTENCIA!#REF!<>\"F\",ASISTENCIA!#REF!<>\"\"),SUMIF($F$13:$J$13,AL$13,$F39:$J39),\"\")","v":{"$error":"#REF!"}},{"$f":"IF(AND(LEN($D39)>0,SUMIF($F$13:$J$13,AM$13,$F39:$J39)>0,ASISTENCIA!#REF!<>\"X\",ASISTENCIA!#REF!<>\"L\",ASISTENCIA!#REF!<>\"J\",ASISTENCIA!#REF!<>\"V\",ASISTENCIA!#REF!<>\"F\",ASISTENCIA!#REF!<>\"\"),SUMIF($F$13:$J$13,AM$13,$F39:$J39),\"\")","v":{"$error":"#REF!"}},{"$f":"IF(AND(LEN($D39)>0,SUMIF($F$13:$J$13,AN$13,$F39:$J39)>0,ASISTENCIA!#REF!<>\"X\",ASISTENCIA!#REF!<>\"L\",ASISTENCIA!#REF!<>\"J\",ASISTENCIA!#REF!<>\"V\",ASISTENCIA!#REF!<>\"F\",ASISTENCIA!#REF!<>\"\"),SUMIF($F$13:$J$13,AN$13,$F39:$J39),\"\")","v":{"$error":"#REF!"}},{"$f":"IF(AND(LEN($D39)>0,SUMIF($F$13:$J$13,AO$13,$F39:$J39)>0,ASISTENCIA!#REF!<>\"X\",ASISTENCIA!#REF!<>\"L\",ASISTENCIA!#REF!<>\"J\",ASISTENCIA!#REF!<>\"V\",ASISTENCIA!#REF!<>\"F\",ASISTENCIA!#REF!<>\"\"),SUMIF($F$13:$J$13,AO$13,$F39:$J39),\"\")","v":{"$error":"#REF!"}},{"$f":"IF(AND(LEN($D39)>0,SUMIF($F$13:$J$13,AP$13,$F39:$J39)>0,ASISTENCIA!#REF!<>\"X\",ASISTENCIA!#REF!<>\"L\",ASISTENCIA!#REF!<>\"J\",ASISTENCIA!#REF!<>\"V\",ASISTENCIA!#REF!<>\"F\",ASISTENCIA!#REF!<>\"\"),SUMIF($F$13:$J$13,AP$13,$F39:$J39),\"\")","v":{"$error":"#REF!"}},{"$f":"IF(AND(LEN($D39)>0,SUMIF($F$13:$J$13,AQ$13,$F39:$J39)>0,ASISTENCIA!#REF!<>\"X\",ASISTENCIA!#REF!<>\"L\",ASISTENCIA!#REF!<>\"J\",ASISTENCIA!#REF!<>\"V\",ASISTENCIA!#REF!<>\"F\",ASISTENCIA!#REF!<>\"\"),SUMIF($F$13:$J$13,AQ$13,$F39:$J39),\"\")","v":{"$error":"#REF!"}},{"$f":"IF(AND(LEN($D39)>0,SUMIF($F$13:$J$13,AR$13,$F39:$J39)>0,ASISTENCIA!#REF!<>\"X\",ASISTENCIA!#REF!<>\"L\",ASISTENCIA!#REF!<>\"J\",ASISTENCIA!#REF!<>\"V\",ASISTENCIA!#REF!<>\"F\",ASISTENCIA!#REF!<>\"\"),SUMIF($F$13:$J$13,AR$13,$F39:$J39),\"\")","v":{"$error":"#REF!"}},{"$f":"IF(AND(LEN($D39)>0,SUMIF($F$13:$J$13,AS$13,$F39:$J39)>0,ASISTENCIA!#REF!<>\"X\",ASISTENCIA!#REF!<>\"L\",ASISTENCIA!#REF!<>\"J\",ASISTENCIA!#REF!<>\"V\",ASISTENCIA!#REF!<>\"F\",ASISTENCIA!#REF!<>\"\"),SUMIF($F$13:$J$13,AS$13,$F39:$J39),\"\")","v":{"$error":"#REF!"}},{"$error":"#REF!"},null,null,null,{"$f":"IF(AND(LEN($D39)>0,SUMIF($F$13:$J$13,AX$13,$F39:$J39)>0,ASISTENCIA!#REF!<>\"X\",ASISTENCIA!#REF!<>\"L\",ASISTENCIA!#REF!<>\"J\",ASISTENCIA!#REF!<>\"F\"),SUMIF($F$13:$J$13,AX$13,$F39:$J39),\"\")","v":{"$error":"#REF!"}},{"$f":"IF(AND(LEN($D39)>0,SUMIF($F$13:$J$13,AY$13,$F39:$J39)>0,ASISTENCIA!#REF!<>\"X\",ASISTENCIA!#REF!<>\"L\",ASISTENCIA!#REF!<>\"J\",ASISTENCIA!#REF!<>\"F\"),SUMIF($F$13:$J$13,AY$13,$F39:$J39),\"\")","v":{"$error":"#REF!"}},{"$f":"IF(AND(LEN($D39)>0,SUMIF($F$13:$J$13,AZ$13,$F39:$J39)>0,ASISTENCIA!#REF!<>\"X\",ASISTENCIA!#REF!<>\"L\",ASISTENCIA!#REF!<>\"J\",ASISTENCIA!#REF!<>\"F\"),SUMIF($F$13:$J$13,AZ$13,$F39:$J39),\"\")","v":{"$error":"#REF!"}},{"$f":"IF(AND(LEN($D39)>0,SUMIF($F$13:$J$13,BA$13,$F39:$J39)>0,ASISTENCIA!#REF!<>\"X\",ASISTENCIA!#REF!<>\"L\",ASISTENCIA!#REF!<>\"J\",ASISTENCIA!#REF!<>\"F\"),SUMIF($F$13:$J$13,BA$13,$F39:$J39),\"\")","v":{"$error":"#REF!"}},{"$f":"IF(AND(LEN($D39)>0,SUMIF($F$13:$J$13,BB$13,$F39:$J39)>0,ASISTENCIA!#REF!<>\"X\",ASISTENCIA!#REF!<>\"L\",ASISTENCIA!#REF!<>\"J\",ASISTENCIA!#REF!<>\"F\"),SUMIF($F$13:$J$13,BB$13,$F39:$J39),\"\")","v":{"$error":"#REF!"}},{"$f":"IF(AND(LEN($D39)>0,SUMIF($F$13:$J$13,BC$13,$F39:$J39)>0,ASISTENCIA!#REF!<>\"X\",ASISTENCIA!#REF!<>\"L\",ASISTENCIA!#REF!<>\"J\",ASISTENCIA!#REF!<>\"F\"),SUMIF($F$13:$J$13,BC$13,$F39:$J39),\"\")","v":{"$error":"#REF!"}},{"$f":"IF(AND(LEN($D39)>0,SUMIF($F$13:$J$13,BD$13,$F39:$J39)>0,ASISTENCIA!#REF!<>\"X\",ASISTENCIA!#REF!<>\"L\",ASISTENCIA!#REF!<>\"J\",ASISTENCIA!#REF!<>\"F\"),SUMIF($F$13:$J$13,BD$13,$F39:$J39),\"\")","v":{"$error":"#REF!"}},{"$f":"IF(AND(LEN($D39)>0,SUMIF($F$13:$J$13,BE$13,$F39:$J39)>0,ASISTENCIA!#REF!<>\"X\",ASISTENCIA!#REF!<>\"L\",ASISTENCIA!#REF!<>\"J\",ASISTENCIA!#REF!<>\"F\"),SUMIF($F$13:$J$13,BE$13,$F39:$J39),\"\")","v":{"$error":"#REF!"}},{"$f":"IF(AND(LEN($D39)>0,SUMIF($F$13:$J$13,BF$13,$F39:$J39)>0,ASISTENCIA!#REF!<>\"X\",ASISTENCIA!#REF!<>\"L\",ASISTENCIA!#REF!<>\"J\",ASISTENCIA!#REF!<>\"F\"),SUMIF($F$13:$J$13,BF$13,$F39:$J39),\"\")","v":{"$error":"#REF!"}},{"$f":"IF(AND(LEN($D39)>0,SUMIF($F$13:$J$13,BG$13,$F39:$J39)>0,ASISTENCIA!#REF!<>\"X\",ASISTENCIA!#REF!<>\"L\",ASISTENCIA!#REF!<>\"J\",ASISTENCIA!#REF!<>\"F\"),SUMIF($F$13:$J$13,BG$13,$F39:$J39),\"\")","v":{"$error":"#REF!"}},{"$f":"IF(AND(LEN($D39)>0,SUMIF($F$13:$J$13,BH$13,$F39:$J39)>0,ASISTENCIA!#REF!<>\"X\",ASISTENCIA!#REF!<>\"L\",ASISTENCIA!#REF!<>\"J\",ASISTENCIA!#REF!<>\"F\"),SUMIF($F$13:$J$13,BH$13,$F39:$J39),\"\")","v":{"$error":"#REF!"}},{"$f":"IF(AND(LEN($D39)>0,SUMIF($F$13:$J$13,BI$13,$F39:$J39)>0,ASISTENCIA!#REF!<>\"X\",ASISTENCIA!#REF!<>\"L\",ASISTENCIA!#REF!<>\"J\",ASISTENCIA!#REF!<>\"F\"),SUMIF($F$13:$J$13,BI$13,$F39:$J39),\"\")","v":{"$error":"#REF!"}},{"$f":"IF(AND(LEN($D39)>0,SUMIF($F$13:$J$13,BJ$13,$F39:$J39)>0,ASISTENCIA!#REF!<>\"X\",ASISTENCIA!#REF!<>\"L\",ASISTENCIA!#REF!<>\"J\",ASISTENCIA!#REF!<>\"F\"),SUMIF($F$13:$J$13,BJ$13,$F39:$J39),\"\")","v":{"$error":"#REF!"}},{"$f":"IF(AND(LEN($D39)>0,SUMIF($F$13:$J$13,BK$13,$F39:$J39)>0,ASISTENCIA!#REF!<>\"X\",ASISTENCIA!#REF!<>\"L\",ASISTENCIA!#REF!<>\"J\",ASISTENCIA!#REF!<>\"F\"),SUMIF($F$13:$J$13,BK$13,$F39:$J39),\"\")","v":{"$error":"#REF!"}},{"$f":"IF(AND(LEN($D39)>0,SUMIF($F$13:$J$13,BL$13,$F39:$J39)>0,ASISTENCIA!#REF!<>\"X\",ASISTENCIA!#REF!<>\"L\",ASISTENCIA!#REF!<>\"J\",ASISTENCIA!#REF!<>\"F\"),SUMIF($F$13:$J$13,BL$13,$F39:$J39),\"\")","v":{"$error":"#REF!"}},{"$f":"IF(AND(LEN($D39)>0,SUMIF($F$13:$J$13,BM$13,$F39:$J39)>0,ASISTENCIA!#REF!<>\"X\",ASISTENCIA!#REF!<>\"L\",ASISTENCIA!#REF!<>\"J\",ASISTENCIA!#REF!<>\"F\"),SUMIF($F$13:$J$13,BM$13,$F39:$J39),\"\")","v":{"$error":"#REF!"}},{"$f":"IF(AND(LEN($D39)>0,SUMIF($F$13:$J$13,BN$13,$F39:$J39)>0,ASISTENCIA!#REF!<>\"X\",ASISTENCIA!#REF!<>\"L\",ASISTENCIA!#REF!<>\"J\",ASISTENCIA!#REF!<>\"F\"),SUMIF($F$13:$J$13,BN$13,$F39:$J39),\"\")","v":{"$error":"#REF!"}},{"$f":"IF(AND(LEN($D39)>0,SUMIF($F$13:$J$13,BO$13,$F39:$J39)>0,ASISTENCIA!#REF!<>\"X\",ASISTENCIA!#REF!<>\"L\",ASISTENCIA!#REF!<>\"J\",ASISTENCIA!#REF!<>\"F\"),SUMIF($F$13:$J$13,BO$13,$F39:$J39),\"\")","v":{"$error":"#REF!"}},{"$f":"IF(AND(LEN($D39)>0,SUMIF($F$13:$J$13,BP$13,$F39:$J39)>0,ASISTENCIA!#REF!<>\"X\",ASISTENCIA!#REF!<>\"L\",ASISTENCIA!#REF!<>\"J\",ASISTENCIA!#REF!<>\"F\"),SUMIF($F$13:$J$13,BP$13,$F39:$J39),\"\")","v":{"$error":"#REF!"}},{"$f":"IF(AND(LEN($D39)>0,SUMIF($F$13:$J$13,BQ$13,$F39:$J39)>0,ASISTENCIA!#REF!<>\"X\",ASISTENCIA!#REF!<>\"L\",ASISTENCIA!#REF!<>\"J\",ASISTENCIA!#REF!<>\"F\"),SUMIF($F$13:$J$13,BQ$13,$F39:$J39),\"\")","v":{"$error":"#REF!"}},{"$f":"IF(AND(LEN($D39)>0,SUMIF($F$13:$J$13,BR$13,$F39:$J39)>0,ASISTENCIA!#REF!<>\"X\",ASISTENCIA!#REF!<>\"L\",ASISTENCIA!#REF!<>\"J\",ASISTENCIA!#REF!<>\"F\"),SUMIF($F$13:$J$13,BR$13,$F39:$J39),\"\")","v":{"$error":"#REF!"}},{"$f":"IF(AND(LEN($D39)>0,SUMIF($F$13:$J$13,BS$13,$F39:$J39)>0,ASISTENCIA!#REF!<>\"X\",ASISTENCIA!#REF!<>\"L\",ASISTENCIA!#REF!<>\"J\",ASISTENCIA!#REF!<>\"F\"),SUMIF($F$13:$J$13,BS$13,$F39:$J39),\"\")","v":{"$error":"#REF!"}},{"$f":"IF(AND(LEN($D39)>0,SUMIF($F$13:$J$13,BT$13,$F39:$J39)>0,ASISTENCIA!#REF!<>\"X\",ASISTENCIA!#REF!<>\"L\",ASISTENCIA!#REF!<>\"J\",ASISTENCIA!#REF!<>\"F\"),SUMIF($F$13:$J$13,BT$13,$F39:$J39),\"\")","v":{"$error":"#REF!"}},{"$f":"IF(AND(LEN($D39)>0,SUMIF($F$13:$J$13,BU$13,$F39:$J39)>0,ASISTENCIA!#REF!<>\"X\",ASISTENCIA!#REF!<>\"L\",ASISTENCIA!#REF!<>\"J\",ASISTENCIA!#REF!<>\"F\"),SUMIF($F$13:$J$13,BU$13,$F39:$J39),\"\")","v":{"$error":"#REF!"}},{"$f":"IF(AND(LEN($D39)>0,SUMIF($F$13:$J$13,BV$13,$F39:$J39)>0,ASISTENCIA!#REF!<>\"X\",ASISTENCIA!#REF!<>\"L\",ASISTENCIA!#REF!<>\"J\",ASISTENCIA!#REF!<>\"F\"),SUMIF($F$13:$J$13,BV$13,$F39:$J39),\"\")","v":{"$error":"#REF!"}},{"$f":"IF(AND(LEN($D39)>0,SUMIF($F$13:$J$13,BW$13,$F39:$J39)>0,ASISTENCIA!#REF!<>\"X\",ASISTENCIA!#REF!<>\"L\",ASISTENCIA!#REF!<>\"J\",ASISTENCIA!#REF!<>\"F\"),SUMIF($F$13:$J$13,BW$13,$F39:$J39),\"\")","v":{"$error":"#REF!"}},{"$f":"IF(AND(LEN($D39)>0,SUMIF($F$13:$J$13,BX$13,$F39:$J39)>0,ASISTENCIA!#REF!<>\"X\",ASISTENCIA!#REF!<>\"L\",ASISTENCIA!#REF!<>\"J\",ASISTENCIA!#REF!<>\"F\"),SUMIF($F$13:$J$13,BX$13,$F39:$J39),\"\")","v":{"$error":"#REF!"}},{"$f":"IF(AND(LEN($D39)>0,SUMIF($F$13:$J$13,BY$13,$F39:$J39)>0,ASISTENCIA!#REF!<>\"X\",ASISTENCIA!#REF!<>\"L\",ASISTENCIA!#REF!<>\"J\",ASISTENCIA!#REF!<>\"F\"),SUMIF($F$13:$J$13,BY$13,$F39:$J39),\"\")","v":{"$error":"#REF!"}},{"$f":"IF(AND(LEN($D39)>0,SUMIF($F$13:$J$13,BZ$13,$F39:$J39)>0,ASISTENCIA!#REF!<>\"X\",ASISTENCIA!#REF!<>\"L\",ASISTENCIA!#REF!<>\"J\",ASISTENCIA!#REF!<>\"F\"),SUMIF($F$13:$J$13,BZ$13,$F39:$J39),\"\")","v":{"$error":"#REF!"}},{"$f":"IF(AND(LEN($D39)>0,SUMIF($F$13:$J$13,CA$13,$F39:$J39)>0,ASISTENCIA!#REF!<>\"X\",ASISTENCIA!#REF!<>\"L\",ASISTENCIA!#REF!<>\"J\",ASISTENCIA!#REF!<>\"F\"),SUMIF($F$13:$J$13,CA$13,$F39:$J39),\"\")","v":{"$error":"#REF!"}},{"$f":"IF(AND(LEN($D39)>0,SUMIF($F$13:$J$13,CB$13,$F39:$J39)>0,ASISTENCIA!#REF!<>\"X\",ASISTENCIA!#REF!<>\"L\",ASISTENCIA!#REF!<>\"J\",ASISTENCIA!#REF!<>\"F\"),SUMIF($F$13:$J$13,CB$13,$F39:$J39),\"\")","v":{"$error":"#REF!"}},{"$error":"#REF!"}]
[{"$error":"#REF!"},{"$f":"IF(LEN(C40)>0,VLOOKUP($O$4,DATA!$A$1:$S$1,2,FALSE),\"\")","v":{"$error":"#REF!"}},{"$error":"#REF!"},{"$f":"IF(LEN(ASISTENCIA!#REF!)>0,ASISTENCIA!#REF!,\"\")","v":{"$error":"#REF!"}},{"$f":"IF(LEN(D40)>0,ASISTENCIA!#REF!,\"\")","v":{"$error":"#REF!"}},null,null,null,null,null,"",null,null,{"$error":"#REF!"},{"$f":"IF(AND(LEN($D40)>0,SUMIF($F$13:$J$13,O$13,$F40:$J40)>0,ASISTENCIA!#REF!<>\"X\",ASISTENCIA!#REF!<>\"L\",ASISTENCIA!#REF!<>\"J\",ASISTENCIA!#REF!<>\"V\",ASISTENCIA!#REF!<>\"F\",ASISTENCIA!#REF!<>\"\"),SUMIF($F$13:$J$13,O$13,$F40:$J40),\"\")","v":{"$error":"#REF!"}},{"$f":"IF(AND(LEN($D40)>0,SUMIF($F$13:$J$13,P$13,$F40:$J40)>0,ASISTENCIA!#REF!<>\"X\",ASISTENCIA!#REF!<>\"L\",ASISTENCIA!#REF!<>\"J\",ASISTENCIA!#REF!<>\"V\",ASISTENCIA!#REF!<>\"F\",ASISTENCIA!#REF!<>\"\"),SUMIF($F$13:$J$13,P$13,$F40:$J40),\"\")","v":{"$error":"#REF!"}},{"$f":"IF(AND(LEN($D40)>0,SUMIF($F$13:$J$13,Q$13,$F40:$J40)>0,ASISTENCIA!#REF!<>\"X\",ASISTENCIA!#REF!<>\"L\",ASISTENCIA!#REF!<>\"J\",ASISTENCIA!#REF!<>\"V\",ASISTENCIA!#REF!<>\"F\",ASISTENCIA!#REF!<>\"\"),SUMIF($F$13:$J$13,Q$13,$F40:$J40),\"\")","v":{"$error":"#REF!"}},{"$f":"IF(AND(LEN($D40)>0,SUMIF($F$13:$J$13,R$13,$F40:$J40)>0,ASISTENCIA!#REF!<>\"X\",ASISTENCIA!#REF!<>\"L\",ASISTENCIA!#REF!<>\"J\",ASISTENCIA!#REF!<>\"V\",ASISTENCIA!#REF!<>\"F\",ASISTENCIA!#REF!<>\"\"),SUMIF($F$13:$J$13,R$13,$F40:$J40),\"\")","v":{"$error":"#REF!"}},{"$f":"IF(AND(LEN($D40)>0,SUMIF($F$13:$J$13,S$13,$F40:$J40)>0,ASISTENCIA!#REF!<>\"X\",ASISTENCIA!#REF!<>\"L\",ASISTENCIA!#REF!<>\"J\",ASISTENCIA!#REF!<>\"V\",ASISTENCIA!#REF!<>\"F\",ASISTENCIA!#REF!<>\"\"),SUMIF($F$13:$J$13,S$13,$F40:$J40),\"\")","v":{"$error":"#REF!"}},{"$f":"IF(AND(LEN($D40)>0,SUMIF($F$13:$J$13,T$13,$F40:$J40)>0,ASISTENCIA!#REF!<>\"X\",ASISTENCIA!#REF!<>\"L\",ASISTENCIA!#REF!<>\"J\",ASISTENCIA!#REF!<>\"V\",ASISTENCIA!#REF!<>\"F\",ASISTENCIA!#REF!<>\"\"),SUMIF($F$13:$J$13,T$13,$F40:$J40),\"\")","v":{"$error":"#REF!"}},{"$f":"IF(AND(LEN($D40)>0,SUMIF($F$13:$J$13,U$13,$F40:$J40)>0,ASISTENCIA!#REF!<>\"X\",ASISTENCIA!#REF!<>\"L\",ASISTENCIA!#REF!<>\"J\",ASISTENCIA!#REF!<>\"V\",ASISTENCIA!#REF!<>\"F\",ASISTENCIA!#REF!<>\"\"),SUMIF($F$13:$J$13,U$13,$F40:$J40),\"\")","v":{"$error":"#REF!"}},{"$f":"IF(AND(LEN($D40)>0,SUMIF($F$13:$J$13,V$13,$F40:$J40)>0,ASISTENCIA!#REF!<>\"X\",ASISTENCIA!#REF!<>\"L\",ASISTENCIA!#REF!<>\"J\",ASISTENCIA!#REF!<>\"V\",ASISTENCIA!#REF!<>\"F\",ASISTENCIA!#REF!<>\"\"),SUMIF($F$13:$J$13,V$13,$F40:$J40),\"\")","v":{"$error":"#REF!"}},{"$f":"IF(AND(LEN($D40)>0,SUMIF($F$13:$J$13,W$13,$F40:$J40)>0,ASISTENCIA!#REF!<>\"X\",ASISTENCIA!#REF!<>\"L\",ASISTENCIA!#REF!<>\"J\",ASISTENCIA!#REF!<>\"V\",ASISTENCIA!#REF!<>\"F\",ASISTENCIA!#REF!<>\"\"),SUMIF($F$13:$J$13,W$13,$F40:$J40),\"\")","v":{"$error":"#REF!"}},{"$f":"IF(AND(LEN($D40)>0,SUMIF($F$13:$J$13,X$13,$F40:$J40)>0,ASISTENCIA!#REF!<>\"X\",ASISTENCIA!#REF!<>\"L\",ASISTENCIA!#REF!<>\"J\",ASISTENCIA!#REF!<>\"V\",ASISTENCIA!#REF!<>\"F\",ASISTENCIA!#REF!<>\"\"),SUMIF($F$13:$J$13,X$13,$F40:$J40),\"\")","v":{"$error":"#REF!"}},{"$f":"IF(AND(LEN($D40)>0,SUMIF($F$13:$J$13,Y$13,$F40:$J40)>0,ASISTENCIA!#REF!<>\"X\",ASISTENCIA!#REF!<>\"L\",ASISTENCIA!#REF!<>\"J\",ASISTENCIA!#REF!<>\"V\",ASISTENCIA!#REF!<>\"F\",ASISTENCIA!#REF!<>\"\"),SUMIF($F$13:$J$13,Y$13,$F40:$J40),\"\")","v":{"$error":"#REF!"}},{"$f":"IF(AND(LEN($D40)>0,SUMIF($F$13:$J$13,Z$13,$F40:$J40)>0,ASISTENCIA!#REF!<>\"X\",ASISTENCIA!#REF!<>\"L\",ASISTENCIA!#REF!<>\"J\",ASISTENCIA!#REF!<>\"V\",ASISTENCIA!#REF!<>\"F\",ASISTENCIA!#REF!<>\"\"),SUMIF($F$13:$J$13,Z$13,$F40:$J40),\"\")","v":{"$error":"#REF!"}},{"$f":"IF(AND(LEN($D40)>0,SUMIF($F$13:$J$13,AA$13,$F40:$J40)>0,ASISTENCIA!#REF!<>\"X\",ASISTENCIA!#REF!<>\"L\",ASISTENCIA!#REF!<>\"J\",ASISTENCIA!#REF!<>\"V\",ASISTENCIA!#REF!<>\"F\",ASISTENCIA!#REF!<>\"\"),SUMIF($F$13:$J$13,AA$13,$F40:$J40),\"\")","v":{"$error":"#REF!"}},{"$f":"IF(AND(LEN($D40)>0,SUMIF($F$13:$J$13,AB$13,$F40:$J40)>0,ASISTENCIA!#REF!<>\"X\",ASISTENCIA!#REF!<>\"L\",ASISTENCIA!#REF!<>\"J\",ASISTENCIA!#REF!<>\"V\",ASISTENCIA!#REF!<>\"F\",ASISTENCIA!#REF!<>\"\"),SUMIF($F$13:$J$13,AB$13,$F40:$J40),\"\")","v":{"$error":"#REF!"}},{"$f":"IF(AND(LEN($D40)>0,SUMIF($F$13:$J$13,AC$13,$F40:$J40)>0,ASISTENCIA!#REF!<>\"X\",ASISTENCIA!#REF!<>\"L\",ASISTENCIA!#REF!<>\"J\",ASISTENCIA!#REF!<>\"V\",ASISTENCIA!#REF!<>\"F\",ASISTENCIA!#REF!<>\"\"),SUMIF($F$13:$J$13,AC$13,$F40:$J40),\"\")","v":{"$error":"#REF!"}},{"$f":"IF(AND(LEN($D40)>0,SUMIF($F$13:$J$13,AD$13,$F40:$J40)>0,ASISTENCIA!#REF!<>\"X\",ASISTENCIA!#REF!<>\"L\",ASISTENCIA!#REF!<>\"J\",ASISTENCIA!#REF!<>\"V\",ASISTENCIA!#REF!<>\"F\",ASISTENCIA!#REF!<>\"\"),SUMIF($F$13:$J$13,AD$13,$F40:$J40),\"\")","v":{"$error":"#REF!"}},{"$f":"IF(AND(LEN($D40)>0,SUMIF($F$13:$J$13,AE$13,$F40:$J40)>0,ASISTENCIA!#REF!<>\"X\",ASISTENCIA!#REF!<>\"L\",ASISTENCIA!#REF!<>\"J\",ASISTENCIA!#REF!<>\"V\",ASISTENCIA!#REF!<>\"F\",ASISTENCIA!#REF!<>\"\"),SUMIF($F$13:$J$13,AE$13,$F40:$J40),\"\")","v":{"$error":"#REF!"}},{"$f":"IF(AND(LEN($D40)>0,SUMIF($F$13:$J$13,AF$13,$F40:$J40)>0,ASISTENCIA!#REF!<>\"X\",ASISTENCIA!#REF!<>\"L\",ASISTENCIA!#REF!<>\"J\",ASISTENCIA!#REF!<>\"V\",ASISTENCIA!#REF!<>\"F\",ASISTENCIA!#REF!<>\"\"),SUMIF($F$13:$J$13,AF$13,$F40:$J40),\"\")","v":{"$error":"#REF!"}},{"$f":"IF(AND(LEN($D40)>0,SUMIF($F$13:$J$13,AG$13,$F40:$J40)>0,ASISTENCIA!#REF!<>\"X\",ASISTENCIA!#REF!<>\"L\",ASISTENCIA!#REF!<>\"J\",ASISTENCIA!#REF!<>\"V\",ASISTENCIA!#REF!<>\"F\",ASISTENCIA!#REF!<>\"\"),SUMIF($F$13:$J$13,AG$13,$F40:$J40),\"\")","v":{"$error":"#REF!"}},{"$f":"IF(AND(LEN($D40)>0,SUMIF($F$13:$J$13,AH$13,$F40:$J40)>0,ASISTENCIA!#REF!<>\"X\",ASISTENCIA!#REF!<>\"L\",ASISTENCIA!#REF!<>\"J\",ASISTENCIA!#REF!<>\"V\",ASISTENCIA!#REF!<>\"F\",ASISTENCIA!#REF!<>\"\"),SUMIF($F$13:$J$13,AH$13,$F40:$J40),\"\")","v":{"$error":"#REF!"}},{"$f":"IF(AND(LEN($D40)>0,SUMIF($F$13:$J$13,AI$13,$F40:$J40)>0,ASISTENCIA!#REF!<>\"X\",ASISTENCIA!#REF!<>\"L\",ASISTENCIA!#REF!<>\"J\",ASISTENCIA!#REF!<>\"V\",ASISTENCIA!#REF!<>\"F\",ASISTENCIA!#REF!<>\"\"),SUMIF($F$13:$J$13,AI$13,$F40:$J40),\"\")","v":{"$error":"#REF!"}},{"$f":"IF(AND(LEN($D40)>0,SUMIF($F$13:$J$13,AJ$13,$F40:$J40)>0,ASISTENCIA!#REF!<>\"X\",ASISTENCIA!#REF!<>\"L\",ASISTENCIA!#REF!<>\"J\",ASISTENCIA!#REF!<>\"V\",ASISTENCIA!#REF!<>\"F\",ASISTENCIA!#REF!<>\"\"),SUMIF($F$13:$J$13,AJ$13,$F40:$J40),\"\")","v":{"$error":"#REF!"}},{"$f":"IF(AND(LEN($D40)>0,SUMIF($F$13:$J$13,AK$13,$F40:$J40)>0,ASISTENCIA!#REF!<>\"X\",ASISTENCIA!#REF!<>\"L\",ASISTENCIA!#REF!<>\"J\",ASISTENCIA!#REF!<>\"V\",ASISTENCIA!#REF!<>\"F\",ASISTENCIA!#REF!<>\"\"),SUMIF($F$13:$J$13,AK$13,$F40:$J40),\"\")","v":{"$error":"#REF!"}},{"$f":"IF(AND(LEN($D40)>0,SUMIF($F$13:$J$13,AL$13,$F40:$J40)>0,ASISTENCIA!#REF!<>\"X\",ASISTENCIA!#REF!<>\"L\",ASISTENCIA!#REF!<>\"J\",ASISTENCIA!#REF!<>\"V\",ASISTENCIA!#REF!<>\"F\",ASISTENCIA!#REF!<>\"\"),SUMIF($F$13:$J$13,AL$13,$F40:$J40),\"\")","v":{"$error":"#REF!"}},{"$f":"IF(AND(LEN($D40)>0,SUMIF($F$13:$J$13,AM$13,$F40:$J40)>0,ASISTENCIA!#REF!<>\"X\",ASISTENCIA!#REF!<>\"L\",ASISTENCIA!#REF!<>\"J\",ASISTENCIA!#REF!<>\"V\",ASISTENCIA!#REF!<>\"F\",ASISTENCIA!#REF!<>\"\"),SUMIF($F$13:$J$13,AM$13,$F40:$J40),\"\")","v":{"$error":"#REF!"}},{"$f":"IF(AND(LEN($D40)>0,SUMIF($F$13:$J$13,AN$13,$F40:$J40)>0,ASISTENCIA!#REF!<>\"X\",ASISTENCIA!#REF!<>\"L\",ASISTENCIA!#REF!<>\"J\",ASISTENCIA!#REF!<>\"V\",ASISTENCIA!#REF!<>\"F\",ASISTENCIA!#REF!<>\"\"),SUMIF($F$13:$J$13,AN$13,$F40:$J40),\"\")","v":{"$error":"#REF!"}},{"$f":"IF(AND(LEN($D40)>0,SUMIF($F$13:$J$13,AO$13,$F40:$J40)>0,ASISTENCIA!#REF!<>\"X\",ASISTENCIA!#REF!<>\"L\",ASISTENCIA!#REF!<>\"J\",ASISTENCIA!#REF!<>\"V\",ASISTENCIA!#REF!<>\"F\",ASISTENCIA!#REF!<>\"\"),SUMIF($F$13:$J$13,AO$13,$F40:$J40),\"\")","v":{"$error":"#REF!"}},{"$f":"IF(AND(LEN($D40)>0,SUMIF($F$13:$J$13,AP$13,$F40:$J40)>0,ASISTENCIA!#REF!<>\"X\",ASISTENCIA!#REF!<>\"L\",ASISTENCIA!#REF!<>\"J\",ASISTENCIA!#REF!<>\"V\",ASISTENCIA!#REF!<>\"F\",ASISTENCIA!#REF!<>\"\"),SUMIF($F$13:$J$13,AP$13,$F40:$J40),\"\")","v":{"$error":"#REF!"}},{"$f":"IF(AND(LEN($D40)>0,SUMIF($F$13:$J$13,AQ$13,$F40:$J40)>0,ASISTENCIA!#REF!<>\"X\",ASISTENCIA!#REF!<>\"L\",ASISTENCIA!#REF!<>\"J\",ASISTENCIA!#REF!<>\"V\",ASISTENCIA!#REF!<>\"F\",ASISTENCIA!#REF!<>\"\"),SUMIF($F$13:$J$13,AQ$13,$F40:$J40),\"\")","v":{"$error":"#REF!"}},{"$f":"IF(AND(LEN($D40)>0,SUMIF($F$13:$J$13,AR$13,$F40:$J40)>0,ASISTENCIA!#REF!<>\"X\",ASISTENCIA!#REF!<>\"L\",ASISTENCIA!#REF!<>\"J\",ASISTENCIA!#REF!<>\"V\",ASISTENCIA!#REF!<>\"F\",ASISTENCIA!#REF!<>\"\"),SUMIF($F$13:$J$13,AR$13,$F40:$J40),\"\")","v":{"$error":"#REF!"}},{"$f":"IF(AND(LEN($D40)>0,SUMIF($F$13:$J$13,AS$13,$F40:$J40)>0,ASISTENCIA!#REF!<>\"X\",ASISTENCIA!#REF!<>\"L\",ASISTENCIA!#REF!<>\"J\",ASISTENCIA!#REF!<>\"V\",ASISTENCIA!#REF!<>\"F\",ASISTENCIA!#REF!<>\"\"),SUMIF($F$13:$J$13,AS$13,$F40:$J40),\"\")","v":{"$error":"#REF!"}},{"$error":"#REF!"},null,null,null,{"$f":"IF(AND(LEN($D40)>0,SUMIF($F$13:$J$13,AX$13,$F40:$J40)>0,ASISTENCIA!#REF!<>\"X\",ASISTENCIA!#REF!<>\"L\",ASISTENCIA!#REF!<>\"J\",ASISTENCIA!#REF!<>\"F\"),SUMIF($F$13:$J$13,AX$13,$F40:$J40),\"\")","v":{"$error":"#REF!"}},{"$f":"IF(AND(LEN($D40)>0,SUMIF($F$13:$J$13,AY$13,$F40:$J40)>0,ASISTENCIA!#REF!<>\"X\",ASISTENCIA!#REF!<>\"L\",ASISTENCIA!#REF!<>\"J\",ASISTENCIA!#REF!<>\"F\"),SUMIF($F$13:$J$13,AY$13,$F40:$J40),\"\")","v":{"$error":"#REF!"}},{"$f":"IF(AND(LEN($D40)>0,SUMIF($F$13:$J$13,AZ$13,$F40:$J40)>0,ASISTENCIA!#REF!<>\"X\",ASISTENCIA!#REF!<>\"L\",ASISTENCIA!#REF!<>\"J\",ASISTENCIA!#REF!<>\"F\"),SUMIF($F$13:$J$13,AZ$13,$F40:$J40),\"\")","v":{"$error":"#REF!"}},{"$f":"IF(AND(LEN($D40)>0,SUMIF($F$13:$J$13,BA$13,$F40:$J40)>0,ASISTENCIA!#REF!<>\"X\",ASISTENCIA!#REF!<>\"L\",ASISTENCIA!#REF!<>\"J\",ASISTENCIA!#REF!<>\"F\"),SUMIF($F$13:$J$13,BA$13,$F40:$J40),\"\")","v":{"$error":"#REF!"}},{"$f":"IF(AND(LEN($D40)>0,SUMIF($F$13:$J$13,BB$13,$F40:$J40)>0,ASISTENCIA!#REF!<>\"X\",ASISTENCIA!#REF!<>\"L\",ASISTENCIA!#REF!<>\"J\",ASISTENCIA!#REF!<>\"F\"),SUMIF($F$13:$J$13,BB$13,$F40:$J40),\"\")","v":{"$error":"#REF!"}},{"$f":"IF(AND(LEN($D40)>0,SUMIF($F$13:$J$13,BC$13,$F40:$J40)>0,ASISTENCIA!#REF!<>\"X\",ASISTENCIA!#REF!<>\"L\",ASISTENCIA!#REF!<>\"J\",ASISTENCIA!#REF!<>\"F\"),SUMIF($F$13:$J$13,BC$13,$F40:$J40),\"\")","v":{"$error":"#REF!"}},{"$f":"IF(AND(LEN($D40)>0,SUMIF($F$13:$J$13,BD$13,$F40:$J40)>0,ASISTENCIA!#REF!<>\"X\",ASISTENCIA!#REF!<>\"L\",ASISTENCIA!#REF!<>\"J\",ASISTENCIA!#REF!<>\"F\"),SUMIF($F$13:$J$13,BD$13,$F40:$J40),\"\")","v":{"$error":"#REF!"}},{"$f":"IF(AND(LEN($D40)>0,SUMIF($F$13:$J$13,BE$13,$F40:$J40)>0,ASISTENCIA!#REF!<>\"X\",ASISTENCIA!#REF!<>\"L\",ASISTENCIA!#REF!<>\"J\",ASISTENCIA!#REF!<>\"F\"),SUMIF($F$13:$J$13,BE$13,$F40:$J40),\"\")","v":{"$error":"#REF!"}},{"$f":"IF(AND(LEN($D40)>0,SUMIF($F$13:$J$13,BF$13,$F40:$J40)>0,ASISTENCIA!#REF!<>\"X\",ASISTENCIA!#REF!<>\"L\",ASISTENCIA!#REF!<>\"J\",ASISTENCIA!#REF!<>\"F\"),SUMIF($F$13:$J$13,BF$13,$F40:$J40),\"\")","v":{"$error":"#REF!"}},{"$f":"IF(AND(LEN($D40)>0,SUMIF($F$13:$J$13,BG$13,$F40:$J40)>0,ASISTENCIA!#REF!<>\"X\",ASISTENCIA!#REF!<>\"L\",ASISTENCIA!#REF!<>\"J\",ASISTENCIA!#REF!<>\"F\"),SUMIF($F$13:$J$13,BG$13,$F40:$J40),\"\")","v":{"$error":"#REF!"}},{"$f":"IF(AND(LEN($D40)>0,SUMIF($F$13:$J$13,BH$13,$F40:$J40)>0,ASISTENCIA!#REF!<>\"X\",ASISTENCIA!#REF!<>\"L\",ASISTENCIA!#REF!<>\"J\",ASISTENCIA!#REF!<>\"F\"),SUMIF($F$13:$J$13,BH$13,$F40:$J40),\"\")","v":{"$error":"#REF!"}},{"$f":"IF(AND(LEN($D40)>0,SUMIF($F$13:$J$13,BI$13,$F40:$J40)>0,ASISTENCIA!#REF!<>\"X\",ASISTENCIA!#REF!<>\"L\",ASISTENCIA!#REF!<>\"J\",ASISTENCIA!#REF!<>\"F\"),SUMIF($F$13:$J$13,BI$13,$F40:$J40),\"\")","v":{"$error":"#REF!"}},{"$f":"IF(AND(LEN($D40)>0,SUMIF($F$13:$J$13,BJ$13,$F40:$J40)>0,ASISTENCIA!#REF!<>\"X\",ASISTENCIA!#REF!<>\"L\",ASISTENCIA!#REF!<>\"J\",ASISTENCIA!#REF!<>\"F\"),SUMIF($F$13:$J$13,BJ$13,$F40:$J40),\"\")","v":{"$error":"#REF!"}},{"$f":"IF(AND(LEN($D40)>0,SUMIF($F$13:$J$13,BK$13,$F40:$J40)>0,ASISTENCIA!#REF!<>\"X\",ASISTENCIA!#REF!<>\"L\",ASISTENCIA!#REF!<>\"J\",ASISTENCIA!#REF!<>\"F\"),SUMIF($F$13:$J$13,BK$13,$F40:$J40),\"\")","v":{"$error":"#REF!"}},{"$f":"IF(AND(LEN($D40)>0,SUMIF($F$13:$J$13,BL$13,$F40:$J40)>0,ASISTENCIA!#REF!<>\"X\",ASISTENCIA!#REF!<>\"L\",ASISTENCIA!#REF!<>\"J\",ASISTENCIA!#REF!<>\"F\"),SUMIF($F$13:$J$13,BL$13,$F40:$J40),\"\")","v":{"$error":"#REF!"}},{"$f":"IF(AND(LEN($D40)>0,SUMIF($F$13:$J$13,BM$13,$F40:$J40)>0,ASISTENCIA!#REF!<>\"X\",ASISTENCIA!#REF!<>\"L\",ASISTENCIA!#REF!<>\"J\",ASISTENCIA!#REF!<>\"F\"),SUMIF($F$13:$J$13,BM$13,$F40:$J40),\"\")","v":{"$error":"#REF!"}},{"$f":"IF(AND(LEN($D40)>0,SUMIF($F$13:$J$13,BN$13,$F40:$J40)>0,ASISTENCIA!#REF!<>\"X\",ASISTENCIA!#REF!<>\"L\",ASISTENCIA!#REF!<>\"J\",ASISTENCIA!#REF!<>\"F\"),SUMIF($F$13:$J$13,BN$13,$F40:$J40),\"\")","v":{"$error":"#REF!"}},{"$f":"IF(AND(LEN($D40)>0,SUMIF($F$13:$J$13,BO$13,$F40:$J40)>0,ASISTENCIA!#REF!<>\"X\",ASISTENCIA!#REF!<>\"L\",ASISTENCIA!#REF!<>\"J\",ASISTENCIA!#REF!<>\"F\"),SUMIF($F$13:$J$13,BO$13,$F40:$J40),\"\")","v":{"$error":"#REF!"}},{"$f":"IF(AND(LEN($D40)>0,SUMIF($F$13:$J$13,BP$13,$F40:$J40)>0,ASISTENCIA!#REF!<>\"X\",ASISTENCIA!#REF!<>\"L\",ASISTENCIA!#REF!<>\"J\",ASISTENCIA!#REF!<>\"F\"),SUMIF($F$13:$J$13,BP$13,$F40:$J40),\"\")","v":{"$error":"#REF!"}},{"$f":"IF(AND(LEN($D40)>0,SUMIF($F$13:$J$13,BQ$13,$F40:$J40)>0,ASISTENCIA!#REF!<>\"X\",ASISTENCIA!#REF!<>\"L\",ASISTENCIA!#REF!<>\"J\",ASISTENCIA!#REF!<>\"F\"),SUMIF($F$13:$J$13,BQ$13,$F40:$J40),\"\")","v":{"$error":"#REF!"}},{"$f":"IF(AND(LEN($D40)>0,SUMIF($F$13:$J$13,BR$13,$F40:$J40)>0,ASISTENCIA!#REF!<>\"X\",ASISTENCIA!#REF!<>\"L\",ASISTENCIA!#REF!<>\"J\",ASISTENCIA!#REF!<>\"F\"),SUMIF($F$13:$J$13,BR$13,$F40:$J40),\"\")","v":{"$error":"#REF!"}},{"$f":"IF(AND(LEN($D40)>0,SUMIF($F$13:$J$13,BS$13,$F40:$J40)>0,ASISTENCIA!#REF!<>\"X\",ASISTENCIA!#REF!<>\"L\",ASISTENCIA!#REF!<>\"J\",ASISTENCIA!#REF!<>\"F\"),SUMIF($F$13:$J$13,BS$13,$F40:$J40),\"\")","v":{"$error":"#REF!"}},{"$f":"IF(AND(LEN($D40)>0,SUMIF($F$13:$J$13,BT$13,$F40:$J40)>0,ASISTENCIA!#REF!<>\"X\",ASISTENCIA!#REF!<>\"L\",ASISTENCIA!#REF!<>\"J\",ASISTENCIA!#REF!<>\"F\"),SUMIF($F$13:$J$13,BT$13,$F40:$J40),\"\")","v":{"$error":"#REF!"}},{"$f":"IF(AND(LEN($D40)>0,SUMIF($F$13:$J$13,BU$13,$F40:$J40)>0,ASISTENCIA!#REF!<>\"X\",ASISTENCIA!#REF!<>\"L\",ASISTENCIA!#REF!<>\"J\",ASISTENCIA!#REF!<>\"F\"),SUMIF($F$13:$J$13,BU$13,$F40:$J40),\"\")","v":{"$error":"#REF!"}},{"$f":"IF(AND(LEN($D40)>0,SUMIF($F$13:$J$13,BV$13,$F40:$J40)>0,ASISTENCIA!#REF!<>\"X\",ASISTENCIA!#REF!<>\"L\",ASISTENCIA!#REF!<>\"J\",ASISTENCIA!#REF!<>\"F\"),SUMIF($F$13:$J$13,BV$13,$F40:$J40),\"\")","v":{"$error":"#REF!"}},{"$f":"IF(AND(LEN($D40)>0,SUMIF($F$13:$J$13,BW$13,$F40:$J40)>0,ASISTENCIA!#REF!<>\"X\",ASISTENCIA!#REF!<>\"L\",ASISTENCIA!#REF!<>\"J\",ASISTENCIA!#REF!<>\"F\"),SUMIF($F$13:$J$13,BW$13,$F40:$J40),\"\")","v":{"$error":"#REF!"}},{"$f":"IF(AND(LEN($D40)>0,SUMIF($F$13:$J$13,BX$13,$F40:$J40)>0,ASISTENCIA!#REF!<>\"X\",ASISTENCIA!#REF!<>\"L\",ASISTENCIA!#REF!<>\"J\",ASISTENCIA!#REF!<>\"F\"),SUMIF($F$13:$J$13,BX$13,$F40:$J40),\"\")","v":{"$error":"#REF!"}},{"$f":"IF(AND(LEN($D40)>0,SUMIF($F$13:$J$13,BY$13,$F40:$J40)>0,ASISTENCIA!#REF!<>\"X\",ASISTENCIA!#REF!<>\"L\",ASISTENCIA!#REF!<>\"J\",ASISTENCIA!#REF!<>\"F\"),SUMIF($F$13:$J$13,BY$13,$F40:$J40),\"\")","v":{"$error":"#REF!"}},{"$f":"IF(AND(LEN($D40)>0,SUMIF($F$13:$J$13,BZ$13,$F40:$J40)>0,ASISTENCIA!#REF!<>\"X\",ASISTENCIA!#REF!<>\"L\",ASISTENCIA!#REF!<>\"J\",ASISTENCIA!#REF!<>\"F\"),SUMIF($F$13:$J$13,BZ$13,$F40:$J40),\"\")","v":{"$error":"#REF!"}},{"$f":"IF(AND(LEN($D40)>0,SUMIF($F$13:$J$13,CA$13,$F40:$J40)>0,ASISTENCIA!#REF!<>\"X\",ASISTENCIA!#REF!<>\"L\",ASISTENCIA!#REF!<>\"J\",ASISTENCIA!#REF!<>\"F\"),SUMIF($F$13:$J$13,CA$13,$F40:$J40),\"\")","v":{"$error":"#REF!"}},{"$f":"IF(AND(LEN($D40)>0,SUMIF($F$13:$J$13,CB$13,$F40:$J40)>0,ASISTENCIA!#REF!<>\"X\",ASISTENCIA!#REF!<>\"L\",ASISTENCIA!#REF!<>\"J\",ASISTENCIA!#REF!<>\"F\"),SUMIF($F$13:$J$13,CB$13,$F40:$J40),\"\")","v":{"$error":"#REF!"}},{"$error":"#REF!"}]
[{"$error":"#REF!"},{"$f":"IF(LEN(C41)>0,VLOOKUP($O$4,DATA!$A$1:$S$1,2,FALSE),\"\")","v":{"$error":"#REF!"}},{"$error":"#REF!"},{"$f":"IF(LEN(ASISTENCIA!#REF!)>0,ASISTENCIA!#REF!,\"\")","v":{"$error":"#REF!"}},{"$f":"IF(LEN(D41)>0,ASISTENCIA!#REF!,\"\")","v":{"$error":"#REF!"}},null,null,null,null,null,"",null,null,{"$error":"#REF!"},{"$f":"IF(AND(LEN($D41)>0,SUMIF($F$13:$J$13,O$13,$F41:$J41)>0,ASISTENCIA!#REF!<>\"X\",ASISTENCIA!#REF!<>\"L\",ASISTENCIA!#REF!<>\"J\",ASISTENCIA!#REF!<>\"V\",ASISTENCIA!#REF!<>\"F\",ASISTENCIA!#REF!<>\"\"),SUMIF($F$13:$J$13,O$13,$F41:$J41),\"\")","v":{"$error":"#REF!"}},{"$f":"IF(AND(LEN($D41)>0,SUMIF($F$13:$J$13,P$13,$F41:$J41)>0,ASISTENCIA!#REF!<>\"X\",ASISTENCIA!#REF!<>\"L\",ASISTENCIA!#REF!<>\"J\",ASISTENCIA!#REF!<>\"V\",ASISTENCIA!#REF!<>\"F\",ASISTENCIA!#REF!<>\"\"),SUMIF($F$13:$J$13,P$13,$F41:$J41),\"\")","v":{"$error":"#REF!"}},{"$f":"IF(AND(LEN($D41)>0,SUMIF($F$13:$J$13,Q$13,$F41:$J41)>0,ASISTENCIA!#REF!<>\"X\",ASISTENCIA!#REF!<>\"L\",ASISTENCIA!#REF!<>\"J\",ASISTENCIA!#REF!<>\"V\",ASISTENCIA!#REF!<>\"F\",ASISTENCIA!#REF!<>\"\"),SUMIF($F$13:$J$13,Q$13,$F41:$J41),\"\")","v":{"$error":"#REF!"}},{"$f":"IF(AND(LEN($D41)>0,SUMIF($F$13:$J$13,R$13,$F41:$J41)>0,ASISTENCIA!#REF!<>\"X\",ASISTENCIA!#REF!<>\"L\",ASISTENCIA!#REF!<>\"J\",ASISTENCIA!#REF!<>\"V\",ASISTENCIA!#REF!<>\"F\",ASISTENCIA!#REF!<>\"\"),SUMIF($F$13:$J$13,R$13,$F41:$J41),\"\")","v":{"$error":"#REF!"}},{"$f":"IF(AND(LEN($D41)>0,SUMIF($F$13:$J$13,S$13,$F41:$J41)>0,ASISTENCIA!#REF!<>\"X\",ASISTENCIA!#REF!<>\"L\",ASISTENCIA!#REF!<>\"J\",ASISTENCIA!#REF!<>\"V\",ASISTENCIA!#REF!<>\"F\",ASISTENCIA!#REF!<>\"\"),SUMIF($F$13:$J$13,S$13,$F41:$J41),\"\")","v":{"$error":"#REF!"}},{"$f":"IF(AND(LEN($D41)>0,SUMIF($F$13:$J$13,T$13,$F41:$J41)>0,ASISTENCIA!#REF!<>\"X\",ASISTENCIA!#REF!<>\"L\",ASISTENCIA!#REF!<>\"J\",ASISTENCIA!#REF!<>\"V\",ASISTENCIA!#REF!<>\"F\",ASISTENCIA!#REF!<>\"\"),SUMIF($F$13:$J$13,T$13,$F41:$J41),\"\")","v":{"$error":"#REF!"}},{"$f":"IF(AND(LEN($D41)>0,SUMIF($F$13:$J$13,U$13,$F41:$J41)>0,ASISTENCIA!#REF!<>\"X\",ASISTENCIA!#REF!<>\"L\",ASISTENCIA!#REF!<>\"J\",ASISTENCIA!#REF!<>\"V\",ASISTENCIA!#REF!<>\"F\",ASISTENCIA!#REF!<>\"\"),SUMIF($F$13:$J$13,U$13,$F41:$J41),\"\")","v":{"$error":"#REF!"}},{"$f":"IF(AND(LEN($D41)>0,SUMIF($F$13:$J$13,V$13,$F41:$J41)>0,ASISTENCIA!#REF!<>\"X\",ASISTENCIA!#REF!<>\"L\",ASISTENCIA!#REF!<>\"J\",ASISTENCIA!#REF!<>\"V\",ASISTENCIA!#REF!<>\"F\",ASISTENCIA!#REF!<>\"\"),SUMIF($F$13:$J$13,V$13,$F41:$J41),\"\")","v":{"$error":"#REF!"}},{"$f":"IF(AND(LEN($D41)>0,SUMIF($F$13:$J$13,W$13,$F41:$J41)>0,ASISTENCIA!#REF!<>\"X\",ASISTENCIA!#REF!<>\"L\",ASISTENCIA!#REF!<>\"J\",ASISTENCIA!#REF!<>\"V\",ASISTENCIA!#REF!<>\"F\",ASISTENCIA!#REF!<>\"\"),SUMIF($F$13:$J$13,W$13,$F41:$J41),\"\")","v":{"$error":"#REF!"}},{"$f":"IF(AND(LEN($D41)>0,SUMIF($F$13:$J$13,X$13,$F41:$J41)>0,ASISTENCIA!#REF!<>\"X\",ASISTENCIA!#REF!<>\"L\",ASISTENCIA!#REF!<>\"J\",ASISTENCIA!#REF!<>\"V\",ASISTENCIA!#REF!<>\"F\",ASISTENCIA!#REF!<>\"\"),SUMIF($F$13:$J$13,X$13,$F41:$J41),\"\")","v":{"$error":"#REF!"}},{"$f":"IF(AND(LEN($D41)>0,SUMIF($F$13:$J$13,Y$13,$F41:$J41)>0,ASISTENCIA!#REF!<>\"X\",ASISTENCIA!#REF!<>\"L\",ASISTENCIA!#REF!<>\"J\",ASISTENCIA!#REF!<>\"V\",ASISTENCIA!#REF!<>\"F\",ASISTENCIA!#REF!<>\"\"),SUMIF($F$13:$J$13,Y$13,$F41:$J41),\"\")","v":{"$error":"#REF!"}},{"$f":"IF(AND(LEN($D41)>0,SUMIF($F$13:$J$13,Z$13,$F41:$J41)>0,ASISTENCIA!#REF!<>\"X\",ASISTENCIA!#REF!<>\"L\",ASISTENCIA!#REF!<>\"J\",ASISTENCIA!#REF!<>\"V\",ASISTENCIA!#REF!<>\"F\",ASISTENCIA!#REF!<>\"\"),SUMIF($F$13:$J$13,Z$13,$F41:$J41),\"\")","v":{"$error":"#REF!"}},{"$f":"IF(AND(LEN($D41)>0,SUMIF($F$13:$J$13,AA$13,$F41:$J41)>0,ASISTENCIA!#REF!<>\"X\",ASISTENCIA!#REF!<>\"L\",ASISTENCIA!#REF!<>\"J\",ASISTENCIA!#REF!<>\"V\",ASISTENCIA!#REF!<>\"F\",ASISTENCIA!#REF!<>\"\"),SUMIF($F$13:$J$13,AA$13,$F41:$J41),\"\")","v":{"$error":"#REF!"}},{"$f":"IF(AND(LEN($D41)>0,SUMIF($F$13:$J$13,AB$13,$F41:$J41)>0,ASISTENCIA!#REF!<>\"X\",ASISTENCIA!#REF!<>\"L\",ASISTENCIA!#REF!<>\"J\",ASISTENCIA!#REF!<>\"V\",ASISTENCIA!#REF!<>\"F\",ASISTENCIA!#REF!<>\"\"),SUMIF($F$13:$J$13,AB$13,$F41:$J41),\"\")","v":{"$error":"#REF!"}},{"$f":"IF(AND(LEN($D41)>0,SUMIF($F$13:$J$13,AC$13,$F41:$J41)>0,ASISTENCIA!#REF!<>\"X\",ASISTENCIA!#REF!<>\"L\",ASISTENCIA!#REF!<>\"J\",ASISTENCIA!#REF!<>\"V\",ASISTENCIA!#REF!<>\"F\",ASISTENCIA!#REF!<>\"\"),SUMIF($F$13:$J$13,AC$13,$F41:$J41),\"\")","v":{"$error":"#REF!"}},{"$f":"IF(AND(LEN($D41)>0,SUMIF($F$13:$J$13,AD$13,$F41:$J41)>0,ASISTENCIA!#REF!<>\"X\",ASISTENCIA!#REF!<>\"L\",ASISTENCIA!#REF!<>\"J\",ASISTENCIA!#REF!<>\"V\",ASISTENCIA!#REF!<>\"F\",ASISTENCIA!#REF!<>\"\"),SUMIF($F$13:$J$13,AD$13,$F41:$J41),\"\")","v":{"$error":"#REF!"}},{"$f":"IF(AND(LEN($D41)>0,SUMIF($F$13:$J$13,AE$13,$F41:$J41)>0,ASISTENCIA!#REF!<>\"X\",ASISTENCIA!#REF!<>\"L\",ASISTENCIA!#REF!<>\"J\",ASISTENCIA!#REF!<>\"V\",ASISTENCIA!#REF!<>\"F\",ASISTENCIA!#REF!<>\"\"),SUMIF($F$13:$J$13,AE$13,$F41:$J41),\"\")","v":{"$error":"#REF!"}},{"$f":"IF(AND(LEN($D41)>0,SUMIF($F$13:$J$13,AF$13,$F41:$J41)>0,ASISTENCIA!#REF!<>\"X\",ASISTENCIA!#REF!<>\"L\",ASISTENCIA!#REF!<>\"J\",ASISTENCIA!#REF!<>\"V\",ASISTENCIA!#REF!<>\"F\",ASISTENCIA!#REF!<>\"\"),SUMIF($F$13:$J$13,AF$13,$F41:$J41),\"\")","v":{"$error":"#REF!"}},{"$f":"IF(AND(LEN($D41)>0,SUMIF($F$13:$J$13,AG$13,$F41:$J41)>0,ASISTENCIA!#REF!<>\"X\",ASISTENCIA!#REF!<>\"L\",ASISTENCIA!#REF!<>\"J\",ASISTENCIA!#REF!<>\"V\",ASISTENCIA!#REF!<>\"F\",ASISTENCIA!#REF!<>\"\"),SUMIF($F$13:$J$13,AG$13,$F41:$J41),\"\")","v":{"$error":"#REF!"}},{"$f":"IF(AND(LEN($D41)>0,SUMIF($F$13:$J$13,AH$13,$F41:$J41)>0,ASISTENCIA!#REF!<>\"X\",ASISTENCIA!#REF!<>\"L\",ASISTENCIA!#REF!<>\"J\",ASISTENCIA!#REF!<>\"V\",ASISTENCIA!#REF!<>\"F\",ASISTENCIA!#REF!<>\"\"),SUMIF($F$13:$J$13,AH$13,$F41:$J41),\"\")","v":{"$error":"#REF!"}},{"$f":"IF(AND(LEN($D41)>0,SUMIF($F$13:$J$13,AI$13,$F41:$J41)>0,ASISTENCIA!#REF!<>\"X\",ASISTENCIA!#REF!<>\"L\",ASISTENCIA!#REF!<>\"J\",ASISTENCIA!#REF!<>\"V\",ASISTENCIA!#REF!<>\"F\",ASISTENCIA!#REF!<>\"\"),SUMIF($F$13:$J$13,AI$13,$F41:$J41),\"\")","v":{"$error":"#REF!"}},{"$f":"IF(AND(LEN($D41)>0,SUMIF($F$13:$J$13,AJ$13,$F41:$J41)>0,ASISTENCIA!#REF!<>\"X\",ASISTENCIA!#REF!<>\"L\",ASISTENCIA!#REF!<>\"J\",ASISTENCIA!#REF!<>\"V\",ASISTENCIA!#REF!<>\"F\",ASISTENCIA!#REF!<>\"\"),SUMIF($F$13:$J$13,AJ$13,$F41:$J41),\"\")","v":{"$error":"#REF!"}},{"$f":"IF(AND(LEN($D41)>0,SUMIF($F$13:$J$13,AK$13,$F41:$J41)>0,ASISTENCIA!#REF!<>\"X\",ASISTENCIA!#REF!<>\"L\",ASISTENCIA!#REF!<>\"J\",ASISTENCIA!#REF!<>\"V\",ASISTENCIA!#REF!<>\"F\",ASISTENCIA!#REF!<>\"\"),SUMIF($F$13:$J$13,AK$13,$F41:$J41),\"\")","v":{"$error":"#REF!"}},{"$f":"IF(AND(LEN($D41)>0,SUMIF($F$13:$J$13,AL$13,$F41:$J41)>0,ASISTENCIA!#REF!<>\"X\",ASISTENCIA!#REF!<>\"L\",ASISTENCIA!#REF!<>\"J\",ASISTENCIA!#REF!<>\"V\",ASISTENCIA!#REF!<>\"F\",ASISTENCIA!#REF!<>\"\"),SUMIF($F$13:$J$13,AL$13,$F41:$J41),\"\")","v":{"$error":"#REF!"}},{"$f":"IF(AND(LEN($D41)>0,SUMIF($F$13:$J$13,AM$13,$F41:$J41)>0,ASISTENCIA!#REF!<>\"X\",ASISTENCIA!#REF!<>\"L\",ASISTENCIA!#REF!<>\"J\",ASISTENCIA!#REF!<>\"V\",ASISTENCIA!#REF!<>\"F\",ASISTENCIA!#REF!<>\"\"),SUMIF($F$13:$J$13,AM$13,$F41:$J41),\"\")","v":{"$error":"#REF!"}},{"$f":"IF(AND(LEN($D41)>0,SUMIF($F$13:$J$13,AN$13,$F41:$J41)>0,ASISTENCIA!#REF!<>\"X\",ASISTENCIA!#REF!<>\"L\",ASISTENCIA!#REF!<>\"J\",ASISTENCIA!#REF!<>\"V\",ASISTENCIA!#REF!<>\"F\",ASISTENCIA!#REF!<>\"\"),SUMIF($F$13:$J$13,AN$13,$F41:$J41),\"\")","v":{"$error":"#REF!"}},{"$f":"IF(AND(LEN($D41)>0,SUMIF($F$13:$J$13,AO$13,$F41:$J41)>0,ASISTENCIA!#REF!<>\"X\",ASISTENCIA!#REF!<>\"L\",ASISTENCIA!#REF!<>\"J\",ASISTENCIA!#REF!<>\"V\",ASISTENCIA!#REF!<>\"F\",ASISTENCIA!#REF!<>\"\"),SUMIF($F$13:$J$13,AO$13,$F41:$J41),\"\")","v":{"$error":"#REF!"}},{"$f":"IF(AND(LEN($D41)>0,SUMIF($F$13:$J$13,AP$13,$F41:$J41)>0,ASISTENCIA!#REF!<>\"X\",ASISTENCIA!#REF!<>\"L\",ASISTENCIA!#REF!<>\"J\",ASISTENCIA!#REF!<>\"V\",ASISTENCIA!#REF!<>\"F\",ASISTENCIA!#REF!<>\"\"),SUMIF($F$13:$J$13,AP$13,$F41:$J41),\"\")","v":{"$error":"#REF!"}},{"$f":"IF(AND(LEN($D41)>0,SUMIF($F$13:$J$13,AQ$13,$F41:$J41)>0,ASISTENCIA!#REF!<>\"X\",ASISTENCIA!#REF!<>\"L\",ASISTENCIA!#REF!<>\"J\",ASISTENCIA!#REF!<>\"V\",ASISTENCIA!#REF!<>\"F\",ASISTENCIA!#REF!<>\"\"),SUMIF($F$13:$J$13,AQ$13,$F41:$J41),\"\")","v":{"$error":"#REF!"}},{"$f":"IF(AND(LEN($D41)>0,SUMIF($F$13:$J$13,AR$13,$F41:$J41)>0,ASISTENCIA!#REF!<>\"X\",ASISTENCIA!#REF!<>\"L\",ASISTENCIA!#REF!<>\"J\",ASISTENCIA!#REF!<>\"V\",ASISTENCIA!#REF!<>\"F\",ASISTENCIA!#REF!<>\"\"),SUMIF($F$13:$J$13,AR$13,$F41:$J41),\"\")","v":{"$error":"#REF!"}},{"$f":"IF(AND(LEN($D41)>0,SUMIF($F$13:$J$13,AS$13,$F41:$J41)>0,ASISTENCIA!#REF!<>\"X\",ASISTENCIA!#REF!<>\"L\",ASISTENCIA!#REF!<>\"J\",ASISTENCIA!#REF!<>\"V\",ASISTENCIA!#REF!<>\"F\",ASISTENCIA!#REF!<>\"\"),SUMIF($F$13:$J$13,AS$13,$F41:$J41),\"\")","v":{"$error":"#REF!"}},{"$error":"#REF!"},null,null,null,{"$f":"IF(AND(LEN($D41)>0,SUMIF($F$13:$J$13,AX$13,$F41:$J41)>0,ASISTENCIA!#REF!<>\"X\",ASISTENCIA!#REF!<>\"L\",ASISTENCIA!#REF!<>\"J\",ASISTENCIA!#REF!<>\"F\"),SUMIF($F$13:$J$13,AX$13,$F41:$J41),\"\")","v":{"$error":"#REF!"}},{"$f":"IF(AND(LEN($D41)>0,SUMIF($F$13:$J$13,AY$13,$F41:$J41)>0,ASISTENCIA!#REF!<>\"X\",ASISTENCIA!#REF!<>\"L\",ASISTENCIA!#REF!<>\"J\",ASISTENCIA!#REF!<>\"F\"),SUMIF($F$13:$J$13,AY$13,$F41:$J41),\"\")","v":{"$error":"#REF!"}},{"$f":"IF(AND(LEN($D41)>0,SUMIF($F$13:$J$13,AZ$13,$F41:$J41)>0,ASISTENCIA!#REF!<>\"X\",ASISTENCIA!#REF!<>\"L\",ASISTENCIA!#REF!<>\"J\",ASISTENCIA!#REF!<>\"F\"),SUMIF($F$13:$J$13,AZ$13,$F41:$J41),\"\")","v":{"$error":"#REF!"}},{"$f":"IF(AND(LEN($D41)>0,SUMIF($F$13:$J$13,BA$13,$F41:$J41)>0,ASISTENCIA!#REF!<>\"X\",ASISTENCIA!#REF!<>\"L\",ASISTENCIA!#REF!<>\"J\",ASISTENCIA!#REF!<>\"F\"),SUMIF($F$13:$J$13,BA$13,$F41:$J41),\"\")","v":{"$error":"#REF!"}},{"$f":"IF(AND(LEN($D41)>0,SUMIF($F$13:$J$13,BB$13,$F41:$J41)>0,ASISTENCIA!#REF!<>\"X\",ASISTENCIA!#REF!<>\"L\",ASISTENCIA!#REF!<>\"J\",ASISTENCIA!#REF!<>\"F\"),SUMIF($F$13:$J$13,BB$13,$F41:$J41),\"\")","v":{"$error":"#REF!"}},{"$f":"IF(AND(LEN($D41)>0,SUMIF($F$13:$J$13,BC$13,$F41:$J41)>0,ASISTENCIA!#REF!<>\"X\",ASISTENCIA!#REF!<>\"L\",ASISTENCIA!#REF!<>\"J\",ASISTENCIA!#REF!<>\"F\"),SUMIF($F$13:$J$13,BC$13,$F41:$J41),\"\")","v":{"$error":"#REF!"}},{"$f":"IF(AND(LEN($D41)>0,SUMIF($F$13:$J$13,BD$13,$F41:$J41)>0,ASISTENCIA!#REF!<>\"X\",ASISTENCIA!#REF!<>\"L\",ASISTENCIA!#REF!<>\"J\",ASISTENCIA!#REF!<>\"F\"),SUMIF($F$13:$J$13,BD$13,$F41:$J41),\"\")","v":{"$error":"#REF!"}},{"$f":"IF(AND(LEN($D41)>0,SUMIF($F$13:$J$13,BE$13,$F41:$J41)>0,ASISTENCIA!#REF!<>\"X\",ASISTENCIA!#REF!<>\"L\",ASISTENCIA!#REF!<>\"J\",ASISTENCIA!#REF!<>\"F\"),SUMIF($F$13:$J$13,BE$13,$F41:$J41),\"\")","v":{"$error":"#REF!"}},{"$f":"IF(AND(LEN($D41)>0,SUMIF($F$13:$J$13,BF$13,$F41:$J41)>0,ASISTENCIA!#REF!<>\"X\",ASISTENCIA!#REF!<>\"L\",ASISTENCIA!#REF!<>\"J\",ASISTENCIA!#REF!<>\"F\"),SUMIF($F$13:$J$13,BF$13,$F41:$J41),\"\")","v":{"$error":"#REF!"}},{"$f":"IF(AND(LEN($D41)>0,SUMIF($F$13:$J$13,BG$13,$F41:$J41)>0,ASISTENCIA!#REF!<>\"X\",ASISTENCIA!#REF!<>\"L\",ASISTENCIA!#REF!<>\"J\",ASISTENCIA!#REF!<>\"F\"),SUMIF($F$13:$J$13,BG$13,$F41:$J41),\"\")","v":{"$error":"#REF!"}},{"$f":"IF(AND(LEN($D41)>0,SUMIF($F$13:$J$13,BH$13,$F41:$J41)>0,ASISTENCIA!#REF!<>\"X\",ASISTENCIA!#REF!<>\"L\",ASISTENCIA!#REF!<>\"J\",ASISTENCIA!#REF!<>\"F\"),SUMIF($F$13:$J$13,BH$13,$F41:$J41),\"\")","v":{"$error":"#REF!"}},{"$f":"IF(AND(LEN($D41)>0,SUMIF($F$13:$J$13,BI$13,$F41:$J41)>0,ASISTENCIA!#REF!<>\"X\",ASISTENCIA!#REF!<>\"L\",ASISTENCIA!#REF!<>\"J\",ASISTENCIA!#REF!<>\"F\"),SUMIF($F$13:$J$13,BI$13,$F41:$J41),\"\")","v":{"$error":"#REF!"}},{"$f":"IF(AND(LEN($D41)>0,SUMIF($F$13:$J$13,BJ$13,$F41:$J41)>0,ASISTENCIA!#REF!<>\"X\",ASISTENCIA!#REF!<>\"L\",ASISTENCIA!#REF!<>\"J\",ASISTENCIA!#REF!<>\"F\"),SUMIF($F$13:$J$13,BJ$13,$F41:$J41),\"\")","v":{"$error":"#REF!"}},{"$f":"IF(AND(LEN($D41)>0,SUMIF($F$13:$J$13,BK$13,$F41:$J41)>0,ASISTENCIA!#REF!<>\"X\",ASISTENCIA!#REF!<>\"L\",ASISTENCIA!#REF!<>\"J\",ASISTENCIA!#REF!<>\"F\"),SUMIF($F$13:$J$13,BK$13,$F41:$J41),\"\")","v":{"$error":"#REF!"}},{"$f":"IF(AND(LEN($D41)>0,SUMIF($F$13:$J$13,BL$13,$F41:$J41)>0,ASISTENCIA!#REF!<>\"X\",ASISTENCIA!#REF!<>\"L\",ASISTENCIA!#REF!<>\"J\",ASISTENCIA!#REF!<>\"F\"),SUMIF($F$13:$J$13,BL$13,$F41:$J41),\"\")","v":{"$error":"#REF!"}},{"$f":"IF(AND(LEN($D41)>0,SUMIF($F$13:$J$13,BM$13,$F41:$J41)>0,ASISTENCIA!#REF!<>\"X\",ASISTENCIA!#REF!<>\"L\",ASISTENCIA!#REF!<>\"J\",ASISTENCIA!#REF!<>\"F\"),SUMIF($F$13:$J$13,BM$13,$F41:$J41),\"\")","v":{"$error":"#REF!"}},{"$f":"IF(AND(LEN($D41)>0,SUMIF($F$13:$J$13,BN$13,$F41:$J41)>0,ASISTENCIA!#REF!<>\"X\",ASISTENCIA!#REF!<>\"L\",ASISTENCIA!#REF!<>\"J\",ASISTENCIA!#REF!<>\"F\"),SUMIF($F$13:$J$13,BN$13,$F41:$J41),\"\")","v":{"$error":"#REF!"}},{"$f":"IF(AND(LEN($D41)>0,SUMIF($F$13:$J$13,BO$13,$F41:$J41)>0,ASISTENCIA!#REF!<>\"X\",ASISTENCIA!#REF!<>\"L\",ASISTENCIA!#REF!<>\"J\",ASISTENCIA!#REF!<>\"F\"),SUMIF($F$13:$J$13,BO$13,$F41:$J41),\"\")","v":{"$error":"#REF!"}},{"$f":"IF(AND(LEN($D41)>0,SUMIF($F$13:$J$13,BP$13,$F41:$J41)>0,ASISTENCIA!#REF!<>\"X\",ASISTENCIA!#REF!<>\"L\",ASISTENCIA!#REF!<>\"J\",ASISTENCIA!#REF!<>\"F\"),SUMIF($F$13:$J$13,BP$13,$F41:$J41),\"\")","v":{"$error":"#REF!"}},{"$f":"IF(AND(LEN($D41)>0,SUMIF($F$13:$J$13,BQ$13,$F41:$J41)>0,ASISTENCIA!#REF!<>\"X\",ASISTENCIA!#REF!<>\"L\",ASISTENCIA!#REF!<>\"J\",ASISTENCIA!#REF!<>\"F\"),SUMIF($F$13:$J$13,BQ$13,$F41:$J41),\"\")","v":{"$error":"#REF!"}},{"$f":"IF(AND(LEN($D41)>0,SUMIF($F$13:$J$13,BR$13,$F41:$J41)>0,ASISTENCIA!#REF!<>\"X\",ASISTENCIA!#REF!<>\"L\",ASISTENCIA!#REF!<>\"J\",ASISTENCIA!#REF!<>\"F\"),SUMIF($F$13:$J$13,BR$13,$F41:$J41),\"\")","v":{"$error":"#REF!"}},{"$f":"IF(AND(LEN($D41)>0,SUMIF($F$13:$J$13,BS$13,$F41:$J41)>0,ASISTENCIA!#REF!<>\"X\",ASISTENCIA!#REF!<>\"L\",ASISTENCIA!#REF!<>\"J\",ASISTENCIA!#REF!<>\"F\"),SUMIF($F$13:$J$13,BS$13,$F41:$J41),\"\")","v":{"$error":"#REF!"}},{"$f":"IF(AND(LEN($D41)>0,SUMIF($F$13:$J$13,BT$13,$F41:$J41)>0,ASISTENCIA!#REF!<>\"X\",ASISTENCIA!#REF!<>\"L\",ASISTENCIA!#REF!<>\"J\",ASISTENCIA!#REF!<>\"F\"),SUMIF($F$13:$J$13,BT$13,$F41:$J41),\"\")","v":{"$error":"#REF!"}},{"$f":"IF(AND(LEN($D41)>0,SUMIF($F$13:$J$13,BU$13,$F41:$J41)>0,ASISTENCIA!#REF!<>\"X\",ASISTENCIA!#REF!<>\"L\",ASISTENCIA!#REF!<>\"J\",ASISTENCIA!#REF!<>\"F\"),SUMIF($F$13:$J$13,BU$13,$F41:$J41),\"\")","v":{"$error":"#REF!"}},{"$f":"IF(AND(LEN($D41)>0,SUMIF($F$13:$J$13,BV$13,$F41:$J41)>0,ASISTENCIA!#REF!<>\"X\",ASISTENCIA!#REF!<>\"L\",ASISTENCIA!#REF!<>\"J\",ASISTENCIA!#REF!<>\"F\"),SUMIF($F$13:$J$13,BV$13,$F41:$J41),\"\")","v":{"$error":"#REF!"}},{"$f":"IF(AND(LEN($D41)>0,SUMIF($F$13:$J$13,BW$13,$F41:$J41)>0,ASISTENCIA!#REF!<>\"X\",ASISTENCIA!#REF!<>\"L\",ASISTENCIA!#REF!<>\"J\",ASISTENCIA!#REF!<>\"F\"),SUMIF($F$13:$J$13,BW$13,$F41:$J41),\"\")","v":{"$error":"#REF!"}},{"$f":"IF(AND(LEN($D41)>0,SUMIF($F$13:$J$13,BX$13,$F41:$J41)>0,ASISTENCIA!#REF!<>\"X\",ASISTENCIA!#REF!<>\"L\",ASISTENCIA!#REF!<>\"J\",ASISTENCIA!#REF!<>\"F\"),SUMIF($F$13:$J$13,BX$13,$F41:$J41),\"\")","v":{"$error":"#REF!"}},{"$f":"IF(AND(LEN($D41)>0,SUMIF($F$13:$J$13,BY$13,$F41:$J41)>0,ASISTENCIA!#REF!<>\"X\",ASISTENCIA!#REF!<>\"L\",ASISTENCIA!#REF!<>\"J\",ASISTENCIA!#REF!<>\"F\"),SUMIF($F$13:$J$13,BY$13,$F41:$J41),\"\")","v":{"$error":"#REF!"}},{"$f":"IF(AND(LEN($D41)>0,SUMIF($F$13:$J$13,BZ$13,$F41:$J41)>0,ASISTENCIA!#REF!<>\"X\",ASISTENCIA!#REF!<>\"L\",ASISTENCIA!#REF!<>\"J\",ASISTENCIA!#REF!<>\"F\"),SUMIF($F$13:$J$13,BZ$13,$F41:$J41),\"\")","v":{"$error":"#REF!"}},{"$f":"IF(AND(LEN($D41)>0,SUMIF($F$13:$J$13,CA$13,$F41:$J41)>0,ASISTENCIA!#REF!<>\"X\",ASISTENCIA!#REF!<>\"L\",ASISTENCIA!#REF!<>\"J\",ASISTENCIA!#REF!<>\"F\"),SUMIF($F$13:$J$13,CA$13,$F41:$J41),\"\")","v":{"$error":"#REF!"}},{"$f":"IF(AND(LEN($D41)>0,SUMIF($F$13:$J$13,CB$13,$F41:$J41)>0,ASISTENCIA!#REF!<>\"X\",ASISTENCIA!#REF!<>\"L\",ASISTENCIA!#REF!<>\"J\",ASISTENCIA!#REF!<>\"F\"),SUMIF($F$13:$J$13,CB$13,$F41:$J41),\"\")","v":{"$error":"#REF!"}},{"$error":"#REF!"}]
[{"$error":"#REF!"},{"$f":"IF(LEN(C42)>0,VLOOKUP($O$4,DATA!$A$1:$S$1,2,FALSE),\"\")","v":{"$error":"#REF!"}},{"$error":"#REF!"},{"$f":"IF(LEN(ASISTENCIA!#REF!)>0,ASISTENCIA!#REF!,\"\")","v":{"$error":"#REF!"}},{"$f":"IF(LEN(D42)>0,ASISTENCIA!#REF!,\"\")","v":{"$error":"#REF!"}},null,null,null,null,null,"",null,null,{"$error":"#REF!"},{"$f":"IF(AND(LEN($D42)>0,SUMIF($F$13:$J$13,O$13,$F42:$J42)>0,ASISTENCIA!#REF!<>\"X\",ASISTENCIA!#REF!<>\"L\",ASISTENCIA!#REF!<>\"J\",ASISTENCIA!#REF!<>\"V\",ASISTENCIA!#REF!<>\"F\",ASISTENCIA!#REF!<>\"\"),SUMIF($F$13:$J$13,O$13,$F42:$J42),\"\")","v":{"$error":"#REF!"}},{"$f":"IF(AND(LEN($D42)>0,SUMIF($F$13:$J$13,P$13,$F42:$J42)>0,ASISTENCIA!#REF!<>\"X\",ASISTENCIA!#REF!<>\"L\",ASISTENCIA!#REF!<>\"J\",ASISTENCIA!#REF!<>\"V\",ASISTENCIA!#REF!<>\"F\",ASISTENCIA!#REF!<>\"\"),SUMIF($F$13:$J$13,P$13,$F42:$J42),\"\")","v":{"$error":"#REF!"}},{"$f":"IF(AND(LEN($D42)>0,SUMIF($F$13:$J$13,Q$13,$F42:$J42)>0,ASISTENCIA!#REF!<>\"X\",ASISTENCIA!#REF!<>\"L\",ASISTENCIA!#REF!<>\"J\",ASISTENCIA!#REF!<>\"V\",ASISTENCIA!#REF!<>\"F\",ASISTENCIA!#REF!<>\"\"),SUMIF($F$13:$J$13,Q$13,$F42:$J42),\"\")","v":{"$error":"#REF!"}},{"$f":"IF(AND(LEN($D42)>0,SUMIF($F$13:$J$13,R$13,$F42:$J42)>0,ASISTENCIA!#REF!<>\"X\",ASISTENCIA!#REF!<>\"L\",ASISTENCIA!#REF!<>\"J\",ASISTENCIA!#REF!<>\"V\",ASISTENCIA!#REF!<>\"F\",ASISTENCIA!#REF!<>\"\"),SUMIF($F$13:$J$13,R$13,$F42:$J42),\"\")","v":{"$error":"#REF!"}},{"$f":"IF(AND(LEN($D42)>0,SUMIF($F$13:$J$13,S$13,$F42:$J42)>0,ASISTENCIA!#REF!<>\"X\",ASISTENCIA!#REF!<>\"L\",ASISTENCIA!#REF!<>\"J\",ASISTENCIA!#REF!<>\"V\",ASISTENCIA!#REF!<>\"F\",ASISTENCIA!#REF!<>\"\"),SUMIF($F$13:$J$13,S$13,$F42:$J42),\"\")","v":{"$error":"#REF!"}},{"$f":"IF(AND(LEN($D42)>0,SUMIF($F$13:$J$13,T$13,$F42:$J42)>0,ASISTENCIA!#REF!<>\"X\",ASISTENCIA!#REF!<>\"L\",ASISTENCIA!#REF!<>\"J\",ASISTENCIA!#REF!<>\"V\",ASISTENCIA!#REF!<>\"F\",ASISTENCIA!#REF!<>\"\"),SUMIF($F$13:$J$13,T$13,$F42:$J42),\"\")","v":{"$error":"#REF!"}},{"$f":"IF(AND(LEN($D42)>0,SUMIF($F$13:$J$13,U$13,$F42:$J42)>0,ASISTENCIA!#REF!<>\"X\",ASISTENCIA!#REF!<>\"L\",ASISTENCIA!#REF!<>\"J\",ASISTENCIA!#REF!<>\"V\",ASISTENCIA!#REF!<>\"F\",ASISTENCIA!#REF!<>\"\"),SUMIF($F$13:$J$13,U$13,$F42:$J42),\"\")","v":{"$error":"#REF!"}},{"$f":"IF(AND(LEN($D42)>0,SUMIF($F$13:$J$13,V$13,$F42:$J42)>0,ASISTENCIA!#REF!<>\"X\",ASISTENCIA!#REF!<>\"L\",ASISTENCIA!#REF!<>\"J\",ASISTENCIA!#REF!<>\"V\",ASISTENCIA!#REF!<>\"F\",ASISTENCIA!#REF!<>\"\"),SUMIF($F$13:$J$13,V$13,$F42:$J42),\"\")","v":{"$error":"#REF!"}},{"$f":"IF(AND(LEN($D42)>0,SUMIF($F$13:$J$13,W$13,$F42:$J42)>0,ASISTENCIA!#REF!<>\"X\",ASISTENCIA!#REF!<>\"L\",ASISTENCIA!#REF!<>\"J\",ASISTENCIA!#REF!<>\"V\",ASISTENCIA!#REF!<>\"F\",ASISTENCIA!#REF!<>\"\"),SUMIF($F$13:$J$13,W$13,$F42:$J42),\"\")","v":{"$error":"#REF!"}},{"$f":"IF(AND(LEN($D42)>0,SUMIF($F$13:$J$13,X$13,$F42:$J42)>0,ASISTENCIA!#REF!<>\"X\",ASISTENCIA!#REF!<>\"L\",ASISTENCIA!#REF!<>\"J\",ASISTENCIA!#REF!<>\"V\",ASISTENCIA!#REF!<>\"F\",ASISTENCIA!#REF!<>\"\"),SUMIF($F$13:$J$13,X$13,$F42:$J42),\"\")","v":{"$error":"#REF!"}},{"$f":"IF(AND(LEN($D42)>0,SUMIF($F$13:$J$13,Y$13,$F42:$J42)>0,ASISTENCIA!#REF!<>\"X\",ASISTENCIA!#REF!<>\"L\",ASISTENCIA!#REF!<>\"J\",ASISTENCIA!#REF!<>\"V\",ASISTENCIA!#REF!<>\"F\",ASISTENCIA!#REF!<>\"\"),SUMIF($F$13:$J$13,Y$13,$F42:$J42),\"\")","v":{"$error":"#REF!"}},{"$f":"IF(AND(LEN($D42)>0,SUMIF($F$13:$J$13,Z$13,$F42:$J42)>0,ASISTENCIA!#REF!<>\"X\",ASISTENCIA!#REF!<>\"L\",ASISTENCIA!#REF!<>\"J\",ASISTENCIA!#REF!<>\"V\",ASISTENCIA!#REF!<>\"F\",ASISTENCIA!#REF!<>\"\"),SUMIF($F$13:$J$13,Z$13,$F42:$J42),\"\")","v":{"$error":"#REF!"}},{"$f":"IF(AND(LEN($D42)>0,SUMIF($F$13:$J$13,AA$13,$F42:$J42)>0,ASISTENCIA!#REF!<>\"X\",ASISTENCIA!#REF!<>\"L\",ASISTENCIA!#REF!<>\"J\",ASISTENCIA!#REF!<>\"V\",ASISTENCIA!#REF!<>\"F\",ASISTENCIA!#REF!<>\"\"),SUMIF($F$13:$J$13,AA$13,$F42:$J42),\"\")","v":{"$error":"#REF!"}},{"$f":"IF(AND(LEN($D42)>0,SUMIF($F$13:$J$13,AB$13,$F42:$J42)>0,ASISTENCIA!#REF!<>\"X\",ASISTENCIA!#REF!<>\"L\",ASISTENCIA!#REF!<>\"J\",ASISTENCIA!#REF!<>\"V\",ASISTENCIA!#REF!<>\"F\",ASISTENCIA!#REF!<>\"\"),SUMIF($F$13:$J$13,AB$13,$F42:$J42),\"\")","v":{"$error":"#REF!"}},{"$f":"IF(AND(LEN($D42)>0,SUMIF($F$13:$J$13,AC$13,$F42:$J42)>0,ASISTENCIA!#REF!<>\"X\",ASISTENCIA!#REF!<>\"L\",ASISTENCIA!#REF!<>\"J\",ASISTENCIA!#REF!<>\"V\",ASISTENCIA!#REF!<>\"F\",ASISTENCIA!#REF!<>\"\"),SUMIF($F$13:$J$13,AC$13,$F42:$J42),\"\")","v":{"$error":"#REF!"}},{"$f":"IF(AND(LEN($D42)>0,SUMIF($F$13:$J$13,AD$13,$F42:$J42)>0,ASISTENCIA!#REF!<>\"X\",ASISTENCIA!#REF!<>\"L\",ASISTENCIA!#REF!<>\"J\",ASISTENCIA!#REF!<>\"V\",ASISTENCIA!#REF!<>\"F\",ASISTENCIA!#REF!<>\"\"),SUMIF($F$13:$J$13,AD$13,$F42:$J42),\"\")","v":{"$error":"#REF!"}},{"$f":"IF(AND(LEN($D42)>0,SUMIF($F$13:$J$13,AE$13,$F42:$J42)>0,ASISTENCIA!#REF!<>\"X\",ASISTENCIA!#REF!<>\"L\",ASISTENCIA!#REF!<>\"J\",ASISTENCIA!#REF!<>\"V\",ASISTENCIA!#REF!<>\"F\",ASISTENCIA!#REF!<>\"\"),SUMIF($F$13:$J$13,AE$13,$F42:$J42),\"\")","v":{"$error":"#REF!"}},{"$f":"IF(AND(LEN($D42)>0,SUMIF($F$13:$J$13,AF$13,$F42:$J42)>0,ASISTENCIA!#REF!<>\"X\",ASISTENCIA!#REF!<>\"L\",ASISTENCIA!#REF!<>\"J\",ASISTENCIA!#REF!<>\"V\",ASISTENCIA!#REF!<>\"F\",ASISTENCIA!#REF!<>\"\"),SUMIF($F$13:$J$13,AF$13,$F42:$J42),\"\")","v":{"$error":"#REF!"}},{"$f":"IF(AND(LEN($D42)>0,SUMIF($F$13:$J$13,AG$13,$F42:$J42)>0,ASISTENCIA!#REF!<>\"X\",ASISTENCIA!#REF!<>\"L\",ASISTENCIA!#REF!<>\"J\",ASISTENCIA!#REF!<>\"V\",ASISTENCIA!#REF!<>\"F\",ASISTENCIA!#REF!<>\"\"),SUMIF($F$13:$J$13,AG$13,$F42:$J42),\"\")","v":{"$error":"#REF!"}},{"$f":"IF(AND(LEN($D42)>0,SUMIF($F$13:$J$13,AH$13,$F42:$J42)>0,ASISTENCIA!#REF!<>\"X\",ASISTENCIA!#REF!<>\"L\",ASISTENCIA!#REF!<>\"J\",ASISTENCIA!#REF!<>\"V\",ASISTENCIA!#REF!<>\"F\",ASISTENCIA!#REF!<>\"\"),SUMIF($F$13:$J$13,AH$13,$F42:$J42),\"\")","v":{"$error":"#REF!"}},{"$f":"IF(AND(LEN($D42)>0,SUMIF($F$13:$J$13,AI$13,$F42:$J42)>0,ASISTENCIA!#REF!<>\"X\",ASISTENCIA!#REF!<>\"L\",ASISTENCIA!#REF!<>\"J\",ASISTENCIA!#REF!<>\"V\",ASISTENCIA!#REF!<>\"F\",ASISTENCIA!#REF!<>\"\"),SUMIF($F$13:$J$13,AI$13,$F42:$J42),\"\")","v":{"$error":"#REF!"}},{"$f":"IF(AND(LEN($D42)>0,SUMIF($F$13:$J$13,AJ$13,$F42:$J42)>0,ASISTENCIA!#REF!<>\"X\",ASISTENCIA!#REF!<>\"L\",ASISTENCIA!#REF!<>\"J\",ASISTENCIA!#REF!<>\"V\",ASISTENCIA!#REF!<>\"F\",ASISTENCIA!#REF!<>\"\"),SUMIF($F$13:$J$13,AJ$13,$F42:$J42),\"\")","v":{"$error":"#REF!"}},{"$f":"IF(AND(LEN($D42)>0,SUMIF($F$13:$J$13,AK$13,$F42:$J42)>0,ASISTENCIA!#REF!<>\"X\",ASISTENCIA!#REF!<>\"L\",ASISTENCIA!#REF!<>\"J\",ASISTENCIA!#REF!<>\"V\",ASISTENCIA!#REF!<>\"F\",ASISTENCIA!#REF!<>\"\"),SUMIF($F$13:$J$13,AK$13,$F42:$J42),\"\")","v":{"$error":"#REF!"}},{"$f":"IF(AND(LEN($D42)>0,SUMIF($F$13:$J$13,AL$13,$F42:$J42)>0,ASISTENCIA!#REF!<>\"X\",ASISTENCIA!#REF!<>\"L\",ASISTENCIA!#REF!<>\"J\",ASISTENCIA!#REF!<>\"V\",ASISTENCIA!#REF!<>\"F\",ASISTENCIA!#REF!<>\"\"),SUMIF($F$13:$J$13,AL$13,$F42:$J42),\"\")","v":{"$error":"#REF!"}},{"$f":"IF(AND(LEN($D42)>0,SUMIF($F$13:$J$13,AM$13,$F42:$J42)>0,ASISTENCIA!#REF!<>\"X\",ASISTENCIA!#REF!<>\"L\",ASISTENCIA!#REF!<>\"J\",ASISTENCIA!#REF!<>\"V\",ASISTENCIA!#REF!<>\"F\",ASISTENCIA!#REF!<>\"\"),SUMIF($F$13:$J$13,AM$13,$F42:$J42),\"\")","v":{"$error":"#REF!"}},{"$f":"IF(AND(LEN($D42)>0,SUMIF($F$13:$J$13,AN$13,$F42:$J42)>0,ASISTENCIA!#REF!<>\"X\",ASISTENCIA!#REF!<>\"L\",ASISTENCIA!#REF!<>\"J\",ASISTENCIA!#REF!<>\"V\",ASISTENCIA!#REF!<>\"F\",ASISTENCIA!#REF!<>\"\"),SUMIF($F$13:$J$13,AN$13,$F42:$J42),\"\")","v":{"$error":"#REF!"}},{"$f":"IF(AND(LEN($D42)>0,SUMIF($F$13:$J$13,AO$13,$F42:$J42)>0,ASISTENCIA!#REF!<>\"X\",ASISTENCIA!#REF!<>\"L\",ASISTENCIA!#REF!<>\"J\",ASISTENCIA!#REF!<>\"V\",ASISTENCIA!#REF!<>\"F\",ASISTENCIA!#REF!<>\"\"),SUMIF($F$13:$J$13,AO$13,$F42:$J42),\"\")","v":{"$error":"#REF!"}},{"$f":"IF(AND(LEN($D42)>0,SUMIF($F$13:$J$13,AP$13,$F42:$J42)>0,ASISTENCIA!#REF!<>\"X\",ASISTENCIA!#REF!<>\"L\",ASISTENCIA!#REF!<>\"J\",ASISTENCIA!#REF!<>\"V\",ASISTENCIA!#REF!<>\"F\",ASISTENCIA!#REF!<>\"\"),SUMIF($F$13:$J$13,AP$13,$F42:$J42),\"\")","v":{"$error":"#REF!"}},{"$f":"IF(AND(LEN($D42)>0,SUMIF($F$13:$J$13,AQ$13,$F42:$J42)>0,ASISTENCIA!#REF!<>\"X\",ASISTENCIA!#REF!<>\"L\",ASISTENCIA!#REF!<>\"J\",ASISTENCIA!#REF!<>\"V\",ASISTENCIA!#REF!<>\"F\",ASISTENCIA!#REF!<>\"\"),SUMIF($F$13:$J$13,AQ$13,$F42:$J42),\"\")","v":{"$error":"#REF!"}},{"$f":"IF(AND(LEN($D42)>0,SUMIF($F$13:$J$13,AR$13,$F42:$J42)>0,ASISTENCIA!#REF!<>\"X\",ASISTENCIA!#REF!<>\"L\",ASISTENCIA!#REF!<>\"J\",ASISTENCIA!#REF!<>\"V\",ASISTENCIA!#REF!<>\"F\",ASISTENCIA!#REF!<>\"\"),SUMIF($F$13:$J$13,AR$13,$F42:$J42),\"\")","v":{"$error":"#REF!"}},{"$f":"IF(AND(LEN($D42)>0,SUMIF($F$13:$J$13,AS$13,$F42:$J42)>0,ASISTENCIA!#REF!<>\"X\",ASISTENCIA!#REF!<>\"L\",ASISTENCIA!#REF!<>\"J\",ASISTENCIA!#REF!<>\"V\",ASISTENCIA!#REF!<>\"F\",ASISTENCIA!#REF!<>\"\"),SUMIF($F$13:$J$13,AS$13,$F42:$J42),\"\")","v":{"$error":"#REF!"}},{"$error":"#REF!"},null,null,null,{"$f":"IF(AND(LEN($D42)>0,SUMIF($F$13:$J$13,AX$13,$F42:$J42)>0,ASISTENCIA!#REF!<>\"X\",ASISTENCIA!#REF!<>\"L\",ASISTENCIA!#REF!<>\"J\",ASISTENCIA!#REF!<>\"F\"),SUMIF($F$13:$J$13,AX$13,$F42:$J42),\"\")","v":{"$error":"#REF!"}},{"$f":"IF(AND(LEN($D42)>0,SUMIF($F$13:$J$13,AY$13,$F42:$J42)>0,ASISTENCIA!#REF!<>\"X\",ASISTENCIA!#REF!<>\"L\",ASISTENCIA!#REF!<>\"J\",ASISTENCIA!#REF!<>\"F\"),SUMIF($F$13:$J$13,AY$13,$F42:$J42),\"\")","v":{"$error":"#REF!"}},{"$f":"IF(AND(LEN($D42)>0,SUMIF($F$13:$J$13,AZ$13,$F42:$J42)>0,ASISTENCIA!#REF!<>\"X\",ASISTENCIA!#REF!<>\"L\",ASISTENCIA!#REF!<>\"J\",ASISTENCIA!#REF!<>\"F\"),SUMIF($F$13:$J$13,AZ$13,$F42:$J42),\"\")","v":{"$error":"#REF!"}},{"$f":"IF(AND(LEN($D42)>0,SUMIF($F$13:$J$13,BA$13,$F42:$J42)>0,ASISTENCIA!#REF!<>\"X\",ASISTENCIA!#REF!<>\"L\",ASISTENCIA!#REF!<>\"J\",ASISTENCIA!#REF!<>\"F\"),SUMIF($F$13:$J$13,BA$13,$F42:$J42),\"\")","v":{"$error":"#REF!"}},{"$f":"IF(AND(LEN($D42)>0,SUMIF($F$13:$J$13,BB$13,$F42:$J42)>0,ASISTENCIA!#REF!<>\"X\",ASISTENCIA!#REF!<>\"L\",ASISTENCIA!#REF!<>\"J\",ASISTENCIA!#REF!<>\"F\"),SUMIF($F$13:$J$13,BB$13,$F42:$J42),\"\")","v":{"$error":"#REF!"}},{"$f":"IF(AND(LEN($D42)>0,SUMIF($F$13:$J$13,BC$13,$F42:$J42)>0,ASISTENCIA!#REF!<>\"X\",ASISTENCIA!#REF!<>\"L\",ASISTENCIA!#REF!<>\"J\",ASISTENCIA!#REF!<>\"F\"),SUMIF($F$13:$J$13,BC$13,$F42:$J42),\"\")","v":{"$error":"#REF!"}},{"$f":"IF(AND(LEN($D42)>0,SUMIF($F$13:$J$13,BD$13,$F42:$J42)>0,ASISTENCIA!#REF!<>\"X\",ASISTENCIA!#REF!<>\"L\",ASISTENCIA!#REF!<>\"J\",ASISTENCIA!#REF!<>\"F\"),SUMIF($F$13:$J$13,BD$13,$F42:$J42),\"\")","v":{"$error":"#REF!"}},{"$f":"IF(AND(LEN($D42)>0,SUMIF($F$13:$J$13,BE$13,$F42:$J42)>0,ASISTENCIA!#REF!<>\"X\",ASISTENCIA!#REF!<>\"L\",ASISTENCIA!#REF!<>\"J\",ASISTENCIA!#REF!<>\"F\"),SUMIF($F$13:$J$13,BE$13,$F42:$J42),\"\")","v":{"$error":"#REF!"}},{"$f":"IF(AND(LEN($D42)>0,SUMIF($F$13:$J$13,BF$13,$F42:$J42)>0,ASISTENCIA!#REF!<>\"X\",ASISTENCIA!#REF!<>\"L\",ASISTENCIA!#REF!<>\"J\",ASISTENCIA!#REF!<>\"F\"),SUMIF($F$13:$J$13,BF$13,$F42:$J42),\"\")","v":{"$error":"#REF!"}},{"$f":"IF(AND(LEN($D42)>0,SUMIF($F$13:$J$13,BG$13,$F42:$J42)>0,ASISTENCIA!#REF!<>\"X\",ASISTENCIA!#REF!<>\"L\",ASISTENCIA!#REF!<>\"J\",ASISTENCIA!#REF!<>\"F\"),SUMIF($F$13:$J$13,BG$13,$F42:$J42),\"\")","v":{"$error":"#REF!"}},{"$f":"IF(AND(LEN($D42)>0,SUMIF($F$13:$J$13,BH$13,$F42:$J42)>0,ASISTENCIA!#REF!<>\"X\",ASISTENCIA!#REF!<>\"L\",ASISTENCIA!#REF!<>\"J\",ASISTENCIA!#REF!<>\"F\"),SUMIF($F$13:$J$13,BH$13,$F42:$J42),\"\")","v":{"$error":"#REF!"}},{"$f":"IF(AND(LEN($D42)>0,SUMIF($F$13:$J$13,BI$13,$F42:$J42)>0,ASISTENCIA!#REF!<>\"X\",ASISTENCIA!#REF!<>\"L\",ASISTENCIA!#REF!<>\"J\",ASISTENCIA!#REF!<>\"F\"),SUMIF($F$13:$J$13,BI$13,$F42:$J42),\"\")","v":{"$error":"#REF!"}},{"$f":"IF(AND(LEN($D42)>0,SUMIF($F$13:$J$13,BJ$13,$F42:$J42)>0,ASISTENCIA!#REF!<>\"X\",ASISTENCIA!#REF!<>\"L\",ASISTENCIA!#REF!<>\"J\",ASISTENCIA!#REF!<>\"F\"),SUMIF($F$13:$J$13,BJ$13,$F42:$J42),\"\")","v":{"$error":"#REF!"}},{"$f":"IF(AND(LEN($D42)>0,SUMIF($F$13:$J$13,BK$13,$F42:$J42)>0,ASISTENCIA!#REF!<>\"X\",ASISTENCIA!#REF!<>\"L\",ASISTENCIA!#REF!<>\"J\",ASISTENCIA!#REF!<>\"F\"),SUMIF($F$13:$J$13,BK$13,$F42:$J42),\"\")","v":{"$error":"#REF!"}},{"$f":"IF(AND(LEN($D42)>0,SUMIF($F$13:$J$13,BL$13,$F42:$J42)>0,ASISTENCIA!#REF!<>\"X\",ASISTENCIA!#REF!<>\"L\",ASISTENCIA!#REF!<>\"J\",ASISTENCIA!#REF!<>\"F\"),SUMIF($F$13:$J$13,BL$13,$F42:$J42),\"\")","v":{"$error":"#REF!"}},{"$f":"IF(AND(LEN($D42)>0,SUMIF($F$13:$J$13,BM$13,$F42:$J42)>0,ASISTENCIA!#REF!<>\"X\",ASISTENCIA!#REF!<>\"L\",ASISTENCIA!#REF!<>\"J\",ASISTENCIA!#REF!<>\"F\"),SUMIF($F$13:$J$13,BM$13,$F42:$J42),\"\")","v":{"$error":"#REF!"}},{"$f":"IF(AND(LEN($D42)>0,SUMIF($F$13:$J$13,BN$13,$F42:$J42)>0,ASISTENCIA!#REF!<>\"X\",ASISTENCIA!#REF!<>\"L\",ASISTENCIA!#REF!<>\"J\",ASISTENCIA!#REF!<>\"F\"),SUMIF($F$13:$J$13,BN$13,$F42:$J42),\"\")","v":{"$error":"#REF!"}},{"$f":"IF(AND(LEN($D42)>0,SUMIF($F$13:$J$13,BO$13,$F42:$J42)>0,ASISTENCIA!#REF!<>\"X\",ASISTENCIA!#REF!<>\"L\",ASISTENCIA!#REF!<>\"J\",ASISTENCIA!#REF!<>\"F\"),SUMIF($F$13:$J$13,BO$13,$F42:$J42),\"\")","v":{"$error":"#REF!"}},{"$f":"IF(AND(LEN($D42)>0,SUMIF($F$13:$J$13,BP$13,$F42:$J42)>0,ASISTENCIA!#REF!<>\"X\",ASISTENCIA!#REF!<>\"L\",ASISTENCIA!#REF!<>\"J\",ASISTENCIA!#REF!<>\"F\"),SUMIF($F$13:$J$13,BP$13,$F42:$J42),\"\")","v":{"$error":"#REF!"}},{"$f":"IF(AND(LEN($D42)>0,SUMIF($F$13:$J$13,BQ$13,$F42:$J42)>0,ASISTENCIA!#REF!<>\"X\",ASISTENCIA!#REF!<>\"L\",ASISTENCIA!#REF!<>\"J\",ASISTENCIA!#REF!<>\"F\"),SUMIF($F$13:$J$13,BQ$13,$F42:$J42),\"\")","v":{"$error":"#REF!"}},{"$f":"IF(AND(LEN($D42)>0,SUMIF($F$13:$J$13,BR$13,$F42:$J42)>0,ASISTENCIA!#REF!<>\"X\",ASISTENCIA!#REF!<>\"L\",ASISTENCIA!#REF!<>\"J\",ASISTENCIA!#REF!<>\"F\"),SUMIF($F$13:$J$13,BR$13,$F42:$J42),\"\")","v":{"$error":"#REF!"}},{"$f":"IF(AND(LEN($D42)>0,SUMIF($F$13:$J$13,BS$13,$F42:$J42)>0,ASISTENCIA!#REF!<>\"X\",ASISTENCIA!#REF!<>\"L\",ASISTENCIA!#REF!<>\"J\",ASISTENCIA!#REF!<>\"F\"),SUMIF($F$13:$J$13,BS$13,$F42:$J42),\"\")","v":{"$error":"#REF!"}},{"$f":"IF(AND(LEN($D42)>0,SUMIF($F$13:$J$13,BT$13,$F42:$J42)>0,ASISTENCIA!#REF!<>\"X\",ASISTENCIA!#REF!<>\"L\",ASISTENCIA!#REF!<>\"J\",ASISTENCIA!#REF!<>\"F\"),SUMIF($F$13:$J$13,BT$13,$F42:$J42),\"\")","v":{"$error":"#REF!"}},{"$f":"IF(AND(LEN($D42)>0,SUMIF($F$13:$J$13,BU$13,$F42:$J42)>0,ASISTENCIA!#REF!<>\"X\",ASISTENCIA!#REF!<>\"L\",ASISTENCIA!#REF!<>\"J\",ASISTENCIA!#REF!<>\"F\"),SUMIF($F$13:$J$13,BU$13,$F42:$J42),\"\")","v":{"$error":"#REF!"}},{"$f":"IF(AND(LEN($D42)>0,SUMIF($F$13:$J$13,BV$13,$F42:$J42)>0,ASISTENCIA!#REF!<>\"X\",ASISTENCIA!#REF!<>\"L\",ASISTENCIA!#REF!<>\"J\",ASISTENCIA!#REF!<>\"F\"),SUMIF($F$13:$J$13,BV$13,$F42:$J42),\"\")","v":{"$error":"#REF!"}},{"$f":"IF(AND(LEN($D42)>0,SUMIF($F$13:$J$13,BW$13,$F42:$J42)>0,ASISTENCIA!#REF!<>\"X\",ASISTENCIA!#REF!<>\"L\",ASISTENCIA!#REF!<>\"J\",ASISTENCIA!#REF!<>\"F\"),SUMIF($F$13:$J$13,BW$13,$F42:$J42),\"\")","v":{"$error":"#REF!"}},{"$f":"IF(AND(LEN($D42)>0,SUMIF($F$13:$J$13,BX$13,$F42:$J42)>0,ASISTENCIA!#REF!<>\"X\",ASISTENCIA!#REF!<>\"L\",ASISTENCIA!#REF!<>\"J\",ASISTENCIA!#REF!<>\"F\"),SUMIF($F$13:$J$13,BX$13,$F42:$J42),\"\")","v":{"$error":"#REF!"}},{"$f":"IF(AND(LEN($D42)>0,SUMIF($F$13:$J$13,BY$13,$F42:$J42)>0,ASISTENCIA!#REF!<>\"X\",ASISTENCIA!#REF!<>\"L\",ASISTENCIA!#REF!<>\"J\",ASISTENCIA!#REF!<>\"F\"),SUMIF($F$13:$J$13,BY$13,$F42:$J42),\"\")","v":{"$error":"#REF!"}},{"$f":"IF(AND(LEN($D42)>0,SUMIF($F$13:$J$13,BZ$13,$F42:$J42)>0,ASISTENCIA!#REF!<>\"X\",ASISTENCIA!#REF!<>\"L\",ASISTENCIA!#REF!<>\"J\",ASISTENCIA!#REF!<>\"F\"),SUMIF($F$13:$J$13,BZ$13,$F42:$J42),\"\")","v":{"$error":"#REF!"}},{"$f":"IF(AND(LEN($D42)>0,SUMIF($F$13:$J$13,CA$13,$F42:$J42)>0,ASISTENCIA!#REF!<>\"X\",ASISTENCIA!#REF!<>\"L\",ASISTENCIA!#REF!<>\"J\",ASISTENCIA!#REF!<>\"F\"),SUMIF($F$13:$J$13,CA$13,$F42:$J42),\"\")","v":{"$error":"#REF!"}},{"$f":"IF(AND(LEN($D42)>0,SUMIF($F$13:$J$13,CB$13,$F42:$J42)>0,ASISTENCIA!#REF!<>\"X\",ASISTENCIA!#REF!<>\"L\",ASISTENCIA!#REF!<>\"J\",ASISTENCIA!#REF!<>\"F\"),SUMIF($F$13:$J$13,CB$13,$F42:$J42),\"\")","v":{"$error":"#REF!"}},{"$error":"#REF!"}]
[{"$error":"#REF!"},{"$f":"IF(LEN(C43)>0,VLOOKUP($O$4,DATA!$A$1:$S$1,2,FALSE),\"\")","v":{"$error":"#REF!"}},{"$error":"#REF!"},{"$f":"IF(LEN(ASISTENCIA!#REF!)>0,ASISTENCIA!#REF!,\"\")","v":{"$error":"#REF!"}},{"$f":"IF(LEN(D43)>0,ASISTENCIA!#REF!,\"\")","v":{"$error":"#REF!"}},null,null,null,null,null,"",null,null,{"$error":"#REF!"},{"$f":"IF(AND(LEN($D43)>0,SUMIF($F$13:$J$13,O$13,$F43:$J43)>0,ASISTENCIA!#REF!<>\"X\",ASISTENCIA!#REF!<>\"L\",ASISTENCIA!#REF!<>\"J\",ASISTENCIA!#REF!<>\"V\",ASISTENCIA!#REF!<>\"F\",ASISTENCIA!#REF!<>\"\"),SUMIF($F$13:$J$13,O$13,$F43:$J43),\"\")","v":{"$error":"#REF!"}},{"$f":"IF(AND(LEN($D43)>0,SUMIF($F$13:$J$13,P$13,$F43:$J43)>0,ASISTENCIA!#REF!<>\"X\",ASISTENCIA!#REF!<>\"L\",ASISTENCIA!#REF!<>\"J\",ASISTENCIA!#REF!<>\"V\",ASISTENCIA!#REF!<>\"F\",ASISTENCIA!#REF!<>\"\"),SUMIF($F$13:$J$13,P$13,$F43:$J43),\"\")","v":{"$error":"#REF!"}},{"$f":"IF(AND(LEN($D43)>0,SUMIF($F$13:$J$13,Q$13,$F43:$J43)>0,ASISTENCIA!#REF!<>\"X\",ASISTENCIA!#REF!<>\"L\",ASISTENCIA!#REF!<>\"J\",ASISTENCIA!#REF!<>\"V\",ASISTENCIA!#REF!<>\"F\",ASISTENCIA!#REF!<>\"\"),SUMIF($F$13:$J$13,Q$13,$F43:$J43),\"\")","v":{"$error":"#REF!"}},{"$f":"IF(AND(LEN($D43)>0,SUMIF($F$13:$J$13,R$13,$F43:$J43)>0,ASISTENCIA!#REF!<>\"X\",ASISTENCIA!#REF!<>\"L\",ASISTENCIA!#REF!<>\"J\",ASISTENCIA!#REF!<>\"V\",ASISTENCIA!#REF!<>\"F\",ASISTENCIA!#REF!<>\"\"),SUMIF($F$13:$J$13,R$13,$F43:$J43),\"\")","v":{"$error":"#REF!"}},{"$f":"IF(AND(LEN($D43)>0,SUMIF($F$13:$J$13,S$13,$F43:$J43)>0,ASISTENCIA!#REF!<>\"X\",ASISTENCIA!#REF!<>\"L\",ASISTENCIA!#REF!<>\"J\",ASISTENCIA!#REF!<>\"V\",ASISTENCIA!#REF!<>\"F\",ASISTENCIA!#REF!<>\"\"),SUMIF($F$13:$J$13,S$13,$F43:$J43),\"\")","v":{"$error":"#REF!"}},{"$f":"IF(AND(LEN($D43)>0,SUMIF($F$13:$J$13,T$13,$F43:$J43)>0,ASISTENCIA!#REF!<>\"X\",ASISTENCIA!#REF!<>\"L\",ASISTENCIA!#REF!<>\"J\",ASISTENCIA!#REF!<>\"V\",ASISTENCIA!#REF!<>\"F\",ASISTENCIA!#REF!<>\"\"),SUMIF($F$13:$J$13,T$13,$F43:$J43),\"\")","v":{"$error":"#REF!"}},{"$f":"IF(AND(LEN($D43)>0,SUMIF($F$13:$J$13,U$13,$F43:$J43)>0,ASISTENCIA!#REF!<>\"X\",ASISTENCIA!#REF!<>\"L\",ASISTENCIA!#REF!<>\"J\",ASISTENCIA!#REF!<>\"V\",ASISTENCIA!#REF!<>\"F\",ASISTENCIA!#REF!<>\"\"),SUMIF($F$13:$J$13,U$13,$F43:$J43),\"\")","v":{"$error":"#REF!"}},{"$f":"IF(AND(LEN($D43)>0,SUMIF($F$13:$J$13,V$13,$F43:$J43)>0,ASISTENCIA!#REF!<>\"X\",ASISTENCIA!#REF!<>\"L\",ASISTENCIA!#REF!<>\"J\",ASISTENCIA!#REF!<>\"V\",ASISTENCIA!#REF!<>\"F\",ASISTENCIA!#REF!<>\"\"),SUMIF($F$13:$J$13,V$13,$F43:$J43),\"\")","v":{"$error":"#REF!"}},{"$f":"IF(AND(LEN($D43)>0,SUMIF($F$13:$J$13,W$13,$F43:$J43)>0,ASISTENCIA!#REF!<>\"X\",ASISTENCIA!#REF!<>\"L\",ASISTENCIA!#REF!<>\"J\",ASISTENCIA!#REF!<>\"V\",ASISTENCIA!#REF!<>\"F\",ASISTENCIA!#REF!<>\"\"),SUMIF($F$13:$J$13,W$13,$F43:$J43),\"\")","v":{"$error":"#REF!"}},{"$f":"IF(AND(LEN($D43)>0,SUMIF($F$13:$J$13,X$13,$F43:$J43)>0,ASISTENCIA!#REF!<>\"X\",ASISTENCIA!#REF!<>\"L\",ASISTENCIA!#REF!<>\"J\",ASISTENCIA!#REF!<>\"V\",ASISTENCIA!#REF!<>\"F\",ASISTENCIA!#REF!<>\"\"),SUMIF($F$13:$J$13,X$13,$F43:$J43),\"\")","v":{"$error":"#REF!"}},{"$f":"IF(AND(LEN($D43)>0,SUMIF($F$13:$J$13,Y$13,$F43:$J43)>0,ASISTENCIA!#REF!<>\"X\",ASISTENCIA!#REF!<>\"L\",ASISTENCIA!#REF!<>\"J\",ASISTENCIA!#REF!<>\"V\",ASISTENCIA!#REF!<>\"F\",ASISTENCIA!#REF!<>\"\"),SUMIF($F$13:$J$13,Y$13,$F43:$J43),\"\")","v":{"$error":"#REF!"}},{"$f":"IF(AND(LEN($D43)>0,SUMIF($F$13:$J$13,Z$13,$F43:$J43)>0,ASISTENCIA!#REF!<>\"X\",ASISTENCIA!#REF!<>\"L\",ASISTENCIA!#REF!<>\"J\",ASISTENCIA!#REF!<>\"V\",ASISTENCIA!#REF!<>\"F\",ASISTENCIA!#REF!<>\"\"),SUMIF($F$13:$J$13,Z$13,$F43:$J43),\"\")","v":{"$error":"#REF!"}},{"$f":"IF(AND(LEN($D43)>0,SUMIF($F$13:$J$13,AA$13,$F43:$J43)>0,ASISTENCIA!#REF!<>\"X\",ASISTENCIA!#REF!<>\"L\",ASISTENCIA!#REF!<>\"J\",ASISTENCIA!#REF!<>\"V\",ASISTENCIA!#REF!<>\"F\",ASISTENCIA!#REF!<>\"\"),SUMIF($F$13:$J$13,AA$13,$F43:$J43),\"\")","v":{"$error":"#REF!"}},{"$f":"IF(AND(LEN($D43)>0,SUMIF($F$13:$J$13,AB$13,$F43:$J43)>0,ASISTENCIA!#REF!<>\"X\",ASISTENCIA!#REF!<>\"L\",ASISTENCIA!#REF!<>\"J\",ASISTENCIA!#REF!<>\"V\",ASISTENCIA!#REF!<>\"F\",ASISTENCIA!#REF!<>\"\"),SUMIF($F$13:$J$13,AB$13,$F43:$J43),\"\")","v":{"$error":"#REF!"}},{"$f":"IF(AND(LEN($D43)>0,SUMIF($F$13:$J$13,AC$13,$F43:$J43)>0,ASISTENCIA!#REF!<>\"X\",ASISTENCIA!#REF!<>\"L\",ASISTENCIA!#REF!<>\"J\",ASISTENCIA!#REF!<>\"V\",ASISTENCIA!#REF!<>\"F\",ASISTENCIA!#REF!<>\"\"),SUMIF($F$13:$J$13,AC$13,$F43:$J43),\"\")","v":{"$error":"#REF!"}},{"$f":"IF(AND(LEN($D43)>0,SUMIF($F$13:$J$13,AD$13,$F43:$J43)>0,ASISTENCIA!#REF!<>\"X\",ASISTENCIA!#REF!<>\"L\",ASISTENCIA!#REF!<>\"J\",ASISTENCIA!#REF!<>\"V\",ASISTENCIA!#REF!<>\"F\",ASISTENCIA!#REF!<>\"\"),SUMIF($F$13:$J$13,AD$13,$F43:$J43),\"\")","v":{"$error":"#REF!"}},{"$f":"IF(AND(LEN($D43)>0,SUMIF($F$13:$J$13,AE$13,$F43:$J43)>0,ASISTENCIA!#REF!<>\"X\",ASISTENCIA!#REF!<>\"L\",ASISTENCIA!#REF!<>\"J\",ASISTENCIA!#REF!<>\"V\",ASISTENCIA!#REF!<>\"F\",ASISTENCIA!#REF!<>\"\"),SUMIF($F$13:$J$13,AE$13,$F43:$J43),\"\")","v":{"$error":"#REF!"}},{"$f":"IF(AND(LEN($D43)>0,SUMIF($F$13:$J$13,AF$13,$F43:$J43)>0,ASISTENCIA!#REF!<>\"X\",ASISTENCIA!#REF!<>\"L\",ASISTENCIA!#REF!<>\"J\",ASISTENCIA!#REF!<>\"V\",ASISTENCIA!#REF!<>\"F\",ASISTENCIA!#REF!<>\"\"),SUMIF($F$13:$J$13,AF$13,$F43:$J43),\"\")","v":{"$error":"#REF!"}},{"$f":"IF(AND(LEN($D43)>0,SUMIF($F$13:$J$13,AG$13,$F43:$J43)>0,ASISTENCIA!#REF!<>\"X\",ASISTENCIA!#REF!<>\"L\",ASISTENCIA!#REF!<>\"J\",ASISTENCIA!#REF!<>\"V\",ASISTENCIA!#REF!<>\"F\",ASISTENCIA!#REF!<>\"\"),SUMIF($F$13:$J$13,AG$13,$F43:$J43),\"\")","v":{"$error":"#REF!"}},{"$f":"IF(AND(LEN($D43)>0,SUMIF($F$13:$J$13,AH$13,$F43:$J43)>0,ASISTENCIA!#REF!<>\"X\",ASISTENCIA!#REF!<>\"L\",ASISTENCIA!#REF!<>\"J\",ASISTENCIA!#REF!<>\"V\",ASISTENCIA!#REF!<>\"F\",ASISTENCIA!#REF!<>\"\"),SUMIF($F$13:$J$13,AH$13,$F43:$J43),\"\")","v":{"$error":"#REF!"}},{"$f":"IF(AND(LEN($D43)>0,SUMIF($F$13:$J$13,AI$13,$F43:$J43)>0,ASISTENCIA!#REF!<>\"X\",ASISTENCIA!#REF!<>\"L\",ASISTENCIA!#REF!<>\"J\",ASISTENCIA!#REF!<>\"V\",ASISTENCIA!#REF!<>\"F\",ASISTENCIA!#REF!<>\"\"),SUMIF($F$13:$J$13,AI$13,$F43:$J43),\"\")","v":{"$error":"#REF!"}},{"$f":"IF(AND(LEN($D43)>0,SUMIF($F$13:$J$13,AJ$13,$F43:$J43)>0,ASISTENCIA!#REF!<>\"X\",ASISTENCIA!#REF!<>\"L\",ASISTENCIA!#REF!<>\"J\",ASISTENCIA!#REF!<>\"V\",ASISTENCIA!#REF!<>\"F\",ASISTENCIA!#REF!<>\"\"),SUMIF($F$13:$J$13,AJ$13,$F43:$J43),\"\")","v":{"$error":"#REF!"}},{"$f":"IF(AND(LEN($D43)>0,SUMIF($F$13:$J$13,AK$13,$F43:$J43)>0,ASISTENCIA!#REF!<>\"X\",ASISTENCIA!#REF!<>\"L\",ASISTENCIA!#REF!<>\"J\",ASISTENCIA!#REF!<>\"V\",ASISTENCIA!#REF!<>\"F\",ASISTENCIA!#REF!<>\"\"),SUMIF($F$13:$J$13,AK$13,$F43:$J43),\"\")","v":{"$error":"#REF!"}},{"$f":"IF(AND(LEN($D43)>0,SUMIF($F$13:$J$13,AL$13,$F43:$J43)>0,ASISTENCIA!#REF!<>\"X\",ASISTENCIA!#REF!<>\"L\",ASISTENCIA!#REF!<>\"J\",ASISTENCIA!#REF!<>\"V\",ASISTENCIA!#REF!<>\"F\",ASISTENCIA!#REF!<>\"\"),SUMIF($F$13:$J$13,AL$13,$F43:$J43),\"\")","v":{"$error":"#REF!"}},{"$f":"IF(AND(LEN($D43)>0,SUMIF($F$13:$J$13,AM$13,$F43:$J43)>0,ASISTENCIA!#REF!<>\"X\",ASISTENCIA!#REF!<>\"L\",ASISTENCIA!#REF!<>\"J\",ASISTENCIA!#REF!<>\"V\",ASISTENCIA!#REF!<>\"F\",ASISTENCIA!#REF!<>\"\"),SUMIF($F$13:$J$13,AM$13,$F43:$J43),\"\")","v":{"$error":"#REF!"}},{"$f":"IF(AND(LEN($D43)>0,SUMIF($F$13:$J$13,AN$13,$F43:$J43)>0,ASISTENCIA!#REF!<>\"X\",ASISTENCIA!#REF!<>\"L\",ASISTENCIA!#REF!<>\"J\",ASISTENCIA!#REF!<>\"V\",ASISTENCIA!#REF!<>\"F\",ASISTENCIA!#REF!<>\"\"),SUMIF($F$13:$J$13,AN$13,$F43:$J43),\"\")","v":{"$error":"#REF!"}},{"$f":"IF(AND(LEN($D43)>0,SUMIF($F$13:$J$13,AO$13,$F43:$J43)>0,ASISTENCIA!#REF!<>\"X\",ASISTENCIA!#REF!<>\"L\",ASISTENCIA!#REF!<>\"J\",ASISTENCIA!#REF!<>\"V\",ASISTENCIA!#REF!<>\"F\",ASISTENCIA!#REF!<>\"\"),SUMIF($F$13:$J$13,AO$13,$F43:$J43),\"\")","v":{"$error":"#REF!"}},{"$f":"IF(AND(LEN($D43)>0,SUMIF($F$13:$J$13,AP$13,$F43:$J43)>0,ASISTENCIA!#REF!<>\"X\",ASISTENCIA!#REF!<>\"L\",ASISTENCIA!#REF!<>\"J\",ASISTENCIA!#REF!<>\"V\",ASISTENCIA!#REF!<>\"F\",ASISTENCIA!#REF!<>\"\"),SUMIF($F$13:$J$13,AP$13,$F43:$J43),\"\")","v":{"$error":"#REF!"}},{"$f":"IF(AND(LEN($D43)>0,SUMIF($F$13:$J$13,AQ$13,$F43:$J43)>0,ASISTENCIA!#REF!<>\"X\",ASISTENCIA!#REF!<>\"L\",ASISTENCIA!#REF!<>\"J\",ASISTENCIA!#REF!<>\"V\",ASISTENCIA!#REF!<>\"F\",ASISTENCIA!#REF!<>\"\"),SUMIF($F$13:$J$13,AQ$13,$F43:$J43),\"\")","v":{"$error":"#REF!"}},{"$f":"IF(AND(LEN($D43)>0,SUMIF($F$13:$J$13,AR$13,$F43:$J43)>0,ASISTENCIA!#REF!<>\"X\",ASISTENCIA!#REF!<>\"L\",ASISTENCIA!#REF!<>\"J\",ASISTENCIA!#REF!<>\"V\",ASISTENCIA!#REF!<>\"F\",ASISTENCIA!#REF!<>\"\"),SUMIF($F$13:$J$13,AR$13,$F43:$J43),\"\")","v":{"$error":"#REF!"}},{"$f":"IF(AND(LEN($D43)>0,SUMIF($F$13:$J$13,AS$13,$F43:$J43)>0,ASISTENCIA!#REF!<>\"X\",ASISTENCIA!#REF!<>\"L\",ASISTENCIA!#REF!<>\"J\",ASISTENCIA!#REF!<>\"V\",ASISTENCIA!#REF!<>\"F\",ASISTENCIA!#REF!<>\"\"),SUMIF($F$13:$J$13,AS$13,$F43:$J43),\"\")","v":{"$error":"#REF!"}},{"$error":"#REF!"},null,null,null,{"$f":"IF(AND(LEN($D43)>0,SUMIF($F$13:$J$13,AX$13,$F43:$J43)>0,ASISTENCIA!#REF!<>\"X\",ASISTENCIA!#REF!<>\"L\",ASISTENCIA!#REF!<>\"J\",ASISTENCIA!#REF!<>\"F\"),SUMIF($F$13:$J$13,AX$13,$F43:$J43),\"\")","v":{"$error":"#REF!"}},{"$f":"IF(AND(LEN($D43)>0,SUMIF($F$13:$J$13,AY$13,$F43:$J43)>0,ASISTENCIA!#REF!<>\"X\",ASISTENCIA!#REF!<>\"L\",ASISTENCIA!#REF!<>\"J\",ASISTENCIA!#REF!<>\"F\"),SUMIF($F$13:$J$13,AY$13,$F43:$J43),\"\")","v":{"$error":"#REF!"}},{"$f":"IF(AND(LEN($D43)>0,SUMIF($F$13:$J$13,AZ$13,$F43:$J43)>0,ASISTENCIA!#REF!<>\"X\",ASISTENCIA!#REF!<>\"L\",ASISTENCIA!#REF!<>\"J\",ASISTENCIA!#REF!<>\"F\"),SUMIF($F$13:$J$13,AZ$13,$F43:$J43),\"\")","v":{"$error":"#REF!"}},{"$f":"IF(AND(LEN($D43)>0,SUMIF($F$13:$J$13,BA$13,$F43:$J43)>0,ASISTENCIA!#REF!<>\"X\",ASISTENCIA!#REF!<>\"L\",ASISTENCIA!#REF!<>\"J\",ASISTENCIA!#REF!<>\"F\"),SUMIF($F$13:$J$13,BA$13,$F43:$J43),\"\")","v":{"$error":"#REF!"}},{"$f":"IF(AND(LEN($D43)>0,SUMIF($F$13:$J$13,BB$13,$F43:$J43)>0,ASISTENCIA!#REF!<>\"X\",ASISTENCIA!#REF!<>\"L\",ASISTENCIA!#REF!<>\"J\",ASISTENCIA!#REF!<>\"F\"),SUMIF($F$13:$J$13,BB$13,$F43:$J43),\"\")","v":{"$error":"#REF!"}},{"$f":"IF(AND(LEN($D43)>0,SUMIF($F$13:$J$13,BC$13,$F43:$J43)>0,ASISTENCIA!#REF!<>\"X\",ASISTENCIA!#REF!<>\"L\",ASISTENCIA!#REF!<>\"J\",ASISTENCIA!#REF!<>\"F\"),SUMIF($F$13:$J$13,BC$13,$F43:$J43),\"\")","v":{"$error":"#REF!"}},{"$f":"IF(AND(LEN($D43)>0,SUMIF($F$13:$J$13,BD$13,$F43:$J43)>0,ASISTENCIA!#REF!<>\"X\",ASISTENCIA!#REF!<>\"L\",ASISTENCIA!#REF!<>\"J\",ASISTENCIA!#REF!<>\"F\"),SUMIF($F$13:$J$13,BD$13,$F43:$J43),\"\")","v":{"$error":"#REF!"}},{"$f":"IF(AND(LEN($D43)>0,SUMIF($F$13:$J$13,BE$13,$F43:$J43)>0,ASISTENCIA!#REF!<>\"X\",ASISTENCIA!#REF!<>\"L\",ASISTENCIA!#REF!<>\"J\",ASISTENCIA!#REF!<>\"F\"),SUMIF($F$13:$J$13,BE$13,$F43:$J43),\"\")","v":{"$error":"#REF!"}},{"$f":"IF(AND(LEN($D43)>0,SUMIF($F$13:$J$13,BF$13,$F43:$J43)>0,ASISTENCIA!#REF!<>\"X\",ASISTENCIA!#REF!<>\"L\",ASISTENCIA!#REF!<>\"J\",ASISTENCIA!#REF!<>\"F\"),SUMIF($F$13:$J$13,BF$13,$F43:$J43),\"\")","v":{"$error":"#REF!"}},{"$f":"IF(AND(LEN($D43)>0,SUMIF($F$13:$J$13,BG$13,$F43:$J43)>0,ASISTENCIA!#REF!<>\"X\",ASISTENCIA!#REF!<>\"L\",ASISTENCIA!#REF!<>\"J\",ASISTENCIA!#REF!<>\"F\"),SUMIF($F$13:$J$13,BG$13,$F43:$J43),\"\")","v":{"$error":"#REF!"}},{"$f":"IF(AND(LEN($D43)>0,SUMIF($F$13:$J$13,BH$13,$F43:$J43)>0,ASISTENCIA!#REF!<>\"X\",ASISTENCIA!#REF!<>\"L\",ASISTENCIA!#REF!<>\"J\",ASISTENCIA!#REF!<>\"F\"),SUMIF($F$13:$J$13,BH$13,$F43:$J43),\"\")","v":{"$error":"#REF!"}},{"$f":"IF(AND(LEN($D43)>0,SUMIF($F$13:$J$13,BI$13,$F43:$J43)>0,ASISTENCIA!#REF!<>\"X\",ASISTENCIA!#REF!<>\"L\",ASISTENCIA!#REF!<>\"J\",ASISTENCIA!#REF!<>\"F\"),SUMIF($F$13:$J$13,BI$13,$F43:$J43),\"\")","v":{"$error":"#REF!"}},{"$f":"IF(AND(LEN($D43)>0,SUMIF($F$13:$J$13,BJ$13,$F43:$J43)>0,ASISTENCIA!#REF!<>\"X\",ASISTENCIA!#REF!<>\"L\",ASISTENCIA!#REF!<>\"J\",ASISTENCIA!#REF!<>\"F\"),SUMIF($F$13:$J$13,BJ$13,$F43:$J43),\"\")","v":{"$error":"#REF!"}},{"$f":"IF(AND(LEN($D43)>0,SUMIF($F$13:$J$13,BK$13,$F43:$J43)>0,ASISTENCIA!#REF!<>\"X\",ASISTENCIA!#REF!<>\"L\",ASISTENCIA!#REF!<>\"J\",ASISTENCIA!#REF!<>\"F\"),SUMIF($F$13:$J$13,BK$13,$F43:$J43),\"\")","v":{"$error":"#REF!"}},{"$f":"IF(AND(LEN($D43)>0,SUMIF($F$13:$J$13,BL$13,$F43:$J43)>0,ASISTENCIA!#REF!<>\"X\",ASISTENCIA!#REF!<>\"L\",ASISTENCIA!#REF!<>\"J\",ASISTENCIA!#REF!<>\"F\"),SUMIF($F$13:$J$13,BL$13,$F43:$J43),\"\")","v":{"$error":"#REF!"}},{"$f":"IF(AND(LEN($D43)>0,SUMIF($F$13:$J$13,BM$13,$F43:$J43)>0,ASISTENCIA!#REF!<>\"X\",ASISTENCIA!#REF!<>\"L\",ASISTENCIA!#REF!<>\"J\",ASISTENCIA!#REF!<>\"F\"),SUMIF($F$13:$J$13,BM$13,$F43:$J43),\"\")","v":{"$error":"#REF!"}},{"$f":"IF(AND(LEN($D43)>0,SUMIF($F$13:$J$13,BN$13,$F43:$J43)>0,ASISTENCIA!#REF!<>\"X\",ASISTENCIA!#REF!<>\"L\",ASISTENCIA!#REF!<>\"J\",ASISTENCIA!#REF!<>\"F\"),SUMIF($F$13:$J$13,BN$13,$F43:$J43),\"\")","v":{"$error":"#REF!"}},{"$f":"IF(AND(LEN($D43)>0,SUMIF($F$13:$J$13,BO$13,$F43:$J43)>0,ASISTENCIA!#REF!<>\"X\",ASISTENCIA!#REF!<>\"L\",ASISTENCIA!#REF!<>\"J\",ASISTENCIA!#REF!<>\"F\"),SUMIF($F$13:$J$13,BO$13,$F43:$J43),\"\")","v":{"$error":"#REF!"}},{"$f":"IF(AND(LEN($D43)>0,SUMIF($F$13:$J$13,BP$13,$F43:$J43)>0,ASISTENCIA!#REF!<>\"X\",ASISTENCIA!#REF!<>\"L\",ASISTENCIA!#REF!<>\"J\",ASISTENCIA!#REF!<>\"F\"),SUMIF($F$13:$J$13,BP$13,$F43:$J43),\"\")","v":{"$error":"#REF!"}},{"$f":"IF(AND(LEN($D43)>0,SUMIF($F$13:$J$13,BQ$13,$F43:$J43)>0,ASISTENCIA!#REF!<>\"X\",ASISTENCIA!#REF!<>\"L\",ASISTENCIA!#REF!<>\"J\",ASISTENCIA!#REF!<>\"F\"),SUMIF($F$13:$J$13,BQ$13,$F43:$J43),\"\")","v":{"$error":"#REF!"}},{"$f":"IF(AND(LEN($D43)>0,SUMIF($F$13:$J$13,BR$13,$F43:$J43)>0,ASISTENCIA!#REF!<>\"X\",ASISTENCIA!#REF!<>\"L\",ASISTENCIA!#REF!<>\"J\",ASISTENCIA!#REF!<>\"F\"),SUMIF($F$13:$J$13,BR$13,$F43:$J43),\"\")","v":{"$error":"#REF!"}},{"$f":"IF(AND(LEN($D43)>0,SUMIF($F$13:$J$13,BS$13,$F43:$J43)>0,ASISTENCIA!#REF!<>\"X\",ASISTENCIA!#REF!<>\"L\",ASISTENCIA!#REF!<>\"J\",ASISTENCIA!#REF!<>\"F\"),SUMIF($F$13:$J$13,BS$13,$F43:$J43),\"\")","v":{"$error":"#REF!"}},{"$f":"IF(AND(LEN($D43)>0,SUMIF($F$13:$J$13,BT$13,$F43:$J43)>0,ASISTENCIA!#REF!<>\"X\",ASISTENCIA!#REF!<>\"L\",ASISTENCIA!#REF!<>\"J\",ASISTENCIA!#REF!<>\"F\"),SUMIF($F$13:$J$13,BT$13,$F43:$J43),\"\")","v":{"$error":"#REF!"}},{"$f":"IF(AND(LEN($D43)>0,SUMIF($F$13:$J$13,BU$13,$F43:$J43)>0,ASISTENCIA!#REF!<>\"X\",ASISTENCIA!#REF!<>\"L\",ASISTENCIA!#REF!<>\"J\",ASISTENCIA!#REF!<>\"F\"),SUMIF($F$13:$J$13,BU$13,$F43:$J43),\"\")","v":{"$error":"#REF!"}},{"$f":"IF(AND(LEN($D43)>0,SUMIF($F$13:$J$13,BV$13,$F43:$J43)>0,ASISTENCIA!#REF!<>\"X\",ASISTENCIA!#REF!<>\"L\",ASISTENCIA!#REF!<>\"J\",ASISTENCIA!#REF!<>\"F\"),SUMIF($F$13:$J$13,BV$13,$F43:$J43),\"\")","v":{"$error":"#REF!"}},{"$f":"IF(AND(LEN($D43)>0,SUMIF($F$13:$J$13,BW$13,$F43:$J43)>0,ASISTENCIA!#REF!<>\"X\",ASISTENCIA!#REF!<>\"L\",ASISTENCIA!#REF!<>\"J\",ASISTENCIA!#REF!<>\"F\"),SUMIF($F$13:$J$13,BW$13,$F43:$J43),\"\")","v":{"$error":"#REF!"}},{"$f":"IF(AND(LEN($D43)>0,SUMIF($F$13:$J$13,BX$13,$F43:$J43)>0,ASISTENCIA!#REF!<>\"X\",ASISTENCIA!#REF!<>\"L\",ASISTENCIA!#REF!<>\"J\",ASISTENCIA!#REF!<>\"F\"),SUMIF($F$13:$J$13,BX$13,$F43:$J43),\"\")","v":{"$error":"#REF!"}},{"$f":"IF(AND(LEN($D43)>0,SUMIF($F$13:$J$13,BY$13,$F43:$J43)>0,ASISTENCIA!#REF!<>\"X\",ASISTENCIA!#REF!<>\"L\",ASISTENCIA!#REF!<>\"J\",ASISTENCIA!#REF!<>\"F\"),SUMIF($F$13:$J$13,BY$13,$F43:$J43),\"\")","v":{"$error":"#REF!"}},{"$f":"IF(AND(LEN($D43)>0,SUMIF($F$13:$J$13,BZ$13,$F43:$J43)>0,ASISTENCIA!#REF!<>\"X\",ASISTENCIA!#REF!<>\"L\",ASISTENCIA!#REF!<>\"J\",ASISTENCIA!#REF!<>\"F\"),SUMIF($F$13:$J$13,BZ$13,$F43:$J43),\"\")","v":{"$error":"#REF!"}},{"$f":"IF(AND(LEN($D43)>0,SUMIF($F$13:$J$13,CA$13,$F43:$J43)>0,ASISTENCIA!#REF!<>\"X\",ASISTENCIA!#REF!<>\"L\",ASISTENCIA!#REF!<>\"J\",ASISTENCIA!#REF!<>\"F\"),SUMIF($F$13:$J$13,CA$13,$F43:$J43),\"\")","v":{"$error":"#REF!"}},{"$f":"IF(AND(LEN($D43)>0,SUMIF($F$13:$J$13,CB$13,$F43:$J43)>0,ASISTENCIA!#REF!<>\"X\",ASISTENCIA!#REF!<>\"L\",ASISTENCIA!#REF!<>\"J\",ASISTENCIA!#REF!<>\"F\"),SUMIF($F$13:$J$13,CB$13,$F43:$J43),\"\")","v":{"$error":"#REF!"}},{"$error":"#REF!"}]
[]
["(*) No se considera los días feriados",null,null,null,null,null,null,null,null,null,null,null,null,{"$f":"SUM(N14:N43)","v":{"$error":"#REF!"}},null,null,null,null,null,null,null,null,null,null,null,null,null,null,null,null,null,null,null,null,null,null,null,null,null,null,null,null,null,null,null,{"$f":"SUM(AT14:AT43)","v":{"$error":"#REF!"}},null,null,null,null,null,null,null,null,null,null,null,null,null,null,null,null,null,null,null,null,null,null,null,null,null,null,null,null,null,null,null,null,null,null,{"$f":"SUM(CC14:CC43)","v":{"$error":"#REF!"}}]
["LEYENDA"]
["J: Falta justificada",null,null,null,null,null,null,null,null,null,null,null,null,null,null,null,null,null,null,null,null,null,"Nivel Inicial : 1 dia : 5 horas",null,null,null,null,null,null,null,null,null,null,null,null,null,null,null,null,null,null,null,null,null,null,null,null,null,null,null,null,null,null,null,null,null,null,"Nivel Inicial : 1 dia : 5 horas"]
["I: Falta Injustificada",null,null,null,null,null,null,null,null,null,null,null,null,null,null,null,null,null,null,null,null,null,"Nivel Primaria : 1 día : 6 horas",null,null,null,null,null,null,null,null,null,null,null,null,null,null,null,null,null,null,null,null,null,null,null,null,null,null,null,null,null,null,null,null,null,null,"Nivel Primaria : 1 día : 6 horas"]
["F: Dia Feriado",null,null,null,null,null,null,null,null,null,null,null,null,null,null,null,null,null,null,null,null,null,"Nivel Secundaria :1 día : 7 horas",null,null,null,null,null,null,null,null,null,null,null,null,null,null,null,null,null,null,null,null,null,null,null,null,null,null,null,null,null,null,null,null,null,null,"Nivel Secundaria :1 día : 7 horas"]
["CRT: Centro de Recursos Tecnológicos"]
["AIP: Aula de Innovación Pedagógica"]
["TQ: Taller de Quechua"]
["TD: Taller de Danza"]
[null,null,null,null,null,null,null,null,null,null,null,"DIRECTOR (A) DE INSTITUCIÓN EDUCATIVA",null,null,null,null,null,null,null,null,null,null,null,null,null,null,null,null,null,null,null,null,null,"V° B° REPRESENTANTE CONOEI",null,null,null,null,null,null,null,null,null,null,null,null,null,null,null,null,null,null,null,null,null,null,null,null,null,null,null,null,null,null,null,null,null,null,"V° B° REPRESENTANTE CONOEI"]

{"sheet":"DATA","index":5,"n_rows":302,"n_cols":14,"rows_kept":302,"cut":false,"hidden":true,"merged":[[0,11,2,11],[0,12,2,12],[0,3,2,3],[0,6,2,6],[0,7,2,7],[0,8,2,8],[0,9,2,9],[0,10,2,10]]}
["",null,"","Distrito / Centro Poblado","","","# Tot Doc, Aux, Adm","# Doc","# Doc Nomb","# Doc Contr","# Doc Espjo","# Aux Ed","# Adm"]
["Cód. Mod.","Nombre de IE","Nivel",null,"Distrito","Centro Poblado",null,null,null,null,null,null,null,"# CAS"]
["","","",null,"",""]
["01245465","PRONOEI","A1 Inicial No Escolarizado",{"$f":"CONCATENATE(E4,\" / \",F4)","v":"ILAVE / 5 Distritos"},"ILAVE","5 Distritos"]
["0474577","216","A2 - Inicial - Jardín              ",{"$f":"CONCATENATE(E5,\" / \",F5)","v":"ILAVE / BELLAVISTA"},"ILAVE","BELLAVISTA",5,3,2,1,0,1,1]
["0474585",217,"A2 - Inicial - Jardín              ",{"$f":"CONCATENATE(E6,\" / \",F6)","v":"PILCUYO / 18 DE ENERO"},"PILCUYO","18 DE ENERO",6,3,3,0,1,1,1]
["0500538","220","A2 - Inicial - Jardín              ","SANTA ROSA / 3 DE MAYO","SANTA ROSA","3 DE MAYO",5,3,0,3,0,1,1]
["0474601","223","A2 - Inicial - Jardín              ","ILAVE / SAN MIGUEL","ILAVE","SAN MIGUEL",6,3,3,0,0,2,1]
["0229765","246 MI SEGUNDO HOGAR","A2 - Inicial - Jardín              ","ILAVE / ALASAYA","ILAVE","ALASAYA",19,11,8,3,1,5,2]
["0539650","259","A2 - Inicial - Jardín              ","CONDURIRI / MUNICIPAL","CONDURIRI","MUNICIPAL",4,2,0,2,0,1,1]
["0574889","260","A2 - Inicial - Jardín              ","ILAVE / RAMON CASTILLA","ILAVE","RAMON CASTILLA",7,4,3,1,1,1,1]
["0539452","265","A2 - Inicial - Jardín              ","PILCUYO / SUCANO","PILCUYO","SUCANO",1,1,1,0,0,0,0]
["0539551","266","A2 - Inicial - Jardín              ","ILAVE / SULCATURA 1","ILAVE","SULCATURA 1",2,1,1,0,0,0,1]
["0549006","267","A2 - Inicial - Jardín              ","SANTA ROSA / SANTA ROSA","SANTA ROSA","SANTA ROSA",2,2,0,2,0,0,0]
["0755371","301","A2 - Inicial - Jardín              ","PILCUYO / CHIPANA","PILCUYO","CHIPANA",1,1,1,0,0,0,0]
["0744250","302","A2 - Inicial - Jardín              ","ILAVE / CRUZANI","ILAVE","CRUZANI",7,4,3,1,0,2,1]
["0744268","303","A2 - Inicial - Jardín              ","ILAVE / ILAVE","ILAVE","ILAVE",5,3,3,0,0,1,1]
["0744276","304","A2 - Inicial - Jardín              ","ILAVE / PORVENIR MIRAFLORES","ILAVE","PORVENIR MIRAFLORES",7,4,4,0,0,2,1]
["0799288","306","A2 - Inicial - Jardín              ","ILAVE / MULLACONIHUECO","ILAVE","MULLACONIHUECO",2,1,1,0,0,0,1]
["0799296","307","A2 - Inicial - Jardín              ","ILAVE / CHIJICHAYA","ILAVE","CHIJICHAYA",4,3,2,1,0,1,0]
["0755389","309","A2 - Inicial - Jardín              ","PILCUYO / MACHATMARCA","PILCUYO","MACHATMARCA",1,1,1,0,0,0,0]
["1027028",310,"A2 - Inicial - Jardín              ","ILAVE / CAMECACHI","ILAVE","CAMECACHI",3,2,2,0,0,1,0]
["0799395","311","A2 - Inicial - Jardín              ","PILCUYO / MAQUERCOTA","PILCUYO","MAQUERCOTA",1,1,1,0,0,0,0]
["1027192","314","A2 - Inicial - Jardín              ","ILAVE / SAN CRISTOBAL","ILAVE","SAN CRISTOBAL",4,3,2,1,0,1,0]
["1027234","315","A2 - Inicial - Jardín              ","ILAVE / CHUCARAYA","ILAVE","CHUCARAYA",2,2,1,1,0,0,0]
["1027242","316","A2 - Inicial - Jardín              ","ILAVE / ULLACACHI","ILAVE","ULLACACHI",1,1,1,0,0,0,0]
["1027101","317","A2 - Inicial - Jardín              ","PILCUYO / SARAPI ARROYO","PILCUYO","SARAPI ARROYO",1,1,0,1,0,0,0]
["1027119","318","A2 - Inicial - Jardín              ","PILCUYO / ACCASO","PILCUYO","ACCASO",3,2,1,1,0,0,1]
["1027143","319","A2 - Inicial - Jardín              ","ILAVE / CHECCA","ILAVE","CHECCA",1,1,1,0,0,0,0]
["1027499","320","A2 - Inicial - Jardín              ","PILCUYO / MARCOLLO","PILCUYO","MARCOLLO",2,1,1,0,0,0,1]
["1030014","351","A2 - Inicial - Jardín              ","ILAVE / SANTA BARBARA","ILAVE","SANTA BARBARA",8,4,3,1,1,2,1]
["1027044","365","A2 - Inicial - Jardín              ","ILAVE / BELLAVISTA","ILAVE","BELLAVISTA",8,4,2,2,1,2,1]
["1576149","402","A2 - Inicial - Jardín              ","ILAVE / ILAVE","ILAVE","ILAVE",4,3,0,3,0,1,0]
["1472505","694","A2 - Inicial - Jardín              ","ILAVE / ANCOAMAYA","ILAVE","ANCOAMAYA",1,1,1,0,0,0,0]
["1472521","695","A2 - Inicial - Jardín              ","ILAVE / CALLATA","ILAVE","CALLATA",1,1,1,0,0,0,0]
["1472539","696","A2 - Inicial - Jardín              ","ILAVE / CANGALLI ACHANTUYO","ILAVE","CANGALLI ACHANTUYO",1,1,1,0,0,0,0]
["1472547","697","A2 - Inicial - Jardín              ","CAPAZO / CAPASO","CAPAZO","CAPASO",1,1,0,1,0,0,0]
["1472554","698","A2 - Inicial - Jardín              ","ILAVE / CATAMURO II","ILAVE","CATAMURO II",1,1,1,0,0,0,0]
["1472562","699","A2 - Inicial - Jardín              ","ILAVE / CHIJUYO COPAPUJO","ILAVE","CHIJUYO COPAPUJO",1,1,1,0,0,0,0]
["1472570","700","A2 - Inicial - Jardín              ","ILAVE / CHURO MAQUERA","ILAVE","CHURO MAQUERA",2,2,1,1,0,0,0]
["1472604","701","A2 - Inicial - Jardín              ","ILAVE / OCOÑA","ILAVE","OCOÑA",1,1,0,1,0,0,0]
["1472612","702","A2 - Inicial - Jardín              ","ILAVE / PHARATA COPANI","ILAVE","PHARATA COPANI",1,1,1,0,0,0,0]
["1472620","703","A2 - Inicial - Jardín              ","PILCUYO / PUCARA","PILCUYO","PUCARA",1,1,1,0,0,0,0]
["1472638","704","A2 - Inicial - Jardín              ","PILCUYO / SACARI TITICACHI","PILCUYO","SACARI TITICACHI",1,1,0,1,0,0,0]
["1472646","705","A2 - Inicial - Jardín              ","ILAVE / URANI","ILAVE","URANI",1,1,0,1,0,0,0]
["1472653","706","A2 - Inicial - Jardín              ","PILCUYO / CACHIPUCARA","PILCUYO","CACHIPUCARA",1,1,0,1,0,0,0]
["1472661","707","A2 - Inicial - Jardín              ","ILAVE / JACHOCCO HUARACCO","ILAVE","JACHOCCO HUARACCO",4,3,0,3,0,1,0]
["1472679","708","A2 - Inicial - Jardín              ","ILAVE / LACAYA","ILAVE","LACAYA",1,1,1,0,0,0,0]
["1472687","709","A2 - Inicial - Jardín              ","ILAVE / PANTIHUECO","ILAVE","PANTIHUECO",1,1,1,0,0,0,0]
["1472695","710","A2 - Inicial - Jardín              ","ILAVE / POQUICHILLA","ILAVE","POQUICHILLA",1,1,1,0,0,0,0]
["1472703",711,"A2 - Inicial - Jardín              ","ILAVE / ROSACANI","ILAVE","ROSACANI",2,2,0,2,0,0,0]
["1472711","712","A2 - Inicial - Jardín              ","ILAVE / SIRAYA","ILAVE","SIRAYA",2,2,0,2,0,0,0]
["1472729","713","A2 - Inicial - Jardín              ","ILAVE / TANAPACA","ILAVE","TANAPACA",1,1,1,0,0,0,0]
["1493089","714","A2 - Inicial - Jardín              ","ILAVE / LACACHI","ILAVE","LACACHI",1,1,0,1,0,0,0]
["1540939","715","A2 - Inicial - Jardín              ","ILAVE / PAJJCHA CCACCAPI","ILAVE","PAJJCHA CCACCAPI",1,1,1,0,0,0,0]
["1564624","717","A2 - Inicial - Jardín              ","PILCUYO / PACCO BEBEDERO","PILCUYO","PACCO BEBEDERO",1,1,1,0,0,0,0]
["1472588","718","A2 - Inicial - Jardín              ","ILAVE / COLLATA","ILAVE","COLLATA",1,1,1,0,0,0,0]
["1472596","719","A2 - Inicial - Jardín              ","ILAVE / HUANCARANI","ILAVE","HUANCARANI",1,1,1,0,0,0,0]
["1472737","720","A2 - Inicial - Jardín              ","ILAVE / COLLOCO HUAYCHANI","ILAVE","COLLOCO HUAYCHANI",1,1,1,0,0,0,0]
["1472513","721","A2 - Inicial - Jardín              ","SANTA ROSA / AYUPALCA","SANTA ROSA","AYUPALCA",1,1,0,1,0,0,0]
["1556695","722","A2 - Inicial - Jardín              ","SANTA ROSA / SULCANACA","SANTA ROSA","SULCANACA",1,1,0,1,0,0,0]
["1556604","723","A2 - Inicial - Jardín              ","SANTA ROSA / MAZOCRUZ","SANTA ROSA","MAZOCRUZ",2,2,0,2,0,0,0]
["1556489","724","A2 - Inicial - Jardín              ","ILAVE / ILAVE","ILAVE","ILAVE",2,2,1,1,0,0,0]
["1556521","725","A2 - Inicial - Jardín              ","ILAVE / CHECACHATA","ILAVE","CHECACHATA",1,1,0,1,0,0,0]
["1556687","726","A2 - Inicial - Jardín              ","ILAVE / SIMILLACA","ILAVE","SIMILLACA",1,1,1,0,0,0,0]
["1556505","727","A2 - Inicial - Jardín              ","ILAVE / CHALLOCOLLO","ILAVE","CHALLOCOLLO",1,1,1,0,0,0,0]
["1556471","728","A2 - Inicial - Jardín              ","ILAVE / APHARUNI","ILAVE","APHARUNI",1,1,1,0,0,0,0]
["1556596","729","A2 - Inicial - Jardín              ","ILAVE / JARANI","ILAVE","JARANI",1,1,1,0,0,0,0]
["1556547","730","A2 - Inicial - Jardín              ","ILAVE / COMPACAZO","ILAVE","COMPACAZO",1,1,1,0,0,0,0]
["1556638","731","A2 - Inicial - Jardín              ",{"$f":"CONCATENATE(E70,\" / \",F70)","v":"ILAVE / PICHINCUTA"},"ILAVE","PICHINCUTA",1,1,1,0,0,0,0]
["1556554","732","A2 - Inicial - Jardín              ","ILAVE / CONCHACA","ILAVE","CONCHACA",2,2,1,1,0,0,0]
["1556570","733","A2 - Inicial - Jardín              ","ILAVE / HUARAHUARANI","ILAVE","HUARAHUARANI",1,1,0,1,0,0,0]
["1556562","734","A2 - Inicial - Jardín              ","ILAVE / CUTINI PUCARA","ILAVE","CUTINI PUCARA",1,1,0,1,0,0,0]
["1556679","735","A2 - Inicial - Jardín              ","ILAVE / SANTA ROSA DE HUAYLLATA","ILAVE","SANTA ROSA DE HUAYLLATA",1,1,0,1,0,0,0]
["1556653","736","A2 - Inicial - Jardín              ","ILAVE / HUINI HUININI","ILAVE","HUINI HUININI",1,1,0,1,0,0,0]
["1564616","737","A2 - Inicial - Jardín              ","ILAVE / CALACOTA","ILAVE","CALACOTA",1,1,1,0,0,0,0]
["1556497","738","A2 - Inicial - Jardín              ","PILCUYO / CAÑA MAQUERA","PILCUYO","CAÑA MAQUERA",1,1,1,0,0,0,0]
["1556703","739","A2 - Inicial - Jardín              ","PILCUYO / TARACANCAMAYA / CANCAMAYA","PILCUYO","TARACANCAMAYA / CANCAMAYA",1,1,1,0,0,0,0]
["1556612","740","A2 - Inicial - Jardín              ","PILCUYO / MULLACANI","PILCUYO","MULLACANI",1,1,1,0,0,0,0]
["1556646","741","A2 - Inicial - Jardín              ","PILCUYO / QUETY","PILCUYO","QUETY",1,1,1,0,0,0,0]
["1556588","742","A2 - Inicial - Jardín              ","PILCUYO / HUARIQUISAMA","PILCUYO","HUARIQUISAMA",1,1,1,0,0,0,0]
["1556539","743","A2 - Inicial - Jardín              ","PILCUYO / CHOJÑA CHOJÑANI","PILCUYO","CHOJÑA CHOJÑANI",1,1,1,0,0,0,0]
["1556513","744","A2 - Inicial - Jardín              ","PILCUYO / CHAULLACAMANI","PILCUYO","CHAULLACAMANI",1,1,0,1,0,0,0]
["1556711","745","A2 - Inicial - Jardín              ","PILCUYO / YAJACIRCATUYO / TUYO / TUCO","PILCUYO","YAJACIRCATUYO / TUYO / TUCO",1,1,0,1,0,0,0]
["1556661","746","A2 - Inicial - Jardín              ","PILCUYO / HUAYLLATA","PILCUYO","HUAYLLATA",1,1,1,0,0,0,0]
["1556620","747","A2 - Inicial - Jardín              ","PILCUYO / PACCO CUSULLANA","PILCUYO","PACCO CUSULLANA",1,1,1,0,0,0,0]
["1561414","748","A2 - Inicial - Jardín              ","SANTA ROSA / PROVIDENCIA","SANTA ROSA","PROVIDENCIA",1,1,1,0,0,0,0]
["1561422","749","A2 - Inicial - Jardín              ","ILAVE / PIÑUTANI","ILAVE","PIÑUTANI",1,1,1,0,0,0,0]
["1561406","750","A2 - Inicial - Jardín              ","PILCUYO / JALLUYO","PILCUYO","JALLUYO",2,2,1,1,0,0,0]
["1566330","751","A2 - Inicial - Jardín              ","ILAVE / CHURO LOPEZ","ILAVE","CHURO LOPEZ",2,2,0,2,0,0,0]
["1633502","1050","A2 - Inicial - Jardín              ","ILAVE / ILAVE","ILAVE","ILAVE",1,1,1,0,0,0,0]
["1610187","1052","A2 - Inicial - Jardín              ","CAPAZO / ROSARIO ALTO ANCOMARCA","CAPAZO","ROSARIO ALTO ANCOMARCA",1,1,0,1,0,0,0]
["1609619","1053","A2 - Inicial - Jardín              ","ILAVE / SANTA MARIA","ILAVE","SANTA MARIA",1,1,1,0,0,0,0]
["1609635","1054","A2 - Inicial - Jardín              ","ILAVE / ANCASAYA","ILAVE","ANCASAYA",1,1,1,0,0,0,0]
["1609668","1055","A2 - Inicial - Jardín              ","ILAVE / CHIRIMAYA","ILAVE","CHIRIMAYA",1,1,1,0,0,0,0]
["1609742","1056","A2 - Inicial - Jardín              ","ILAVE / LACOTUYO","ILAVE","LACOTUYO",1,1,1,0,0,0,0]
["1610229","1057","A2 - Inicial - Jardín              ","CAPAZO / SAN JOSE DE ANCOMARCA","CAPAZO","SAN JOSE DE ANCOMARCA",1,1,0,1,0,0,0]
["1609700","1058","A2 - Inicial - Jardín              ","ILAVE / COLLPUYO","ILAVE","COLLPUYO",1,1,1,0,0,0,0]
["1610203","1060","A2 - Inicial - Jardín              ","CONDURIRI / SALES GRANDE","CONDURIRI","SALES GRANDE",1,1,0,1,0,0,0]
["1609601","1061","A2 - Inicial - Jardín              ","ILAVE / CHOQUE","ILAVE","CHOQUE",1,1,1,0,0,0,0]
["1609692","1062","A2 - Inicial - Jardín              ","ILAVE / CHUNTACOLLO","ILAVE","CHUNTACOLLO",3,3,1,2,0,0,0]
["1610245","1063","A2 - Inicial - Jardín              ","SANTA ROSA / SAPACHULPA","SANTA ROSA","SAPACHULPA",2,2,0,2,0,0,0]
["1609676","1064","A2 - Inicial - Jardín              ","ILAVE / CHOCCOQUELICANI","ILAVE","CHOCCOQUELICANI",1,1,0,1,0,0,0]
["1633510","1065","A2 - Inicial - Jardín              ","ILAVE / ILAVE","ILAVE","ILAVE",1,1,0,1,0,0,0]
["1609726","1066","A2 - Inicial - Jardín              ","SANTA ROSA / HUANACACAMAYA","SANTA ROSA","HUANACACAMAYA",1,1,1,0,0,0,0]
["1609585","1067","A2 - Inicial - Jardín              ","ILAVE / CCACCATA","ILAVE","CCACCATA",1,1,1,0,0,0,0]
["1610260","1068","A2 - Inicial - Jardín              ","CONDURIRI / UNTAVE","CONDURIRI","UNTAVE",1,1,0,1,0,0,0]
["1610237","1069","A2 - Inicial - Jardín              ","PILCUYO / SANCUTA","PILCUYO","SANCUTA",1,1,1,0,0,0,0]
["1609650","1070","A2 - Inicial - Jardín              ","ILAVE / CHILACOLLO","ILAVE","CHILACOLLO",1,1,1,0,0,0,0]
["1610179","1071","A2 - Inicial - Jardín              ","ILAVE / QUALICANI CHICO","ILAVE","QUALICANI CHICO",1,1,1,0,0,0,0]
["1633494","1073","A2 - Inicial - Jardín              ","SANTA ROSA / CHICHILLAPI","SANTA ROSA","CHICHILLAPI",1,1,0,1,0,0,0]
["1610153","1074","A2 - Inicial - Jardín              ","CONDURIRI / PAIRUMANI","CONDURIRI","PAIRUMANI",1,1,0,1,0,0,0]
["1609593","1075","A2 - Inicial - Jardín              ","ILAVE / VILCA CHILE","ILAVE","VILCA CHILE",1,1,1,0,0,0,0]
["1609734",1076,"A2 - Inicial - Jardín              ","ILAVE / JAQUENCACHI","ILAVE","JAQUENCACHI",2,2,1,1,0,0,0]
["1610161","1077","A2 - Inicial - Jardín              ","ILAVE / PALLALLMARCA","ILAVE","PALLALLMARCA",1,1,0,1,0,0,0]
["1609684","1078","A2 - Inicial - Jardín              ","ILAVE / CHUNGARA","ILAVE","CHUNGARA",1,1,0,1,0,0,0]
["1610278","1079","A2 - Inicial - Jardín              ","CONDURIRI / YARIHUANI","CONDURIRI","YARIHUANI",1,1,1,0,0,0,0]
["1610211","1080","A2 - Inicial - Jardín              ","ILAVE / SAN CARLOS MARCACCOLLO","ILAVE","SAN CARLOS MARCACCOLLO",1,1,0,1,0,0,0]
["1609718","1081","A2 - Inicial - Jardín              ","ILAVE / CORARACA","ILAVE","CORARACA",1,1,1,0,0,0,0]
["1610252","1082","A2 - Inicial - Jardín              ","CAPAZO / TUPALA HACIENDA","CAPAZO","TUPALA HACIENDA",1,1,0,1,0,0,0]
["1578715","1083","A2 - Inicial - Jardín              ","ILAVE / CORPA","ILAVE","CORPA",1,1,1,0,0,0,0]
["1653484","1117","A2 - Inicial - Jardín              ","ILAVE / ILAVE","ILAVE","ILAVE",1,1,1,0,0,0,0]
["1653492","1118","A2 - Inicial - Jardín              ","ILAVE / CONCAHUI","ILAVE","CONCAHUI",1,1,0,1,0,0,0]
["1653518",1119,"A2 - Inicial - Jardín              ","ILAVE / ILAVE","ILAVE","ILAVE",2,2,0,2,0,0,0]
["1678192","1313","A2 - Inicial - Jardín              ","ILAVE / CHOQUETANCA","ILAVE","CHOQUETANCA",1,1,0,1,0,0,0]
["1678135","1314","A2 - Inicial - Jardín              ","ILAVE / JALLANILLA","ILAVE","JALLANILLA",1,1,0,1,0,0,0]
["1678176","1315","A2 - Inicial - Jardín              ","ILAVE / JILACATURA","ILAVE","JILACATURA",1,1,0,1,0,0,0]
["1678168","1316","A2 - Inicial - Jardín              ","ILAVE / MAQUERA COMPUTI","ILAVE","MAQUERA COMPUTI",1,1,0,1,0,0,0]
["1678143","1317","A2 - Inicial - Jardín              ","ILAVE / ILAVE","ILAVE","ILAVE",1,1,0,1,0,0,0]
["1678127","1318","A2 - Inicial - Jardín              ","ILAVE / SARACAYA","ILAVE","SARACAYA",1,1,0,1,0,0,0]
["1678184","1319","A2 - Inicial - Jardín              ","ILAVE / SULCATURA II","ILAVE","SULCATURA II",1,1,0,1,0,0,0]
["1692250","1320","A2 - Inicial - Jardín              ","ILAVE / SAN JOSE","ILAVE","SAN JOSE",2,2,0,2,0,0,0]
["1710789","1461","A2 - Inicial - Jardín              ","ILAVE / SICATA","ILAVE","SICATA",1,1,0,1,0,0,0]
["1710797","1462","A2 - Inicial - Jardín              ",{"$f":"CONCATENATE(E134,\" / \",F134)","v":"ILAVE / ALQUIPA"},"ILAVE","ALQUIPA",1,1,0,1,0,0,0]
["1710805","1463","A2 - Inicial - Jardín              ","ILAVE / LLAU","ILAVE","LLAU",1,1,0,1,0,0,0]
["1710763","1464","A2 - Inicial - Jardín              ","ILAVE / PUSUYO","ILAVE","PUSUYO",1,1,0,1,0,0,0]
["1710771","1465","A2 - Inicial - Jardín              ","ILAVE / YAURIMA","ILAVE","YAURIMA",1,1,0,1,0,0,0]
["1746320","1594","A2 - Inicial - Jardín              ","PILCUYO / CALLACHOCO","PILCUYO","CALLACHOCO",1,1,0,1,0,0,0]
["1785930",1622,"A2 - Inicial - Jardín              ","ILAVE / CHINGANI","ILAVE","CHINGANI",2,2,0,2,0,0,0]
["0230896","70082","B0 - Primaria                      ",{"$f":"CONCATENATE(E140,\" / \",F140)","v":"ILAVE / SULCATURA 1"},"ILAVE","SULCATURA 1",6,4,4,0,1,0,1]
["0231357",70128,"B0 - Primaria                      ",{"$f":"CONCATENATE(E141,\" / \",F141)","v":"ILAVE / JILACATURA"},"ILAVE","JILACATURA",4,3,3,0,0,0,1]
["0231373","70130","B0 - Primaria                      ","ILAVE / CHOQUETANCA","ILAVE","CHOQUETANCA",5,4,3,1,0,0,1]
["0231472","70140","B0 - Primaria                      ","ILAVE / SULLCACATURA  II","ILAVE","SULLCACATURA  II",6,4,4,0,1,0,1]
["0573139","70161","B0 - Primaria                      ","ILAVE / SUQUINAPE","ILAVE","SUQUINAPE",2,2,2,0,0,0,0]
["0231746","70167","B0 - Primaria                      ","ILAVE / LAQUI","ILAVE","LAQUI",2,2,1,1,0,0,0]
["0231845","70178","B0 - Primaria                      ","ILAVE / YACANGO CENTRAL","ILAVE","YACANGO CENTRAL",6,5,4,1,0,0,1]
["0549402","70200","B0 - Primaria                      ","ILAVE / CANGALLE","ILAVE","CANGALLE",7,5,3,2,1,0,1]
["0220798","70201","B0 - Primaria                      ","CONDURIRI / CALASAYA","CONDURIRI","CALASAYA",1,1,1,0,0,0,0]
["0220921","70214","B0 - Primaria                      ","CAPAZO / ROSARIO ALTO ANCOMARCA","CAPAZO","ROSARIO ALTO ANCOMARCA",1,1,1,0,0,0,0]
["0220939","70215","B0 - Primaria                      ","CAPAZO / CAPASO","CAPAZO","CAPASO",2,2,2,0,0,0,0]
["0220962","70218","B0 - Primaria                      ","CAPAZO / CHUA","CAPAZO","CHUA",1,1,1,0,0,0,0]
["0270611","70315","B0 - Primaria                      ","ILAVE / RAMON CASTILLA","ILAVE","RAMON CASTILLA",61,51,45,6,3,0,7]
["0270629","70316 SAGRADO CORAZON DE JESUS","B0 - Primaria                      ","ILAVE / SAN MIGUEL","ILAVE","SAN MIGUEL",38,32,30,2,0,0,6]
["0270637",70317,"B0 - Primaria                      ","ILAVE / CHURU MAQUERA","ILAVE","CHURU MAQUERA",7,6,5,1,0,0,1]
["0270645","70318","B0 - Primaria                      ","ILAVE / CHECCA","ILAVE","CHECCA",5,4,4,0,0,0,1]
["0270652","70319","B0 - Primaria                      ","ILAVE / MAÑAZO","ILAVE","MAÑAZO",4,3,3,0,0,0,1]
["0270660","70320","B0 - Primaria                      ","ILAVE / SIRAYA","ILAVE","SIRAYA",5,4,3,1,0,0,1]
["0270678","70321 DOMINGO PILCO VILCA","B0 - Primaria                      ","ILAVE / CAMICACHI","ILAVE","CAMICACHI",18,16,14,2,0,0,2]
["0270686","70322","B0 - Primaria                      ","ILAVE / CHUCARAYA","ILAVE","CHUCARAYA",2,2,1,1,0,0,0]
["0270694","70323","B0 - Primaria                      ","ILAVE / APARUNE","ILAVE","APARUNE",3,3,3,0,0,0,0]
["0270702","70324","B0 - Primaria                      ","ILAVE / ROSACANI","ILAVE","ROSACANI",14,11,10,1,1,0,2]
["0270710","70325","B0 - Primaria                      ","ILAVE / JACHOCCO HUARACCO","ILAVE","JACHOCCO HUARACCO",14,11,10,1,2,0,1]
["0270728","70326","B0 - Primaria                      ","ILAVE / ULLACACHI","ILAVE","ULLACACHI",2,2,2,0,0,0,0]
["0270736","70327","B0 - Primaria                      ","ILAVE / COPAPOJO / CHILUYO COPAPUJO","ILAVE","COPAPOJO / CHILUYO COPAPUJO",5,4,4,0,0,0,1]
["0270744","70328","B0 - Primaria                      ","ILAVE / CATAMURO","ILAVE","CATAMURO",3,3,2,1,0,0,0]
["0270751","70329","B0 - Primaria                      ","ILAVE / CUTINI PUCARA","ILAVE","CUTINI PUCARA",2,2,2,0,0,0,0]
["0270769","70330","B0 - Primaria                      ","PILCUYO / MAQUERCOTA","PILCUYO","MAQUERCOTA",3,3,3,0,0,0,0]
["0270777","70331","B0 - Primaria                      ","PILCUYO / HUARIQUISAMA","PILCUYO","HUARIQUISAMA",3,2,2,0,1,0,0]
["0270785","70332","B0 - Primaria                      ","PILCUYO / ACCASO","PILCUYO","ACCASO",5,4,3,1,0,0,1]
["0270793","70333","B0 - Primaria                      ","PILCUYO / MULLACANI","PILCUYO","MULLACANI",3,3,3,0,0,0,0]
["0270801","70334","B0 - Primaria                      ","PILCUYO / JILAMAICO","PILCUYO","JILAMAICO",1,1,1,0,0,0,0]
["0270819","70335","B0 - Primaria                      ","PILCUYO / CACHIPUCARA","PILCUYO","CACHIPUCARA",6,5,4,1,0,0,1]
["0270827","70336","B0 - Primaria                      ","PILCUYO / TARACANCAMAYA / CANCAMAYA","PILCUYO","TARACANCAMAYA / CANCAMAYA",4,3,3,0,1,0,0]
["0335844","70337","B0 - Primaria                      ","PILCUYO / CONAPI SUMARIRE / JONAPI","PILCUYO","CONAPI SUMARIRE / JONAPI",1,1,0,1,0,0,0]
["0335851","70338","B0 - Primaria                      ","PILCUYO / YAJACIRCATUYO / TUYO / TUCO","PILCUYO","YAJACIRCATUYO / TUYO / TUCO",2,2,2,0,0,0,0]
["0305813","70339","B0 - Primaria                      ","PILCUYO / CHIPANA","PILCUYO","CHIPANA",6,5,5,0,0,0,1]
["0305821","70340 GLORIOSO JOSE ANTONIO ENCINAS","B0 - Primaria                      ","PILCUYO / PILCUYO","PILCUYO","PILCUYO",10,8,6,2,0,0,2]
["0305839",70341,"B0 - Primaria                      ","SANTA ROSA / SANTA ROSA","SANTA ROSA","SANTA ROSA",5,4,3,1,0,0,1]
["0305847","70342","B0 - Primaria                      ","SANTA ROSA / CHINCHILLAPI","SANTA ROSA","CHINCHILLAPI",1,1,1,0,0,0,0]
["0305854","70343","B0 - Primaria                      ","SANTA ROSA / ALIANZA","SANTA ROSA","ALIANZA",19,16,9,7,1,0,2]
["0305862","70344 CRISTO REY","B0 - Primaria                      ","ILAVE / CALLATA","ILAVE","CALLATA",5,4,4,0,0,0,1]
["0305888","70346","B0 - Primaria                      ","ILAVE / CHALLA CCOLLO","ILAVE","CHALLA CCOLLO",3,3,2,1,0,0,0]
["0305896","70347","B0 - Primaria                      ","ILAVE / COPACACHI CHILACOLLO","ILAVE","COPACACHI CHILACOLLO",3,3,3,0,0,0,0]
["0305904",70348,"B0 - Primaria                      ","ILAVE / JAQUENCACHI","ILAVE","JAQUENCACHI",4,3,3,0,0,0,1]
["0305912","70349","B0 - Primaria                      ","ILAVE / URANI","ILAVE","URANI",4,4,4,0,0,0,0]
["0305920","70350","B0 - Primaria                      ","ILAVE / PICHINCOTA","ILAVE","PICHINCOTA",4,4,4,0,0,0,0]
["0305938","70351","B0 - Primaria                      ","ILAVE / SENCA","ILAVE","SENCA",2,2,1,1,0,0,0]
["0305946",70352,"B0 - Primaria                      ","ILAVE / ALQUIPA","ILAVE","ALQUIPA",4,3,3,0,0,0,1]
["0305953","70353","B0 - Primaria                      ","ILAVE / ANCOAMAYA","ILAVE","ANCOAMAYA",2,2,2,0,0,0,0]
["0559237","70354","B0 - Primaria                      ","ILAVE / PUSUYO","ILAVE","PUSUYO",2,2,2,0,0,0,0]
["0305979","70355 SAGRADO NIÑO JESUS","B0 - Primaria                      ","ILAVE / CCACCATA","ILAVE","CCACCATA",2,2,2,0,0,0,0]
["0305987","70356","B0 - Primaria                      ","ILAVE / CHIJICHAYA","ILAVE","CHIJICHAYA",4,4,3,1,0,0,0]
["0305995","70357","B0 - Primaria                      ","ILAVE / MULLACONIHUECO","ILAVE","MULLACONIHUECO",3,3,3,0,0,0,0]
["0306019",70358,"B0 - Primaria                      ","ILAVE / CONCAHUI","ILAVE","CONCAHUI",5,4,3,1,0,0,1]
["0306043","70359","B0 - Primaria                      ","ILAVE / CORARACA","ILAVE","CORARACA",3,3,2,1,0,0,0]
["0306050","70360","B0 - Primaria                      ","ILAVE / SIMILLACA","ILAVE","SIMILLACA",2,2,2,0,0,0,0]
["0306068","70361","B0 - Primaria                      ","ILAVE / JICHU CCOLLO","ILAVE","JICHU CCOLLO",1,1,1,0,0,0,0]
["0306092",70363,"B0 - Primaria                      ","ILAVE / CONCHACA","ILAVE","CONCHACA",5,5,4,1,0,0,0]
["0306100","70364","B0 - Primaria                      ","ILAVE / CHIRIMAYA","ILAVE","CHIRIMAYA",2,2,2,0,0,0,0]
["0306233","70365","B0 - Primaria                      ","ILAVE / HUARIHUARANI","ILAVE","HUARIHUARANI",2,2,1,1,0,0,0]
["0306332",70367,"B0 - Primaria                      ","ILAVE / CORPA","ILAVE","CORPA",4,4,2,2,0,0,0]
["0306357","70369 JOSE OLAYA BALANDRA","B0 - Primaria                      ","ILAVE / PHARATA COPANI","ILAVE","PHARATA COPANI",5,4,4,0,0,0,1]
["0306365","70370","B0 - Primaria                      ","ILAVE / SAN CRISTOBAL","ILAVE","SAN CRISTOBAL",8,6,5,1,2,0,0]
["0306373",70371,"B0 - Primaria                      ","ILAVE / SANTA ROSA DE HUAYLLATA","ILAVE","SANTA ROSA DE HUAYLLATA",4,3,3,0,0,0,1]
["0306381","70372 GAMALIEL CHURATA","B0 - Primaria                      ",{"$f":"CONCATENATE(E205,\" / \",F205)","v":"ILAVE / COLLATA"},"ILAVE","COLLATA",3,3,3,0,0,0,0]
["0306399",70373,"B0 - Primaria                      ","ILAVE / HUANCARANI","ILAVE","HUANCARANI",3,3,2,1,0,0,0]
["0306407","70374","B0 - Primaria                      ","ILAVE / HUINI HUININI","ILAVE","HUINI HUININI",3,3,3,0,0,0,0]
["0306431","70375","B0 - Primaria                      ","ILAVE / COMPACAZO","ILAVE","COMPACAZO",4,3,3,0,1,0,0]
["0306027","70376","B0 - Primaria                      ","PILCUYO / VILCATURPO","PILCUYO","VILCATURPO",3,3,2,1,0,0,0]
["0306035","70377","B0 - Primaria                      ","PILCUYO / HUAYLLATA","PILCUYO","HUAYLLATA",3,3,3,0,0,0,0]
["0306076","70378","B0 - Primaria                      ","PILCUYO / CALLACHOCO","PILCUYO","CALLACHOCO",3,3,3,0,0,0,0]
["0306118","70379","B0 - Primaria                      ","PILCUYO / QUETY","PILCUYO","QUETY",2,1,1,0,1,0,0]
["0306126","70380","B0 - Primaria                      ","PILCUYO / SARAPI ARROYO","PILCUYO","SARAPI ARROYO",3,3,3,0,0,0,0]
["0306142","70382","B0 - Primaria                      ","ILAVE / OCOÑA","ILAVE","OCOÑA",3,3,3,0,0,0,0]
["0306159","70383","B0 - Primaria                      ","PILCUYO / SANCUTA","PILCUYO","SANCUTA",4,3,3,0,0,0,1]
["0306167","70384","B0 - Primaria                      ","PILCUYO / MARCOLLO","PILCUYO","MARCOLLO",4,3,3,0,0,0,1]
["0306175",70385,"B0 - Primaria                      ","PILCUYO / SARAPI PEÑALOSA / SACARE PEÑALOSA","PILCUYO","SARAPI PEÑALOSA / SACARE PEÑALOSA",2,2,2,0,0,0,0]
["0306183","70386","B0 - Primaria                      ","SANTA ROSA / LLUSTA","SANTA ROSA","LLUSTA",1,1,1,0,0,0,0]
["0306191","70387","B0 - Primaria                      ","SANTA ROSA / HUANACACAMAYA","SANTA ROSA","HUANACACAMAYA",1,1,1,0,0,0,0]
["0306209","70388","B0 - Primaria                      ","SANTA ROSA / SULCANACA","SANTA ROSA","SULCANACA",2,2,2,0,0,0,0]
["0306225","70390","B0 - Primaria                      ","SANTA ROSA / PATAPATA","SANTA ROSA","PATAPATA",1,1,1,0,0,0,0]
["0218412",70607,"B0 - Primaria                      ","ILAVE / VILCACHILI","ILAVE","VILCACHILI",4,4,3,1,0,0,0]
["0243766","70610","B0 - Primaria                      ","CONDURIRI / MIRAFLORES","CONDURIRI","MIRAFLORES",8,7,5,2,0,0,1]
["0218446","70613 TUPAC AMARU","B0 - Primaria                      ","ILAVE / CCOLLPA","ILAVE","CCOLLPA",4,3,3,0,1,0,0]
["0243790","70614 SAN MARTIN DE PORRES","B0 - Primaria                      ","ILAVE / ALASAYA","ILAVE","ALASAYA",46,39,34,5,1,0,6]
["0218453","70617","B0 - Primaria                      ","PILCUYO / CHAULLACAMANI","PILCUYO","CHAULLACAMANI",2,2,2,0,0,0,0]
["0474619","70621","B0 - Primaria                      ","CAPAZO / ANCOMARCA","CAPAZO","ANCOMARCA",2,2,2,0,0,0,0]
["0548909","70626","B0 - Primaria                      ","SANTA ROSA / PUNTA PERDIDA","SANTA ROSA","PUNTA PERDIDA",1,1,1,0,0,0,0]
["0227769","70634","B0 - Primaria                      ","PILCUYO / TICONA","PILCUYO","TICONA",2,2,1,1,0,0,0]
["0529602","70643","B0 - Primaria                      ","SANTA ROSA / AROPATA","SANTA ROSA","AROPATA",1,1,1,0,0,0,0]
["0547612",70648,"B0 - Primaria                      ","ILAVE / THOCORI JARANI","ILAVE","THOCORI JARANI",5,4,4,0,0,0,1]
["0615476","70659","B0 - Primaria                      ","ILAVE / WENCASI","ILAVE","WENCASI",1,1,1,0,0,0,0]
["0529404","70661","B0 - Primaria                      ","ILAVE / CHOQUE","ILAVE","CHOQUE",3,3,3,0,0,0,0]
["0559351","70669","B0 - Primaria                      ","SANTA ROSA / CUIPACUIPA","SANTA ROSA","CUIPACUIPA",1,1,1,0,0,0,0]
["0516146","70685","B0 - Primaria                      ","PILCUYO / CHAJÑA CHAJÑANI / CHOJNECHOUNA","PILCUYO","CHAJÑA CHAJÑANI / CHOJNECHOUNA",3,3,3,0,0,0,0]
["0615294",70686,"B0 - Primaria                      ","ILAVE / CHOCOQUELCANI","ILAVE","CHOCOQUELCANI",6,5,3,2,0,0,1]
["0615328","70711","B0 - Primaria                      ","ILAVE / PUCARA YACANGO","ILAVE","PUCARA YACANGO",2,2,2,0,0,0,0]
["0744342","70712","B0 - Primaria                      ","ILAVE / LOPEZ","ILAVE","LOPEZ",3,3,3,0,0,0,0]
["0516344","70718","B0 - Primaria                      ","ILAVE / ILAVE","ILAVE","ILAVE",13,10,9,1,1,0,2]
["0474429","70722","B0 - Primaria                      ","ILAVE / PANTIHUECO","ILAVE","PANTIHUECO",2,2,2,0,0,0,0]
["0660373","70723","B0 - Primaria                      ","ILAVE / CHECACHATA","ILAVE","CHECACHATA",2,2,1,1,0,0,0]
["0744318","70728 PERU BIRF","B0 - Primaria                      ","ILAVE / JOSE CARLOS MARIATEGUI","ILAVE","JOSE CARLOS MARIATEGUI",18,15,11,4,1,0,2]
["0744383","70730","B0 - Primaria                      ","ILAVE / PALLALLMARCA","ILAVE","PALLALLMARCA",3,3,3,0,0,0,0]
["0755017","70731","B0 - Primaria                      ","ILAVE / LACAYA","ILAVE","LACAYA",3,3,3,0,0,0,0]
["0744359","70733","B0 - Primaria                      ","ILAVE / ESCOLLAYA / JISCULLAYA","ILAVE","ESCOLLAYA / JISCULLAYA",1,1,1,0,0,0,0]
["0744367","70735","B0 - Primaria                      ","ILAVE / QUELCAHUECCO","ILAVE","QUELCAHUECCO",2,2,2,0,0,0,0]
["0755108","70736","B0 - Primaria                      ","ILAVE / SANTA MARIA","ILAVE","SANTA MARIA",2,2,2,0,0,0,0]
["0744417","70737","B0 - Primaria                      ","PILCUYO / JALLUYO","PILCUYO","JALLUYO",3,3,3,0,0,0,0]
["0744425","70738 PERU - BIRF","B0 - Primaria                      ","PILCUYO / PILCUYO","PILCUYO","PILCUYO",4,3,3,0,0,0,1]
["0755272","70739","B0 - Primaria                      ","CONDURIRI / CHIUTIRI HACIENDA","CONDURIRI","CHIUTIRI HACIENDA",1,1,1,0,0,0,0]
["0799452","70742","B0 - Primaria                      ","ILAVE / CCORPA FLORES","ILAVE","CCORPA FLORES",2,2,2,0,0,0,0]
["0755132","70743 ESCUELA CONCERTADA CALACOTA","B0 - Primaria                      ","ILAVE / CALACOTA","ILAVE","CALACOTA",4,4,4,0,0,0,0]
["0799551","70747","B0 - Primaria                      ","CAPAZO / PATJATA","CAPAZO","PATJATA",1,1,1,0,0,0,0]
["0848754","70748","B0 - Primaria                      ","PILCUYO / PACCO CUSULLANA","PILCUYO","PACCO CUSULLANA",1,1,1,0,0,0,0]
["1155142","70749","B0 - Primaria                      ","SANTA ROSA / PROVIDENCIA","SANTA ROSA","PROVIDENCIA",3,2,2,0,1,0,0]
["0848879","70750","B0 - Primaria                      ","ILAVE / MULLA FACIRI","ILAVE","MULLA FACIRI",1,1,1,0,0,0,0]
["0848721","70751","B0 - Primaria                      ","PILCUYO / QUISPEMAQUERA","PILCUYO","QUISPEMAQUERA",3,2,2,0,1,0,0]
["0243915","71007 MARIANO ZEVALLOS GONZALES","B0 - Primaria                      ","ILAVE / SAN MIGUEL","ILAVE","SAN MIGUEL",44,36,34,2,1,0,7]
["0239392",71543,"B0 - Primaria                      ","CAPAZO / TUPALA HACIENDA","CAPAZO","TUPALA HACIENDA",5,4,4,0,0,0,1]
["0239392","ANEXO-71543","B0 - Primaria                      ","CAPAZO / SAN SALVADOR TIRACCOLLO","CAPAZO","SAN SALVADOR TIRACCOLLO",0,0,0,0,0,0,0]
["0845719","71545","B0 - Primaria                      ","ILAVE / PAMAYA","ILAVE","PAMAYA",3,3,3,0,0,0,0]
["0232033","ANEXO-70197","B0 - Primaria                      ","CONDURIRI / SICUNI KAMANI","CONDURIRI","SICUNI KAMANI",1,1,1,0,0,0,0]
["1576131","72756","B0 - Primaria                      ","ILAVE / BALSABE","ILAVE","BALSABE",10,7,4,3,2,0,1]
["0660423","ACCASO","F0 - Secundaria                    ",{"$f":"CONCATENATE(E264,\" / \",F264)","v":"PILCUYO / ACCASO"},"PILCUYO","ACCASO",9,8,6,2,0,0,1,0]
["0578906","AUGUSTO SALAZAR BONDY","F0 - Secundaria                    ",{"$f":"CONCATENATE(E265,\" / \",F265)","v":"ILAVE / CHUCARAYA"},"ILAVE","CHUCARAYA",10,9,8,1,0,0,1,0]
["0755280","CANGALLI","F0 - Secundaria                    ","ILAVE / CANGALLE","ILAVE","CANGALLE",9,8,7,1,0,0,1,0]
["1027671","CAPASO","F0 - Secundaria                    ","CAPAZO / CAPASO","CAPAZO","CAPASO",9,8,6,2,0,0,1,0]
["1576115","CARLOS DANTE NAVA","F0 - Secundaria                    ","ILAVE / PHARATA COPANI","ILAVE","PHARATA COPANI",11,8,6,2,2,0,1,0]
["0474593","CESAR VALLEJO","F0 - Secundaria                    ","PILCUYO / 24 DE NOVIEMBRE","PILCUYO","24 DE NOVIEMBRE",23,16,12,4,1,1,5,0]
["1027812","CHIJICHAYA","F0 - Secundaria                    ","ILAVE / CHIJICHAYA","ILAVE","CHIJICHAYA",9,8,6,2,0,0,1,0]
["0578898","HORACIO ZEVALLOS GAMEZ","F0 - Secundaria                    ","ILAVE / JACHOCCO HUARACCO","ILAVE","JACHOCCO HUARACCO",26,21,14,7,0,1,2,2]
["0660431","IES YACANGO","F0 - Secundaria                    ","ILAVE / YACANGO CENTRAL","ILAVE","YACANGO CENTRAL",10,8,7,1,0,1,1,0]
["0522490","JORGE BASADRE","F0 - Secundaria                    ","ILAVE / CAMECACHI","ILAVE","CAMECACHI",35,26,21,5,1,2,3,3]
["0578914","JORGE CHAVEZ","F0 - Secundaria                    ","ILAVE / CHIJUYO","ILAVE","CHIJUYO",10,8,6,2,0,1,1,0]
["0240218","JOSE CARLOS MARIATEGUI","F0 - Secundaria                    ","ILAVE / SAN MIGUEL","ILAVE","SAN MIGUEL",114,88,78,10,4,8,14,0]
["0500439","JOSE MARIA ARGUEDAS","F0 - Secundaria                    ","SANTA ROSA / MAZO CRUZ","SANTA ROSA","MAZO CRUZ",31,23,9,14,1,1,3,3]
["0522391","JOSE OLAYA","F0 - Secundaria                    ","PILCUYO / CHIPANA","PILCUYO","CHIPANA",16,11,9,2,0,1,4,0]
["1540228","JUAN VELASCO ALVARADO","F0 - Secundaria                    ","ILAVE / ROSACANI","ILAVE","ROSACANI",10,8,7,1,0,1,1,0]
["0579003","MANUEL GONZALES PRADA","F0 - Secundaria                    ","PILCUYO / MAQUERCOTA","PILCUYO","MAQUERCOTA",9,8,5,3,0,0,1,0]
["0579011","MARIANO MELGAR","F0 - Secundaria                    ","ILAVE / CALLATA","ILAVE","CALLATA",18,14,9,5,0,1,1,2]
["0578997","MARISCAL RAMON CASTILLA","F0 - Secundaria                    ","PILCUYO / CACHI PUCARA","PILCUYO","CACHI PUCARA",9,8,6,2,0,0,1,0]
["0701532","MICAELA BASTIDAS","F0 - Secundaria                    ","PILCUYO / INCAPIURA","PILCUYO","INCAPIURA",30,24,12,12,0,1,3,2]
["0573196","MIGUEL GRAU","F0 - Secundaria                    ","PILCUYO / HUAYLLATA","PILCUYO","HUAYLLATA",12,10,8,2,1,0,1,0]
["0240283","NUESTRA SEÑORA DEL CARMEN","F0 - Secundaria                    ","ILAVE / SANTA BARBARA","ILAVE","SANTA BARBARA",135,102,89,13,11,8,14,0]
["0537464","PEDRO VILCAPAZA","F0 - Secundaria                    ","ILAVE / SANTA ROSA DE HUAYLLATA","ILAVE","SANTA ROSA DE HUAYLLATA",9,8,7,1,0,0,1,0]
["1761857","PERU BIRF","F0 - Secundaria                    ","ILAVE / JOSE CARLOS MARIATEGUI","ILAVE","JOSE CARLOS MARIATEGUI",11,10,5,5,0,1,0,0]
["0755223","POLITECNICO REGIONAL DON BOSCO","F0 - Secundaria                    ","ILAVE / BELLAVISTA","ILAVE","BELLAVISTA",72,55,41,14,3,4,10,0]
["1633791","PROVIDENCIA","F0 - Secundaria                    ","SANTA ROSA / AJIPINCUCHO","SANTA ROSA","AJIPINCUCHO",9,8,6,2,0,0,1,0]
["1027804","SAN ANTONIO","F0 - Secundaria                    ","ILAVE / CHECCA","ILAVE","CHECCA",23,18,15,3,0,1,2,2]
["0701573","SAN JOSE DE ANCOMARCA","F0 - Secundaria                    ","CAPAZO / ANCOMARCA","CAPAZO","ANCOMARCA",9,8,3,5,0,0,1,0]
["0533810","SANTA ROSA","F0 - Secundaria                    ","SANTA ROSA / SANTA ROSA","SANTA ROSA","SANTA ROSA",8,8,3,5,0,0,0,0]
["0578880","SIRAYA","F0 - Secundaria                    ","ILAVE / SIRAYA","ILAVE","SIRAYA",10,8,7,1,0,1,1,0]
["1653476","TIUTIRI ANTAMARCA","F0 - Secundaria                    ","ILAVE / TIUTIRI","ILAVE","TIUTIRI",10,9,6,3,0,0,1,0]
["0579045","TUPAC AMARU II","F0 - Secundaria                    ","CONDURIRI / CONDURIRI","CONDURIRI","CONDURIRI",22,19,6,13,0,0,1,2]
["0579037","TUPALA","F0 - Secundaria                    ","CAPAZO / TUPALA HACIENDA","CAPAZO","TUPALA HACIENDA",9,8,5,3,0,0,1,0]
["0755199","ULLACACHI","F0 - Secundaria                    ","ILAVE / ULLACACHI","ILAVE","ULLACACHI",9,8,7,1,0,0,1,0]
["1725878","CEBA - SEÑOR DE LOS MILAGROS","EBA - Inicial e Intermedio","Ilave","Ilave","ILAVE"]
["0240465","CEBA - SEÑOR DE LOS MILAGROS","EBA - Avanzado","Ilave","Ilave","ILAVE"]
["1749217","ILAVE","EBE - Inicial","Ilave","Ilave","SAN MIGUEL"]
["1153659","ILAVE","EBE - Primaria","Ilave","Ilave","SAN MIGUEL"]
["0755165","PILCUYO","CETPRO","Pilcuyo","Pilcuyo","CHIPANA"]
["0805028","ILAVE","CETPRO","Ilave","Ilave","BELLAVISTA"]

{"sheet":"CALEND","index":6,"n_rows":28,"n_cols":32,"rows_kept":28,"cut":false,"hidden":true,"merged":[]}
["MESES",1,2,3,4,5,6,7,8,9,10,11,12,13,14,15,16,17,18,19,20,21,22,23,24,25,26,27,28,29,30,31]
[1,{"$f":"TEXT(WEEKDAY(DATE(AñoNatural,$A2,B$1),1),\"[$-c0a]ddd\")","v":"lu."},{"$f":"TEXT(WEEKDAY(DATE(AñoNatural,$A2,C$1),1),\"[$-c0a]ddd\")","v":"ma."},"mi.","ju.","vi.","sá.","do.","lu.","ma.","mi.","ju.","vi.","sá.","do.","lu.","ma.","mi.","ju.","vi.","sá.","do.","lu.","ma.","mi.","ju.","vi.","sá.","do.","lu.","ma.","mi."]
[2,{"$f":"TEXT(WEEKDAY(DATE(AñoNatural,$A3,B$1),1),\"[$-c0a]ddd\")","v":"ju."},"vi.","sá.","do.","lu.","ma.","mi.","ju.","vi.","sá.",{"$f":"TEXT(WEEKDAY(DATE(AñoNatural,$A3,L$1),1),\"[$-c0a]ddd\")","v":"do."},"lu.","ma.","mi.","ju.","vi.","sá.","do.","lu.","ma.",{"$f":"TEXT(WEEKDAY(DATE(AñoNatural,$A3,V$1),1),\"[$-c0a]ddd\")","v":"mi."},"ju.","vi.","sá.","do.","lu.","ma.","mi.",{"$f":"TEXT(WEEKDAY(DATE(AñoNatural,$A3,AD$1),1),\"[$-c0a]ddd\")","v":"ju."}]
[3,"vi.","sá.","do.","lu.","ma.","mi.","ju.","vi.","sá.","do.","lu.","ma.","mi.","ju.","vi.","sá.","do.","lu.","ma.","mi.","ju.","vi.","sá.","do.","lu.","ma.","mi.","ju.",{"$f":"TEXT(WEEKDAY(DATE(AñoNatural,$A4,AD$1),1),\"[$-c0a]ddd\")","v":"vi."},{"$f":"TEXT(WEEKDAY(DATE(AñoNatural,$A4,AE$1),1),\"[$-c0a]ddd\")","v":"sá."},{"$f":"TEXT(WEEKDAY(DATE(AñoNatural,$A4,AF$1),1),\"[$-c0a]ddd\")","v":"do."}]
[4,"lu.","ma.","mi.","ju.","vi.","sá.","do.","lu.","ma.","mi.","ju.","vi.","sá.","do.","lu.","ma.","mi.","ju.","vi.","sá.","do.","lu.","ma.","mi.","ju.","vi.","sá.","do.",{"$f":"TEXT(WEEKDAY(DATE(AñoNatural,$A5,AD$1),1),\"[$-c0a]ddd\")","v":"lu."},"ma."]
[5,"mi.","ju.","vi.","sá.","do.","lu.","ma.","mi.","ju.","vi.","sá.","do.","lu.","ma.","mi.","ju.","vi.","sá.","do.","lu.","ma.","mi.","ju.","vi.","sá.","do.","lu.","ma.","mi.","ju.",{"$f":"TEXT(WEEKDAY(DATE(AñoNatural,$A6,AF$1),1),\"[$-c0a]ddd\")","v":"vi."}]
[6,"sá.","do.","lu.","ma.","mi.","ju.","vi.","sá.","do.","lu.","ma.","mi.","ju.","vi.","sá.","do.","lu.","ma.","mi.","ju.","vi.","sá.","do.","lu.","ma.","mi.","ju.","vi.","sá.","do."]
[7,"lu.","ma.","mi.","ju.","vi.","sá.","do.","lu.","ma.","mi.","ju.","vi.","sá.","do.","lu.","ma.","mi.","ju.","vi.","sá.","do.","lu.","ma.","mi.","ju.","vi.","sá.","do.","lu.","ma.",{"$f":"TEXT(WEEKDAY(DATE(AñoNatural,$A8,AF$1),1),\"[$-c0a]ddd\")","v":"mi."}]
[8,"ju.","vi.","sá.","do.","lu.","ma.","mi.","ju.","vi.","sá.","do.","lu.","ma.","mi.","ju.","vi.","sá.","do.","lu.","ma.","mi.","ju.","vi.","sá.","do.","lu.","ma.","mi.","ju.","vi.",{"$f":"TEXT(WEEKDAY(DATE(AñoNatural,$A9,AF$1),1),\"[$-c0a]ddd\")","v":"sá."}]
[9,"do.","lu.","ma.","mi.","ju.","vi.","sá.","do.","lu.","ma.","mi.","ju.","vi.","sá.","do.","lu.","ma.","mi.","ju.","vi.","sá.","do.","lu.","ma.","mi.","ju.","vi.","sá.","do.","lu."]
[10,"ma.","mi.","ju.","vi.","sá.","do.","lu.","ma.","mi.","ju.","vi.","sá.","do.","lu.","ma.","mi.","ju.","vi.","sá.","do.","lu.","ma.","mi.","ju.","vi.","sá.","do.","lu.","ma.","mi.",{"$f":"TEXT(WEEKDAY(DATE(AñoNatural,$A11,AF$1),1),\"[$-c0a]ddd\")","v":"ju."}]
[11,"vi.","sá.","do.","lu.","ma.","mi.","ju.","vi.","sá.","do.","lu.","ma.","mi.","ju.","vi.","sá.","do.","lu.","ma.","mi.","ju.","vi.","sá.","do.","lu.","ma.","mi.","ju.","vi.","sá."]
[12,"do.","lu.","ma.","mi.","ju.","vi.","sá.","do.","lu.","ma.","mi.","ju.","vi.","sá.","do.","lu.","ma.","mi.","ju.","vi.","sá.","do.","lu.","ma.","mi.","ju.","vi.","sá.","do.","lu.",{"$f":"TEXT(WEEKDAY(DATE(AñoNatural,$A13,AF$1),1),\"[$-c0a]ddd\")","v":"ma."}]
[]
[]
[]
["ENERO",1,null,null,null,null,null,null,"L","Lu."]
["FEBRERO",2,null,null,null,null,null,null,"M","Ma."]
["MARZO",3,null,null,null,null,null,null,"Mi","Mi."]
["ABRIL",4,null,null,null,null,null,null,"J","Ju."]
["MAYO",5,null,null,null,null,null,null,"V","Vi."]
["JUNIO",6,null,null,null,null,null,null,"S","Sa."]
["JULIO",7,null,null,null,null,null,null,"D","Do."]
["AGOSTO",8]
["SEPTIEMBRE",9]
["OCTUBRE",10]
["NOVIEMBRE",11]
["DICIEMBRE",12]