{"text_format":"1","workbook":"xlsx","n_sheets":9,"sheets":["AGOSTO","JULIO","ABRIL","marzo","REPORTE CONSOLIDADO","Norma","HORAS EFECTIVAS","DATA","CALEND"],"not_rendered":{"charts":0,"images":5,"macros":1,"external_links":1,"defined_names":19,"comments":0,"pivot_tables":0},"unopened":[],"bounds":{"document_bytes":16777216,"sheet_cells":100000,"rows_first":2000,"rows_last":500,"rows_between":2000,"halvings":0,"cell_chars":16384,"cell_head_chars":4096},"cells_cut":0,"cells_raw":0,"read":"whole","date_system":"1900"}

{"sheet":"AGOSTO","index":0,"n_rows":40,"n_cols":60,"rows_kept":40,"cut":false,"hidden":false,"merged":[[34,39,34,40],[12,2,13,2],[12,39,13,39],[12,40,13,40],[12,41,13,41],[32,39,32,40],[33,27,33,37],[33,39,33,40],[8,5,8,8],[9,5,9,8],[11,0,13,0],[11,3,13,3],[11,4,13,4],[11,5,13,5],[11,6,13,6],[11,7,13,7],[11,8,11,16383],[12,1,13,1],[1,4,1,34],[2,4,3,34],[4,0,4,40],[5,5,5,8],[6,5,6,8],[7,5,7,8],[7,14,7,15],[7,16,7,20],[7,24,7,25],[7,26,7,28]]}
[]
[null,null,null,null,"FORMATO 02:"]
[null,null,null,null,"CONSOLIDADO MENSUAL DE LAS HORAS EFECTIVAS DE TRABAJO PEDAGOGICO EN LAS INSTITUCIONES EDUCATIVAS PUBLICAS DE EDUCACION BASICA REGULAR\n",null,null,null,null,null,null,null,null,null,null,null,null,null,null,null,null,null,null,null,null,null,null,null,null,null,null,null,null,null,null,null,null,null,null,null,null,null,null,null,null,null,null,null,null,null,null,null,null,null,null,null,null,"CARGO","CONDICION LABORAL","TURNO"]
[null,null,null,null,null,null,null,null,null,null,null,null,null,null,null,null,null,null,null,null,null,null,null,null,null,null,null,null,null,null,null,null,null,null,null,null,null,null,null,null,null,null,null,null,null,null,null,null,null,null,null,null,null,null,null,null,null,"Director(e)","Nombrado","Mañana"]
[null,null,null,null,null,null,null,null,null,null,null,null,null,null,null,null,null,null,null,null,null,null,null,null,null,null,null,null,null,null,null,null,null,null,null,null,null,null,null,null,null,null,null,null,null,null,null,null,null,null,null,null,null,null,null,null,null,"Director Desig.","Destacado","Tarde"]
[null,null,null,null,"UGEL:","EL COLLAO",null,null,null,null,null,null,null,null,null,null,null,null,null,null,null,null,null,null,null,null,null,null,null,null,null,null,null,null,null,null,null,null,null,null,null,null,null,null,null,null,null,null,null,null,null,null,null,null,null,null,null,"Sub Director","Contratado","Noche"]
[null,null,null,null,"INSTITUCIÓN EDUCATIVA:",70745,null,null,null,null,null,{"$f":"VLOOKUP(Q8,CALEND!$A$17:$B$28,2,FALSE)","v":8},null,null,null,null,null,null,null,null,null,null,null,{"$f":"+AñoNatural","v":2024},null,null,null,null,null,null,null,null,null,null,null,null,null,null,null,null,null,null,null,null,null,null,null,null,null,null,null,null,null,null,null,null,null,"Coord. Pedag.","CAS","Mañana y Tarde"]
[null,null,null,null,"NIVEL EDUCATIVO Y MODALIDAD:","B0 - Primaria                      ",null,null,null,null,null,null,null,null,"MES: ",null,"AGOSTO",null,null,null,null,null,null,null,"AÑO:",null,2024]
[null,null,null,null,"CODIGO MODULAR:","1155134",null,null,null,null,null,null,null,null,null,null,null,null,null,null,null,null,null,null,null,null,null,null,null,null,null,null,null,null,null,null,null,null,null,null,null,null,null,null,null,null,null,null,null,null,null,null,null,null,null,null,null,"Profesor","Encargado"]
[null,null,null,null,"DIRECCION","AYUPALCA",null,null,null,null,null,null,null,null,null,null,null,null,null,null,null,null,null,null,null,null,null,null,null,null,null,null,null,null,null,null,null,null,null,null,null,null,null,null,null,null,null,null,null,null,null,null,null,null,null,null,null,"Bibliotecario"]
[null,null,null,null,null,null,null,null,null,null,null,null,null,null,null,null,null,null,null,null,null,null,null,null,null,null,null,null,null,null,null,null,null,null,null,null,null,null,null,null,null,null,null,null,null,null,null,null,null,null,null,null,null,null,null,null,null,"Oficinista"]
["N°",null,null,"DNI","APELLIDOS Y NOMBRES","CARGO","GRADO","Nº DE HORAS PROGRAMADAS EFECTIVAS A DICTAR EN EL MES","DIAS CALENDARIO"]
[null,"COD MOD II.EE.","MES",null,null,null,null,null,1,2,3,4,5,6,7,8,9,10,11,12,13,14,15,16,17,18,19,20,21,22,23,24,25,26,27,28,29,{"$f":"IF(Q8=\"FEBRERO\",\"\",30)","v":30},{"$f":"IF(O8=\"FEBRERO\",\"\",31)","v":31},"TOTAL DE HORAS EFECTIVAS","Inasistencia + LSGH","OBSERVACIONES",null,null,null,null,null,null,null,null,null,null,null,null,null,null,null,"Pers. Servicio"]
[null,null,null,null,null,null,null,null,{"$f":"IF(LEN(VLOOKUP($L$7,CALEND!$A$2:$AF$13,I$13+1,FALSE))>0,VLOOKUP($L$7,CALEND!$A$2:$AF$13,I$13+1,FALSE),\"\")","v":"ju."},{"$f":"IF(LEN(VLOOKUP($L$7,CALEND!$A$2:$AF$13,J$13+1,FALSE))>0,VLOOKUP($L$7,CALEND!$A$2:$AF$13,J$13+1,FALSE),\"\")","v":"vi."},{"$f":"IF(LEN(VLOOKUP($L$7,CALEND!$A$2:$AF$13,K$13+1,FALSE))>0,VLOOKUP($L$7,CALEND!$A$2:$AF$13,K$13+1,FALSE),\"\")","v":"sá."},{"$f":"IF(LEN(VLOOKUP($L$7,CALEND!$A$2:$AF$13,L$13+1,FALSE))>0,VLOOKUP($L$7,CALEND!$A$2:$AF$13,L$13+1,FALSE),\"\")","v":"do."},{"$f":"IF(LEN(VLOOKUP($L$7,CALEND!$A$2:$AF$13,M$13+1,FALSE))>0,VLOOKUP($L$7,CALEND!$A$2:$AF$13,M$13+1,FALSE),\"\")","v":"lu."},{"$f":"IF(LEN(VLOOKUP($L$7,CALEND!$A$2:$AF$13,N$13+1,FALSE))>0,VLOOKUP($L$7,CALEND!$A$2:$AF$13,N$13+1,FALSE),\"\")","v":"ma."},{"$f":"IF(LEN(VLOOKUP($L$7,CALEND!$A$2:$AF$13,O$13+1,FALSE))>0,VLOOKUP($L$7,CALEND!$A$2:$AF$13,O$13+1,FALSE),\"\")","v":"mi."},{"$f":"IF(LEN(VLOOKUP($L$7,CALEND!$A$2:$AF$13,P$13+1,FALSE))>0,VLOOKUP($L$7,CALEND!$A$2:$AF$13,P$13+1,FALSE),\"\")","v":"ju."},{"$f":"IF(LEN(VLOOKUP($L$7,CALEND!$A$2:$AF$13,Q$13+1,FALSE))>0,VLOOKUP($L$7,CALEND!$A$2:$AF$13,Q$13+1,FALSE),\"\")","v":"vi."},{"$f":"IF(LEN(VLOOKUP($L$7,CALEND!$A$2:$AF$13,R$13+1,FALSE))>0,VLOOKUP($L$7,CALEND!$A$2:$AF$13,R$13+1,FALSE),\"\")","v":"sá."},{"$f":"IF(LEN(VLOOKUP($L$7,CALEND!$A$2:$AF$13,S$13+1,FALSE))>0,VLOOKUP($L$7,CALEND!$A$2:$AF$13,S$13+1,FALSE),\"\")","v":"do."},{"$f":"IF(LEN(VLOOKUP($L$7,CALEND!$A$2:$AF$13,T$13+1,FALSE))>0,VLOOKUP($L$7,CALEND!$A$2:$AF$13,T$13+1,FALSE),\"\")","v":"lu."},{"$f":"IF(LEN(VLOOKUP($L$7,CALEND!$A$2:$AF$13,U$13+1,FALSE))>0,VLOOKUP($L$7,CALEND!$A$2:$AF$13,U$13+1,FALSE),\"\")","v":"ma."},{"$f":"IF(LEN(VLOOKUP($L$7,CALEND!$A$2:$AF$13,V$13+1,FALSE))>0,VLOOKUP($L$7,CALEND!$A$2:$AF$13,V$13+1,FALSE),\"\")","v":"mi."},{"$f":"IF(LEN(VLOOKUP($L$7,CALEND!$A$2:$AF$13,W$13+1,FALSE))>0,VLOOKUP($L$7,CALEND!$A$2:$AF$13,W$13+1,FALSE),\"\")","v":"ju."},{"$f":"IF(LEN(VLOOKUP($L$7,CALEND!$A$2:$AF$13,X$13+1,FALSE))>0,VLOOKUP($L$7,CALEND!$A$2:$AF$13,X$13+1,FALSE),\"\")","v":"vi."},{"$f":"IF(LEN(VLOOKUP($L$7,CALEND!$A$2:$AF$13,Y$13+1,FALSE))>0,VLOOKUP($L$7,CALEND!$A$2:$AF$13,Y$13+1,FALSE),\"\")","v":"sá."},{"$f":"IF(LEN(VLOOKUP($L$7,CALEND!$A$2:$AF$13,Z$13+1,FALSE))>0,VLOOKUP($L$7,CALEND!$A$2:$AF$13,Z$13+1,FALSE),\"\")","v":"do."},{"$f":"IF(LEN(VLOOKUP($L$7,CALEND!$A$2:$AF$13,AA$13+1,FALSE))>0,VLOOKUP($L$7,CALEND!$A$2:$AF$13,AA$13+1,FALSE),\"\")","v":"lu."},{"$f":"IF(LEN(VLOOKUP($L$7,CALEND!$A$2:$AF$13,AB$13+1,FALSE))>0,VLOOKUP($L$7,CALEND!$A$2:$AF$13,AB$13+1,FALSE),\"\")","v":"ma."},{"$f":"IF(LEN(VLOOKUP($L$7,CALEND!$A$2:$AF$13,AC$13+1,FALSE))>0,VLOOKUP($L$7,CALEND!$A$2:$AF$13,AC$13+1,FALSE),\"\")","v":"mi."},{"$f":"IF(LEN(VLOOKUP($L$7,CALEND!$A$2:$AF$13,AD$13+1,FALSE))>0,VLOOKUP($L$7,CALEND!$A$2:$AF$13,AD$13+1,FALSE),\"\")","v":"ju."},{"$f":"IF(LEN(VLOOKUP($L$7,CALEND!$A$2:$AF$13,AE$13+1,FALSE))>0,VLOOKUP($L$7,CALEND!$A$2:$AF$13,AE$13+1,FALSE),\"\")","v":"vi."},{"$f":"IF(LEN(VLOOKUP($L$7,CALEND!$A$2:$AF$13,AF$13+1,FALSE))>0,VLOOKUP($L$7,CALEND!$A$2:$AF$13,AF$13+1,FALSE),\"\")","v":"sá."},{"$f":"IF(LEN(VLOOKUP($L$7,CALEND!$A$2:$AF$13,AG$13+1,FALSE))>0,VLOOKUP($L$7,CALEND!$A$2:$AF$13,AG$13+1,FALSE),\"\")","v":"do."},{"$f":"IF(LEN(VLOOKUP($L$7,CALEND!$A$2:$AF$13,AH$13+1,FALSE))>0,VLOOKUP($L$7,CALEND!$A$2:$AF$13,AH$13+1,FALSE),\"\")","v":"lu."},{"$f":"IF(LEN(VLOOKUP($L$7,CALEND!$A$2:$AF$13,AI$13+1,FALSE))>0,VLOOKUP($L$7,CALEND!$A$2:$AF$13,AI$13+1,FALSE),\"\")","v":"ma."},{"$f":"IF(LEN(VLOOKUP($L$7,CALEND!$A$2:$AF$13,AJ$13+1,FALSE))>0,VLOOKUP($L$7,CALEND!$A$2:$AF$13,AJ$13+1,FALSE),\"\")","v":"mi."},{"$f":"IF(LEN(VLOOKUP($L$7,CALEND!$A$2:$AF$13,AK$13+1,FALSE))>0,VLOOKUP($L$7,CALEND!$A$2:$AF$13,AK$13+1,FALSE),\"\")","v":"ju."},{"$f":"IF(LEN(VLOOKUP($L$7,CALEND!$A$2:$AF$13,AL$13+1,FALSE))>0,VLOOKUP($L$7,CALEND!$A$2:$AF$13,AL$13+1,FALSE),\"\")","v":"vi."},{"$f":"IF(LEN(VLOOKUP($L$7,CALEND!$A$2:$AF$13,AM$13+1,FALSE))>0,VLOOKUP($L$7,CALEND!$A$2:$AF$13,AM$13+1,FALSE),\"\")","v":"sá."},null,null,null,null,"J","LG","LS","I","LGU","TR","T",null,null,null,null,null,null,null,"Secretaria(o)"]
[1,{"$f":"IF(LEN(C15)>0,VLOOKUP($F$9,DATA!$A$4:$A$296,1,FALSE),\"\")","v":{"$error":"#N/A"}},{"$f":"IF(LEN(E15)>0,$Q$8,\"\")","v":"AGOSTO"},"40853446","AGUILAR CHOQUE, EFRAIN CARLOS","Director(e)","Nombrado",{"$f":"AN15","v":114},"E","E",{"$f":"IF(AND(LEN($E15)>0,K$14<>\"sá.\",K$14<>\"do.\",K$14<>\"\"),\"6\",\"\")","v":""},"","6","6","6","6","6","","","6","6","6","6","6","","","6","6","6","6","6","","","6","6","6","6","F","",{"$f":"COUNTIF(I15:AM15,\"=6\")*6","v":114},{"$f":"IF(AND(LEN($E15)>0,AO$14<>\"sá.\",AO$14<>\"do.\",AO$14<>\"\"),\"TR\",\"\")","v":""},null,null,{"$f":"COUNTIF(I15:AN15,$AR$14)","v":0},{"$f":"COUNTIF(I15:AN15,$AS$14)","v":0},{"$f":"COUNTIF(I15:AN15,$AT$14)","v":0},{"$f":"COUNTIF(I15:AN15,$AU$14)","v":0},{"$f":"COUNTIF(I15:AN15,$AV$14)","v":0},{"$f":"COUNTIF(I15:AN15,$AW$14)","v":0},{"$f":"COUNTIF(I15:AN15,$AX$14)","v":0},null,null,null,null,null,{"$f":"COUNTIF(I15:AN15,\"T\")","v":0},{"$f":"INT(BD15/3)","v":0},"Coord. Adm."]
[]
[{"$f":"IF(LEN(B17)>0,1+A15,\"\")","v":""},{"$f":"IF(LEN(C17)>0,VLOOKUP($F$9,DATA!$A$4:$A$296,1,FALSE),\"\")","v":""},{"$f":"IF(LEN(E17)>0,$Q$8,\"\")","v":""},null,null,null,null,null,null,{"$f":"IF(AND(LEN($E17)>0,J$14<>\"sá.\",J$14<>\"do.\",J$14<>\"\"),\"TR\",\"\")","v":""},"","","","","","","","","","","","","","","",{"$f":"IF(AND(LEN($E17)>0,Z$14<>\"sá.\",Z$14<>\"do.\",Z$14<>\"\"),\"TR\",\"\")","v":""},"","","","","","","","","","","","",{"$f":"IF(AND(LEN($E17)>0,AM$14<>\"sá.\",AM$14<>\"do.\",AM$14<>\"\"),\"A\",\"\")","v":""},{"$f":"IF(AND(LEN($E17)>0,AN$14<>\"sá.\",AN$14<>\"do.\",AN$14<>\"\"),\"TR\",\"\")","v":""},"",null,null,{"$f":"COUNTIF(I17:AN17,$AR$14)","v":0},{"$f":"COUNTIF(I17:AN17,$AS$14)","v":0},{"$f":"COUNTIF(I17:AN17,$AT$14)","v":0},{"$f":"COUNTIF(I17:AN17,$AU$14)","v":0},{"$f":"COUNTIF(I17:AN17,$AV$14)","v":0},{"$f":"COUNTIF(I17:AN17,$AW$14)","v":0},{"$f":"COUNTIF(I17:AN17,$AX$14)","v":0},null,null,null,null,null,{"$f":"COUNTIF(I17:AN17,\"T\")","v":0},{"$f":"INT(BD17/3)","v":0},"CIST"]
[{"$f":"IF(LEN(B18)>0,1+A17,\"\")","v":""},{"$f":"IF(LEN(C18)>0,VLOOKUP($F$9,DATA!$A$4:$A$296,1,FALSE),\"\")","v":""},"",null,null,null,null,null,null,"","","","","","","","","","","","","","","","","","","","","","","","","","","","","","","","",null,null,0,0,0,0,0,0,0,null,null,null,null,null,0,0,"Psicólogo"]
["",{"$f":"IF(LEN(C19)>0,VLOOKUP($F$9,DATA!$A$4:$A$296,1,FALSE),\"\")","v":""},"",null,null,null,null,null,null,"","","","","","","","","","","","","","","","","","","","","","","","","","","","","","","","",null,null,0,0,0,0,0,0,0,null,null,null,null,null,0,0,"Apoyo Educativo"]
["",{"$f":"IF(LEN(C20)>0,VLOOKUP($F$9,DATA!$A$4:$A$296,1,FALSE),\"\")","v":""},"",null,null,null,null,null,null,"","","","","","","","","","","","","","","","","","","","","","","","","","","","","","","","",null,null,0,0,0,0,0,0,0,null,null,null,null,null,0,0,"Pers. Mantenim."]
["",{"$f":"IF(LEN(C21)>0,VLOOKUP($F$9,DATA!$A$4:$A$296,1,FALSE),\"\")","v":""},"",null,null,null,null,null,null,"","","","","","","","","","","","","","","","","","","","","","","","","","","","","","","","",null,null,0,0,0,0,0,0,0,null,null,null,null,null,0,0]
["",{"$f":"IF(LEN(C22)>0,VLOOKUP($F$9,DATA!$A$4:$A$296,1,FALSE),\"\")","v":""},"",null,null,null,null,null,null,"","","","","","","","","","","","","","","","","","","","","","","","","","","","","","","","",null,null,0,0,0,0,0,0,0,null,null,null,null,null,0,0]
["",{"$f":"IF(LEN(C23)>0,VLOOKUP($F$9,DATA!$A$4:$A$296,1,FALSE),\"\")","v":""},"",null,null,null,null,null,null,"","","","","","","","","","","","","","","","","","","","","","","","","","","","","","","","",null,null,0,0,0,0,0,0,0,null,null,null,null,null,0,0]
["",{"$f":"IF(LEN(C24)>0,VLOOKUP($F$9,DATA!$A$4:$A$296,1,FALSE),\"\")","v":""},"",null,null,null,null,null,null,"","","","","","","","","","","","","","","","","","","","","","","","","","","","","","","","",null,null,0,0,0,0,0,0,0,null,null,null,null,null,0,0]
["",{"$f":"IF(LEN(C25)>0,VLOOKUP($F$9,DATA!$A$4:$A$296,1,FALSE),\"\")","v":""},"",null,null,null,null,null,null,"","","","","","","","","","","","","","","","","","","","","","","","","","","","","","","","",null,null,0,0,0,0,0,0,0,null,null,null,null,null,0,0]
["",{"$f":"IF(LEN(C26)>0,VLOOKUP($F$9,DATA!$A$4:$A$296,1,FALSE),\"\")","v":""},"",null,null,null,null,null,null,"","","","","","","","","","","","","","","","","","","","","","","","","","","","","","","","",null,null,0,0,0,0,0,0,0,null,null,null,null,null,0,0]
["",{"$f":"IF(LEN(C27)>0,VLOOKUP($F$9,DATA!$A$4:$A$296,1,FALSE),\"\")","v":""},"",null,null,null,null,null,null,"","","","","","","","","","","","","","","","","","","","","","","","","","","","","","","","",null,null,0,0,0,0,0,0,0,null,null,null,null,null,0,0]
["",{"$f":"IF(LEN(C28)>0,VLOOKUP($F$9,DATA!$A$4:$A$296,1,FALSE),\"\")","v":""},"",null,null,null,null,null,{"$f":"IF(AND(LEN($E28)>0,I$14<>\"sá.\",I$14<>\"do.\",I$14<>\"\"),\"TR\",\"\")","v":""},"","","","","","","","","","","","","","","","","","","","","","","","","","","","","","","","",null,null,0,0,0,0,0,0,0,null,null,null,null,null,0,0]
["",{"$f":"IF(LEN(C29)>0,VLOOKUP($F$9,DATA!$A$4:$A$296,1,FALSE),\"\")","v":""},"",null,null,null,null,null,"","","","","","","","","","","","","","","","","","","","","","","","","","","","","","","","","",null,null,0,0,0,0,0,0,0,null,null,null,null,null,0,0]
["",{"$f":"IF(LEN(C30)>0,VLOOKUP($F$9,DATA!$A$4:$A$296,1,FALSE),\"\")","v":""},"",null,null,null,null,null,"","","","","","","","","","","","","","","","","","","","","","","","","","","","","","","","","",null,null,0,0,0,0,0,0,0,null,null,null,null,null,0,0]
["LEYENDA:",{"$f":"IF(LEN(C31)>0,VLOOKUP($F$8,DATA!$A:$S,2,FALSE),\"\")","v":""}]
["J",": Falta justificada",null,": Falta justificada"]
["I",": Falta Injustificada",null,": Falta Injustificada",null,null,null,null,null,null,null,null,null,null,null,null,null,null,null,null,null,null,null,null,null,null,null,null,null,null,null,null,null,null,null,null,null,null,null,null,null,"NOMBRADO (A)"]
["F",": Dia Feriado",null,": Dia Feriado",null,null,null,null,null,null,null,null,null,null,null,null,null,null,null,null,null,null,null,"LUGAR Y FECHA:","AYUPALCA, 10-05-2024",null,null,{"$f":"TODAY()","v":"2024-09-08"},null,null,null,null,null,null,null,null,null,null,null,null,null,"CONTRATADO (A)"]
["P",": Semana de Planificación",null,": Semana de Planificación",null,null,null,null,null,null,null,null,null,null,null,null,null,null,null,null,null,null,null,null,null,null,null,null,null,null,null,null,null,null,null,null,null,null,null,null,null,"DESTACADO (A)"]
["R",": Jornada de Reflexión",null,": Jornada de Reflexión"]
["E",": Vacaciones Estudiantiles",null,": Vacaciones Estudiantiles"]
["D",": Documentación y Planificación",null,": Documentación y Planificación"]
["H",": Sabados y Domingos",null,": Sabados y Domingos"]
["TR",": Trabajo remoto (solo mes de marzo)"]

{"sheet":"JULIO","index":1,"n_rows":40,"n_cols":60,"rows_kept":40,"cut":false,"hidden":false,"merged":[[34,39,34,40],[33,27,33,37],[12,2,13,2],[12,39,13,39],[12,40,13,40],[12,41,13,41],[32,39,32,40],[33,39,33,40],[8,5,8,8],[9,5,9,8],[11,7,13,7],[11,8,11,16383],[11,0,13,0],[11,3,13,3],[11,4,13,4],[11,5,13,5],[11,6,13,6],[12,1,13,1],[1,4,1,34],[2,4,3,34],[4,0,4,40],[5,5,5,8],[6,5,6,8],[7,5,7,8],[7,14,7,15],[7,16,7,20],[7,24,7,25],[7,26,7,28]]}
[]
[null,null,null,null,"FORMATO 02:"]
[null,null,null,null,"CONSOLIDADO MENSUAL DE LAS HORAS EFECTIVAS DE TRABAJO PEDAGOGICO EN LAS INSTITUCIONES EDUCATIVAS PUBLICAS DE EDUCACION BASICA REGULAR\n",null,null,null,null,null,null,null,null,null,null,null,null,null,null,null,null,null,null,null,null,null,null,null,null,null,null,null,null,null,null,null,null,null,null,null,null,null,null,null,null,null,null,null,null,null,null,null,null,null,null,null,null,"CARGO","CONDICION LABORAL","TURNO"]
[null,null,null,null,null,null,null,null,null,null,null,null,null,null,null,null,null,null,null,null,null,null,null,null,null,null,null,null,null,null,null,null,null,null,null,null,null,null,null,null,null,null,null,null,null,null,null,null,null,null,null,null,null,null,null,null,null,"Director(e)","Nombrado","Mañana"]
[null,null,null,null,null,null,null,null,null,null,null,null,null,null,null,null,null,null,null,null,null,null,null,null,null,null,null,null,null,null,null,null,null,null,null,null,null,null,null,null,null,null,null,null,null,null,null,null,null,null,null,null,null,null,null,null,null,"Director Desig.","Destacado","Tarde"]
[null,null,null,null,"UGEL:","EL COLLAO",null,null,null,null,null,null,null,null,null,null,null,null,null,null,null,null,null,null,null,null,null,null,null,null,null,null,null,null,null,null,null,null,null,null,null,null,null,null,null,null,null,null,null,null,null,null,null,null,null,null,null,"Sub Director","Contratado","Noche"]
[null,null,null,null,"INSTITUCIÓN EDUCATIVA:",70745,null,null,null,null,null,{"$f":"VLOOKUP(Q8,CALEND!$A$17:$B$28,2,FALSE)","v":8},null,null,null,null,null,null,null,null,null,null,null,{"$f":"+AñoNatural","v":2024},null,null,null,null,null,null,null,null,null,null,null,null,null,null,null,null,null,null,null,null,null,null,null,null,null,null,null,null,null,null,null,null,null,"Coord. Pedag.","CAS","Mañana y Tarde"]
[null,null,null,null,"NIVEL EDUCATIVO Y MODALIDAD:","B0 - Primaria                      ",null,null,null,null,null,null,null,null,"MES: ",null,"AGOSTO",null,null,null,null,null,null,null,"AÑO:",null,2024]
[null,null,null,null,"CODIGO MODULAR:","1155134",null,null,null,null,null,null,null,null,null,null,null,null,null,null,null,null,null,null,null,null,null,null,null,null,null,null,null,null,null,null,null,null,null,null,null,null,null,null,null,null,null,null,null,null,null,null,null,null,null,null,null,"Profesor","Encargado"]
[null,null,null,null,"DIRECCION","AYUPALCA",null,null,null,null,null,null,null,null,null,null,null,null,null,null,null,null,null,null,null,null,null,null,null,null,null,null,null,null,null,null,null,null,null,null,null,null,null,null,null,null,null,null,null,null,null,null,null,null,null,null,null,"Bibliotecario"]
[null,null,null,null,null,null,null,null,null,null,null,null,null,null,null,null,null,null,null,null,null,null,null,null,null,null,null,null,null,null,null,null,null,null,null,null,null,null,null,null,null,null,null,null,null,null,null,null,null,null,null,null,null,null,null,null,null,"Oficinista"]
["N°",null,null,"DNI","APELLIDOS Y NOMBRES","CARGO","GRADO","Nº DE HORAS PROGRAMADAS EFECTIVAS A DICTAR EN EL MES","DIAS CALENDARIO"]
[null,"COD MOD II.EE.","MES",null,null,null,null,null,1,2,3,4,5,6,7,8,9,10,11,12,13,14,15,16,17,18,19,20,21,22,23,24,25,26,27,28,29,{"$f":"IF(Q8=\"FEBRERO\",\"\",30)","v":30},{"$f":"IF(O8=\"FEBRERO\",\"\",31)","v":31},"TOTAL DE HORAS EFECTIVAS","Inasistencia + LSGH","OBSERVACIONES",null,null,null,null,null,null,null,null,null,null,null,null,null,null,null,"Pers. Servicio"]
[null,null,null,null,null,null,null,null,{"$f":"IF(LEN(VLOOKUP($L$7,CALEND!$A$2:$AF$13,I$13+1,FALSE))>0,VLOOKUP($L$7,CALEND!$A$2:$AF$13,I$13+1,FALSE),\"\")","v":"ju."},{"$f":"IF(LEN(VLOOKUP($L$7,CALEND!$A$2:$AF$13,J$13+1,FALSE))>0,VLOOKUP($L$7,CALEND!$A$2:$AF$13,J$13+1,FALSE),\"\")","v":"vi."},{"$f":"IF(LEN(VLOOKUP($L$7,CALEND!$A$2:$AF$13,K$13+1,FALSE))>0,VLOOKUP($L$7,CALEND!$A$2:$AF$13,K$13+1,FALSE),\"\")","v":"sá."},{"$f":"IF(LEN(VLOOKUP($L$7,CALEND!$A$2:$AF$13,L$13+1,FALSE))>0,VLOOKUP($L$7,CALEND!$A$2:$AF$13,L$13+1,FALSE),\"\")","v":"do."},{"$f":"IF(LEN(VLOOKUP($L$7,CALEND!$A$2:$AF$13,M$13+1,FALSE))>0,VLOOKUP($L$7,CALEND!$A$2:$AF$13,M$13+1,FALSE),\"\")","v":"lu."},{"$f":"IF(LEN(VLOOKUP($L$7,CALEND!$A$2:$AF$13,N$13+1,FALSE))>0,VLOOKUP($L$7,CALEND!$A$2:$AF$13,N$13+1,FALSE),\"\")","v":"ma."},{"$f":"IF(LEN(VLOOKUP($L$7,CALEND!$A$2:$AF$13,O$13+1,FALSE))>0,VLOOKUP($L$7,CALEND!$A$2:$AF$13,O$13+1,FALSE),\"\")","v":"mi."},{"$f":"IF(LEN(VLOOKUP($L$7,CALEND!$A$2:$AF$13,P$13+1,FALSE))>0,VLOOKUP($L$7,CALEND!$A$2:$AF$13,P$13+1,FALSE),\"\")","v":"ju."},{"$f":"IF(LEN(VLOOKUP($L$7,CALEND!$A$2:$AF$13,Q$13+1,FALSE))>0,VLOOKUP($L$7,CALEND!$A$2:$AF$13,Q$13+1,FALSE),\"\")","v":"vi."},{"$f":"IF(LEN(VLOOKUP($L$7,CALEND!$A$2:$AF$13,R$13+1,FALSE))>0,VLOOKUP($L$7,CALEND!$A$2:$AF$13,R$13+1,FALSE),\"\")","v":"sá."},{"$f":"IF(LEN(VLOOKUP($L$7,CALEND!$A$2:$AF$13,S$13+1,FALSE))>0,VLOOKUP($L$7,CALEND!$A$2:$AF$13,S$13+1,FALSE),\"\")","v":"do."},{"$f":"IF(LEN(VLOOKUP($L$7,CALEND!$A$2:$AF$13,T$13+1,FALSE))>0,VLOOKUP($L$7,CALEND!$A$2:$AF$13,T$13+1,FALSE),\"\")","v":"lu."},{"$f":"IF(LEN(VLOOKUP($L$7,CALEND!$A$2:$AF$13,U$13+1,FALSE))>0,VLOOKUP($L$7,CALEND!$A$2:$AF$13,U$13+1,FALSE),\"\")","v":"ma."},{"$f":"IF(LEN(VLOOKUP($L$7,CALEND!$A$2:$AF$13,V$13+1,FALSE))>0,VLOOKUP($L$7,CALEND!$A$2:$AF$13,V$13+1,FALSE),\"\")","v":"mi."},{"$f":"IF(LEN(VLOOKUP($L$7,CALEND!$A$2:$AF$13,W$13+1,FALSE))>0,VLOOKUP($L$7,CALEND!$A$2:$AF$13,W$13+1,FALSE),\"\")","v":"ju."},{"$f":"IF(LEN(VLOOKUP($L$7,CALEND!$A$2:$AF$13,X$13+1,FALSE))>0,VLOOKUP($L$7,CALEND!$A$2:$AF$13,X$13+1,FALSE),\"\")","v":"vi."},{"$f":"IF(LEN(VLOOKUP($L$7,CALEND!$A$2:$AF$13,Y$13+1,FALSE))>0,VLOOKUP($L$7,CALEND!$A$2:$AF$13,Y$13+1,FALSE),\"\")","v":"sá."},{"$f":"IF(LEN(VLOOKUP($L$7,CALEND!$A$2:$AF$13,Z$13+1,FALSE))>0,VLOOKUP($L$7,CALEND!$A$2:$AF$13,Z$13+1,FALSE),\"\")","v":"do."},{"$f":"IF(LEN(VLOOKUP($L$7,CALEND!$A$2:$AF$13,AA$13+1,FALSE))>0,VLOOKUP($L$7,CALEND!$A$2:$AF$13,AA$13+1,FALSE),\"\")","v":"lu."},{"$f":"IF(LEN(VLOOKUP($L$7,CALEND!$A$2:$AF$13,AB$13+1,FALSE))>0,VLOOKUP($L$7,CALEND!$A$2:$AF$13,AB$13+1,FALSE),\"\")","v":"ma."},{"$f":"IF(LEN(VLOOKUP($L$7,CALEND!$A$2:$AF$13,AC$13+1,FALSE))>0,VLOOKUP($L$7,CALEND!$A$2:$AF$13,AC$13+1,FALSE),\"\")","v":"mi."},{"$f":"IF(LEN(VLOOKUP($L$7,CALEND!$A$2:$AF$13,AD$13+1,FALSE))>0,VLOOKUP($L$7,CALEND!$A$2:$AF$13,AD$13+1,FALSE),\"\")","v":"ju."},{"$f":"IF(LEN(VLOOKUP($L$7,CALEND!$A$2:$AF$13,AE$13+1,FALSE))>0,VLOOKUP($L$7,CALEND!$A$2:$AF$13,AE$13+1,FALSE),\"\")","v":"vi."},{"$f":"IF(LEN(VLOOKUP($L$7,CALEND!$A$2:$AF$13,AF$13+1,FALSE))>0,VLOOKUP($L$7,CALEND!$A$2:$AF$13,AF$13+1,FALSE),\"\")","v":"sá."},{"$f":"IF(LEN(VLOOKUP($L$7,CALEND!$A$2:$AF$13,AG$13+1,FALSE))>0,VLOOKUP($L$7,CALEND!$A$2:$AF$13,AG$13+1,FALSE),\"\")","v":"do."},{"$f":"IF(LEN(VLOOKUP($L$7,CALEND!$A$2:$AF$13,AH$13+1,FALSE))>0,VLOOKUP($L$7,CALEND!$A$2:$AF$13,AH$13+1,FALSE),\"\")","v":"lu."},{"$f":"IF(LEN(VLOOKUP($L$7,CALEND!$A$2:$AF$13,AI$13+1,FALSE))>0,VLOOKUP($L$7,CALEND!$A$2:$AF$13,AI$13+1,FALSE),\"\")","v":"ma."},{"$f":"IF(LEN(VLOOKUP($L$7,CALEND!$A$2:$AF$13,AJ$13+1,FALSE))>0,VLOOKUP($L$7,CALEND!$A$2:$AF$13,AJ$13+1,FALSE),\"\")","v":"mi."},{"$f":"IF(LEN(VLOOKUP($L$7,CALEND!$A$2:$AF$13,AK$13+1,FALSE))>0,VLOOKUP($L$7,CALEND!$A$2:$AF$13,AK$13+1,FALSE),\"\")","v":"ju."},{"$f":"IF(LEN(VLOOKUP($L$7,CALEND!$A$2:$AF$13,AL$13+1,FALSE))>0,VLOOKUP($L$7,CALEND!$A$2:$AF$13,AL$13+1,FALSE),\"\")","v":"vi."},{"$f":"IF(LEN(VLOOKUP($L$7,CALEND!$A$2:$AF$13,AM$13+1,FALSE))>0,VLOOKUP($L$7,CALEND!$A$2:$AF$13,AM$13+1,FALSE),\"\")","v":"sá."},null,null,null,null,"J","LG","LS","I","LGU","TR","T",null,null,null,null,null,null,null,"Secretaria(o)"]
[1,{"$f":"IF(LEN(C15)>0,VLOOKUP($F$9,DATA!$A$4:$A$296,1,FALSE),\"\")","v":{"$error":"#N/A"}},{"$f":"IF(LEN(E15)>0,$Q$8,\"\")","v":"AGOSTO"},"40853446","AGUILAR CHOQUE, EFRAIN CARLOS","Director(e)","Nombrado",{"$f":"AN15","v":114},"E","E",{"$f":"IF(AND(LEN($E15)>0,K$14<>\"sá.\",K$14<>\"do.\",K$14<>\"\"),\"6\",\"\")","v":""},"","6","6","6","6","6","","","6","6","6","6","6","","","6","6","6","6","6","","","6","6","6","6","F","",{"$f":"COUNTIF(I15:AM15,\"=6\")*6","v":114},{"$f":"IF(AND(LEN($E15)>0,AO$14<>\"sá.\",AO$14<>\"do.\",AO$14<>\"\"),\"TR\",\"\")","v":""},null,null,{"$f":"COUNTIF(I15:AN15,$AR$14)","v":0},{"$f":"COUNTIF(I15:AN15,$AS$14)","v":0},{"$f":"COUNTIF(I15:AN15,$AT$14)","v":0},{"$f":"COUNTIF(I15:AN15,$AU$14)","v":0},{"$f":"COUNTIF(I15:AN15,$AV$14)","v":0},{"$f":"COUNTIF(I15:AN15,$AW$14)","v":0},{"$f":"COUNTIF(I15:AN15,$AX$14)","v":0},null,null,null,null,null,{"$f":"COUNTIF(I15:AN15,\"T\")","v":0},{"$f":"INT(BD15/3)","v":0},"Coord. Adm."]
[]
[{"$f":"IF(LEN(B17)>0,1+A15,\"\")","v":""},{"$f":"IF(LEN(C17)>0,VLOOKUP($F$9,DATA!$A$4:$A$296,1,FALSE),\"\")","v":""},{"$f":"IF(LEN(E17)>0,$Q$8,\"\")","v":""},null,null,null,null,null,null,{"$f":"IF(AND(LEN($E17)>0,J$14<>\"sá.\",J$14<>\"do.\",J$14<>\"\"),\"TR\",\"\")","v":""},"","","","","","","","","","","","","","",{"$f":"IF(AND(LEN($E17)>0,Y$14<>\"sá.\",Y$14<>\"do.\",Y$14<>\"\"),\"TR\",\"\")","v":""},"","","","","","","","","","","","","",{"$f":"IF(AND(LEN($E17)>0,AM$14<>\"sá.\",AM$14<>\"do.\",AM$14<>\"\"),\"A\",\"\")","v":""},{"$f":"IF(AND(LEN($E17)>0,AN$14<>\"sá.\",AN$14<>\"do.\",AN$14<>\"\"),\"TR\",\"\")","v":""},"",null,null,{"$f":"COUNTIF(I17:AN17,$AR$14)","v":0},{"$f":"COUNTIF(I17:AN17,$AS$14)","v":0},{"$f":"COUNTIF(I17:AN17,$AT$14)","v":0},{"$f":"COUNTIF(I17:AN17,$AU$14)","v":0},{"$f":"COUNTIF(I17:AN17,$AV$14)","v":0},{"$f":"COUNTIF(I17:AN17,$AW$14)","v":0},{"$f":"COUNTIF(I17:AN17,$AX$14)","v":0},null,null,null,null,null,{"$f":"COUNTIF(I17:AN17,\"T\")","v":0},{"$f":"INT(BD17/3)","v":0},"CIST"]
[{"$f":"IF(LEN(B18)>0,1+A17,\"\")","v":""},{"$f":"IF(LEN(C18)>0,VLOOKUP($F$9,DATA!$A$4:$A$296,1,FALSE),\"\")","v":""},"",null,null,null,null,null,null,"","","","","","","","","","","","","","","","","","","","","","","","","","","","","","","","",null,null,0,0,0,0,0,0,0,null,null,null,null,null,0,0,"Psicólogo"]
["",{"$f":"IF(LEN(C19)>0,VLOOKUP($F$9,DATA!$A$4:$A$296,1,FALSE),\"\")","v":""},"",null,null,null,null,null,null,"","","","","","","","","","","","","","","","","","","","","","","","","","","","","","","","",null,null,0,0,0,0,0,0,0,null,null,null,null,null,0,0,"Apoyo Educativo"]
["",{"$f":"IF(LEN(C20)>0,VLOOKUP($F$9,DATA!$A$4:$A$296,1,FALSE),\"\")","v":""},"",null,null,null,null,null,null,"","","","","","","","","","","","","","","","","","","","","","","","","","","","","","","","",null,null,0,0,0,0,0,0,0,null,null,null,null,null,0,0,"Pers. Mantenim."]
["",{"$f":"IF(LEN(C21)>0,VLOOKUP($F$9,DATA!$A$4:$A$296,1,FALSE),\"\")","v":""},"",null,null,null,null,null,null,"","","","","","","","","","","","","","","","","","","","","","","","","","","","","","","","",null,null,0,0,0,0,0,0,0,null,null,null,null,null,0,0]
["",{"$f":"IF(LEN(C22)>0,VLOOKUP($F$9,DATA!$A$4:$A$296,1,FALSE),\"\")","v":""},"",null,null,null,null,null,null,"","","","","","","","","","","","","","","","","","","","","","","","","","","","","","","","",null,null,0,0,0,0,0,0,0,null,null,null,null,null,0,0]
["",{"$f":"IF(LEN(C23)>0,VLOOKUP($F$9,DATA!$A$4:$A$296,1,FALSE),\"\")","v":""},"",null,null,null,null,null,null,"","","","","","","","","","","","","","","","","","","","","","","","","","","","","","","","",null,null,0,0,0,0,0,0,0,null,null,null,null,null,0,0]
["",{"$f":"IF(LEN(C24)>0,VLOOKUP($F$9,DATA!$A$4:$A$296,1,FALSE),\"\")","v":""},"",null,null,null,null,null,null,"","","","","","","","","","","","","","","","","","","","","","","","","","","","","","","","",null,null,0,0,0,0,0,0,0,null,null,null,null,null,0,0]
["",{"$f":"IF(LEN(C25)>0,VLOOKUP($F$9,DATA!$A$4:$A$296,1,FALSE),\"\")","v":""},"",null,null,null,null,null,null,"","","","","","","","","","","","","","","","","","","","","","","","","","","","","","","","",null,null,0,0,0,0,0,0,0,null,null,null,null,null,0,0]
["",{"$f":"IF(LEN(C26)>0,VLOOKUP($F$9,DATA!$A$4:$A$296,1,FALSE),\"\")","v":""},"",null,null,null,null,null,null,"","","","","","","","","","","","","","","","","","","","","","","","","","","","","","","","",null,null,0,0,0,0,0,0,0,null,null,null,null,null,0,0]
["",{"$f":"IF(LEN(C27)>0,VLOOKUP($F$9,DATA!$A$4:$A$296,1,FALSE),\"\")","v":""},"",null,null,null,null,null,null,"","","","","","","","","","","","","","","","","","","","","","","","","","","","","","","","",null,null,0,0,0,0,0,0,0,null,null,null,null,null,0,0]
["",{"$f":"IF(LEN(C28)>0,VLOOKUP($F$9,DATA!$A$4:$A$296,1,FALSE),\"\")","v":""},"",null,null,null,null,null,"","","","","","","","","","","","","","","","","","","","","","","","","","","","","","","","","",null,null,0,0,0,0,0,0,0,null,null,null,null,null,0,0]
["",{"$f":"IF(LEN(C29)>0,VLOOKUP($F$9,DATA!$A$4:$A$296,1,FALSE),\"\")","v":""},"",null,null,null,null,null,"","","","","","","","","","","","","","","","","","","","","","","","","","","","","","","","","",null,null,0,0,0,0,0,0,0,null,null,null,null,null,0,0]
["",{"$f":"IF(LEN(C30)>0,VLOOKUP($F$9,DATA!$A$4:$A$296,1,FALSE),\"\")","v":""},"",null,null,null,null,null,"","","","","","","","","","","","","","","","","","","","","","","","","","","","","","","","","",null,null,0,0,0,0,0,0,0,null,null,null,null,null,0,0]
["LEYENDA:",{"$f":"IF(LEN(C31)>0,VLOOKUP($F$8,DATA!$A:$S,2,FALSE),\"\")","v":""}]
["J",": Falta justificada",null,": Falta justificada"]
["I",": Falta Injustificada",null,": Falta Injustificada",null,null,null,null,null,null,null,null,null,null,null,null,null,null,null,null,null,null,null,null,null,null,null,null,null,null,null,null,null,null,null,null,null,null,null,null,null,"NOMBRADO (A)"]
["F",": Dia Feriado",null,": Dia Feriado",null,null,null,null,null,null,null,null,null,null,null,null,null,null,null,null,null,null,null,"LUGAR Y FECHA:","AYUPALCA, 10-05-2024",null,null,{"$f":"TODAY()","v":"2024-09-08"},null,null,null,null,null,null,null,null,null,null,null,null,null,"CONTRATADO (A)"]
["P",": Semana de Planificación",null,": Semana de Planificación",null,null,null,null,null,null,null,null,null,null,null,null,null,null,null,null,null,null,null,null,null,null,null,null,null,null,null,null,null,null,null,null,null,null,null,null,null,"DESTACADO (A)"]
["R",": Jornada de Reflexión",null,": Jornada de Reflexión"]
["E",": Vacaciones Estudiantiles",null,": Vacaciones Estudiantiles"]
["D",": Documentación y Planificación",null,": Documentación y Planificación"]
["H",": Sabados y Domingos",null,": Sabados y Domingos"]
["TR",": Trabajo remoto (solo mes de marzo)"]

{"sheet":"ABRIL","index":2,"n_rows":40,"n_cols":60,"rows_kept":40,"cut":false,"hidden":false,"merged":[[34,39,34,40],[12,2,13,2],[12,39,13,39],[12,40,13,40],[12,41,13,41],[32,39,32,40],[33,24,33,37],[33,39,33,40],[8,5,8,8],[9,5,9,8],[11,0,13,0],[11,3,13,3],[11,4,13,4],[11,5,13,5],[11,6,13,6],[11,7,13,7],[11,8,11,16383],[12,1,13,1],[1,4,1,34],[2,4,3,34],[4,0,4,40],[5,5,5,8],[6,5,6,8],[7,5,7,8],[7,14,7,15],[7,16,7,20],[7,24,7,25],[7,26,7,28]]}
[]
[null,null,null,null,"FORMATO 02:"]
[null,null,null,null,"CONSOLIDADO MENSUAL DE LAS HORAS EFECTIVAS DE TRABAJO PEDAGOGICO EN LAS INSTITUCIONES EDUCATIVAS PUBLICAS DE EDUCACION BASICA REGULAR\n",null,null,null,null,null,null,null,null,null,null,null,null,null,null,null,null,null,null,null,null,null,null,null,null,null,null,null,null,null,null,null,null,null,null,null,null,null,null,null,null,null,null,null,null,null,null,null,null,null,null,null,null,"CARGO","CONDICION LABORAL","TURNO"]
[null,null,null,null,null,null,null,null,null,null,null,null,null,null,null,null,null,null,null,null,null,null,null,null,null,null,null,null,null,null,null,null,null,null,null,null,null,null,null,null,null,null,null,null,null,null,null,null,null,null,null,null,null,null,null,null,null,"Director(e)","Nombrado","Mañana"]
[null,null,null,null,null,null,null,null,null,null,null,null,null,null,null,null,null,null,null,null,null,null,null,null,null,null,null,null,null,null,null,null,null,null,null,null,null,null,null,null,null,null,null,null,null,null,null,null,null,null,null,null,null,null,null,null,null,"Director Desig.","Destacado","Tarde"]
[null,null,null,null,"UGEL:","EL COLLAO",null,null,null,null,null,null,null,null,null,null,null,null,null,null,null,null,null,null,null,null,null,null,null,null,null,null,null,null,null,null,null,null,null,null,null,null,null,null,null,null,null,null,null,null,null,null,null,null,null,null,null,"Sub Director","Contratado","Noche"]
[null,null,null,null,"INSTITUCIÓN EDUCATIVA:",70745,null,null,null,null,null,{"$f":"VLOOKUP(Q8,CALEND!$A$17:$B$28,2,FALSE)","v":4},null,null,null,null,null,null,null,null,null,null,null,{"$f":"+AñoNatural","v":2024},null,null,null,null,null,null,null,null,null,null,null,null,null,null,null,null,null,null,null,null,null,null,null,null,null,null,null,null,null,null,null,null,null,"Coord. Pedag.","CAS","Mañana y Tarde"]
[null,null,null,null,"NIVEL EDUCATIVO Y MODALIDAD:","B0 - Primaria                      ",null,null,null,null,null,null,null,null,"MES: ",null,"ABRIL",null,null,null,null,null,null,null,"AÑO:",null,2024]
[null,null,null,null,"CODIGO MODULAR:","1155134",null,null,null,null,null,null,null,null,null,null,null,null,null,null,null,null,null,null,null,null,null,null,null,null,null,null,null,null,null,null,null,null,null,null,null,null,null,null,null,null,null,null,null,null,null,null,null,null,null,null,null,"Profesor","Encargado"]
[null,null,null,null,"DIRECCION","AYUPALCA",null,null,null,null,null,null,null,null,null,null,null,null,null,null,null,null,null,null,null,null,null,null,null,null,null,null,null,null,null,null,null,null,null,null,null,null,null,null,null,null,null,null,null,null,null,null,null,null,null,null,null,"Bibliotecario"]
[null,null,null,null,null,null,null,null,null,null,null,null,null,null,null,null,null,null,null,null,null,null,null,null,null,null,null,null,null,null,null,null,null,null,null,null,null,null,null,null,null,null,null,null,null,null,null,null,null,null,null,null,null,null,null,null,null,"Oficinista"]
["N°",null,null,"DNI","APELLIDOS Y NOMBRES","CARGO","GRADO","Nº DE HORAS PROGRAMADAS EFECTIVAS A DICTAR EN EL MES","DIAS CALENDARIO"]
[null,"COD MOD II.EE.","MES",null,null,null,null,null,1,2,3,4,5,6,7,8,9,10,11,12,13,14,15,16,17,18,19,20,21,22,23,24,25,26,27,28,29,{"$f":"IF(Q8=\"FEBRERO\",\"\",30)","v":30},{"$f":"IF(O8=\"FEBRERO\",\"\",31)","v":31},"TOTAL DE HORAS EFECTIVAS","Inasistencia + LSGH","OBSERVACIONES",null,null,null,null,null,null,null,null,null,null,null,null,null,null,null,"Pers. Servicio"]
[null,null,null,null,null,null,null,null,{"$f":"IF(LEN(VLOOKUP($L$7,CALEND!$A$2:$AF$13,I$13+1,FALSE))>0,VLOOKUP($L$7,CALEND!$A$2:$AF$13,I$13+1,FALSE),\"\")","v":"lu."},{"$f":"IF(LEN(VLOOKUP($L$7,CALEND!$A$2:$AF$13,J$13+1,FALSE))>0,VLOOKUP($L$7,CALEND!$A$2:$AF$13,J$13+1,FALSE),\"\")","v":"ma."},{"$f":"IF(LEN(VLOOKUP($L$7,CALEND!$A$2:$AF$13,K$13+1,FALSE))>0,VLOOKUP($L$7,CALEND!$A$2:$AF$13,K$13+1,FALSE),\"\")","v":"mi."},{"$f":"IF(LEN(VLOOKUP($L$7,CALEND!$A$2:$AF$13,L$13+1,FALSE))>0,VLOOKUP($L$7,CALEND!$A$2:$AF$13,L$13+1,FALSE),\"\")","v":"ju."},{"$f":"IF(LEN(VLOOKUP($L$7,CALEND!$A$2:$AF$13,M$13+1,FALSE))>0,VLOOKUP($L$7,CALEND!$A$2:$AF$13,M$13+1,FALSE),\"\")","v":"vi."},{"$f":"IF(LEN(VLOOKUP($L$7,CALEND!$A$2:$AF$13,N$13+1,FALSE))>0,VLOOKUP($L$7,CALEND!$A$2:$AF$13,N$13+1,FALSE),\"\")","v":"sá."},{"$f":"IF(LEN(VLOOKUP($L$7,CALEND!$A$2:$AF$13,O$13+1,FALSE))>0,VLOOKUP($L$7,CALEND!$A$2:$AF$13,O$13+1,FALSE),\"\")","v":"do."},{"$f":"IF(LEN(VLOOKUP($L$7,CALEND!$A$2:$AF$13,P$13+1,FALSE))>0,VLOOKUP($L$7,CALEND!$A$2:$AF$13,P$13+1,FALSE),\"\")","v":"lu."},{"$f":"IF(LEN(VLOOKUP($L$7,CALEND!$A$2:$AF$13,Q$13+1,FALSE))>0,VLOOKUP($L$7,CALEND!$A$2:$AF$13,Q$13+1,FALSE),\"\")","v":"ma."},{"$f":"IF(LEN(VLOOKUP($L$7,CALEND!$A$2:$AF$13,R$13+1,FALSE))>0,VLOOKUP($L$7,CALEND!$A$2:$AF$13,R$13+1,FALSE),\"\")","v":"mi."},{"$f":"IF(LEN(VLOOKUP($L$7,CALEND!$A$2:$AF$13,S$13+1,FALSE))>0,VLOOKUP($L$7,CALEND!$A$2:$AF$13,S$13+1,FALSE),\"\")","v":"ju."},{"$f":"IF(LEN(VLOOKUP($L$7,CALEND!$A$2:$AF$13,T$13+1,FALSE))>0,VLOOKUP($L$7,CALEND!$A$2:$AF$13,T$13+1,FALSE),\"\")","v":"vi."},{"$f":"IF(LEN(VLOOKUP($L$7,CALEND!$A$2:$AF$13,U$13+1,FALSE))>0,VLOOKUP($L$7,CALEND!$A$2:$AF$13,U$13+1,FALSE),\"\")","v":"sá."},{"$f":"IF(LEN(VLOOKUP($L$7,CALEND!$A$2:$AF$13,V$13+1,FALSE))>0,VLOOKUP($L$7,CALEND!$A$2:$AF$13,V$13+1,FALSE),\"\")","v":"do."},{"$f":"IF(LEN(VLOOKUP($L$7,CALEND!$A$2:$AF$13,W$13+1,FALSE))>0,VLOOKUP($L$7,CALEND!$A$2:$AF$13,W$13+1,FALSE),\"\")","v":"lu."},{"$f":"IF(LEN(VLOOKUP($L$7,CALEND!$A$2:$AF$13,X$13+1,FALSE))>0,VLOOKUP($L$7,CALEND!$A$2:$AF$13,X$13+1,FALSE),\"\")","v":"ma."},{"$f":"IF(LEN(VLOOKUP($L$7,CALEND!$A$2:$AF$13,Y$13+1,FALSE))>0,VLOOKUP($L$7,CALEND!$A$2:$AF$13,Y$13+1,FALSE),\"\")","v":"mi."},{"$f":"IF(LEN(VLOOKUP($L$7,CALEND!$A$2:$AF$13,Z$13+1,FALSE))>0,VLOOKUP($L$7,CALEND!$A$2:$AF$13,Z$13+1,FALSE),\"\")","v":"ju."},{"$f":"IF(LEN(VLOOKUP($L$7,CALEND!$A$2:$AF$13,AA$13+1,FALSE))>0,VLOOKUP($L$7,CALEND!$A$2:$AF$13,AA$13+1,FALSE),\"\")","v":"vi."},{"$f":"IF(LEN(VLOOKUP($L$7,CALEND!$A$2:$AF$13,AB$13+1,FALSE))>0,VLOOKUP($L$7,CALEND!$A$2:$AF$13,AB$13+1,FALSE),\"\")","v":"sá."},{"$f":"IF(LEN(VLOOKUP($L$7,CALEND!$A$2:$AF$13,AC$13+1,FALSE))>0,VLOOKUP($L$7,CALEND!$A$2:$AF$13,AC$13+1,FALSE),\"\")","v":"do."},{"$f":"IF(LEN(VLOOKUP($L$7,CALEND!$A$2:$AF$13,AD$13+1,FALSE))>0,VLOOKUP($L$7,CALEND!$A$2:$AF$13,AD$13+1,FALSE),\"\")","v":"lu."},{"$f":"IF(LEN(VLOOKUP($L$7,CALEND!$A$2:$AF$13,AE$13+1,FALSE))>0,VLOOKUP($L$7,CALEND!$A$2:$AF$13,AE$13+1,FALSE),\"\")","v":"ma."},{"$f":"IF(LEN(VLOOKUP($L$7,CALEND!$A$2:$AF$13,AF$13+1,FALSE))>0,VLOOKUP($L$7,CALEND!$A$2:$AF$13,AF$13+1,FALSE),\"\")","v":"mi."},{"$f":"IF(LEN(VLOOKUP($L$7,CALEND!$A$2:$AF$13,AG$13+1,FALSE))>0,VLOOKUP($L$7,CALEND!$A$2:$AF$13,AG$13+1,FALSE),\"\")","v":"ju."},{"$f":"IF(LEN(VLOOKUP($L$7,CALEND!$A$2:$AF$13,AH$13+1,FALSE))>0,VLOOKUP($L$7,CALEND!$A$2:$AF$13,AH$13+1,FALSE),\"\")","v":"vi."},{"$f":"IF(LEN(VLOOKUP($L$7,CALEND!$A$2:$AF$13,AI$13+1,FALSE))>0,VLOOKUP($L$7,CALEND!$A$2:$AF$13,AI$13+1,FALSE),\"\")","v":"sá."},{"$f":"IF(LEN(VLOOKUP($L$7,CALEND!$A$2:$AF$13,AJ$13+1,FALSE))>0,VLOOKUP($L$7,CALEND!$A$2:$AF$13,AJ$13+1,FALSE),\"\")","v":"do."},{"$f":"IF(LEN(VLOOKUP($L$7,CALEND!$A$2:$AF$13,AK$13+1,FALSE))>0,VLOOKUP($L$7,CALEND!$A$2:$AF$13,AK$13+1,FALSE),\"\")","v":"lu."},{"$f":"IF(LEN(VLOOKUP($L$7,CALEND!$A$2:$AF$13,AL$13+1,FALSE))>0,VLOOKUP($L$7,CALEND!$A$2:$AF$13,AL$13+1,FALSE),\"\")","v":"ma."},{"$f":"IF(LEN(VLOOKUP($L$7,CALEND!$A$2:$AF$13,AM$13+1,FALSE))>0,VLOOKUP($L$7,CALEND!$A$2:$AF$13,AM$13+1,FALSE),\"\")","v":""},null,null,null,null,"J","LG","LS","I","LGU","TR","T",null,null,null,null,null,null,null,"Secretaria(o)"]
[1,{"$f":"IF(LEN(C15)>0,VLOOKUP($F$9,DATA!$A$4:$A$296,1,FALSE),\"\")","v":{"$error":"#N/A"}},{"$f":"IF(LEN(E15)>0,$Q$8,\"\")","v":"ABRIL"},"40853446","AGUILAR CHOQUE, EFRAIN CARLOS","Director(e)","Nombrado",{"$f":"AN15","v":132},{"$f":"IF(AND(LEN($E15)>0,I$14<>\"sá.\",I$14<>\"do.\",I$14<>\"\"),\"6\",\"\")","v":"6"},"6","6","6","6","","","6","6","6","6","6","","","6","6","6","6","6","","","6","6","6","6","6","","","6","6","",{"$f":"COUNTIF(I15:AM15,\"6\")*6","v":132},{"$f":"IF(AND(LEN($E15)>0,AO$14<>\"sá.\",AO$14<>\"do.\",AO$14<>\"\"),\"TR\",\"\")","v":""},null,null,{"$f":"COUNTIF(I15:AN15,$AR$14)","v":0},{"$f":"COUNTIF(I15:AN15,$AS$14)","v":0},{"$f":"COUNTIF(I15:AN15,$AT$14)","v":0},{"$f":"COUNTIF(I15:AN15,$AU$14)","v":0},{"$f":"COUNTIF(I15:AN15,$AV$14)","v":0},{"$f":"COUNTIF(I15:AN15,$AW$14)","v":0},{"$f":"COUNTIF(I15:AN15,$AX$14)","v":0},null,null,null,null,null,{"$f":"COUNTIF(I15:AN15,\"T\")","v":0},{"$f":"INT(BD15/3)","v":0},"Coord. Adm."]
[]
[{"$f":"IF(LEN(B17)>0,1+A15,\"\")","v":""},{"$f":"IF(LEN(C17)>0,VLOOKUP($F$9,DATA!$A$4:$A$296,1,FALSE),\"\")","v":""},{"$f":"IF(LEN(E17)>0,$Q$8,\"\")","v":""},null,null,null,null,null,{"$f":"IF(AND(LEN($E17)>0,I$14<>\"sá.\",I$14<>\"do.\",I$14<>\"\"),\"TR\",\"\")","v":""},"","","","","","","","","","","","","","","",{"$f":"IF(AND(LEN($E17)>0,Y$14<>\"sá.\",Y$14<>\"do.\",Y$14<>\"\"),\"TR\",\"\")","v":""},"","","","","","","","","","","","","",{"$f":"IF(AND(LEN($E17)>0,AM$14<>\"sá.\",AM$14<>\"do.\",AM$14<>\"\"),\"A\",\"\")","v":""},{"$f":"IF(AND(LEN($E17)>0,AN$14<>\"sá.\",AN$14<>\"do.\",AN$14<>\"\"),\"TR\",\"\")","v":""},"",null,null,{"$f":"COUNTIF(I17:AN17,$AR$14)","v":0},{"$f":"COUNTIF(I17:AN17,$AS$14)","v":0},{"$f":"COUNTIF(I17:AN17,$AT$14)","v":0},{"$f":"COUNTIF(I17:AN17,$AU$14)","v":0},{"$f":"COUNTIF(I17:AN17,$AV$14)","v":0},{"$f":"COUNTIF(I17:AN17,$AW$14)","v":0},{"$f":"COUNTIF(I17:AN17,$AX$14)","v":0},null,null,null,null,null,{"$f":"COUNTIF(I17:AN17,\"T\")","v":0},{"$f":"INT(BD17/3)","v":0},"CIST"]
[{"$f":"IF(LEN(B18)>0,1+A17,\"\")","v":""},{"$f":"IF(LEN(C18)>0,VLOOKUP($F$9,DATA!$A$4:$A$296,1,FALSE),\"\")","v":""},"",null,null,null,null,null,"","","","","","","","","","","","","","","","","","","","","","","","","","","","","","","","","",null,null,0,0,0,0,0,0,0,null,null,null,null,null,0,0,"Psicólogo"]
["",{"$f":"IF(LEN(C19)>0,VLOOKUP($F$9,DATA!$A$4:$A$296,1,FALSE),\"\")","v":""},"",null,null,null,null,null,"","","","","","","","","","","","","","","","","","","","","","","","","","","","","","","","","",null,null,0,0,0,0,0,0,0,null,null,null,null,null,0,0,"Apoyo Educativo"]
["",{"$f":"IF(LEN(C20)>0,VLOOKUP($F$9,DATA!$A$4:$A$296,1,FALSE),\"\")","v":""},"",null,null,null,null,null,"","","","","","","","","","","","","","","","","","","","","","","","","","","","","","","","","",null,null,0,0,0,0,0,0,0,null,null,null,null,null,0,0,"Pers. Mantenim."]
["",{"$f":"IF(LEN(C21)>0,VLOOKUP($F$9,DATA!$A$4:$A$296,1,FALSE),\"\")","v":""},"",null,null,null,null,null,"","","","","","","","","","","","","","","","","","","","","","","","","","","","","","","","","",null,null,0,0,0,0,0,0,0,null,null,null,null,null,0,0]
["",{"$f":"IF(LEN(C22)>0,VLOOKUP($F$9,DATA!$A$4:$A$296,1,FALSE),\"\")","v":""},"",null,null,null,null,null,"","","","","","","","","","","","","","","","","","","","","","","","","","","","","","","","","",null,null,0,0,0,0,0,0,0,null,null,null,null,null,0,0]
["",{"$f":"IF(LEN(C23)>0,VLOOKUP($F$9,DATA!$A$4:$A$296,1,FALSE),\"\")","v":""},"",null,null,null,null,null,"","","","","","","","","","","","","","","","","","","","","","","","","","","","","","","","","",null,null,0,0,0,0,0,0,0,null,null,null,null,null,0,0]
["",{"$f":"IF(LEN(C24)>0,VLOOKUP($F$9,DATA!$A$4:$A$296,1,FALSE),\"\")","v":""},"",null,null,null,null,null,"","","","","","","","","","","","","","","","","","","","","","","","","","","","","","","","","",null,null,0,0,0,0,0,0,0,null,null,null,null,null,0,0]
["",{"$f":"IF(LEN(C25)>0,VLOOKUP($F$9,DATA!$A$4:$A$296,1,FALSE),\"\")","v":""},"",null,null,null,null,null,"","","","","","","","","","","","","","","","","","","","","","","","","","","","","","","","","",null,null,0,0,0,0,0,0,0,null,null,null,null,null,0,0]
["",{"$f":"IF(LEN(C26)>0,VLOOKUP($F$9,DATA!$A$4:$A$296,1,FALSE),\"\")","v":""},"",null,null,null,null,null,"","","","","","","","","","","","","","","","","","","","","","","","","","","","","","","","","",null,null,0,0,0,0,0,0,0,null,null,null,null,null,0,0]
["",{"$f":"IF(LEN(C27)>0,VLOOKUP($F$9,DATA!$A$4:$A$296,1,FALSE),\"\")","v":""},"",null,null,null,null,null,"","","","","","","","","","","","","","","","","","","","","","","","","","","","","","","","","",null,null,0,0,0,0,0,0,0,null,null,null,null,null,0,0]
["",{"$f":"IF(LEN(C28)>0,VLOOKUP($F$9,DATA!$A$4:$A$296,1,FALSE),\"\")","v":""},"",null,null,null,null,null,"","","","","","","","","","","","","","","","","","","","","","","","","","","","","","","","","",null,null,0,0,0,0,0,0,0,null,null,null,null,null,0,0]
["",{"$f":"IF(LEN(C29)>0,VLOOKUP($F$9,DATA!$A$4:$A$296,1,FALSE),\"\")","v":""},"",null,null,null,null,null,"","","","","","","","","","","","","","","","","","","","","","","","","","","","","","","","","",null,null,0,0,0,0,0,0,0,null,null,null,null,null,0,0]
["",{"$f":"IF(LEN(C30)>0,VLOOKUP($F$9,DATA!$A$4:$A$296,1,FALSE),\"\")","v":""},"",null,null,null,null,null,"","","","","","","","","","","","","","","","","","","","","","","","","","","","","","","","","",null,null,0,0,0,0,0,0,0,null,null,null,null,null,0,0]
["LEYENDA:",{"$f":"IF(LEN(C31)>0,VLOOKUP($F$8,DATA!$A:$S,2,FALSE),\"\")","v":""}]
["J",": Falta justificada",null,": Falta justificada"]
["I",": Falta Injustificada",null,": Falta Injustificada",null,null,null,null,null,null,null,null,null,null,null,null,null,null,null,null,null,null,null,null,null,null,null,null,null,null,null,null,null,null,null,null,null,null,null,null,null,"NOMBRADO (A)"]
["F",": Dia Feriado",null,": Dia Feriado",null,null,null,null,null,null,null,null,null,null,null,null,null,null,null,null,null,null,null,"LUGAR Y FECHA:","AYUPALCA, 10-05-2024",null,null,null,null,null,null,null,null,null,null,null,null,null,null,null,null,"CONTRATADO (A)"]
["P",": Semana de Planificación",null,": Semana de Planificación",null,null,null,null,null,null,null,null,null,null,null,null,null,null,null,null,null,null,null,null,null,null,null,null,null,null,null,null,null,null,null,null,null,null,null,null,null,"DESTACADO (A)"]
["R",": Jornada de Reflexión",null,": Jornada de Reflexión"]
["E",": Vacaciones Estudiantiles",null,": Vacaciones Estudiantiles"]
["D",": Documentación y Planificación",null,": Documentación y Planificación"]
["H",": Sabados y Domingos",null,": Sabados y Domingos"]
["TR",": Trabajo remoto (solo mes de marzo)"]

{"sheet":"marzo","index":3,"n_rows":40,"n_cols":60,"rows_kept":40,"cut":false,"hidden":false,"merged":[[12,2,13,2],[12,1,13,1],[11,0,13,0],[5,5,5,8],[6,5,6,8],[7,5,7,8],[8,5,8,8],[9,5,9,8],[12,41,13,41],[11,3,13,3],[33,39,33,40],[33,24,33,37],[34,39,34,40],[12,40,13,40],[12,39,13,39],[11,8,11,16383],[11,4,13,4],[11,7,13,7],[11,6,13,6],[32,39,32,40],[11,5,13,5],[2,4,3,34],[4,0,4,40],[7,26,7,28],[7,24,7,25],[1,4,1,34],[7,16,7,20],[7,14,7,15]]}
[]
[null,null,null,null,"FORMATO 02:"]
[null,null,null,null,"CONSOLIDADO MENSUAL DE LAS HORAS EFECTIVAS DE TRABAJO PEDAGOGICO EN LAS INSTITUCIONES EDUCATIVAS PUBLICAS DE EDUCACION BASICA REGULAR\n",null,null,null,null,null,null,null,null,null,null,null,null,null,null,null,null,null,null,null,null,null,null,null,null,null,null,null,null,null,null,null,null,null,null,null,null,null,null,null,null,null,null,null,null,null,null,null,null,null,null,null,null,"CARGO","CONDICION LABORAL","TURNO"]
[null,null,null,null,null,null,null,null,null,null,null,null,null,null,null,null,null,null,null,null,null,null,null,null,null,null,null,null,null,null,null,null,null,null,null,null,null,null,null,null,null,null,null,null,null,null,null,null,null,null,null,null,null,null,null,null,null,"Director(e)","Nombrado","Mañana"]
[null,null,null,null,null,null,null,null,null,null,null,null,null,null,null,null,null,null,null,null,null,null,null,null,null,null,null,null,null,null,null,null,null,null,null,null,null,null,null,null,null,null,null,null,null,null,null,null,null,null,null,null,null,null,null,null,null,"Director Desig.","Destacado","Tarde"]
[null,null,null,null,"UGEL:","EL COLLAO",null,null,null,null,null,null,null,null,null,null,null,null,null,null,null,null,null,null,null,null,null,null,null,null,null,null,null,null,null,null,null,null,null,null,null,null,null,null,null,null,null,null,null,null,null,null,null,null,null,null,null,"Sub Director","Contratado","Noche"]
[null,null,null,null,"INSTITUCIÓN EDUCATIVA:",70745,null,null,null,null,null,{"$f":"VLOOKUP(Q8,CALEND!$A$17:$B$28,2,FALSE)","v":3},null,null,null,null,null,null,null,null,null,null,null,{"$f":"+AñoNatural","v":2024},null,null,null,null,null,null,null,null,null,null,null,null,null,null,null,null,null,null,null,null,null,null,null,null,null,null,null,null,null,null,null,null,null,"Coord. Pedag.","CAS","Mañana y Tarde"]
[null,null,null,null,"NIVEL EDUCATIVO Y MODALIDAD:","B0 - Primaria                      ",null,null,null,null,null,null,null,null,"MES: ",null,"MARZO",null,null,null,null,null,null,null,"AÑO:",null,2024]
[null,null,null,null,"CODIGO MODULAR:","1155134",null,null,null,null,null,null,null,null,null,null,null,null,null,null,null,null,null,null,null,null,null,null,null,null,null,null,null,null,null,null,null,null,null,null,null,null,null,null,null,null,null,null,null,null,null,null,null,null,null,null,null,"Profesor","Encargado"]
[null,null,null,null,"DIRECCION","AYUPALCA",null,null,null,null,null,null,null,null,null,null,null,null,null,null,null,null,null,null,null,null,null,null,null,null,null,null,null,null,null,null,null,null,null,null,null,null,null,null,null,null,null,null,null,null,null,null,null,null,null,null,null,"Bibliotecario"]
[null,null,null,null,null,null,null,null,null,null,null,null,null,null,null,null,null,null,null,null,null,null,null,null,null,null,null,null,null,null,null,null,null,null,null,null,null,null,null,null,null,null,null,null,null,null,null,null,null,null,null,null,null,null,null,null,null,"Oficinista"]
["N°",null,null,"DNI","APELLIDOS Y NOMBRES","CARGO","GRADO","Nº DE HORAS PROGRAMADAS EFECTIVAS A DICTAR EN EL MES","DIAS CALENDARIO"]
[null,"COD MOD II.EE.","MES",null,null,null,null,null,1,2,3,4,5,6,7,8,9,10,11,12,13,14,15,16,17,18,19,20,21,22,23,24,25,26,27,28,29,{"$f":"IF(Q8=\"FEBRERO\",\"\",30)","v":30},{"$f":"IF(O8=\"FEBRERO\",\"\",31)","v":31},"TOTAL DE HORAS EFECTIVAS","Inasistencia + LSGH","OBSERVACIONES",null,null,null,null,null,null,null,null,null,null,null,null,null,null,null,"Pers. Servicio"]
[null,null,null,null,null,null,null,null,{"$f":"IF(LEN(VLOOKUP($L$7,CALEND!$A$2:$AF$13,I$13+1,FALSE))>0,VLOOKUP($L$7,CALEND!$A$2:$AF$13,I$13+1,FALSE),\"\")","v":"vi."},{"$f":"IF(LEN(VLOOKUP($L$7,CALEND!$A$2:$AF$13,J$13+1,FALSE))>0,VLOOKUP($L$7,CALEND!$A$2:$AF$13,J$13+1,FALSE),\"\")","v":"sá."},{"$f":"IF(LEN(VLOOKUP($L$7,CALEND!$A$2:$AF$13,K$13+1,FALSE))>0,VLOOKUP($L$7,CALEND!$A$2:$AF$13,K$13+1,FALSE),\"\")","v":"do."},{"$f":"IF(LEN(VLOOKUP($L$7,CALEND!$A$2:$AF$13,L$13+1,FALSE))>0,VLOOKUP($L$7,CALEND!$A$2:$AF$13,L$13+1,FALSE),\"\")","v":"lu."},{"$f":"IF(LEN(VLOOKUP($L$7,CALEND!$A$2:$AF$13,M$13+1,FALSE))>0,VLOOKUP($L$7,CALEND!$A$2:$AF$13,M$13+1,FALSE),\"\")","v":"ma."},{"$f":"IF(LEN(VLOOKUP($L$7,CALEND!$A$2:$AF$13,N$13+1,FALSE))>0,VLOOKUP($L$7,CALEND!$A$2:$AF$13,N$13+1,FALSE),\"\")","v":"mi."},{"$f":"IF(LEN(VLOOKUP($L$7,CALEND!$A$2:$AF$13,O$13+1,FALSE))>0,VLOOKUP($L$7,CALEND!$A$2:$AF$13,O$13+1,FALSE),\"\")","v":"ju."},{"$f":"IF(LEN(VLOOKUP($L$7,CALEND!$A$2:$AF$13,P$13+1,FALSE))>0,VLOOKUP($L$7,CALEND!$A$2:$AF$13,P$13+1,FALSE),\"\")","v":"vi."},{"$f":"IF(LEN(VLOOKUP($L$7,CALEND!$A$2:$AF$13,Q$13+1,FALSE))>0,VLOOKUP($L$7,CALEND!$A$2:$AF$13,Q$13+1,FALSE),\"\")","v":"sá."},{"$f":"IF(LEN(VLOOKUP($L$7,CALEND!$A$2:$AF$13,R$13+1,FALSE))>0,VLOOKUP($L$7,CALEND!$A$2:$AF$13,R$13+1,FALSE),\"\")","v":"do."},{"$f":"IF(LEN(VLOOKUP($L$7,CALEND!$A$2:$AF$13,S$13+1,FALSE))>0,VLOOKUP($L$7,CALEND!$A$2:$AF$13,S$13+1,FALSE),\"\")","v":"lu."},{"$f":"IF(LEN(VLOOKUP($L$7,CALEND!$A$2:$AF$13,T$13+1,FALSE))>0,VLOOKUP($L$7,CALEND!$A$2:$AF$13,T$13+1,FALSE),\"\")","v":"ma."},{"$f":"IF(LEN(VLOOKUP($L$7,CALEND!$A$2:$AF$13,U$13+1,FALSE))>0,VLOOKUP($L$7,CALEND!$A$2:$AF$13,U$13+1,FALSE),\"\")","v":"mi."},{"$f":"IF(LEN(VLOOKUP($L$7,CALEND!$A$2:$AF$13,V$13+1,FALSE))>0,VLOOKUP($L$7,CALEND!$A$2:$AF$13,V$13+1,FALSE),\"\")","v":"ju."},{"$f":"IF(LEN(VLOOKUP($L$7,CALEND!$A$2:$AF$13,W$13+1,FALSE))>0,VLOOKUP($L$7,CALEND!$A$2:$AF$13,W$13+1,FALSE),\"\")","v":"vi."},{"$f":"IF(LEN(VLOOKUP($L$7,CALEND!$A$2:$AF$13,X$13+1,FALSE))>0,VLOOKUP($L$7,CALEND!$A$2:$AF$13,X$13+1,FALSE),\"\")","v":"sá."},{"$f":"IF(LEN(VLOOKUP($L$7,CALEND!$A$2:$AF$13,Y$13+1,FALSE))>0,VLOOKUP($L$7,CALEND!$A$2:$AF$13,Y$13+1,FALSE),\"\")","v":"do."},{"$f":"IF(LEN(VLOOKUP($L$7,CALEND!$A$2:$AF$13,Z$13+1,FALSE))>0,VLOOKUP($L$7,CALEND!$A$2:$AF$13,Z$13+1,FALSE),\"\")","v":"lu."},{"$f":"IF(LEN(VLOOKUP($L$7,CALEND!$A$2:$AF$13,AA$13+1,FALSE))>0,VLOOKUP($L$7,CALEND!$A$2:$AF$13,AA$13+1,FALSE),\"\")","v":"ma."},{"$f":"IF(LEN(VLOOKUP($L$7,CALEND!$A$2:$AF$13,AB$13+1,FALSE))>0,VLOOKUP($L$7,CALEND!$A$2:$AF$13,AB$13+1,FALSE),\"\")","v":"mi."},{"$f":"IF(LEN(VLOOKUP($L$7,CALEND!$A$2:$AF$13,AC$13+1,FALSE))>0,VLOOKUP($L$7,CALEND!$A$2:$AF$13,AC$13+1,FALSE),\"\")","v":"ju."},{"$f":"IF(LEN(VLOOKUP($L$7,CALEND!$A$2:$AF$13,AD$13+1,FALSE))>0,VLOOKUP($L$7,CALEND!$A$2:$AF$13,AD$13+1,FALSE),\"\")","v":"vi."},{"$f":"IF(LEN(VLOOKUP($L$7,CALEND!$A$2:$AF$13,AE$13+1,FALSE))>0,VLOOKUP($L$7,CALEND!$A$2:$AF$13,AE$13+1,FALSE),\"\")","v":"sá."},{"$f":"IF(LEN(VLOOKUP($L$7,CALEND!$A$2:$AF$13,AF$13+1,FALSE))>0,VLOOKUP($L$7,CALEND!$A$2:$AF$13,AF$13+1,FALSE),\"\")","v":"do."},{"$f":"IF(LEN(VLOOKUP($L$7,CALEND!$A$2:$AF$13,AG$13+1,FALSE))>0,VLOOKUP($L$7,CALEND!$A$2:$AF$13,AG$13+1,FALSE),\"\")","v":"lu."},{"$f":"IF(LEN(VLOOKUP($L$7,CALEND!$A$2:$AF$13,AH$13+1,FALSE))>0,VLOOKUP($L$7,CALEND!$A$2:$AF$13,AH$13+1,FALSE),\"\")","v":"ma."},{"$f":"IF(LEN(VLOOKUP($L$7,CALEND!$A$2:$AF$13,AI$13+1,FALSE))>0,VLOOKUP($L$7,CALEND!$A$2:$AF$13,AI$13+1,FALSE),\"\")","v":"mi."},{"$f":"IF(LEN(VLOOKUP($L$7,CALEND!$A$2:$AF$13,AJ$13+1,FALSE))>0,VLOOKUP($L$7,CALEND!$A$2:$AF$13,AJ$13+1,FALSE),\"\")","v":"ju."},{"$f":"IF(LEN(VLOOKUP($L$7,CALEND!$A$2:$AF$13,AK$13+1,FALSE))>0,VLOOKUP($L$7,CALEND!$A$2:$AF$13,AK$13+1,FALSE),\"\")","v":"vi."},{"$f":"IF(LEN(VLOOKUP($L$7,CALEND!$A$2:$AF$13,AL$13+1,FALSE))>0,VLOOKUP($L$7,CALEND!$A$2:$AF$13,AL$13+1,FALSE),\"\")","v":"sá."},{"$f":"IF(LEN(VLOOKUP($L$7,CALEND!$A$2:$AF$13,AM$13+1,FALSE))>0,VLOOKUP($L$7,CALEND!$A$2:$AF$13,AM$13+1,FALSE),\"\")","v":"do."},null,null,null,null,"J","LG","LS","I","LGU","TR","T",null,null,null,null,null,null,null,"Secretaria(o)"]
[1,{"$f":"IF(LEN(C15)>0,VLOOKUP($F$9,DATA!$A$4:$A$296,1,FALSE),\"\")","v":{"$error":"#N/A"}},{"$f":"IF(LEN(E15)>0,$Q$8,\"\")","v":"MARZO"},"40853446","AGUILAR CHOQUE, EFRAIN CARLOS","Director(e)","Nombrado",{"$f":"AN15","v":78},"P",{"$f":"IF(AND(LEN($E15)>0,J$14<>\"sá.\",J$14<>\"do.\",J$14<>\"\"),\"6\",\"\")","v":""},"","P","P","P","P","P","","","6","6","6","6","6","","","6","6","6","6","6","","","6","6","6","F","F","","",{"$f":"COUNTIF(I15:AM15,\"6\")*6","v":78},{"$f":"IF(AND(LEN($E15)>0,AO$14<>\"sá.\",AO$14<>\"do.\",AO$14<>\"\"),\"TR\",\"\")","v":""},null,null,{"$f":"COUNTIF(I15:AN15,$AR$14)","v":0},{"$f":"COUNTIF(I15:AN15,$AS$14)","v":0},{"$f":"COUNTIF(I15:AN15,$AT$14)","v":0},{"$f":"COUNTIF(I15:AN15,$AU$14)","v":0},{"$f":"COUNTIF(I15:AN15,$AV$14)","v":0},{"$f":"COUNTIF(I15:AN15,$AW$14)","v":0},{"$f":"COUNTIF(I15:AN15,$AX$14)","v":0},null,null,null,null,null,{"$f":"COUNTIF(I15:AN15,\"T\")","v":0},{"$f":"INT(BD15/3)","v":0},"Coord. Adm."]
[]
[{"$f":"IF(LEN(B17)>0,1+A15,\"\")","v":""},{"$f":"IF(LEN(C17)>0,VLOOKUP($F$9,DATA!$A$4:$A$296,1,FALSE),\"\")","v":""},{"$f":"IF(LEN(E17)>0,$Q$8,\"\")","v":""},null,null,null,null,null,{"$f":"IF(AND(LEN($E17)>0,I$14<>\"sá.\",I$14<>\"do.\",I$14<>\"\"),\"TR\",\"\")","v":""},{"$f":"IF(AND(LEN($E17)>0,J$14<>\"sá.\",J$14<>\"do.\",J$14<>\"\"),\"TR\",\"\")","v":""},"","","",{"$f":"IF(AND(LEN($E17)>0,N$14<>\"sá.\",N$14<>\"do.\",N$14<>\"\"),\"TR\",\"\")","v":""},"","",{"$f":"IF(AND(LEN($E17)>0,Q$14<>\"sá.\",Q$14<>\"do.\",Q$14<>\"\"),\"TR\",\"\")","v":""},{"$f":"IF(AND(LEN($E17)>0,R$14<>\"sá.\",R$14<>\"do.\",R$14<>\"\"),\"TR\",\"\")","v":""},"","",{"$f":"IF(AND(LEN($E17)>0,U$14<>\"sá.\",U$14<>\"do.\",U$14<>\"\"),\"TR\",\"\")","v":""},"","","",{"$f":"IF(AND(LEN($E17)>0,Y$14<>\"sá.\",Y$14<>\"do.\",Y$14<>\"\"),\"TR\",\"\")","v":""},"","","",{"$f":"IF(AND(LEN($E17)>0,AC$14<>\"sá.\",AC$14<>\"do.\",AC$14<>\"\"),\"TR\",\"\")","v":""},"","","",{"$f":"IF(AND(LEN($E17)>0,AG$14<>\"sá.\",AG$14<>\"do.\",AG$14<>\"\"),\"TR\",\"\")","v":""},"","","",{"$f":"IF(AND(LEN($E17)>0,AK$14<>\"sá.\",AK$14<>\"do.\",AK$14<>\"\"),\"TR\",\"\")","v":""},"",{"$f":"IF(AND(LEN($E17)>0,AM$14<>\"sá.\",AM$14<>\"do.\",AM$14<>\"\"),\"A\",\"\")","v":""},{"$f":"IF(AND(LEN($E17)>0,AN$14<>\"sá.\",AN$14<>\"do.\",AN$14<>\"\"),\"TR\",\"\")","v":""},{"$f":"IF(AND(LEN($E17)>0,AO$14<>\"sá.\",AO$14<>\"do.\",AO$14<>\"\"),\"TR\",\"\")","v":""},null,null,{"$f":"COUNTIF(I17:AN17,$AR$14)","v":0},{"$f":"COUNTIF(I17:AN17,$AS$14)","v":0},{"$f":"COUNTIF(I17:AN17,$AT$14)","v":0},{"$f":"COUNTIF(I17:AN17,$AU$14)","v":0},{"$f":"COUNTIF(I17:AN17,$AV$14)","v":0},{"$f":"COUNTIF(I17:AN17,$AW$14)","v":0},{"$f":"COUNTIF(I17:AN17,$AX$14)","v":0},null,null,null,null,null,{"$f":"COUNTIF(I17:AN17,\"T\")","v":0},{"$f":"INT(BD17/3)","v":0},"CIST"]
[{"$f":"IF(LEN(B18)>0,1+A17,\"\")","v":""},{"$f":"IF(LEN(C18)>0,VLOOKUP($F$9,DATA!$A$4:$A$296,1,FALSE),\"\")","v":""},"",null,null,null,null,null,"","","","","","","","","","","","","","","","","","","","","","","","","","","","","","","","","",null,null,0,0,0,0,0,0,0,null,null,null,null,null,0,0,"Psicólogo"]
["",{"$f":"IF(LEN(C19)>0,VLOOKUP($F$9,DATA!$A$4:$A$296,1,FALSE),\"\")","v":""},"",null,null,null,null,null,"","","","","","","","","","","","","","","","","","","","","","","","","","","","","","","","","",null,null,0,0,0,0,0,0,0,null,null,null,null,null,0,0,"Apoyo Educativo"]
["",{"$f":"IF(LEN(C20)>0,VLOOKUP($F$9,DATA!$A$4:$A$296,1,FALSE),\"\")","v":""},"",null,null,null,null,null,"","","","","","","","","","","","","","","","","","","","","","","","","","","","","","","","","",null,null,0,0,0,0,0,0,0,null,null,null,null,null,0,0,"Pers. Mantenim."]
["",{"$f":"IF(LEN(C21)>0,VLOOKUP($F$9,DATA!$A$4:$A$296,1,FALSE),\"\")","v":""},"",null,null,null,null,null,"","","","","","","","","","","","","","","","","","","","","","","","","","","","","","","","","",null,null,0,0,0,0,0,0,0,null,null,null,null,null,0,0]
["",{"$f":"IF(LEN(C22)>0,VLOOKUP($F$9,DATA!$A$4:$A$296,1,FALSE),\"\")","v":""},"",null,null,null,null,null,"","","","","","","","","","","","","","","","","","","","","","","","","","","","","","","","","",null,null,0,0,0,0,0,0,0,null,null,null,null,null,0,0]
["",{"$f":"IF(LEN(C23)>0,VLOOKUP($F$9,DATA!$A$4:$A$296,1,FALSE),\"\")","v":""},"",null,null,null,null,null,"","","","","","","","","","","","","","","","","","","","","","","","","","","","","","","","","",null,null,0,0,0,0,0,0,0,null,null,null,null,null,0,0]
["",{"$f":"IF(LEN(C24)>0,VLOOKUP($F$9,DATA!$A$4:$A$296,1,FALSE),\"\")","v":""},"",null,null,null,null,null,"","","","","","","","","","","","","","","","","","","","","","","","","","","","","","","","","",null,null,0,0,0,0,0,0,0,null,null,null,null,null,0,0]
["",{"$f":"IF(LEN(C25)>0,VLOOKUP($F$9,DATA!$A$4:$A$296,1,FALSE),\"\")","v":""},"",null,null,null,null,null,"","","","","","","","","","","","","","","","","","","","","","","","","","","","","","","","","",null,null,0,0,0,0,0,0,0,null,null,null,null,null,0,0]
["",{"$f":"IF(LEN(C26)>0,VLOOKUP($F$9,DATA!$A$4:$A$296,1,FALSE),\"\")","v":""},"",null,null,null,null,null,"","","","","","","","","","","","","","","","","","","","","","","","","","","","","","","","","",null,null,0,0,0,0,0,0,0,null,null,null,null,null,0,0]
["",{"$f":"IF(LEN(C27)>0,VLOOKUP($F$9,DATA!$A$4:$A$296,1,FALSE),\"\")","v":""},"",null,null,null,null,null,"","","","","","","","","","","","","","","","","","","","","","","","","","","","","","","","","",null,null,0,0,0,0,0,0,0,null,null,null,null,null,0,0]
["",{"$f":"IF(LEN(C28)>0,VLOOKUP($F$9,DATA!$A$4:$A$296,1,FALSE),\"\")","v":""},"",null,null,null,null,null,"","","","","","","","","","","","","","","","","","","","","","","","","","","","","","","","","",null,null,0,0,0,0,0,0,0,null,null,null,null,null,0,0]
["",{"$f":"IF(LEN(C29)>0,VLOOKUP($F$9,DATA!$A$4:$A$296,1,FALSE),\"\")","v":""},"",null,null,null,null,null,{"$f":"IF(AND(LEN($E29)>0,I$14<>\"sá.\",I$14<>\"do.\",I$14<>\"\"),\"TR\",\"\")","v":""},"","","","","","","","","","","","","","","","","","","","","","","","","","","","","","","","",null,null,0,0,0,0,0,0,0,null,null,null,null,null,0,0]
["",{"$f":"IF(LEN(C30)>0,VLOOKUP($F$9,DATA!$A$4:$A$296,1,FALSE),\"\")","v":""},"",null,null,null,null,null,"","","","","","","","","","","","","","","","","","","","","","","","","","","","","","","","","",null,null,0,0,0,0,0,0,0,null,null,null,null,null,0,0]
["LEYENDA:",{"$f":"IF(LEN(C31)>0,VLOOKUP($F$8,DATA!$A:$S,2,FALSE),\"\")","v":""}]
["J",": Falta justificada",null,": Falta justificada"]
["I",": Falta Injustificada",null,": Falta Injustificada",null,null,null,null,null,null,null,null,null,null,null,null,null,null,null,null,null,null,null,null,null,null,null,null,null,null,null,null,null,null,null,null,null,null,null,null,null,"NOMBRADO (A)"]
["F",": Dia Feriado",null,": Dia Feriado",null,null,null,null,null,null,null,null,null,null,null,null,null,null,null,null,null,null,null,"LUGAR Y FECHA:","AYUPALCA, 10-05-2024",null,null,null,null,null,null,null,null,null,null,null,null,null,null,null,null,"CONTRATADO (A)"]
["P",": Semana de Planificación",null,": Semana de Planificación",null,null,null,null,null,null,null,null,null,null,null,null,null,null,null,null,null,null,null,null,null,null,null,null,null,null,null,null,null,null,null,null,null,null,null,null,null,"DESTACADO (A)"]
["R",": Jornada de Reflexión",null,": Jornada de Reflexión"]
["E",": Vacaciones Estudiantiles",null,": Vacaciones Estudiantiles"]
["D",": Documentación y Planificación",null,": Documentación y Planificación"]
["H",": Sabados y Domingos",null,": Sabados y Domingos"]
["TR",": Trabajo remoto (solo mes de marzo)"]

{"sheet":"REPORTE CONSOLIDADO","index":4,"n_rows":155,"n_cols":38,"rows_kept":155,"cut":false,"hidden":true,"merged":[[151,14,157,20],[147,27,147,35],[148,27,148,35],[3,4,3,34],[142,27,142,35],[143,27,143,35],[144,27,144,35],[145,27,145,35],[146,27,146,35],[137,27,137,35],[138,27,138,35],[139,27,139,35],[140,27,140,35],[141,27,141,35],[132,27,132,35],[133,27,133,35],[134,27,134,35],[135,27,135,35],[136,27,136,35],[127,27,127,35],[128,27,128,35],[129,27,129,35],[130,27,130,35],[131,27,131,35],[122,27,122,35],[123,27,123,35],[124,27,124,35],[125,27,125,35],[126,27,126,35],[117,27,117,35],[118,27,118,35],[119,27,119,35],[120,27,120,35],[121,27,121,35],[112,27,112,35],[113,27,113,35],[114,27,114,35],[115,27,115,35],[116,27,116,35],[107,27,107,35],[108,27,108,35],[109,27,109,35],[110,27,110,35],[111,27,111,35],[102,27,102,35],[103,27,103,35],[104,27,104,35],[105,27,105,35],[106,27,106,35],[97,27,97,35],[98,27,98,35],[99,27,99,35],[100,27,100,35],[101,27,101,35],[92,27,92,35],[93,27,93,35],[94,27,94,35],[95,27,95,35],[96,27,96,35],[87,27,87,35],[88,27,88,35],[89,27,89,35],[90,27,90,35],[91,27,91,35],[82,27,82,35],[83,27,83,35],[84,27,84,35],[85,27,85,35],[86,27,86,35],[77,27,77,35],[78,27,78,35],[79,27,79,35],[80,27,80,35],[81,27,81,35],[73,27,73,35],[74,27,74,35],[75,27,75,35],[76,27,76,35],[67,27,67,35],[68,27,68,35],[69,27,69,35],[70,27,70,35],[71,27,71,35],[12,27,12,35],[13,27,13,35],[9,22,9,23],[9,19,9,20],[35,27,35,35],[52,27,52,35],[53,27,53,35],[54,27,54,35],[55,27,55,35],[47,27,47,35],[48,27,48,35],[49,27,49,35],[50,27,50,35],[51,27,51,35],[16,27,16,35],[17,27,17,35],[23,27,23,35],[18,27,18,35],[19,27,19,35],[20,27,20,35],[21,27,21,35],[22,27,22,35],[42,27,42,35],[28,27,28,35],[0,0,1,37],[2,0,2,36],[4,6,4,10],[5,5,5,33],[4,26,4,33],[6,5,6,7],[9,0,10,0],[9,3,10,3],[9,4,10,4],[9,5,10,5],[9,6,10,6],[9,7,10,7],[9,11,9,13],[9,27,10,35],[7,5,7,7],[6,11,6,18],[7,11,7,18],[149,27,149,35],[33,27,33,35],[36,27,36,35],[37,27,37,35],[38,27,38,35],[39,27,39,35],[40,27,40,35],[41,27,41,35],[43,27,43,35],[44,27,44,35],[45,27,45,35],[46,27,46,35],[56,27,56,35],[62,27,62,35],[63,27,63,35],[64,27,64,35],[65,27,65,35],[66,27,66,35],[57,27,57,35],[58,27,58,35],[59,27,59,35],[60,27,60,35],[61,27,61,35],[72,27,72,35],[14,27,14,35],[15,27,15,35],[29,27,29,35],[30,27,30,35],[31,27,31,35],[32,27,32,35],[34,27,34,35],[24,27,24,35],[25,27,25,35],[26,27,26,35],[27,27,27,35]]}
["NORMAS  PARA EL REGISTRO Y CONTROL  DE ASISTENCIA  Y SU  APLICACIÓN  EN LA PLANILLA  ÚNICA DE PAGOS DE LOS  PROFESORES Y AUXILIARES DE EDUCACIÓN, EN EL  MARCO  DE LA                                \nLEY DE REFORMA MAGISTERIAL  Y SU  REGLAMENTO (R.S.G. N° 326-2017-MINEDU)"]
[]
["ANEXO 04"]
[null,null,null,null,"FORMATO 02: REPORTE  CONSOLIDADO DE INASISTENCIAS, TARDANZAS Y PERMISOS SIN GOCE DE REMUNERACIÓN"]
[null,null,null,null,"UGEL: EL COLLAO","MES: ",{"$f":"marzo!Q8","v":"MARZO"},null,null,null,null,{"$f":"VLOOKUP(G5,CALEND!$A$17:$B$28,2,FALSE)","v":3},null,null,null,"AÑO:",null,{"$f":"+marzo!X7*1","v":2024},null,null,null,null,null,null,null,"TURNO:",{"$f":"IF(+marzo!#REF!=\"\",\"\",marzo!#REF!)","v":{"$error":"#REF!"}}]
[null,null,null,null,"INSTITUCIÓN EDUCATIVA:",{"$f":"IF(+marzo!F8=\"\",\"\",marzo!F8)","v":"B0 - Primaria                      "}]
[null,null,null,null,"NIVEL EDUCATIVO Y/O MODALIDAD:",{"$f":"IF(+marzo!#REF!=\"\",\"\",marzo!#REF!)","v":{"$error":"#REF!"}},null,null,null,"DIRECCION:",null,{"$f":"IF(+marzo!#REF!=\"\",\"\",marzo!#REF!)","v":{"$error":"#REF!"}}]
[null,null,null,null,"CODIGO MODULAR:",{"$f":"IF(+marzo!F9=\"\",\"\",marzo!F9)","v":"1155134"},null,null,null,"DIST / CP:",null,{"$f":"IF(+marzo!N10=\"\",\"\",marzo!N10)","v":""}]
[]
["N°",null,null,"DNI","APELLIDOS Y NOMBRES","CARGO","CONDICION LABORAL","JORNADA LABORAL",null,"INASIST. JUSTIFICADAS",null,"LICENCIAS",null,null,null,"TRABAJO REMOTO(ASISTENCIA)",null,"FALTAS",null,"TARDANZAS",null,null,"PERMISOS SG",null,null,"HUELGA PARO",null,"Observaciones"]
[null,"COD MOD II.EE.","MES",null,null,null,null,null,null,"DIAS",null,"CON GOCE","SIN GOCE","DU",null,"DU 026-2020\nDS 009-2021",null,"DIAS",null,"# TARD.","MINUTOS (*)",null,"HORAS (*)","MUNUTOS (*)",null,"DIAS",null,null,null,null,null,null,null,null,null,null,"Inasistencia + LSGH","OBSERVACIONES"]
[null,{"$f":"IF(LEN(C12)>0,VLOOKUP($F$6,DATA!$A:$S,2,FALSE),\"\")","v":""},{"$f":"IF(LEN(E12)>0,$G$5,\"\")","v":""},null,null,null,null,null,{"$f":"IF(AND(LEN($E12)>0,#REF!<>\"sá.\",#REF!<>\"do.\",#REF!<>\"\"),\"C\",\"\")","v":{"$error":"#REF!"}},{"$f":"IF(AND(LEN($E12)>0,#REF!<>\"sá.\",#REF!<>\"do.\",#REF!<>\"\"),\"C\",\"\")","v":{"$error":"#REF!"}},{"$f":"IF(AND(LEN($E12)>0,#REF!<>\"sá.\",#REF!<>\"do.\",#REF!<>\"\"),\"C\",\"\")","v":{"$error":"#REF!"}},{"$f":"IF(AND(LEN($E12)>0,#REF!<>\"sá.\",#REF!<>\"do.\",#REF!<>\"\"),\"C\",\"\")","v":{"$error":"#REF!"}},null,{"$f":"IF(AND(LEN($E12)>0,#REF!<>\"sá.\",#REF!<>\"do.\",#REF!<>\"\"),\"C\",\"\")","v":{"$error":"#REF!"}},{"$f":"IF(AND(LEN($E12)>0,#REF!<>\"sá.\",#REF!<>\"do.\",#REF!<>\"\"),\"C\",\"\")","v":{"$error":"#REF!"}},{"$f":"IF(AND(LEN($E12)>0,#REF!<>\"sá.\",#REF!<>\"do.\",#REF!<>\"\"),\"C\",\"\")","v":{"$error":"#REF!"}},{"$f":"IF(AND(LEN($E12)>0,#REF!<>\"sá.\",#REF!<>\"do.\",#REF!<>\"\"),\"C\",\"\")","v":{"$error":"#REF!"}},{"$f":"IF(AND(LEN($E12)>0,#REF!<>\"sá.\",#REF!<>\"do.\",#REF!<>\"\"),\"C\",\"\")","v":{"$error":"#REF!"}},null,{"$f":"IF(AND(LEN($E12)>0,#REF!<>\"sá.\",#REF!<>\"do.\",#REF!<>\"\"),\"C\",\"\")","v":{"$error":"#REF!"}},null,null,{"$f":"IF(AND(LEN($E12)>0,#REF!<>\"sá.\",#REF!<>\"do.\",#REF!<>\"\"),\"C\",\"\")","v":{"$error":"#REF!"}},null,null,{"$f":"IF(AND(LEN($E12)>0,#REF!<>\"sá.\",#REF!<>\"do.\",#REF!<>\"\"),\"C\",\"\")","v":{"$error":"#REF!"}},null,{"$f":"IF(AND(LEN($E12)>0,#REF!<>\"sá.\",#REF!<>\"do.\",#REF!<>\"\"),\"C\",\"\")","v":{"$error":"#REF!"}},{"$f":"IF(AND(LEN($E12)>0,#REF!<>\"sá.\",#REF!<>\"do.\",#REF!<>\"\"),\"C\",\"\")","v":{"$error":"#REF!"}},{"$f":"IF(AND(LEN($E12)>0,#REF!<>\"sá.\",#REF!<>\"do.\",#REF!<>\"\"),\"C\",\"\")","v":{"$error":"#REF!"}},{"$f":"IF(AND(LEN($E12)>0,#REF!<>\"sá.\",#REF!<>\"do.\",#REF!<>\"\"),\"C\",\"\")","v":{"$error":"#REF!"}},{"$f":"IF(AND(LEN($E12)>0,#REF!<>\"sá.\",#REF!<>\"do.\",#REF!<>\"\"),\"C\",\"\")","v":{"$error":"#REF!"}},{"$f":"IF(AND(LEN($E12)>0,#REF!<>\"sá.\",#REF!<>\"do.\",#REF!<>\"\"),\"C\",\"\")","v":{"$error":"#REF!"}},{"$f":"IF(AND(LEN($E12)>0,#REF!<>\"sá.\",#REF!<>\"do.\",#REF!<>\"\"),\"C\",\"\")","v":{"$error":"#REF!"}},{"$f":"IF(AND(LEN($E12)>0,#REF!<>\"sá.\",#REF!<>\"do.\",#REF!<>\"\"),\"C\",\"\")","v":{"$error":"#REF!"}},{"$f":"IF(AND(LEN($E12)>0,#REF!<>\"sá.\",#REF!<>\"do.\",#REF!<>\"\"),\"C\",\"\")","v":{"$error":"#REF!"}},{"$f":"IF(OR(COUNTIF($I12:$AJ12,\"X\")>0,COUNTIF($I12:$AJ12,\"L\")>0),COUNTIF($I12:$AJ12,\"X\")+COUNTIF($I12:$AJ12,\"L\"),\"\")","v":""}]
[{"$f":"IF(+marzo!A15=\"\",\"\",marzo!A15)","v":1},{"$f":"IF(LEN(C13)>0,VLOOKUP($F$6,DATA!$A:$S,2,FALSE),\"\")","v":{"$error":"#N/A"}},"MARZO",{"$f":"IF(+marzo!D15=\"\",\"\",marzo!D15)","v":"40853446"},{"$f":"IF(+marzo!E15=\"\",\"\",marzo!E15)","v":"AGUILAR CHOQUE, EFRAIN CARLOS"},{"$f":"IF(+marzo!F15=\"\",\"\",marzo!F15)","v":"Director(e)"},{"$f":"IF(+marzo!G15=\"\",\"\",marzo!G15)","v":"Nombrado"},{"$f":"IF(+marzo!H15=\"\",\"\",marzo!H15)","v":78},null,{"$f":"marzo!AR15","v":0},null,{"$f":"marzo!AS15","v":0},{"$f":"marzo!AT15","v":0},{"$f":"marzo!AV15","v":0},null,{"$f":"marzo!AN15","v":78},null,{"$f":"marzo!AU15","v":0},null,{"$f":"marzo!AX15","v":0},null,null,null,null,null,null,null,null,null,null,null,null,null,null,null,null,""]
[{"$f":"IF(+marzo!A17=\"\",\"\",marzo!A17)","v":""},{"$f":"IF(LEN(C14)>0,VLOOKUP($F$6,DATA!$A:$S,2,FALSE),\"\")","v":""},{"$f":"IF(LEN(E14)>0,$G$5,\"\")","v":""},{"$f":"IF(+marzo!D17=\"\",\"\",marzo!D17)","v":""},{"$f":"IF(+marzo!E17=\"\",\"\",marzo!E17)","v":""},{"$f":"IF(+marzo!F17=\"\",\"\",marzo!F17)","v":""},{"$f":"IF(+marzo!G17=\"\",\"\",marzo!G17)","v":""},{"$f":"IF(+marzo!H17=\"\",\"\",marzo!H17)","v":""},null,{"$f":"marzo!AR17","v":0},null,{"$f":"marzo!AS17","v":0},{"$f":"marzo!AT17","v":0},{"$f":"marzo!AV17","v":0},null,{"$f":"marzo!AW17","v":0},null,{"$f":"marzo!AU17","v":0},null,{"$f":"marzo!AX17","v":0},null,null,null,null,null,null,null,null,null,null,null,null,null,null,null,null,""]
[{"$f":"IF(+marzo!A18=\"\",\"\",marzo!A18)","v":""},{"$f":"IF(LEN(C15)>0,VLOOKUP($F$6,DATA!$A:$S,2,FALSE),\"\")","v":""},"",{"$f":"IF(+marzo!D18=\"\",\"\",marzo!D18)","v":""},{"$f":"IF(+marzo!E18=\"\",\"\",marzo!E18)","v":""},{"$f":"IF(+marzo!F18=\"\",\"\",marzo!F18)","v":""},{"$f":"IF(+marzo!G18=\"\",\"\",marzo!G18)","v":""},{"$f":"IF(+marzo!H18=\"\",\"\",marzo!H18)","v":""},null,{"$f":"marzo!AR18","v":0},null,{"$f":"marzo!AS18","v":0},{"$f":"marzo!AT18","v":0},{"$f":"marzo!AV18","v":0},null,{"$f":"marzo!AW18","v":0},null,{"$f":"marzo!AU18","v":0},null,{"$f":"marzo!AX18","v":0},null,null,null,null,null,null,null,null,null,null,null,null,null,null,null,null,""]
[{"$f":"IF(+marzo!A19=\"\",\"\",marzo!A19)","v":""},{"$f":"IF(LEN(C16)>0,VLOOKUP($F$6,DATA!$A:$S,2,FALSE),\"\")","v":""},"",{"$f":"IF(+marzo!D19=\"\",\"\",marzo!D19)","v":""},{"$f":"IF(+marzo!E19=\"\",\"\",marzo!E19)","v":""},{"$f":"IF(+marzo!F19=\"\",\"\",marzo!F19)","v":""},{"$f":"IF(+marzo!G19=\"\",\"\",marzo!G19)","v":""},{"$f":"IF(+marzo!H19=\"\",\"\",marzo!H19)","v":""},null,{"$f":"marzo!AR19","v":0},null,{"$f":"marzo!AS19","v":0},{"$f":"marzo!AT19","v":0},{"$f":"marzo!AV19","v":0},null,{"$f":"marzo!AW19","v":0},null,{"$f":"marzo!AU19","v":0},null,{"$f":"marzo!AX19","v":0},null,null,null,null,null,null,null,null,null,null,null,null,null,null,null,null,""]
[{"$f":"IF(+marzo!A20=\"\",\"\",marzo!A20)","v":""},{"$f":"IF(LEN(C17)>0,VLOOKUP($F$6,DATA!$A:$S,2,FALSE),\"\")","v":""},"",{"$f":"IF(+marzo!D20=\"\",\"\",marzo!D20)","v":""},{"$f":"IF(+marzo!E20=\"\",\"\",marzo!E20)","v":""},{"$f":"IF(+marzo!F20=\"\",\"\",marzo!F20)","v":""},{"$f":"IF(+marzo!G20=\"\",\"\",marzo!G20)","v":""},{"$f":"IF(+marzo!H20=\"\",\"\",marzo!H20)","v":""},null,{"$f":"marzo!AR20","v":0},null,{"$f":"marzo!AS20","v":0},{"$f":"marzo!AT20","v":0},{"$f":"marzo!AV20","v":0},null,{"$f":"marzo!AW20","v":0},null,{"$f":"marzo!AU20","v":0},null,{"$f":"marzo!AX20","v":0},null,null,null,null,null,null,null,null,null,null,null,null,null,null,null,null,""]
[{"$f":"IF(+marzo!A21=\"\",\"\",marzo!A21)","v":""},{"$f":"IF(LEN(C18)>0,VLOOKUP($F$6,DATA!$A:$S,2,FALSE),\"\")","v":""},"",{"$f":"IF(+marzo!D21=\"\",\"\",marzo!D21)","v":""},{"$f":"IF(+marzo!E21=\"\",\"\",marzo!E21)","v":""},{"$f":"IF(+marzo!F21=\"\",\"\",marzo!F21)","v":""},{"$f":"IF(+marzo!G21=\"\",\"\",marzo!G21)","v":""},{"$f":"IF(+marzo!H21=\"\",\"\",marzo!H21)","v":""},null,{"$f":"marzo!AR21","v":0},null,{"$f":"marzo!AS21","v":0},{"$f":"marzo!AT21","v":0},{"$f":"marzo!AV21","v":0},null,{"$f":"marzo!AW21","v":0},null,{"$f":"marzo!AU21","v":0},null,{"$f":"marzo!AX21","v":0},null,null,null,null,null,null,null,null,null,null,null,null,null,null,null,null,""]
[{"$f":"IF(+marzo!A22=\"\",\"\",marzo!A22)","v":""},{"$f":"IF(LEN(C19)>0,VLOOKUP($F$6,DATA!$A:$S,2,FALSE),\"\")","v":""},"",{"$f":"IF(+marzo!D22=\"\",\"\",marzo!D22)","v":""},{"$f":"IF(+marzo!E22=\"\",\"\",marzo!E22)","v":""},{"$f":"IF(+marzo!F22=\"\",\"\",marzo!F22)","v":""},{"$f":"IF(+marzo!G22=\"\",\"\",marzo!G22)","v":""},{"$f":"IF(+marzo!H22=\"\",\"\",marzo!H22)","v":""},null,{"$f":"marzo!AR22","v":0},null,{"$f":"marzo!AS22","v":0},{"$f":"marzo!AT22","v":0},{"$f":"marzo!AV22","v":0},null,{"$f":"marzo!AW22","v":0},null,{"$f":"marzo!AU22","v":0},null,{"$f":"marzo!AX22","v":0},null,null,null,null,null,null,null,null,null,null,null,null,null,null,null,null,""]
[{"$f":"IF(+marzo!A23=\"\",\"\",marzo!A23)","v":""},{"$f":"IF(LEN(C20)>0,VLOOKUP($F$6,DATA!$A:$S,2,FALSE),\"\")","v":""},"",{"$f":"IF(+marzo!D23=\"\",\"\",marzo!D23)","v":""},{"$f":"IF(+marzo!E23=\"\",\"\",marzo!E23)","v":""},{"$f":"IF(+marzo!F23=\"\",\"\",marzo!F23)","v":""},{"$f":"IF(+marzo!G23=\"\",\"\",marzo!G23)","v":""},{"$f":"IF(+marzo!H23=\"\",\"\",marzo!H23)","v":""},null,{"$f":"marzo!AR23","v":0},null,{"$f":"marzo!AS23","v":0},{"$f":"marzo!AT23","v":0},{"$f":"marzo!AV23","v":0},null,{"$f":"marzo!AW23","v":0},null,{"$f":"marzo!AU23","v":0},null,{"$f":"marzo!AX23","v":0},null,null,null,null,null,null,null,null,null,null,null,null,null,null,null,null,""]
[{"$f":"IF(+marzo!A24=\"\",\"\",marzo!A24)","v":""},{"$f":"IF(LEN(C21)>0,VLOOKUP($F$6,DATA!$A:$S,2,FALSE),\"\")","v":""},"",{"$f":"IF(+marzo!D24=\"\",\"\",marzo!D24)","v":""},{"$f":"IF(+marzo!E24=\"\",\"\",marzo!E24)","v":""},{"$f":"IF(+marzo!F24=\"\",\"\",marzo!F24)","v":""},{"$f":"IF(+marzo!G24=\"\",\"\",marzo!G24)","v":""},{"$f":"IF(+marzo!H24=\"\",\"\",marzo!H24)","v":""},null,{"$f":"marzo!AR24","v":0},null,{"$f":"marzo!AS24","v":0},{"$f":"marzo!AT24","v":0},{"$f":"marzo!AV24","v":0},null,{"$f":"marzo!AW24","v":0},null,{"$f":"marzo!AU24","v":0},null,{"$f":"marzo!AX24","v":0},null,null,null,null,null,null,null,null,null,null,null,null,null,null,null,null,""]
[{"$f":"IF(+marzo!A25=\"\",\"\",marzo!A25)","v":""},{"$f":"IF(LEN(C22)>0,VLOOKUP($F$6,DATA!$A:$S,2,FALSE),\"\")","v":""},"",{"$f":"IF(+marzo!D25=\"\",\"\",marzo!D25)","v":""},{"$f":"IF(+marzo!E25=\"\",\"\",marzo!E25)","v":""},{"$f":"IF(+marzo!F25=\"\",\"\",marzo!F25)","v":""},{"$f":"IF(+marzo!G25=\"\",\"\",marzo!G25)","v":""},{"$f":"IF(+marzo!H25=\"\",\"\",marzo!H25)","v":""},null,{"$f":"marzo!AR25","v":0},null,{"$f":"marzo!AS25","v":0},{"$f":"marzo!AT25","v":0},{"$f":"marzo!AV25","v":0},null,{"$f":"marzo!AW25","v":0},null,{"$f":"marzo!AU25","v":0},null,{"$f":"marzo!AX25","v":0},null,null,null,null,null,null,null,null,null,null,null,null,null,null,null,null,""]
[{"$f":"IF(+marzo!A26=\"\",\"\",marzo!A26)","v":""},{"$f":"IF(LEN(C23)>0,VLOOKUP($F$6,DATA!$A:$S,2,FALSE),\"\")","v":""},"",{"$f":"IF(+marzo!D26=\"\",\"\",marzo!D26)","v":""},{"$f":"IF(+marzo!E26=\"\",\"\",marzo!E26)","v":""},{"$f":"IF(+marzo!F26=\"\",\"\",marzo!F26)","v":""},{"$f":"IF(+marzo!G26=\"\",\"\",marzo!G26)","v":""},{"$f":"IF(+marzo!H26=\"\",\"\",marzo!H26)","v":""},null,{"$f":"marzo!AR26","v":0},null,{"$f":"marzo!AS26","v":0},{"$f":"marzo!AT26","v":0},{"$f":"marzo!AV26","v":0},null,{"$f":"marzo!AW26","v":0},null,{"$f":"marzo!AU26","v":0},null,{"$f":"marzo!AX26","v":0},null,null,null,null,null,null,null,null,null,null,null,null,null,null,null,null,""]
[{"$f":"IF(+marzo!A27=\"\",\"\",marzo!A27)","v":""},{"$f":"IF(LEN(C24)>0,VLOOKUP($F$6,DATA!$A:$S,2,FALSE),\"\")","v":""},"",{"$f":"IF(+marzo!D27=\"\",\"\",marzo!D27)","v":""},{"$f":"IF(+marzo!E27=\"\",\"\",marzo!E27)","v":""},{"$f":"IF(+marzo!F27=\"\",\"\",marzo!F27)","v":""},{"$f":"IF(+marzo!G27=\"\",\"\",marzo!G27)","v":""},{"$f":"IF(+marzo!H27=\"\",\"\",marzo!H27)","v":""},null,{"$f":"marzo!AR27","v":0},null,{"$f":"marzo!AS27","v":0},{"$f":"marzo!AT27","v":0},{"$f":"marzo!AV27","v":0},null,{"$f":"marzo!AW27","v":0},null,{"$f":"marzo!AU27","v":0},null,{"$f":"marzo!AX27","v":0},null,null,null,null,null,null,null,null,null,null,null,null,null,null,null,null,""]
[{"$f":"IF(+marzo!A28=\"\",\"\",marzo!A28)","v":""},{"$f":"IF(LEN(C25)>0,VLOOKUP($F$6,DATA!$A:$S,2,FALSE),\"\")","v":""},"",{"$f":"IF(+marzo!D28=\"\",\"\",marzo!D28)","v":""},{"$f":"IF(+marzo!E28=\"\",\"\",marzo!E28)","v":""},{"$f":"IF(+marzo!F28=\"\",\"\",marzo!F28)","v":""},{"$f":"IF(+marzo!G28=\"\",\"\",marzo!G28)","v":""},{"$f":"IF(+marzo!H28=\"\",\"\",marzo!H28)","v":""},null,{"$f":"marzo!AR28","v":0},null,{"$f":"marzo!AS28","v":0},{"$f":"marzo!AT28","v":0},{"$f":"marzo!AV28","v":0},null,{"$f":"marzo!AW28","v":0},null,{"$f":"marzo!AU28","v":0},null,{"$f":"marzo!AX28","v":0},null,null,null,null,null,null,null,null,null,null,null,null,null,null,null,null,""]
[{"$f":"IF(+marzo!A29=\"\",\"\",marzo!A29)","v":""},{"$f":"IF(LEN(C26)>0,VLOOKUP($F$6,DATA!$A:$S,2,FALSE),\"\")","v":""},"",{"$f":"IF(+marzo!D29=\"\",\"\",marzo!D29)","v":""},{"$f":"IF(+marzo!E29=\"\",\"\",marzo!E29)","v":""},{"$f":"IF(+marzo!F29=\"\",\"\",marzo!F29)","v":""},{"$f":"IF(+marzo!G29=\"\",\"\",marzo!G29)","v":""},{"$f":"IF(+marzo!H29=\"\",\"\",marzo!H29)","v":""},null,{"$f":"marzo!AR29","v":0},null,{"$f":"marzo!AS29","v":0},{"$f":"marzo!AT29","v":0},{"$f":"marzo!AV29","v":0},null,{"$f":"marzo!AW29","v":0},null,{"$f":"marzo!AU29","v":0},null,{"$f":"marzo!AX29","v":0},null,null,null,null,null,null,null,null,null,null,null,null,null,null,null,null,""]
[{"$f":"IF(+marzo!A30=\"\",\"\",marzo!A30)","v":""},{"$f":"IF(LEN(C27)>0,VLOOKUP($F$6,DATA!$A:$S,2,FALSE),\"\")","v":""},"",{"$f":"IF(+marzo!D30=\"\",\"\",marzo!D30)","v":""},{"$f":"IF(+marzo!E30=\"\",\"\",marzo!E30)","v":""},{"$f":"IF(+marzo!F30=\"\",\"\",marzo!F30)","v":""},{"$f":"IF(+marzo!G30=\"\",\"\",marzo!G30)","v":""},{"$f":"IF(+marzo!H30=\"\",\"\",marzo!H30)","v":""},null,{"$f":"marzo!AR30","v":0},null,{"$f":"marzo!AS30","v":0},{"$f":"marzo!AT30","v":0},{"$f":"marzo!AV30","v":0},null,{"$f":"marzo!AW30","v":0},null,{"$f":"marzo!AU30","v":0},null,{"$f":"marzo!AX30","v":0},null,null,null,null,null,null,null,null,null,null,null,null,null,null,null,null,""]
[{"$f":"IF(+marzo!#REF!=\"\",\"\",marzo!#REF!)","v":{"$error":"#REF!"}},{"$f":"IF(LEN(C28)>0,VLOOKUP($F$6,DATA!$A:$S,2,FALSE),\"\")","v":{"$error":"#REF!"}},{"$error":"#REF!"},{"$f":"IF(+marzo!#REF!=\"\",\"\",marzo!#REF!)","v":{"$error":"#REF!"}},{"$f":"IF(+marzo!#REF!=\"\",\"\",marzo!#REF!)","v":{"$error":"#REF!"}},{"$f":"IF(+marzo!#REF!=\"\",\"\",marzo!#REF!)","v":{"$error":"#REF!"}},{"$f":"IF(+marzo!#REF!=\"\",\"\",marzo!#REF!)","v":{"$error":"#REF!"}},{"$f":"IF(+marzo!#REF!=\"\",\"\",marzo!#REF!)","v":{"$error":"#REF!"}},null,{"$f":"marzo!#REF!","v":{"$error":"#REF!"}},null,{"$f":"marzo!#REF!","v":{"$error":"#REF!"}},{"$f":"marzo!#REF!","v":{"$error":"#REF!"}},{"$f":"marzo!#REF!","v":{"$error":"#REF!"}},null,{"$f":"marzo!#REF!","v":{"$error":"#REF!"}},null,{"$f":"marzo!#REF!","v":{"$error":"#REF!"}},null,{"$f":"marzo!#REF!","v":{"$error":"#REF!"}},null,null,null,null,null,null,null,null,null,null,null,null,null,null,null,null,""]
[{"$f":"IF(+marzo!#REF!=\"\",\"\",marzo!#REF!)","v":{"$error":"#REF!"}},{"$f":"IF(LEN(C29)>0,VLOOKUP($F$6,DATA!$A:$S,2,FALSE),\"\")","v":{"$error":"#REF!"}},{"$error":"#REF!"},{"$f":"IF(+marzo!#REF!=\"\",\"\",marzo!#REF!)","v":{"$error":"#REF!"}},{"$f":"IF(+marzo!#REF!=\"\",\"\",marzo!#REF!)","v":{"$error":"#REF!"}},{"$f":"IF(+marzo!#REF!=\"\",\"\",marzo!#REF!)","v":{"$error":"#REF!"}},{"$f":"IF(+marzo!#REF!=\"\",\"\",marzo!#REF!)","v":{"$error":"#REF!"}},{"$f":"IF(+marzo!#REF!=\"\",\"\",marzo!#REF!)","v":{"$error":"#REF!"}},null,{"$f":"marzo!#REF!","v":{"$error":"#REF!"}},null,{"$f":"marzo!#REF!","v":{"$error":"#REF!"}},{"$f":"marzo!#REF!","v":{"$error":"#REF!"}},{"$f":"marzo!#REF!","v":{"$error":"#REF!"}},null,{"$f":"marzo!#REF!","v":{"$error":"#REF!"}},null,{"$f":"marzo!#REF!","v":{"$error":"#REF!"}},null,{"$f":"marzo!#REF!","v":{"$error":"#REF!"}},null,null,null,null,null,null,null,null,null,null,null,null,null,null,null,null,""]
[{"$f":"IF(+marzo!#REF!=\"\",\"\",marzo!#REF!)","v":{"$error":"#REF!"}},{"$f":"IF(LEN(C30)>0,VLOOKUP($F$6,DATA!$A:$S,2,FALSE),\"\")","v":{"$error":"#REF!"}},{"$error":"#REF!"},{"$f":"IF(+marzo!#REF!=\"\",\"\",marzo!#REF!)","v":{"$error":"#REF!"}},{"$f":"IF(+marzo!#REF!=\"\",\"\",marzo!#REF!)","v":{"$error":"#REF!"}},{"$f":"IF(+marzo!#REF!=\"\",\"\",marzo!#REF!)","v":{"$error":"#REF!"}},{"$f":"IF(+marzo!#REF!=\"\",\"\",marzo!#REF!)","v":{"$error":"#REF!"}},{"$f":"IF(+marzo!#REF!=\"\",\"\",marzo!#REF!)","v":{"$error":"#REF!"}},null,{"$f":"marzo!#REF!","v":{"$error":"#REF!"}},null,{"$f":"marzo!#REF!","v":{"$error":"#REF!"}},{"$f":"marzo!#REF!","v":{"$error":"#REF!"}},{"$f":"marzo!#REF!","v":{"$error":"#REF!"}},null,{"$f":"marzo!#REF!","v":{"$error":"#REF!"}},null,{"$f":"marzo!#REF!","v":{"$error":"#REF!"}},null,{"$f":"marzo!#REF!","v":{"$error":"#REF!"}},null,null,null,null,null,null,null,null,null,null,null,null,null,null,null,null,""]
[{"$f":"IF(+marzo!#REF!=\"\",\"\",marzo!#REF!)","v":{"$error":"#REF!"}},{"$f":"IF(LEN(C31)>0,VLOOKUP($F$6,DATA!$A:$S,2,FALSE),\"\")","v":{"$error":"#REF!"}},{"$error":"#REF!"},{"$f":"IF(+marzo!#REF!=\"\",\"\",marzo!#REF!)","v":{"$error":"#REF!"}},{"$f":"IF(+marzo!#REF!=\"\",\"\",marzo!#REF!)","v":{"$error":"#REF!"}},{"$f":"IF(+marzo!#REF!=\"\",\"\",marzo!#REF!)","v":{"$error":"#REF!"}},{"$f":"IF(+marzo!#REF!=\"\",\"\",marzo!#REF!)","v":{"$error":"#REF!"}},{"$f":"IF(+marzo!#REF!=\"\",\"\",marzo!#REF!)","v":{"$error":"#REF!"}},null,{"$f":"marzo!#REF!","v":{"$error":"#REF!"}},null,{"$f":"marzo!#REF!","v":{"$error":"#REF!"}},{"$f":"marzo!#REF!","v":{"$error":"#REF!"}},{"$f":"marzo!#REF!","v":{"$error":"#REF!"}},null,{"$f":"marzo!#REF!","v":{"$error":"#REF!"}},null,{"$f":"marzo!#REF!","v":{"$error":"#REF!"}},null,{"$f":"marzo!#REF!","v":{"$error":"#REF!"}},null,null,null,null,null,null,null,null,null,null,null,null,null,null,null,null,""]
[{"$f":"IF(+marzo!#REF!=\"\",\"\",marzo!#REF!)","v":{"$error":"#REF!"}},{"$f":"IF(LEN(C32)>0,VLOOKUP($F$6,DATA!$A:$S,2,FALSE),\"\")","v":{"$error":"#REF!"}},{"$error":"#REF!"},{"$f":"IF(+marzo!#REF!=\"\",\"\",marzo!#REF!)","v":{"$error":"#REF!"}},{"$f":"IF(+marzo!#REF!=\"\",\"\",marzo!#REF!)","v":{"$error":"#REF!"}},{"$f":"IF(+marzo!#REF!=\"\",\"\",marzo!#REF!)","v":{"$error":"#REF!"}},{"$f":"IF(+marzo!#REF!=\"\",\"\",marzo!#REF!)","v":{"$error":"#REF!"}},{"$f":"IF(+marzo!#REF!=\"\",\"\",marzo!#REF!)","v":{"$error":"#REF!"}},null,{"$f":"marzo!#REF!","v":{"$error":"#REF!"}},null,{"$f":"marzo!#REF!","v":{"$error":"#REF!"}},{"$f":"marzo!#REF!","v":{"$error":"#REF!"}},{"$f":"marzo!#REF!","v":{"$error":"#REF!"}},null,{"$f":"marzo!#REF!","v":{"$error":"#REF!"}},null,{"$f":"marzo!#REF!","v":{"$error":"#REF!"}},null,{"$f":"marzo!#REF!","v":{"$error":"#REF!"}},null,null,null,null,null,null,null,null,null,null,null,null,null,null,null,null,""]
[{"$f":"IF(+marzo!#REF!=\"\",\"\",marzo!#REF!)","v":{"$error":"#REF!"}},{"$f":"IF(LEN(C33)>0,VLOOKUP($F$6,DATA!$A:$S,2,FALSE),\"\")","v":{"$error":"#REF!"}},{"$error":"#REF!"},{"$f":"IF(+marzo!#REF!=\"\",\"\",marzo!#REF!)","v":{"$error":"#REF!"}},{"$f":"IF(+marzo!#REF!=\"\",\"\",marzo!#REF!)","v":{"$error":"#REF!"}},{"$f":"IF(+marzo!#REF!=\"\",\"\",marzo!#REF!)","v":{"$error":"#REF!"}},{"$f":"IF(+marzo!#REF!=\"\",\"\",marzo!#REF!)","v":{"$error":"#REF!"}},{"$f":"IF(+marzo!#REF!=\"\",\"\",marzo!#REF!)","v":{"$error":"#REF!"}},null,{"$f":"marzo!#REF!","v":{"$error":"#REF!"}},null,{"$f":"marzo!#REF!","v":{"$error":"#REF!"}},{"$f":"marzo!#REF!","v":{"$error":"#REF!"}},{"$f":"marzo!#REF!","v":{"$error":"#REF!"}},null,{"$f":"marzo!#REF!","v":{"$error":"#REF!"}},null,{"$f":"marzo!#REF!","v":{"$error":"#REF!"}},null,{"$f":"marzo!#REF!","v":{"$error":"#REF!"}},null,null,null,null,null,null,null,null,null,null,null,null,null,null,null,null,""]
[{"$f":"IF(+marzo!#REF!=\"\",\"\",marzo!#REF!)","v":{"$error":"#REF!"}},null,null,{"$f":"IF(+marzo!#REF!=\"\",\"\",marzo!#REF!)","v":{"$error":"#REF!"}},{"$f":"IF(+marzo!#REF!=\"\",\"\",marzo!#REF!)","v":{"$error":"#REF!"}},{"$f":"IF(+marzo!#REF!=\"\",\"\",marzo!#REF!)","v":{"$error":"#REF!"}},{"$f":"IF(+marzo!#REF!=\"\",\"\",marzo!#REF!)","v":{"$error":"#REF!"}},{"$f":"IF(+marzo!#REF!=\"\",\"\",marzo!#REF!)","v":{"$error":"#REF!"}},null,{"$f":"marzo!#REF!","v":{"$error":"#REF!"}},null,{"$f":"marzo!#REF!","v":{"$error":"#REF!"}},{"$f":"marzo!#REF!","v":{"$error":"#REF!"}},{"$f":"marzo!#REF!","v":{"$error":"#REF!"}},null,{"$f":"marzo!#REF!","v":{"$error":"#REF!"}},null,{"$f":"marzo!#REF!","v":{"$error":"#REF!"}},null,{"$f":"marzo!#REF!","v":{"$error":"#REF!"}},null,null,null,null,null,null,null,null,null,null,null,null,null,null,null,null,""]
[{"$f":"IF(+marzo!#REF!=\"\",\"\",marzo!#REF!)","v":{"$error":"#REF!"}},null,null,{"$f":"IF(+marzo!#REF!=\"\",\"\",marzo!#REF!)","v":{"$error":"#REF!"}},{"$f":"IF(+marzo!#REF!=\"\",\"\",marzo!#REF!)","v":{"$error":"#REF!"}},{"$f":"IF(+marzo!#REF!=\"\",\"\",marzo!#REF!)","v":{"$error":"#REF!"}},{"$f":"IF(+marzo!#REF!=\"\",\"\",marzo!#REF!)","v":{"$error":"#REF!"}},{"$f":"IF(+marzo!#REF!=\"\",\"\",marzo!#REF!)","v":{"$error":"#REF!"}},null,{"$f":"marzo!#REF!","v":{"$error":"#REF!"}},null,{"$f":"marzo!#REF!","v":{"$error":"#REF!"}},{"$f":"marzo!#REF!","v":{"$error":"#REF!"}},{"$f":"marzo!#REF!","v":{"$error":"#REF!"}},null,{"$f":"marzo!#REF!","v":{"$error":"#REF!"}},null,{"$f":"marzo!#REF!","v":{"$error":"#REF!"}},null,{"$f":"marzo!#REF!","v":{"$error":"#REF!"}},null,null,null,null,null,null,null,null,null,null,null,null,null,null,null,null,""]
[{"$f":"IF(+marzo!#REF!=\"\",\"\",marzo!#REF!)","v":{"$error":"#REF!"}},null,null,{"$f":"IF(+marzo!#REF!=\"\",\"\",marzo!#REF!)","v":{"$error":"#REF!"}},{"$f":"IF(+marzo!#REF!=\"\",\"\",marzo!#REF!)","v":{"$error":"#REF!"}},{"$f":"IF(+marzo!#REF!=\"\",\"\",marzo!#REF!)","v":{"$error":"#REF!"}},{"$f":"IF(+marzo!#REF!=\"\",\"\",marzo!#REF!)","v":{"$error":"#REF!"}},{"$f":"IF(+marzo!#REF!=\"\",\"\",marzo!#REF!)","v":{"$error":"#REF!"}},null,{"$f":"marzo!#REF!","v":{"$error":"#REF!"}},null,{"$f":"marzo!#REF!","v":{"$error":"#REF!"}},{"$f":"marzo!#REF!","v":{"$error":"#REF!"}},{"$f":"marzo!#REF!","v":{"$error":"#REF!"}},null,{"$f":"marzo!#REF!","v":{"$error":"#REF!"}},null,{"$f":"marzo!#REF!","v":{"$error":"#REF!"}},null,{"$f":"marzo!#REF!","v":{"$error":"#REF!"}},null,null,null,null,null,null,null,null,null,null,null,null,null,null,null,null,""]
[{"$f":"IF(+marzo!#REF!=\"\",\"\",marzo!#REF!)","v":{"$error":"#REF!"}},null,null,{"$f":"IF(+marzo!#REF!=\"\",\"\",marzo!#REF!)","v":{"$error":"#REF!"}},{"$f":"IF(+marzo!#REF!=\"\",\"\",marzo!#REF!)","v":{"$error":"#REF!"}},{"$f":"IF(+marzo!#REF!=\"\",\"\",marzo!#REF!)","v":{"$error":"#REF!"}},{"$f":"IF(+marzo!#REF!=\"\",\"\",marzo!#REF!)","v":{"$error":"#REF!"}},{"$f":"IF(+marzo!#REF!=\"\",\"\",marzo!#REF!)","v":{"$error":"#REF!"}},null,{"$f":"marzo!#REF!","v":{"$error":"#REF!"}},null,{"$f":"marzo!#REF!","v":{"$error":"#REF!"}},{"$f":"marzo!#REF!","v":{"$error":"#REF!"}},{"$f":"marzo!#REF!","v":{"$error":"#REF!"}},null,{"$f":"marzo!#REF!","v":{"$error":"#REF!"}},null,{"$f":"marzo!#REF!","v":{"$error":"#REF!"}},null,{"$f":"marzo!#REF!","v":{"$error":"#REF!"}},null,null,null,null,null,null,null,null,null,null,null,null,null,null,null,null,""]
[{"$f":"IF(+marzo!#REF!=\"\",\"\",marzo!#REF!)","v":{"$error":"#REF!"}},null,null,{"$f":"IF(+marzo!#REF!=\"\",\"\",marzo!#REF!)","v":{"$error":"#REF!"}},{"$f":"IF(+marzo!#REF!=\"\",\"\",marzo!#REF!)","v":{"$error":"#REF!"}},{"$f":"IF(+marzo!#REF!=\"\",\"\",marzo!#REF!)","v":{"$error":"#REF!"}},{"$f":"IF(+marzo!#REF!=\"\",\"\",marzo!#REF!)","v":{"$error":"#REF!"}},{"$f":"IF(+marzo!#REF!=\"\",\"\",marzo!#REF!)","v":{"$error":"#REF!"}},null,{"$f":"marzo!#REF!","v":{"$error":"#REF!"}},null,{"$f":"marzo!#REF!","v":{"$error":"#REF!"}},{"$f":"marzo!#REF!","v":{"$error":"#REF!"}},{"$f":"marzo!#REF!","v":{"$error":"#REF!"}},null,{"$f":"marzo!#REF!","v":{"$error":"#REF!"}},null,{"$f":"marzo!#REF!","v":{"$error":"#REF!"}},null,{"$f":"marzo!#REF!","v":{"$error":"#REF!"}},null,null,null,null,null,null,null,null,null,null,null,null,null,null,null,null,""]
[{"$f":"IF(+marzo!#REF!=\"\",\"\",marzo!#REF!)","v":{"$error":"#REF!"}},null,null,{"$f":"IF(+marzo!#REF!=\"\",\"\",marzo!#REF!)","v":{"$error":"#REF!"}},{"$f":"IF(+marzo!#REF!=\"\",\"\",marzo!#REF!)","v":{"$error":"#REF!"}},{"$f":"IF(+marzo!#REF!=\"\",\"\",marzo!#REF!)","v":{"$error":"#REF!"}},{"$f":"IF(+marzo!#REF!=\"\",\"\",marzo!#REF!)","v":{"$error":"#REF!"}},{"$f":"IF(+marzo!#REF!=\"\",\"\",marzo!#REF!)","v":{"$error":"#REF!"}},null,{"$f":"marzo!#REF!","v":{"$error":"#REF!"}},null,{"$f":"marzo!#REF!","v":{"$error":"#REF!"}},{"$f":"marzo!#REF!","v":{"$error":"#REF!"}},{"$f":"marzo!#REF!","v":{"$error":"#REF!"}},null,{"$f":"marzo!#REF!","v":{"$error":"#REF!"}},null,{"$f":"marzo!#REF!","v":{"$error":"#REF!"}},null,{"$f":"marzo!#REF!","v":{"$error":"#REF!"}},null,null,null,null,null,null,null,null,null,null,null,null,null,null,null,null,""]
[{"$f":"IF(+marzo!#REF!=\"\",\"\",marzo!#REF!)","v":{"$error":"#REF!"}},null,null,{"$f":"IF(+marzo!#REF!=\"\",\"\",marzo!#REF!)","v":{"$error":"#REF!"}},{"$f":"IF(+marzo!#REF!=\"\",\"\",marzo!#REF!)","v":{"$error":"#REF!"}},{"$f":"IF(+marzo!#REF!=\"\",\"\",marzo!#REF!)","v":{"$error":"#REF!"}},{"$f":"IF(+marzo!#REF!=\"\",\"\",marzo!#REF!)","v":{"$error":"#REF!"}},{"$f":"IF(+marzo!#REF!=\"\",\"\",marzo!#REF!)","v":{"$error":"#REF!"}},null,{"$f":"marzo!#REF!","v":{"$error":"#REF!"}},null,{"$f":"marzo!#REF!","v":{"$error":"#REF!"}},{"$f":"marzo!#REF!","v":{"$error":"#REF!"}},{"$f":"marzo!#REF!","v":{"$error":"#REF!"}},null,{"$f":"marzo!#REF!","v":{"$error":"#REF!"}},null,{"$f":"marzo!#REF!","v":{"$error":"#REF!"}},null,{"$f":"marzo!#REF!","v":{"$error":"#REF!"}},null,null,null,null,null,null,null,null,null,null,null,null,null,null,null,null,""]
[{"$f":"IF(+marzo!#REF!=\"\",\"\",marzo!#REF!)","v":{"$error":"#REF!"}},null,null,{"$f":"IF(+marzo!#REF!=\"\",\"\",marzo!#REF!)","v":{"$error":"#REF!"}},{"$f":"IF(+marzo!#REF!=\"\",\"\",marzo!#REF!)","v":{"$error":"#REF!"}},{"$f":"IF(+marzo!#REF!=\"\",\"\",marzo!#REF!)","v":{"$error":"#REF!"}},{"$f":"IF(+marzo!#REF!=\"\",\"\",marzo!#REF!)","v":{"$error":"#REF!"}},{"$f":"IF(+marzo!#REF!=\"\",\"\",marzo!#REF!)","v":{"$error":"#REF!"}},null,{"$f":"marzo!#REF!","v":{"$error":"#REF!"}},null,{"$f":"marzo!#REF!","v":{"$error":"#REF!"}},{"$f":"marzo!#REF!","v":{"$error":"#REF!"}},{"$f":"marzo!#REF!","v":{"$error":"#REF!"}},null,{"$f":"marzo!#REF!","v":{"$error":"#REF!"}},null,{"$f":"marzo!#REF!","v":{"$error":"#REF!"}},null,{"$f":"marzo!#REF!","v":{"$error":"#REF!"}},null,null,null,null,null,null,null,null,null,null,null,null,null,null,null,null,""]
[{"$f":"IF(+marzo!#REF!=\"\",\"\",marzo!#REF!)","v":{"$error":"#REF!"}},null,null,{"$f":"IF(+marzo!#REF!=\"\",\"\",marzo!#REF!)","v":{"$error":"#REF!"}},{"$f":"IF(+marzo!#REF!=\"\",\"\",marzo!#REF!)","v":{"$error":"#REF!"}},{"$f":"IF(+marzo!#REF!=\"\",\"\",marzo!#REF!)","v":{"$error":"#REF!"}},{"$f":"IF(+marzo!#REF!=\"\",\"\",marzo!#REF!)","v":{"$error":"#REF!"}},{"$f":"IF(+marzo!#REF!=\"\",\"\",marzo!#REF!)","v":{"$error":"#REF!"}},null,{"$f":"marzo!#REF!","v":{"$error":"#REF!"}},null,{"$f":"marzo!#REF!","v":{"$error":"#REF!"}},{"$f":"marzo!#REF!","v":{"$error":"#REF!"}},{"$f":"marzo!#REF!","v":{"$error":"#REF!"}},null,{"$f":"marzo!#REF!","v":{"$error":"#REF!"}},null,{"$f":"marzo!#REF!","v":{"$error":"#REF!"}},null,{"$f":"marzo!#REF!","v":{"$error":"#REF!"}},null,null,null,null,null,null,null,null,null,null,null,null,null,null,null,null,""]
[{"$f":"IF(+marzo!#REF!=\"\",\"\",marzo!#REF!)","v":{"$error":"#REF!"}},null,null,{"$f":"IF(+marzo!#REF!=\"\",\"\",marzo!#REF!)","v":{"$error":"#REF!"}},{"$f":"IF(+marzo!#REF!=\"\",\"\",marzo!#REF!)","v":{"$error":"#REF!"}},{"$f":"IF(+marzo!#REF!=\"\",\"\",marzo!#REF!)","v":{"$error":"#REF!"}},{"$f":"IF(+marzo!#REF!=\"\",\"\",marzo!#REF!)","v":{"$error":"#REF!"}},{"$f":"IF(+marzo!#REF!=\"\",\"\",marzo!#REF!)","v":{"$error":"#REF!"}},null,{"$f":"marzo!#REF!","v":{"$error":"#REF!"}},null,{"$f":"marzo!#REF!","v":{"$error":"#REF!"}},{"$f":"marzo!#REF!","v":{"$error":"#REF!"}},{"$f":"marzo!#REF!","v":{"$error":"#REF!"}},null,{"$f":"marzo!#REF!","v":{"$error":"#REF!"}},null,{"$f":"marzo!#REF!","v":{"$error":"#REF!"}},null,{"$f":"marzo!#REF!","v":{"$error":"#REF!"}},null,null,null,null,null,null,null,null,null,null,null,null,null,null,null,null,""]
[{"$f":"IF(+marzo!#REF!=\"\",\"\",marzo!#REF!)","v":{"$error":"#REF!"}},null,null,{"$f":"IF(+marzo!#REF!=\"\",\"\",marzo!#REF!)","v":{"$error":"#REF!"}},{"$f":"IF(+marzo!#REF!=\"\",\"\",marzo!#REF!)","v":{"$error":"#REF!"}},{"$f":"IF(+marzo!#REF!=\"\",\"\",marzo!#REF!)","v":{"$error":"#REF!"}},{"$f":"IF(+marzo!#REF!=\"\",\"\",marzo!#REF!)","v":{"$error":"#REF!"}},{"$f":"IF(+marzo!#REF!=\"\",\"\",marzo!#REF!)","v":{"$error":"#REF!"}},null,{"$f":"marzo!#REF!","v":{"$error":"#REF!"}},null,{"$f":"marzo!#REF!","v":{"$error":"#REF!"}},{"$f":"marzo!#REF!","v":{"$error":"#REF!"}},{"$f":"marzo!#REF!","v":{"$error":"#REF!"}},null,{"$f":"marzo!#REF!","v":{"$error":"#REF!"}},null,{"$f":"marzo!#REF!","v":{"$error":"#REF!"}},null,{"$f":"marzo!#REF!","v":{"$error":"#REF!"}},null,null,null,null,null,null,null,null,null,null,null,null,null,null,null,null,""]
[{"$f":"IF(+marzo!#REF!=\"\",\"\",marzo!#REF!)","v":{"$error":"#REF!"}},null,null,{"$f":"IF(+marzo!#REF!=\"\",\"\",marzo!#REF!)","v":{"$error":"#REF!"}},{"$f":"IF(+marzo!#REF!=\"\",\"\",marzo!#REF!)","v":{"$error":"#REF!"}},{"$f":"IF(+marzo!#REF!=\"\",\"\",marzo!#REF!)","v":{"$error":"#REF!"}},{"$f":"IF(+marzo!#REF!=\"\",\"\",marzo!#REF!)","v":{"$error":"#REF!"}},{"$f":"IF(+marzo!#REF!=\"\",\"\",marzo!#REF!)","v":{"$error":"#REF!"}},null,{"$f":"marzo!#REF!","v":{"$error":"#REF!"}},null,{"$f":"marzo!#REF!","v":{"$error":"#REF!"}},{"$f":"marzo!#REF!","v":{"$error":"#REF!"}},{"$f":"marzo!#REF!","v":{"$error":"#REF!"}},null,{"$f":"marzo!#REF!","v":{"$error":"#REF!"}},null,{"$f":"marzo!#REF!","v":{"$error":"#REF!"}},null,{"$f":"marzo!#REF!","v":{"$error":"#REF!"}},null,null,null,null,null,null,null,null,null,null,null,null,null,null,null,null,""]
[{"$f":"IF(+marzo!#REF!=\"\",\"\",marzo!#REF!)","v":{"$error":"#REF!"}},null,null,{"$f":"IF(+marzo!#REF!=\"\",\"\",marzo!#REF!)","v":{"$error":"#REF!"}},{"$f":"IF(+marzo!#REF!=\"\",\"\",marzo!#REF!)","v":{"$error":"#REF!"}},{"$f":"IF(+marzo!#REF!=\"\",\"\",marzo!#REF!)","v":{"$error":"#REF!"}},{"$f":"IF(+marzo!#REF!=\"\",\"\",marzo!#REF!)","v":{"$error":"#REF!"}},{"$f":"IF(+marzo!#REF!=\"\",\"\",marzo!#REF!)","v":{"$error":"#REF!"}},null,{"$f":"marzo!#REF!","v":{"$error":"#REF!"}},null,{"$f":"marzo!#REF!","v":{"$error":"#REF!"}},{"$f":"marzo!#REF!","v":{"$error":"#REF!"}},{"$f":"marzo!#REF!","v":{"$error":"#REF!"}},null,{"$f":"marzo!#REF!","v":{"$error":"#REF!"}},null,{"$f":"marzo!#REF!","v":{"$error":"#REF!"}},null,{"$f":"marzo!#REF!","v":{"$error":"#REF!"}},null,null,null,null,null,null,null,null,null,null,null,null,null,null,null,null,""]
[{"$f":"IF(+marzo!#REF!=\"\",\"\",marzo!#REF!)","v":{"$error":"#REF!"}},null,null,{"$f":"IF(+marzo!#REF!=\"\",\"\",marzo!#REF!)","v":{"$error":"#REF!"}},{"$f":"IF(+marzo!#REF!=\"\",\"\",marzo!#REF!)","v":{"$error":"#REF!"}},{"$f":"IF(+marzo!#REF!=\"\",\"\",marzo!#REF!)","v":{"$error":"#REF!"}},{"$f":"IF(+marzo!#REF!=\"\",\"\",marzo!#REF!)","v":{"$error":"#REF!"}},{"$f":"IF(+marzo!#REF!=\"\",\"\",marzo!#REF!)","v":{"$error":"#REF!"}},null,{"$f":"marzo!#REF!","v":{"$error":"#REF!"}},null,{"$f":"marzo!#REF!","v":{"$error":"#REF!"}},{"$f":"marzo!#REF!","v":{"$error":"#REF!"}},{"$f":"marzo!#REF!","v":{"$error":"#REF!"}},null,{"$f":"marzo!#REF!","v":{"$error":"#REF!"}},null,{"$f":"marzo!#REF!","v":{"$error":"#REF!"}},null,{"$f":"marzo!#REF!","v":{"$error":"#REF!"}},null,null,null,null,null,null,null,null,null,null,null,null,null,null,null,null,""]
[{"$f":"IF(+marzo!#REF!=\"\",\"\",marzo!#REF!)","v":{"$error":"#REF!"}},null,null,{"$f":"IF(+marzo!#REF!=\"\",\"\",marzo!#REF!)","v":{"$error":"#REF!"}},{"$f":"IF(+marzo!#REF!=\"\",\"\",marzo!#REF!)","v":{"$error":"#REF!"}},{"$f":"IF(+marzo!#REF!=\"\",\"\",marzo!#REF!)","v":{"$error":"#REF!"}},{"$f":"IF(+marzo!#REF!=\"\",\"\",marzo!#REF!)","v":{"$error":"#REF!"}},{"$f":"IF(+marzo!#REF!=\"\",\"\",marzo!#REF!)","v":{"$error":"#REF!"}},null,{"$f":"marzo!#REF!","v":{"$error":"#REF!"}},null,{"$f":"marzo!#REF!","v":{"$error":"#REF!"}},{"$f":"marzo!#REF!","v":{"$error":"#REF!"}},{"$f":"marzo!#REF!","v":{"$error":"#REF!"}},null,{"$f":"marzo!#REF!","v":{"$error":"#REF!"}},null,{"$f":"marzo!#REF!","v":{"$error":"#REF!"}},null,{"$f":"marzo!#REF!","v":{"$error":"#REF!"}},null,null,null,null,null,null,null,null,null,null,null,null,null,null,null,null,""]
[{"$f":"IF(+marzo!#REF!=\"\",\"\",marzo!#REF!)","v":{"$error":"#REF!"}},null,null,{"$f":"IF(+marzo!#REF!=\"\",\"\",marzo!#REF!)","v":{"$error":"#REF!"}},{"$f":"IF(+marzo!#REF!=\"\",\"\",marzo!#REF!)","v":{"$error":"#REF!"}},{"$f":"IF(+marzo!#REF!=\"\",\"\",marzo!#REF!)","v":{"$error":"#REF!"}},{"$f":"IF(+marzo!#REF!=\"\",\"\",marzo!#REF!)","v":{"$error":"#REF!"}},{"$f":"IF(+marzo!#REF!=\"\",\"\",marzo!#REF!)","v":{"$error":"#REF!"}},null,{"$f":"marzo!#REF!","v":{"$error":"#REF!"}},null,{"$f":"marzo!#REF!","v":{"$error":"#REF!"}},{"$f":"marzo!#REF!","v":{"$error":"#REF!"}},{"$f":"marzo!#REF!","v":{"$error":"#REF!"}},null,{"$f":"marzo!#REF!","v":{"$error":"#REF!"}},null,{"$f":"marzo!#REF!","v":{"$error":"#REF!"}},null,{"$f":"marzo!#REF!","v":{"$error":"#REF!"}},null,null,null,null,null,null,null,null,null,null,null,null,null,null,null,null,""]
[{"$f":"IF(+marzo!#REF!=\"\",\"\",marzo!#REF!)","v":{"$error":"#REF!"}},null,null,{"$f":"IF(+marzo!#REF!=\"\",\"\",marzo!#REF!)","v":{"$error":"#REF!"}},{"$f":"IF(+marzo!#REF!=\"\",\"\",marzo!#REF!)","v":{"$error":"#REF!"}},{"$f":"IF(+marzo!#REF!=\"\",\"\",marzo!#REF!)","v":{"$error":"#REF!"}},{"$f":"IF(+marzo!#REF!=\"\",\"\",marzo!#REF!)","v":{"$error":"#REF!"}},{"$f":"IF(+marzo!#REF!=\"\",\"\",marzo!#REF!)","v":{"$error":"#REF!"}},null,{"$f":"marzo!#REF!","v":{"$error":"#REF!"}},null,{"$f":"marzo!#REF!","v":{"$error":"#REF!"}},{"$f":"marzo!#REF!","v":{"$error":"#REF!"}},{"$f":"marzo!#REF!","v":{"$error":"#REF!"}},null,{"$f":"marzo!#REF!","v":{"$error":"#REF!"}},null,{"$f":"marzo!#REF!","v":{"$error":"#REF!"}},null,{"$f":"marzo!#REF!","v":{"$error":"#REF!"}},null,null,null,null,null,null,null,null,null,null,null,null,null,null,null,null,""]
[{"$f":"IF(+marzo!#REF!=\"\",\"\",marzo!#REF!)","v":{"$error":"#REF!"}},null,null,{"$f":"IF(+marzo!#REF!=\"\",\"\",marzo!#REF!)","v":{"$error":"#REF!"}},{"$f":"IF(+marzo!#REF!=\"\",\"\",marzo!#REF!)","v":{"$error":"#REF!"}},{"$f":"IF(+marzo!#REF!=\"\",\"\",marzo!#REF!)","v":{"$error":"#REF!"}},{"$f":"IF(+marzo!#REF!=\"\",\"\",marzo!#REF!)","v":{"$error":"#REF!"}},{"$f":"IF(+marzo!#REF!=\"\",\"\",marzo!#REF!)","v":{"$error":"#REF!"}},null,{"$f":"marzo!#REF!","v":{"$error":"#REF!"}},null,{"$f":"marzo!#REF!","v":{"$error":"#REF!"}},{"$f":"marzo!#REF!","v":{"$error":"#REF!"}},{"$f":"marzo!#REF!","v":{"$error":"#REF!"}},null,{"$f":"marzo!#REF!","v":{"$error":"#REF!"}},null,{"$f":"marzo!#REF!","v":{"$error":"#REF!"}},null,{"$f":"marzo!#REF!","v":{"$error":"#REF!"}},null,null,null,null,null,null,null,null,null,null,null,null,null,null,null,null,""]
[{"$f":"IF(+marzo!#REF!=\"\",\"\",marzo!#REF!)","v":{"$error":"#REF!"}},null,null,{"$f":"IF(+marzo!#REF!=\"\",\"\",marzo!#REF!)","v":{"$error":"#REF!"}},{"$f":"IF(+marzo!#REF!=\"\",\"\",marzo!#REF!)","v":{"$error":"#REF!"}},{"$f":"IF(+marzo!#REF!=\"\",\"\",marzo!#REF!)","v":{"$error":"#REF!"}},{"$f":"IF(+marzo!#REF!=\"\",\"\",marzo!#REF!)","v":{"$error":"#REF!"}},{"$f":"IF(+marzo!#REF!=\"\",\"\",marzo!#REF!)","v":{"$error":"#REF!"}},null,{"$f":"marzo!#REF!","v":{"$error":"#REF!"}},null,{"$f":"marzo!#REF!","v":{"$error":"#REF!"}},{"$f":"marzo!#REF!","v":{"$error":"#REF!"}},{"$f":"marzo!#REF!","v":{"$error":"#REF!"}},null,{"$f":"marzo!#REF!","v":{"$error":"#REF!"}},null,{"$f":"marzo!#REF!","v":{"$error":"#REF!"}},null,{"$f":"marzo!#REF!","v":{"$error":"#REF!"}},null,null,null,null,null,null,null,null,null,null,null,null,null,null,null,null,""]
[{"$f":"IF(+marzo!#REF!=\"\",\"\",marzo!#REF!)","v":{"$error":"#REF!"}},null,null,{"$f":"IF(+marzo!#REF!=\"\",\"\",marzo!#REF!)","v":{"$error":"#REF!"}},{"$f":"IF(+marzo!#REF!=\"\",\"\",marzo!#REF!)","v":{"$error":"#REF!"}},{"$f":"IF(+marzo!#REF!=\"\",\"\",marzo!#REF!)","v":{"$error":"#REF!"}},{"$f":"IF(+marzo!#REF!=\"\",\"\",marzo!#REF!)","v":{"$error":"#REF!"}},{"$f":"IF(+marzo!#REF!=\"\",\"\",marzo!#REF!)","v":{"$error":"#REF!"}},null,{"$f":"marzo!#REF!","v":{"$error":"#REF!"}},null,{"$f":"marzo!#REF!","v":{"$error":"#REF!"}},{"$f":"marzo!#REF!","v":{"$error":"#REF!"}},{"$f":"marzo!#REF!","v":{"$error":"#REF!"}},null,{"$f":"marzo!#REF!","v":{"$error":"#REF!"}},null,{"$f":"marzo!#REF!","v":{"$error":"#REF!"}},null,{"$f":"marzo!#REF!","v":{"$error":"#REF!"}},null,null,null,null,null,null,null,null,null,null,null,null,null,null,null,null,""]
[{"$f":"IF(+marzo!#REF!=\"\",\"\",marzo!#REF!)","v":{"$error":"#REF!"}},null,null,{"$f":"IF(+marzo!#REF!=\"\",\"\",marzo!#REF!)","v":{"$error":"#REF!"}},{"$f":"IF(+marzo!#REF!=\"\",\"\",marzo!#REF!)","v":{"$error":"#REF!"}},{"$f":"IF(+marzo!#REF!=\"\",\"\",marzo!#REF!)","v":{"$error":"#REF!"}},{"$f":"IF(+marzo!#REF!=\"\",\"\",marzo!#REF!)","v":{"$error":"#REF!"}},{"$f":"IF(+marzo!#REF!=\"\",\"\",marzo!#REF!)","v":{"$error":"#REF!"}},null,{"$f":"marzo!#REF!","v":{"$error":"#REF!"}},null,{"$f":"marzo!#REF!","v":{"$error":"#REF!"}},{"$f":"marzo!#REF!","v":{"$error":"#REF!"}},{"$f":"marzo!#REF!","v":{"$error":"#REF!"}},null,{"$f":"marzo!#REF!","v":{"$error":"#REF!"}},null,{"$f":"marzo!#REF!","v":{"$error":"#REF!"}},null,{"$f":"marzo!#REF!","v":{"$error":"#REF!"}},null,null,null,null,null,null,null,null,null,null,null,null,null,null,null,null,""]
[{"$f":"IF(+marzo!#REF!=\"\",\"\",marzo!#REF!)","v":{"$error":"#REF!"}},null,null,{"$f":"IF(+marzo!#REF!=\"\",\"\",marzo!#REF!)","v":{"$error":"#REF!"}},{"$f":"IF(+marzo!#REF!=\"\",\"\",marzo!#REF!)","v":{"$error":"#REF!"}},{"$f":"IF(+marzo!#REF!=\"\",\"\",marzo!#REF!)","v":{"$error":"#REF!"}},{"$f":"IF(+marzo!#REF!=\"\",\"\",marzo!#REF!)","v":{"$error":"#REF!"}},{"$f":"IF(+marzo!#REF!=\"\",\"\",marzo!#REF!)","v":{"$error":"#REF!"}},null,{"$f":"marzo!#REF!","v":{"$error":"#REF!"}},null,{"$f":"marzo!#REF!","v":{"$error":"#REF!"}},{"$f":"marzo!#REF!","v":{"$error":"#REF!"}},{"$f":"marzo!#REF!","v":{"$error":"#REF!"}},null,{"$f":"marzo!#REF!","v":{"$error":"#REF!"}},null,{"$f":"marzo!#REF!","v":{"$error":"#REF!"}},null,{"$f":"marzo!#REF!","v":{"$error":"#REF!"}},null,null,null,null,null,null,null,null,null,null,null,null,null,null,null,null,""]
[{"$f":"IF(+marzo!#REF!=\"\",\"\",marzo!#REF!)","v":{"$error":"#REF!"}},null,null,{"$f":"IF(+marzo!#REF!=\"\",\"\",marzo!#REF!)","v":{"$error":"#REF!"}},{"$f":"IF(+marzo!#REF!=\"\",\"\",marzo!#REF!)","v":{"$error":"#REF!"}},{"$f":"IF(+marzo!#REF!=\"\",\"\",marzo!#REF!)","v":{"$error":"#REF!"}},{"$f":"IF(+marzo!#REF!=\"\",\"\",marzo!#REF!)","v":{"$error":"#REF!"}},{"$f":"IF(+marzo!#REF!=\"\",\"\",marzo!#REF!)","v":{"$error":"#REF!"}},null,{"$f":"marzo!#REF!","v":{"$error":"#REF!"}},null,{"$f":"marzo!#REF!","v":{"$error":"#REF!"}},{"$f":"marzo!#REF!","v":{"$error":"#REF!"}},{"$f":"marzo!#REF!","v":{"$error":"#REF!"}},null,{"$f":"marzo!#REF!","v":{"$error":"#REF!"}},null,{"$f":"marzo!#REF!","v":{"$error":"#REF!"}},null,{"$f":"marzo!#REF!","v":{"$error":"#REF!"}},null,null,null,null,null,null,null,null,null,null,null,null,null,null,null,null,""]
[{"$f":"IF(+marzo!#REF!=\"\",\"\",marzo!#REF!)","v":{"$error":"#REF!"}},null,null,{"$f":"IF(+marzo!#REF!=\"\",\"\",marzo!#REF!)","v":{"$error":"#REF!"}},{"$f":"IF(+marzo!#REF!=\"\",\"\",marzo!#REF!)","v":{"$error":"#REF!"}},{"$f":"IF(+marzo!#REF!=\"\",\"\",marzo!#REF!)","v":{"$error":"#REF!"}},{"$f":"IF(+marzo!#REF!=\"\",\"\",marzo!#REF!)","v":{"$error":"#REF!"}},{"$f":"IF(+marzo!#REF!=\"\",\"\",marzo!#REF!)","v":{"$error":"#REF!"}},null,{"$f":"marzo!#REF!","v":{"$error":"#REF!"}},null,{"$f":"marzo!#REF!","v":{"$error":"#REF!"}},{"$f":"marzo!#REF!","v":{"$error":"#REF!"}},{"$f":"marzo!#REF!","v":{"$error":"#REF!"}},null,{"$f":"marzo!#REF!","v":{"$error":"#REF!"}},null,{"$f":"marzo!#REF!","v":{"$error":"#REF!"}},null,{"$f":"marzo!#REF!","v":{"$error":"#REF!"}},null,null,null,null,null,null,null,null,null,null,null,null,null,null,null,null,""]
[{"$f":"IF(+marzo!#REF!=\"\",\"\",marzo!#REF!)","v":{"$error":"#REF!"}},null,null,{"$f":"IF(+marzo!#REF!=\"\",\"\",marzo!#REF!)","v":{"$error":"#REF!"}},{"$f":"IF(+marzo!#REF!=\"\",\"\",marzo!#REF!)","v":{"$error":"#REF!"}},{"$f":"IF(+marzo!#REF!=\"\",\"\",marzo!#REF!)","v":{"$error":"#REF!"}},{"$f":"IF(+marzo!#REF!=\"\",\"\",marzo!#REF!)","v":{"$error":"#REF!"}},{"$f":"IF(+marzo!#REF!=\"\",\"\",marzo!#REF!)","v":{"$error":"#REF!"}},null,{"$f":"marzo!#REF!","v":{"$error":"#REF!"}},null,{"$f":"marzo!#REF!","v":{"$error":"#REF!"}},{"$f":"marzo!#REF!","v":{"$error":"#REF!"}},{"$f":"marzo!#REF!","v":{"$error":"#REF!"}},null,{"$f":"marzo!#REF!","v":{"$error":"#REF!"}},null,{"$f":"marzo!#REF!","v":{"$error":"#REF!"}},null,{"$f":"marzo!#REF!","v":{"$error":"#REF!"}},null,null,null,null,null,null,null,null,null,null,null,null,null,null,null,null,""]
[{"$f":"IF(+marzo!#REF!=\"\",\"\",marzo!#REF!)","v":{"$error":"#REF!"}},null,null,{"$f":"IF(+marzo!#REF!=\"\",\"\",marzo!#REF!)","v":{"$error":"#REF!"}},{"$f":"IF(+marzo!#REF!=\"\",\"\",marzo!#REF!)","v":{"$error":"#REF!"}},{"$f":"IF(+marzo!#REF!=\"\",\"\",marzo!#REF!)","v":{"$error":"#REF!"}},{"$f":"IF(+marzo!#REF!=\"\",\"\",marzo!#REF!)","v":{"$error":"#REF!"}},{"$f":"IF(+marzo!#REF!=\"\",\"\",marzo!#REF!)","v":{"$error":"#REF!"}},null,{"$f":"marzo!#REF!","v":{"$error":"#REF!"}},null,{"$f":"marzo!#REF!","v":{"$error":"#REF!"}},{"$f":"marzo!#REF!","v":{"$error":"#REF!"}},{"$f":"marzo!#REF!","v":{"$error":"#REF!"}},null,{"$f":"marzo!#REF!","v":{"$error":"#REF!"}},null,{"$f":"marzo!#REF!","v":{"$error":"#REF!"}},null,{"$f":"marzo!#REF!","v":{"$error":"#REF!"}},null,null,null,null,null,null,null,null,null,null,null,null,null,null,null,null,""]
[{"$f":"IF(+marzo!#REF!=\"\",\"\",marzo!#REF!)","v":{"$error":"#REF!"}},null,null,{"$f":"IF(+marzo!#REF!=\"\",\"\",marzo!#REF!)","v":{"$error":"#REF!"}},{"$f":"IF(+marzo!#REF!=\"\",\"\",marzo!#REF!)","v":{"$error":"#REF!"}},{"$f":"IF(+marzo!#REF!=\"\",\"\",marzo!#REF!)","v":{"$error":"#REF!"}},{"$f":"IF(+marzo!#REF!=\"\",\"\",marzo!#REF!)","v":{"$error":"#REF!"}},{"$f":"IF(+marzo!#REF!=\"\",\"\",marzo!#REF!)","v":{"$error":"#REF!"}},null,{"$f":"marzo!#REF!","v":{"$error":"#REF!"}},null,{"$f":"marzo!#REF!","v":{"$error":"#REF!"}},{"$f":"marzo!#REF!","v":{"$error":"#REF!"}},{"$f":"marzo!#REF!","v":{"$error":"#REF!"}},null,{"$f":"marzo!#REF!","v":{"$error":"#REF!"}},null,{"$f":"marzo!#REF!","v":{"$error":"#REF!"}},null,{"$f":"marzo!#REF!","v":{"$error":"#REF!"}},null,null,null,null,null,null,null,null,null,null,null,null,null,null,null,null,""]
[{"$f":"IF(+marzo!#REF!=\"\",\"\",marzo!#REF!)","v":{"$error":"#REF!"}},null,null,{"$f":"IF(+marzo!#REF!=\"\",\"\",marzo!#REF!)","v":{"$error":"#REF!"}},{"$f":"IF(+marzo!#REF!=\"\",\"\",marzo!#REF!)","v":{"$error":"#REF!"}},{"$f":"IF(+marzo!#REF!=\"\",\"\",marzo!#REF!)","v":{"$error":"#REF!"}},{"$f":"IF(+marzo!#REF!=\"\",\"\",marzo!#REF!)","v":{"$error":"#REF!"}},{"$f":"IF(+marzo!#REF!=\"\",\"\",marzo!#REF!)","v":{"$error":"#REF!"}},null,{"$f":"marzo!#REF!","v":{"$error":"#REF!"}},null,{"$f":"marzo!#REF!","v":{"$error":"#REF!"}},{"$f":"marzo!#REF!","v":{"$error":"#REF!"}},{"$f":"marzo!#REF!","v":{"$error":"#REF!"}},null,{"$f":"marzo!#REF!","v":{"$error":"#REF!"}},null,{"$f":"marzo!#REF!","v":{"$error":"#REF!"}},null,{"$f":"marzo!#REF!","v":{"$error":"#REF!"}},null,null,null,null,null,null,null,null,null,null,null,null,null,null,null,null,""]
[{"$f":"IF(+marzo!#REF!=\"\",\"\",marzo!#REF!)","v":{"$error":"#REF!"}},null,null,{"$f":"IF(+marzo!#REF!=\"\",\"\",marzo!#REF!)","v":{"$error":"#REF!"}},{"$f":"IF(+marzo!#REF!=\"\",\"\",marzo!#REF!)","v":{"$error":"#REF!"}},{"$f":"IF(+marzo!#REF!=\"\",\"\",marzo!#REF!)","v":{"$error":"#REF!"}},{"$f":"IF(+marzo!#REF!=\"\",\"\",marzo!#REF!)","v":{"$error":"#REF!"}},{"$f":"IF(+marzo!#REF!=\"\",\"\",marzo!#REF!)","v":{"$error":"#REF!"}},null,{"$f":"marzo!#REF!","v":{"$error":"#REF!"}},null,{"$f":"marzo!#REF!","v":{"$error":"#REF!"}},{"$f":"marzo!#REF!","v":{"$error":"#REF!"}},{"$f":"marzo!#REF!","v":{"$error":"#REF!"}},null,{"$f":"marzo!#REF!","v":{"$error":"#REF!"}},null,{"$f":"marzo!#REF!","v":{"$error":"#REF!"}},null,{"$f":"marzo!#REF!","v":{"$error":"#REF!"}},null,null,null,null,null,null,null,null,null,null,null,null,null,null,null,null,""]
[{"$f":"IF(+marzo!#REF!=\"\",\"\",marzo!#REF!)","v":{"$error":"#REF!"}},null,null,{"$f":"IF(+marzo!#REF!=\"\",\"\",marzo!#REF!)","v":{"$error":"#REF!"}},{"$f":"IF(+marzo!#REF!=\"\",\"\",marzo!#REF!)","v":{"$error":"#REF!"}},{"$f":"IF(+marzo!#REF!=\"\",\"\",marzo!#REF!)","v":{"$error":"#REF!"}},{"$f":"IF(+marzo!#REF!=\"\",\"\",marzo!#REF!)","v":{"$error":"#REF!"}},{"$f":"IF(+marzo!#REF!=\"\",\"\",marzo!#REF!)","v":{"$error":"#REF!"}},null,{"$f":"marzo!#REF!","v":{"$error":"#REF!"}},null,{"$f":"marzo!#REF!","v":{"$error":"#REF!"}},{"$f":"marzo!#REF!","v":{"$error":"#REF!"}},{"$f":"marzo!#REF!","v":{"$error":"#REF!"}},null,{"$f":"marzo!#REF!","v":{"$error":"#REF!"}},null,{"$f":"marzo!#REF!","v":{"$error":"#REF!"}},null,{"$f":"marzo!#REF!","v":{"$error":"#REF!"}},null,null,null,null,null,null,null,null,null,null,null,null,null,null,null,null,""]
[{"$f":"IF(+marzo!#REF!=\"\",\"\",marzo!#REF!)","v":{"$error":"#REF!"}},null,null,{"$f":"IF(+marzo!#REF!=\"\",\"\",marzo!#REF!)","v":{"$error":"#REF!"}},{"$f":"IF(+marzo!#REF!=\"\",\"\",marzo!#REF!)","v":{"$error":"#REF!"}},{"$f":"IF(+marzo!#REF!=\"\",\"\",marzo!#REF!)","v":{"$error":"#REF!"}},{"$f":"IF(+marzo!#REF!=\"\",\"\",marzo!#REF!)","v":{"$error":"#REF!"}},{"$f":"IF(+marzo!#REF!=\"\",\"\",marzo!#REF!)","v":{"$error":"#REF!"}},null,{"$f":"marzo!#REF!","v":{"$error":"#REF!"}},null,{"$f":"marzo!#REF!","v":{"$error":"#REF!"}},{"$f":"marzo!#REF!","v":{"$error":"#REF!"}},{"$f":"marzo!#REF!","v":{"$error":"#REF!"}},null,{"$f":"marzo!#REF!","v":{"$error":"#REF!"}},null,{"$f":"marzo!#REF!","v":{"$error":"#REF!"}},null,{"$f":"marzo!#REF!","v":{"$error":"#REF!"}},null,null,null,null,null,null,null,null,null,null,null,null,null,null,null,null,{"$f":"IF(OR(COUNTIF($I64:$AJ64,\"X\")>0,COUNTIF($I64:$AJ64,\"L\")>0),COUNTIF($I64:$AJ64,\"X\")+COUNTIF($I64:$AJ64,\"L\"),\"\")","v":""}]
[{"$f":"IF(+marzo!#REF!=\"\",\"\",marzo!#REF!)","v":{"$error":"#REF!"}},null,null,{"$f":"IF(+marzo!#REF!=\"\",\"\",marzo!#REF!)","v":{"$error":"#REF!"}},{"$f":"IF(+marzo!#REF!=\"\",\"\",marzo!#REF!)","v":{"$error":"#REF!"}},{"$f":"IF(+marzo!#REF!=\"\",\"\",marzo!#REF!)","v":{"$error":"#REF!"}},{"$f":"IF(+marzo!#REF!=\"\",\"\",marzo!#REF!)","v":{"$error":"#REF!"}},{"$f":"IF(+marzo!#REF!=\"\",\"\",marzo!#REF!)","v":{"$error":"#REF!"}},null,{"$f":"marzo!#REF!","v":{"$error":"#REF!"}},null,{"$f":"marzo!#REF!","v":{"$error":"#REF!"}},{"$f":"marzo!#REF!","v":{"$error":"#REF!"}},{"$f":"marzo!#REF!","v":{"$error":"#REF!"}},null,{"$f":"marzo!#REF!","v":{"$error":"#REF!"}},null,{"$f":"marzo!#REF!","v":{"$error":"#REF!"}},null,{"$f":"marzo!#REF!","v":{"$error":"#REF!"}},null,null,null,null,null,null,null,null,null,null,null,null,null,null,null,null,""]
[{"$f":"IF(+marzo!#REF!=\"\",\"\",marzo!#REF!)","v":{"$error":"#REF!"}},null,null,{"$f":"IF(+marzo!#REF!=\"\",\"\",marzo!#REF!)","v":{"$error":"#REF!"}},{"$f":"IF(+marzo!#REF!=\"\",\"\",marzo!#REF!)","v":{"$error":"#REF!"}},{"$f":"IF(+marzo!#REF!=\"\",\"\",marzo!#REF!)","v":{"$error":"#REF!"}},{"$f":"IF(+marzo!#REF!=\"\",\"\",marzo!#REF!)","v":{"$error":"#REF!"}},{"$f":"IF(+marzo!#REF!=\"\",\"\",marzo!#REF!)","v":{"$error":"#REF!"}},null,{"$f":"marzo!#REF!","v":{"$error":"#REF!"}},null,{"$f":"marzo!#REF!","v":{"$error":"#REF!"}},{"$f":"marzo!#REF!","v":{"$error":"#REF!"}},{"$f":"marzo!#REF!","v":{"$error":"#REF!"}},null,{"$f":"marzo!#REF!","v":{"$error":"#REF!"}},null,{"$f":"marzo!#REF!","v":{"$error":"#REF!"}},null,{"$f":"marzo!#REF!","v":{"$error":"#REF!"}},null,null,null,null,null,null,null,null,null,null,null,null,null,null,null,null,""]
[{"$f":"IF(+marzo!#REF!=\"\",\"\",marzo!#REF!)","v":{"$error":"#REF!"}},null,null,{"$f":"IF(+marzo!#REF!=\"\",\"\",marzo!#REF!)","v":{"$error":"#REF!"}},{"$f":"IF(+marzo!#REF!=\"\",\"\",marzo!#REF!)","v":{"$error":"#REF!"}},{"$f":"IF(+marzo!#REF!=\"\",\"\",marzo!#REF!)","v":{"$error":"#REF!"}},{"$f":"IF(+marzo!#REF!=\"\",\"\",marzo!#REF!)","v":{"$error":"#REF!"}},{"$f":"IF(+marzo!#REF!=\"\",\"\",marzo!#REF!)","v":{"$error":"#REF!"}},null,{"$f":"marzo!#REF!","v":{"$error":"#REF!"}},null,{"$f":"marzo!#REF!","v":{"$error":"#REF!"}},{"$f":"marzo!#REF!","v":{"$error":"#REF!"}},{"$f":"marzo!#REF!","v":{"$error":"#REF!"}},null,{"$f":"marzo!#REF!","v":{"$error":"#REF!"}},null,{"$f":"marzo!#REF!","v":{"$error":"#REF!"}},null,{"$f":"marzo!#REF!","v":{"$error":"#REF!"}},null,null,null,null,null,null,null,null,null,null,null,null,null,null,null,null,""]
[{"$f":"IF(+marzo!#REF!=\"\",\"\",marzo!#REF!)","v":{"$error":"#REF!"}},null,null,{"$f":"IF(+marzo!#REF!=\"\",\"\",marzo!#REF!)","v":{"$error":"#REF!"}},{"$f":"IF(+marzo!#REF!=\"\",\"\",marzo!#REF!)","v":{"$error":"#REF!"}},{"$f":"IF(+marzo!#REF!=\"\",\"\",marzo!#REF!)","v":{"$error":"#REF!"}},{"$f":"IF(+marzo!#REF!=\"\",\"\",marzo!#REF!)","v":{"$error":"#REF!"}},{"$f":"IF(+marzo!#REF!=\"\",\"\",marzo!#REF!)","v":{"$error":"#REF!"}},null,{"$f":"marzo!#REF!","v":{"$error":"#REF!"}},null,{"$f":"marzo!#REF!","v":{"$error":"#REF!"}},{"$f":"marzo!#REF!","v":{"$error":"#REF!"}},{"$f":"marzo!#REF!","v":{"$error":"#REF!"}},null,{"$f":"marzo!#REF!","v":{"$error":"#REF!"}},null,{"$f":"marzo!#REF!","v":{"$error":"#REF!"}},null,{"$f":"marzo!#REF!","v":{"$error":"#REF!"}},null,null,null,null,null,null,null,null,null,null,null,null,null,null,null,null,""]
[{"$f":"IF(+marzo!#REF!=\"\",\"\",marzo!#REF!)","v":{"$error":"#REF!"}},null,null,{"$f":"IF(+marzo!#REF!=\"\",\"\",marzo!#REF!)","v":{"$error":"#REF!"}},{"$f":"IF(+marzo!#REF!=\"\",\"\",marzo!#REF!)","v":{"$error":"#REF!"}},{"$f":"IF(+marzo!#REF!=\"\",\"\",marzo!#REF!)","v":{"$error":"#REF!"}},{"$f":"IF(+marzo!#REF!=\"\",\"\",marzo!#REF!)","v":{"$error":"#REF!"}},{"$f":"IF(+marzo!#REF!=\"\",\"\",marzo!#REF!)","v":{"$error":"#REF!"}},null,{"$f":"marzo!#REF!","v":{"$error":"#REF!"}},null,{"$f":"marzo!#REF!","v":{"$error":"#REF!"}},{"$f":"marzo!#REF!","v":{"$error":"#REF!"}},{"$f":"marzo!#REF!","v":{"$error":"#REF!"}},null,{"$f":"marzo!#REF!","v":{"$error":"#REF!"}},null,{"$f":"marzo!#REF!","v":{"$error":"#REF!"}},null,{"$f":"marzo!#REF!","v":{"$error":"#REF!"}},null,null,null,null,null,null,null,null,null,null,null,null,null,null,null,null,""]
[{"$f":"IF(+marzo!#REF!=\"\",\"\",marzo!#REF!)","v":{"$error":"#REF!"}},null,null,{"$f":"IF(+marzo!#REF!=\"\",\"\",marzo!#REF!)","v":{"$error":"#REF!"}},{"$f":"IF(+marzo!#REF!=\"\",\"\",marzo!#REF!)","v":{"$error":"#REF!"}},{"$f":"IF(+marzo!#REF!=\"\",\"\",marzo!#REF!)","v":{"$error":"#REF!"}},{"$f":"IF(+marzo!#REF!=\"\",\"\",marzo!#REF!)","v":{"$error":"#REF!"}},{"$f":"IF(+marzo!#REF!=\"\",\"\",marzo!#REF!)","v":{"$error":"#REF!"}},null,{"$f":"marzo!#REF!","v":{"$error":"#REF!"}},null,{"$f":"marzo!#REF!","v":{"$error":"#REF!"}},{"$f":"marzo!#REF!","v":{"$error":"#REF!"}},{"$f":"marzo!#REF!","v":{"$error":"#REF!"}},null,{"$f":"marzo!#REF!","v":{"$error":"#REF!"}},null,{"$f":"marzo!#REF!","v":{"$error":"#REF!"}},null,{"$f":"marzo!#REF!","v":{"$error":"#REF!"}},null,null,null,null,null,null,null,null,null,null,null,null,null,null,null,null,""]
[{"$f":"IF(+marzo!#REF!=\"\",\"\",marzo!#REF!)","v":{"$error":"#REF!"}},null,null,{"$f":"IF(+marzo!#REF!=\"\",\"\",marzo!#REF!)","v":{"$error":"#REF!"}},{"$f":"IF(+marzo!#REF!=\"\",\"\",marzo!#REF!)","v":{"$error":"#REF!"}},{"$f":"IF(+marzo!#REF!=\"\",\"\",marzo!#REF!)","v":{"$error":"#REF!"}},{"$f":"IF(+marzo!#REF!=\"\",\"\",marzo!#REF!)","v":{"$error":"#REF!"}},{"$f":"IF(+marzo!#REF!=\"\",\"\",marzo!#REF!)","v":{"$error":"#REF!"}},null,{"$f":"marzo!#REF!","v":{"$error":"#REF!"}},null,{"$f":"marzo!#REF!","v":{"$error":"#REF!"}},{"$f":"marzo!#REF!","v":{"$error":"#REF!"}},{"$f":"marzo!#REF!","v":{"$error":"#REF!"}},null,{"$f":"marzo!#REF!","v":{"$error":"#REF!"}},null,{"$f":"marzo!#REF!","v":{"$error":"#REF!"}},null,{"$f":"marzo!#REF!","v":{"$error":"#REF!"}},null,null,null,null,null,null,null,null,null,null,null,null,null,null,null,null,""]
[{"$f":"IF(+marzo!#REF!=\"\",\"\",marzo!#REF!)","v":{"$error":"#REF!"}},null,null,{"$f":"IF(+marzo!#REF!=\"\",\"\",marzo!#REF!)","v":{"$error":"#REF!"}},{"$f":"IF(+marzo!#REF!=\"\",\"\",marzo!#REF!)","v":{"$error":"#REF!"}},{"$f":"IF(+marzo!#REF!=\"\",\"\",marzo!#REF!)","v":{"$error":"#REF!"}},{"$f":"IF(+marzo!#REF!=\"\",\"\",marzo!#REF!)","v":{"$error":"#REF!"}},{"$f":"IF(+marzo!#REF!=\"\",\"\",marzo!#REF!)","v":{"$error":"#REF!"}},null,{"$f":"marzo!#REF!","v":{"$error":"#REF!"}},null,{"$f":"marzo!#REF!","v":{"$error":"#REF!"}},{"$f":"marzo!#REF!","v":{"$error":"#REF!"}},{"$f":"marzo!#REF!","v":{"$error":"#REF!"}},null,{"$f":"marzo!#REF!","v":{"$error":"#REF!"}},null,{"$f":"marzo!#REF!","v":{"$error":"#REF!"}},null,{"$f":"marzo!#REF!","v":{"$error":"#REF!"}},null,null,null,null,null,null,null,null,null,null,null,null,null,null,null,null,""]
[{"$f":"IF(+marzo!#REF!=\"\",\"\",marzo!#REF!)","v":{"$error":"#REF!"}},null,null,{"$f":"IF(+marzo!#REF!=\"\",\"\",marzo!#REF!)","v":{"$error":"#REF!"}},{"$f":"IF(+marzo!#REF!=\"\",\"\",marzo!#REF!)","v":{"$error":"#REF!"}},{"$f":"IF(+marzo!#REF!=\"\",\"\",marzo!#REF!)","v":{"$error":"#REF!"}},{"$f":"IF(+marzo!#REF!=\"\",\"\",marzo!#REF!)","v":{"$error":"#REF!"}},{"$f":"IF(+marzo!#REF!=\"\",\"\",marzo!#REF!)","v":{"$error":"#REF!"}},null,{"$f":"marzo!#REF!","v":{"$error":"#REF!"}},null,{"$f":"marzo!#REF!","v":{"$error":"#REF!"}},{"$f":"marzo!#REF!","v":{"$error":"#REF!"}},{"$f":"marzo!#REF!","v":{"$error":"#REF!"}},null,{"$f":"marzo!#REF!","v":{"$error":"#REF!"}},null,{"$f":"marzo!#REF!","v":{"$error":"#REF!"}},null,{"$f":"marzo!#REF!","v":{"$error":"#REF!"}},null,null,null,null,null,null,null,null,null,null,null,null,null,null,null,null,""]
[{"$f":"IF(+marzo!#REF!=\"\",\"\",marzo!#REF!)","v":{"$error":"#REF!"}},null,null,{"$f":"IF(+marzo!#REF!=\"\",\"\",marzo!#REF!)","v":{"$error":"#REF!"}},{"$f":"IF(+marzo!#REF!=\"\",\"\",marzo!#REF!)","v":{"$error":"#REF!"}},{"$f":"IF(+marzo!#REF!=\"\",\"\",marzo!#REF!)","v":{"$error":"#REF!"}},{"$f":"IF(+marzo!#REF!=\"\",\"\",marzo!#REF!)","v":{"$error":"#REF!"}},{"$f":"IF(+marzo!#REF!=\"\",\"\",marzo!#REF!)","v":{"$error":"#REF!"}},null,{"$f":"marzo!#REF!","v":{"$error":"#REF!"}},null,{"$f":"marzo!#REF!","v":{"$error":"#REF!"}},{"$f":"marzo!#REF!","v":{"$error":"#REF!"}},{"$f":"marzo!#REF!","v":{"$error":"#REF!"}},null,{"$f":"marzo!#REF!","v":{"$error":"#REF!"}},null,{"$f":"marzo!#REF!","v":{"$error":"#REF!"}},null,{"$f":"marzo!#REF!","v":{"$error":"#REF!"}},null,null,null,null,null,null,null,null,null,null,null,null,null,null,null,null,""]
[{"$f":"IF(+marzo!#REF!=\"\",\"\",marzo!#REF!)","v":{"$error":"#REF!"}},null,null,{"$f":"IF(+marzo!#REF!=\"\",\"\",marzo!#REF!)","v":{"$error":"#REF!"}},{"$f":"IF(+marzo!#REF!=\"\",\"\",marzo!#REF!)","v":{"$error":"#REF!"}},{"$f":"IF(+marzo!#REF!=\"\",\"\",marzo!#REF!)","v":{"$error":"#REF!"}},{"$f":"IF(+marzo!#REF!=\"\",\"\",marzo!#REF!)","v":{"$error":"#REF!"}},{"$f":"IF(+marzo!#REF!=\"\",\"\",marzo!#REF!)","v":{"$error":"#REF!"}},null,{"$f":"marzo!#REF!","v":{"$error":"#REF!"}},null,{"$f":"marzo!#REF!","v":{"$error":"#REF!"}},{"$f":"marzo!#REF!","v":{"$error":"#REF!"}},{"$f":"marzo!#REF!","v":{"$error":"#REF!"}},null,{"$f":"marzo!#REF!","v":{"$error":"#REF!"}},null,{"$f":"marzo!#REF!","v":{"$error":"#REF!"}},null,{"$f":"marzo!#REF!","v":{"$error":"#REF!"}},null,null,null,null,null,null,null,null,null,null,null,null,null,null,null,null,""]
[{"$f":"IF(+marzo!#REF!=\"\",\"\",marzo!#REF!)","v":{"$error":"#REF!"}},null,null,{"$f":"IF(+marzo!#REF!=\"\",\"\",marzo!#REF!)","v":{"$error":"#REF!"}},{"$f":"IF(+marzo!#REF!=\"\",\"\",marzo!#REF!)","v":{"$error":"#REF!"}},{"$f":"IF(+marzo!#REF!=\"\",\"\",marzo!#REF!)","v":{"$error":"#REF!"}},{"$f":"IF(+marzo!#REF!=\"\",\"\",marzo!#REF!)","v":{"$error":"#REF!"}},{"$f":"IF(+marzo!#REF!=\"\",\"\",marzo!#REF!)","v":{"$error":"#REF!"}},null,{"$f":"marzo!#REF!","v":{"$error":"#REF!"}},null,{"$f":"marzo!#REF!","v":{"$error":"#REF!"}},{"$f":"marzo!#REF!","v":{"$error":"#REF!"}},{"$f":"marzo!#REF!","v":{"$error":"#REF!"}},null,{"$f":"marzo!#REF!","v":{"$error":"#REF!"}},null,{"$f":"marzo!#REF!","v":{"$error":"#REF!"}},null,{"$f":"marzo!#REF!","v":{"$error":"#REF!"}},null,null,null,null,null,null,null,null,null,null,null,null,null,null,null,null,""]
[{"$f":"IF(+marzo!#REF!=\"\",\"\",marzo!#REF!)","v":{"$error":"#REF!"}},null,null,{"$f":"IF(+marzo!#REF!=\"\",\"\",marzo!#REF!)","v":{"$error":"#REF!"}},{"$f":"IF(+marzo!#REF!=\"\",\"\",marzo!#REF!)","v":{"$error":"#REF!"}},{"$f":"IF(+marzo!#REF!=\"\",\"\",marzo!#REF!)","v":{"$error":"#REF!"}},{"$f":"IF(+marzo!#REF!=\"\",\"\",marzo!#REF!)","v":{"$error":"#REF!"}},{"$f":"IF(+marzo!#REF!=\"\",\"\",marzo!#REF!)","v":{"$error":"#REF!"}},null,{"$f":"marzo!#REF!","v":{"$error":"#REF!"}},null,{"$f":"marzo!#REF!","v":{"$error":"#REF!"}},{"$f":"marzo!#REF!","v":{"$error":"#REF!"}},{"$f":"marzo!#REF!","v":{"$error":"#REF!"}},null,{"$f":"marzo!#REF!","v":{"$error":"#REF!"}},null,{"$f":"marzo!#REF!","v":{"$error":"#REF!"}},null,{"$f":"marzo!#REF!","v":{"$error":"#REF!"}},null,null,null,null,null,null,null,null,null,null,null,null,null,null,null,null,""]
[{"$f":"IF(+marzo!#REF!=\"\",\"\",marzo!#REF!)","v":{"$error":"#REF!"}},null,null,{"$f":"IF(+marzo!#REF!=\"\",\"\",marzo!#REF!)","v":{"$error":"#REF!"}},{"$f":"IF(+marzo!#REF!=\"\",\"\",marzo!#REF!)","v":{"$error":"#REF!"}},{"$f":"IF(+marzo!#REF!=\"\",\"\",marzo!#REF!)","v":{"$error":"#REF!"}},{"$f":"IF(+marzo!#REF!=\"\",\"\",marzo!#REF!)","v":{"$error":"#REF!"}},{"$f":"IF(+marzo!#REF!=\"\",\"\",marzo!#REF!)","v":{"$error":"#REF!"}},null,{"$f":"marzo!#REF!","v":{"$error":"#REF!"}},null,{"$f":"marzo!#REF!","v":{"$error":"#REF!"}},{"$f":"marzo!#REF!","v":{"$error":"#REF!"}},{"$f":"marzo!#REF!","v":{"$error":"#REF!"}},null,{"$f":"marzo!#REF!","v":{"$error":"#REF!"}},null,{"$f":"marzo!#REF!","v":{"$error":"#REF!"}},null,{"$f":"marzo!#REF!","v":{"$error":"#REF!"}},null,null,null,null,null,null,null,null,null,null,null,null,null,null,null,null,""]
[{"$f":"IF(+marzo!#REF!=\"\",\"\",marzo!#REF!)","v":{"$error":"#REF!"}},null,null,{"$f":"IF(+marzo!#REF!=\"\",\"\",marzo!#REF!)","v":{"$error":"#REF!"}},{"$f":"IF(+marzo!#REF!=\"\",\"\",marzo!#REF!)","v":{"$error":"#REF!"}},{"$f":"IF(+marzo!#REF!=\"\",\"\",marzo!#REF!)","v":{"$error":"#REF!"}},{"$f":"IF(+marzo!#REF!=\"\",\"\",marzo!#REF!)","v":{"$error":"#REF!"}},{"$f":"IF(+marzo!#REF!=\"\",\"\",marzo!#REF!)","v":{"$error":"#REF!"}},null,{"$f":"marzo!#REF!","v":{"$error":"#REF!"}},null,{"$f":"marzo!#REF!","v":{"$error":"#REF!"}},{"$f":"marzo!#REF!","v":{"$error":"#REF!"}},{"$f":"marzo!#REF!","v":{"$error":"#REF!"}},null,{"$f":"marzo!#REF!","v":{"$error":"#REF!"}},null,{"$f":"marzo!#REF!","v":{"$error":"#REF!"}},null,{"$f":"marzo!#REF!","v":{"$error":"#REF!"}},null,null,null,null,null,null,null,null,null,null,null,null,null,null,null,null,""]
[{"$f":"IF(+marzo!#REF!=\"\",\"\",marzo!#REF!)","v":{"$error":"#REF!"}},null,null,{"$f":"IF(+marzo!#REF!=\"\",\"\",marzo!#REF!)","v":{"$error":"#REF!"}},{"$f":"IF(+marzo!#REF!=\"\",\"\",marzo!#REF!)","v":{"$error":"#REF!"}},{"$f":"IF(+marzo!#REF!=\"\",\"\",marzo!#REF!)","v":{"$error":"#REF!"}},{"$f":"IF(+marzo!#REF!=\"\",\"\",marzo!#REF!)","v":{"$error":"#REF!"}},{"$f":"IF(+marzo!#REF!=\"\",\"\",marzo!#REF!)","v":{"$error":"#REF!"}},null,{"$f":"marzo!#REF!","v":{"$error":"#REF!"}},null,{"$f":"marzo!#REF!","v":{"$error":"#REF!"}},{"$f":"marzo!#REF!","v":{"$error":"#REF!"}},{"$f":"marzo!#REF!","v":{"$error":"#REF!"}},null,{"$f":"marzo!#REF!","v":{"$error":"#REF!"}},null,{"$f":"marzo!#REF!","v":{"$error":"#REF!"}},null,{"$f":"marzo!#REF!","v":{"$error":"#REF!"}},null,null,null,null,null,null,null,null,null,null,null,null,null,null,null,null,""]
[{"$f":"IF(+marzo!#REF!=\"\",\"\",marzo!#REF!)","v":{"$error":"#REF!"}},null,null,{"$f":"IF(+marzo!#REF!=\"\",\"\",marzo!#REF!)","v":{"$error":"#REF!"}},{"$f":"IF(+marzo!#REF!=\"\",\"\",marzo!#REF!)","v":{"$error":"#REF!"}},{"$f":"IF(+marzo!#REF!=\"\",\"\",marzo!#REF!)","v":{"$error":"#REF!"}},{"$f":"IF(+marzo!#REF!=\"\",\"\",marzo!#REF!)","v":{"$error":"#REF!"}},{"$f":"IF(+marzo!#REF!=\"\",\"\",marzo!#REF!)","v":{"$error":"#REF!"}},null,{"$f":"marzo!#REF!","v":{"$error":"#REF!"}},null,{"$f":"marzo!#REF!","v":{"$error":"#REF!"}},{"$f":"marzo!#REF!","v":{"$error":"#REF!"}},{"$f":"marzo!#REF!","v":{"$error":"#REF!"}},null,{"$f":"marzo!#REF!","v":{"$error":"#REF!"}},null,{"$f":"marzo!#REF!","v":{"$error":"#REF!"}},null,{"$f":"marzo!#REF!","v":{"$error":"#REF!"}},null,null,null,null,null,null,null,null,null,null,null,null,null,null,null,null,""]
[{"$f":"IF(+marzo!#REF!=\"\",\"\",marzo!#REF!)","v":{"$error":"#REF!"}},null,null,{"$f":"IF(+marzo!#REF!=\"\",\"\",marzo!#REF!)","v":{"$error":"#REF!"}},{"$f":"IF(+marzo!#REF!=\"\",\"\",marzo!#REF!)","v":{"$error":"#REF!"}},{"$f":"IF(+marzo!#REF!=\"\",\"\",marzo!#REF!)","v":{"$error":"#REF!"}},{"$f":"IF(+marzo!#REF!=\"\",\"\",marzo!#REF!)","v":{"$error":"#REF!"}},{"$f":"IF(+marzo!#REF!=\"\",\"\",marzo!#REF!)","v":{"$error":"#REF!"}},null,{"$f":"marzo!#REF!","v":{"$error":"#REF!"}},null,{"$f":"marzo!#REF!","v":{"$error":"#REF!"}},{"$f":"marzo!#REF!","v":{"$error":"#REF!"}},{"$f":"marzo!#REF!","v":{"$error":"#REF!"}},null,{"$f":"marzo!#REF!","v":{"$error":"#REF!"}},null,{"$f":"marzo!#REF!","v":{"$error":"#REF!"}},null,{"$f":"marzo!#REF!","v":{"$error":"#REF!"}},null,null,null,null,null,null,null,null,null,null,null,null,null,null,null,null,""]
[{"$f":"IF(+marzo!#REF!=\"\",\"\",marzo!#REF!)","v":{"$error":"#REF!"}},null,null,{"$f":"IF(+marzo!#REF!=\"\",\"\",marzo!#REF!)","v":{"$error":"#REF!"}},{"$f":"IF(+marzo!#REF!=\"\",\"\",marzo!#REF!)","v":{"$error":"#REF!"}},{"$f":"IF(+marzo!#REF!=\"\",\"\",marzo!#REF!)","v":{"$error":"#REF!"}},{"$f":"IF(+marzo!#REF!=\"\",\"\",marzo!#REF!)","v":{"$error":"#REF!"}},{"$f":"IF(+marzo!#REF!=\"\",\"\",marzo!#REF!)","v":{"$error":"#REF!"}},null,{"$f":"marzo!#REF!","v":{"$error":"#REF!"}},null,{"$f":"marzo!#REF!","v":{"$error":"#REF!"}},{"$f":"marzo!#REF!","v":{"$error":"#REF!"}},{"$f":"marzo!#REF!","v":{"$error":"#REF!"}},null,{"$f":"marzo!#REF!","v":{"$error":"#REF!"}},null,{"$f":"marzo!#REF!","v":{"$error":"#REF!"}},null,{"$f":"marzo!#REF!","v":{"$error":"#REF!"}},null,null,null,null,null,null,null,null,null,null,null,null,null,null,null,null,""]
[{"$f":"IF(+marzo!#REF!=\"\",\"\",marzo!#REF!)","v":{"$error":"#REF!"}},null,null,{"$f":"IF(+marzo!#REF!=\"\",\"\",marzo!#REF!)","v":{"$error":"#REF!"}},{"$f":"IF(+marzo!#REF!=\"\",\"\",marzo!#REF!)","v":{"$error":"#REF!"}},{"$f":"IF(+marzo!#REF!=\"\",\"\",marzo!#REF!)","v":{"$error":"#REF!"}},{"$f":"IF(+marzo!#REF!=\"\",\"\",marzo!#REF!)","v":{"$error":"#REF!"}},{"$f":"IF(+marzo!#REF!=\"\",\"\",marzo!#REF!)","v":{"$error":"#REF!"}},null,{"$f":"marzo!#REF!","v":{"$error":"#REF!"}},null,{"$f":"marzo!#REF!","v":{"$error":"#REF!"}},{"$f":"marzo!#REF!","v":{"$error":"#REF!"}},{"$f":"marzo!#REF!","v":{"$error":"#REF!"}},null,{"$f":"marzo!#REF!","v":{"$error":"#REF!"}},null,{"$f":"marzo!#REF!","v":{"$error":"#REF!"}},null,{"$f":"marzo!#REF!","v":{"$error":"#REF!"}},null,null,null,null,null,null,null,null,null,null,null,null,null,null,null,null,""]
[{"$f":"IF(+marzo!#REF!=\"\",\"\",marzo!#REF!)","v":{"$error":"#REF!"}},null,null,{"$f":"IF(+marzo!#REF!=\"\",\"\",marzo!#REF!)","v":{"$error":"#REF!"}},{"$f":"IF(+marzo!#REF!=\"\",\"\",marzo!#REF!)","v":{"$error":"#REF!"}},{"$f":"IF(+marzo!#REF!=\"\",\"\",marzo!#REF!)","v":{"$error":"#REF!"}},{"$f":"IF(+marzo!#REF!=\"\",\"\",marzo!#REF!)","v":{"$error":"#REF!"}},{"$f":"IF(+marzo!#REF!=\"\",\"\",marzo!#REF!)","v":{"$error":"#REF!"}},null,{"$f":"marzo!#REF!","v":{"$error":"#REF!"}},null,{"$f":"marzo!#REF!","v":{"$error":"#REF!"}},{"$f":"marzo!#REF!","v":{"$error":"#REF!"}},{"$f":"marzo!#REF!","v":{"$error":"#REF!"}},null,{"$f":"marzo!#REF!","v":{"$error":"#REF!"}},null,{"$f":"marzo!#REF!","v":{"$error":"#REF!"}},null,{"$f":"marzo!#REF!","v":{"$error":"#REF!"}},null,null,null,null,null,null,null,null,null,null,null,null,null,null,null,null,""]
[{"$f":"IF(+marzo!#REF!=\"\",\"\",marzo!#REF!)","v":{"$error":"#REF!"}},null,null,{"$f":"IF(+marzo!#REF!=\"\",\"\",marzo!#REF!)","v":{"$error":"#REF!"}},{"$f":"IF(+marzo!#REF!=\"\",\"\",marzo!#REF!)","v":{"$error":"#REF!"}},{"$f":"IF(+marzo!#REF!=\"\",\"\",marzo!#REF!)","v":{"$error":"#REF!"}},{"$f":"IF(+marzo!#REF!=\"\",\"\",marzo!#REF!)","v":{"$error":"#REF!"}},{"$f":"IF(+marzo!#REF!=\"\",\"\",marzo!#REF!)","v":{"$error":"#REF!"}},null,{"$f":"marzo!#REF!","v":{"$error":"#REF!"}},null,{"$f":"marzo!#REF!","v":{"$error":"#REF!"}},{"$f":"marzo!#REF!","v":{"$error":"#REF!"}},{"$f":"marzo!#REF!","v":{"$error":"#REF!"}},null,{"$f":"marzo!#REF!","v":{"$error":"#REF!"}},null,{"$f":"marzo!#REF!","v":{"$error":"#REF!"}},null,{"$f":"marzo!#REF!","v":{"$error":"#REF!"}},null,null,null,null,null,null,null,null,null,null,null,null,null,null,null,null,""]
[{"$f":"IF(+marzo!#REF!=\"\",\"\",marzo!#REF!)","v":{"$error":"#REF!"}},null,null,{"$f":"IF(+marzo!#REF!=\"\",\"\",marzo!#REF!)","v":{"$error":"#REF!"}},{"$f":"IF(+marzo!#REF!=\"\",\"\",marzo!#REF!)","v":{"$error":"#REF!"}},{"$f":"IF(+marzo!#REF!=\"\",\"\",marzo!#REF!)","v":{"$error":"#REF!"}},{"$f":"IF(+marzo!#REF!=\"\",\"\",marzo!#REF!)","v":{"$error":"#REF!"}},{"$f":"IF(+marzo!#REF!=\"\",\"\",marzo!#REF!)","v":{"$error":"#REF!"}},null,{"$f":"marzo!#REF!","v":{"$error":"#REF!"}},null,{"$f":"marzo!#REF!","v":{"$error":"#REF!"}},{"$f":"marzo!#REF!","v":{"$error":"#REF!"}},{"$f":"marzo!#REF!","v":{"$error":"#REF!"}},null,{"$f":"marzo!#REF!","v":{"$error":"#REF!"}},null,{"$f":"marzo!#REF!","v":{"$error":"#REF!"}},null,{"$f":"marzo!#REF!","v":{"$error":"#REF!"}},null,null,null,null,null,null,null,null,null,null,null,null,null,null,null,null,""]
[{"$f":"IF(+marzo!#REF!=\"\",\"\",marzo!#REF!)","v":{"$error":"#REF!"}},null,null,{"$f":"IF(+marzo!#REF!=\"\",\"\",marzo!#REF!)","v":{"$error":"#REF!"}},{"$f":"IF(+marzo!#REF!=\"\",\"\",marzo!#REF!)","v":{"$error":"#REF!"}},{"$f":"IF(+marzo!#REF!=\"\",\"\",marzo!#REF!)","v":{"$error":"#REF!"}},{"$f":"IF(+marzo!#REF!=\"\",\"\",marzo!#REF!)","v":{"$error":"#REF!"}},{"$f":"IF(+marzo!#REF!=\"\",\"\",marzo!#REF!)","v":{"$error":"#REF!"}},null,{"$f":"marzo!#REF!","v":{"$error":"#REF!"}},null,{"$f":"marzo!#REF!","v":{"$error":"#REF!"}},{"$f":"marzo!#REF!","v":{"$error":"#REF!"}},{"$f":"marzo!#REF!","v":{"$error":"#REF!"}},null,{"$f":"marzo!#REF!","v":{"$error":"#REF!"}},null,{"$f":"marzo!#REF!","v":{"$error":"#REF!"}},null,{"$f":"marzo!#REF!","v":{"$error":"#REF!"}},null,null,null,null,null,null,null,null,null,null,null,null,null,null,null,null,""]
[{"$f":"IF(+marzo!#REF!=\"\",\"\",marzo!#REF!)","v":{"$error":"#REF!"}},null,null,{"$f":"IF(+marzo!#REF!=\"\",\"\",marzo!#REF!)","v":{"$error":"#REF!"}},{"$f":"IF(+marzo!#REF!=\"\",\"\",marzo!#REF!)","v":{"$error":"#REF!"}},{"$f":"IF(+marzo!#REF!=\"\",\"\",marzo!#REF!)","v":{"$error":"#REF!"}},{"$f":"IF(+marzo!#REF!=\"\",\"\",marzo!#REF!)","v":{"$error":"#REF!"}},{"$f":"IF(+marzo!#REF!=\"\",\"\",marzo!#REF!)","v":{"$error":"#REF!"}},null,{"$f":"marzo!#REF!","v":{"$error":"#REF!"}},null,{"$f":"marzo!#REF!","v":{"$error":"#REF!"}},{"$f":"marzo!#REF!","v":{"$error":"#REF!"}},{"$f":"marzo!#REF!","v":{"$error":"#REF!"}},null,{"$f":"marzo!#REF!","v":{"$error":"#REF!"}},null,{"$f":"marzo!#REF!","v":{"$error":"#REF!"}},null,{"$f":"marzo!#REF!","v":{"$error":"#REF!"}},null,null,null,null,null,null,null,null,null,null,null,null,null,null,null,null,""]
[{"$f":"IF(+marzo!#REF!=\"\",\"\",marzo!#REF!)","v":{"$error":"#REF!"}},null,null,{"$f":"IF(+marzo!#REF!=\"\",\"\",marzo!#REF!)","v":{"$error":"#REF!"}},{"$f":"IF(+marzo!#REF!=\"\",\"\",marzo!#REF!)","v":{"$error":"#REF!"}},{"$f":"IF(+marzo!#REF!=\"\",\"\",marzo!#REF!)","v":{"$error":"#REF!"}},{"$f":"IF(+marzo!#REF!=\"\",\"\",marzo!#REF!)","v":{"$error":"#REF!"}},{"$f":"IF(+marzo!#REF!=\"\",\"\",marzo!#REF!)","v":{"$error":"#REF!"}},null,{"$f":"marzo!#REF!","v":{"$error":"#REF!"}},null,{"$f":"marzo!#REF!","v":{"$error":"#REF!"}},{"$f":"marzo!#REF!","v":{"$error":"#REF!"}},{"$f":"marzo!#REF!","v":{"$error":"#REF!"}},null,{"$f":"marzo!#REF!","v":{"$error":"#REF!"}},null,{"$f":"marzo!#REF!","v":{"$error":"#REF!"}},null,{"$f":"marzo!#REF!","v":{"$error":"#REF!"}},null,null,null,null,null,null,null,null,null,null,null,null,null,null,null,null,""]
[{"$f":"IF(+marzo!#REF!=\"\",\"\",marzo!#REF!)","v":{"$error":"#REF!"}},null,null,{"$f":"IF(+marzo!#REF!=\"\",\"\",marzo!#REF!)","v":{"$error":"#REF!"}},{"$f":"IF(+marzo!#REF!=\"\",\"\",marzo!#REF!)","v":{"$error":"#REF!"}},{"$f":"IF(+marzo!#REF!=\"\",\"\",marzo!#REF!)","v":{"$error":"#REF!"}},{"$f":"IF(+marzo!#REF!=\"\",\"\",marzo!#REF!)","v":{"$error":"#REF!"}},{"$f":"IF(+marzo!#REF!=\"\",\"\",marzo!#REF!)","v":{"$error":"#REF!"}},null,{"$f":"marzo!#REF!","v":{"$error":"#REF!"}},null,{"$f":"marzo!#REF!","v":{"$error":"#REF!"}},{"$f":"marzo!#REF!","v":{"$error":"#REF!"}},{"$f":"marzo!#REF!","v":{"$error":"#REF!"}},null,{"$f":"marzo!#REF!","v":{"$error":"#REF!"}},null,{"$f":"marzo!#REF!","v":{"$error":"#REF!"}},null,{"$f":"marzo!#REF!","v":{"$error":"#REF!"}},null,null,null,null,null,null,null,null,null,null,null,null,null,null,null,null,""]
[{"$f":"IF(+marzo!#REF!=\"\",\"\",marzo!#REF!)","v":{"$error":"#REF!"}},null,null,{"$f":"IF(+marzo!#REF!=\"\",\"\",marzo!#REF!)","v":{"$error":"#REF!"}},{"$f":"IF(+marzo!#REF!=\"\",\"\",marzo!#REF!)","v":{"$error":"#REF!"}},{"$f":"IF(+marzo!#REF!=\"\",\"\",marzo!#REF!)","v":{"$error":"#REF!"}},{"$f":"IF(+marzo!#REF!=\"\",\"\",marzo!#REF!)","v":{"$error":"#REF!"}},{"$f":"IF(+marzo!#REF!=\"\",\"\",marzo!#REF!)","v":{"$error":"#REF!"}},null,{"$f":"marzo!#REF!","v":{"$error":"#REF!"}},null,{"$f":"marzo!#REF!","v":{"$error":"#REF!"}},{"$f":"marzo!#REF!","v":{"$error":"#REF!"}},{"$f":"marzo!#REF!","v":{"$error":"#REF!"}},null,{"$f":"marzo!#REF!","v":{"$error":"#REF!"}},null,{"$f":"marzo!#REF!","v":{"$error":"#REF!"}},null,{"$f":"marzo!#REF!","v":{"$error":"#REF!"}},null,null,null,null,null,null,null,null,null,null,null,null,null,null,null,null,""]
[{"$f":"IF(+marzo!#REF!=\"\",\"\",marzo!#REF!)","v":{"$error":"#REF!"}},null,null,{"$f":"IF(+marzo!#REF!=\"\",\"\",marzo!#REF!)","v":{"$error":"#REF!"}},{"$f":"IF(+marzo!#REF!=\"\",\"\",marzo!#REF!)","v":{"$error":"#REF!"}},{"$f":"IF(+marzo!#REF!=\"\",\"\",marzo!#REF!)","v":{"$error":"#REF!"}},{"$f":"IF(+marzo!#REF!=\"\",\"\",marzo!#REF!)","v":{"$error":"#REF!"}},{"$f":"IF(+marzo!#REF!=\"\",\"\",marzo!#REF!)","v":{"$error":"#REF!"}},null,{"$f":"marzo!#REF!","v":{"$error":"#REF!"}},null,{"$f":"marzo!#REF!","v":{"$error":"#REF!"}},{"$f":"marzo!#REF!","v":{"$error":"#REF!"}},{"$f":"marzo!#REF!","v":{"$error":"#REF!"}},null,{"$f":"marzo!#REF!","v":{"$error":"#REF!"}},null,{"$f":"marzo!#REF!","v":{"$error":"#REF!"}},null,{"$f":"marzo!#REF!","v":{"$error":"#REF!"}},null,null,null,null,null,null,null,null,null,null,null,null,null,null,null,null,""]
[{"$f":"IF(+marzo!#REF!=\"\",\"\",marzo!#REF!)","v":{"$error":"#REF!"}},null,null,{"$f":"IF(+marzo!#REF!=\"\",\"\",marzo!#REF!)","v":{"$error":"#REF!"}},{"$f":"IF(+marzo!#REF!=\"\",\"\",marzo!#REF!)","v":{"$error":"#REF!"}},{"$f":"IF(+marzo!#REF!=\"\",\"\",marzo!#REF!)","v":{"$error":"#REF!"}},{"$f":"IF(+marzo!#REF!=\"\",\"\",marzo!#REF!)","v":{"$error":"#REF!"}},{"$f":"IF(+marzo!#REF!=\"\",\"\",marzo!#REF!)","v":{"$error":"#REF!"}},null,{"$f":"marzo!#REF!","v":{"$error":"#REF!"}},null,{"$f":"marzo!#REF!","v":{"$error":"#REF!"}},{"$f":"marzo!#REF!","v":{"$error":"#REF!"}},{"$f":"marzo!#REF!","v":{"$error":"#REF!"}},null,{"$f":"marzo!#REF!","v":{"$error":"#REF!"}},null,{"$f":"marzo!#REF!","v":{"$error":"#REF!"}},null,{"$f":"marzo!#REF!","v":{"$error":"#REF!"}},null,null,null,null,null,null,null,null,null,null,null,null,null,null,null,null,""]
[{"$f":"IF(+marzo!#REF!=\"\",\"\",marzo!#REF!)","v":{"$error":"#REF!"}},null,null,{"$f":"IF(+marzo!#REF!=\"\",\"\",marzo!#REF!)","v":{"$error":"#REF!"}},{"$f":"IF(+marzo!#REF!=\"\",\"\",marzo!#REF!)","v":{"$error":"#REF!"}},{"$f":"IF(+marzo!#REF!=\"\",\"\",marzo!#REF!)","v":{"$error":"#REF!"}},{"$f":"IF(+marzo!#REF!=\"\",\"\",marzo!#REF!)","v":{"$error":"#REF!"}},{"$f":"IF(+marzo!#REF!=\"\",\"\",marzo!#REF!)","v":{"$error":"#REF!"}},null,{"$f":"marzo!#REF!","v":{"$error":"#REF!"}},null,{"$f":"marzo!#REF!","v":{"$error":"#REF!"}},{"$f":"marzo!#REF!","v":{"$error":"#REF!"}},{"$f":"marzo!#REF!","v":{"$error":"#REF!"}},null,{"$f":"marzo!#REF!","v":{"$error":"#REF!"}},null,{"$f":"marzo!#REF!","v":{"$error":"#REF!"}},null,{"$f":"marzo!#REF!","v":{"$error":"#REF!"}},null,null,null,null,null,null,null,null,null,null,null,null,null,null,null,null,""]
[{"$f":"IF(+marzo!#REF!=\"\",\"\",marzo!#REF!)","v":{"$error":"#REF!"}},null,null,{"$f":"IF(+marzo!#REF!=\"\",\"\",marzo!#REF!)","v":{"$error":"#REF!"}},{"$f":"IF(+marzo!#REF!=\"\",\"\",marzo!#REF!)","v":{"$error":"#REF!"}},{"$f":"IF(+marzo!#REF!=\"\",\"\",marzo!#REF!)","v":{"$error":"#REF!"}},{"$f":"IF(+marzo!#REF!=\"\",\"\",marzo!#REF!)","v":{"$error":"#REF!"}},{"$f":"IF(+marzo!#REF!=\"\",\"\",marzo!#REF!)","v":{"$error":"#REF!"}},null,{"$f":"marzo!#REF!","v":{"$error":"#REF!"}},null,{"$f":"marzo!#REF!","v":{"$error":"#REF!"}},{"$f":"marzo!#REF!","v":{"$error":"#REF!"}},{"$f":"marzo!#REF!","v":{"$error":"#REF!"}},null,{"$f":"marzo!#REF!","v":{"$error":"#REF!"}},null,{"$f":"marzo!#REF!","v":{"$error":"#REF!"}},null,{"$f":"marzo!#REF!","v":{"$error":"#REF!"}},null,null,null,null,null,null,null,null,null,null,null,null,null,null,null,null,""]
[{"$f":"IF(+marzo!#REF!=\"\",\"\",marzo!#REF!)","v":{"$error":"#REF!"}},null,null,{"$f":"IF(+marzo!#REF!=\"\",\"\",marzo!#REF!)","v":{"$error":"#REF!"}},{"$f":"IF(+marzo!#REF!=\"\",\"\",marzo!#REF!)","v":{"$error":"#REF!"}},{"$f":"IF(+marzo!#REF!=\"\",\"\",marzo!#REF!)","v":{"$error":"#REF!"}},{"$f":"IF(+marzo!#REF!=\"\",\"\",marzo!#REF!)","v":{"$error":"#REF!"}},{"$f":"IF(+marzo!#REF!=\"\",\"\",marzo!#REF!)","v":{"$error":"#REF!"}},null,{"$f":"marzo!#REF!","v":{"$error":"#REF!"}},null,{"$f":"marzo!#REF!","v":{"$error":"#REF!"}},{"$f":"marzo!#REF!","v":{"$error":"#REF!"}},{"$f":"marzo!#REF!","v":{"$error":"#REF!"}},null,{"$f":"marzo!#REF!","v":{"$error":"#REF!"}},null,{"$f":"marzo!#REF!","v":{"$error":"#REF!"}},null,{"$f":"marzo!#REF!","v":{"$error":"#REF!"}},null,null,null,null,null,null,null,null,null,null,null,null,null,null,null,null,""]
[{"$f":"IF(+marzo!#REF!=\"\",\"\",marzo!#REF!)","v":{"$error":"#REF!"}},null,null,{"$f":"IF(+marzo!#REF!=\"\",\"\",marzo!#REF!)","v":{"$error":"#REF!"}},{"$f":"IF(+marzo!#REF!=\"\",\"\",marzo!#REF!)","v":{"$error":"#REF!"}},{"$f":"IF(+marzo!#REF!=\"\",\"\",marzo!#REF!)","v":{"$error":"#REF!"}},{"$f":"IF(+marzo!#REF!=\"\",\"\",marzo!#REF!)","v":{"$error":"#REF!"}},{"$f":"IF(+marzo!#REF!=\"\",\"\",marzo!#REF!)","v":{"$error":"#REF!"}},null,{"$f":"marzo!#REF!","v":{"$error":"#REF!"}},null,{"$f":"marzo!#REF!","v":{"$error":"#REF!"}},{"$f":"marzo!#REF!","v":{"$error":"#REF!"}},{"$f":"marzo!#REF!","v":{"$error":"#REF!"}},null,{"$f":"marzo!#REF!","v":{"$error":"#REF!"}},null,{"$f":"marzo!#REF!","v":{"$error":"#REF!"}},null,{"$f":"marzo!#REF!","v":{"$error":"#REF!"}},null,null,null,null,null,null,null,null,null,null,null,null,null,null,null,null,""]
[{"$f":"IF(+marzo!#REF!=\"\",\"\",marzo!#REF!)","v":{"$error":"#REF!"}},null,null,{"$f":"IF(+marzo!#REF!=\"\",\"\",marzo!#REF!)","v":{"$error":"#REF!"}},{"$f":"IF(+marzo!#REF!=\"\",\"\",marzo!#REF!)","v":{"$error":"#REF!"}},{"$f":"IF(+marzo!#REF!=\"\",\"\",marzo!#REF!)","v":{"$error":"#REF!"}},{"$f":"IF(+marzo!#REF!=\"\",\"\",marzo!#REF!)","v":{"$error":"#REF!"}},{"$f":"IF(+marzo!#REF!=\"\",\"\",marzo!#REF!)","v":{"$error":"#REF!"}},null,{"$f":"marzo!#REF!","v":{"$error":"#REF!"}},null,{"$f":"marzo!#REF!","v":{"$error":"#REF!"}},{"$f":"marzo!#REF!","v":{"$error":"#REF!"}},{"$f":"marzo!#REF!","v":{"$error":"#REF!"}},null,{"$f":"marzo!#REF!","v":{"$error":"#REF!"}},null,{"$f":"marzo!#REF!","v":{"$error":"#REF!"}},null,{"$f":"marzo!#REF!","v":{"$error":"#REF!"}},null,null,null,null,null,null,null,null,null,null,null,null,null,null,null,null,""]
[{"$f":"IF(+marzo!#REF!=\"\",\"\",marzo!#REF!)","v":{"$error":"#REF!"}},null,null,{"$f":"IF(+marzo!#REF!=\"\",\"\",marzo!#REF!)","v":{"$error":"#REF!"}},{"$f":"IF(+marzo!#REF!=\"\",\"\",marzo!#REF!)","v":{"$error":"#REF!"}},{"$f":"IF(+marzo!#REF!=\"\",\"\",marzo!#REF!)","v":{"$error":"#REF!"}},{"$f":"IF(+marzo!#REF!=\"\",\"\",marzo!#REF!)","v":{"$error":"#REF!"}},{"$f":"IF(+marzo!#REF!=\"\",\"\",marzo!#REF!)","v":{"$error":"#REF!"}},null,{"$f":"marzo!#REF!","v":{"$error":"#REF!"}},null,{"$f":"marzo!#REF!","v":{"$error":"#REF!"}},{"$f":"marzo!#REF!","v":{"$error":"#REF!"}},{"$f":"marzo!#REF!","v":{"$error":"#REF!"}},null,{"$f":"marzo!#REF!","v":{"$error":"#REF!"}},null,{"$f":"marzo!#REF!","v":{"$error":"#REF!"}},null,{"$f":"marzo!#REF!","v":{"$error":"#REF!"}},null,null,null,null,null,null,null,null,null,null,null,null,null,null,null,null,""]
[{"$f":"IF(+marzo!#REF!=\"\",\"\",marzo!#REF!)","v":{"$error":"#REF!"}},null,null,{"$f":"IF(+marzo!#REF!=\"\",\"\",marzo!#REF!)","v":{"$error":"#REF!"}},{"$f":"IF(+marzo!#REF!=\"\",\"\",marzo!#REF!)","v":{"$error":"#REF!"}},{"$f":"IF(+marzo!#REF!=\"\",\"\",marzo!#REF!)","v":{"$error":"#REF!"}},{"$f":"IF(+marzo!#REF!=\"\",\"\",marzo!#REF!)","v":{"$error":"#REF!"}},{"$f":"IF(+marzo!#REF!=\"\",\"\",marzo!#REF!)","v":{"$error":"#REF!"}},null,{"$f":"marzo!#REF!","v":{"$error":"#REF!"}},null,{"$f":"marzo!#REF!","v":{"$error":"#REF!"}},{"$f":"marzo!#REF!","v":{"$error":"#REF!"}},{"$f":"marzo!#REF!","v":{"$error":"#REF!"}},null,{"$f":"marzo!#REF!","v":{"$error":"#REF!"}},null,{"$f":"marzo!#REF!","v":{"$error":"#REF!"}},null,{"$f":"marzo!#REF!","v":{"$error":"#REF!"}},null,null,null,null,null,null,null,null,null,null,null,null,null,null,null,null,""]
[{"$f":"IF(+marzo!#REF!=\"\",\"\",marzo!#REF!)","v":{"$error":"#REF!"}},null,null,{"$f":"IF(+marzo!#REF!=\"\",\"\",marzo!#REF!)","v":{"$error":"#REF!"}},{"$f":"IF(+marzo!#REF!=\"\",\"\",marzo!#REF!)","v":{"$error":"#REF!"}},{"$f":"IF(+marzo!#REF!=\"\",\"\",marzo!#REF!)","v":{"$error":"#REF!"}},{"$f":"IF(+marzo!#REF!=\"\",\"\",marzo!#REF!)","v":{"$error":"#REF!"}},{"$f":"IF(+marzo!#REF!=\"\",\"\",marzo!#REF!)","v":{"$error":"#REF!"}},null,{"$f":"marzo!#REF!","v":{"$error":"#REF!"}},null,{"$f":"marzo!#REF!","v":{"$error":"#REF!"}},{"$f":"marzo!#REF!","v":{"$error":"#REF!"}},{"$f":"marzo!#REF!","v":{"$error":"#REF!"}},null,{"$f":"marzo!#REF!","v":{"$error":"#REF!"}},null,{"$f":"marzo!#REF!","v":{"$error":"#REF!"}},null,{"$f":"marzo!#REF!","v":{"$error":"#REF!"}},null,null,null,null,null,null,null,null,null,null,null,null,null,null,null,null,""]
[{"$f":"IF(+marzo!#REF!=\"\",\"\",marzo!#REF!)","v":{"$error":"#REF!"}},null,null,{"$f":"IF(+marzo!#REF!=\"\",\"\",marzo!#REF!)","v":{"$error":"#REF!"}},{"$f":"IF(+marzo!#REF!=\"\",\"\",marzo!#REF!)","v":{"$error":"#REF!"}},{"$f":"IF(+marzo!#REF!=\"\",\"\",marzo!#REF!)","v":{"$error":"#REF!"}},{"$f":"IF(+marzo!#REF!=\"\",\"\",marzo!#REF!)","v":{"$error":"#REF!"}},{"$f":"IF(+marzo!#REF!=\"\",\"\",marzo!#REF!)","v":{"$error":"#REF!"}},null,{"$f":"marzo!#REF!","v":{"$error":"#REF!"}},null,{"$f":"marzo!#REF!","v":{"$error":"#REF!"}},{"$f":"marzo!#REF!","v":{"$error":"#REF!"}},{"$f":"marzo!#REF!","v":{"$error":"#REF!"}},null,{"$f":"marzo!#REF!","v":{"$error":"#REF!"}},null,{"$f":"marzo!#REF!","v":{"$error":"#REF!"}},null,{"$f":"marzo!#REF!","v":{"$error":"#REF!"}},null,null,null,null,null,null,null,null,null,null,null,null,null,null,null,null,""]
[{"$f":"IF(+marzo!#REF!=\"\",\"\",marzo!#REF!)","v":{"$error":"#REF!"}},null,null,{"$f":"IF(+marzo!#REF!=\"\",\"\",marzo!#REF!)","v":{"$error":"#REF!"}},{"$f":"IF(+marzo!#REF!=\"\",\"\",marzo!#REF!)","v":{"$error":"#REF!"}},{"$f":"IF(+marzo!#REF!=\"\",\"\",marzo!#REF!)","v":{"$error":"#REF!"}},{"$f":"IF(+marzo!#REF!=\"\",\"\",marzo!#REF!)","v":{"$error":"#REF!"}},{"$f":"IF(+marzo!#REF!=\"\",\"\",marzo!#REF!)","v":{"$error":"#REF!"}},null,{"$f":"marzo!#REF!","v":{"$error":"#REF!"}},null,{"$f":"marzo!#REF!","v":{"$error":"#REF!"}},{"$f":"marzo!#REF!","v":{"$error":"#REF!"}},{"$f":"marzo!#REF!","v":{"$error":"#REF!"}},null,{"$f":"marzo!#REF!","v":{"$error":"#REF!"}},null,{"$f":"marzo!#REF!","v":{"$error":"#REF!"}},null,{"$f":"marzo!#REF!","v":{"$error":"#REF!"}},null,null,null,null,null,null,null,null,null,null,null,null,null,null,null,null,""]
[{"$f":"IF(+marzo!#REF!=\"\",\"\",marzo!#REF!)","v":{"$error":"#REF!"}},null,null,{"$f":"IF(+marzo!#REF!=\"\",\"\",marzo!#REF!)","v":{"$error":"#REF!"}},{"$f":"IF(+marzo!#REF!=\"\",\"\",marzo!#REF!)","v":{"$error":"#REF!"}},{"$f":"IF(+marzo!#REF!=\"\",\"\",marzo!#REF!)","v":{"$error":"#REF!"}},{"$f":"IF(+marzo!#REF!=\"\",\"\",marzo!#REF!)","v":{"$error":"#REF!"}},{"$f":"IF(+marzo!#REF!=\"\",\"\",marzo!#REF!)","v":{"$error":"#REF!"}},null,{"$f":"marzo!#REF!","v":{"$error":"#REF!"}},null,{"$f":"marzo!#REF!","v":{"$error":"#REF!"}},{"$f":"marzo!#REF!","v":{"$error":"#REF!"}},{"$f":"marzo!#REF!","v":{"$error":"#REF!"}},null,{"$f":"marzo!#REF!","v":{"$error":"#REF!"}},null,{"$f":"marzo!#REF!","v":{"$error":"#REF!"}},null,{"$f":"marzo!#REF!","v":{"$error":"#REF!"}},null,null,null,null,null,null,null,null,null,null,null,null,null,null,null,null,""]
[{"$f":"IF(+marzo!#REF!=\"\",\"\",marzo!#REF!)","v":{"$error":"#REF!"}},null,null,{"$f":"IF(+marzo!#REF!=\"\",\"\",marzo!#REF!)","v":{"$error":"#REF!"}},{"$f":"IF(+marzo!#REF!=\"\",\"\",marzo!#REF!)","v":{"$error":"#REF!"}},{"$f":"IF(+marzo!#REF!=\"\",\"\",marzo!#REF!)","v":{"$error":"#REF!"}},{"$f":"IF(+marzo!#REF!=\"\",\"\",marzo!#REF!)","v":{"$error":"#REF!"}},{"$f":"IF(+marzo!#REF!=\"\",\"\",marzo!#REF!)","v":{"$error":"#REF!"}},null,{"$f":"marzo!#REF!","v":{"$error":"#REF!"}},null,{"$f":"marzo!#REF!","v":{"$error":"#REF!"}},{"$f":"marzo!#REF!","v":{"$error":"#REF!"}},{"$f":"marzo!#REF!","v":{"$error":"#REF!"}},null,{"$f":"marzo!#REF!","v":{"$error":"#REF!"}},null,{"$f":"marzo!#REF!","v":{"$error":"#REF!"}},null,{"$f":"marzo!#REF!","v":{"$error":"#REF!"}},null,null,null,null,null,null,null,null,null,null,null,null,null,null,null,null,""]
[{"$f":"IF(+marzo!#REF!=\"\",\"\",marzo!#REF!)","v":{"$error":"#REF!"}},null,null,{"$f":"IF(+marzo!#REF!=\"\",\"\",marzo!#REF!)","v":{"$error":"#REF!"}},{"$f":"IF(+marzo!#REF!=\"\",\"\",marzo!#REF!)","v":{"$error":"#REF!"}},{"$f":"IF(+marzo!#REF!=\"\",\"\",marzo!#REF!)","v":{"$error":"#REF!"}},{"$f":"IF(+marzo!#REF!=\"\",\"\",marzo!#REF!)","v":{"$error":"#REF!"}},{"$f":"IF(+marzo!#REF!=\"\",\"\",marzo!#REF!)","v":{"$error":"#REF!"}},null,{"$f":"marzo!#REF!","v":{"$error":"#REF!"}},null,{"$f":"marzo!#REF!","v":{"$error":"#REF!"}},{"$f":"marzo!#REF!","v":{"$error":"#REF!"}},{"$f":"marzo!#REF!","v":{"$error":"#REF!"}},null,{"$f":"marzo!#REF!","v":{"$error":"#REF!"}},null,{"$f":"marzo!#REF!","v":{"$error":"#REF!"}},null,{"$f":"marzo!#REF!","v":{"$error":"#REF!"}},null,null,null,null,null,null,null,null,null,null,null,null,null,null,null,null,""]
[{"$f":"IF(+marzo!#REF!=\"\",\"\",marzo!#REF!)","v":{"$error":"#REF!"}},null,null,{"$f":"IF(+marzo!#REF!=\"\",\"\",marzo!#REF!)","v":{"$error":"#REF!"}},{"$f":"IF(+marzo!#REF!=\"\",\"\",marzo!#REF!)","v":{"$error":"#REF!"}},{"$f":"IF(+marzo!#REF!=\"\",\"\",marzo!#REF!)","v":{"$error":"#REF!"}},{"$f":"IF(+marzo!#REF!=\"\",\"\",marzo!#REF!)","v":{"$error":"#REF!"}},{"$f":"IF(+marzo!#REF!=\"\",\"\",marzo!#REF!)","v":{"$error":"#REF!"}},null,{"$f":"marzo!#REF!","v":{"$error":"#REF!"}},null,{"$f":"marzo!#REF!","v":{"$error":"#REF!"}},{"$f":"marzo!#REF!","v":{"$error":"#REF!"}},{"$f":"marzo!#REF!","v":{"$error":"#REF!"}},null,{"$f":"marzo!#REF!","v":{"$error":"#REF!"}},null,{"$f":"marzo!#REF!","v":{"$error":"#REF!"}},null,{"$f":"marzo!#REF!","v":{"$error":"#REF!"}},null,null,null,null,null,null,null,null,null,null,null,null,null,null,null,null,""]
[{"$f":"IF(+marzo!#REF!=\"\",\"\",marzo!#REF!)","v":{"$error":"#REF!"}},null,null,{"$f":"IF(+marzo!#REF!=\"\",\"\",marzo!#REF!)","v":{"$error":"#REF!"}},{"$f":"IF(+marzo!#REF!=\"\",\"\",marzo!#REF!)","v":{"$error":"#REF!"}},{"$f":"IF(+marzo!#REF!=\"\",\"\",marzo!#REF!)","v":{"$error":"#REF!"}},{"$f":"IF(+marzo!#REF!=\"\",\"\",marzo!#REF!)","v":{"$error":"#REF!"}},{"$f":"IF(+marzo!#REF!=\"\",\"\",marzo!#REF!)","v":{"$error":"#REF!"}},null,{"$f":"marzo!#REF!","v":{"$error":"#REF!"}},null,{"$f":"marzo!#REF!","v":{"$error":"#REF!"}},{"$f":"marzo!#REF!","v":{"$error":"#REF!"}},{"$f":"marzo!#REF!","v":{"$error":"#REF!"}},null,{"$f":"marzo!#REF!","v":{"$error":"#REF!"}},null,{"$f":"marzo!#REF!","v":{"$error":"#REF!"}},null,{"$f":"marzo!#REF!","v":{"$error":"#REF!"}},null,null,null,null,null,null,null,null,null,null,null,null,null,null,null,null,""]
[{"$f":"IF(+marzo!#REF!=\"\",\"\",marzo!#REF!)","v":{"$error":"#REF!"}},null,null,{"$f":"IF(+marzo!#REF!=\"\",\"\",marzo!#REF!)","v":{"$error":"#REF!"}},{"$f":"IF(+marzo!#REF!=\"\",\"\",marzo!#REF!)","v":{"$error":"#REF!"}},{"$f":"IF(+marzo!#REF!=\"\",\"\",marzo!#REF!)","v":{"$error":"#REF!"}},{"$f":"IF(+marzo!#REF!=\"\",\"\",marzo!#REF!)","v":{"$error":"#REF!"}},{"$f":"IF(+marzo!#REF!=\"\",\"\",marzo!#REF!)","v":{"$error":"#REF!"}},null,{"$f":"marzo!#REF!","v":{"$error":"#REF!"}},null,{"$f":"marzo!#REF!","v":{"$error":"#REF!"}},{"$f":"marzo!#REF!","v":{"$error":"#REF!"}},{"$f":"marzo!#REF!","v":{"$error":"#REF!"}},null,{"$f":"marzo!#REF!","v":{"$error":"#REF!"}},null,{"$f":"marzo!#REF!","v":{"$error":"#REF!"}},null,{"$f":"marzo!#REF!","v":{"$error":"#REF!"}},null,null,null,null,null,null,null,null,null,null,null,null,null,null,null,null,""]
[{"$f":"IF(+marzo!#REF!=\"\",\"\",marzo!#REF!)","v":{"$error":"#REF!"}},null,null,{"$f":"IF(+marzo!#REF!=\"\",\"\",marzo!#REF!)","v":{"$error":"#REF!"}},{"$f":"IF(+marzo!#REF!=\"\",\"\",marzo!#REF!)","v":{"$error":"#REF!"}},{"$f":"IF(+marzo!#REF!=\"\",\"\",marzo!#REF!)","v":{"$error":"#REF!"}},{"$f":"IF(+marzo!#REF!=\"\",\"\",marzo!#REF!)","v":{"$error":"#REF!"}},{"$f":"IF(+marzo!#REF!=\"\",\"\",marzo!#REF!)","v":{"$error":"#REF!"}},null,{"$f":"marzo!#REF!","v":{"$error":"#REF!"}},null,{"$f":"marzo!#REF!","v":{"$error":"#REF!"}},{"$f":"marzo!#REF!","v":{"$error":"#REF!"}},{"$f":"marzo!#REF!","v":{"$error":"#REF!"}},null,{"$f":"marzo!#REF!","v":{"$error":"#REF!"}},null,{"$f":"marzo!#REF!","v":{"$error":"#REF!"}},null,{"$f":"marzo!#REF!","v":{"$error":"#REF!"}},null,null,null,null,null,null,null,null,null,null,null,null,null,null,null,null,""]
[{"$f":"IF(+marzo!#REF!=\"\",\"\",marzo!#REF!)","v":{"$error":"#REF!"}},null,null,{"$f":"IF(+marzo!#REF!=\"\",\"\",marzo!#REF!)","v":{"$error":"#REF!"}},{"$f":"IF(+marzo!#REF!=\"\",\"\",marzo!#REF!)","v":{"$error":"#REF!"}},{"$f":"IF(+marzo!#REF!=\"\",\"\",marzo!#REF!)","v":{"$error":"#REF!"}},{"$f":"IF(+marzo!#REF!=\"\",\"\",marzo!#REF!)","v":{"$error":"#REF!"}},{"$f":"IF(+marzo!#REF!=\"\",\"\",marzo!#REF!)","v":{"$error":"#REF!"}},null,{"$f":"marzo!#REF!","v":{"$error":"#REF!"}},null,{"$f":"marzo!#REF!","v":{"$error":"#REF!"}},{"$f":"marzo!#REF!","v":{"$error":"#REF!"}},{"$f":"marzo!#REF!","v":{"$error":"#REF!"}},null,{"$f":"marzo!#REF!","v":{"$error":"#REF!"}},null,{"$f":"marzo!#REF!","v":{"$error":"#REF!"}},null,{"$f":"marzo!#REF!","v":{"$error":"#REF!"}},null,null,null,null,null,null,null,null,null,null,null,null,null,null,null,null,""]
[{"$f":"IF(+marzo!#REF!=\"\",\"\",marzo!#REF!)","v":{"$error":"#REF!"}},null,null,{"$f":"IF(+marzo!#REF!=\"\",\"\",marzo!#REF!)","v":{"$error":"#REF!"}},{"$f":"IF(+marzo!#REF!=\"\",\"\",marzo!#REF!)","v":{"$error":"#REF!"}},{"$f":"IF(+marzo!#REF!=\"\",\"\",marzo!#REF!)","v":{"$error":"#REF!"}},{"$f":"IF(+marzo!#REF!=\"\",\"\",marzo!#REF!)","v":{"$error":"#REF!"}},{"$f":"IF(+marzo!#REF!=\"\",\"\",marzo!#REF!)","v":{"$error":"#REF!"}},null,{"$f":"marzo!#REF!","v":{"$error":"#REF!"}},null,{"$f":"marzo!#REF!","v":{"$error":"#REF!"}},{"$f":"marzo!#REF!","v":{"$error":"#REF!"}},{"$f":"marzo!#REF!","v":{"$error":"#REF!"}},null,{"$f":"marzo!#REF!","v":{"$error":"#REF!"}},null,{"$f":"marzo!#REF!","v":{"$error":"#REF!"}},null,{"$f":"marzo!#REF!","v":{"$error":"#REF!"}},null,null,null,null,null,null,null,null,null,null,null,null,null,null,null,null,""]
[{"$f":"IF(+marzo!#REF!=\"\",\"\",marzo!#REF!)","v":{"$error":"#REF!"}},null,null,{"$f":"IF(+marzo!#REF!=\"\",\"\",marzo!#REF!)","v":{"$error":"#REF!"}},{"$f":"IF(+marzo!#REF!=\"\",\"\",marzo!#REF!)","v":{"$error":"#REF!"}},{"$f":"IF(+marzo!#REF!=\"\",\"\",marzo!#REF!)","v":{"$error":"#REF!"}},{"$f":"IF(+marzo!#REF!=\"\",\"\",marzo!#REF!)","v":{"$error":"#REF!"}},{"$f":"IF(+marzo!#REF!=\"\",\"\",marzo!#REF!)","v":{"$error":"#REF!"}},null,{"$f":"marzo!#REF!","v":{"$error":"#REF!"}},null,{"$f":"marzo!#REF!","v":{"$error":"#REF!"}},{"$f":"marzo!#REF!","v":{"$error":"#REF!"}},{"$f":"marzo!#REF!","v":{"$error":"#REF!"}},null,{"$f":"marzo!#REF!","v":{"$error":"#REF!"}},null,{"$f":"marzo!#REF!","v":{"$error":"#REF!"}},null,{"$f":"marzo!#REF!","v":{"$error":"#REF!"}},null,null,null,null,null,null,null,null,null,null,null,null,null,null,null,null,""]
[{"$f":"IF(+marzo!#REF!=\"\",\"\",marzo!#REF!)","v":{"$error":"#REF!"}},null,null,{"$f":"IF(+marzo!#REF!=\"\",\"\",marzo!#REF!)","v":{"$error":"#REF!"}},{"$f":"IF(+marzo!#REF!=\"\",\"\",marzo!#REF!)","v":{"$error":"#REF!"}},{"$f":"IF(+marzo!#REF!=\"\",\"\",marzo!#REF!)","v":{"$error":"#REF!"}},{"$f":"IF(+marzo!#REF!=\"\",\"\",marzo!#REF!)","v":{"$error":"#REF!"}},{"$f":"IF(+marzo!#REF!=\"\",\"\",marzo!#REF!)","v":{"$error":"#REF!"}},null,{"$f":"marzo!#REF!","v":{"$error":"#REF!"}},null,{"$f":"marzo!#REF!","v":{"$error":"#REF!"}},{"$f":"marzo!#REF!","v":{"$error":"#REF!"}},{"$f":"marzo!#REF!","v":{"$error":"#REF!"}},null,{"$f":"marzo!#REF!","v":{"$error":"#REF!"}},null,{"$f":"marzo!#REF!","v":{"$error":"#REF!"}},null,{"$f":"marzo!#REF!","v":{"$error":"#REF!"}},null,null,null,null,null,null,null,null,null,null,null,null,null,null,null,null,""]
[{"$f":"IF(+marzo!#REF!=\"\",\"\",marzo!#REF!)","v":{"$error":"#REF!"}},null,null,{"$f":"IF(+marzo!#REF!=\"\",\"\",marzo!#REF!)","v":{"$error":"#REF!"}},{"$f":"IF(+marzo!#REF!=\"\",\"\",marzo!#REF!)","v":{"$error":"#REF!"}},{"$f":"IF(+marzo!#REF!=\"\",\"\",marzo!#REF!)","v":{"$error":"#REF!"}},{"$f":"IF(+marzo!#REF!=\"\",\"\",marzo!#REF!)","v":{"$error":"#REF!"}},{"$f":"IF(+marzo!#REF!=\"\",\"\",marzo!#REF!)","v":{"$error":"#REF!"}},null,{"$f":"marzo!#REF!","v":{"$error":"#REF!"}},null,{"$f":"marzo!#REF!","v":{"$error":"#REF!"}},{"$f":"marzo!#REF!","v":{"$error":"#REF!"}},{"$f":"marzo!#REF!","v":{"$error":"#REF!"}},null,{"$f":"marzo!#REF!","v":{"$error":"#REF!"}},null,{"$f":"marzo!#REF!","v":{"$error":"#REF!"}},null,{"$f":"marzo!#REF!","v":{"$error":"#REF!"}},null,null,null,null,null,null,null,null,null,null,null,null,null,null,null,null,""]
[{"$f":"IF(+marzo!#REF!=\"\",\"\",marzo!#REF!)","v":{"$error":"#REF!"}},null,null,{"$f":"IF(+marzo!#REF!=\"\",\"\",marzo!#REF!)","v":{"$error":"#REF!"}},{"$f":"IF(+marzo!#REF!=\"\",\"\",marzo!#REF!)","v":{"$error":"#REF!"}},{"$f":"IF(+marzo!#REF!=\"\",\"\",marzo!#REF!)","v":{"$error":"#REF!"}},{"$f":"IF(+marzo!#REF!=\"\",\"\",marzo!#REF!)","v":{"$error":"#REF!"}},{"$f":"IF(+marzo!#REF!=\"\",\"\",marzo!#REF!)","v":{"$error":"#REF!"}},null,{"$f":"marzo!#REF!","v":{"$error":"#REF!"}},null,{"$f":"marzo!#REF!","v":{"$error":"#REF!"}},{"$f":"marzo!#REF!","v":{"$error":"#REF!"}},{"$f":"marzo!#REF!","v":{"$error":"#REF!"}},null,{"$f":"marzo!#REF!","v":{"$error":"#REF!"}},null,{"$f":"marzo!#REF!","v":{"$error":"#REF!"}},null,{"$f":"marzo!#REF!","v":{"$error":"#REF!"}},null,null,null,null,null,null,null,null,null,null,null,null,null,null,null,null,""]
[{"$f":"IF(+marzo!#REF!=\"\",\"\",marzo!#REF!)","v":{"$error":"#REF!"}},null,null,{"$f":"IF(+marzo!#REF!=\"\",\"\",marzo!#REF!)","v":{"$error":"#REF!"}},{"$f":"IF(+marzo!#REF!=\"\",\"\",marzo!#REF!)","v":{"$error":"#REF!"}},{"$f":"IF(+marzo!#REF!=\"\",\"\",marzo!#REF!)","v":{"$error":"#REF!"}},{"$f":"IF(+marzo!#REF!=\"\",\"\",marzo!#REF!)","v":{"$error":"#REF!"}},{"$f":"IF(+marzo!#REF!=\"\",\"\",marzo!#REF!)","v":{"$error":"#REF!"}},null,{"$f":"marzo!#REF!","v":{"$error":"#REF!"}},null,{"$f":"marzo!#REF!","v":{"$error":"#REF!"}},{"$f":"marzo!#REF!","v":{"$error":"#REF!"}},{"$f":"marzo!#REF!","v":{"$error":"#REF!"}},null,{"$f":"marzo!#REF!","v":{"$error":"#REF!"}},null,{"$f":"marzo!#REF!","v":{"$error":"#REF!"}},null,{"$f":"marzo!#REF!","v":{"$error":"#REF!"}},null,null,null,null,null,null,null,null,null,null,null,null,null,null,null,null,""]
[{"$f":"IF(+marzo!#REF!=\"\",\"\",marzo!#REF!)","v":{"$error":"#REF!"}},null,null,{"$f":"IF(+marzo!#REF!=\"\",\"\",marzo!#REF!)","v":{"$error":"#REF!"}},{"$f":"IF(+marzo!#REF!=\"\",\"\",marzo!#REF!)","v":{"$error":"#REF!"}},{"$f":"IF(+marzo!#REF!=\"\",\"\",marzo!#REF!)","v":{"$error":"#REF!"}},{"$f":"IF(+marzo!#REF!=\"\",\"\",marzo!#REF!)","v":{"$error":"#REF!"}},{"$f":"IF(+marzo!#REF!=\"\",\"\",marzo!#REF!)","v":{"$error":"#REF!"}},null,{"$f":"marzo!#REF!","v":{"$error":"#REF!"}},null,{"$f":"marzo!#REF!","v":{"$error":"#REF!"}},{"$f":"marzo!#REF!","v":{"$error":"#REF!"}},{"$f":"marzo!#REF!","v":{"$error":"#REF!"}},null,{"$f":"marzo!#REF!","v":{"$error":"#REF!"}},null,{"$f":"marzo!#REF!","v":{"$error":"#REF!"}},null,{"$f":"marzo!#REF!","v":{"$error":"#REF!"}},null,null,null,null,null,null,null,null,null,null,null,null,null,null,null,null,""]
[{"$f":"IF(+marzo!#REF!=\"\",\"\",marzo!#REF!)","v":{"$error":"#REF!"}},null,null,{"$f":"IF(+marzo!#REF!=\"\",\"\",marzo!#REF!)","v":{"$error":"#REF!"}},{"$f":"IF(+marzo!#REF!=\"\",\"\",marzo!#REF!)","v":{"$error":"#REF!"}},{"$f":"IF(+marzo!#REF!=\"\",\"\",marzo!#REF!)","v":{"$error":"#REF!"}},{"$f":"IF(+marzo!#REF!=\"\",\"\",marzo!#REF!)","v":{"$error":"#REF!"}},{"$f":"IF(+marzo!#REF!=\"\",\"\",marzo!#REF!)","v":{"$error":"#REF!"}},null,{"$f":"marzo!#REF!","v":{"$error":"#REF!"}},null,{"$f":"marzo!#REF!","v":{"$error":"#REF!"}},{"$f":"marzo!#REF!","v":{"$error":"#REF!"}},{"$f":"marzo!#REF!","v":{"$error":"#REF!"}},null,{"$f":"marzo!#REF!","v":{"$error":"#REF!"}},null,{"$f":"marzo!#REF!","v":{"$error":"#REF!"}},null,{"$f":"marzo!#REF!","v":{"$error":"#REF!"}},null,null,null,null,null,null,null,null,null,null,null,null,null,null,null,null,""]
[{"$f":"IF(+marzo!#REF!=\"\",\"\",marzo!#REF!)","v":{"$error":"#REF!"}},null,null,{"$f":"IF(+marzo!#REF!=\"\",\"\",marzo!#REF!)","v":{"$error":"#REF!"}},{"$f":"IF(+marzo!#REF!=\"\",\"\",marzo!#REF!)","v":{"$error":"#REF!"}},{"$f":"IF(+marzo!#REF!=\"\",\"\",marzo!#REF!)","v":{"$error":"#REF!"}},{"$f":"IF(+marzo!#REF!=\"\",\"\",marzo!#REF!)","v":{"$error":"#REF!"}},{"$f":"IF(+marzo!#REF!=\"\",\"\",marzo!#REF!)","v":{"$error":"#REF!"}},null,{"$f":"marzo!#REF!","v":{"$error":"#REF!"}},null,{"$f":"marzo!#REF!","v":{"$error":"#REF!"}},{"$f":"marzo!#REF!","v":{"$error":"#REF!"}},{"$f":"marzo!#REF!","v":{"$error":"#REF!"}},null,{"$f":"marzo!#REF!","v":{"$error":"#REF!"}},null,{"$f":"marzo!#REF!","v":{"$error":"#REF!"}},null,{"$f":"marzo!#REF!","v":{"$error":"#REF!"}},null,null,null,null,null,null,null,null,null,null,null,null,null,null,null,null,""]
[{"$f":"IF(+marzo!#REF!=\"\",\"\",marzo!#REF!)","v":{"$error":"#REF!"}},null,null,{"$f":"IF(+marzo!#REF!=\"\",\"\",marzo!#REF!)","v":{"$error":"#REF!"}},{"$f":"IF(+marzo!#REF!=\"\",\"\",marzo!#REF!)","v":{"$error":"#REF!"}},{"$f":"IF(+marzo!#REF!=\"\",\"\",marzo!#REF!)","v":{"$error":"#REF!"}},{"$f":"IF(+marzo!#REF!=\"\",\"\",marzo!#REF!)","v":{"$error":"#REF!"}},{"$f":"IF(+marzo!#REF!=\"\",\"\",marzo!#REF!)","v":{"$error":"#REF!"}},null,{"$f":"marzo!#REF!","v":{"$error":"#REF!"}},null,{"$f":"marzo!#REF!","v":{"$error":"#REF!"}},{"$f":"marzo!#REF!","v":{"$error":"#REF!"}},{"$f":"marzo!#REF!","v":{"$error":"#REF!"}},null,{"$f":"marzo!#REF!","v":{"$error":"#REF!"}},null,{"$f":"marzo!#REF!","v":{"$error":"#REF!"}},null,{"$f":"marzo!#REF!","v":{"$error":"#REF!"}},null,null,null,null,null,null,null,null,null,null,null,null,null,null,null,null,""]
[{"$f":"IF(+marzo!#REF!=\"\",\"\",marzo!#REF!)","v":{"$error":"#REF!"}},null,null,{"$f":"IF(+marzo!#REF!=\"\",\"\",marzo!#REF!)","v":{"$error":"#REF!"}},{"$f":"IF(+marzo!#REF!=\"\",\"\",marzo!#REF!)","v":{"$error":"#REF!"}},{"$f":"IF(+marzo!#REF!=\"\",\"\",marzo!#REF!)","v":{"$error":"#REF!"}},{"$f":"IF(+marzo!#REF!=\"\",\"\",marzo!#REF!)","v":{"$error":"#REF!"}},{"$f":"IF(+marzo!#REF!=\"\",\"\",marzo!#REF!)","v":{"$error":"#REF!"}},null,{"$f":"marzo!#REF!","v":{"$error":"#REF!"}},null,{"$f":"marzo!#REF!","v":{"$error":"#REF!"}},{"$f":"marzo!#REF!","v":{"$error":"#REF!"}},{"$f":"marzo!#REF!","v":{"$error":"#REF!"}},null,{"$f":"marzo!#REF!","v":{"$error":"#REF!"}},null,{"$f":"marzo!#REF!","v":{"$error":"#REF!"}},null,{"$f":"marzo!#REF!","v":{"$error":"#REF!"}},null,null,null,null,null,null,null,null,null,null,null,null,null,null,null,null,""]
[{"$f":"IF(+marzo!#REF!=\"\",\"\",marzo!#REF!)","v":{"$error":"#REF!"}},null,null,{"$f":"IF(+marzo!#REF!=\"\",\"\",marzo!#REF!)","v":{"$error":"#REF!"}},{"$f":"IF(+marzo!#REF!=\"\",\"\",marzo!#REF!)","v":{"$error":"#REF!"}},{"$f":"IF(+marzo!#REF!=\"\",\"\",marzo!#REF!)","v":{"$error":"#REF!"}},{"$f":"IF(+marzo!#REF!=\"\",\"\",marzo!#REF!)","v":{"$error":"#REF!"}},{"$f":"IF(+marzo!#REF!=\"\",\"\",marzo!#REF!)","v":{"$error":"#REF!"}},null,{"$f":"marzo!#REF!","v":{"$error":"#REF!"}},null,{"$f":"marzo!#REF!","v":{"$error":"#REF!"}},{"$f":"marzo!#REF!","v":{"$error":"#REF!"}},{"$f":"marzo!#REF!","v":{"$error":"#REF!"}},null,{"$f":"marzo!#REF!","v":{"$error":"#REF!"}},null,{"$f":"marzo!#REF!","v":{"$error":"#REF!"}},null,{"$f":"marzo!#REF!","v":{"$error":"#REF!"}},null,null,null,null,null,null,null,null,null,null,null,null,null,null,null,null,""]
[{"$f":"IF(+marzo!#REF!=\"\",\"\",marzo!#REF!)","v":{"$error":"#REF!"}},null,null,{"$f":"IF(+marzo!#REF!=\"\",\"\",marzo!#REF!)","v":{"$error":"#REF!"}},{"$f":"IF(+marzo!#REF!=\"\",\"\",marzo!#REF!)","v":{"$error":"#REF!"}},{"$f":"IF(+marzo!#REF!=\"\",\"\",marzo!#REF!)","v":{"$error":"#REF!"}},{"$f":"IF(+marzo!#REF!=\"\",\"\",marzo!#REF!)","v":{"$error":"#REF!"}},{"$f":"IF(+marzo!#REF!=\"\",\"\",marzo!#REF!)","v":{"$error":"#REF!"}},null,{"$f":"marzo!#REF!","v":{"$error":"#REF!"}},null,{"$f":"marzo!#REF!","v":{"$error":"#REF!"}},{"$f":"marzo!#REF!","v":{"$error":"#REF!"}},{"$f":"marzo!#REF!","v":{"$error":"#REF!"}},null,{"$f":"marzo!#REF!","v":{"$error":"#REF!"}},null,{"$f":"marzo!#REF!","v":{"$error":"#REF!"}},null,{"$f":"marzo!#REF!","v":{"$error":"#REF!"}},null,null,null,null,null,null,null,null,null,null,null,null,null,null,null,null,""]
[{"$f":"IF(+marzo!#REF!=\"\",\"\",marzo!#REF!)","v":{"$error":"#REF!"}},null,null,{"$f":"IF(+marzo!#REF!=\"\",\"\",marzo!#REF!)","v":{"$error":"#REF!"}},{"$f":"IF(+marzo!#REF!=\"\",\"\",marzo!#REF!)","v":{"$error":"#REF!"}},{"$f":"IF(+marzo!#REF!=\"\",\"\",marzo!#REF!)","v":{"$error":"#REF!"}},{"$f":"IF(+marzo!#REF!=\"\",\"\",marzo!#REF!)","v":{"$error":"#REF!"}},{"$f":"IF(+marzo!#REF!=\"\",\"\",marzo!#REF!)","v":{"$error":"#REF!"}},null,{"$f":"marzo!#REF!","v":{"$error":"#REF!"}},null,{"$f":"marzo!#REF!","v":{"$error":"#REF!"}},{"$f":"marzo!#REF!","v":{"$error":"#REF!"}},{"$f":"marzo!#REF!","v":{"$error":"#REF!"}},null,{"$f":"marzo!#REF!","v":{"$error":"#REF!"}},null,{"$f":"marzo!#REF!","v":{"$error":"#REF!"}},null,{"$f":"marzo!#REF!","v":{"$error":"#REF!"}},null,null,null,null,null,null,null,null,null,null,null,null,null,null,null,null,""]
[{"$f":"IF(+marzo!#REF!=\"\",\"\",marzo!#REF!)","v":{"$error":"#REF!"}},null,null,{"$f":"IF(+marzo!#REF!=\"\",\"\",marzo!#REF!)","v":{"$error":"#REF!"}},{"$f":"IF(+marzo!#REF!=\"\",\"\",marzo!#REF!)","v":{"$error":"#REF!"}},{"$f":"IF(+marzo!#REF!=\"\",\"\",marzo!#REF!)","v":{"$error":"#REF!"}},{"$f":"IF(+marzo!#REF!=\"\",\"\",marzo!#REF!)","v":{"$error":"#REF!"}},{"$f":"IF(+marzo!#REF!=\"\",\"\",marzo!#REF!)","v":{"$error":"#REF!"}},null,{"$f":"marzo!#REF!","v":{"$error":"#REF!"}},null,{"$f":"marzo!#REF!","v":{"$error":"#REF!"}},{"$f":"marzo!#REF!","v":{"$error":"#REF!"}},{"$f":"marzo!#REF!","v":{"$error":"#REF!"}},null,{"$f":"marzo!#REF!","v":{"$error":"#REF!"}},null,{"$f":"marzo!#REF!","v":{"$error":"#REF!"}},null,{"$f":"marzo!#REF!","v":{"$error":"#REF!"}},null,null,null,null,null,null,null,null,null,null,null,null,null,null,null,null,""]
[{"$f":"IF(+marzo!#REF!=\"\",\"\",marzo!#REF!)","v":{"$error":"#REF!"}},null,null,{"$f":"IF(+marzo!#REF!=\"\",\"\",marzo!#REF!)","v":{"$error":"#REF!"}},{"$f":"IF(+marzo!#REF!=\"\",\"\",marzo!#REF!)","v":{"$error":"#REF!"}},{"$f":"IF(+marzo!#REF!=\"\",\"\",marzo!#REF!)","v":{"$error":"#REF!"}},{"$f":"IF(+marzo!#REF!=\"\",\"\",marzo!#REF!)","v":{"$error":"#REF!"}},{"$f":"IF(+marzo!#REF!=\"\",\"\",marzo!#REF!)","v":{"$error":"#REF!"}},null,{"$f":"marzo!#REF!","v":{"$error":"#REF!"}},null,{"$f":"marzo!#REF!","v":{"$error":"#REF!"}},{"$f":"marzo!#REF!","v":{"$error":"#REF!"}},{"$f":"marzo!#REF!","v":{"$error":"#REF!"}},null,{"$f":"marzo!#REF!","v":{"$error":"#REF!"}},null,{"$f":"marzo!#REF!","v":{"$error":"#REF!"}},null,{"$f":"marzo!#REF!","v":{"$error":"#REF!"}},null,null,null,null,null,null,null,null,null,null,null,null,null,null,null,null,{"$f":"IF(OR(COUNTIF($I128:$AJ128,\"X\")>0,COUNTIF($I128:$AJ128,\"L\")>0),COUNTIF($I128:$AJ128,\"X\")+COUNTIF($I128:$AJ128,\"L\"),\"\")","v":""}]
[{"$f":"IF(+marzo!#REF!=\"\",\"\",marzo!#REF!)","v":{"$error":"#REF!"}},null,null,{"$f":"IF(+marzo!#REF!=\"\",\"\",marzo!#REF!)","v":{"$error":"#REF!"}},{"$f":"IF(+marzo!#REF!=\"\",\"\",marzo!#REF!)","v":{"$error":"#REF!"}},{"$f":"IF(+marzo!#REF!=\"\",\"\",marzo!#REF!)","v":{"$error":"#REF!"}},{"$f":"IF(+marzo!#REF!=\"\",\"\",marzo!#REF!)","v":{"$error":"#REF!"}},{"$f":"IF(+marzo!#REF!=\"\",\"\",marzo!#REF!)","v":{"$error":"#REF!"}},null,{"$f":"marzo!#REF!","v":{"$error":"#REF!"}},null,{"$f":"marzo!#REF!","v":{"$error":"#REF!"}},{"$f":"marzo!#REF!","v":{"$error":"#REF!"}},{"$f":"marzo!#REF!","v":{"$error":"#REF!"}},null,{"$f":"marzo!#REF!","v":{"$error":"#REF!"}},null,{"$f":"marzo!#REF!","v":{"$error":"#REF!"}},null,{"$f":"marzo!#REF!","v":{"$error":"#REF!"}},null,null,null,null,null,null,null,null,null,null,null,null,null,null,null,null,""]
[{"$f":"IF(+marzo!#REF!=\"\",\"\",marzo!#REF!)","v":{"$error":"#REF!"}},null,null,{"$f":"IF(+marzo!#REF!=\"\",\"\",marzo!#REF!)","v":{"$error":"#REF!"}},{"$f":"IF(+marzo!#REF!=\"\",\"\",marzo!#REF!)","v":{"$error":"#REF!"}},{"$f":"IF(+marzo!#REF!=\"\",\"\",marzo!#REF!)","v":{"$error":"#REF!"}},{"$f":"IF(+marzo!#REF!=\"\",\"\",marzo!#REF!)","v":{"$error":"#REF!"}},{"$f":"IF(+marzo!#REF!=\"\",\"\",marzo!#REF!)","v":{"$error":"#REF!"}},null,{"$f":"marzo!#REF!","v":{"$error":"#REF!"}},null,{"$f":"marzo!#REF!","v":{"$error":"#REF!"}},{"$f":"marzo!#REF!","v":{"$error":"#REF!"}},{"$f":"marzo!#REF!","v":{"$error":"#REF!"}},null,{"$f":"marzo!#REF!","v":{"$error":"#REF!"}},null,{"$f":"marzo!#REF!","v":{"$error":"#REF!"}},null,{"$f":"marzo!#REF!","v":{"$error":"#REF!"}},null,null,null,null,null,null,null,null,null,null,null,null,null,null,null,null,""]
[{"$f":"IF(+marzo!#REF!=\"\",\"\",marzo!#REF!)","v":{"$error":"#REF!"}},null,null,{"$f":"IF(+marzo!#REF!=\"\",\"\",marzo!#REF!)","v":{"$error":"#REF!"}},{"$f":"IF(+marzo!#REF!=\"\",\"\",marzo!#REF!)","v":{"$error":"#REF!"}},{"$f":"IF(+marzo!#REF!=\"\",\"\",marzo!#REF!)","v":{"$error":"#REF!"}},{"$f":"IF(+marzo!#REF!=\"\",\"\",marzo!#REF!)","v":{"$error":"#REF!"}},{"$f":"IF(+marzo!#REF!=\"\",\"\",marzo!#REF!)","v":{"$error":"#REF!"}},null,{"$f":"marzo!#REF!","v":{"$error":"#REF!"}},null,{"$f":"marzo!#REF!","v":{"$error":"#REF!"}},{"$f":"marzo!#REF!","v":{"$error":"#REF!"}},{"$f":"marzo!#REF!","v":{"$error":"#REF!"}},null,{"$f":"marzo!#REF!","v":{"$error":"#REF!"}},null,{"$f":"marzo!#REF!","v":{"$error":"#REF!"}},null,{"$f":"marzo!#REF!","v":{"$error":"#REF!"}},null,null,null,null,null,null,null,null,null,null,null,null,null,null,null,null,""]
[{"$f":"IF(+marzo!#REF!=\"\",\"\",marzo!#REF!)","v":{"$error":"#REF!"}},null,null,{"$f":"IF(+marzo!#REF!=\"\",\"\",marzo!#REF!)","v":{"$error":"#REF!"}},{"$f":"IF(+marzo!#REF!=\"\",\"\",marzo!#REF!)","v":{"$error":"#REF!"}},{"$f":"IF(+marzo!#REF!=\"\",\"\",marzo!#REF!)","v":{"$error":"#REF!"}},{"$f":"IF(+marzo!#REF!=\"\",\"\",marzo!#REF!)","v":{"$error":"#REF!"}},{"$f":"IF(+marzo!#REF!=\"\",\"\",marzo!#REF!)","v":{"$error":"#REF!"}},null,{"$f":"marzo!#REF!","v":{"$error":"#REF!"}},null,{"$f":"marzo!#REF!","v":{"$error":"#REF!"}},{"$f":"marzo!#REF!","v":{"$error":"#REF!"}},{"$f":"marzo!#REF!","v":{"$error":"#REF!"}},null,{"$f":"marzo!#REF!","v":{"$error":"#REF!"}},null,{"$f":"marzo!#REF!","v":{"$error":"#REF!"}},null,{"$f":"marzo!#REF!","v":{"$error":"#REF!"}},null,null,null,null,null,null,null,null,null,null,null,null,null,null,null,null,""]
[{"$f":"IF(+marzo!#REF!=\"\",\"\",marzo!#REF!)","v":{"$error":"#REF!"}},null,null,{"$f":"IF(+marzo!#REF!=\"\",\"\",marzo!#REF!)","v":{"$error":"#REF!"}},{"$f":"IF(+marzo!#REF!=\"\",\"\",marzo!#REF!)","v":{"$error":"#REF!"}},{"$f":"IF(+marzo!#REF!=\"\",\"\",marzo!#REF!)","v":{"$error":"#REF!"}},{"$f":"IF(+marzo!#REF!=\"\",\"\",marzo!#REF!)","v":{"$error":"#REF!"}},{"$f":"IF(+marzo!#REF!=\"\",\"\",marzo!#REF!)","v":{"$error":"#REF!"}},null,{"$f":"marzo!#REF!","v":{"$error":"#REF!"}},null,{"$f":"marzo!#REF!","v":{"$error":"#REF!"}},{"$f":"marzo!#REF!","v":{"$error":"#REF!"}},{"$f":"marzo!#REF!","v":{"$error":"#REF!"}},null,{"$f":"marzo!#REF!","v":{"$error":"#REF!"}},null,{"$f":"marzo!#REF!","v":{"$error":"#REF!"}},null,{"$f":"marzo!#REF!","v":{"$error":"#REF!"}},null,null,null,null,null,null,null,null,null,null,null,null,null,null,null,null,""]
[{"$f":"IF(+marzo!#REF!=\"\",\"\",marzo!#REF!)","v":{"$error":"#REF!"}},null,null,{"$f":"IF(+marzo!#REF!=\"\",\"\",marzo!#REF!)","v":{"$error":"#REF!"}},{"$f":"IF(+marzo!#REF!=\"\",\"\",marzo!#REF!)","v":{"$error":"#REF!"}},{"$f":"IF(+marzo!#REF!=\"\",\"\",marzo!#REF!)","v":{"$error":"#REF!"}},{"$f":"IF(+marzo!#REF!=\"\",\"\",marzo!#REF!)","v":{"$error":"#REF!"}},{"$f":"IF(+marzo!#REF!=\"\",\"\",marzo!#REF!)","v":{"$error":"#REF!"}},null,{"$f":"marzo!#REF!","v":{"$error":"#REF!"}},null,{"$f":"marzo!#REF!","v":{"$error":"#REF!"}},{"$f":"marzo!#REF!","v":{"$error":"#REF!"}},{"$f":"marzo!#REF!","v":{"$error":"#REF!"}},null,{"$f":"marzo!#REF!","v":{"$error":"#REF!"}},null,{"$f":"marzo!#REF!","v":{"$error":"#REF!"}},null,{"$f":"marzo!#REF!","v":{"$error":"#REF!"}},null,null,null,null,null,null,null,null,null,null,null,null,null,null,null,null,""]
[{"$f":"IF(+marzo!#REF!=\"\",\"\",marzo!#REF!)","v":{"$error":"#REF!"}},null,null,{"$f":"IF(+marzo!#REF!=\"\",\"\",marzo!#REF!)","v":{"$error":"#REF!"}},{"$f":"IF(+marzo!#REF!=\"\",\"\",marzo!#REF!)","v":{"$error":"#REF!"}},{"$f":"IF(+marzo!#REF!=\"\",\"\",marzo!#REF!)","v":{"$error":"#REF!"}},{"$f":"IF(+marzo!#REF!=\"\",\"\",marzo!#REF!)","v":{"$error":"#REF!"}},{"$f":"IF(+marzo!#REF!=\"\",\"\",marzo!#REF!)","v":{"$error":"#REF!"}},null,{"$f":"marzo!#REF!","v":{"$error":"#REF!"}},null,{"$f":"marzo!#REF!","v":{"$error":"#REF!"}},{"$f":"marzo!#REF!","v":{"$error":"#REF!"}},{"$f":"marzo!#REF!","v":{"$error":"#REF!"}},null,{"$f":"marzo!#REF!","v":{"$error":"#REF!"}},null,{"$f":"marzo!#REF!","v":{"$error":"#REF!"}},null,{"$f":"marzo!#REF!","v":{"$error":"#REF!"}},null,null,null,null,null,null,null,null,null,null,null,null,null,null,null,null,""]
[{"$f":"IF(+marzo!#REF!=\"\",\"\",marzo!#REF!)","v":{"$error":"#REF!"}},null,null,{"$f":"IF(+marzo!#REF!=\"\",\"\",marzo!#REF!)","v":{"$error":"#REF!"}},{"$f":"IF(+marzo!#REF!=\"\",\"\",marzo!#REF!)","v":{"$error":"#REF!"}},{"$f":"IF(+marzo!#REF!=\"\",\"\",marzo!#REF!)","v":{"$error":"#REF!"}},{"$f":"IF(+marzo!#REF!=\"\",\"\",marzo!#REF!)","v":{"$error":"#REF!"}},{"$f":"IF(+marzo!#REF!=\"\",\"\",marzo!#REF!)","v":{"$error":"#REF!"}},null,{"$f":"marzo!#REF!","v":{"$error":"#REF!"}},null,{"$f":"marzo!#REF!","v":{"$error":"#REF!"}},{"$f":"marzo!#REF!","v":{"$error":"#REF!"}},{"$f":"marzo!#REF!","v":{"$error":"#REF!"}},null,{"$f":"marzo!#REF!","v":{"$error":"#REF!"}},null,{"$f":"marzo!#REF!","v":{"$error":"#REF!"}},null,{"$f":"marzo!#REF!","v":{"$error":"#REF!"}},null,null,null,null,null,null,null,null,null,null,null,null,null,null,null,null,""]
[{"$f":"IF(+marzo!#REF!=\"\",\"\",marzo!#REF!)","v":{"$error":"#REF!"}},null,null,{"$f":"IF(+marzo!#REF!=\"\",\"\",marzo!#REF!)","v":{"$error":"#REF!"}},{"$f":"IF(+marzo!#REF!=\"\",\"\",marzo!#REF!)","v":{"$error":"#REF!"}},{"$f":"IF(+marzo!#REF!=\"\",\"\",marzo!#REF!)","v":{"$error":"#REF!"}},{"$f":"IF(+marzo!#REF!=\"\",\"\",marzo!#REF!)","v":{"$error":"#REF!"}},{"$f":"IF(+marzo!#REF!=\"\",\"\",marzo!#REF!)","v":{"$error":"#REF!"}},null,{"$f":"marzo!#REF!","v":{"$error":"#REF!"}},null,{"$f":"marzo!#REF!","v":{"$error":"#REF!"}},{"$f":"marzo!#REF!","v":{"$error":"#REF!"}},{"$f":"marzo!#REF!","v":{"$error":"#REF!"}},null,{"$f":"marzo!#REF!","v":{"$error":"#REF!"}},null,{"$f":"marzo!#REF!","v":{"$error":"#REF!"}},null,{"$f":"marzo!#REF!","v":{"$error":"#REF!"}},null,null,null,null,null,null,null,null,null,null,null,null,null,null,null,null,""]
[{"$f":"IF(+marzo!#REF!=\"\",\"\",marzo!#REF!)","v":{"$error":"#REF!"}},null,null,{"$f":"IF(+marzo!#REF!=\"\",\"\",marzo!#REF!)","v":{"$error":"#REF!"}},{"$f":"IF(+marzo!#REF!=\"\",\"\",marzo!#REF!)","v":{"$error":"#REF!"}},{"$f":"IF(+marzo!#REF!=\"\",\"\",marzo!#REF!)","v":{"$error":"#REF!"}},{"$f":"IF(+marzo!#REF!=\"\",\"\",marzo!#REF!)","v":{"$error":"#REF!"}},{"$f":"IF(+marzo!#REF!=\"\",\"\",marzo!#REF!)","v":{"$error":"#REF!"}},null,{"$f":"marzo!#REF!","v":{"$error":"#REF!"}},null,{"$f":"marzo!#REF!","v":{"$error":"#REF!"}},{"$f":"marzo!#REF!","v":{"$error":"#REF!"}},{"$f":"marzo!#REF!","v":{"$error":"#REF!"}},null,{"$f":"marzo!#REF!","v":{"$error":"#REF!"}},null,{"$f":"marzo!#REF!","v":{"$error":"#REF!"}},null,{"$f":"marzo!#REF!","v":{"$error":"#REF!"}},null,null,null,null,null,null,null,null,null,null,null,null,null,null,null,null,""]
[{"$f":"IF(+marzo!#REF!=\"\",\"\",marzo!#REF!)","v":{"$error":"#REF!"}},null,null,{"$f":"IF(+marzo!#REF!=\"\",\"\",marzo!#REF!)","v":{"$error":"#REF!"}},{"$f":"IF(+marzo!#REF!=\"\",\"\",marzo!#REF!)","v":{"$error":"#REF!"}},{"$f":"IF(+marzo!#REF!=\"\",\"\",marzo!#REF!)","v":{"$error":"#REF!"}},{"$f":"IF(+marzo!#REF!=\"\",\"\",marzo!#REF!)","v":{"$error":"#REF!"}},{"$f":"IF(+marzo!#REF!=\"\",\"\",marzo!#REF!)","v":{"$error":"#REF!"}},null,{"$f":"marzo!#REF!","v":{"$error":"#REF!"}},null,{"$f":"marzo!#REF!","v":{"$error":"#REF!"}},{"$f":"marzo!#REF!","v":{"$error":"#REF!"}},{"$f":"marzo!#REF!","v":{"$error":"#REF!"}},null,{"$f":"marzo!#REF!","v":{"$error":"#REF!"}},null,{"$f":"marzo!#REF!","v":{"$error":"#REF!"}},null,{"$f":"marzo!#REF!","v":{"$error":"#REF!"}},null,null,null,null,null,null,null,null,null,null,null,null,null,null,null,null,""]
[{"$f":"IF(+marzo!#REF!=\"\",\"\",marzo!#REF!)","v":{"$error":"#REF!"}},null,null,{"$f":"IF(+marzo!#REF!=\"\",\"\",marzo!#REF!)","v":{"$error":"#REF!"}},{"$f":"IF(+marzo!#REF!=\"\",\"\",marzo!#REF!)","v":{"$error":"#REF!"}},{"$f":"IF(+marzo!#REF!=\"\",\"\",marzo!#REF!)","v":{"$error":"#REF!"}},{"$f":"IF(+marzo!#REF!=\"\",\"\",marzo!#REF!)","v":{"$error":"#REF!"}},{"$f":"IF(+marzo!#REF!=\"\",\"\",marzo!#REF!)","v":{"$error":"#REF!"}},null,{"$f":"marzo!#REF!","v":{"$error":"#REF!"}},null,{"$f":"marzo!#REF!","v":{"$error":"#REF!"}},{"$f":"marzo!#REF!","v":{"$error":"#REF!"}},{"$f":"marzo!#REF!","v":{"$error":"#REF!"}},null,{"$f":"marzo!#REF!","v":{"$error":"#REF!"}},null,{"$f":"marzo!#REF!","v":{"$error":"#REF!"}},null,{"$f":"marzo!#REF!","v":{"$error":"#REF!"}},null,null,null,null,null,null,null,null,null,null,null,null,null,null,null,null,""]
[{"$f":"IF(+marzo!#REF!=\"\",\"\",marzo!#REF!)","v":{"$error":"#REF!"}},null,null,{"$f":"IF(+marzo!#REF!=\"\",\"\",marzo!#REF!)","v":{"$error":"#REF!"}},{"$f":"IF(+marzo!#REF!=\"\",\"\",marzo!#REF!)","v":{"$error":"#REF!"}},{"$f":"IF(+marzo!#REF!=\"\",\"\",marzo!#REF!)","v":{"$error":"#REF!"}},{"$f":"IF(+marzo!#REF!=\"\",\"\",marzo!#REF!)","v":{"$error":"#REF!"}},{"$f":"IF(+marzo!#REF!=\"\",\"\",marzo!#REF!)","v":{"$error":"#REF!"}},null,{"$f":"marzo!#REF!","v":{"$error":"#REF!"}},null,{"$f":"marzo!#REF!","v":{"$error":"#REF!"}},{"$f":"marzo!#REF!","v":{"$error":"#REF!"}},{"$f":"marzo!#REF!","v":{"$error":"#REF!"}},null,{"$f":"marzo!#REF!","v":{"$error":"#REF!"}},null,{"$f":"marzo!#REF!","v":{"$error":"#REF!"}},null,{"$f":"marzo!#REF!","v":{"$error":"#REF!"}},null,null,null,null,null,null,null,null,null,null,null,null,null,null,null,null,""]
[{"$f":"IF(+marzo!#REF!=\"\",\"\",marzo!#REF!)","v":{"$error":"#REF!"}},null,null,{"$f":"IF(+marzo!#REF!=\"\",\"\",marzo!#REF!)","v":{"$error":"#REF!"}},{"$f":"IF(+marzo!#REF!=\"\",\"\",marzo!#REF!)","v":{"$error":"#REF!"}},{"$f":"IF(+marzo!#REF!=\"\",\"\",marzo!#REF!)","v":{"$error":"#REF!"}},{"$f":"IF(+marzo!#REF!=\"\",\"\",marzo!#REF!)","v":{"$error":"#REF!"}},{"$f":"IF(+marzo!#REF!=\"\",\"\",marzo!#REF!)","v":{"$error":"#REF!"}},null,{"$f":"marzo!#REF!","v":{"$error":"#REF!"}},null,{"$f":"marzo!#REF!","v":{"$error":"#REF!"}},{"$f":"marzo!#REF!","v":{"$error":"#REF!"}},{"$f":"marzo!#REF!","v":{"$error":"#REF!"}},null,{"$f":"marzo!#REF!","v":{"$error":"#REF!"}},null,{"$f":"marzo!#REF!","v":{"$error":"#REF!"}},null,{"$f":"marzo!#REF!","v":{"$error":"#REF!"}},null,null,null,null,null,null,null,null,null,null,null,null,null,null,null,null,""]
[{"$f":"IF(+marzo!#REF!=\"\",\"\",marzo!#REF!)","v":{"$error":"#REF!"}},null,null,{"$f":"IF(+marzo!#REF!=\"\",\"\",marzo!#REF!)","v":{"$error":"#REF!"}},{"$f":"IF(+marzo!#REF!=\"\",\"\",marzo!#REF!)","v":{"$error":"#REF!"}},{"$f":"IF(+marzo!#REF!=\"\",\"\",marzo!#REF!)","v":{"$error":"#REF!"}},{"$f":"IF(+marzo!#REF!=\"\",\"\",marzo!#REF!)","v":{"$error":"#REF!"}},{"$f":"IF(+marzo!#REF!=\"\",\"\",marzo!#REF!)","v":{"$error":"#REF!"}},null,{"$f":"marzo!#REF!","v":{"$error":"#REF!"}},null,{"$f":"marzo!#REF!","v":{"$error":"#REF!"}},{"$f":"marzo!#REF!","v":{"$error":"#REF!"}},{"$f":"marzo!#REF!","v":{"$error":"#REF!"}},null,{"$f":"marzo!#REF!","v":{"$error":"#REF!"}},null,{"$f":"marzo!#REF!","v":{"$error":"#REF!"}},null,{"$f":"marzo!#REF!","v":{"$error":"#REF!"}},null,null,null,null,null,null,null,null,null,null,null,null,null,null,null,null,""]
[{"$f":"IF(+marzo!#REF!=\"\",\"\",marzo!#REF!)","v":{"$error":"#REF!"}},null,null,{"$f":"IF(+marzo!#REF!=\"\",\"\",marzo!#REF!)","v":{"$error":"#REF!"}},{"$f":"IF(+marzo!#REF!=\"\",\"\",marzo!#REF!)","v":{"$error":"#REF!"}},{"$f":"IF(+marzo!#REF!=\"\",\"\",marzo!#REF!)","v":{"$error":"#REF!"}},{"$f":"IF(+marzo!#REF!=\"\",\"\",marzo!#REF!)","v":{"$error":"#REF!"}},{"$f":"IF(+marzo!#REF!=\"\",\"\",marzo!#REF!)","v":{"$error":"#REF!"}},null,{"$f":"marzo!#REF!","v":{"$error":"#REF!"}},null,{"$f":"marzo!#REF!","v":{"$error":"#REF!"}},{"$f":"marzo!#REF!","v":{"$error":"#REF!"}},{"$f":"marzo!#REF!","v":{"$error":"#REF!"}},null,{"$f":"marzo!#REF!","v":{"$error":"#REF!"}},null,{"$f":"marzo!#REF!","v":{"$error":"#REF!"}},null,{"$f":"marzo!#REF!","v":{"$error":"#REF!"}},null,null,null,null,null,null,null,null,null,null,null,null,null,null,null,null,""]
[{"$f":"IF(+marzo!#REF!=\"\",\"\",marzo!#REF!)","v":{"$error":"#REF!"}},null,null,{"$f":"IF(+marzo!#REF!=\"\",\"\",marzo!#REF!)","v":{"$error":"#REF!"}},{"$f":"IF(+marzo!#REF!=\"\",\"\",marzo!#REF!)","v":{"$error":"#REF!"}},{"$f":"IF(+marzo!#REF!=\"\",\"\",marzo!#REF!)","v":{"$error":"#REF!"}},{"$f":"IF(+marzo!#REF!=\"\",\"\",marzo!#REF!)","v":{"$error":"#REF!"}},{"$f":"IF(+marzo!#REF!=\"\",\"\",marzo!#REF!)","v":{"$error":"#REF!"}},null,{"$f":"marzo!#REF!","v":{"$error":"#REF!"}},null,{"$f":"marzo!#REF!","v":{"$error":"#REF!"}},{"$f":"marzo!#REF!","v":{"$error":"#REF!"}},{"$f":"marzo!#REF!","v":{"$error":"#REF!"}},null,{"$f":"marzo!#REF!","v":{"$error":"#REF!"}},null,{"$f":"marzo!#REF!","v":{"$error":"#REF!"}},null,{"$f":"marzo!#REF!","v":{"$error":"#REF!"}},null,null,null,null,null,null,null,null,null,null,null,null,null,null,null,null,""]
[{"$f":"IF(+marzo!#REF!=\"\",\"\",marzo!#REF!)","v":{"$error":"#REF!"}},null,null,{"$f":"IF(+marzo!#REF!=\"\",\"\",marzo!#REF!)","v":{"$error":"#REF!"}},{"$f":"IF(+marzo!#REF!=\"\",\"\",marzo!#REF!)","v":{"$error":"#REF!"}},{"$f":"IF(+marzo!#REF!=\"\",\"\",marzo!#REF!)","v":{"$error":"#REF!"}},{"$f":"IF(+marzo!#REF!=\"\",\"\",marzo!#REF!)","v":{"$error":"#REF!"}},{"$f":"IF(+marzo!#REF!=\"\",\"\",marzo!#REF!)","v":{"$error":"#REF!"}},null,{"$f":"marzo!#REF!","v":{"$error":"#REF!"}},null,{"$f":"marzo!#REF!","v":{"$error":"#REF!"}},{"$f":"marzo!#REF!","v":{"$error":"#REF!"}},{"$f":"marzo!#REF!","v":{"$error":"#REF!"}},null,{"$f":"marzo!#REF!","v":{"$error":"#REF!"}},null,{"$f":"marzo!#REF!","v":{"$error":"#REF!"}},null,{"$f":"marzo!#REF!","v":{"$error":"#REF!"}},null,null,null,null,null,null,null,null,null,null,null,null,null,null,null,null,""]
[{"$f":"IF(+marzo!#REF!=\"\",\"\",marzo!#REF!)","v":{"$error":"#REF!"}},null,null,{"$f":"IF(+marzo!#REF!=\"\",\"\",marzo!#REF!)","v":{"$error":"#REF!"}},{"$f":"IF(+marzo!#REF!=\"\",\"\",marzo!#REF!)","v":{"$error":"#REF!"}},{"$f":"IF(+marzo!#REF!=\"\",\"\",marzo!#REF!)","v":{"$error":"#REF!"}},{"$f":"IF(+marzo!#REF!=\"\",\"\",marzo!#REF!)","v":{"$error":"#REF!"}},{"$f":"IF(+marzo!#REF!=\"\",\"\",marzo!#REF!)","v":{"$error":"#REF!"}},null,{"$f":"marzo!#REF!","v":{"$error":"#REF!"}},null,{"$f":"marzo!#REF!","v":{"$error":"#REF!"}},{"$f":"marzo!#REF!","v":{"$error":"#REF!"}},{"$f":"marzo!#REF!","v":{"$error":"#REF!"}},null,{"$f":"marzo!#REF!","v":{"$error":"#REF!"}},null,{"$f":"marzo!#REF!","v":{"$error":"#REF!"}},null,{"$f":"marzo!#REF!","v":{"$error":"#REF!"}},null,null,null,null,null,null,null,null,null,null,null,null,null,null,null,null,""]
[{"$f":"IF(+marzo!#REF!=\"\",\"\",marzo!#REF!)","v":{"$error":"#REF!"}},null,null,{"$f":"IF(+marzo!#REF!=\"\",\"\",marzo!#REF!)","v":{"$error":"#REF!"}},{"$f":"IF(+marzo!#REF!=\"\",\"\",marzo!#REF!)","v":{"$error":"#REF!"}},{"$f":"IF(+marzo!#REF!=\"\",\"\",marzo!#REF!)","v":{"$error":"#REF!"}},{"$f":"IF(+marzo!#REF!=\"\",\"\",marzo!#REF!)","v":{"$error":"#REF!"}},{"$f":"IF(+marzo!#REF!=\"\",\"\",marzo!#REF!)","v":{"$error":"#REF!"}},null,{"$f":"marzo!#REF!","v":{"$error":"#REF!"}},null,{"$f":"marzo!#REF!","v":{"$error":"#REF!"}},{"$f":"marzo!#REF!","v":{"$error":"#REF!"}},{"$f":"marzo!#REF!","v":{"$error":"#REF!"}},null,{"$f":"marzo!#REF!","v":{"$error":"#REF!"}},null,{"$f":"marzo!#REF!","v":{"$error":"#REF!"}},null,{"$f":"marzo!#REF!","v":{"$error":"#REF!"}},null,null,null,null,null,null,null,null,null,null,null,null,null,null,null,null,""]
[{"$f":"IF(+marzo!#REF!=\"\",\"\",marzo!#REF!)","v":{"$error":"#REF!"}},null,null,{"$f":"IF(+marzo!#REF!=\"\",\"\",marzo!#REF!)","v":{"$error":"#REF!"}},{"$f":"IF(+marzo!#REF!=\"\",\"\",marzo!#REF!)","v":{"$error":"#REF!"}},{"$f":"IF(+marzo!#REF!=\"\",\"\",marzo!#REF!)","v":{"$error":"#REF!"}},{"$f":"IF(+marzo!#REF!=\"\",\"\",marzo!#REF!)","v":{"$error":"#REF!"}},{"$f":"IF(+marzo!#REF!=\"\",\"\",marzo!#REF!)","v":{"$error":"#REF!"}},null,{"$f":"marzo!#REF!","v":{"$error":"#REF!"}},null,{"$f":"marzo!#REF!","v":{"$error":"#REF!"}},{"$f":"marzo!#REF!","v":{"$error":"#REF!"}},{"$f":"marzo!#REF!","v":{"$error":"#REF!"}},null,{"$f":"marzo!#REF!","v":{"$error":"#REF!"}},null,{"$f":"marzo!#REF!","v":{"$error":"#REF!"}},null,{"$f":"marzo!#REF!","v":{"$error":"#REF!"}},null,null,null,null,null,null,null,null,null,null,null,null,null,null,null,null,""]
[{"$f":"IF(+marzo!#REF!=\"\",\"\",marzo!#REF!)","v":{"$error":"#REF!"}},{"$f":"IF(LEN(C150)>0,VLOOKUP($F$6,DATA!$A:$S,2,FALSE),\"\")","v":{"$error":"#REF!"}},{"$error":"#REF!"},{"$f":"IF(+marzo!#REF!=\"\",\"\",marzo!#REF!)","v":{"$error":"#REF!"}},{"$f":"IF(+marzo!#REF!=\"\",\"\",marzo!#REF!)","v":{"$error":"#REF!"}},{"$f":"IF(+marzo!#REF!=\"\",\"\",marzo!#REF!)","v":{"$error":"#REF!"}},{"$f":"IF(+marzo!#REF!=\"\",\"\",marzo!#REF!)","v":{"$error":"#REF!"}},{"$f":"IF(+marzo!#REF!=\"\",\"\",marzo!#REF!)","v":{"$error":"#REF!"}},null,{"$f":"marzo!#REF!","v":{"$error":"#REF!"}},null,{"$f":"marzo!#REF!","v":{"$error":"#REF!"}},{"$f":"marzo!#REF!","v":{"$error":"#REF!"}},{"$f":"marzo!#REF!","v":{"$error":"#REF!"}},null,{"$f":"marzo!#REF!","v":{"$error":"#REF!"}},null,{"$f":"marzo!#REF!","v":{"$error":"#REF!"}},null,{"$f":"marzo!#REF!","v":{"$error":"#REF!"}},null,null,null,null,null,null,null,null,null,null,null,null,null,null,null,null,""]
["(*)Hora y minuto cronológico."]
["(**)Solo considerar las inasistencias que no han sido justificadas.",null,null,null,null,null,null,null,null,null,null,null,null,null,null,null,null,null,null,null,null,null,null,{"$f":"marzo!Y34","v":"AYUPALCA, 10-05-2024"}]
[null,null,null,null,null,null,null,null,null,null,null,null,null,null,null,null,null,null,null,null,null,null,null,null,null,null,null,null,null,null,null,null,null,null,null,null,null,"NOMBRADO (A)"]
[null,null,null,null,null,null,null,null,null,null,null,null,null,null,null,null,null,null,null,null,null,null,null,null,null,null,null,null,null,null,null,null,null,null,null,null,null,"CONTRATADO (A)"]
[null,null,null,null,null,null,null,null,null,null,null,null,null,null,null,null,null,null,null,null,null,null,null,null,null,null,null,null,null,null,null,null,null,null,null,null,null,"DESTACADO (A)"]

{"sheet":"Norma","index":5,"n_rows":0,"n_cols":0,"rows_kept":0,"cut":false,"hidden":true,"merged":[]}

{"sheet":"HORAS EFECTIVAS","index":6,"n_rows":54,"n_cols":81,"rows_kept":54,"cut":false,"hidden":true,"merged":[[7,61,7,62],[52,68,52,77],[53,68,53,77],[7,26,7,27],[10,2,11,2],[52,33,52,42],[53,33,53,42],[9,11,12,11],[9,12,12,12],[9,13,12,13]]}
[null,null,null,null,null,null,null,null,null,null,null,null,"FORMATO 02"]
[null,null,null,null,"INFORME DE HORAS EFECTIVAS DE TRABAJO PEDAGÓGICO EN LAS INSTITUCIONES EDUCATIVAS PÚBLICAS"]
[null,null,null,null,null,null,null,"UNIDAD DE GESTIÓN EDUCATIVA LOCAL  HUANTA"]
[null,null,null,null,{"$f":"marzo!#REF!","v":{"$error":"#REF!"}},null,null,null,null,null,null,null,null,null,{"$f":"marzo!$F$8","v":"B0 - Primaria                      "},null,null,null,null,null,null,null,null,null,null,null,null,null,null,null,null,null,null,null,null,null,null,null,null,null,null,null,null,null,null,null,null,null,null,{"$f":"marzo!$F$8","v":"B0 - Primaria                      "}]
[]
["LUGAR/DIREC.",null,null,{"$f":"CONCATENATE(VLOOKUP($O$4,DATA!$A$1:$S$1,6,FALSE))","v":{"$error":"#N/A"}},null,null,null,null,null,null,null,null,null,null,null,"REG/PROV/DIST.",null,null,null,null,null,null,null,{"$f":"VLOOKUP($O$4,DATA!$A$1:$S$1,9,FALSE)","v":{"$error":"#N/A"}},null,null,null,null,null,null,null,null,null,null,null,null,null,null,null,null,null,null,null,null,null,null,null,null,null,null,"REG/PROV/DIST.",null,null,null,null,null,null,null,{"$f":"VLOOKUP($O$4,DATA!$A$1:$S$1,9,FALSE)","v":{"$error":"#N/A"}}]
[]
[null,null,null,"NIVEL EDUCATIVO:",{"$f":"VLOOKUP($O$4,DATA!$A$1:$S$1,4,FALSE)","v":{"$error":"#N/A"}},null,null,null,null,null,"MODALIDAD:",null,null,{"$f":"marzo!$F$9","v":"1155134"},null,null,null,null,null,null,null,null,null,null,"AÑO:",null,{"$f":"marzo!AA8","v":2024},null,null,null,null,null,"MES:",null,null,{"$f":"marzo!Q8","v":"MARZO"},null,null,null,null,null,null,null,null,null,null,null,null,null,null,null,null,null,null,null,null,null,null,null,"AÑO:",null,{"$f":"marzo!AA8","v":2024},null,null,null,null,null,"MES:",null,null,{"$f":"AJ8","v":"MARZO"}]
[]
[null,"COD.",null,null,null,"Matriz Horas",null,null,null,null,"JOR","EDAD A CARGO","SECCIÓN","HORAS PROGRAM. EN EL MES",null,null,null,null,"HORAS EFECTIVAS DE TRABAJO ESCOLAR - MES",null,null,null,null,null,null,null,null,null,null,null,null,null,null,null,null,null,null,null,null,null,null,null,null,null,null,"TOTAL DE ",null,null,null,null,null,null,null,"HORAS EFECTIVAS DE TRABAJO ESCOLAR - MES",null,null,null,null,null,null,null,null,null,null,null,null,null,null,null,null,null,null,null,null,null,null,null,null,null,null,"TOTAL DE "]
["N°","MOD.","MES","APELLIDOS Y NOMRES","DNI","     Semanal",null,null,null,null,"NADA",null,null,null,null,null,null,null,null,"DIAS EFECTIVAS DE TRABAJO ESCOLAR",null,null,null,null,null,null,null,null,null,null,null,null,null,null,null,null,null,null,null,null,null,null,null,null,null,"HORAS ",null,null,null,null,null,null,null,null,"DIAS EFECTIVAS DE TRABAJO ESCOLAR",null,null,null,null,null,null,null,null,null,null,null,null,null,null,null,null,null,null,null,null,null,null,null,null,null,"HORAS "]
[null,null,null,null,null,null,null,null,null,null,"LABO",null,null,null,1,2,3,4,5,6,7,8,9,10,11,12,13,14,15,16,17,18,19,20,21,22,23,24,25,26,27,28,29,30,31,"EFECTIVAS ",null,null,null,1,2,3,4,5,6,7,8,9,10,11,12,13,14,15,16,17,18,19,20,21,22,23,24,25,26,27,28,29,30,31,"EFECTIVAS "]
[null,null,null,null,null,"lu.","ma.","mi.","ju.","vi.","RAL",null,null,null,{"$f":"marzo!I$14","v":"vi."},{"$f":"marzo!J$14","v":"sá."},{"$f":"marzo!K$14","v":"do."},{"$f":"marzo!L$14","v":"lu."},{"$f":"marzo!M$14","v":"ma."},{"$f":"marzo!N$14","v":"mi."},{"$f":"marzo!O$14","v":"ju."},{"$f":"marzo!P$14","v":"vi."},{"$f":"marzo!Q$14","v":"sá."},{"$f":"marzo!R$14","v":"do."},{"$f":"marzo!S$14","v":"lu."},{"$f":"marzo!T$14","v":"ma."},{"$f":"marzo!U$14","v":"mi."},{"$f":"marzo!V$14","v":"ju."},{"$f":"marzo!W$14","v":"vi."},{"$f":"marzo!X$14","v":"sá."},{"$f":"marzo!Y$14","v":"do."},{"$f":"marzo!Z$14","v":"lu."},{"$f":"marzo!AA$14","v":"ma."},{"$f":"marzo!AB$14","v":"mi."},{"$f":"marzo!AC$14","v":"ju."},{"$f":"marzo!AD$14","v":"vi."},{"$f":"marzo!AE$14","v":"sá."},{"$f":"marzo!AF$14","v":"do."},{"$f":"marzo!AG$14","v":"lu."},{"$f":"marzo!AH$14","v":"ma."},{"$f":"marzo!AI$14","v":"mi."},{"$f":"marzo!AJ$14","v":"ju."},{"$f":"marzo!AK$14","v":"vi."},{"$f":"marzo!AL$14","v":"sá."},{"$f":"marzo!AN$14","v":0},"MENSUAL ",null,null,null,{"$f":"marzo!I$14","v":"vi."},{"$f":"marzo!J$14","v":"sá."},{"$f":"marzo!K$14","v":"do."},{"$f":"marzo!L$14","v":"lu."},{"$f":"marzo!M$14","v":"ma."},{"$f":"marzo!N$14","v":"mi."},{"$f":"marzo!O$14","v":"ju."},{"$f":"marzo!P$14","v":"vi."},{"$f":"marzo!Q$14","v":"sá."},{"$f":"marzo!R$14","v":"do."},{"$f":"marzo!S$14","v":"lu."},{"$f":"marzo!T$14","v":"ma."},{"$f":"marzo!U$14","v":"mi."},{"$f":"marzo!V$14","v":"ju."},{"$f":"marzo!W$14","v":"vi."},{"$f":"marzo!X$14","v":"sá."},{"$f":"marzo!Y$14","v":"do."},{"$f":"marzo!Z$14","v":"lu."},{"$f":"marzo!AA$14","v":"ma."},{"$f":"marzo!AB$14","v":"mi."},{"$f":"marzo!AC$14","v":"ju."},{"$f":"marzo!AD$14","v":"vi."},{"$f":"marzo!AE$14","v":"sá."},{"$f":"marzo!AF$14","v":"do."},{"$f":"marzo!AG$14","v":"lu."},{"$f":"marzo!AH$14","v":"ma."},{"$f":"marzo!AI$14","v":"mi."},{"$f":"marzo!AJ$14","v":"ju."},{"$f":"marzo!AK$14","v":"vi."},{"$f":"marzo!AL$14","v":"sá."},{"$f":"marzo!AN$14","v":0},"MENSUAL "]
[null,{"$f":"IF(LEN(C14)>0,VLOOKUP($O$4,DATA!$A$1:$S$1,2,FALSE),\"\")","v":{"$error":"#REF!"}},{"$f":"IF(LEN(D14)>0,$AJ$8,\"\")","v":{"$error":"#REF!"}},{"$f":"IF(LEN(marzo!#REF!)>0,marzo!#REF!,\"\")","v":{"$error":"#REF!"}},{"$f":"IF(LEN(D14)>0,marzo!#REF!,\"\")","v":{"$error":"#REF!"}},null,null,null,null,null,{"$f":"IF(SUM(F14:J14)>0,SUM(F14:J14),\"\")","v":""},null,null,{"$f":"CC14","v":{"$error":"#REF!"}},{"$f":"IF(AND(LEN($D14)>0,SUMIF($F$13:$J$13,O$13,$F14:$J14)>0,marzo!#REF!<>\"X\",marzo!#REF!<>\"L\",marzo!#REF!<>\"J\",marzo!#REF!<>\"V\",marzo!#REF!<>\"F\",marzo!#REF!<>\"\"),SUMIF($F$13:$J$13,O$13,$F14:$J14),\"\")","v":{"$error":"#REF!"}},{"$f":"IF(AND(LEN($D14)>0,SUMIF($F$13:$J$13,P$13,$F14:$J14)>0,marzo!#REF!<>\"X\",marzo!#REF!<>\"L\",marzo!#REF!<>\"J\",marzo!#REF!<>\"V\",marzo!#REF!<>\"F\",marzo!#REF!<>\"\"),SUMIF($F$13:$J$13,P$13,$F14:$J14),\"\")","v":{"$error":"#REF!"}},{"$f":"IF(AND(LEN($D14)>0,SUMIF($F$13:$J$13,Q$13,$F14:$J14)>0,marzo!#REF!<>\"X\",marzo!#REF!<>\"L\",marzo!#REF!<>\"J\",marzo!#REF!<>\"V\",marzo!#REF!<>\"F\",marzo!#REF!<>\"\"),SUMIF($F$13:$J$13,Q$13,$F14:$J14),\"\")","v":{"$error":"#REF!"}},{"$f":"IF(AND(LEN($D14)>0,SUMIF($F$13:$J$13,R$13,$F14:$J14)>0,marzo!#REF!<>\"X\",marzo!#REF!<>\"L\",marzo!#REF!<>\"J\",marzo!#REF!<>\"V\",marzo!#REF!<>\"F\",marzo!#REF!<>\"\"),SUMIF($F$13:$J$13,R$13,$F14:$J14),\"\")","v":{"$error":"#REF!"}},{"$f":"IF(AND(LEN($D14)>0,SUMIF($F$13:$J$13,S$13,$F14:$J14)>0,marzo!#REF!<>\"X\",marzo!#REF!<>\"L\",marzo!#REF!<>\"J\",marzo!#REF!<>\"V\",marzo!#REF!<>\"F\",marzo!#REF!<>\"\"),SUMIF($F$13:$J$13,S$13,$F14:$J14),\"\")","v":{"$error":"#REF!"}},{"$f":"IF(AND(LEN($D14)>0,SUMIF($F$13:$J$13,T$13,$F14:$J14)>0,marzo!#REF!<>\"X\",marzo!#REF!<>\"L\",marzo!#REF!<>\"J\",marzo!#REF!<>\"V\",marzo!#REF!<>\"F\",marzo!#REF!<>\"\"),SUMIF($F$13:$J$13,T$13,$F14:$J14),\"\")","v":{"$error":"#REF!"}},{"$f":"IF(AND(LEN($D14)>0,SUMIF($F$13:$J$13,U$13,$F14:$J14)>0,marzo!#REF!<>\"X\",marzo!#REF!<>\"L\",marzo!#REF!<>\"J\",marzo!#REF!<>\"V\",marzo!#REF!<>\"F\",marzo!#REF!<>\"\"),SUMIF($F$13:$J$13,U$13,$F14:$J14),\"\")","v":{"$error":"#REF!"}},{"$f":"IF(AND(LEN($D14)>0,SUMIF($F$13:$J$13,V$13,$F14:$J14)>0,marzo!#REF!<>\"X\",marzo!#REF!<>\"L\",marzo!#REF!<>\"J\",marzo!#REF!<>\"V\",marzo!#REF!<>\"F\",marzo!#REF!<>\"\"),SUMIF($F$13:$J$13,V$13,$F14:$J14),\"\")","v":{"$error":"#REF!"}},{"$f":"IF(AND(LEN($D14)>0,SUMIF($F$13:$J$13,W$13,$F14:$J14)>0,marzo!#REF!<>\"X\",marzo!#REF!<>\"L\",marzo!#REF!<>\"J\",marzo!#REF!<>\"V\",marzo!#REF!<>\"F\",marzo!#REF!<>\"\"),SUMIF($F$13:$J$13,W$13,$F14:$J14),\"\")","v":{"$error":"#REF!"}},{"$f":"IF(AND(LEN($D14)>0,SUMIF($F$13:$J$13,X$13,$F14:$J14)>0,marzo!#REF!<>\"X\",marzo!#REF!<>\"L\",marzo!#REF!<>\"J\",marzo!#REF!<>\"V\",marzo!#REF!<>\"F\",marzo!#REF!<>\"\"),SUMIF($F$13:$J$13,X$13,$F14:$J14),\"\")","v":{"$error":"#REF!"}},{"$f":"IF(AND(LEN($D14)>0,SUMIF($F$13:$J$13,Y$13,$F14:$J14)>0,marzo!#REF!<>\"X\",marzo!#REF!<>\"L\",marzo!#REF!<>\"J\",marzo!#REF!<>\"V\",marzo!#REF!<>\"F\",marzo!#REF!<>\"\"),SUMIF($F$13:$J$13,Y$13,$F14:$J14),\"\")","v":{"$error":"#REF!"}},{"$f":"IF(AND(LEN($D14)>0,SUMIF($F$13:$J$13,Z$13,$F14:$J14)>0,marzo!#REF!<>\"X\",marzo!#REF!<>\"L\",marzo!#REF!<>\"J\",marzo!#REF!<>\"V\",marzo!#REF!<>\"F\",marzo!#REF!<>\"\"),SUMIF($F$13:$J$13,Z$13,$F14:$J14),\"\")","v":{"$error":"#REF!"}},{"$f":"IF(AND(LEN($D14)>0,SUMIF($F$13:$J$13,AA$13,$F14:$J14)>0,marzo!#REF!<>\"X\",marzo!#REF!<>\"L\",marzo!#REF!<>\"J\",marzo!#REF!<>\"V\",marzo!#REF!<>\"F\",marzo!#REF!<>\"\"),SUMIF($F$13:$J$13,AA$13,$F14:$J14),\"\")","v":{"$error":"#REF!"}},{"$f":"IF(AND(LEN($D14)>0,SUMIF($F$13:$J$13,AB$13,$F14:$J14)>0,marzo!#REF!<>\"X\",marzo!#REF!<>\"L\",marzo!#REF!<>\"J\",marzo!#REF!<>\"V\",marzo!#REF!<>\"F\",marzo!#REF!<>\"\"),SUMIF($F$13:$J$13,AB$13,$F14:$J14),\"\")","v":{"$error":"#REF!"}},{"$f":"IF(AND(LEN($D14)>0,SUMIF($F$13:$J$13,AC$13,$F14:$J14)>0,marzo!#REF!<>\"X\",marzo!#REF!<>\"L\",marzo!#REF!<>\"J\",marzo!#REF!<>\"V\",marzo!#REF!<>\"F\",marzo!#REF!<>\"\"),SUMIF($F$13:$J$13,AC$13,$F14:$J14),\"\")","v":{"$error":"#REF!"}},{"$f":"IF(AND(LEN($D14)>0,SUMIF($F$13:$J$13,AD$13,$F14:$J14)>0,marzo!#REF!<>\"X\",marzo!#REF!<>\"L\",marzo!#REF!<>\"J\",marzo!#REF!<>\"V\",marzo!#REF!<>\"F\",marzo!#REF!<>\"\"),SUMIF($F$13:$J$13,AD$13,$F14:$J14),\"\")","v":{"$error":"#REF!"}},{"$f":"IF(AND(LEN($D14)>0,SUMIF($F$13:$J$13,AE$13,$F14:$J14)>0,marzo!#REF!<>\"X\",marzo!#REF!<>\"L\",marzo!#REF!<>\"J\",marzo!#REF!<>\"V\",marzo!#REF!<>\"F\",marzo!#REF!<>\"\"),SUMIF($F$13:$J$13,AE$13,$F14:$J14),\"\")","v":{"$error":"#REF!"}},{"$f":"IF(AND(LEN($D14)>0,SUMIF($F$13:$J$13,AF$13,$F14:$J14)>0,marzo!#REF!<>\"X\",marzo!#REF!<>\"L\",marzo!#REF!<>\"J\",marzo!#REF!<>\"V\",marzo!#REF!<>\"F\",marzo!#REF!<>\"\"),SUMIF($F$13:$J$13,AF$13,$F14:$J14),\"\")","v":{"$error":"#REF!"}},{"$f":"IF(AND(LEN($D14)>0,SUMIF($F$13:$J$13,AG$13,$F14:$J14)>0,marzo!#REF!<>\"X\",marzo!#REF!<>\"L\",marzo!#REF!<>\"J\",marzo!#REF!<>\"V\",marzo!#REF!<>\"F\",marzo!#REF!<>\"\"),SUMIF($F$13:$J$13,AG$13,$F14:$J14),\"\")","v":{"$error":"#REF!"}},{"$f":"IF(AND(LEN($D14)>0,SUMIF($F$13:$J$13,AH$13,$F14:$J14)>0,marzo!#REF!<>\"X\",marzo!#REF!<>\"L\",marzo!#REF!<>\"J\",marzo!#REF!<>\"V\",marzo!#REF!<>\"F\",marzo!#REF!<>\"\"),SUMIF($F$13:$J$13,AH$13,$F14:$J14),\"\")","v":{"$error":"#REF!"}},{"$f":"IF(AND(LEN($D14)>0,SUMIF($F$13:$J$13,AI$13,$F14:$J14)>0,marzo!#REF!<>\"X\",marzo!#REF!<>\"L\",marzo!#REF!<>\"J\",marzo!#REF!<>\"V\",marzo!#REF!<>\"F\",marzo!#REF!<>\"\"),SUMIF($F$13:$J$13,AI$13,$F14:$J14),\"\")","v":{"$error":"#REF!"}},{"$f":"IF(AND(LEN($D14)>0,SUMIF($F$13:$J$13,AJ$13,$F14:$J14)>0,marzo!#REF!<>\"X\",marzo!#REF!<>\"L\",marzo!#REF!<>\"J\",marzo!#REF!<>\"V\",marzo!#REF!<>\"F\",marzo!#REF!<>\"\"),SUMIF($F$13:$J$13,AJ$13,$F14:$J14),\"\")","v":{"$error":"#REF!"}},{"$f":"IF(AND(LEN($D14)>0,SUMIF($F$13:$J$13,AK$13,$F14:$J14)>0,marzo!#REF!<>\"X\",marzo!#REF!<>\"L\",marzo!#REF!<>\"J\",marzo!#REF!<>\"V\",marzo!#REF!<>\"F\",marzo!#REF!<>\"\"),SUMIF($F$13:$J$13,AK$13,$F14:$J14),\"\")","v":{"$error":"#REF!"}},{"$f":"IF(AND(LEN($D14)>0,SUMIF($F$13:$J$13,AL$13,$F14:$J14)>0,marzo!#REF!<>\"X\",marzo!#REF!<>\"L\",marzo!#REF!<>\"J\",marzo!#REF!<>\"V\",marzo!#REF!<>\"F\",marzo!#REF!<>\"\"),SUMIF($F$13:$J$13,AL$13,$F14:$J14),\"\")","v":{"$error":"#REF!"}},{"$f":"IF(AND(LEN($D14)>0,SUMIF($F$13:$J$13,AM$13,$F14:$J14)>0,marzo!#REF!<>\"X\",marzo!#REF!<>\"L\",marzo!#REF!<>\"J\",marzo!#REF!<>\"V\",marzo!#REF!<>\"F\",marzo!#REF!<>\"\"),SUMIF($F$13:$J$13,AM$13,$F14:$J14),\"\")","v":{"$error":"#REF!"}},{"$f":"IF(AND(LEN($D14)>0,SUMIF($F$13:$J$13,AN$13,$F14:$J14)>0,marzo!#REF!<>\"X\",marzo!#REF!<>\"L\",marzo!#REF!<>\"J\",marzo!#REF!<>\"V\",marzo!#REF!<>\"F\",marzo!#REF!<>\"\"),SUMIF($F$13:$J$13,AN$13,$F14:$J14),\"\")","v":{"$error":"#REF!"}},{"$f":"IF(AND(LEN($D14)>0,SUMIF($F$13:$J$13,AO$13,$F14:$J14)>0,marzo!#REF!<>\"X\",marzo!#REF!<>\"L\",marzo!#REF!<>\"J\",marzo!#REF!<>\"V\",marzo!#REF!<>\"F\",marzo!#REF!<>\"\"),SUMIF($F$13:$J$13,AO$13,$F14:$J14),\"\")","v":{"$error":"#REF!"}},{"$f":"IF(AND(LEN($D14)>0,SUMIF($F$13:$J$13,AP$13,$F14:$J14)>0,marzo!#REF!<>\"X\",marzo!#REF!<>\"L\",marzo!#REF!<>\"J\",marzo!#REF!<>\"V\",marzo!#REF!<>\"F\",marzo!#REF!<>\"\"),SUMIF($F$13:$J$13,AP$13,$F14:$J14),\"\")","v":{"$error":"#REF!"}},{"$f":"IF(AND(LEN($D14)>0,SUMIF($F$13:$J$13,AQ$13,$F14:$J14)>0,marzo!#REF!<>\"X\",marzo!#REF!<>\"L\",marzo!#REF!<>\"J\",marzo!#REF!<>\"V\",marzo!#REF!<>\"F\",marzo!#REF!<>\"\"),SUMIF($F$13:$J$13,AQ$13,$F14:$J14),\"\")","v":{"$error":"#REF!"}},{"$f":"IF(AND(LEN($D14)>0,SUMIF($F$13:$J$13,AR$13,$F14:$J14)>0,marzo!#REF!<>\"X\",marzo!#REF!<>\"L\",marzo!#REF!<>\"J\",marzo!#REF!<>\"V\",marzo!#REF!<>\"F\",marzo!#REF!<>\"\"),SUMIF($F$13:$J$13,AR$13,$F14:$J14),\"\")","v":{"$error":"#REF!"}},{"$f":"IF(AND(LEN($D14)>0,SUMIF($F$13:$J$13,AS$13,$F14:$J14)>0,marzo!#REF!<>\"X\",marzo!#REF!<>\"L\",marzo!#REF!<>\"J\",marzo!#REF!<>\"V\",marzo!#REF!<>\"F\",marzo!#REF!<>\"\"),SUMIF($F$13:$J$13,AS$13,$F14:$J14),\"\")","v":{"$error":"#REF!"}},{"$f":"IF(SUM(O14:AS14)>0,SUM(O14:AS14),\"\")","v":{"$error":"#REF!"}},null,null,null,{"$f":"IF(AND(LEN($D14)>0,SUMIF($F$13:$J$13,AX$13,$F14:$J14)>0,marzo!#REF!<>\"X\",marzo!#REF!<>\"L\",marzo!#REF!<>\"J\",marzo!#REF!<>\"F\"),SUMIF($F$13:$J$13,AX$13,$F14:$J14),\"\")","v":{"$error":"#REF!"}},{"$f":"IF(AND(LEN($D14)>0,SUMIF($F$13:$J$13,AY$13,$F14:$J14)>0,marzo!#REF!<>\"X\",marzo!#REF!<>\"L\",marzo!#REF!<>\"J\",marzo!#REF!<>\"F\"),SUMIF($F$13:$J$13,AY$13,$F14:$J14),\"\")","v":{"$error":"#REF!"}},{"$f":"IF(AND(LEN($D14)>0,SUMIF($F$13:$J$13,AZ$13,$F14:$J14)>0,marzo!#REF!<>\"X\",marzo!#REF!<>\"L\",marzo!#REF!<>\"J\",marzo!#REF!<>\"F\"),SUMIF($F$13:$J$13,AZ$13,$F14:$J14),\"\")","v":{"$error":"#REF!"}},{"$f":"IF(AND(LEN($D14)>0,SUMIF($F$13:$J$13,BA$13,$F14:$J14)>0,marzo!#REF!<>\"X\",marzo!#REF!<>\"L\",marzo!#REF!<>\"J\",marzo!#REF!<>\"F\"),SUMIF($F$13:$J$13,BA$13,$F14:$J14),\"\")","v":{"$error":"#REF!"}},{"$f":"IF(AND(LEN($D14)>0,SUMIF($F$13:$J$13,BB$13,$F14:$J14)>0,marzo!#REF!<>\"X\",marzo!#REF!<>\"L\",marzo!#REF!<>\"J\",marzo!#REF!<>\"F\"),SUMIF($F$13:$J$13,BB$13,$F14:$J14),\"\")","v":{"$error":"#REF!"}},{"$f":"IF(AND(LEN($D14)>0,SUMIF($F$13:$J$13,BC$13,$F14:$J14)>0,marzo!#REF!<>\"X\",marzo!#REF!<>\"L\",marzo!#REF!<>\"J\",marzo!#REF!<>\"F\"),SUMIF($F$13:$J$13,BC$13,$F14:$J14),\"\")","v":{"$error":"#REF!"}},{"$f":"IF(AND(LEN($D14)>0,SUMIF($F$13:$J$13,BD$13,$F14:$J14)>0,marzo!#REF!<>\"X\",marzo!#REF!<>\"L\",marzo!#REF!<>\"J\",marzo!#REF!<>\"F\"),SUMIF($F$13:$J$13,BD$13,$F14:$J14),\"\")","v":{"$error":"#REF!"}},{"$f":"IF(AND(LEN($D14)>0,SUMIF($F$13:$J$13,BE$13,$F14:$J14)>0,marzo!#REF!<>\"X\",marzo!#REF!<>\"L\",marzo!#REF!<>\"J\",marzo!#REF!<>\"F\"),SUMIF($F$13:$J$13,BE$13,$F14:$J14),\"\")","v":{"$error":"#REF!"}},{"$f":"IF(AND(LEN($D14)>0,SUMIF($F$13:$J$13,BF$13,$F14:$J14)>0,marzo!#REF!<>\"X\",marzo!#REF!<>\"L\",marzo!#REF!<>\"J\",marzo!#REF!<>\"F\"),SUMIF($F$13:$J$13,BF$13,$F14:$J14),\"\")","v":{"$error":"#REF!"}},{"$f":"IF(AND(LEN($D14)>0,SUMIF($F$13:$J$13,BG$13,$F14:$J14)>0,marzo!#REF!<>\"X\",marzo!#REF!<>\"L\",marzo!#REF!<>\"J\",marzo!#REF!<>\"F\"),SUMIF($F$13:$J$13,BG$13,$F14:$J14),\"\")","v":{"$error":"#REF!"}},{"$f":"IF(AND(LEN($D14)>0,SUMIF($F$13:$J$13,BH$13,$F14:$J14)>0,marzo!#REF!<>\"X\",marzo!#REF!<>\"L\",marzo!#REF!<>\"J\",marzo!#REF!<>\"F\"),SUMIF($F$13:$J$13,BH$13,$F14:$J14),\"\")","v":{"$error":"#REF!"}},{"$f":"IF(AND(LEN($D14)>0,SUMIF($F$13:$J$13,BI$13,$F14:$J14)>0,marzo!#REF!<>\"X\",marzo!#REF!<>\"L\",marzo!#REF!<>\"J\",marzo!#REF!<>\"F\"),SUMIF($F$13:$J$13,BI$13,$F14:$J14),\"\")","v":{"$error":"#REF!"}},{"$f":"IF(AND(LEN($D14)>0,SUMIF($F$13:$J$13,BJ$13,$F14:$J14)>0,marzo!#REF!<>\"X\",marzo!#REF!<>\"L\",marzo!#REF!<>\"J\",marzo!#REF!<>\"F\"),SUMIF($F$13:$J$13,BJ$13,$F14:$J14),\"\")","v":{"$error":"#REF!"}},{"$f":"IF(AND(LEN($D14)>0,SUMIF($F$13:$J$13,BK$13,$F14:$J14)>0,marzo!#REF!<>\"X\",marzo!#REF!<>\"L\",marzo!#REF!<>\"J\",marzo!#REF!<>\"F\"),SUMIF($F$13:$J$13,BK$13,$F14:$J14),\"\")","v":{"$error":"#REF!"}},{"$f":"IF(AND(LEN($D14)>0,SUMIF($F$13:$J$13,BL$13,$F14:$J14)>0,marzo!#REF!<>\"X\",marzo!#REF!<>\"L\",marzo!#REF!<>\"J\",marzo!#REF!<>\"F\"),SUMIF($F$13:$J$13,BL$13,$F14:$J14),\"\")","v":{"$error":"#REF!"}},{"$f":"IF(AND(LEN($D14)>0,SUMIF($F$13:$J$13,BM$13,$F14:$J14)>0,marzo!#REF!<>\"X\",marzo!#REF!<>\"L\",marzo!#REF!<>\"J\",marzo!#REF!<>\"F\"),SUMIF($F$13:$J$13,BM$13,$F14:$J14),\"\")","v":{"$error":"#REF!"}},{"$f":"IF(AND(LEN($D14)>0,SUMIF($F$13:$J$13,BN$13,$F14:$J14)>0,marzo!#REF!<>\"X\",marzo!#REF!<>\"L\",marzo!#REF!<>\"J\",marzo!#REF!<>\"F\"),SUMIF($F$13:$J$13,BN$13,$F14:$J14),\"\")","v":{"$error":"#REF!"}},{"$f":"IF(AND(LEN($D14)>0,SUMIF($F$13:$J$13,BO$13,$F14:$J14)>0,marzo!#REF!<>\"X\",marzo!#REF!<>\"L\",marzo!#REF!<>\"J\",marzo!#REF!<>\"F\"),SUMIF($F$13:$J$13,BO$13,$F14:$J14),\"\")","v":{"$error":"#REF!"}},{"$f":"IF(AND(LEN($D14)>0,SUMIF($F$13:$J$13,BP$13,$F14:$J14)>0,marzo!#REF!<>\"X\",marzo!#REF!<>\"L\",marzo!#REF!<>\"J\",marzo!#REF!<>\"F\"),SUMIF($F$13:$J$13,BP$13,$F14:$J14),\"\")","v":{"$error":"#REF!"}},{"$f":"IF(AND(LEN($D14)>0,SUMIF($F$13:$J$13,BQ$13,$F14:$J14)>0,marzo!#REF!<>\"X\",marzo!#REF!<>\"L\",marzo!#REF!<>\"J\",marzo!#REF!<>\"F\"),SUMIF($F$13:$J$13,BQ$13,$F14:$J14),\"\")","v":{"$error":"#REF!"}},{"$f":"IF(AND(LEN($D14)>0,SUMIF($F$13:$J$13,BR$13,$F14:$J14)>0,marzo!#REF!<>\"X\",marzo!#REF!<>\"L\",marzo!#REF!<>\"J\",marzo!#REF!<>\"F\"),SUMIF($F$13:$J$13,BR$13,$F14:$J14),\"\")","v":{"$error":"#REF!"}},{"$f":"IF(AND(LEN($D14)>0,SUMIF($F$13:$J$13,BS$13,$F14:$J14)>0,marzo!#REF!<>\"X\",marzo!#REF!<>\"L\",marzo!#REF!<>\"J\",marzo!#REF!<>\"F\"),SUMIF($F$13:$J$13,BS$13,$F14:$J14),\"\")","v":{"$error":"#REF!"}},{"$f":"IF(AND(LEN($D14)>0,SUMIF($F$13:$J$13,BT$13,$F14:$J14)>0,marzo!#REF!<>\"X\",marzo!#REF!<>\"L\",marzo!#REF!<>\"J\",marzo!#REF!<>\"F\"),SUMIF($F$13:$J$13,BT$13,$F14:$J14),\"\")","v":{"$error":"#REF!"}},{"$f":"IF(AND(LEN($D14)>0,SUMIF($F$13:$J$13,BU$13,$F14:$J14)>0,marzo!#REF!<>\"X\",marzo!#REF!<>\"L\",marzo!#REF!<>\"J\",marzo!#REF!<>\"F\"),SUMIF($F$13:$J$13,BU$13,$F14:$J14),\"\")","v":{"$error":"#REF!"}},{"$f":"IF(AND(LEN($D14)>0,SUMIF($F$13:$J$13,BV$13,$F14:$J14)>0,marzo!#REF!<>\"X\",marzo!#REF!<>\"L\",marzo!#REF!<>\"J\",marzo!#REF!<>\"F\"),SUMIF($F$13:$J$13,BV$13,$F14:$J14),\"\")","v":{"$error":"#REF!"}},{"$f":"IF(AND(LEN($D14)>0,SUMIF($F$13:$J$13,BW$13,$F14:$J14)>0,marzo!#REF!<>\"X\",marzo!#REF!<>\"L\",marzo!#REF!<>\"J\",marzo!#REF!<>\"F\"),SUMIF($F$13:$J$13,BW$13,$F14:$J14),\"\")","v":{"$error":"#REF!"}},{"$f":"IF(AND(LEN($D14)>0,SUMIF($F$13:$J$13,BX$13,$F14:$J14)>0,marzo!#REF!<>\"X\",marzo!#REF!<>\"L\",marzo!#REF!<>\"J\",marzo!#REF!<>\"F\"),SUMIF($F$13:$J$13,BX$13,$F14:$J14),\"\")","v":{"$error":"#REF!"}},{"$f":"IF(AND(LEN($D14)>0,SUMIF($F$13:$J$13,BY$13,$F14:$J14)>0,marzo!#REF!<>\"X\",marzo!#REF!<>\"L\",marzo!#REF!<>\"J\",marzo!#REF!<>\"F\"),SUMIF($F$13:$J$13,BY$13,$F14:$J14),\"\")","v":{"$error":"#REF!"}},{"$f":"IF(AND(LEN($D14)>0,SUMIF($F$13:$J$13,BZ$13,$F14:$J14)>0,marzo!#REF!<>\"X\",marzo!#REF!<>\"L\",marzo!#REF!<>\"J\",marzo!#REF!<>\"F\"),SUMIF($F$13:$J$13,BZ$13,$F14:$J14),\"\")","v":{"$error":"#REF!"}},{"$f":"IF(AND(LEN($D14)>0,SUMIF($F$13:$J$13,CA$13,$F14:$J14)>0,marzo!#REF!<>\"X\",marzo!#REF!<>\"L\",marzo!#REF!<>\"J\",marzo!#REF!<>\"F\"),SUMIF($F$13:$J$13,CA$13,$F14:$J14),\"\")","v":{"$error":"#REF!"}},{"$f":"IF(AND(LEN($D14)>0,SUMIF($F$13:$J$13,CB$13,$F14:$J14)>0,marzo!#REF!<>\"X\",marzo!#REF!<>\"L\",marzo!#REF!<>\"J\",marzo!#REF!<>\"F\"),SUMIF($F$13:$J$13,CB$13,$F14:$J14),\"\")","v":{"$error":"#REF!"}},{"$f":"IF(SUM(AX14:CB14)>0,SUM(AX14:CB14),\"\")","v":{"$error":"#REF!"}}]
[{"$f":"IF(LEN(B15)>0,1+A14,\"\")","v":{"$error":"#N/A"}},{"$f":"IF(LEN(C15)>0,VLOOKUP($O$4,DATA!$A$1:$S$1,2,FALSE),\"\")","v":{"$error":"#N/A"}},{"$f":"IF(LEN(D15)>0,$AJ$8,\"\")","v":"MARZO"},{"$f":"IF(LEN(marzo!E15)>0,marzo!E15,\"\")","v":"AGUILAR CHOQUE, EFRAIN CARLOS"},{"$f":"IF(LEN(D15)>0,marzo!F15,\"\")","v":"Director(e)"},null,null,null,null,null,"",null,null,{"$f":"CC15","v":{"$error":"#REF!"}},{"$f":"IF(AND(LEN($D15)>0,SUMIF($F$13:$J$13,O$13,$F15:$J15)>0,marzo!I15<>\"X\",marzo!I15<>\"L\",marzo!I15<>\"J\",marzo!I15<>\"V\",marzo!I15<>\"F\",marzo!I15<>\"\"),SUMIF($F$13:$J$13,O$13,$F15:$J15),\"\")","v":""},{"$f":"IF(AND(LEN($D15)>0,SUMIF($F$13:$J$13,P$13,$F15:$J15)>0,marzo!J15<>\"X\",marzo!J15<>\"L\",marzo!J15<>\"J\",marzo!J15<>\"V\",marzo!J15<>\"F\",marzo!J15<>\"\"),SUMIF($F$13:$J$13,P$13,$F15:$J15),\"\")","v":""},{"$f":"IF(AND(LEN($D15)>0,SUMIF($F$13:$J$13,Q$13,$F15:$J15)>0,marzo!K15<>\"X\",marzo!K15<>\"L\",marzo!K15<>\"J\",marzo!K15<>\"V\",marzo!K15<>\"F\",marzo!K15<>\"\"),SUMIF($F$13:$J$13,Q$13,$F15:$J15),\"\")","v":""},{"$f":"IF(AND(LEN($D15)>0,SUMIF($F$13:$J$13,R$13,$F15:$J15)>0,marzo!L15<>\"X\",marzo!L15<>\"L\",marzo!L15<>\"J\",marzo!L15<>\"V\",marzo!L15<>\"F\",marzo!L15<>\"\"),SUMIF($F$13:$J$13,R$13,$F15:$J15),\"\")","v":""},{"$f":"IF(AND(LEN($D15)>0,SUMIF($F$13:$J$13,S$13,$F15:$J15)>0,marzo!M15<>\"X\",marzo!M15<>\"L\",marzo!M15<>\"J\",marzo!M15<>\"V\",marzo!M15<>\"F\",marzo!M15<>\"\"),SUMIF($F$13:$J$13,S$13,$F15:$J15),\"\")","v":""},{"$f":"IF(AND(LEN($D15)>0,SUMIF($F$13:$J$13,T$13,$F15:$J15)>0,marzo!N15<>\"X\",marzo!N15<>\"L\",marzo!N15<>\"J\",marzo!N15<>\"V\",marzo!N15<>\"F\",marzo!N15<>\"\"),SUMIF($F$13:$J$13,T$13,$F15:$J15),\"\")","v":""},{"$f":"IF(AND(LEN($D15)>0,SUMIF($F$13:$J$13,U$13,$F15:$J15)>0,marzo!O15<>\"X\",marzo!O15<>\"L\",marzo!O15<>\"J\",marzo!O15<>\"V\",marzo!O15<>\"F\",marzo!O15<>\"\"),SUMIF($F$13:$J$13,U$13,$F15:$J15),\"\")","v":""},{"$f":"IF(AND(LEN($D15)>0,SUMIF($F$13:$J$13,V$13,$F15:$J15)>0,marzo!P15<>\"X\",marzo!P15<>\"L\",marzo!P15<>\"J\",marzo!P15<>\"V\",marzo!P15<>\"F\",marzo!P15<>\"\"),SUMIF($F$13:$J$13,V$13,$F15:$J15),\"\")","v":""},{"$f":"IF(AND(LEN($D15)>0,SUMIF($F$13:$J$13,W$13,$F15:$J15)>0,marzo!Q15<>\"X\",marzo!Q15<>\"L\",marzo!Q15<>\"J\",marzo!Q15<>\"V\",marzo!Q15<>\"F\",marzo!Q15<>\"\"),SUMIF($F$13:$J$13,W$13,$F15:$J15),\"\")","v":""},{"$f":"IF(AND(LEN($D15)>0,SUMIF($F$13:$J$13,X$13,$F15:$J15)>0,marzo!R15<>\"X\",marzo!R15<>\"L\",marzo!R15<>\"J\",marzo!R15<>\"V\",marzo!R15<>\"F\",marzo!R15<>\"\"),SUMIF($F$13:$J$13,X$13,$F15:$J15),\"\")","v":""},{"$f":"IF(AND(LEN($D15)>0,SUMIF($F$13:$J$13,Y$13,$F15:$J15)>0,marzo!S15<>\"X\",marzo!S15<>\"L\",marzo!S15<>\"J\",marzo!S15<>\"V\",marzo!S15<>\"F\",marzo!S15<>\"\"),SUMIF($F$13:$J$13,Y$13,$F15:$J15),\"\")","v":""},{"$f":"IF(AND(LEN($D15)>0,SUMIF($F$13:$J$13,Z$13,$F15:$J15)>0,marzo!T15<>\"X\",marzo!T15<>\"L\",marzo!T15<>\"J\",marzo!T15<>\"V\",marzo!T15<>\"F\",marzo!T15<>\"\"),SUMIF($F$13:$J$13,Z$13,$F15:$J15),\"\")","v":""},{"$f":"IF(AND(LEN($D15)>0,SUMIF($F$13:$J$13,AA$13,$F15:$J15)>0,marzo!U15<>\"X\",marzo!U15<>\"L\",marzo!U15<>\"J\",marzo!U15<>\"V\",marzo!U15<>\"F\",marzo!U15<>\"\"),SUMIF($F$13:$J$13,AA$13,$F15:$J15),\"\")","v":""},{"$f":"IF(AND(LEN($D15)>0,SUMIF($F$13:$J$13,AB$13,$F15:$J15)>0,marzo!V15<>\"X\",marzo!V15<>\"L\",marzo!V15<>\"J\",marzo!V15<>\"V\",marzo!V15<>\"F\",marzo!V15<>\"\"),SUMIF($F$13:$J$13,AB$13,$F15:$J15),\"\")","v":""},{"$f":"IF(AND(LEN($D15)>0,SUMIF($F$13:$J$13,AC$13,$F15:$J15)>0,marzo!W15<>\"X\",marzo!W15<>\"L\",marzo!W15<>\"J\",marzo!W15<>\"V\",marzo!W15<>\"F\",marzo!W15<>\"\"),SUMIF($F$13:$J$13,AC$13,$F15:$J15),\"\")","v":""},{"$f":"IF(AND(LEN($D15)>0,SUMIF($F$13:$J$13,AD$13,$F15:$J15)>0,marzo!X15<>\"X\",marzo!X15<>\"L\",marzo!X15<>\"J\",marzo!X15<>\"V\",marzo!X15<>\"F\",marzo!X15<>\"\"),SUMIF($F$13:$J$13,AD$13,$F15:$J15),\"\")","v":""},{"$f":"IF(AND(LEN($D15)>0,SUMIF($F$13:$J$13,AE$13,$F15:$J15)>0,marzo!Y15<>\"X\",marzo!Y15<>\"L\",marzo!Y15<>\"J\",marzo!Y15<>\"V\",marzo!Y15<>\"F\",marzo!Y15<>\"\"),SUMIF($F$13:$J$13,AE$13,$F15:$J15),\"\")","v":""},{"$f":"IF(AND(LEN($D15)>0,SUMIF($F$13:$J$13,AF$13,$F15:$J15)>0,marzo!Z15<>\"X\",marzo!Z15<>\"L\",marzo!Z15<>\"J\",marzo!Z15<>\"V\",marzo!Z15<>\"F\",marzo!Z15<>\"\"),SUMIF($F$13:$J$13,AF$13,$F15:$J15),\"\")","v":""},{"$f":"IF(AND(LEN($D15)>0,SUMIF($F$13:$J$13,AG$13,$F15:$J15)>0,marzo!AA15<>\"X\",marzo!AA15<>\"L\",marzo!AA15<>\"J\",marzo!AA15<>\"V\",marzo!AA15<>\"F\",marzo!AA15<>\"\"),SUMIF($F$13:$J$13,AG$13,$F15:$J15),\"\")","v":""},{"$f":"IF(AND(LEN($D15)>0,SUMIF($F$13:$J$13,AH$13,$F15:$J15)>0,marzo!AB15<>\"X\",marzo!AB15<>\"L\",marzo!AB15<>\"J\",marzo!AB15<>\"V\",marzo!AB15<>\"F\",marzo!AB15<>\"\"),SUMIF($F$13:$J$13,AH$13,$F15:$J15),\"\")","v":""},{"$f":"IF(AND(LEN($D15)>0,SUMIF($F$13:$J$13,AI$13,$F15:$J15)>0,marzo!AC15<>\"X\",marzo!AC15<>\"L\",marzo!AC15<>\"J\",marzo!AC15<>\"V\",marzo!AC15<>\"F\",marzo!AC15<>\"\"),SUMIF($F$13:$J$13,AI$13,$F15:$J15),\"\")","v":""},{"$f":"IF(AND(LEN($D15)>0,SUMIF($F$13:$J$13,AJ$13,$F15:$J15)>0,marzo!AD15<>\"X\",marzo!AD15<>\"L\",marzo!AD15<>\"J\",marzo!AD15<>\"V\",marzo!AD15<>\"F\",marzo!AD15<>\"\"),SUMIF($F$13:$J$13,AJ$13,$F15:$J15),\"\")","v":""},{"$f":"IF(AND(LEN($D15)>0,SUMIF($F$13:$J$13,AK$13,$F15:$J15)>0,marzo!AE15<>\"X\",marzo!AE15<>\"L\",marzo!AE15<>\"J\",marzo!AE15<>\"V\",marzo!AE15<>\"F\",marzo!AE15<>\"\"),SUMIF($F$13:$J$13,AK$13,$F15:$J15),\"\")","v":""},{"$f":"IF(AND(LEN($D15)>0,SUMIF($F$13:$J$13,AL$13,$F15:$J15)>0,marzo!AF15<>\"X\",marzo!AF15<>\"L\",marzo!AF15<>\"J\",marzo!AF15<>\"V\",marzo!AF15<>\"F\",marzo!AF15<>\"\"),SUMIF($F$13:$J$13,AL$13,$F15:$J15),\"\")","v":""},{"$f":"IF(AND(LEN($D15)>0,SUMIF($F$13:$J$13,AM$13,$F15:$J15)>0,marzo!AG15<>\"X\",marzo!AG15<>\"L\",marzo!AG15<>\"J\",marzo!AG15<>\"V\",marzo!AG15<>\"F\",marzo!AG15<>\"\"),SUMIF($F$13:$J$13,AM$13,$F15:$J15),\"\")","v":""},{"$f":"IF(AND(LEN($D15)>0,SUMIF($F$13:$J$13,AN$13,$F15:$J15)>0,marzo!AH15<>\"X\",marzo!AH15<>\"L\",marzo!AH15<>\"J\",marzo!AH15<>\"V\",marzo!AH15<>\"F\",marzo!AH15<>\"\"),SUMIF($F$13:$J$13,AN$13,$F15:$J15),\"\")","v":""},{"$f":"IF(AND(LEN($D15)>0,SUMIF($F$13:$J$13,AO$13,$F15:$J15)>0,marzo!AI15<>\"X\",marzo!AI15<>\"L\",marzo!AI15<>\"J\",marzo!AI15<>\"V\",marzo!AI15<>\"F\",marzo!AI15<>\"\"),SUMIF($F$13:$J$13,AO$13,$F15:$J15),\"\")","v":""},{"$f":"IF(AND(LEN($D15)>0,SUMIF($F$13:$J$13,AP$13,$F15:$J15)>0,marzo!AJ15<>\"X\",marzo!AJ15<>\"L\",marzo!AJ15<>\"J\",marzo!AJ15<>\"V\",marzo!AJ15<>\"F\",marzo!AJ15<>\"\"),SUMIF($F$13:$J$13,AP$13,$F15:$J15),\"\")","v":""},{"$f":"IF(AND(LEN($D15)>0,SUMIF($F$13:$J$13,AQ$13,$F15:$J15)>0,marzo!AK15<>\"X\",marzo!AK15<>\"L\",marzo!AK15<>\"J\",marzo!AK15<>\"V\",marzo!AK15<>\"F\",marzo!AK15<>\"\"),SUMIF($F$13:$J$13,AQ$13,$F15:$J15),\"\")","v":""},{"$f":"IF(AND(LEN($D15)>0,SUMIF($F$13:$J$13,AR$13,$F15:$J15)>0,marzo!AL15<>\"X\",marzo!AL15<>\"L\",marzo!AL15<>\"J\",marzo!AL15<>\"V\",marzo!AL15<>\"F\",marzo!AL15<>\"\"),SUMIF($F$13:$J$13,AR$13,$F15:$J15),\"\")","v":""},{"$f":"IF(AND(LEN($D15)>0,SUMIF($F$13:$J$13,AS$13,$F15:$J15)>0,marzo!AN15<>\"X\",marzo!AN15<>\"L\",marzo!AN15<>\"J\",marzo!AN15<>\"V\",marzo!AN15<>\"F\",marzo!AN15<>\"\"),SUMIF($F$13:$J$13,AS$13,$F15:$J15),\"\")","v":""},{"$f":"IF(SUM(O15:AS15)>0,SUM(O15:AS15),\"\")","v":""},null,null,null,{"$f":"IF(AND(LEN($D15)>0,SUMIF($F$13:$J$13,AX$13,$F15:$J15)>0,marzo!AV15<>\"X\",marzo!AV15<>\"L\",marzo!AV15<>\"J\",marzo!AV15<>\"F\"),SUMIF($F$13:$J$13,AX$13,$F15:$J15),\"\")","v":""},{"$f":"IF(AND(LEN($D15)>0,SUMIF($F$13:$J$13,AY$13,$F15:$J15)>0,marzo!BF19<>\"X\",marzo!BF19<>\"L\",marzo!BF19<>\"J\",marzo!BF19<>\"F\"),SUMIF($F$13:$J$13,AY$13,$F15:$J15),\"\")","v":""},{"$f":"IF(AND(LEN($D15)>0,SUMIF($F$13:$J$13,AZ$13,$F15:$J15)>0,marzo!BG15<>\"X\",marzo!BG15<>\"L\",marzo!BG15<>\"J\",marzo!BG15<>\"F\"),SUMIF($F$13:$J$13,AZ$13,$F15:$J15),\"\")","v":""},{"$f":"IF(AND(LEN($D15)>0,SUMIF($F$13:$J$13,BA$13,$F15:$J15)>0,marzo!BH15<>\"X\",marzo!BH15<>\"L\",marzo!BH15<>\"J\",marzo!BH15<>\"F\"),SUMIF($F$13:$J$13,BA$13,$F15:$J15),\"\")","v":""},{"$f":"IF(AND(LEN($D15)>0,SUMIF($F$13:$J$13,BB$13,$F15:$J15)>0,marzo!BI15<>\"X\",marzo!BI15<>\"L\",marzo!BI15<>\"J\",marzo!BI15<>\"F\"),SUMIF($F$13:$J$13,BB$13,$F15:$J15),\"\")","v":""},{"$f":"IF(AND(LEN($D15)>0,SUMIF($F$13:$J$13,BC$13,$F15:$J15)>0,marzo!BA15<>\"X\",marzo!BA15<>\"L\",marzo!BA15<>\"J\",marzo!BA15<>\"F\"),SUMIF($F$13:$J$13,BC$13,$F15:$J15),\"\")","v":""},{"$f":"IF(AND(LEN($D15)>0,SUMIF($F$13:$J$13,BD$13,$F15:$J15)>0,marzo!BB15<>\"X\",marzo!BB15<>\"L\",marzo!BB15<>\"J\",marzo!BB15<>\"F\"),SUMIF($F$13:$J$13,BD$13,$F15:$J15),\"\")","v":""},{"$f":"IF(AND(LEN($D15)>0,SUMIF($F$13:$J$13,BE$13,$F15:$J15)>0,marzo!BC15<>\"X\",marzo!BC15<>\"L\",marzo!BC15<>\"J\",marzo!BC15<>\"F\"),SUMIF($F$13:$J$13,BE$13,$F15:$J15),\"\")","v":""},{"$f":"IF(AND(LEN($D15)>0,SUMIF($F$13:$J$13,BF$13,$F15:$J15)>0,marzo!#REF!<>\"X\",marzo!#REF!<>\"L\",marzo!#REF!<>\"J\",marzo!#REF!<>\"F\"),SUMIF($F$13:$J$13,BF$13,$F15:$J15),\"\")","v":{"$error":"#REF!"}},{"$f":"IF(AND(LEN($D15)>0,SUMIF($F$13:$J$13,BG$13,$F15:$J15)>0,marzo!#REF!<>\"X\",marzo!#REF!<>\"L\",marzo!#REF!<>\"J\",marzo!#REF!<>\"F\"),SUMIF($F$13:$J$13,BG$13,$F15:$J15),\"\")","v":{"$error":"#REF!"}},{"$f":"IF(AND(LEN($D15)>0,SUMIF($F$13:$J$13,BH$13,$F15:$J15)>0,marzo!#REF!<>\"X\",marzo!#REF!<>\"L\",marzo!#REF!<>\"J\",marzo!#REF!<>\"F\"),SUMIF($F$13:$J$13,BH$13,$F15:$J15),\"\")","v":{"$error":"#REF!"}},{"$f":"IF(AND(LEN($D15)>0,SUMIF($F$13:$J$13,BI$13,$F15:$J15)>0,marzo!#REF!<>\"X\",marzo!#REF!<>\"L\",marzo!#REF!<>\"J\",marzo!#REF!<>\"F\"),SUMIF($F$13:$J$13,BI$13,$F15:$J15),\"\")","v":{"$error":"#REF!"}},{"$f":"IF(AND(LEN($D15)>0,SUMIF($F$13:$J$13,BJ$13,$F15:$J15)>0,marzo!#REF!<>\"X\",marzo!#REF!<>\"L\",marzo!#REF!<>\"J\",marzo!#REF!<>\"F\"),SUMIF($F$13:$J$13,BJ$13,$F15:$J15),\"\")","v":{"$error":"#REF!"}},{"$f":"IF(AND(LEN($D15)>0,SUMIF($F$13:$J$13,BK$13,$F15:$J15)>0,marzo!#REF!<>\"X\",marzo!#REF!<>\"L\",marzo!#REF!<>\"J\",marzo!#REF!<>\"F\"),SUMIF($F$13:$J$13,BK$13,$F15:$J15),\"\")","v":{"$error":"#REF!"}},{"$f":"IF(AND(LEN($D15)>0,SUMIF($F$13:$J$13,BL$13,$F15:$J15)>0,marzo!BJ15<>\"X\",marzo!BJ15<>\"L\",marzo!BJ15<>\"J\",marzo!BJ15<>\"F\"),SUMIF($F$13:$J$13,BL$13,$F15:$J15),\"\")","v":""},{"$f":"IF(AND(LEN($D15)>0,SUMIF($F$13:$J$13,BM$13,$F15:$J15)>0,marzo!BK15<>\"X\",marzo!BK15<>\"L\",marzo!BK15<>\"J\",marzo!BK15<>\"F\"),SUMIF($F$13:$J$13,BM$13,$F15:$J15),\"\")","v":""},{"$f":"IF(AND(LEN($D15)>0,SUMIF($F$13:$J$13,BN$13,$F15:$J15)>0,marzo!BL15<>\"X\",marzo!BL15<>\"L\",marzo!BL15<>\"J\",marzo!BL15<>\"F\"),SUMIF($F$13:$J$13,BN$13,$F15:$J15),\"\")","v":""},{"$f":"IF(AND(LEN($D15)>0,SUMIF($F$13:$J$13,BO$13,$F15:$J15)>0,marzo!BM15<>\"X\",marzo!BM15<>\"L\",marzo!BM15<>\"J\",marzo!BM15<>\"F\"),SUMIF($F$13:$J$13,BO$13,$F15:$J15),\"\")","v":""},{"$f":"IF(AND(LEN($D15)>0,SUMIF($F$13:$J$13,BP$13,$F15:$J15)>0,marzo!BN15<>\"X\",marzo!BN15<>\"L\",marzo!BN15<>\"J\",marzo!BN15<>\"F\"),SUMIF($F$13:$J$13,BP$13,$F15:$J15),\"\")","v":""},{"$f":"IF(AND(LEN($D15)>0,SUMIF($F$13:$J$13,BQ$13,$F15:$J15)>0,marzo!BO15<>\"X\",marzo!BO15<>\"L\",marzo!BO15<>\"J\",marzo!BO15<>\"F\"),SUMIF($F$13:$J$13,BQ$13,$F15:$J15),\"\")","v":""},{"$f":"IF(AND(LEN($D15)>0,SUMIF($F$13:$J$13,BR$13,$F15:$J15)>0,marzo!BP15<>\"X\",marzo!BP15<>\"L\",marzo!BP15<>\"J\",marzo!BP15<>\"F\"),SUMIF($F$13:$J$13,BR$13,$F15:$J15),\"\")","v":""},{"$f":"IF(AND(LEN($D15)>0,SUMIF($F$13:$J$13,BS$13,$F15:$J15)>0,marzo!BQ15<>\"X\",marzo!BQ15<>\"L\",marzo!BQ15<>\"J\",marzo!BQ15<>\"F\"),SUMIF($F$13:$J$13,BS$13,$F15:$J15),\"\")","v":""},{"$f":"IF(AND(LEN($D15)>0,SUMIF($F$13:$J$13,BT$13,$F15:$J15)>0,marzo!BR15<>\"X\",marzo!BR15<>\"L\",marzo!BR15<>\"J\",marzo!BR15<>\"F\"),SUMIF($F$13:$J$13,BT$13,$F15:$J15),\"\")","v":""},{"$f":"IF(AND(LEN($D15)>0,SUMIF($F$13:$J$13,BU$13,$F15:$J15)>0,marzo!BS15<>\"X\",marzo!BS15<>\"L\",marzo!BS15<>\"J\",marzo!BS15<>\"F\"),SUMIF($F$13:$J$13,BU$13,$F15:$J15),\"\")","v":""},{"$f":"IF(AND(LEN($D15)>0,SUMIF($F$13:$J$13,BV$13,$F15:$J15)>0,marzo!BT15<>\"X\",marzo!BT15<>\"L\",marzo!BT15<>\"J\",marzo!BT15<>\"F\"),SUMIF($F$13:$J$13,BV$13,$F15:$J15),\"\")","v":""},{"$f":"IF(AND(LEN($D15)>0,SUMIF($F$13:$J$13,BW$13,$F15:$J15)>0,marzo!BU15<>\"X\",marzo!BU15<>\"L\",marzo!BU15<>\"J\",marzo!BU15<>\"F\"),SUMIF($F$13:$J$13,BW$13,$F15:$J15),\"\")","v":""},{"$f":"IF(AND(LEN($D15)>0,SUMIF($F$13:$J$13,BX$13,$F15:$J15)>0,marzo!BV15<>\"X\",marzo!BV15<>\"L\",marzo!BV15<>\"J\",marzo!BV15<>\"F\"),SUMIF($F$13:$J$13,BX$13,$F15:$J15),\"\")","v":""},{"$f":"IF(AND(LEN($D15)>0,SUMIF($F$13:$J$13,BY$13,$F15:$J15)>0,marzo!BW15<>\"X\",marzo!BW15<>\"L\",marzo!BW15<>\"J\",marzo!BW15<>\"F\"),SUMIF($F$13:$J$13,BY$13,$F15:$J15),\"\")","v":""},{"$f":"IF(AND(LEN($D15)>0,SUMIF($F$13:$J$13,BZ$13,$F15:$J15)>0,marzo!BX15<>\"X\",marzo!BX15<>\"L\",marzo!BX15<>\"J\",marzo!BX15<>\"F\"),SUMIF($F$13:$J$13,BZ$13,$F15:$J15),\"\")","v":""},{"$f":"IF(AND(LEN($D15)>0,SUMIF($F$13:$J$13,CA$13,$F15:$J15)>0,marzo!BY15<>\"X\",marzo!BY15<>\"L\",marzo!BY15<>\"J\",marzo!BY15<>\"F\"),SUMIF($F$13:$J$13,CA$13,$F15:$J15),\"\")","v":""},{"$f":"IF(AND(LEN($D15)>0,SUMIF($F$13:$J$13,CB$13,$F15:$J15)>0,marzo!BZ15<>\"X\",marzo!BZ15<>\"L\",marzo!BZ15<>\"J\",marzo!BZ15<>\"F\"),SUMIF($F$13:$J$13,CB$13,$F15:$J15),\"\")","v":""},{"$f":"IF(SUM(AX15:CB15)>0,SUM(AX15:CB15),\"\")","v":{"$error":"#REF!"}}]
[{"$f":"IF(LEN(B16)>0,1+A15,\"\")","v":""},{"$f":"IF(LEN(C16)>0,VLOOKUP($O$4,DATA!$A$1:$S$1,2,FALSE),\"\")","v":""},"",{"$f":"IF(LEN(marzo!E17)>0,marzo!E17,\"\")","v":""},{"$f":"IF(LEN(D16)>0,marzo!F17,\"\")","v":""},null,null,null,null,null,"",null,null,{"$f":"CC16","v":{"$error":"#REF!"}},{"$f":"IF(AND(LEN($D16)>0,SUMIF($F$13:$J$13,O$13,$F16:$J16)>0,marzo!I17<>\"X\",marzo!I17<>\"L\",marzo!I17<>\"J\",marzo!I17<>\"V\",marzo!I17<>\"F\",marzo!I17<>\"\"),SUMIF($F$13:$J$13,O$13,$F16:$J16),\"\")","v":""},{"$f":"IF(AND(LEN($D16)>0,SUMIF($F$13:$J$13,P$13,$F16:$J16)>0,marzo!J17<>\"X\",marzo!J17<>\"L\",marzo!J17<>\"J\",marzo!J17<>\"V\",marzo!J17<>\"F\",marzo!J17<>\"\"),SUMIF($F$13:$J$13,P$13,$F16:$J16),\"\")","v":""},{"$f":"IF(AND(LEN($D16)>0,SUMIF($F$13:$J$13,Q$13,$F16:$J16)>0,marzo!K17<>\"X\",marzo!K17<>\"L\",marzo!K17<>\"J\",marzo!K17<>\"V\",marzo!K17<>\"F\",marzo!K17<>\"\"),SUMIF($F$13:$J$13,Q$13,$F16:$J16),\"\")","v":""},{"$f":"IF(AND(LEN($D16)>0,SUMIF($F$13:$J$13,R$13,$F16:$J16)>0,marzo!L17<>\"X\",marzo!L17<>\"L\",marzo!L17<>\"J\",marzo!L17<>\"V\",marzo!L17<>\"F\",marzo!L17<>\"\"),SUMIF($F$13:$J$13,R$13,$F16:$J16),\"\")","v":""},{"$f":"IF(AND(LEN($D16)>0,SUMIF($F$13:$J$13,S$13,$F16:$J16)>0,marzo!M17<>\"X\",marzo!M17<>\"L\",marzo!M17<>\"J\",marzo!M17<>\"V\",marzo!M17<>\"F\",marzo!M17<>\"\"),SUMIF($F$13:$J$13,S$13,$F16:$J16),\"\")","v":""},{"$f":"IF(AND(LEN($D16)>0,SUMIF($F$13:$J$13,T$13,$F16:$J16)>0,marzo!N17<>\"X\",marzo!N17<>\"L\",marzo!N17<>\"J\",marzo!N17<>\"V\",marzo!N17<>\"F\",marzo!N17<>\"\"),SUMIF($F$13:$J$13,T$13,$F16:$J16),\"\")","v":""},{"$f":"IF(AND(LEN($D16)>0,SUMIF($F$13:$J$13,U$13,$F16:$J16)>0,marzo!O17<>\"X\",marzo!O17<>\"L\",marzo!O17<>\"J\",marzo!O17<>\"V\",marzo!O17<>\"F\",marzo!O17<>\"\"),SUMIF($F$13:$J$13,U$13,$F16:$J16),\"\")","v":""},{"$f":"IF(AND(LEN($D16)>0,SUMIF($F$13:$J$13,V$13,$F16:$J16)>0,marzo!P17<>\"X\",marzo!P17<>\"L\",marzo!P17<>\"J\",marzo!P17<>\"V\",marzo!P17<>\"F\",marzo!P17<>\"\"),SUMIF($F$13:$J$13,V$13,$F16:$J16),\"\")","v":""},{"$f":"IF(AND(LEN($D16)>0,SUMIF($F$13:$J$13,W$13,$F16:$J16)>0,marzo!Q17<>\"X\",marzo!Q17<>\"L\",marzo!Q17<>\"J\",marzo!Q17<>\"V\",marzo!Q17<>\"F\",marzo!Q17<>\"\"),SUMIF($F$13:$J$13,W$13,$F16:$J16),\"\")","v":""},{"$f":"IF(AND(LEN($D16)>0,SUMIF($F$13:$J$13,X$13,$F16:$J16)>0,marzo!R17<>\"X\",marzo!R17<>\"L\",marzo!R17<>\"J\",marzo!R17<>\"V\",marzo!R17<>\"F\",marzo!R17<>\"\"),SUMIF($F$13:$J$13,X$13,$F16:$J16),\"\")","v":""},{"$f":"IF(AND(LEN($D16)>0,SUMIF($F$13:$J$13,Y$13,$F16:$J16)>0,marzo!S17<>\"X\",marzo!S17<>\"L\",marzo!S17<>\"J\",marzo!S17<>\"V\",marzo!S17<>\"F\",marzo!S17<>\"\"),SUMIF($F$13:$J$13,Y$13,$F16:$J16),\"\")","v":""},{"$f":"IF(AND(LEN($D16)>0,SUMIF($F$13:$J$13,Z$13,$F16:$J16)>0,marzo!T17<>\"X\",marzo!T17<>\"L\",marzo!T17<>\"J\",marzo!T17<>\"V\",marzo!T17<>\"F\",marzo!T17<>\"\"),SUMIF($F$13:$J$13,Z$13,$F16:$J16),\"\")","v":""},{"$f":"IF(AND(LEN($D16)>0,SUMIF($F$13:$J$13,AA$13,$F16:$J16)>0,marzo!U17<>\"X\",marzo!U17<>\"L\",marzo!U17<>\"J\",marzo!U17<>\"V\",marzo!U17<>\"F\",marzo!U17<>\"\"),SUMIF($F$13:$J$13,AA$13,$F16:$J16),\"\")","v":""},{"$f":"IF(AND(LEN($D16)>0,SUMIF($F$13:$J$13,AB$13,$F16:$J16)>0,marzo!V17<>\"X\",marzo!V17<>\"L\",marzo!V17<>\"J\",marzo!V17<>\"V\",marzo!V17<>\"F\",marzo!V17<>\"\"),SUMIF($F$13:$J$13,AB$13,$F16:$J16),\"\")","v":""},{"$f":"IF(AND(LEN($D16)>0,SUMIF($F$13:$J$13,AC$13,$F16:$J16)>0,marzo!W17<>\"X\",marzo!W17<>\"L\",marzo!W17<>\"J\",marzo!W17<>\"V\",marzo!W17<>\"F\",marzo!W17<>\"\"),SUMIF($F$13:$J$13,AC$13,$F16:$J16),\"\")","v":""},{"$f":"IF(AND(LEN($D16)>0,SUMIF($F$13:$J$13,AD$13,$F16:$J16)>0,marzo!X17<>\"X\",marzo!X17<>\"L\",marzo!X17<>\"J\",marzo!X17<>\"V\",marzo!X17<>\"F\",marzo!X17<>\"\"),SUMIF($F$13:$J$13,AD$13,$F16:$J16),\"\")","v":""},{"$f":"IF(AND(LEN($D16)>0,SUMIF($F$13:$J$13,AE$13,$F16:$J16)>0,marzo!Y17<>\"X\",marzo!Y17<>\"L\",marzo!Y17<>\"J\",marzo!Y17<>\"V\",marzo!Y17<>\"F\",marzo!Y17<>\"\"),SUMIF($F$13:$J$13,AE$13,$F16:$J16),\"\")","v":""},{"$f":"IF(AND(LEN($D16)>0,SUMIF($F$13:$J$13,AF$13,$F16:$J16)>0,marzo!Z17<>\"X\",marzo!Z17<>\"L\",marzo!Z17<>\"J\",marzo!Z17<>\"V\",marzo!Z17<>\"F\",marzo!Z17<>\"\"),SUMIF($F$13:$J$13,AF$13,$F16:$J16),\"\")","v":""},{"$f":"IF(AND(LEN($D16)>0,SUMIF($F$13:$J$13,AG$13,$F16:$J16)>0,marzo!AA17<>\"X\",marzo!AA17<>\"L\",marzo!AA17<>\"J\",marzo!AA17<>\"V\",marzo!AA17<>\"F\",marzo!AA17<>\"\"),SUMIF($F$13:$J$13,AG$13,$F16:$J16),\"\")","v":""},{"$f":"IF(AND(LEN($D16)>0,SUMIF($F$13:$J$13,AH$13,$F16:$J16)>0,marzo!AB17<>\"X\",marzo!AB17<>\"L\",marzo!AB17<>\"J\",marzo!AB17<>\"V\",marzo!AB17<>\"F\",marzo!AB17<>\"\"),SUMIF($F$13:$J$13,AH$13,$F16:$J16),\"\")","v":""},{"$f":"IF(AND(LEN($D16)>0,SUMIF($F$13:$J$13,AI$13,$F16:$J16)>0,marzo!AC17<>\"X\",marzo!AC17<>\"L\",marzo!AC17<>\"J\",marzo!AC17<>\"V\",marzo!AC17<>\"F\",marzo!AC17<>\"\"),SUMIF($F$13:$J$13,AI$13,$F16:$J16),\"\")","v":""},{"$f":"IF(AND(LEN($D16)>0,SUMIF($F$13:$J$13,AJ$13,$F16:$J16)>0,marzo!AD17<>\"X\",marzo!AD17<>\"L\",marzo!AD17<>\"J\",marzo!AD17<>\"V\",marzo!AD17<>\"F\",marzo!AD17<>\"\"),SUMIF($F$13:$J$13,AJ$13,$F16:$J16),\"\")","v":""},{"$f":"IF(AND(LEN($D16)>0,SUMIF($F$13:$J$13,AK$13,$F16:$J16)>0,marzo!AE17<>\"X\",marzo!AE17<>\"L\",marzo!AE17<>\"J\",marzo!AE17<>\"V\",marzo!AE17<>\"F\",marzo!AE17<>\"\"),SUMIF($F$13:$J$13,AK$13,$F16:$J16),\"\")","v":""},{"$f":"IF(AND(LEN($D16)>0,SUMIF($F$13:$J$13,AL$13,$F16:$J16)>0,marzo!AF17<>\"X\",marzo!AF17<>\"L\",marzo!AF17<>\"J\",marzo!AF17<>\"V\",marzo!AF17<>\"F\",marzo!AF17<>\"\"),SUMIF($F$13:$J$13,AL$13,$F16:$J16),\"\")","v":""},{"$f":"IF(AND(LEN($D16)>0,SUMIF($F$13:$J$13,AM$13,$F16:$J16)>0,marzo!AG17<>\"X\",marzo!AG17<>\"L\",marzo!AG17<>\"J\",marzo!AG17<>\"V\",marzo!AG17<>\"F\",marzo!AG17<>\"\"),SUMIF($F$13:$J$13,AM$13,$F16:$J16),\"\")","v":""},{"$f":"IF(AND(LEN($D16)>0,SUMIF($F$13:$J$13,AN$13,$F16:$J16)>0,marzo!AH17<>\"X\",marzo!AH17<>\"L\",marzo!AH17<>\"J\",marzo!AH17<>\"V\",marzo!AH17<>\"F\",marzo!AH17<>\"\"),SUMIF($F$13:$J$13,AN$13,$F16:$J16),\"\")","v":""},{"$f":"IF(AND(LEN($D16)>0,SUMIF($F$13:$J$13,AO$13,$F16:$J16)>0,marzo!AI17<>\"X\",marzo!AI17<>\"L\",marzo!AI17<>\"J\",marzo!AI17<>\"V\",marzo!AI17<>\"F\",marzo!AI17<>\"\"),SUMIF($F$13:$J$13,AO$13,$F16:$J16),\"\")","v":""},{"$f":"IF(AND(LEN($D16)>0,SUMIF($F$13:$J$13,AP$13,$F16:$J16)>0,marzo!AJ17<>\"X\",marzo!AJ17<>\"L\",marzo!AJ17<>\"J\",marzo!AJ17<>\"V\",marzo!AJ17<>\"F\",marzo!AJ17<>\"\"),SUMIF($F$13:$J$13,AP$13,$F16:$J16),\"\")","v":""},{"$f":"IF(AND(LEN($D16)>0,SUMIF($F$13:$J$13,AQ$13,$F16:$J16)>0,marzo!AK17<>\"X\",marzo!AK17<>\"L\",marzo!AK17<>\"J\",marzo!AK17<>\"V\",marzo!AK17<>\"F\",marzo!AK17<>\"\"),SUMIF($F$13:$J$13,AQ$13,$F16:$J16),\"\")","v":""},{"$f":"IF(AND(LEN($D16)>0,SUMIF($F$13:$J$13,AR$13,$F16:$J16)>0,marzo!AL17<>\"X\",marzo!AL17<>\"L\",marzo!AL17<>\"J\",marzo!AL17<>\"V\",marzo!AL17<>\"F\",marzo!AL17<>\"\"),SUMIF($F$13:$J$13,AR$13,$F16:$J16),\"\")","v":""},{"$f":"IF(AND(LEN($D16)>0,SUMIF($F$13:$J$13,AS$13,$F16:$J16)>0,marzo!AN17<>\"X\",marzo!AN17<>\"L\",marzo!AN17<>\"J\",marzo!AN17<>\"V\",marzo!AN17<>\"F\",marzo!AN17<>\"\"),SUMIF($F$13:$J$13,AS$13,$F16:$J16),\"\")","v":""},"",null,null,null,{"$f":"IF(AND(LEN($D16)>0,SUMIF($F$13:$J$13,AX$13,$F16:$J16)>0,marzo!AV17<>\"X\",marzo!AV17<>\"L\",marzo!AV17<>\"J\",marzo!AV17<>\"F\"),SUMIF($F$13:$J$13,AX$13,$F16:$J16),\"\")","v":""},{"$f":"IF(AND(LEN($D16)>0,SUMIF($F$13:$J$13,AY$13,$F16:$J16)>0,marzo!#REF!<>\"X\",marzo!#REF!<>\"L\",marzo!#REF!<>\"J\",marzo!#REF!<>\"F\"),SUMIF($F$13:$J$13,AY$13,$F16:$J16),\"\")","v":{"$error":"#REF!"}},{"$f":"IF(AND(LEN($D16)>0,SUMIF($F$13:$J$13,AZ$13,$F16:$J16)>0,marzo!BG17<>\"X\",marzo!BG17<>\"L\",marzo!BG17<>\"J\",marzo!BG17<>\"F\"),SUMIF($F$13:$J$13,AZ$13,$F16:$J16),\"\")","v":""},{"$f":"IF(AND(LEN($D16)>0,SUMIF($F$13:$J$13,BA$13,$F16:$J16)>0,marzo!BH17<>\"X\",marzo!BH17<>\"L\",marzo!BH17<>\"J\",marzo!BH17<>\"F\"),SUMIF($F$13:$J$13,BA$13,$F16:$J16),\"\")","v":""},{"$f":"IF(AND(LEN($D16)>0,SUMIF($F$13:$J$13,BB$13,$F16:$J16)>0,marzo!BI17<>\"X\",marzo!BI17<>\"L\",marzo!BI17<>\"J\",marzo!BI17<>\"F\"),SUMIF($F$13:$J$13,BB$13,$F16:$J16),\"\")","v":""},{"$f":"IF(AND(LEN($D16)>0,SUMIF($F$13:$J$13,BC$13,$F16:$J16)>0,marzo!BA17<>\"X\",marzo!BA17<>\"L\",marzo!BA17<>\"J\",marzo!BA17<>\"F\"),SUMIF($F$13:$J$13,BC$13,$F16:$J16),\"\")","v":""},{"$f":"IF(AND(LEN($D16)>0,SUMIF($F$13:$J$13,BD$13,$F16:$J16)>0,marzo!BB17<>\"X\",marzo!BB17<>\"L\",marzo!BB17<>\"J\",marzo!BB17<>\"F\"),SUMIF($F$13:$J$13,BD$13,$F16:$J16),\"\")","v":""},{"$f":"IF(AND(LEN($D16)>0,SUMIF($F$13:$J$13,BE$13,$F16:$J16)>0,marzo!BC17<>\"X\",marzo!BC17<>\"L\",marzo!BC17<>\"J\",marzo!BC17<>\"F\"),SUMIF($F$13:$J$13,BE$13,$F16:$J16),\"\")","v":""},{"$f":"IF(AND(LEN($D16)>0,SUMIF($F$13:$J$13,BF$13,$F16:$J16)>0,marzo!#REF!<>\"X\",marzo!#REF!<>\"L\",marzo!#REF!<>\"J\",marzo!#REF!<>\"F\"),SUMIF($F$13:$J$13,BF$13,$F16:$J16),\"\")","v":{"$error":"#REF!"}},{"$f":"IF(AND(LEN($D16)>0,SUMIF($F$13:$J$13,BG$13,$F16:$J16)>0,marzo!#REF!<>\"X\",marzo!#REF!<>\"L\",marzo!#REF!<>\"J\",marzo!#REF!<>\"F\"),SUMIF($F$13:$J$13,BG$13,$F16:$J16),\"\")","v":{"$error":"#REF!"}},{"$f":"IF(AND(LEN($D16)>0,SUMIF($F$13:$J$13,BH$13,$F16:$J16)>0,marzo!#REF!<>\"X\",marzo!#REF!<>\"L\",marzo!#REF!<>\"J\",marzo!#REF!<>\"F\"),SUMIF($F$13:$J$13,BH$13,$F16:$J16),\"\")","v":{"$error":"#REF!"}},{"$f":"IF(AND(LEN($D16)>0,SUMIF($F$13:$J$13,BI$13,$F16:$J16)>0,marzo!#REF!<>\"X\",marzo!#REF!<>\"L\",marzo!#REF!<>\"J\",marzo!#REF!<>\"F\"),SUMIF($F$13:$J$13,BI$13,$F16:$J16),\"\")","v":{"$error":"#REF!"}},{"$f":"IF(AND(LEN($D16)>0,SUMIF($F$13:$J$13,BJ$13,$F16:$J16)>0,marzo!#REF!<>\"X\",marzo!#REF!<>\"L\",marzo!#REF!<>\"J\",marzo!#REF!<>\"F\"),SUMIF($F$13:$J$13,BJ$13,$F16:$J16),\"\")","v":{"$error":"#REF!"}},{"$f":"IF(AND(LEN($D16)>0,SUMIF($F$13:$J$13,BK$13,$F16:$J16)>0,marzo!#REF!<>\"X\",marzo!#REF!<>\"L\",marzo!#REF!<>\"J\",marzo!#REF!<>\"F\"),SUMIF($F$13:$J$13,BK$13,$F16:$J16),\"\")","v":{"$error":"#REF!"}},{"$f":"IF(AND(LEN($D16)>0,SUMIF($F$13:$J$13,BL$13,$F16:$J16)>0,marzo!BJ17<>\"X\",marzo!BJ17<>\"L\",marzo!BJ17<>\"J\",marzo!BJ17<>\"F\"),SUMIF($F$13:$J$13,BL$13,$F16:$J16),\"\")","v":""},{"$f":"IF(AND(LEN($D16)>0,SUMIF($F$13:$J$13,BM$13,$F16:$J16)>0,marzo!BK17<>\"X\",marzo!BK17<>\"L\",marzo!BK17<>\"J\",marzo!BK17<>\"F\"),SUMIF($F$13:$J$13,BM$13,$F16:$J16),\"\")","v":""},{"$f":"IF(AND(LEN($D16)>0,SUMIF($F$13:$J$13,BN$13,$F16:$J16)>0,marzo!BL17<>\"X\",marzo!BL17<>\"L\",marzo!BL17<>\"J\",marzo!BL17<>\"F\"),SUMIF($F$13:$J$13,BN$13,$F16:$J16),\"\")","v":""},{"$f":"IF(AND(LEN($D16)>0,SUMIF($F$13:$J$13,BO$13,$F16:$J16)>0,marzo!BM17<>\"X\",marzo!BM17<>\"L\",marzo!BM17<>\"J\",marzo!BM17<>\"F\"),SUMIF($F$13:$J$13,BO$13,$F16:$J16),\"\")","v":""},{"$f":"IF(AND(LEN($D16)>0,SUMIF($F$13:$J$13,BP$13,$F16:$J16)>0,marzo!BN17<>\"X\",marzo!BN17<>\"L\",marzo!BN17<>\"J\",marzo!BN17<>\"F\"),SUMIF($F$13:$J$13,BP$13,$F16:$J16),\"\")","v":""},{"$f":"IF(AND(LEN($D16)>0,SUMIF($F$13:$J$13,BQ$13,$F16:$J16)>0,marzo!BO17<>\"X\",marzo!BO17<>\"L\",marzo!BO17<>\"J\",marzo!BO17<>\"F\"),SUMIF($F$13:$J$13,BQ$13,$F16:$J16),\"\")","v":""},{"$f":"IF(AND(LEN($D16)>0,SUMIF($F$13:$J$13,BR$13,$F16:$J16)>0,marzo!BP17<>\"X\",marzo!BP17<>\"L\",marzo!BP17<>\"J\",marzo!BP17<>\"F\"),SUMIF($F$13:$J$13,BR$13,$F16:$J16),\"\")","v":""},{"$f":"IF(AND(LEN($D16)>0,SUMIF($F$13:$J$13,BS$13,$F16:$J16)>0,marzo!BQ17<>\"X\",marzo!BQ17<>\"L\",marzo!BQ17<>\"J\",marzo!BQ17<>\"F\"),SUMIF($F$13:$J$13,BS$13,$F16:$J16),\"\")","v":""},{"$f":"IF(AND(LEN($D16)>0,SUMIF($F$13:$J$13,BT$13,$F16:$J16)>0,marzo!BR17<>\"X\",marzo!BR17<>\"L\",marzo!BR17<>\"J\",marzo!BR17<>\"F\"),SUMIF($F$13:$J$13,BT$13,$F16:$J16),\"\")","v":""},{"$f":"IF(AND(LEN($D16)>0,SUMIF($F$13:$J$13,BU$13,$F16:$J16)>0,marzo!BS17<>\"X\",marzo!BS17<>\"L\",marzo!BS17<>\"J\",marzo!BS17<>\"F\"),SUMIF($F$13:$J$13,BU$13,$F16:$J16),\"\")","v":""},{"$f":"IF(AND(LEN($D16)>0,SUMIF($F$13:$J$13,BV$13,$F16:$J16)>0,marzo!BT17<>\"X\",marzo!BT17<>\"L\",marzo!BT17<>\"J\",marzo!BT17<>\"F\"),SUMIF($F$13:$J$13,BV$13,$F16:$J16),\"\")","v":""},{"$f":"IF(AND(LEN($D16)>0,SUMIF($F$13:$J$13,BW$13,$F16:$J16)>0,marzo!BU17<>\"X\",marzo!BU17<>\"L\",marzo!BU17<>\"J\",marzo!BU17<>\"F\"),SUMIF($F$13:$J$13,BW$13,$F16:$J16),\"\")","v":""},{"$f":"IF(AND(LEN($D16)>0,SUMIF($F$13:$J$13,BX$13,$F16:$J16)>0,marzo!BV17<>\"X\",marzo!BV17<>\"L\",marzo!BV17<>\"J\",marzo!BV17<>\"F\"),SUMIF($F$13:$J$13,BX$13,$F16:$J16),\"\")","v":""},{"$f":"IF(AND(LEN($D16)>0,SUMIF($F$13:$J$13,BY$13,$F16:$J16)>0,marzo!BW17<>\"X\",marzo!BW17<>\"L\",marzo!BW17<>\"J\",marzo!BW17<>\"F\"),SUMIF($F$13:$J$13,BY$13,$F16:$J16),\"\")","v":""},{"$f":"IF(AND(LEN($D16)>0,SUMIF($F$13:$J$13,BZ$13,$F16:$J16)>0,marzo!BX17<>\"X\",marzo!BX17<>\"L\",marzo!BX17<>\"J\",marzo!BX17<>\"F\"),SUMIF($F$13:$J$13,BZ$13,$F16:$J16),\"\")","v":""},{"$f":"IF(AND(LEN($D16)>0,SUMIF($F$13:$J$13,CA$13,$F16:$J16)>0,marzo!BY17<>\"X\",marzo!BY17<>\"L\",marzo!BY17<>\"J\",marzo!BY17<>\"F\"),SUMIF($F$13:$J$13,CA$13,$F16:$J16),\"\")","v":""},{"$f":"IF(AND(LEN($D16)>0,SUMIF($F$13:$J$13,CB$13,$F16:$J16)>0,marzo!BZ17<>\"X\",marzo!BZ17<>\"L\",marzo!BZ17<>\"J\",marzo!BZ17<>\"F\"),SUMIF($F$13:$J$13,CB$13,$F16:$J16),\"\")","v":""},{"$error":"#REF!"}]
["",{"$f":"IF(LEN(C17)>0,VLOOKUP($O$4,DATA!$A$1:$S$1,2,FALSE),\"\")","v":""},"",{"$f":"IF(LEN(marzo!E18)>0,marzo!E18,\"\")","v":""},{"$f":"IF(LEN(D17)>0,marzo!F18,\"\")","v":""},null,null,null,null,null,"",null,null,{"$error":"#REF!"},{"$f":"IF(AND(LEN($D17)>0,SUMIF($F$13:$J$13,O$13,$F17:$J17)>0,marzo!I18<>\"X\",marzo!I18<>\"L\",marzo!I18<>\"J\",marzo!I18<>\"V\",marzo!I18<>\"F\",marzo!I18<>\"\"),SUMIF($F$13:$J$13,O$13,$F17:$J17),\"\")","v":""},{"$f":"IF(AND(LEN($D17)>0,SUMIF($F$13:$J$13,P$13,$F17:$J17)>0,marzo!J18<>\"X\",marzo!J18<>\"L\",marzo!J18<>\"J\",marzo!J18<>\"V\",marzo!J18<>\"F\",marzo!J18<>\"\"),SUMIF($F$13:$J$13,P$13,$F17:$J17),\"\")","v":""},{"$f":"IF(AND(LEN($D17)>0,SUMIF($F$13:$J$13,Q$13,$F17:$J17)>0,marzo!K18<>\"X\",marzo!K18<>\"L\",marzo!K18<>\"J\",marzo!K18<>\"V\",marzo!K18<>\"F\",marzo!K18<>\"\"),SUMIF($F$13:$J$13,Q$13,$F17:$J17),\"\")","v":""},{"$f":"IF(AND(LEN($D17)>0,SUMIF($F$13:$J$13,R$13,$F17:$J17)>0,marzo!L18<>\"X\",marzo!L18<>\"L\",marzo!L18<>\"J\",marzo!L18<>\"V\",marzo!L18<>\"F\",marzo!L18<>\"\"),SUMIF($F$13:$J$13,R$13,$F17:$J17),\"\")","v":""},{"$f":"IF(AND(LEN($D17)>0,SUMIF($F$13:$J$13,S$13,$F17:$J17)>0,marzo!M18<>\"X\",marzo!M18<>\"L\",marzo!M18<>\"J\",marzo!M18<>\"V\",marzo!M18<>\"F\",marzo!M18<>\"\"),SUMIF($F$13:$J$13,S$13,$F17:$J17),\"\")","v":""},{"$f":"IF(AND(LEN($D17)>0,SUMIF($F$13:$J$13,T$13,$F17:$J17)>0,marzo!N18<>\"X\",marzo!N18<>\"L\",marzo!N18<>\"J\",marzo!N18<>\"V\",marzo!N18<>\"F\",marzo!N18<>\"\"),SUMIF($F$13:$J$13,T$13,$F17:$J17),\"\")","v":""},{"$f":"IF(AND(LEN($D17)>0,SUMIF($F$13:$J$13,U$13,$F17:$J17)>0,marzo!O18<>\"X\",marzo!O18<>\"L\",marzo!O18<>\"J\",marzo!O18<>\"V\",marzo!O18<>\"F\",marzo!O18<>\"\"),SUMIF($F$13:$J$13,U$13,$F17:$J17),\"\")","v":""},{"$f":"IF(AND(LEN($D17)>0,SUMIF($F$13:$J$13,V$13,$F17:$J17)>0,marzo!P18<>\"X\",marzo!P18<>\"L\",marzo!P18<>\"J\",marzo!P18<>\"V\",marzo!P18<>\"F\",marzo!P18<>\"\"),SUMIF($F$13:$J$13,V$13,$F17:$J17),\"\")","v":""},{"$f":"IF(AND(LEN($D17)>0,SUMIF($F$13:$J$13,W$13,$F17:$J17)>0,marzo!Q18<>\"X\",marzo!Q18<>\"L\",marzo!Q18<>\"J\",marzo!Q18<>\"V\",marzo!Q18<>\"F\",marzo!Q18<>\"\"),SUMIF($F$13:$J$13,W$13,$F17:$J17),\"\")","v":""},{"$f":"IF(AND(LEN($D17)>0,SUMIF($F$13:$J$13,X$13,$F17:$J17)>0,marzo!R18<>\"X\",marzo!R18<>\"L\",marzo!R18<>\"J\",marzo!R18<>\"V\",marzo!R18<>\"F\",marzo!R18<>\"\"),SUMIF($F$13:$J$13,X$13,$F17:$J17),\"\")","v":""},{"$f":"IF(AND(LEN($D17)>0,SUMIF($F$13:$J$13,Y$13,$F17:$J17)>0,marzo!S18<>\"X\",marzo!S18<>\"L\",marzo!S18<>\"J\",marzo!S18<>\"V\",marzo!S18<>\"F\",marzo!S18<>\"\"),SUMIF($F$13:$J$13,Y$13,$F17:$J17),\"\")","v":""},{"$f":"IF(AND(LEN($D17)>0,SUMIF($F$13:$J$13,Z$13,$F17:$J17)>0,marzo!T18<>\"X\",marzo!T18<>\"L\",marzo!T18<>\"J\",marzo!T18<>\"V\",marzo!T18<>\"F\",marzo!T18<>\"\"),SUMIF($F$13:$J$13,Z$13,$F17:$J17),\"\")","v":""},{"$f":"IF(AND(LEN($D17)>0,SUMIF($F$13:$J$13,AA$13,$F17:$J17)>0,marzo!U18<>\"X\",marzo!U18<>\"L\",marzo!U18<>\"J\",marzo!U18<>\"V\",marzo!U18<>\"F\",marzo!U18<>\"\"),SUMIF($F$13:$J$13,AA$13,$F17:$J17),\"\")","v":""},{"$f":"IF(AND(LEN($D17)>0,SUMIF($F$13:$J$13,AB$13,$F17:$J17)>0,marzo!V18<>\"X\",marzo!V18<>\"L\",marzo!V18<>\"J\",marzo!V18<>\"V\",marzo!V18<>\"F\",marzo!V18<>\"\"),SUMIF($F$13:$J$13,AB$13,$F17:$J17),\"\")","v":""},{"$f":"IF(AND(LEN($D17)>0,SUMIF($F$13:$J$13,AC$13,$F17:$J17)>0,marzo!W18<>\"X\",marzo!W18<>\"L\",marzo!W18<>\"J\",marzo!W18<>\"V\",marzo!W18<>\"F\",marzo!W18<>\"\"),SUMIF($F$13:$J$13,AC$13,$F17:$J17),\"\")","v":""},{"$f":"IF(AND(LEN($D17)>0,SUMIF($F$13:$J$13,AD$13,$F17:$J17)>0,marzo!X18<>\"X\",marzo!X18<>\"L\",marzo!X18<>\"J\",marzo!X18<>\"V\",marzo!X18<>\"F\",marzo!X18<>\"\"),SUMIF($F$13:$J$13,AD$13,$F17:$J17),\"\")","v":""},{"$f":"IF(AND(LEN($D17)>0,SUMIF($F$13:$J$13,AE$13,$F17:$J17)>0,marzo!Y18<>\"X\",marzo!Y18<>\"L\",marzo!Y18<>\"J\",marzo!Y18<>\"V\",marzo!Y18<>\"F\",marzo!Y18<>\"\"),SUMIF($F$13:$J$13,AE$13,$F17:$J17),\"\")","v":""},{"$f":"IF(AND(LEN($D17)>0,SUMIF($F$13:$J$13,AF$13,$F17:$J17)>0,marzo!Z18<>\"X\",marzo!Z18<>\"L\",marzo!Z18<>\"J\",marzo!Z18<>\"V\",marzo!Z18<>\"F\",marzo!Z18<>\"\"),SUMIF($F$13:$J$13,AF$13,$F17:$J17),\"\")","v":""},{"$f":"IF(AND(LEN($D17)>0,SUMIF($F$13:$J$13,AG$13,$F17:$J17)>0,marzo!AA18<>\"X\",marzo!AA18<>\"L\",marzo!AA18<>\"J\",marzo!AA18<>\"V\",marzo!AA18<>\"F\",marzo!AA18<>\"\"),SUMIF($F$13:$J$13,AG$13,$F17:$J17),\"\")","v":""},{"$f":"IF(AND(LEN($D17)>0,SUMIF($F$13:$J$13,AH$13,$F17:$J17)>0,marzo!AB18<>\"X\",marzo!AB18<>\"L\",marzo!AB18<>\"J\",marzo!AB18<>\"V\",marzo!AB18<>\"F\",marzo!AB18<>\"\"),SUMIF($F$13:$J$13,AH$13,$F17:$J17),\"\")","v":""},{"$f":"IF(AND(LEN($D17)>0,SUMIF($F$13:$J$13,AI$13,$F17:$J17)>0,marzo!AC18<>\"X\",marzo!AC18<>\"L\",marzo!AC18<>\"J\",marzo!AC18<>\"V\",marzo!AC18<>\"F\",marzo!AC18<>\"\"),SUMIF($F$13:$J$13,AI$13,$F17:$J17),\"\")","v":""},{"$f":"IF(AND(LEN($D17)>0,SUMIF($F$13:$J$13,AJ$13,$F17:$J17)>0,marzo!AD18<>\"X\",marzo!AD18<>\"L\",marzo!AD18<>\"J\",marzo!AD18<>\"V\",marzo!AD18<>\"F\",marzo!AD18<>\"\"),SUMIF($F$13:$J$13,AJ$13,$F17:$J17),\"\")","v":""},{"$f":"IF(AND(LEN($D17)>0,SUMIF($F$13:$J$13,AK$13,$F17:$J17)>0,marzo!AE18<>\"X\",marzo!AE18<>\"L\",marzo!AE18<>\"J\",marzo!AE18<>\"V\",marzo!AE18<>\"F\",marzo!AE18<>\"\"),SUMIF($F$13:$J$13,AK$13,$F17:$J17),\"\")","v":""},{"$f":"IF(AND(LEN($D17)>0,SUMIF($F$13:$J$13,AL$13,$F17:$J17)>0,marzo!AF18<>\"X\",marzo!AF18<>\"L\",marzo!AF18<>\"J\",marzo!AF18<>\"V\",marzo!AF18<>\"F\",marzo!AF18<>\"\"),SUMIF($F$13:$J$13,AL$13,$F17:$J17),\"\")","v":""},{"$f":"IF(AND(LEN($D17)>0,SUMIF($F$13:$J$13,AM$13,$F17:$J17)>0,marzo!AG18<>\"X\",marzo!AG18<>\"L\",marzo!AG18<>\"J\",marzo!AG18<>\"V\",marzo!AG18<>\"F\",marzo!AG18<>\"\"),SUMIF($F$13:$J$13,AM$13,$F17:$J17),\"\")","v":""},{"$f":"IF(AND(LEN($D17)>0,SUMIF($F$13:$J$13,AN$13,$F17:$J17)>0,marzo!AH18<>\"X\",marzo!AH18<>\"L\",marzo!AH18<>\"J\",marzo!AH18<>\"V\",marzo!AH18<>\"F\",marzo!AH18<>\"\"),SUMIF($F$13:$J$13,AN$13,$F17:$J17),\"\")","v":""},{"$f":"IF(AND(LEN($D17)>0,SUMIF($F$13:$J$13,AO$13,$F17:$J17)>0,marzo!AI18<>\"X\",marzo!AI18<>\"L\",marzo!AI18<>\"J\",marzo!AI18<>\"V\",marzo!AI18<>\"F\",marzo!AI18<>\"\"),SUMIF($F$13:$J$13,AO$13,$F17:$J17),\"\")","v":""},{"$f":"IF(AND(LEN($D17)>0,SUMIF($F$13:$J$13,AP$13,$F17:$J17)>0,marzo!AJ18<>\"X\",marzo!AJ18<>\"L\",marzo!AJ18<>\"J\",marzo!AJ18<>\"V\",marzo!AJ18<>\"F\",marzo!AJ18<>\"\"),SUMIF($F$13:$J$13,AP$13,$F17:$J17),\"\")","v":""},{"$f":"IF(AND(LEN($D17)>0,SUMIF($F$13:$J$13,AQ$13,$F17:$J17)>0,marzo!AK18<>\"X\",marzo!AK18<>\"L\",marzo!AK18<>\"J\",marzo!AK18<>\"V\",marzo!AK18<>\"F\",marzo!AK18<>\"\"),SUMIF($F$13:$J$13,AQ$13,$F17:$J17),\"\")","v":""},{"$f":"IF(AND(LEN($D17)>0,SUMIF($F$13:$J$13,AR$13,$F17:$J17)>0,marzo!AL18<>\"X\",marzo!AL18<>\"L\",marzo!AL18<>\"J\",marzo!AL18<>\"V\",marzo!AL18<>\"F\",marzo!AL18<>\"\"),SUMIF($F$13:$J$13,AR$13,$F17:$J17),\"\")","v":""},{"$f":"IF(AND(LEN($D17)>0,SUMIF($F$13:$J$13,AS$13,$F17:$J17)>0,marzo!AN18<>\"X\",marzo!AN18<>\"L\",marzo!AN18<>\"J\",marzo!AN18<>\"V\",marzo!AN18<>\"F\",marzo!AN18<>\"\"),SUMIF($F$13:$J$13,AS$13,$F17:$J17),\"\")","v":""},"",null,null,null,{"$f":"IF(AND(LEN($D17)>0,SUMIF($F$13:$J$13,AX$13,$F17:$J17)>0,marzo!AV18<>\"X\",marzo!AV18<>\"L\",marzo!AV18<>\"J\",marzo!AV18<>\"F\"),SUMIF($F$13:$J$13,AX$13,$F17:$J17),\"\")","v":""},{"$f":"IF(AND(LEN($D17)>0,SUMIF($F$13:$J$13,AY$13,$F17:$J17)>0,marzo!#REF!<>\"X\",marzo!#REF!<>\"L\",marzo!#REF!<>\"J\",marzo!#REF!<>\"F\"),SUMIF($F$13:$J$13,AY$13,$F17:$J17),\"\")","v":{"$error":"#REF!"}},{"$f":"IF(AND(LEN($D17)>0,SUMIF($F$13:$J$13,AZ$13,$F17:$J17)>0,marzo!BG18<>\"X\",marzo!BG18<>\"L\",marzo!BG18<>\"J\",marzo!BG18<>\"F\"),SUMIF($F$13:$J$13,AZ$13,$F17:$J17),\"\")","v":""},{"$f":"IF(AND(LEN($D17)>0,SUMIF($F$13:$J$13,BA$13,$F17:$J17)>0,marzo!BH18<>\"X\",marzo!BH18<>\"L\",marzo!BH18<>\"J\",marzo!BH18<>\"F\"),SUMIF($F$13:$J$13,BA$13,$F17:$J17),\"\")","v":""},{"$f":"IF(AND(LEN($D17)>0,SUMIF($F$13:$J$13,BB$13,$F17:$J17)>0,marzo!BI18<>\"X\",marzo!BI18<>\"L\",marzo!BI18<>\"J\",marzo!BI18<>\"F\"),SUMIF($F$13:$J$13,BB$13,$F17:$J17),\"\")","v":""},{"$f":"IF(AND(LEN($D17)>0,SUMIF($F$13:$J$13,BC$13,$F17:$J17)>0,marzo!BA18<>\"X\",marzo!BA18<>\"L\",marzo!BA18<>\"J\",marzo!BA18<>\"F\"),SUMIF($F$13:$J$13,BC$13,$F17:$J17),\"\")","v":""},{"$f":"IF(AND(LEN($D17)>0,SUMIF($F$13:$J$13,BD$13,$F17:$J17)>0,marzo!BB18<>\"X\",marzo!BB18<>\"L\",marzo!BB18<>\"J\",marzo!BB18<>\"F\"),SUMIF($F$13:$J$13,BD$13,$F17:$J17),\"\")","v":""},{"$f":"IF(AND(LEN($D17)>0,SUMIF($F$13:$J$13,BE$13,$F17:$J17)>0,marzo!BC18<>\"X\",marzo!BC18<>\"L\",marzo!BC18<>\"J\",marzo!BC18<>\"F\"),SUMIF($F$13:$J$13,BE$13,$F17:$J17),\"\")","v":""},{"$f":"IF(AND(LEN($D17)>0,SUMIF($F$13:$J$13,BF$13,$F17:$J17)>0,marzo!#REF!<>\"X\",marzo!#REF!<>\"L\",marzo!#REF!<>\"J\",marzo!#REF!<>\"F\"),SUMIF($F$13:$J$13,BF$13,$F17:$J17),\"\")","v":{"$error":"#REF!"}},{"$f":"IF(AND(LEN($D17)>0,SUMIF($F$13:$J$13,BG$13,$F17:$J17)>0,marzo!#REF!<>\"X\",marzo!#REF!<>\"L\",marzo!#REF!<>\"J\",marzo!#REF!<>\"F\"),SUMIF($F$13:$J$13,BG$13,$F17:$J17),\"\")","v":{"$error":"#REF!"}},{"$f":"IF(AND(LEN($D17)>0,SUMIF($F$13:$J$13,BH$13,$F17:$J17)>0,marzo!#REF!<>\"X\",marzo!#REF!<>\"L\",marzo!#REF!<>\"J\",marzo!#REF!<>\"F\"),SUMIF($F$13:$J$13,BH$13,$F17:$J17),\"\")","v":{"$error":"#REF!"}},{"$f":"IF(AND(LEN($D17)>0,SUMIF($F$13:$J$13,BI$13,$F17:$J17)>0,marzo!#REF!<>\"X\",marzo!#REF!<>\"L\",marzo!#REF!<>\"J\",marzo!#REF!<>\"F\"),SUMIF($F$13:$J$13,BI$13,$F17:$J17),\"\")","v":{"$error":"#REF!"}},{"$f":"IF(AND(LEN($D17)>0,SUMIF($F$13:$J$13,BJ$13,$F17:$J17)>0,marzo!#REF!<>\"X\",marzo!#REF!<>\"L\",marzo!#REF!<>\"J\",marzo!#REF!<>\"F\"),SUMIF($F$13:$J$13,BJ$13,$F17:$J17),\"\")","v":{"$error":"#REF!"}},{"$f":"IF(AND(LEN($D17)>0,SUMIF($F$13:$J$13,BK$13,$F17:$J17)>0,marzo!#REF!<>\"X\",marzo!#REF!<>\"L\",marzo!#REF!<>\"J\",marzo!#REF!<>\"F\"),SUMIF($F$13:$J$13,BK$13,$F17:$J17),\"\")","v":{"$error":"#REF!"}},{"$f":"IF(AND(LEN($D17)>0,SUMIF($F$13:$J$13,BL$13,$F17:$J17)>0,marzo!BJ18<>\"X\",marzo!BJ18<>\"L\",marzo!BJ18<>\"J\",marzo!BJ18<>\"F\"),SUMIF($F$13:$J$13,BL$13,$F17:$J17),\"\")","v":""},{"$f":"IF(AND(LEN($D17)>0,SUMIF($F$13:$J$13,BM$13,$F17:$J17)>0,marzo!BK18<>\"X\",marzo!BK18<>\"L\",marzo!BK18<>\"J\",marzo!BK18<>\"F\"),SUMIF($F$13:$J$13,BM$13,$F17:$J17),\"\")","v":""},{"$f":"IF(AND(LEN($D17)>0,SUMIF($F$13:$J$13,BN$13,$F17:$J17)>0,marzo!BL18<>\"X\",marzo!BL18<>\"L\",marzo!BL18<>\"J\",marzo!BL18<>\"F\"),SUMIF($F$13:$J$13,BN$13,$F17:$J17),\"\")","v":""},{"$f":"IF(AND(LEN($D17)>0,SUMIF($F$13:$J$13,BO$13,$F17:$J17)>0,marzo!BM18<>\"X\",marzo!BM18<>\"L\",marzo!BM18<>\"J\",marzo!BM18<>\"F\"),SUMIF($F$13:$J$13,BO$13,$F17:$J17),\"\")","v":""},{"$f":"IF(AND(LEN($D17)>0,SUMIF($F$13:$J$13,BP$13,$F17:$J17)>0,marzo!BN18<>\"X\",marzo!BN18<>\"L\",marzo!BN18<>\"J\",marzo!BN18<>\"F\"),SUMIF($F$13:$J$13,BP$13,$F17:$J17),\"\")","v":""},{"$f":"IF(AND(LEN($D17)>0,SUMIF($F$13:$J$13,BQ$13,$F17:$J17)>0,marzo!BO18<>\"X\",marzo!BO18<>\"L\",marzo!BO18<>\"J\",marzo!BO18<>\"F\"),SUMIF($F$13:$J$13,BQ$13,$F17:$J17),\"\")","v":""},{"$f":"IF(AND(LEN($D17)>0,SUMIF($F$13:$J$13,BR$13,$F17:$J17)>0,marzo!BP18<>\"X\",marzo!BP18<>\"L\",marzo!BP18<>\"J\",marzo!BP18<>\"F\"),SUMIF($F$13:$J$13,BR$13,$F17:$J17),\"\")","v":""},{"$f":"IF(AND(LEN($D17)>0,SUMIF($F$13:$J$13,BS$13,$F17:$J17)>0,marzo!BQ18<>\"X\",marzo!BQ18<>\"L\",marzo!BQ18<>\"J\",marzo!BQ18<>\"F\"),SUMIF($F$13:$J$13,BS$13,$F17:$J17),\"\")","v":""},{"$f":"IF(AND(LEN($D17)>0,SUMIF($F$13:$J$13,BT$13,$F17:$J17)>0,marzo!BR18<>\"X\",marzo!BR18<>\"L\",marzo!BR18<>\"J\",marzo!BR18<>\"F\"),SUMIF($F$13:$J$13,BT$13,$F17:$J17),\"\")","v":""},{"$f":"IF(AND(LEN($D17)>0,SUMIF($F$13:$J$13,BU$13,$F17:$J17)>0,marzo!BS18<>\"X\",marzo!BS18<>\"L\",marzo!BS18<>\"J\",marzo!BS18<>\"F\"),SUMIF($F$13:$J$13,BU$13,$F17:$J17),\"\")","v":""},{"$f":"IF(AND(LEN($D17)>0,SUMIF($F$13:$J$13,BV$13,$F17:$J17)>0,marzo!BT18<>\"X\",marzo!BT18<>\"L\",marzo!BT18<>\"J\",marzo!BT18<>\"F\"),SUMIF($F$13:$J$13,BV$13,$F17:$J17),\"\")","v":""},{"$f":"IF(AND(LEN($D17)>0,SUMIF($F$13:$J$13,BW$13,$F17:$J17)>0,marzo!BU18<>\"X\",marzo!BU18<>\"L\",marzo!BU18<>\"J\",marzo!BU18<>\"F\"),SUMIF($F$13:$J$13,BW$13,$F17:$J17),\"\")","v":""},{"$f":"IF(AND(LEN($D17)>0,SUMIF($F$13:$J$13,BX$13,$F17:$J17)>0,marzo!BV18<>\"X\",marzo!BV18<>\"L\",marzo!BV18<>\"J\",marzo!BV18<>\"F\"),SUMIF($F$13:$J$13,BX$13,$F17:$J17),\"\")","v":""},{"$f":"IF(AND(LEN($D17)>0,SUMIF($F$13:$J$13,BY$13,$F17:$J17)>0,marzo!BW18<>\"X\",marzo!BW18<>\"L\",marzo!BW18<>\"J\",marzo!BW18<>\"F\"),SUMIF($F$13:$J$13,BY$13,$F17:$J17),\"\")","v":""},{"$f":"IF(AND(LEN($D17)>0,SUMIF($F$13:$J$13,BZ$13,$F17:$J17)>0,marzo!BX18<>\"X\",marzo!BX18<>\"L\",marzo!BX18<>\"J\",marzo!BX18<>\"F\"),SUMIF($F$13:$J$13,BZ$13,$F17:$J17),\"\")","v":""},{"$f":"IF(AND(LEN($D17)>0,SUMIF($F$13:$J$13,CA$13,$F17:$J17)>0,marzo!BY18<>\"X\",marzo!BY18<>\"L\",marzo!BY18<>\"J\",marzo!BY18<>\"F\"),SUMIF($F$13:$J$13,CA$13,$F17:$J17),\"\")","v":""},{"$f":"IF(AND(LEN($D17)>0,SUMIF($F$13:$J$13,CB$13,$F17:$J17)>0,marzo!BZ18<>\"X\",marzo!BZ18<>\"L\",marzo!BZ18<>\"J\",marzo!BZ18<>\"F\"),SUMIF($F$13:$J$13,CB$13,$F17:$J17),\"\")","v":""},{"$error":"#REF!"}]
["",{"$f":"IF(LEN(C18)>0,VLOOKUP($O$4,DATA!$A$1:$S$1,2,FALSE),\"\")","v":""},"",{"$f":"IF(LEN(marzo!E19)>0,marzo!E19,\"\")","v":""},{"$f":"IF(LEN(D18)>0,marzo!F19,\"\")","v":""},null,null,null,null,null,"",null,null,{"$error":"#REF!"},{"$f":"IF(AND(LEN($D18)>0,SUMIF($F$13:$J$13,O$13,$F18:$J18)>0,marzo!I19<>\"X\",marzo!I19<>\"L\",marzo!I19<>\"J\",marzo!I19<>\"V\",marzo!I19<>\"F\",marzo!I19<>\"\"),SUMIF($F$13:$J$13,O$13,$F18:$J18),\"\")","v":""},{"$f":"IF(AND(LEN($D18)>0,SUMIF($F$13:$J$13,P$13,$F18:$J18)>0,marzo!J19<>\"X\",marzo!J19<>\"L\",marzo!J19<>\"J\",marzo!J19<>\"V\",marzo!J19<>\"F\",marzo!J19<>\"\"),SUMIF($F$13:$J$13,P$13,$F18:$J18),\"\")","v":""},{"$f":"IF(AND(LEN($D18)>0,SUMIF($F$13:$J$13,Q$13,$F18:$J18)>0,marzo!K19<>\"X\",marzo!K19<>\"L\",marzo!K19<>\"J\",marzo!K19<>\"V\",marzo!K19<>\"F\",marzo!K19<>\"\"),SUMIF($F$13:$J$13,Q$13,$F18:$J18),\"\")","v":""},{"$f":"IF(AND(LEN($D18)>0,SUMIF($F$13:$J$13,R$13,$F18:$J18)>0,marzo!L19<>\"X\",marzo!L19<>\"L\",marzo!L19<>\"J\",marzo!L19<>\"V\",marzo!L19<>\"F\",marzo!L19<>\"\"),SUMIF($F$13:$J$13,R$13,$F18:$J18),\"\")","v":""},{"$f":"IF(AND(LEN($D18)>0,SUMIF($F$13:$J$13,S$13,$F18:$J18)>0,marzo!M19<>\"X\",marzo!M19<>\"L\",marzo!M19<>\"J\",marzo!M19<>\"V\",marzo!M19<>\"F\",marzo!M19<>\"\"),SUMIF($F$13:$J$13,S$13,$F18:$J18),\"\")","v":""},{"$f":"IF(AND(LEN($D18)>0,SUMIF($F$13:$J$13,T$13,$F18:$J18)>0,marzo!N19<>\"X\",marzo!N19<>\"L\",marzo!N19<>\"J\",marzo!N19<>\"V\",marzo!N19<>\"F\",marzo!N19<>\"\"),SUMIF($F$13:$J$13,T$13,$F18:$J18),\"\")","v":""},{"$f":"IF(AND(LEN($D18)>0,SUMIF($F$13:$J$13,U$13,$F18:$J18)>0,marzo!O19<>\"X\",marzo!O19<>\"L\",marzo!O19<>\"J\",marzo!O19<>\"V\",marzo!O19<>\"F\",marzo!O19<>\"\"),SUMIF($F$13:$J$13,U$13,$F18:$J18),\"\")","v":""},{"$f":"IF(AND(LEN($D18)>0,SUMIF($F$13:$J$13,V$13,$F18:$J18)>0,marzo!P19<>\"X\",marzo!P19<>\"L\",marzo!P19<>\"J\",marzo!P19<>\"V\",marzo!P19<>\"F\",marzo!P19<>\"\"),SUMIF($F$13:$J$13,V$13,$F18:$J18),\"\")","v":""},{"$f":"IF(AND(LEN($D18)>0,SUMIF($F$13:$J$13,W$13,$F18:$J18)>0,marzo!Q19<>\"X\",marzo!Q19<>\"L\",marzo!Q19<>\"J\",marzo!Q19<>\"V\",marzo!Q19<>\"F\",marzo!Q19<>\"\"),SUMIF($F$13:$J$13,W$13,$F18:$J18),\"\")","v":""},{"$f":"IF(AND(LEN($D18)>0,SUMIF($F$13:$J$13,X$13,$F18:$J18)>0,marzo!R19<>\"X\",marzo!R19<>\"L\",marzo!R19<>\"J\",marzo!R19<>\"V\",marzo!R19<>\"F\",marzo!R19<>\"\"),SUMIF($F$13:$J$13,X$13,$F18:$J18),\"\")","v":""},{"$f":"IF(AND(LEN($D18)>0,SUMIF($F$13:$J$13,Y$13,$F18:$J18)>0,marzo!S19<>\"X\",marzo!S19<>\"L\",marzo!S19<>\"J\",marzo!S19<>\"V\",marzo!S19<>\"F\",marzo!S19<>\"\"),SUMIF($F$13:$J$13,Y$13,$F18:$J18),\"\")","v":""},{"$f":"IF(AND(LEN($D18)>0,SUMIF($F$13:$J$13,Z$13,$F18:$J18)>0,marzo!T19<>\"X\",marzo!T19<>\"L\",marzo!T19<>\"J\",marzo!T19<>\"V\",marzo!T19<>\"F\",marzo!T19<>\"\"),SUMIF($F$13:$J$13,Z$13,$F18:$J18),\"\")","v":""},{"$f":"IF(AND(LEN($D18)>0,SUMIF($F$13:$J$13,AA$13,$F18:$J18)>0,marzo!U19<>\"X\",marzo!U19<>\"L\",marzo!U19<>\"J\",marzo!U19<>\"V\",marzo!U19<>\"F\",marzo!U19<>\"\"),SUMIF($F$13:$J$13,AA$13,$F18:$J18),\"\")","v":""},{"$f":"IF(AND(LEN($D18)>0,SUMIF($F$13:$J$13,AB$13,$F18:$J18)>0,marzo!V19<>\"X\",marzo!V19<>\"L\",marzo!V19<>\"J\",marzo!V19<>\"V\",marzo!V19<>\"F\",marzo!V19<>\"\"),SUMIF($F$13:$J$13,AB$13,$F18:$J18),\"\")","v":""},{"$f":"IF(AND(LEN($D18)>0,SUMIF($F$13:$J$13,AC$13,$F18:$J18)>0,marzo!W19<>\"X\",marzo!W19<>\"L\",marzo!W19<>\"J\",marzo!W19<>\"V\",marzo!W19<>\"F\",marzo!W19<>\"\"),SUMIF($F$13:$J$13,AC$13,$F18:$J18),\"\")","v":""},{"$f":"IF(AND(LEN($D18)>0,SUMIF($F$13:$J$13,AD$13,$F18:$J18)>0,marzo!X19<>\"X\",marzo!X19<>\"L\",marzo!X19<>\"J\",marzo!X19<>\"V\",marzo!X19<>\"F\",marzo!X19<>\"\"),SUMIF($F$13:$J$13,AD$13,$F18:$J18),\"\")","v":""},{"$f":"IF(AND(LEN($D18)>0,SUMIF($F$13:$J$13,AE$13,$F18:$J18)>0,marzo!Y19<>\"X\",marzo!Y19<>\"L\",marzo!Y19<>\"J\",marzo!Y19<>\"V\",marzo!Y19<>\"F\",marzo!Y19<>\"\"),SUMIF($F$13:$J$13,AE$13,$F18:$J18),\"\")","v":""},{"$f":"IF(AND(LEN($D18)>0,SUMIF($F$13:$J$13,AF$13,$F18:$J18)>0,marzo!Z19<>\"X\",marzo!Z19<>\"L\",marzo!Z19<>\"J\",marzo!Z19<>\"V\",marzo!Z19<>\"F\",marzo!Z19<>\"\"),SUMIF($F$13:$J$13,AF$13,$F18:$J18),\"\")","v":""},{"$f":"IF(AND(LEN($D18)>0,SUMIF($F$13:$J$13,AG$13,$F18:$J18)>0,marzo!AA19<>\"X\",marzo!AA19<>\"L\",marzo!AA19<>\"J\",marzo!AA19<>\"V\",marzo!AA19<>\"F\",marzo!AA19<>\"\"),SUMIF($F$13:$J$13,AG$13,$F18:$J18),\"\")","v":""},{"$f":"IF(AND(LEN($D18)>0,SUMIF($F$13:$J$13,AH$13,$F18:$J18)>0,marzo!AB19<>\"X\",marzo!AB19<>\"L\",marzo!AB19<>\"J\",marzo!AB19<>\"V\",marzo!AB19<>\"F\",marzo!AB19<>\"\"),SUMIF($F$13:$J$13,AH$13,$F18:$J18),\"\")","v":""},{"$f":"IF(AND(LEN($D18)>0,SUMIF($F$13:$J$13,AI$13,$F18:$J18)>0,marzo!AC19<>\"X\",marzo!AC19<>\"L\",marzo!AC19<>\"J\",marzo!AC19<>\"V\",marzo!AC19<>\"F\",marzo!AC19<>\"\"),SUMIF($F$13:$J$13,AI$13,$F18:$J18),\"\")","v":""},{"$f":"IF(AND(LEN($D18)>0,SUMIF($F$13:$J$13,AJ$13,$F18:$J18)>0,marzo!AD19<>\"X\",marzo!AD19<>\"L\",marzo!AD19<>\"J\",marzo!AD19<>\"V\",marzo!AD19<>\"F\",marzo!AD19<>\"\"),SUMIF($F$13:$J$13,AJ$13,$F18:$J18),\"\")","v":""},{"$f":"IF(AND(LEN($D18)>0,SUMIF($F$13:$J$13,AK$13,$F18:$J18)>0,marzo!AE19<>\"X\",marzo!AE19<>\"L\",marzo!AE19<>\"J\",marzo!AE19<>\"V\",marzo!AE19<>\"F\",marzo!AE19<>\"\"),SUMIF($F$13:$J$13,AK$13,$F18:$J18),\"\")","v":""},{"$f":"IF(AND(LEN($D18)>0,SUMIF($F$13:$J$13,AL$13,$F18:$J18)>0,marzo!AF19<>\"X\",marzo!AF19<>\"L\",marzo!AF19<>\"J\",marzo!AF19<>\"V\",marzo!AF19<>\"F\",marzo!AF19<>\"\"),SUMIF($F$13:$J$13,AL$13,$F18:$J18),\"\")","v":""},{"$f":"IF(AND(LEN($D18)>0,SUMIF($F$13:$J$13,AM$13,$F18:$J18)>0,marzo!AG19<>\"X\",marzo!AG19<>\"L\",marzo!AG19<>\"J\",marzo!AG19<>\"V\",marzo!AG19<>\"F\",marzo!AG19<>\"\"),SUMIF($F$13:$J$13,AM$13,$F18:$J18),\"\")","v":""},{"$f":"IF(AND(LEN($D18)>0,SUMIF($F$13:$J$13,AN$13,$F18:$J18)>0,marzo!AH19<>\"X\",marzo!AH19<>\"L\",marzo!AH19<>\"J\",marzo!AH19<>\"V\",marzo!AH19<>\"F\",marzo!AH19<>\"\"),SUMIF($F$13:$J$13,AN$13,$F18:$J18),\"\")","v":""},{"$f":"IF(AND(LEN($D18)>0,SUMIF($F$13:$J$13,AO$13,$F18:$J18)>0,marzo!AI19<>\"X\",marzo!AI19<>\"L\",marzo!AI19<>\"J\",marzo!AI19<>\"V\",marzo!AI19<>\"F\",marzo!AI19<>\"\"),SUMIF($F$13:$J$13,AO$13,$F18:$J18),\"\")","v":""},{"$f":"IF(AND(LEN($D18)>0,SUMIF($F$13:$J$13,AP$13,$F18:$J18)>0,marzo!AJ19<>\"X\",marzo!AJ19<>\"L\",marzo!AJ19<>\"J\",marzo!AJ19<>\"V\",marzo!AJ19<>\"F\",marzo!AJ19<>\"\"),SUMIF($F$13:$J$13,AP$13,$F18:$J18),\"\")","v":""},{"$f":"IF(AND(LEN($D18)>0,SUMIF($F$13:$J$13,AQ$13,$F18:$J18)>0,marzo!AK19<>\"X\",marzo!AK19<>\"L\",marzo!AK19<>\"J\",marzo!AK19<>\"V\",marzo!AK19<>\"F\",marzo!AK19<>\"\"),SUMIF($F$13:$J$13,AQ$13,$F18:$J18),\"\")","v":""},{"$f":"IF(AND(LEN($D18)>0,SUMIF($F$13:$J$13,AR$13,$F18:$J18)>0,marzo!AL19<>\"X\",marzo!AL19<>\"L\",marzo!AL19<>\"J\",marzo!AL19<>\"V\",marzo!AL19<>\"F\",marzo!AL19<>\"\"),SUMIF($F$13:$J$13,AR$13,$F18:$J18),\"\")","v":""},{"$f":"IF(AND(LEN($D18)>0,SUMIF($F$13:$J$13,AS$13,$F18:$J18)>0,marzo!AN19<>\"X\",marzo!AN19<>\"L\",marzo!AN19<>\"J\",marzo!AN19<>\"V\",marzo!AN19<>\"F\",marzo!AN19<>\"\"),SUMIF($F$13:$J$13,AS$13,$F18:$J18),\"\")","v":""},"",null,null,null,{"$f":"IF(AND(LEN($D18)>0,SUMIF($F$13:$J$13,AX$13,$F18:$J18)>0,marzo!AV19<>\"X\",marzo!AV19<>\"L\",marzo!AV19<>\"J\",marzo!AV19<>\"F\"),SUMIF($F$13:$J$13,AX$13,$F18:$J18),\"\")","v":""},{"$f":"IF(AND(LEN($D18)>0,SUMIF($F$13:$J$13,AY$13,$F18:$J18)>0,marzo!AW19<>\"X\",marzo!AW19<>\"L\",marzo!AW19<>\"J\",marzo!AW19<>\"F\"),SUMIF($F$13:$J$13,AY$13,$F18:$J18),\"\")","v":""},{"$f":"IF(AND(LEN($D18)>0,SUMIF($F$13:$J$13,AZ$13,$F18:$J18)>0,marzo!AX19<>\"X\",marzo!AX19<>\"L\",marzo!AX19<>\"J\",marzo!AX19<>\"F\"),SUMIF($F$13:$J$13,AZ$13,$F18:$J18),\"\")","v":""},{"$f":"IF(AND(LEN($D18)>0,SUMIF($F$13:$J$13,BA$13,$F18:$J18)>0,marzo!AY19<>\"X\",marzo!AY19<>\"L\",marzo!AY19<>\"J\",marzo!AY19<>\"F\"),SUMIF($F$13:$J$13,BA$13,$F18:$J18),\"\")","v":""},{"$f":"IF(AND(LEN($D18)>0,SUMIF($F$13:$J$13,BB$13,$F18:$J18)>0,marzo!AZ19<>\"X\",marzo!AZ19<>\"L\",marzo!AZ19<>\"J\",marzo!AZ19<>\"F\"),SUMIF($F$13:$J$13,BB$13,$F18:$J18),\"\")","v":""},{"$f":"IF(AND(LEN($D18)>0,SUMIF($F$13:$J$13,BC$13,$F18:$J18)>0,marzo!BA19<>\"X\",marzo!BA19<>\"L\",marzo!BA19<>\"J\",marzo!BA19<>\"F\"),SUMIF($F$13:$J$13,BC$13,$F18:$J18),\"\")","v":""},{"$f":"IF(AND(LEN($D18)>0,SUMIF($F$13:$J$13,BD$13,$F18:$J18)>0,marzo!BB19<>\"X\",marzo!BB19<>\"L\",marzo!BB19<>\"J\",marzo!BB19<>\"F\"),SUMIF($F$13:$J$13,BD$13,$F18:$J18),\"\")","v":""},{"$f":"IF(AND(LEN($D18)>0,SUMIF($F$13:$J$13,BE$13,$F18:$J18)>0,marzo!BC19<>\"X\",marzo!BC19<>\"L\",marzo!BC19<>\"J\",marzo!BC19<>\"F\"),SUMIF($F$13:$J$13,BE$13,$F18:$J18),\"\")","v":""},{"$f":"IF(AND(LEN($D18)>0,SUMIF($F$13:$J$13,BF$13,$F18:$J18)>0,marzo!#REF!<>\"X\",marzo!#REF!<>\"L\",marzo!#REF!<>\"J\",marzo!#REF!<>\"F\"),SUMIF($F$13:$J$13,BF$13,$F18:$J18),\"\")","v":{"$error":"#REF!"}},{"$f":"IF(AND(LEN($D18)>0,SUMIF($F$13:$J$13,BG$13,$F18:$J18)>0,marzo!#REF!<>\"X\",marzo!#REF!<>\"L\",marzo!#REF!<>\"J\",marzo!#REF!<>\"F\"),SUMIF($F$13:$J$13,BG$13,$F18:$J18),\"\")","v":{"$error":"#REF!"}},{"$f":"IF(AND(LEN($D18)>0,SUMIF($F$13:$J$13,BH$13,$F18:$J18)>0,marzo!#REF!<>\"X\",marzo!#REF!<>\"L\",marzo!#REF!<>\"J\",marzo!#REF!<>\"F\"),SUMIF($F$13:$J$13,BH$13,$F18:$J18),\"\")","v":{"$error":"#REF!"}},{"$f":"IF(AND(LEN($D18)>0,SUMIF($F$13:$J$13,BI$13,$F18:$J18)>0,marzo!BG19<>\"X\",marzo!BG19<>\"L\",marzo!BG19<>\"J\",marzo!BG19<>\"F\"),SUMIF($F$13:$J$13,BI$13,$F18:$J18),\"\")","v":""},{"$f":"IF(AND(LEN($D18)>0,SUMIF($F$13:$J$13,BJ$13,$F18:$J18)>0,marzo!BH19<>\"X\",marzo!BH19<>\"L\",marzo!BH19<>\"J\",marzo!BH19<>\"F\"),SUMIF($F$13:$J$13,BJ$13,$F18:$J18),\"\")","v":""},{"$f":"IF(AND(LEN($D18)>0,SUMIF($F$13:$J$13,BK$13,$F18:$J18)>0,marzo!BI19<>\"X\",marzo!BI19<>\"L\",marzo!BI19<>\"J\",marzo!BI19<>\"F\"),SUMIF($F$13:$J$13,BK$13,$F18:$J18),\"\")","v":""},{"$f":"IF(AND(LEN($D18)>0,SUMIF($F$13:$J$13,BL$13,$F18:$J18)>0,marzo!BJ19<>\"X\",marzo!BJ19<>\"L\",marzo!BJ19<>\"J\",marzo!BJ19<>\"F\"),SUMIF($F$13:$J$13,BL$13,$F18:$J18),\"\")","v":""},{"$f":"IF(AND(LEN($D18)>0,SUMIF($F$13:$J$13,BM$13,$F18:$J18)>0,marzo!BK19<>\"X\",marzo!BK19<>\"L\",marzo!BK19<>\"J\",marzo!BK19<>\"F\"),SUMIF($F$13:$J$13,BM$13,$F18:$J18),\"\")","v":""},{"$f":"IF(AND(LEN($D18)>0,SUMIF($F$13:$J$13,BN$13,$F18:$J18)>0,marzo!BL19<>\"X\",marzo!BL19<>\"L\",marzo!BL19<>\"J\",marzo!BL19<>\"F\"),SUMIF($F$13:$J$13,BN$13,$F18:$J18),\"\")","v":""},{"$f":"IF(AND(LEN($D18)>0,SUMIF($F$13:$J$13,BO$13,$F18:$J18)>0,marzo!BM19<>\"X\",marzo!BM19<>\"L\",marzo!BM19<>\"J\",marzo!BM19<>\"F\"),SUMIF($F$13:$J$13,BO$13,$F18:$J18),\"\")","v":""},{"$f":"IF(AND(LEN($D18)>0,SUMIF($F$13:$J$13,BP$13,$F18:$J18)>0,marzo!BN19<>\"X\",marzo!BN19<>\"L\",marzo!BN19<>\"J\",marzo!BN19<>\"F\"),SUMIF($F$13:$J$13,BP$13,$F18:$J18),\"\")","v":""},{"$f":"IF(AND(LEN($D18)>0,SUMIF($F$13:$J$13,BQ$13,$F18:$J18)>0,marzo!BO19<>\"X\",marzo!BO19<>\"L\",marzo!BO19<>\"J\",marzo!BO19<>\"F\"),SUMIF($F$13:$J$13,BQ$13,$F18:$J18),\"\")","v":""},{"$f":"IF(AND(LEN($D18)>0,SUMIF($F$13:$J$13,BR$13,$F18:$J18)>0,marzo!BP19<>\"X\",marzo!BP19<>\"L\",marzo!BP19<>\"J\",marzo!BP19<>\"F\"),SUMIF($F$13:$J$13,BR$13,$F18:$J18),\"\")","v":""},{"$f":"IF(AND(LEN($D18)>0,SUMIF($F$13:$J$13,BS$13,$F18:$J18)>0,marzo!BQ19<>\"X\",marzo!BQ19<>\"L\",marzo!BQ19<>\"J\",marzo!BQ19<>\"F\"),SUMIF($F$13:$J$13,BS$13,$F18:$J18),\"\")","v":""},{"$f":"IF(AND(LEN($D18)>0,SUMIF($F$13:$J$13,BT$13,$F18:$J18)>0,marzo!BR19<>\"X\",marzo!BR19<>\"L\",marzo!BR19<>\"J\",marzo!BR19<>\"F\"),SUMIF($F$13:$J$13,BT$13,$F18:$J18),\"\")","v":""},{"$f":"IF(AND(LEN($D18)>0,SUMIF($F$13:$J$13,BU$13,$F18:$J18)>0,marzo!BS19<>\"X\",marzo!BS19<>\"L\",marzo!BS19<>\"J\",marzo!BS19<>\"F\"),SUMIF($F$13:$J$13,BU$13,$F18:$J18),\"\")","v":""},{"$f":"IF(AND(LEN($D18)>0,SUMIF($F$13:$J$13,BV$13,$F18:$J18)>0,marzo!BT19<>\"X\",marzo!BT19<>\"L\",marzo!BT19<>\"J\",marzo!BT19<>\"F\"),SUMIF($F$13:$J$13,BV$13,$F18:$J18),\"\")","v":""},{"$f":"IF(AND(LEN($D18)>0,SUMIF($F$13:$J$13,BW$13,$F18:$J18)>0,marzo!BU19<>\"X\",marzo!BU19<>\"L\",marzo!BU19<>\"J\",marzo!BU19<>\"F\"),SUMIF($F$13:$J$13,BW$13,$F18:$J18),\"\")","v":""},{"$f":"IF(AND(LEN($D18)>0,SUMIF($F$13:$J$13,BX$13,$F18:$J18)>0,marzo!BV19<>\"X\",marzo!BV19<>\"L\",marzo!BV19<>\"J\",marzo!BV19<>\"F\"),SUMIF($F$13:$J$13,BX$13,$F18:$J18),\"\")","v":""},{"$f":"IF(AND(LEN($D18)>0,SUMIF($F$13:$J$13,BY$13,$F18:$J18)>0,marzo!BW19<>\"X\",marzo!BW19<>\"L\",marzo!BW19<>\"J\",marzo!BW19<>\"F\"),SUMIF($F$13:$J$13,BY$13,$F18:$J18),\"\")","v":""},{"$f":"IF(AND(LEN($D18)>0,SUMIF($F$13:$J$13,BZ$13,$F18:$J18)>0,marzo!BX19<>\"X\",marzo!BX19<>\"L\",marzo!BX19<>\"J\",marzo!BX19<>\"F\"),SUMIF($F$13:$J$13,BZ$13,$F18:$J18),\"\")","v":""},{"$f":"IF(AND(LEN($D18)>0,SUMIF($F$13:$J$13,CA$13,$F18:$J18)>0,marzo!BY19<>\"X\",marzo!BY19<>\"L\",marzo!BY19<>\"J\",marzo!BY19<>\"F\"),SUMIF($F$13:$J$13,CA$13,$F18:$J18),\"\")","v":""},{"$f":"IF(AND(LEN($D18)>0,SUMIF($F$13:$J$13,CB$13,$F18:$J18)>0,marzo!BZ19<>\"X\",marzo!BZ19<>\"L\",marzo!BZ19<>\"J\",marzo!BZ19<>\"F\"),SUMIF($F$13:$J$13,CB$13,$F18:$J18),\"\")","v":""},{"$error":"#REF!"}]
["",{"$f":"IF(LEN(C19)>0,VLOOKUP($O$4,DATA!$A$1:$S$1,2,FALSE),\"\")","v":""},"",{"$f":"IF(LEN(marzo!E20)>0,marzo!E20,\"\")","v":""},{"$f":"IF(LEN(D19)>0,marzo!F20,\"\")","v":""},null,null,null,null,null,"",null,null,{"$error":"#REF!"},{"$f":"IF(AND(LEN($D19)>0,SUMIF($F$13:$J$13,O$13,$F19:$J19)>0,marzo!I20<>\"X\",marzo!I20<>\"L\",marzo!I20<>\"J\",marzo!I20<>\"V\",marzo!I20<>\"F\",marzo!I20<>\"\"),SUMIF($F$13:$J$13,O$13,$F19:$J19),\"\")","v":""},{"$f":"IF(AND(LEN($D19)>0,SUMIF($F$13:$J$13,P$13,$F19:$J19)>0,marzo!J20<>\"X\",marzo!J20<>\"L\",marzo!J20<>\"J\",marzo!J20<>\"V\",marzo!J20<>\"F\",marzo!J20<>\"\"),SUMIF($F$13:$J$13,P$13,$F19:$J19),\"\")","v":""},{"$f":"IF(AND(LEN($D19)>0,SUMIF($F$13:$J$13,Q$13,$F19:$J19)>0,marzo!K20<>\"X\",marzo!K20<>\"L\",marzo!K20<>\"J\",marzo!K20<>\"V\",marzo!K20<>\"F\",marzo!K20<>\"\"),SUMIF($F$13:$J$13,Q$13,$F19:$J19),\"\")","v":""},{"$f":"IF(AND(LEN($D19)>0,SUMIF($F$13:$J$13,R$13,$F19:$J19)>0,marzo!L20<>\"X\",marzo!L20<>\"L\",marzo!L20<>\"J\",marzo!L20<>\"V\",marzo!L20<>\"F\",marzo!L20<>\"\"),SUMIF($F$13:$J$13,R$13,$F19:$J19),\"\")","v":""},{"$f":"IF(AND(LEN($D19)>0,SUMIF($F$13:$J$13,S$13,$F19:$J19)>0,marzo!M20<>\"X\",marzo!M20<>\"L\",marzo!M20<>\"J\",marzo!M20<>\"V\",marzo!M20<>\"F\",marzo!M20<>\"\"),SUMIF($F$13:$J$13,S$13,$F19:$J19),\"\")","v":""},{"$f":"IF(AND(LEN($D19)>0,SUMIF($F$13:$J$13,T$13,$F19:$J19)>0,marzo!N20<>\"X\",marzo!N20<>\"L\",marzo!N20<>\"J\",marzo!N20<>\"V\",marzo!N20<>\"F\",marzo!N20<>\"\"),SUMIF($F$13:$J$13,T$13,$F19:$J19),\"\")","v":""},{"$f":"IF(AND(LEN($D19)>0,SUMIF($F$13:$J$13,U$13,$F19:$J19)>0,marzo!O20<>\"X\",marzo!O20<>\"L\",marzo!O20<>\"J\",marzo!O20<>\"V\",marzo!O20<>\"F\",marzo!O20<>\"\"),SUMIF($F$13:$J$13,U$13,$F19:$J19),\"\")","v":""},{"$f":"IF(AND(LEN($D19)>0,SUMIF($F$13:$J$13,V$13,$F19:$J19)>0,marzo!P20<>\"X\",marzo!P20<>\"L\",marzo!P20<>\"J\",marzo!P20<>\"V\",marzo!P20<>\"F\",marzo!P20<>\"\"),SUMIF($F$13:$J$13,V$13,$F19:$J19),\"\")","v":""},{"$f":"IF(AND(LEN($D19)>0,SUMIF($F$13:$J$13,W$13,$F19:$J19)>0,marzo!Q20<>\"X\",marzo!Q20<>\"L\",marzo!Q20<>\"J\",marzo!Q20<>\"V\",marzo!Q20<>\"F\",marzo!Q20<>\"\"),SUMIF($F$13:$J$13,W$13,$F19:$J19),\"\")","v":""},{"$f":"IF(AND(LEN($D19)>0,SUMIF($F$13:$J$13,X$13,$F19:$J19)>0,marzo!R20<>\"X\",marzo!R20<>\"L\",marzo!R20<>\"J\",marzo!R20<>\"V\",marzo!R20<>\"F\",marzo!R20<>\"\"),SUMIF($F$13:$J$13,X$13,$F19:$J19),\"\")","v":""},{"$f":"IF(AND(LEN($D19)>0,SUMIF($F$13:$J$13,Y$13,$F19:$J19)>0,marzo!S20<>\"X\",marzo!S20<>\"L\",marzo!S20<>\"J\",marzo!S20<>\"V\",marzo!S20<>\"F\",marzo!S20<>\"\"),SUMIF($F$13:$J$13,Y$13,$F19:$J19),\"\")","v":""},{"$f":"IF(AND(LEN($D19)>0,SUMIF($F$13:$J$13,Z$13,$F19:$J19)>0,marzo!T20<>\"X\",marzo!T20<>\"L\",marzo!T20<>\"J\",marzo!T20<>\"V\",marzo!T20<>\"F\",marzo!T20<>\"\"),SUMIF($F$13:$J$13,Z$13,$F19:$J19),\"\")","v":""},{"$f":"IF(AND(LEN($D19)>0,SUMIF($F$13:$J$13,AA$13,$F19:$J19)>0,marzo!U20<>\"X\",marzo!U20<>\"L\",marzo!U20<>\"J\",marzo!U20<>\"V\",marzo!U20<>\"F\",marzo!U20<>\"\"),SUMIF($F$13:$J$13,AA$13,$F19:$J19),\"\")","v":""},{"$f":"IF(AND(LEN($D19)>0,SUMIF($F$13:$J$13,AB$13,$F19:$J19)>0,marzo!V20<>\"X\",marzo!V20<>\"L\",marzo!V20<>\"J\",marzo!V20<>\"V\",marzo!V20<>\"F\",marzo!V20<>\"\"),SUMIF($F$13:$J$13,AB$13,$F19:$J19),\"\")","v":""},{"$f":"IF(AND(LEN($D19)>0,SUMIF($F$13:$J$13,AC$13,$F19:$J19)>0,marzo!W20<>\"X\",marzo!W20<>\"L\",marzo!W20<>\"J\",marzo!W20<>\"V\",marzo!W20<>\"F\",marzo!W20<>\"\"),SUMIF($F$13:$J$13,AC$13,$F19:$J19),\"\")","v":""},{"$f":"IF(AND(LEN($D19)>0,SUMIF($F$13:$J$13,AD$13,$F19:$J19)>0,marzo!X20<>\"X\",marzo!X20<>\"L\",marzo!X20<>\"J\",marzo!X20<>\"V\",marzo!X20<>\"F\",marzo!X20<>\"\"),SUMIF($F$13:$J$13,AD$13,$F19:$J19),\"\")","v":""},{"$f":"IF(AND(LEN($D19)>0,SUMIF($F$13:$J$13,AE$13,$F19:$J19)>0,marzo!Y20<>\"X\",marzo!Y20<>\"L\",marzo!Y20<>\"J\",marzo!Y20<>\"V\",marzo!Y20<>\"F\",marzo!Y20<>\"\"),SUMIF($F$13:$J$13,AE$13,$F19:$J19),\"\")","v":""},{"$f":"IF(AND(LEN($D19)>0,SUMIF($F$13:$J$13,AF$13,$F19:$J19)>0,marzo!Z20<>\"X\",marzo!Z20<>\"L\",marzo!Z20<>\"J\",marzo!Z20<>\"V\",marzo!Z20<>\"F\",marzo!Z20<>\"\"),SUMIF($F$13:$J$13,AF$13,$F19:$J19),\"\")","v":""},{"$f":"IF(AND(LEN($D19)>0,SUMIF($F$13:$J$13,AG$13,$F19:$J19)>0,marzo!AA20<>\"X\",marzo!AA20<>\"L\",marzo!AA20<>\"J\",marzo!AA20<>\"V\",marzo!AA20<>\"F\",marzo!AA20<>\"\"),SUMIF($F$13:$J$13,AG$13,$F19:$J19),\"\")","v":""},{"$f":"IF(AND(LEN($D19)>0,SUMIF($F$13:$J$13,AH$13,$F19:$J19)>0,marzo!AB20<>\"X\",marzo!AB20<>\"L\",marzo!AB20<>\"J\",marzo!AB20<>\"V\",marzo!AB20<>\"F\",marzo!AB20<>\"\"),SUMIF($F$13:$J$13,AH$13,$F19:$J19),\"\")","v":""},{"$f":"IF(AND(LEN($D19)>0,SUMIF($F$13:$J$13,AI$13,$F19:$J19)>0,marzo!AC20<>\"X\",marzo!AC20<>\"L\",marzo!AC20<>\"J\",marzo!AC20<>\"V\",marzo!AC20<>\"F\",marzo!AC20<>\"\"),SUMIF($F$13:$J$13,AI$13,$F19:$J19),\"\")","v":""},{"$f":"IF(AND(LEN($D19)>0,SUMIF($F$13:$J$13,AJ$13,$F19:$J19)>0,marzo!AD20<>\"X\",marzo!AD20<>\"L\",marzo!AD20<>\"J\",marzo!AD20<>\"V\",marzo!AD20<>\"F\",marzo!AD20<>\"\"),SUMIF($F$13:$J$13,AJ$13,$F19:$J19),\"\")","v":""},{"$f":"IF(AND(LEN($D19)>0,SUMIF($F$13:$J$13,AK$13,$F19:$J19)>0,marzo!AE20<>\"X\",marzo!AE20<>\"L\",marzo!AE20<>\"J\",marzo!AE20<>\"V\",marzo!AE20<>\"F\",marzo!AE20<>\"\"),SUMIF($F$13:$J$13,AK$13,$F19:$J19),\"\")","v":""},{"$f":"IF(AND(LEN($D19)>0,SUMIF($F$13:$J$13,AL$13,$F19:$J19)>0,marzo!AF20<>\"X\",marzo!AF20<>\"L\",marzo!AF20<>\"J\",marzo!AF20<>\"V\",marzo!AF20<>\"F\",marzo!AF20<>\"\"),SUMIF($F$13:$J$13,AL$13,$F19:$J19),\"\")","v":""},{"$f":"IF(AND(LEN($D19)>0,SUMIF($F$13:$J$13,AM$13,$F19:$J19)>0,marzo!AG20<>\"X\",marzo!AG20<>\"L\",marzo!AG20<>\"J\",marzo!AG20<>\"V\",marzo!AG20<>\"F\",marzo!AG20<>\"\"),SUMIF($F$13:$J$13,AM$13,$F19:$J19),\"\")","v":""},{"$f":"IF(AND(LEN($D19)>0,SUMIF($F$13:$J$13,AN$13,$F19:$J19)>0,marzo!AH20<>\"X\",marzo!AH20<>\"L\",marzo!AH20<>\"J\",marzo!AH20<>\"V\",marzo!AH20<>\"F\",marzo!AH20<>\"\"),SUMIF($F$13:$J$13,AN$13,$F19:$J19),\"\")","v":""},{"$f":"IF(AND(LEN($D19)>0,SUMIF($F$13:$J$13,AO$13,$F19:$J19)>0,marzo!AI20<>\"X\",marzo!AI20<>\"L\",marzo!AI20<>\"J\",marzo!AI20<>\"V\",marzo!AI20<>\"F\",marzo!AI20<>\"\"),SUMIF($F$13:$J$13,AO$13,$F19:$J19),\"\")","v":""},{"$f":"IF(AND(LEN($D19)>0,SUMIF($F$13:$J$13,AP$13,$F19:$J19)>0,marzo!AJ20<>\"X\",marzo!AJ20<>\"L\",marzo!AJ20<>\"J\",marzo!AJ20<>\"V\",marzo!AJ20<>\"F\",marzo!AJ20<>\"\"),SUMIF($F$13:$J$13,AP$13,$F19:$J19),\"\")","v":""},{"$f":"IF(AND(LEN($D19)>0,SUMIF($F$13:$J$13,AQ$13,$F19:$J19)>0,marzo!AK20<>\"X\",marzo!AK20<>\"L\",marzo!AK20<>\"J\",marzo!AK20<>\"V\",marzo!AK20<>\"F\",marzo!AK20<>\"\"),SUMIF($F$13:$J$13,AQ$13,$F19:$J19),\"\")","v":""},{"$f":"IF(AND(LEN($D19)>0,SUMIF($F$13:$J$13,AR$13,$F19:$J19)>0,marzo!AL20<>\"X\",marzo!AL20<>\"L\",marzo!AL20<>\"J\",marzo!AL20<>\"V\",marzo!AL20<>\"F\",marzo!AL20<>\"\"),SUMIF($F$13:$J$13,AR$13,$F19:$J19),\"\")","v":""},{"$f":"IF(AND(LEN($D19)>0,SUMIF($F$13:$J$13,AS$13,$F19:$J19)>0,marzo!AN20<>\"X\",marzo!AN20<>\"L\",marzo!AN20<>\"J\",marzo!AN20<>\"V\",marzo!AN20<>\"F\",marzo!AN20<>\"\"),SUMIF($F$13:$J$13,AS$13,$F19:$J19),\"\")","v":""},"",null,null,null,{"$f":"IF(AND(LEN($D19)>0,SUMIF($F$13:$J$13,AX$13,$F19:$J19)>0,marzo!AV20<>\"X\",marzo!AV20<>\"L\",marzo!AV20<>\"J\",marzo!AV20<>\"F\"),SUMIF($F$13:$J$13,AX$13,$F19:$J19),\"\")","v":""},{"$f":"IF(AND(LEN($D19)>0,SUMIF($F$13:$J$13,AY$13,$F19:$J19)>0,marzo!AW20<>\"X\",marzo!AW20<>\"L\",marzo!AW20<>\"J\",marzo!AW20<>\"F\"),SUMIF($F$13:$J$13,AY$13,$F19:$J19),\"\")","v":""},{"$f":"IF(AND(LEN($D19)>0,SUMIF($F$13:$J$13,AZ$13,$F19:$J19)>0,marzo!AX20<>\"X\",marzo!AX20<>\"L\",marzo!AX20<>\"J\",marzo!AX20<>\"F\"),SUMIF($F$13:$J$13,AZ$13,$F19:$J19),\"\")","v":""},{"$f":"IF(AND(LEN($D19)>0,SUMIF($F$13:$J$13,BA$13,$F19:$J19)>0,marzo!AY20<>\"X\",marzo!AY20<>\"L\",marzo!AY20<>\"J\",marzo!AY20<>\"F\"),SUMIF($F$13:$J$13,BA$13,$F19:$J19),\"\")","v":""},{"$f":"IF(AND(LEN($D19)>0,SUMIF($F$13:$J$13,BB$13,$F19:$J19)>0,marzo!AZ20<>\"X\",marzo!AZ20<>\"L\",marzo!AZ20<>\"J\",marzo!AZ20<>\"F\"),SUMIF($F$13:$J$13,BB$13,$F19:$J19),\"\")","v":""},{"$f":"IF(AND(LEN($D19)>0,SUMIF($F$13:$J$13,BC$13,$F19:$J19)>0,marzo!BA20<>\"X\",marzo!BA20<>\"L\",marzo!BA20<>\"J\",marzo!BA20<>\"F\"),SUMIF($F$13:$J$13,BC$13,$F19:$J19),\"\")","v":""},{"$f":"IF(AND(LEN($D19)>0,SUMIF($F$13:$J$13,BD$13,$F19:$J19)>0,marzo!BB20<>\"X\",marzo!BB20<>\"L\",marzo!BB20<>\"J\",marzo!BB20<>\"F\"),SUMIF($F$13:$J$13,BD$13,$F19:$J19),\"\")","v":""},{"$f":"IF(AND(LEN($D19)>0,SUMIF($F$13:$J$13,BE$13,$F19:$J19)>0,marzo!BC20<>\"X\",marzo!BC20<>\"L\",marzo!BC20<>\"J\",marzo!BC20<>\"F\"),SUMIF($F$13:$J$13,BE$13,$F19:$J19),\"\")","v":""},{"$f":"IF(AND(LEN($D19)>0,SUMIF($F$13:$J$13,BF$13,$F19:$J19)>0,marzo!#REF!<>\"X\",marzo!#REF!<>\"L\",marzo!#REF!<>\"J\",marzo!#REF!<>\"F\"),SUMIF($F$13:$J$13,BF$13,$F19:$J19),\"\")","v":{"$error":"#REF!"}},{"$f":"IF(AND(LEN($D19)>0,SUMIF($F$13:$J$13,BG$13,$F19:$J19)>0,marzo!#REF!<>\"X\",marzo!#REF!<>\"L\",marzo!#REF!<>\"J\",marzo!#REF!<>\"F\"),SUMIF($F$13:$J$13,BG$13,$F19:$J19),\"\")","v":{"$error":"#REF!"}},{"$f":"IF(AND(LEN($D19)>0,SUMIF($F$13:$J$13,BH$13,$F19:$J19)>0,marzo!#REF!<>\"X\",marzo!#REF!<>\"L\",marzo!#REF!<>\"J\",marzo!#REF!<>\"F\"),SUMIF($F$13:$J$13,BH$13,$F19:$J19),\"\")","v":{"$error":"#REF!"}},{"$f":"IF(AND(LEN($D19)>0,SUMIF($F$13:$J$13,BI$13,$F19:$J19)>0,marzo!BG20<>\"X\",marzo!BG20<>\"L\",marzo!BG20<>\"J\",marzo!BG20<>\"F\"),SUMIF($F$13:$J$13,BI$13,$F19:$J19),\"\")","v":""},{"$f":"IF(AND(LEN($D19)>0,SUMIF($F$13:$J$13,BJ$13,$F19:$J19)>0,marzo!BH20<>\"X\",marzo!BH20<>\"L\",marzo!BH20<>\"J\",marzo!BH20<>\"F\"),SUMIF($F$13:$J$13,BJ$13,$F19:$J19),\"\")","v":""},{"$f":"IF(AND(LEN($D19)>0,SUMIF($F$13:$J$13,BK$13,$F19:$J19)>0,marzo!BI20<>\"X\",marzo!BI20<>\"L\",marzo!BI20<>\"J\",marzo!BI20<>\"F\"),SUMIF($F$13:$J$13,BK$13,$F19:$J19),\"\")","v":""},{"$f":"IF(AND(LEN($D19)>0,SUMIF($F$13:$J$13,BL$13,$F19:$J19)>0,marzo!BJ20<>\"X\",marzo!BJ20<>\"L\",marzo!BJ20<>\"J\",marzo!BJ20<>\"F\"),SUMIF($F$13:$J$13,BL$13,$F19:$J19),\"\")","v":""},{"$f":"IF(AND(LEN($D19)>0,SUMIF($F$13:$J$13,BM$13,$F19:$J19)>0,marzo!BK20<>\"X\",marzo!BK20<>\"L\",marzo!BK20<>\"J\",marzo!BK20<>\"F\"),SUMIF($F$13:$J$13,BM$13,$F19:$J19),\"\")","v":""},{"$f":"IF(AND(LEN($D19)>0,SUMIF($F$13:$J$13,BN$13,$F19:$J19)>0,marzo!BL20<>\"X\",marzo!BL20<>\"L\",marzo!BL20<>\"J\",marzo!BL20<>\"F\"),SUMIF($F$13:$J$13,BN$13,$F19:$J19),\"\")","v":""},{"$f":"IF(AND(LEN($D19)>0,SUMIF($F$13:$J$13,BO$13,$F19:$J19)>0,marzo!BM20<>\"X\",marzo!BM20<>\"L\",marzo!BM20<>\"J\",marzo!BM20<>\"F\"),SUMIF($F$13:$J$13,BO$13,$F19:$J19),\"\")","v":""},{"$f":"IF(AND(LEN($D19)>0,SUMIF($F$13:$J$13,BP$13,$F19:$J19)>0,marzo!BN20<>\"X\",marzo!BN20<>\"L\",marzo!BN20<>\"J\",marzo!BN20<>\"F\"),SUMIF($F$13:$J$13,BP$13,$F19:$J19),\"\")","v":""},{"$f":"IF(AND(LEN($D19)>0,SUMIF($F$13:$J$13,BQ$13,$F19:$J19)>0,marzo!BO20<>\"X\",marzo!BO20<>\"L\",marzo!BO20<>\"J\",marzo!BO20<>\"F\"),SUMIF($F$13:$J$13,BQ$13,$F19:$J19),\"\")","v":""},{"$f":"IF(AND(LEN($D19)>0,SUMIF($F$13:$J$13,BR$13,$F19:$J19)>0,marzo!BP20<>\"X\",marzo!BP20<>\"L\",marzo!BP20<>\"J\",marzo!BP20<>\"F\"),SUMIF($F$13:$J$13,BR$13,$F19:$J19),\"\")","v":""},{"$f":"IF(AND(LEN($D19)>0,SUMIF($F$13:$J$13,BS$13,$F19:$J19)>0,marzo!BQ20<>\"X\",marzo!BQ20<>\"L\",marzo!BQ20<>\"J\",marzo!BQ20<>\"F\"),SUMIF($F$13:$J$13,BS$13,$F19:$J19),\"\")","v":""},{"$f":"IF(AND(LEN($D19)>0,SUMIF($F$13:$J$13,BT$13,$F19:$J19)>0,marzo!BR20<>\"X\",marzo!BR20<>\"L\",marzo!BR20<>\"J\",marzo!BR20<>\"F\"),SUMIF($F$13:$J$13,BT$13,$F19:$J19),\"\")","v":""},{"$f":"IF(AND(LEN($D19)>0,SUMIF($F$13:$J$13,BU$13,$F19:$J19)>0,marzo!BS20<>\"X\",marzo!BS20<>\"L\",marzo!BS20<>\"J\",marzo!BS20<>\"F\"),SUMIF($F$13:$J$13,BU$13,$F19:$J19),\"\")","v":""},{"$f":"IF(AND(LEN($D19)>0,SUMIF($F$13:$J$13,BV$13,$F19:$J19)>0,marzo!BT20<>\"X\",marzo!BT20<>\"L\",marzo!BT20<>\"J\",marzo!BT20<>\"F\"),SUMIF($F$13:$J$13,BV$13,$F19:$J19),\"\")","v":""},{"$f":"IF(AND(LEN($D19)>0,SUMIF($F$13:$J$13,BW$13,$F19:$J19)>0,marzo!BU20<>\"X\",marzo!BU20<>\"L\",marzo!BU20<>\"J\",marzo!BU20<>\"F\"),SUMIF($F$13:$J$13,BW$13,$F19:$J19),\"\")","v":""},{"$f":"IF(AND(LEN($D19)>0,SUMIF($F$13:$J$13,BX$13,$F19:$J19)>0,marzo!BV20<>\"X\",marzo!BV20<>\"L\",marzo!BV20<>\"J\",marzo!BV20<>\"F\"),SUMIF($F$13:$J$13,BX$13,$F19:$J19),\"\")","v":""},{"$f":"IF(AND(LEN($D19)>0,SUMIF($F$13:$J$13,BY$13,$F19:$J19)>0,marzo!BW20<>\"X\",marzo!BW20<>\"L\",marzo!BW20<>\"J\",marzo!BW20<>\"F\"),SUMIF($F$13:$J$13,BY$13,$F19:$J19),\"\")","v":""},{"$f":"IF(AND(LEN($D19)>0,SUMIF($F$13:$J$13,BZ$13,$F19:$J19)>0,marzo!BX20<>\"X\",marzo!BX20<>\"L\",marzo!BX20<>\"J\",marzo!BX20<>\"F\"),SUMIF($F$13:$J$13,BZ$13,$F19:$J19),\"\")","v":""},{"$f":"IF(AND(LEN($D19)>0,SUMIF($F$13:$J$13,CA$13,$F19:$J19)>0,marzo!BY20<>\"X\",marzo!BY20<>\"L\",marzo!BY20<>\"J\",marzo!BY20<>\"F\"),SUMIF($F$13:$J$13,CA$13,$F19:$J19),\"\")","v":""},{"$f":"IF(AND(LEN($D19)>0,SUMIF($F$13:$J$13,CB$13,$F19:$J19)>0,marzo!BZ20<>\"X\",marzo!BZ20<>\"L\",marzo!BZ20<>\"J\",marzo!BZ20<>\"F\"),SUMIF($F$13:$J$13,CB$13,$F19:$J19),\"\")","v":""},{"$error":"#REF!"}]
["",{"$f":"IF(LEN(C20)>0,VLOOKUP($O$4,DATA!$A$1:$S$1,2,FALSE),\"\")","v":""},"",{"$f":"IF(LEN(marzo!E21)>0,marzo!E21,\"\")","v":""},{"$f":"IF(LEN(D20)>0,marzo!F21,\"\")","v":""},null,null,null,null,null,"",null,null,{"$error":"#REF!"},{"$f":"IF(AND(LEN($D20)>0,SUMIF($F$13:$J$13,O$13,$F20:$J20)>0,marzo!I21<>\"X\",marzo!I21<>\"L\",marzo!I21<>\"J\",marzo!I21<>\"V\",marzo!I21<>\"F\",marzo!I21<>\"\"),SUMIF($F$13:$J$13,O$13,$F20:$J20),\"\")","v":""},{"$f":"IF(AND(LEN($D20)>0,SUMIF($F$13:$J$13,P$13,$F20:$J20)>0,marzo!J21<>\"X\",marzo!J21<>\"L\",marzo!J21<>\"J\",marzo!J21<>\"V\",marzo!J21<>\"F\",marzo!J21<>\"\"),SUMIF($F$13:$J$13,P$13,$F20:$J20),\"\")","v":""},{"$f":"IF(AND(LEN($D20)>0,SUMIF($F$13:$J$13,Q$13,$F20:$J20)>0,marzo!K21<>\"X\",marzo!K21<>\"L\",marzo!K21<>\"J\",marzo!K21<>\"V\",marzo!K21<>\"F\",marzo!K21<>\"\"),SUMIF($F$13:$J$13,Q$13,$F20:$J20),\"\")","v":""},{"$f":"IF(AND(LEN($D20)>0,SUMIF($F$13:$J$13,R$13,$F20:$J20)>0,marzo!L21<>\"X\",marzo!L21<>\"L\",marzo!L21<>\"J\",marzo!L21<>\"V\",marzo!L21<>\"F\",marzo!L21<>\"\"),SUMIF($F$13:$J$13,R$13,$F20:$J20),\"\")","v":""},{"$f":"IF(AND(LEN($D20)>0,SUMIF($F$13:$J$13,S$13,$F20:$J20)>0,marzo!M21<>\"X\",marzo!M21<>\"L\",marzo!M21<>\"J\",marzo!M21<>\"V\",marzo!M21<>\"F\",marzo!M21<>\"\"),SUMIF($F$13:$J$13,S$13,$F20:$J20),\"\")","v":""},{"$f":"IF(AND(LEN($D20)>0,SUMIF($F$13:$J$13,T$13,$F20:$J20)>0,marzo!N21<>\"X\",marzo!N21<>\"L\",marzo!N21<>\"J\",marzo!N21<>\"V\",marzo!N21<>\"F\",marzo!N21<>\"\"),SUMIF($F$13:$J$13,T$13,$F20:$J20),\"\")","v":""},{"$f":"IF(AND(LEN($D20)>0,SUMIF($F$13:$J$13,U$13,$F20:$J20)>0,marzo!O21<>\"X\",marzo!O21<>\"L\",marzo!O21<>\"J\",marzo!O21<>\"V\",marzo!O21<>\"F\",marzo!O21<>\"\"),SUMIF($F$13:$J$13,U$13,$F20:$J20),\"\")","v":""},{"$f":"IF(AND(LEN($D20)>0,SUMIF($F$13:$J$13,V$13,$F20:$J20)>0,marzo!P21<>\"X\",marzo!P21<>\"L\",marzo!P21<>\"J\",marzo!P21<>\"V\",marzo!P21<>\"F\",marzo!P21<>\"\"),SUMIF($F$13:$J$13,V$13,$F20:$J20),\"\")","v":""},{"$f":"IF(AND(LEN($D20)>0,SUMIF($F$13:$J$13,W$13,$F20:$J20)>0,marzo!Q21<>\"X\",marzo!Q21<>\"L\",marzo!Q21<>\"J\",marzo!Q21<>\"V\",marzo!Q21<>\"F\",marzo!Q21<>\"\"),SUMIF($F$13:$J$13,W$13,$F20:$J20),\"\")","v":""},{"$f":"IF(AND(LEN($D20)>0,SUMIF($F$13:$J$13,X$13,$F20:$J20)>0,marzo!R21<>\"X\",marzo!R21<>\"L\",marzo!R21<>\"J\",marzo!R21<>\"V\",marzo!R21<>\"F\",marzo!R21<>\"\"),SUMIF($F$13:$J$13,X$13,$F20:$J20),\"\")","v":""},{"$f":"IF(AND(LEN($D20)>0,SUMIF($F$13:$J$13,Y$13,$F20:$J20)>0,marzo!S21<>\"X\",marzo!S21<>\"L\",marzo!S21<>\"J\",marzo!S21<>\"V\",marzo!S21<>\"F\",marzo!S21<>\"\"),SUMIF($F$13:$J$13,Y$13,$F20:$J20),\"\")","v":""},{"$f":"IF(AND(LEN($D20)>0,SUMIF($F$13:$J$13,Z$13,$F20:$J20)>0,marzo!T21<>\"X\",marzo!T21<>\"L\",marzo!T21<>\"J\",marzo!T21<>\"V\",marzo!T21<>\"F\",marzo!T21<>\"\"),SUMIF($F$13:$J$13,Z$13,$F20:$J20),\"\")","v":""},{"$f":"IF(AND(LEN($D20)>0,SUMIF($F$13:$J$13,AA$13,$F20:$J20)>0,marzo!U21<>\"X\",marzo!U21<>\"L\",marzo!U21<>\"J\",marzo!U21<>\"V\",marzo!U21<>\"F\",marzo!U21<>\"\"),SUMIF($F$13:$J$13,AA$13,$F20:$J20),\"\")","v":""},{"$f":"IF(AND(LEN($D20)>0,SUMIF($F$13:$J$13,AB$13,$F20:$J20)>0,marzo!V21<>\"X\",marzo!V21<>\"L\",marzo!V21<>\"J\",marzo!V21<>\"V\",marzo!V21<>\"F\",marzo!V21<>\"\"),SUMIF($F$13:$J$13,AB$13,$F20:$J20),\"\")","v":""},{"$f":"IF(AND(LEN($D20)>0,SUMIF($F$13:$J$13,AC$13,$F20:$J20)>0,marzo!W21<>\"X\",marzo!W21<>\"L\",marzo!W21<>\"J\",marzo!W21<>\"V\",marzo!W21<>\"F\",marzo!W21<>\"\"),SUMIF($F$13:$J$13,AC$13,$F20:$J20),\"\")","v":""},{"$f":"IF(AND(LEN($D20)>0,SUMIF($F$13:$J$13,AD$13,$F20:$J20)>0,marzo!X21<>\"X\",marzo!X21<>\"L\",marzo!X21<>\"J\",marzo!X21<>\"V\",marzo!X21<>\"F\",marzo!X21<>\"\"),SUMIF($F$13:$J$13,AD$13,$F20:$J20),\"\")","v":""},{"$f":"IF(AND(LEN($D20)>0,SUMIF($F$13:$J$13,AE$13,$F20:$J20)>0,marzo!Y21<>\"X\",marzo!Y21<>\"L\",marzo!Y21<>\"J\",marzo!Y21<>\"V\",marzo!Y21<>\"F\",marzo!Y21<>\"\"),SUMIF($F$13:$J$13,AE$13,$F20:$J20),\"\")","v":""},{"$f":"IF(AND(LEN($D20)>0,SUMIF($F$13:$J$13,AF$13,$F20:$J20)>0,marzo!Z21<>\"X\",marzo!Z21<>\"L\",marzo!Z21<>\"J\",marzo!Z21<>\"V\",marzo!Z21<>\"F\",marzo!Z21<>\"\"),SUMIF($F$13:$J$13,AF$13,$F20:$J20),\"\")","v":""},{"$f":"IF(AND(LEN($D20)>0,SUMIF($F$13:$J$13,AG$13,$F20:$J20)>0,marzo!AA21<>\"X\",marzo!AA21<>\"L\",marzo!AA21<>\"J\",marzo!AA21<>\"V\",marzo!AA21<>\"F\",marzo!AA21<>\"\"),SUMIF($F$13:$J$13,AG$13,$F20:$J20),\"\")","v":""},{"$f":"IF(AND(LEN($D20)>0,SUMIF($F$13:$J$13,AH$13,$F20:$J20)>0,marzo!AB21<>\"X\",marzo!AB21<>\"L\",marzo!AB21<>\"J\",marzo!AB21<>\"V\",marzo!AB21<>\"F\",marzo!AB21<>\"\"),SUMIF($F$13:$J$13,AH$13,$F20:$J20),\"\")","v":""},{"$f":"IF(AND(LEN($D20)>0,SUMIF($F$13:$J$13,AI$13,$F20:$J20)>0,marzo!AC21<>\"X\",marzo!AC21<>\"L\",marzo!AC21<>\"J\",marzo!AC21<>\"V\",marzo!AC21<>\"F\",marzo!AC21<>\"\"),SUMIF($F$13:$J$13,AI$13,$F20:$J20),\"\")","v":""},{"$f":"IF(AND(LEN($D20)>0,SUMIF($F$13:$J$13,AJ$13,$F20:$J20)>0,marzo!AD21<>\"X\",marzo!AD21<>\"L\",marzo!AD21<>\"J\",marzo!AD21<>\"V\",marzo!AD21<>\"F\",marzo!AD21<>\"\"),SUMIF($F$13:$J$13,AJ$13,$F20:$J20),\"\")","v":""},{"$f":"IF(AND(LEN($D20)>0,SUMIF($F$13:$J$13,AK$13,$F20:$J20)>0,marzo!AE21<>\"X\",marzo!AE21<>\"L\",marzo!AE21<>\"J\",marzo!AE21<>\"V\",marzo!AE21<>\"F\",marzo!AE21<>\"\"),SUMIF($F$13:$J$13,AK$13,$F20:$J20),\"\")","v":""},{"$f":"IF(AND(LEN($D20)>0,SUMIF($F$13:$J$13,AL$13,$F20:$J20)>0,marzo!AF21<>\"X\",marzo!AF21<>\"L\",marzo!AF21<>\"J\",marzo!AF21<>\"V\",marzo!AF21<>\"F\",marzo!AF21<>\"\"),SUMIF($F$13:$J$13,AL$13,$F20:$J20),\"\")","v":""},{"$f":"IF(AND(LEN($D20)>0,SUMIF($F$13:$J$13,AM$13,$F20:$J20)>0,marzo!AG21<>\"X\",marzo!AG21<>\"L\",marzo!AG21<>\"J\",marzo!AG21<>\"V\",marzo!AG21<>\"F\",marzo!AG21<>\"\"),SUMIF($F$13:$J$13,AM$13,$F20:$J20),\"\")","v":""},{"$f":"IF(AND(LEN($D20)>0,SUMIF($F$13:$J$13,AN$13,$F20:$J20)>0,marzo!AH21<>\"X\",marzo!AH21<>\"L\",marzo!AH21<>\"J\",marzo!AH21<>\"V\",marzo!AH21<>\"F\",marzo!AH21<>\"\"),SUMIF($F$13:$J$13,AN$13,$F20:$J20),\"\")","v":""},{"$f":"IF(AND(LEN($D20)>0,SUMIF($F$13:$J$13,AO$13,$F20:$J20)>0,marzo!AI21<>\"X\",marzo!AI21<>\"L\",marzo!AI21<>\"J\",marzo!AI21<>\"V\",marzo!AI21<>\"F\",marzo!AI21<>\"\"),SUMIF($F$13:$J$13,AO$13,$F20:$J20),\"\")","v":""},{"$f":"IF(AND(LEN($D20)>0,SUMIF($F$13:$J$13,AP$13,$F20:$J20)>0,marzo!AJ21<>\"X\",marzo!AJ21<>\"L\",marzo!AJ21<>\"J\",marzo!AJ21<>\"V\",marzo!AJ21<>\"F\",marzo!AJ21<>\"\"),SUMIF($F$13:$J$13,AP$13,$F20:$J20),\"\")","v":""},{"$f":"IF(AND(LEN($D20)>0,SUMIF($F$13:$J$13,AQ$13,$F20:$J20)>0,marzo!AK21<>\"X\",marzo!AK21<>\"L\",marzo!AK21<>\"J\",marzo!AK21<>\"V\",marzo!AK21<>\"F\",marzo!AK21<>\"\"),SUMIF($F$13:$J$13,AQ$13,$F20:$J20),\"\")","v":""},{"$f":"IF(AND(LEN($D20)>0,SUMIF($F$13:$J$13,AR$13,$F20:$J20)>0,marzo!AL21<>\"X\",marzo!AL21<>\"L\",marzo!AL21<>\"J\",marzo!AL21<>\"V\",marzo!AL21<>\"F\",marzo!AL21<>\"\"),SUMIF($F$13:$J$13,AR$13,$F20:$J20),\"\")","v":""},{"$f":"IF(AND(LEN($D20)>0,SUMIF($F$13:$J$13,AS$13,$F20:$J20)>0,marzo!AN21<>\"X\",marzo!AN21<>\"L\",marzo!AN21<>\"J\",marzo!AN21<>\"V\",marzo!AN21<>\"F\",marzo!AN21<>\"\"),SUMIF($F$13:$J$13,AS$13,$F20:$J20),\"\")","v":""},"",null,null,null,{"$f":"IF(AND(LEN($D20)>0,SUMIF($F$13:$J$13,AX$13,$F20:$J20)>0,marzo!AV21<>\"X\",marzo!AV21<>\"L\",marzo!AV21<>\"J\",marzo!AV21<>\"F\"),SUMIF($F$13:$J$13,AX$13,$F20:$J20),\"\")","v":""},{"$f":"IF(AND(LEN($D20)>0,SUMIF($F$13:$J$13,AY$13,$F20:$J20)>0,marzo!AW21<>\"X\",marzo!AW21<>\"L\",marzo!AW21<>\"J\",marzo!AW21<>\"F\"),SUMIF($F$13:$J$13,AY$13,$F20:$J20),\"\")","v":""},{"$f":"IF(AND(LEN($D20)>0,SUMIF($F$13:$J$13,AZ$13,$F20:$J20)>0,marzo!AX21<>\"X\",marzo!AX21<>\"L\",marzo!AX21<>\"J\",marzo!AX21<>\"F\"),SUMIF($F$13:$J$13,AZ$13,$F20:$J20),\"\")","v":""},{"$f":"IF(AND(LEN($D20)>0,SUMIF($F$13:$J$13,BA$13,$F20:$J20)>0,marzo!AY21<>\"X\",marzo!AY21<>\"L\",marzo!AY21<>\"J\",marzo!AY21<>\"F\"),SUMIF($F$13:$J$13,BA$13,$F20:$J20),\"\")","v":""},{"$f":"IF(AND(LEN($D20)>0,SUMIF($F$13:$J$13,BB$13,$F20:$J20)>0,marzo!AZ21<>\"X\",marzo!AZ21<>\"L\",marzo!AZ21<>\"J\",marzo!AZ21<>\"F\"),SUMIF($F$13:$J$13,BB$13,$F20:$J20),\"\")","v":""},{"$f":"IF(AND(LEN($D20)>0,SUMIF($F$13:$J$13,BC$13,$F20:$J20)>0,marzo!BA21<>\"X\",marzo!BA21<>\"L\",marzo!BA21<>\"J\",marzo!BA21<>\"F\"),SUMIF($F$13:$J$13,BC$13,$F20:$J20),\"\")","v":""},{"$f":"IF(AND(LEN($D20)>0,SUMIF($F$13:$J$13,BD$13,$F20:$J20)>0,marzo!BB21<>\"X\",marzo!BB21<>\"L\",marzo!BB21<>\"J\",marzo!BB21<>\"F\"),SUMIF($F$13:$J$13,BD$13,$F20:$J20),\"\")","v":""},{"$f":"IF(AND(LEN($D20)>0,SUMIF($F$13:$J$13,BE$13,$F20:$J20)>0,marzo!BC21<>\"X\",marzo!BC21<>\"L\",marzo!BC21<>\"J\",marzo!BC21<>\"F\"),SUMIF($F$13:$J$13,BE$13,$F20:$J20),\"\")","v":""},{"$f":"IF(AND(LEN($D20)>0,SUMIF($F$13:$J$13,BF$13,$F20:$J20)>0,marzo!#REF!<>\"X\",marzo!#REF!<>\"L\",marzo!#REF!<>\"J\",marzo!#REF!<>\"F\"),SUMIF($F$13:$J$13,BF$13,$F20:$J20),\"\")","v":{"$error":"#REF!"}},{"$f":"IF(AND(LEN($D20)>0,SUMIF($F$13:$J$13,BG$13,$F20:$J20)>0,marzo!#REF!<>\"X\",marzo!#REF!<>\"L\",marzo!#REF!<>\"J\",marzo!#REF!<>\"F\"),SUMIF($F$13:$J$13,BG$13,$F20:$J20),\"\")","v":{"$error":"#REF!"}},{"$f":"IF(AND(LEN($D20)>0,SUMIF($F$13:$J$13,BH$13,$F20:$J20)>0,marzo!BF21<>\"X\",marzo!BF21<>\"L\",marzo!BF21<>\"J\",marzo!BF21<>\"F\"),SUMIF($F$13:$J$13,BH$13,$F20:$J20),\"\")","v":""},{"$f":"IF(AND(LEN($D20)>0,SUMIF($F$13:$J$13,BI$13,$F20:$J20)>0,marzo!BG21<>\"X\",marzo!BG21<>\"L\",marzo!BG21<>\"J\",marzo!BG21<>\"F\"),SUMIF($F$13:$J$13,BI$13,$F20:$J20),\"\")","v":""},{"$f":"IF(AND(LEN($D20)>0,SUMIF($F$13:$J$13,BJ$13,$F20:$J20)>0,marzo!BH21<>\"X\",marzo!BH21<>\"L\",marzo!BH21<>\"J\",marzo!BH21<>\"F\"),SUMIF($F$13:$J$13,BJ$13,$F20:$J20),\"\")","v":""},{"$f":"IF(AND(LEN($D20)>0,SUMIF($F$13:$J$13,BK$13,$F20:$J20)>0,marzo!BI21<>\"X\",marzo!BI21<>\"L\",marzo!BI21<>\"J\",marzo!BI21<>\"F\"),SUMIF($F$13:$J$13,BK$13,$F20:$J20),\"\")","v":""},{"$f":"IF(AND(LEN($D20)>0,SUMIF($F$13:$J$13,BL$13,$F20:$J20)>0,marzo!BJ21<>\"X\",marzo!BJ21<>\"L\",marzo!BJ21<>\"J\",marzo!BJ21<>\"F\"),SUMIF($F$13:$J$13,BL$13,$F20:$J20),\"\")","v":""},{"$f":"IF(AND(LEN($D20)>0,SUMIF($F$13:$J$13,BM$13,$F20:$J20)>0,marzo!BK21<>\"X\",marzo!BK21<>\"L\",marzo!BK21<>\"J\",marzo!BK21<>\"F\"),SUMIF($F$13:$J$13,BM$13,$F20:$J20),\"\")","v":""},{"$f":"IF(AND(LEN($D20)>0,SUMIF($F$13:$J$13,BN$13,$F20:$J20)>0,marzo!BL21<>\"X\",marzo!BL21<>\"L\",marzo!BL21<>\"J\",marzo!BL21<>\"F\"),SUMIF($F$13:$J$13,BN$13,$F20:$J20),\"\")","v":""},{"$f":"IF(AND(LEN($D20)>0,SUMIF($F$13:$J$13,BO$13,$F20:$J20)>0,marzo!BM21<>\"X\",marzo!BM21<>\"L\",marzo!BM21<>\"J\",marzo!BM21<>\"F\"),SUMIF($F$13:$J$13,BO$13,$F20:$J20),\"\")","v":""},{"$f":"IF(AND(LEN($D20)>0,SUMIF($F$13:$J$13,BP$13,$F20:$J20)>0,marzo!BN21<>\"X\",marzo!BN21<>\"L\",marzo!BN21<>\"J\",marzo!BN21<>\"F\"),SUMIF($F$13:$J$13,BP$13,$F20:$J20),\"\")","v":""},{"$f":"IF(AND(LEN($D20)>0,SUMIF($F$13:$J$13,BQ$13,$F20:$J20)>0,marzo!BO21<>\"X\",marzo!BO21<>\"L\",marzo!BO21<>\"J\",marzo!BO21<>\"F\"),SUMIF($F$13:$J$13,BQ$13,$F20:$J20),\"\")","v":""},{"$f":"IF(AND(LEN($D20)>0,SUMIF($F$13:$J$13,BR$13,$F20:$J20)>0,marzo!BP21<>\"X\",marzo!BP21<>\"L\",marzo!BP21<>\"J\",marzo!BP21<>\"F\"),SUMIF($F$13:$J$13,BR$13,$F20:$J20),\"\")","v":""},{"$f":"IF(AND(LEN($D20)>0,SUMIF($F$13:$J$13,BS$13,$F20:$J20)>0,marzo!BQ21<>\"X\",marzo!BQ21<>\"L\",marzo!BQ21<>\"J\",marzo!BQ21<>\"F\"),SUMIF($F$13:$J$13,BS$13,$F20:$J20),\"\")","v":""},{"$f":"IF(AND(LEN($D20)>0,SUMIF($F$13:$J$13,BT$13,$F20:$J20)>0,marzo!BR21<>\"X\",marzo!BR21<>\"L\",marzo!BR21<>\"J\",marzo!BR21<>\"F\"),SUMIF($F$13:$J$13,BT$13,$F20:$J20),\"\")","v":""},{"$f":"IF(AND(LEN($D20)>0,SUMIF($F$13:$J$13,BU$13,$F20:$J20)>0,marzo!BS21<>\"X\",marzo!BS21<>\"L\",marzo!BS21<>\"J\",marzo!BS21<>\"F\"),SUMIF($F$13:$J$13,BU$13,$F20:$J20),\"\")","v":""},{"$f":"IF(AND(LEN($D20)>0,SUMIF($F$13:$J$13,BV$13,$F20:$J20)>0,marzo!BT21<>\"X\",marzo!BT21<>\"L\",marzo!BT21<>\"J\",marzo!BT21<>\"F\"),SUMIF($F$13:$J$13,BV$13,$F20:$J20),\"\")","v":""},{"$f":"IF(AND(LEN($D20)>0,SUMIF($F$13:$J$13,BW$13,$F20:$J20)>0,marzo!BU21<>\"X\",marzo!BU21<>\"L\",marzo!BU21<>\"J\",marzo!BU21<>\"F\"),SUMIF($F$13:$J$13,BW$13,$F20:$J20),\"\")","v":""},{"$f":"IF(AND(LEN($D20)>0,SUMIF($F$13:$J$13,BX$13,$F20:$J20)>0,marzo!BV21<>\"X\",marzo!BV21<>\"L\",marzo!BV21<>\"J\",marzo!BV21<>\"F\"),SUMIF($F$13:$J$13,BX$13,$F20:$J20),\"\")","v":""},{"$f":"IF(AND(LEN($D20)>0,SUMIF($F$13:$J$13,BY$13,$F20:$J20)>0,marzo!BW21<>\"X\",marzo!BW21<>\"L\",marzo!BW21<>\"J\",marzo!BW21<>\"F\"),SUMIF($F$13:$J$13,BY$13,$F20:$J20),\"\")","v":""},{"$f":"IF(AND(LEN($D20)>0,SUMIF($F$13:$J$13,BZ$13,$F20:$J20)>0,marzo!BX21<>\"X\",marzo!BX21<>\"L\",marzo!BX21<>\"J\",marzo!BX21<>\"F\"),SUMIF($F$13:$J$13,BZ$13,$F20:$J20),\"\")","v":""},{"$f":"IF(AND(LEN($D20)>0,SUMIF($F$13:$J$13,CA$13,$F20:$J20)>0,marzo!BY21<>\"X\",marzo!BY21<>\"L\",marzo!BY21<>\"J\",marzo!BY21<>\"F\"),SUMIF($F$13:$J$13,CA$13,$F20:$J20),\"\")","v":""},{"$f":"IF(AND(LEN($D20)>0,SUMIF($F$13:$J$13,CB$13,$F20:$J20)>0,marzo!BZ21<>\"X\",marzo!BZ21<>\"L\",marzo!BZ21<>\"J\",marzo!BZ21<>\"F\"),SUMIF($F$13:$J$13,CB$13,$F20:$J20),\"\")","v":""},{"$error":"#REF!"}]
["",{"$f":"IF(LEN(C21)>0,VLOOKUP($O$4,DATA!$A$1:$S$1,2,FALSE),\"\")","v":""},"",{"$f":"IF(LEN(marzo!E22)>0,marzo!E22,\"\")","v":""},{"$f":"IF(LEN(D21)>0,marzo!F22,\"\")","v":""},null,null,null,null,null,"",null,null,{"$error":"#REF!"},{"$f":"IF(AND(LEN($D21)>0,SUMIF($F$13:$J$13,O$13,$F21:$J21)>0,marzo!I22<>\"X\",marzo!I22<>\"L\",marzo!I22<>\"J\",marzo!I22<>\"V\",marzo!I22<>\"F\",marzo!I22<>\"\"),SUMIF($F$13:$J$13,O$13,$F21:$J21),\"\")","v":""},{"$f":"IF(AND(LEN($D21)>0,SUMIF($F$13:$J$13,P$13,$F21:$J21)>0,marzo!J22<>\"X\",marzo!J22<>\"L\",marzo!J22<>\"J\",marzo!J22<>\"V\",marzo!J22<>\"F\",marzo!J22<>\"\"),SUMIF($F$13:$J$13,P$13,$F21:$J21),\"\")","v":""},{"$f":"IF(AND(LEN($D21)>0,SUMIF($F$13:$J$13,Q$13,$F21:$J21)>0,marzo!K22<>\"X\",marzo!K22<>\"L\",marzo!K22<>\"J\",marzo!K22<>\"V\",marzo!K22<>\"F\",marzo!K22<>\"\"),SUMIF($F$13:$J$13,Q$13,$F21:$J21),\"\")","v":""},{"$f":"IF(AND(LEN($D21)>0,SUMIF($F$13:$J$13,R$13,$F21:$J21)>0,marzo!L22<>\"X\",marzo!L22<>\"L\",marzo!L22<>\"J\",marzo!L22<>\"V\",marzo!L22<>\"F\",marzo!L22<>\"\"),SUMIF($F$13:$J$13,R$13,$F21:$J21),\"\")","v":""},{"$f":"IF(AND(LEN($D21)>0,SUMIF($F$13:$J$13,S$13,$F21:$J21)>0,marzo!M22<>\"X\",marzo!M22<>\"L\",marzo!M22<>\"J\",marzo!M22<>\"V\",marzo!M22<>\"F\",marzo!M22<>\"\"),SUMIF($F$13:$J$13,S$13,$F21:$J21),\"\")","v":""},{"$f":"IF(AND(LEN($D21)>0,SUMIF($F$13:$J$13,T$13,$F21:$J21)>0,marzo!N22<>\"X\",marzo!N22<>\"L\",marzo!N22<>\"J\",marzo!N22<>\"V\",marzo!N22<>\"F\",marzo!N22<>\"\"),SUMIF($F$13:$J$13,T$13,$F21:$J21),\"\")","v":""},{"$f":"IF(AND(LEN($D21)>0,SUMIF($F$13:$J$13,U$13,$F21:$J21)>0,marzo!O22<>\"X\",marzo!O22<>\"L\",marzo!O22<>\"J\",marzo!O22<>\"V\",marzo!O22<>\"F\",marzo!O22<>\"\"),SUMIF($F$13:$J$13,U$13,$F21:$J21),\"\")","v":""},{"$f":"IF(AND(LEN($D21)>0,SUMIF($F$13:$J$13,V$13,$F21:$J21)>0,marzo!P22<>\"X\",marzo!P22<>\"L\",marzo!P22<>\"J\",marzo!P22<>\"V\",marzo!P22<>\"F\",marzo!P22<>\"\"),SUMIF($F$13:$J$13,V$13,$F21:$J21),\"\")","v":""},{"$f":"IF(AND(LEN($D21)>0,SUMIF($F$13:$J$13,W$13,$F21:$J21)>0,marzo!Q22<>\"X\",marzo!Q22<>\"L\",marzo!Q22<>\"J\",marzo!Q22<>\"V\",marzo!Q22<>\"F\",marzo!Q22<>\"\"),SUMIF($F$13:$J$13,W$13,$F21:$J21),\"\")","v":""},{"$f":"IF(AND(LEN($D21)>0,SUMIF($F$13:$J$13,X$13,$F21:$J21)>0,marzo!R22<>\"X\",marzo!R22<>\"L\",marzo!R22<>\"J\",marzo!R22<>\"V\",marzo!R22<>\"F\",marzo!R22<>\"\"),SUMIF($F$13:$J$13,X$13,$F21:$J21),\"\")","v":""},{"$f":"IF(AND(LEN($D21)>0,SUMIF($F$13:$J$13,Y$13,$F21:$J21)>0,marzo!S22<>\"X\",marzo!S22<>\"L\",marzo!S22<>\"J\",marzo!S22<>\"V\",marzo!S22<>\"F\",marzo!S22<>\"\"),SUMIF($F$13:$J$13,Y$13,$F21:$J21),\"\")","v":""},{"$f":"IF(AND(LEN($D21)>0,SUMIF($F$13:$J$13,Z$13,$F21:$J21)>0,marzo!T22<>\"X\",marzo!T22<>\"L\",marzo!T22<>\"J\",marzo!T22<>\"V\",marzo!T22<>\"F\",marzo!T22<>\"\"),SUMIF($F$13:$J$13,Z$13,$F21:$J21),\"\")","v":""},{"$f":"IF(AND(LEN($D21)>0,SUMIF($F$13:$J$13,AA$13,$F21:$J21)>0,marzo!U22<>\"X\",marzo!U22<>\"L\",marzo!U22<>\"J\",marzo!U22<>\"V\",marzo!U22<>\"F\",marzo!U22<>\"\"),SUMIF($F$13:$J$13,AA$13,$F21:$J21),\"\")","v":""},{"$f":"IF(AND(LEN($D21)>0,SUMIF($F$13:$J$13,AB$13,$F21:$J21)>0,marzo!V22<>\"X\",marzo!V22<>\"L\",marzo!V22<>\"J\",marzo!V22<>\"V\",marzo!V22<>\"F\",marzo!V22<>\"\"),SUMIF($F$13:$J$13,AB$13,$F21:$J21),\"\")","v":""},{"$f":"IF(AND(LEN($D21)>0,SUMIF($F$13:$J$13,AC$13,$F21:$J21)>0,marzo!W22<>\"X\",marzo!W22<>\"L\",marzo!W22<>\"J\",marzo!W22<>\"V\",marzo!W22<>\"F\",marzo!W22<>\"\"),SUMIF($F$13:$J$13,AC$13,$F21:$J21),\"\")","v":""},{"$f":"IF(AND(LEN($D21)>0,SUMIF($F$13:$J$13,AD$13,$F21:$J21)>0,marzo!X22<>\"X\",marzo!X22<>\"L\",marzo!X22<>\"J\",marzo!X22<>\"V\",marzo!X22<>\"F\",marzo!X22<>\"\"),SUMIF($F$13:$J$13,AD$13,$F21:$J21),\"\")","v":""},{"$f":"IF(AND(LEN($D21)>0,SUMIF($F$13:$J$13,AE$13,$F21:$J21)>0,marzo!Y22<>\"X\",marzo!Y22<>\"L\",marzo!Y22<>\"J\",marzo!Y22<>\"V\",marzo!Y22<>\"F\",marzo!Y22<>\"\"),SUMIF($F$13:$J$13,AE$13,$F21:$J21),\"\")","v":""},{"$f":"IF(AND(LEN($D21)>0,SUMIF($F$13:$J$13,AF$13,$F21:$J21)>0,marzo!Z22<>\"X\",marzo!Z22<>\"L\",marzo!Z22<>\"J\",marzo!Z22<>\"V\",marzo!Z22<>\"F\",marzo!Z22<>\"\"),SUMIF($F$13:$J$13,AF$13,$F21:$J21),\"\")","v":""},{"$f":"IF(AND(LEN($D21)>0,SUMIF($F$13:$J$13,AG$13,$F21:$J21)>0,marzo!AA22<>\"X\",marzo!AA22<>\"L\",marzo!AA22<>\"J\",marzo!AA22<>\"V\",marzo!AA22<>\"F\",marzo!AA22<>\"\"),SUMIF($F$13:$J$13,AG$13,$F21:$J21),\"\")","v":""},{"$f":"IF(AND(LEN($D21)>0,SUMIF($F$13:$J$13,AH$13,$F21:$J21)>0,marzo!AB22<>\"X\",marzo!AB22<>\"L\",marzo!AB22<>\"J\",marzo!AB22<>\"V\",marzo!AB22<>\"F\",marzo!AB22<>\"\"),SUMIF($F$13:$J$13,AH$13,$F21:$J21),\"\")","v":""},{"$f":"IF(AND(LEN($D21)>0,SUMIF($F$13:$J$13,AI$13,$F21:$J21)>0,marzo!AC22<>\"X\",marzo!AC22<>\"L\",marzo!AC22<>\"J\",marzo!AC22<>\"V\",marzo!AC22<>\"F\",marzo!AC22<>\"\"),SUMIF($F$13:$J$13,AI$13,$F21:$J21),\"\")","v":""},{"$f":"IF(AND(LEN($D21)>0,SUMIF($F$13:$J$13,AJ$13,$F21:$J21)>0,marzo!AD22<>\"X\",marzo!AD22<>\"L\",marzo!AD22<>\"J\",marzo!AD22<>\"V\",marzo!AD22<>\"F\",marzo!AD22<>\"\"),SUMIF($F$13:$J$13,AJ$13,$F21:$J21),\"\")","v":""},{"$f":"IF(AND(LEN($D21)>0,SUMIF($F$13:$J$13,AK$13,$F21:$J21)>0,marzo!AE22<>\"X\",marzo!AE22<>\"L\",marzo!AE22<>\"J\",marzo!AE22<>\"V\",marzo!AE22<>\"F\",marzo!AE22<>\"\"),SUMIF($F$13:$J$13,AK$13,$F21:$J21),\"\")","v":""},{"$f":"IF(AND(LEN($D21)>0,SUMIF($F$13:$J$13,AL$13,$F21:$J21)>0,marzo!AF22<>\"X\",marzo!AF22<>\"L\",marzo!AF22<>\"J\",marzo!AF22<>\"V\",marzo!AF22<>\"F\",marzo!AF22<>\"\"),SUMIF($F$13:$J$13,AL$13,$F21:$J21),\"\")","v":""},{"$f":"IF(AND(LEN($D21)>0,SUMIF($F$13:$J$13,AM$13,$F21:$J21)>0,marzo!AG22<>\"X\",marzo!AG22<>\"L\",marzo!AG22<>\"J\",marzo!AG22<>\"V\",marzo!AG22<>\"F\",marzo!AG22<>\"\"),SUMIF($F$13:$J$13,AM$13,$F21:$J21),\"\")","v":""},{"$f":"IF(AND(LEN($D21)>0,SUMIF($F$13:$J$13,AN$13,$F21:$J21)>0,marzo!AH22<>\"X\",marzo!AH22<>\"L\",marzo!AH22<>\"J\",marzo!AH22<>\"V\",marzo!AH22<>\"F\",marzo!AH22<>\"\"),SUMIF($F$13:$J$13,AN$13,$F21:$J21),\"\")","v":""},{"$f":"IF(AND(LEN($D21)>0,SUMIF($F$13:$J$13,AO$13,$F21:$J21)>0,marzo!AI22<>\"X\",marzo!AI22<>\"L\",marzo!AI22<>\"J\",marzo!AI22<>\"V\",marzo!AI22<>\"F\",marzo!AI22<>\"\"),SUMIF($F$13:$J$13,AO$13,$F21:$J21),\"\")","v":""},{"$f":"IF(AND(LEN($D21)>0,SUMIF($F$13:$J$13,AP$13,$F21:$J21)>0,marzo!AJ22<>\"X\",marzo!AJ22<>\"L\",marzo!AJ22<>\"J\",marzo!AJ22<>\"V\",marzo!AJ22<>\"F\",marzo!AJ22<>\"\"),SUMIF($F$13:$J$13,AP$13,$F21:$J21),\"\")","v":""},{"$f":"IF(AND(LEN($D21)>0,SUMIF($F$13:$J$13,AQ$13,$F21:$J21)>0,marzo!AK22<>\"X\",marzo!AK22<>\"L\",marzo!AK22<>\"J\",marzo!AK22<>\"V\",marzo!AK22<>\"F\",marzo!AK22<>\"\"),SUMIF($F$13:$J$13,AQ$13,$F21:$J21),\"\")","v":""},{"$f":"IF(AND(LEN($D21)>0,SUMIF($F$13:$J$13,AR$13,$F21:$J21)>0,marzo!AL22<>\"X\",marzo!AL22<>\"L\",marzo!AL22<>\"J\",marzo!AL22<>\"V\",marzo!AL22<>\"F\",marzo!AL22<>\"\"),SUMIF($F$13:$J$13,AR$13,$F21:$J21),\"\")","v":""},{"$f":"IF(AND(LEN($D21)>0,SUMIF($F$13:$J$13,AS$13,$F21:$J21)>0,marzo!AN22<>\"X\",marzo!AN22<>\"L\",marzo!AN22<>\"J\",marzo!AN22<>\"V\",marzo!AN22<>\"F\",marzo!AN22<>\"\"),SUMIF($F$13:$J$13,AS$13,$F21:$J21),\"\")","v":""},"",null,null,null,{"$f":"IF(AND(LEN($D21)>0,SUMIF($F$13:$J$13,AX$13,$F21:$J21)>0,marzo!AV22<>\"X\",marzo!AV22<>\"L\",marzo!AV22<>\"J\",marzo!AV22<>\"F\"),SUMIF($F$13:$J$13,AX$13,$F21:$J21),\"\")","v":""},{"$f":"IF(AND(LEN($D21)>0,SUMIF($F$13:$J$13,AY$13,$F21:$J21)>0,marzo!AW22<>\"X\",marzo!AW22<>\"L\",marzo!AW22<>\"J\",marzo!AW22<>\"F\"),SUMIF($F$13:$J$13,AY$13,$F21:$J21),\"\")","v":""},{"$f":"IF(AND(LEN($D21)>0,SUMIF($F$13:$J$13,AZ$13,$F21:$J21)>0,marzo!AX22<>\"X\",marzo!AX22<>\"L\",marzo!AX22<>\"J\",marzo!AX22<>\"F\"),SUMIF($F$13:$J$13,AZ$13,$F21:$J21),\"\")","v":""},{"$f":"IF(AND(LEN($D21)>0,SUMIF($F$13:$J$13,BA$13,$F21:$J21)>0,marzo!AY22<>\"X\",marzo!AY22<>\"L\",marzo!AY22<>\"J\",marzo!AY22<>\"F\"),SUMIF($F$13:$J$13,BA$13,$F21:$J21),\"\")","v":""},{"$f":"IF(AND(LEN($D21)>0,SUMIF($F$13:$J$13,BB$13,$F21:$J21)>0,marzo!AZ22<>\"X\",marzo!AZ22<>\"L\",marzo!AZ22<>\"J\",marzo!AZ22<>\"F\"),SUMIF($F$13:$J$13,BB$13,$F21:$J21),\"\")","v":""},{"$f":"IF(AND(LEN($D21)>0,SUMIF($F$13:$J$13,BC$13,$F21:$J21)>0,marzo!BA22<>\"X\",marzo!BA22<>\"L\",marzo!BA22<>\"J\",marzo!BA22<>\"F\"),SUMIF($F$13:$J$13,BC$13,$F21:$J21),\"\")","v":""},{"$f":"IF(AND(LEN($D21)>0,SUMIF($F$13:$J$13,BD$13,$F21:$J21)>0,marzo!BB22<>\"X\",marzo!BB22<>\"L\",marzo!BB22<>\"J\",marzo!BB22<>\"F\"),SUMIF($F$13:$J$13,BD$13,$F21:$J21),\"\")","v":""},{"$f":"IF(AND(LEN($D21)>0,SUMIF($F$13:$J$13,BE$13,$F21:$J21)>0,marzo!BC22<>\"X\",marzo!BC22<>\"L\",marzo!BC22<>\"J\",marzo!BC22<>\"F\"),SUMIF($F$13:$J$13,BE$13,$F21:$J21),\"\")","v":""},{"$f":"IF(AND(LEN($D21)>0,SUMIF($F$13:$J$13,BF$13,$F21:$J21)>0,marzo!#REF!<>\"X\",marzo!#REF!<>\"L\",marzo!#REF!<>\"J\",marzo!#REF!<>\"F\"),SUMIF($F$13:$J$13,BF$13,$F21:$J21),\"\")","v":{"$error":"#REF!"}},{"$f":"IF(AND(LEN($D21)>0,SUMIF($F$13:$J$13,BG$13,$F21:$J21)>0,marzo!#REF!<>\"X\",marzo!#REF!<>\"L\",marzo!#REF!<>\"J\",marzo!#REF!<>\"F\"),SUMIF($F$13:$J$13,BG$13,$F21:$J21),\"\")","v":{"$error":"#REF!"}},{"$f":"IF(AND(LEN($D21)>0,SUMIF($F$13:$J$13,BH$13,$F21:$J21)>0,marzo!BF22<>\"X\",marzo!BF22<>\"L\",marzo!BF22<>\"J\",marzo!BF22<>\"F\"),SUMIF($F$13:$J$13,BH$13,$F21:$J21),\"\")","v":""},{"$f":"IF(AND(LEN($D21)>0,SUMIF($F$13:$J$13,BI$13,$F21:$J21)>0,marzo!BG22<>\"X\",marzo!BG22<>\"L\",marzo!BG22<>\"J\",marzo!BG22<>\"F\"),SUMIF($F$13:$J$13,BI$13,$F21:$J21),\"\")","v":""},{"$f":"IF(AND(LEN($D21)>0,SUMIF($F$13:$J$13,BJ$13,$F21:$J21)>0,marzo!BH22<>\"X\",marzo!BH22<>\"L\",marzo!BH22<>\"J\",marzo!BH22<>\"F\"),SUMIF($F$13:$J$13,BJ$13,$F21:$J21),\"\")","v":""},{"$f":"IF(AND(LEN($D21)>0,SUMIF($F$13:$J$13,BK$13,$F21:$J21)>0,marzo!BI22<>\"X\",marzo!BI22<>\"L\",marzo!BI22<>\"J\",marzo!BI22<>\"F\"),SUMIF($F$13:$J$13,BK$13,$F21:$J21),\"\")","v":""},{"$f":"IF(AND(LEN($D21)>0,SUMIF($F$13:$J$13,BL$13,$F21:$J21)>0,marzo!BJ22<>\"X\",marzo!BJ22<>\"L\",marzo!BJ22<>\"J\",marzo!BJ22<>\"F\"),SUMIF($F$13:$J$13,BL$13,$F21:$J21),\"\")","v":""},{"$f":"IF(AND(LEN($D21)>0,SUMIF($F$13:$J$13,BM$13,$F21:$J21)>0,marzo!BK22<>\"X\",marzo!BK22<>\"L\",marzo!BK22<>\"J\",marzo!BK22<>\"F\"),SUMIF($F$13:$J$13,BM$13,$F21:$J21),\"\")","v":""},{"$f":"IF(AND(LEN($D21)>0,SUMIF($F$13:$J$13,BN$13,$F21:$J21)>0,marzo!BL22<>\"X\",marzo!BL22<>\"L\",marzo!BL22<>\"J\",marzo!BL22<>\"F\"),SUMIF($F$13:$J$13,BN$13,$F21:$J21),\"\")","v":""},{"$f":"IF(AND(LEN($D21)>0,SUMIF($F$13:$J$13,BO$13,$F21:$J21)>0,marzo!BM22<>\"X\",marzo!BM22<>\"L\",marzo!BM22<>\"J\",marzo!BM22<>\"F\"),SUMIF($F$13:$J$13,BO$13,$F21:$J21),\"\")","v":""},{"$f":"IF(AND(LEN($D21)>0,SUMIF($F$13:$J$13,BP$13,$F21:$J21)>0,marzo!BN22<>\"X\",marzo!BN22<>\"L\",marzo!BN22<>\"J\",marzo!BN22<>\"F\"),SUMIF($F$13:$J$13,BP$13,$F21:$J21),\"\")","v":""},{"$f":"IF(AND(LEN($D21)>0,SUMIF($F$13:$J$13,BQ$13,$F21:$J21)>0,marzo!BO22<>\"X\",marzo!BO22<>\"L\",marzo!BO22<>\"J\",marzo!BO22<>\"F\"),SUMIF($F$13:$J$13,BQ$13,$F21:$J21),\"\")","v":""},{"$f":"IF(AND(LEN($D21)>0,SUMIF($F$13:$J$13,BR$13,$F21:$J21)>0,marzo!BP22<>\"X\",marzo!BP22<>\"L\",marzo!BP22<>\"J\",marzo!BP22<>\"F\"),SUMIF($F$13:$J$13,BR$13,$F21:$J21),\"\")","v":""},{"$f":"IF(AND(LEN($D21)>0,SUMIF($F$13:$J$13,BS$13,$F21:$J21)>0,marzo!BQ22<>\"X\",marzo!BQ22<>\"L\",marzo!BQ22<>\"J\",marzo!BQ22<>\"F\"),SUMIF($F$13:$J$13,BS$13,$F21:$J21),\"\")","v":""},{"$f":"IF(AND(LEN($D21)>0,SUMIF($F$13:$J$13,BT$13,$F21:$J21)>0,marzo!BR22<>\"X\",marzo!BR22<>\"L\",marzo!BR22<>\"J\",marzo!BR22<>\"F\"),SUMIF($F$13:$J$13,BT$13,$F21:$J21),\"\")","v":""},{"$f":"IF(AND(LEN($D21)>0,SUMIF($F$13:$J$13,BU$13,$F21:$J21)>0,marzo!BS22<>\"X\",marzo!BS22<>\"L\",marzo!BS22<>\"J\",marzo!BS22<>\"F\"),SUMIF($F$13:$J$13,BU$13,$F21:$J21),\"\")","v":""},{"$f":"IF(AND(LEN($D21)>0,SUMIF($F$13:$J$13,BV$13,$F21:$J21)>0,marzo!BT22<>\"X\",marzo!BT22<>\"L\",marzo!BT22<>\"J\",marzo!BT22<>\"F\"),SUMIF($F$13:$J$13,BV$13,$F21:$J21),\"\")","v":""},{"$f":"IF(AND(LEN($D21)>0,SUMIF($F$13:$J$13,BW$13,$F21:$J21)>0,marzo!BU22<>\"X\",marzo!BU22<>\"L\",marzo!BU22<>\"J\",marzo!BU22<>\"F\"),SUMIF($F$13:$J$13,BW$13,$F21:$J21),\"\")","v":""},{"$f":"IF(AND(LEN($D21)>0,SUMIF($F$13:$J$13,BX$13,$F21:$J21)>0,marzo!BV22<>\"X\",marzo!BV22<>\"L\",marzo!BV22<>\"J\",marzo!BV22<>\"F\"),SUMIF($F$13:$J$13,BX$13,$F21:$J21),\"\")","v":""},{"$f":"IF(AND(LEN($D21)>0,SUMIF($F$13:$J$13,BY$13,$F21:$J21)>0,marzo!BW22<>\"X\",marzo!BW22<>\"L\",marzo!BW22<>\"J\",marzo!BW22<>\"F\"),SUMIF($F$13:$J$13,BY$13,$F21:$J21),\"\")","v":""},{"$f":"IF(AND(LEN($D21)>0,SUMIF($F$13:$J$13,BZ$13,$F21:$J21)>0,marzo!BX22<>\"X\",marzo!BX22<>\"L\",marzo!BX22<>\"J\",marzo!BX22<>\"F\"),SUMIF($F$13:$J$13,BZ$13,$F21:$J21),\"\")","v":""},{"$f":"IF(AND(LEN($D21)>0,SUMIF($F$13:$J$13,CA$13,$F21:$J21)>0,marzo!BY22<>\"X\",marzo!BY22<>\"L\",marzo!BY22<>\"J\",marzo!BY22<>\"F\"),SUMIF($F$13:$J$13,CA$13,$F21:$J21),\"\")","v":""},{"$f":"IF(AND(LEN($D21)>0,SUMIF($F$13:$J$13,CB$13,$F21:$J21)>0,marzo!BZ22<>\"X\",marzo!BZ22<>\"L\",marzo!BZ22<>\"J\",marzo!BZ22<>\"F\"),SUMIF($F$13:$J$13,CB$13,$F21:$J21),\"\")","v":""},{"$error":"#REF!"}]
["",{"$f":"IF(LEN(C22)>0,VLOOKUP($O$4,DATA!$A$1:$S$1,2,FALSE),\"\")","v":""},"",{"$f":"IF(LEN(marzo!E23)>0,marzo!E23,\"\")","v":""},{"$f":"IF(LEN(D22)>0,marzo!F23,\"\")","v":""},null,null,null,null,null,"",null,null,{"$error":"#REF!"},{"$f":"IF(AND(LEN($D22)>0,SUMIF($F$13:$J$13,O$13,$F22:$J22)>0,marzo!I23<>\"X\",marzo!I23<>\"L\",marzo!I23<>\"J\",marzo!I23<>\"V\",marzo!I23<>\"F\",marzo!I23<>\"\"),SUMIF($F$13:$J$13,O$13,$F22:$J22),\"\")","v":""},{"$f":"IF(AND(LEN($D22)>0,SUMIF($F$13:$J$13,P$13,$F22:$J22)>0,marzo!J23<>\"X\",marzo!J23<>\"L\",marzo!J23<>\"J\",marzo!J23<>\"V\",marzo!J23<>\"F\",marzo!J23<>\"\"),SUMIF($F$13:$J$13,P$13,$F22:$J22),\"\")","v":""},{"$f":"IF(AND(LEN($D22)>0,SUMIF($F$13:$J$13,Q$13,$F22:$J22)>0,marzo!K23<>\"X\",marzo!K23<>\"L\",marzo!K23<>\"J\",marzo!K23<>\"V\",marzo!K23<>\"F\",marzo!K23<>\"\"),SUMIF($F$13:$J$13,Q$13,$F22:$J22),\"\")","v":""},{"$f":"IF(AND(LEN($D22)>0,SUMIF($F$13:$J$13,R$13,$F22:$J22)>0,marzo!L23<>\"X\",marzo!L23<>\"L\",marzo!L23<>\"J\",marzo!L23<>\"V\",marzo!L23<>\"F\",marzo!L23<>\"\"),SUMIF($F$13:$J$13,R$13,$F22:$J22),\"\")","v":""},{"$f":"IF(AND(LEN($D22)>0,SUMIF($F$13:$J$13,S$13,$F22:$J22)>0,marzo!M23<>\"X\",marzo!M23<>\"L\",marzo!M23<>\"J\",marzo!M23<>\"V\",marzo!M23<>\"F\",marzo!M23<>\"\"),SUMIF($F$13:$J$13,S$13,$F22:$J22),\"\")","v":""},{"$f":"IF(AND(LEN($D22)>0,SUMIF($F$13:$J$13,T$13,$F22:$J22)>0,marzo!N23<>\"X\",marzo!N23<>\"L\",marzo!N23<>\"J\",marzo!N23<>\"V\",marzo!N23<>\"F\",marzo!N23<>\"\"),SUMIF($F$13:$J$13,T$13,$F22:$J22),\"\")","v":""},{"$f":"IF(AND(LEN($D22)>0,SUMIF($F$13:$J$13,U$13,$F22:$J22)>0,marzo!O23<>\"X\",marzo!O23<>\"L\",marzo!O23<>\"J\",marzo!O23<>\"V\",marzo!O23<>\"F\",marzo!O23<>\"\"),SUMIF($F$13:$J$13,U$13,$F22:$J22),\"\")","v":""},{"$f":"IF(AND(LEN($D22)>0,SUMIF($F$13:$J$13,V$13,$F22:$J22)>0,marzo!P23<>\"X\",marzo!P23<>\"L\",marzo!P23<>\"J\",marzo!P23<>\"V\",marzo!P23<>\"F\",marzo!P23<>\"\"),SUMIF($F$13:$J$13,V$13,$F22:$J22),\"\")","v":""},{"$f":"IF(AND(LEN($D22)>0,SUMIF($F$13:$J$13,W$13,$F22:$J22)>0,marzo!Q23<>\"X\",marzo!Q23<>\"L\",marzo!Q23<>\"J\",marzo!Q23<>\"V\",marzo!Q23<>\"F\",marzo!Q23<>\"\"),SUMIF($F$13:$J$13,W$13,$F22:$J22),\"\")","v":""},{"$f":"IF(AND(LEN($D22)>0,SUMIF($F$13:$J$13,X$13,$F22:$J22)>0,marzo!R23<>\"X\",marzo!R23<>\"L\",marzo!R23<>\"J\",marzo!R23<>\"V\",marzo!R23<>\"F\",marzo!R23<>\"\"),SUMIF($F$13:$J$13,X$13,$F22:$J22),\"\")","v":""},{"$f":"IF(AND(LEN($D22)>0,SUMIF($F$13:$J$13,Y$13,$F22:$J22)>0,marzo!S23<>\"X\",marzo!S23<>\"L\",marzo!S23<>\"J\",marzo!S23<>\"V\",marzo!S23<>\"F\",marzo!S23<>\"\"),SUMIF($F$13:$J$13,Y$13,$F22:$J22),\"\")","v":""},{"$f":"IF(AND(LEN($D22)>0,SUMIF($F$13:$J$13,Z$13,$F22:$J22)>0,marzo!T23<>\"X\",marzo!T23<>\"L\",marzo!T23<>\"J\",marzo!T23<>\"V\",marzo!T23<>\"F\",marzo!T23<>\"\"),SUMIF($F$13:$J$13,Z$13,$F22:$J22),\"\")","v":""},{"$f":"IF(AND(LEN($D22)>0,SUMIF($F$13:$J$13,AA$13,$F22:$J22)>0,marzo!U23<>\"X\",marzo!U23<>\"L\",marzo!U23<>\"J\",marzo!U23<>\"V\",marzo!U23<>\"F\",marzo!U23<>\"\"),SUMIF($F$13:$J$13,AA$13,$F22:$J22),\"\")","v":""},{"$f":"IF(AND(LEN($D22)>0,SUMIF($F$13:$J$13,AB$13,$F22:$J22)>0,marzo!V23<>\"X\",marzo!V23<>\"L\",marzo!V23<>\"J\",marzo!V23<>\"V\",marzo!V23<>\"F\",marzo!V23<>\"\"),SUMIF($F$13:$J$13,AB$13,$F22:$J22),\"\")","v":""},{"$f":"IF(AND(LEN($D22)>0,SUMIF($F$13:$J$13,AC$13,$F22:$J22)>0,marzo!W23<>\"X\",marzo!W23<>\"L\",marzo!W23<>\"J\",marzo!W23<>\"V\",marzo!W23<>\"F\",marzo!W23<>\"\"),SUMIF($F$13:$J$13,AC$13,$F22:$J22),\"\")","v":""},{"$f":"IF(AND(LEN($D22)>0,SUMIF($F$13:$J$13,AD$13,$F22:$J22)>0,marzo!X23<>\"X\",marzo!X23<>\"L\",marzo!X23<>\"J\",marzo!X23<>\"V\",marzo!X23<>\"F\",marzo!X23<>\"\"),SUMIF($F$13:$J$13,AD$13,$F22:$J22),\"\")","v":""},{"$f":"IF(AND(LEN($D22)>0,SUMIF($F$13:$J$13,AE$13,$F22:$J22)>0,marzo!Y23<>\"X\",marzo!Y23<>\"L\",marzo!Y23<>\"J\",marzo!Y23<>\"V\",marzo!Y23<>\"F\",marzo!Y23<>\"\"),SUMIF($F$13:$J$13,AE$13,$F22:$J22),\"\")","v":""},{"$f":"IF(AND(LEN($D22)>0,SUMIF($F$13:$J$13,AF$13,$F22:$J22)>0,marzo!Z23<>\"X\",marzo!Z23<>\"L\",marzo!Z23<>\"J\",marzo!Z23<>\"V\",marzo!Z23<>\"F\",marzo!Z23<>\"\"),SUMIF($F$13:$J$13,AF$13,$F22:$J22),\"\")","v":""},{"$f":"IF(AND(LEN($D22)>0,SUMIF($F$13:$J$13,AG$13,$F22:$J22)>0,marzo!AA23<>\"X\",marzo!AA23<>\"L\",marzo!AA23<>\"J\",marzo!AA23<>\"V\",marzo!AA23<>\"F\",marzo!AA23<>\"\"),SUMIF($F$13:$J$13,AG$13,$F22:$J22),\"\")","v":""},{"$f":"IF(AND(LEN($D22)>0,SUMIF($F$13:$J$13,AH$13,$F22:$J22)>0,marzo!AB23<>\"X\",marzo!AB23<>\"L\",marzo!AB23<>\"J\",marzo!AB23<>\"V\",marzo!AB23<>\"F\",marzo!AB23<>\"\"),SUMIF($F$13:$J$13,AH$13,$F22:$J22),\"\")","v":""},{"$f":"IF(AND(LEN($D22)>0,SUMIF($F$13:$J$13,AI$13,$F22:$J22)>0,marzo!AC23<>\"X\",marzo!AC23<>\"L\",marzo!AC23<>\"J\",marzo!AC23<>\"V\",marzo!AC23<>\"F\",marzo!AC23<>\"\"),SUMIF($F$13:$J$13,AI$13,$F22:$J22),\"\")","v":""},{"$f":"IF(AND(LEN($D22)>0,SUMIF($F$13:$J$13,AJ$13,$F22:$J22)>0,marzo!AD23<>\"X\",marzo!AD23<>\"L\",marzo!AD23<>\"J\",marzo!AD23<>\"V\",marzo!AD23<>\"F\",marzo!AD23<>\"\"),SUMIF($F$13:$J$13,AJ$13,$F22:$J22),\"\")","v":""},{"$f":"IF(AND(LEN($D22)>0,SUMIF($F$13:$J$13,AK$13,$F22:$J22)>0,marzo!AE23<>\"X\",marzo!AE23<>\"L\",marzo!AE23<>\"J\",marzo!AE23<>\"V\",marzo!AE23<>\"F\",marzo!AE23<>\"\"),SUMIF($F$13:$J$13,AK$13,$F22:$J22),\"\")","v":""},{"$f":"IF(AND(LEN($D22)>0,SUMIF($F$13:$J$13,AL$13,$F22:$J22)>0,marzo!AF23<>\"X\",marzo!AF23<>\"L\",marzo!AF23<>\"J\",marzo!AF23<>\"V\",marzo!AF23<>\"F\",marzo!AF23<>\"\"),SUMIF($F$13:$J$13,AL$13,$F22:$J22),\"\")","v":""},{"$f":"IF(AND(LEN($D22)>0,SUMIF($F$13:$J$13,AM$13,$F22:$J22)>0,marzo!AG23<>\"X\",marzo!AG23<>\"L\",marzo!AG23<>\"J\",marzo!AG23<>\"V\",marzo!AG23<>\"F\",marzo!AG23<>\"\"),SUMIF($F$13:$J$13,AM$13,$F22:$J22),\"\")","v":""},{"$f":"IF(AND(LEN($D22)>0,SUMIF($F$13:$J$13,AN$13,$F22:$J22)>0,marzo!AH23<>\"X\",marzo!AH23<>\"L\",marzo!AH23<>\"J\",marzo!AH23<>\"V\",marzo!AH23<>\"F\",marzo!AH23<>\"\"),SUMIF($F$13:$J$13,AN$13,$F22:$J22),\"\")","v":""},{"$f":"IF(AND(LEN($D22)>0,SUMIF($F$13:$J$13,AO$13,$F22:$J22)>0,marzo!AI23<>\"X\",marzo!AI23<>\"L\",marzo!AI23<>\"J\",marzo!AI23<>\"V\",marzo!AI23<>\"F\",marzo!AI23<>\"\"),SUMIF($F$13:$J$13,AO$13,$F22:$J22),\"\")","v":""},{"$f":"IF(AND(LEN($D22)>0,SUMIF($F$13:$J$13,AP$13,$F22:$J22)>0,marzo!AJ23<>\"X\",marzo!AJ23<>\"L\",marzo!AJ23<>\"J\",marzo!AJ23<>\"V\",marzo!AJ23<>\"F\",marzo!AJ23<>\"\"),SUMIF($F$13:$J$13,AP$13,$F22:$J22),\"\")","v":""},{"$f":"IF(AND(LEN($D22)>0,SUMIF($F$13:$J$13,AQ$13,$F22:$J22)>0,marzo!AK23<>\"X\",marzo!AK23<>\"L\",marzo!AK23<>\"J\",marzo!AK23<>\"V\",marzo!AK23<>\"F\",marzo!AK23<>\"\"),SUMIF($F$13:$J$13,AQ$13,$F22:$J22),\"\")","v":""},{"$f":"IF(AND(LEN($D22)>0,SUMIF($F$13:$J$13,AR$13,$F22:$J22)>0,marzo!AL23<>\"X\",marzo!AL23<>\"L\",marzo!AL23<>\"J\",marzo!AL23<>\"V\",marzo!AL23<>\"F\",marzo!AL23<>\"\"),SUMIF($F$13:$J$13,AR$13,$F22:$J22),\"\")","v":""},{"$f":"IF(AND(LEN($D22)>0,SUMIF($F$13:$J$13,AS$13,$F22:$J22)>0,marzo!AN23<>\"X\",marzo!AN23<>\"L\",marzo!AN23<>\"J\",marzo!AN23<>\"V\",marzo!AN23<>\"F\",marzo!AN23<>\"\"),SUMIF($F$13:$J$13,AS$13,$F22:$J22),\"\")","v":""},"",null,null,null,{"$f":"IF(AND(LEN($D22)>0,SUMIF($F$13:$J$13,AX$13,$F22:$J22)>0,marzo!AV23<>\"X\",marzo!AV23<>\"L\",marzo!AV23<>\"J\",marzo!AV23<>\"F\"),SUMIF($F$13:$J$13,AX$13,$F22:$J22),\"\")","v":""},{"$f":"IF(AND(LEN($D22)>0,SUMIF($F$13:$J$13,AY$13,$F22:$J22)>0,marzo!AW23<>\"X\",marzo!AW23<>\"L\",marzo!AW23<>\"J\",marzo!AW23<>\"F\"),SUMIF($F$13:$J$13,AY$13,$F22:$J22),\"\")","v":""},{"$f":"IF(AND(LEN($D22)>0,SUMIF($F$13:$J$13,AZ$13,$F22:$J22)>0,marzo!AX23<>\"X\",marzo!AX23<>\"L\",marzo!AX23<>\"J\",marzo!AX23<>\"F\"),SUMIF($F$13:$J$13,AZ$13,$F22:$J22),\"\")","v":""},{"$f":"IF(AND(LEN($D22)>0,SUMIF($F$13:$J$13,BA$13,$F22:$J22)>0,marzo!AY23<>\"X\",marzo!AY23<>\"L\",marzo!AY23<>\"J\",marzo!AY23<>\"F\"),SUMIF($F$13:$J$13,BA$13,$F22:$J22),\"\")","v":""},{"$f":"IF(AND(LEN($D22)>0,SUMIF($F$13:$J$13,BB$13,$F22:$J22)>0,marzo!AZ23<>\"X\",marzo!AZ23<>\"L\",marzo!AZ23<>\"J\",marzo!AZ23<>\"F\"),SUMIF($F$13:$J$13,BB$13,$F22:$J22),\"\")","v":""},{"$f":"IF(AND(LEN($D22)>0,SUMIF($F$13:$J$13,BC$13,$F22:$J22)>0,marzo!BA23<>\"X\",marzo!BA23<>\"L\",marzo!BA23<>\"J\",marzo!BA23<>\"F\"),SUMIF($F$13:$J$13,BC$13,$F22:$J22),\"\")","v":""},{"$f":"IF(AND(LEN($D22)>0,SUMIF($F$13:$J$13,BD$13,$F22:$J22)>0,marzo!BB23<>\"X\",marzo!BB23<>\"L\",marzo!BB23<>\"J\",marzo!BB23<>\"F\"),SUMIF($F$13:$J$13,BD$13,$F22:$J22),\"\")","v":""},{"$f":"IF(AND(LEN($D22)>0,SUMIF($F$13:$J$13,BE$13,$F22:$J22)>0,marzo!BC23<>\"X\",marzo!BC23<>\"L\",marzo!BC23<>\"J\",marzo!BC23<>\"F\"),SUMIF($F$13:$J$13,BE$13,$F22:$J22),\"\")","v":""},{"$f":"IF(AND(LEN($D22)>0,SUMIF($F$13:$J$13,BF$13,$F22:$J22)>0,marzo!#REF!<>\"X\",marzo!#REF!<>\"L\",marzo!#REF!<>\"J\",marzo!#REF!<>\"F\"),SUMIF($F$13:$J$13,BF$13,$F22:$J22),\"\")","v":{"$error":"#REF!"}},{"$f":"IF(AND(LEN($D22)>0,SUMIF($F$13:$J$13,BG$13,$F22:$J22)>0,marzo!#REF!<>\"X\",marzo!#REF!<>\"L\",marzo!#REF!<>\"J\",marzo!#REF!<>\"F\"),SUMIF($F$13:$J$13,BG$13,$F22:$J22),\"\")","v":{"$error":"#REF!"}},{"$f":"IF(AND(LEN($D22)>0,SUMIF($F$13:$J$13,BH$13,$F22:$J22)>0,marzo!BF23<>\"X\",marzo!BF23<>\"L\",marzo!BF23<>\"J\",marzo!BF23<>\"F\"),SUMIF($F$13:$J$13,BH$13,$F22:$J22),\"\")","v":""},{"$f":"IF(AND(LEN($D22)>0,SUMIF($F$13:$J$13,BI$13,$F22:$J22)>0,marzo!BG23<>\"X\",marzo!BG23<>\"L\",marzo!BG23<>\"J\",marzo!BG23<>\"F\"),SUMIF($F$13:$J$13,BI$13,$F22:$J22),\"\")","v":""},{"$f":"IF(AND(LEN($D22)>0,SUMIF($F$13:$J$13,BJ$13,$F22:$J22)>0,marzo!BH23<>\"X\",marzo!BH23<>\"L\",marzo!BH23<>\"J\",marzo!BH23<>\"F\"),SUMIF($F$13:$J$13,BJ$13,$F22:$J22),\"\")","v":""},{"$f":"IF(AND(LEN($D22)>0,SUMIF($F$13:$J$13,BK$13,$F22:$J22)>0,marzo!BI23<>\"X\",marzo!BI23<>\"L\",marzo!BI23<>\"J\",marzo!BI23<>\"F\"),SUMIF($F$13:$J$13,BK$13,$F22:$J22),\"\")","v":""},{"$f":"IF(AND(LEN($D22)>0,SUMIF($F$13:$J$13,BL$13,$F22:$J22)>0,marzo!BJ23<>\"X\",marzo!BJ23<>\"L\",marzo!BJ23<>\"J\",marzo!BJ23<>\"F\"),SUMIF($F$13:$J$13,BL$13,$F22:$J22),\"\")","v":""},{"$f":"IF(AND(LEN($D22)>0,SUMIF($F$13:$J$13,BM$13,$F22:$J22)>0,marzo!BK23<>\"X\",marzo!BK23<>\"L\",marzo!BK23<>\"J\",marzo!BK23<>\"F\"),SUMIF($F$13:$J$13,BM$13,$F22:$J22),\"\")","v":""},{"$f":"IF(AND(LEN($D22)>0,SUMIF($F$13:$J$13,BN$13,$F22:$J22)>0,marzo!BL23<>\"X\",marzo!BL23<>\"L\",marzo!BL23<>\"J\",marzo!BL23<>\"F\"),SUMIF($F$13:$J$13,BN$13,$F22:$J22),\"\")","v":""},{"$f":"IF(AND(LEN($D22)>0,SUMIF($F$13:$J$13,BO$13,$F22:$J22)>0,marzo!BM23<>\"X\",marzo!BM23<>\"L\",marzo!BM23<>\"J\",marzo!BM23<>\"F\"),SUMIF($F$13:$J$13,BO$13,$F22:$J22),\"\")","v":""},{"$f":"IF(AND(LEN($D22)>0,SUMIF($F$13:$J$13,BP$13,$F22:$J22)>0,marzo!BN23<>\"X\",marzo!BN23<>\"L\",marzo!BN23<>\"J\",marzo!BN23<>\"F\"),SUMIF($F$13:$J$13,BP$13,$F22:$J22),\"\")","v":""},{"$f":"IF(AND(LEN($D22)>0,SUMIF($F$13:$J$13,BQ$13,$F22:$J22)>0,marzo!BO23<>\"X\",marzo!BO23<>\"L\",marzo!BO23<>\"J\",marzo!BO23<>\"F\"),SUMIF($F$13:$J$13,BQ$13,$F22:$J22),\"\")","v":""},{"$f":"IF(AND(LEN($D22)>0,SUMIF($F$13:$J$13,BR$13,$F22:$J22)>0,marzo!BP23<>\"X\",marzo!BP23<>\"L\",marzo!BP23<>\"J\",marzo!BP23<>\"F\"),SUMIF($F$13:$J$13,BR$13,$F22:$J22),\"\")","v":""},{"$f":"IF(AND(LEN($D22)>0,SUMIF($F$13:$J$13,BS$13,$F22:$J22)>0,marzo!BQ23<>\"X\",marzo!BQ23<>\"L\",marzo!BQ23<>\"J\",marzo!BQ23<>\"F\"),SUMIF($F$13:$J$13,BS$13,$F22:$J22),\"\")","v":""},{"$f":"IF(AND(LEN($D22)>0,SUMIF($F$13:$J$13,BT$13,$F22:$J22)>0,marzo!BR23<>\"X\",marzo!BR23<>\"L\",marzo!BR23<>\"J\",marzo!BR23<>\"F\"),SUMIF($F$13:$J$13,BT$13,$F22:$J22),\"\")","v":""},{"$f":"IF(AND(LEN($D22)>0,SUMIF($F$13:$J$13,BU$13,$F22:$J22)>0,marzo!BS23<>\"X\",marzo!BS23<>\"L\",marzo!BS23<>\"J\",marzo!BS23<>\"F\"),SUMIF($F$13:$J$13,BU$13,$F22:$J22),\"\")","v":""},{"$f":"IF(AND(LEN($D22)>0,SUMIF($F$13:$J$13,BV$13,$F22:$J22)>0,marzo!BT23<>\"X\",marzo!BT23<>\"L\",marzo!BT23<>\"J\",marzo!BT23<>\"F\"),SUMIF($F$13:$J$13,BV$13,$F22:$J22),\"\")","v":""},{"$f":"IF(AND(LEN($D22)>0,SUMIF($F$13:$J$13,BW$13,$F22:$J22)>0,marzo!BU23<>\"X\",marzo!BU23<>\"L\",marzo!BU23<>\"J\",marzo!BU23<>\"F\"),SUMIF($F$13:$J$13,BW$13,$F22:$J22),\"\")","v":""},{"$f":"IF(AND(LEN($D22)>0,SUMIF($F$13:$J$13,BX$13,$F22:$J22)>0,marzo!BV23<>\"X\",marzo!BV23<>\"L\",marzo!BV23<>\"J\",marzo!BV23<>\"F\"),SUMIF($F$13:$J$13,BX$13,$F22:$J22),\"\")","v":""},{"$f":"IF(AND(LEN($D22)>0,SUMIF($F$13:$J$13,BY$13,$F22:$J22)>0,marzo!BW23<>\"X\",marzo!BW23<>\"L\",marzo!BW23<>\"J\",marzo!BW23<>\"F\"),SUMIF($F$13:$J$13,BY$13,$F22:$J22),\"\")","v":""},{"$f":"IF(AND(LEN($D22)>0,SUMIF($F$13:$J$13,BZ$13,$F22:$J22)>0,marzo!BX23<>\"X\",marzo!BX23<>\"L\",marzo!BX23<>\"J\",marzo!BX23<>\"F\"),SUMIF($F$13:$J$13,BZ$13,$F22:$J22),\"\")","v":""},{"$f":"IF(AND(LEN($D22)>0,SUMIF($F$13:$J$13,CA$13,$F22:$J22)>0,marzo!BY23<>\"X\",marzo!BY23<>\"L\",marzo!BY23<>\"J\",marzo!BY23<>\"F\"),SUMIF($F$13:$J$13,CA$13,$F22:$J22),\"\")","v":""},{"$f":"IF(AND(LEN($D22)>0,SUMIF($F$13:$J$13,CB$13,$F22:$J22)>0,marzo!BZ23<>\"X\",marzo!BZ23<>\"L\",marzo!BZ23<>\"J\",marzo!BZ23<>\"F\"),SUMIF($F$13:$J$13,CB$13,$F22:$J22),\"\")","v":""},{"$error":"#REF!"}]
["",{"$f":"IF(LEN(C23)>0,VLOOKUP($O$4,DATA!$A$1:$S$1,2,FALSE),\"\")","v":""},"",{"$f":"IF(LEN(marzo!E24)>0,marzo!E24,\"\")","v":""},{"$f":"IF(LEN(D23)>0,marzo!F24,\"\")","v":""},null,null,null,null,null,"",null,null,{"$error":"#REF!"},{"$f":"IF(AND(LEN($D23)>0,SUMIF($F$13:$J$13,O$13,$F23:$J23)>0,marzo!I24<>\"X\",marzo!I24<>\"L\",marzo!I24<>\"J\",marzo!I24<>\"V\",marzo!I24<>\"F\",marzo!I24<>\"\"),SUMIF($F$13:$J$13,O$13,$F23:$J23),\"\")","v":""},{"$f":"IF(AND(LEN($D23)>0,SUMIF($F$13:$J$13,P$13,$F23:$J23)>0,marzo!J24<>\"X\",marzo!J24<>\"L\",marzo!J24<>\"J\",marzo!J24<>\"V\",marzo!J24<>\"F\",marzo!J24<>\"\"),SUMIF($F$13:$J$13,P$13,$F23:$J23),\"\")","v":""},{"$f":"IF(AND(LEN($D23)>0,SUMIF($F$13:$J$13,Q$13,$F23:$J23)>0,marzo!K24<>\"X\",marzo!K24<>\"L\",marzo!K24<>\"J\",marzo!K24<>\"V\",marzo!K24<>\"F\",marzo!K24<>\"\"),SUMIF($F$13:$J$13,Q$13,$F23:$J23),\"\")","v":""},{"$f":"IF(AND(LEN($D23)>0,SUMIF($F$13:$J$13,R$13,$F23:$J23)>0,marzo!L24<>\"X\",marzo!L24<>\"L\",marzo!L24<>\"J\",marzo!L24<>\"V\",marzo!L24<>\"F\",marzo!L24<>\"\"),SUMIF($F$13:$J$13,R$13,$F23:$J23),\"\")","v":""},{"$f":"IF(AND(LEN($D23)>0,SUMIF($F$13:$J$13,S$13,$F23:$J23)>0,marzo!M24<>\"X\",marzo!M24<>\"L\",marzo!M24<>\"J\",marzo!M24<>\"V\",marzo!M24<>\"F\",marzo!M24<>\"\"),SUMIF($F$13:$J$13,S$13,$F23:$J23),\"\")","v":""},{"$f":"IF(AND(LEN($D23)>0,SUMIF($F$13:$J$13,T$13,$F23:$J23)>0,marzo!N24<>\"X\",marzo!N24<>\"L\",marzo!N24<>\"J\",marzo!N24<>\"V\",marzo!N24<>\"F\",marzo!N24<>\"\"),SUMIF($F$13:$J$13,T$13,$F23:$J23),\"\")","v":""},{"$f":"IF(AND(LEN($D23)>0,SUMIF($F$13:$J$13,U$13,$F23:$J23)>0,marzo!O24<>\"X\",marzo!O24<>\"L\",marzo!O24<>\"J\",marzo!O24<>\"V\",marzo!O24<>\"F\",marzo!O24<>\"\"),SUMIF($F$13:$J$13,U$13,$F23:$J23),\"\")","v":""},{"$f":"IF(AND(LEN($D23)>0,SUMIF($F$13:$J$13,V$13,$F23:$J23)>0,marzo!P24<>\"X\",marzo!P24<>\"L\",marzo!P24<>\"J\",marzo!P24<>\"V\",marzo!P24<>\"F\",marzo!P24<>\"\"),SUMIF($F$13:$J$13,V$13,$F23:$J23),\"\")","v":""},{"$f":"IF(AND(LEN($D23)>0,SUMIF($F$13:$J$13,W$13,$F23:$J23)>0,marzo!Q24<>\"X\",marzo!Q24<>\"L\",marzo!Q24<>\"J\",marzo!Q24<>\"V\",marzo!Q24<>\"F\",marzo!Q24<>\"\"),SUMIF($F$13:$J$13,W$13,$F23:$J23),\"\")","v":""},{"$f":"IF(AND(LEN($D23)>0,SUMIF($F$13:$J$13,X$13,$F23:$J23)>0,marzo!R24<>\"X\",marzo!R24<>\"L\",marzo!R24<>\"J\",marzo!R24<>\"V\",marzo!R24<>\"F\",marzo!R24<>\"\"),SUMIF($F$13:$J$13,X$13,$F23:$J23),\"\")","v":""},{"$f":"IF(AND(LEN($D23)>0,SUMIF($F$13:$J$13,Y$13,$F23:$J23)>0,marzo!S24<>\"X\",marzo!S24<>\"L\",marzo!S24<>\"J\",marzo!S24<>\"V\",marzo!S24<>\"F\",marzo!S24<>\"\"),SUMIF($F$13:$J$13,Y$13,$F23:$J23),\"\")","v":""},{"$f":"IF(AND(LEN($D23)>0,SUMIF($F$13:$J$13,Z$13,$F23:$J23)>0,marzo!T24<>\"X\",marzo!T24<>\"L\",marzo!T24<>\"J\",marzo!T24<>\"V\",marzo!T24<>\"F\",marzo!T24<>\"\"),SUMIF($F$13:$J$13,Z$13,$F23:$J23),\"\")","v":""},{"$f":"IF(AND(LEN($D23)>0,SUMIF($F$13:$J$13,AA$13,$F23:$J23)>0,marzo!U24<>\"X\",marzo!U24<>\"L\",marzo!U24<>\"J\",marzo!U24<>\"V\",marzo!U24<>\"F\",marzo!U24<>\"\"),SUMIF($F$13:$J$13,AA$13,$F23:$J23),\"\")","v":""},{"$f":"IF(AND(LEN($D23)>0,SUMIF($F$13:$J$13,AB$13,$F23:$J23)>0,marzo!V24<>\"X\",marzo!V24<>\"L\",marzo!V24<>\"J\",marzo!V24<>\"V\",marzo!V24<>\"F\",marzo!V24<>\"\"),SUMIF($F$13:$J$13,AB$13,$F23:$J23),\"\")","v":""},{"$f":"IF(AND(LEN($D23)>0,SUMIF($F$13:$J$13,AC$13,$F23:$J23)>0,marzo!W24<>\"X\",marzo!W24<>\"L\",marzo!W24<>\"J\",marzo!W24<>\"V\",marzo!W24<>\"F\",marzo!W24<>\"\"),SUMIF($F$13:$J$13,AC$13,$F23:$J23),\"\")","v":""},{"$f":"IF(AND(LEN($D23)>0,SUMIF($F$13:$J$13,AD$13,$F23:$J23)>0,marzo!X24<>\"X\",marzo!X24<>\"L\",marzo!X24<>\"J\",marzo!X24<>\"V\",marzo!X24<>\"F\",marzo!X24<>\"\"),SUMIF($F$13:$J$13,AD$13,$F23:$J23),\"\")","v":""},{"$f":"IF(AND(LEN($D23)>0,SUMIF($F$13:$J$13,AE$13,$F23:$J23)>0,marzo!Y24<>\"X\",marzo!Y24<>\"L\",marzo!Y24<>\"J\",marzo!Y24<>\"V\",marzo!Y24<>\"F\",marzo!Y24<>\"\"),SUMIF($F$13:$J$13,AE$13,$F23:$J23),\"\")","v":""},{"$f":"IF(AND(LEN($D23)>0,SUMIF($F$13:$J$13,AF$13,$F23:$J23)>0,marzo!Z24<>\"X\",marzo!Z24<>\"L\",marzo!Z24<>\"J\",marzo!Z24<>\"V\",marzo!Z24<>\"F\",marzo!Z24<>\"\"),SUMIF($F$13:$J$13,AF$13,$F23:$J23),\"\")","v":""},{"$f":"IF(AND(LEN($D23)>0,SUMIF($F$13:$J$13,AG$13,$F23:$J23)>0,marzo!AA24<>\"X\",marzo!AA24<>\"L\",marzo!AA24<>\"J\",marzo!AA24<>\"V\",marzo!AA24<>\"F\",marzo!AA24<>\"\"),SUMIF($F$13:$J$13,AG$13,$F23:$J23),\"\")","v":""},{"$f":"IF(AND(LEN($D23)>0,SUMIF($F$13:$J$13,AH$13,$F23:$J23)>0,marzo!AB24<>\"X\",marzo!AB24<>\"L\",marzo!AB24<>\"J\",marzo!AB24<>\"V\",marzo!AB24<>\"F\",marzo!AB24<>\"\"),SUMIF($F$13:$J$13,AH$13,$F23:$J23),\"\")","v":""},{"$f":"IF(AND(LEN($D23)>0,SUMIF($F$13:$J$13,AI$13,$F23:$J23)>0,marzo!AC24<>\"X\",marzo!AC24<>\"L\",marzo!AC24<>\"J\",marzo!AC24<>\"V\",marzo!AC24<>\"F\",marzo!AC24<>\"\"),SUMIF($F$13:$J$13,AI$13,$F23:$J23),\"\")","v":""},{"$f":"IF(AND(LEN($D23)>0,SUMIF($F$13:$J$13,AJ$13,$F23:$J23)>0,marzo!AD24<>\"X\",marzo!AD24<>\"L\",marzo!AD24<>\"J\",marzo!AD24<>\"V\",marzo!AD24<>\"F\",marzo!AD24<>\"\"),SUMIF($F$13:$J$13,AJ$13,$F23:$J23),\"\")","v":""},{"$f":"IF(AND(LEN($D23)>0,SUMIF($F$13:$J$13,AK$13,$F23:$J23)>0,marzo!AE24<>\"X\",marzo!AE24<>\"L\",marzo!AE24<>\"J\",marzo!AE24<>\"V\",marzo!AE24<>\"F\",marzo!AE24<>\"\"),SUMIF($F$13:$J$13,AK$13,$F23:$J23),\"\")","v":""},{"$f":"IF(AND(LEN($D23)>0,SUMIF($F$13:$J$13,AL$13,$F23:$J23)>0,marzo!AF24<>\"X\",marzo!AF24<>\"L\",marzo!AF24<>\"J\",marzo!AF24<>\"V\",marzo!AF24<>\"F\",marzo!AF24<>\"\"),SUMIF($F$13:$J$13,AL$13,$F23:$J23),\"\")","v":""},{"$f":"IF(AND(LEN($D23)>0,SUMIF($F$13:$J$13,AM$13,$F23:$J23)>0,marzo!AG24<>\"X\",marzo!AG24<>\"L\",marzo!AG24<>\"J\",marzo!AG24<>\"V\",marzo!AG24<>\"F\",marzo!AG24<>\"\"),SUMIF($F$13:$J$13,AM$13,$F23:$J23),\"\")","v":""},{"$f":"IF(AND(LEN($D23)>0,SUMIF($F$13:$J$13,AN$13,$F23:$J23)>0,marzo!AH24<>\"X\",marzo!AH24<>\"L\",marzo!AH24<>\"J\",marzo!AH24<>\"V\",marzo!AH24<>\"F\",marzo!AH24<>\"\"),SUMIF($F$13:$J$13,AN$13,$F23:$J23),\"\")","v":""},{"$f":"IF(AND(LEN($D23)>0,SUMIF($F$13:$J$13,AO$13,$F23:$J23)>0,marzo!AI24<>\"X\",marzo!AI24<>\"L\",marzo!AI24<>\"J\",marzo!AI24<>\"V\",marzo!AI24<>\"F\",marzo!AI24<>\"\"),SUMIF($F$13:$J$13,AO$13,$F23:$J23),\"\")","v":""},{"$f":"IF(AND(LEN($D23)>0,SUMIF($F$13:$J$13,AP$13,$F23:$J23)>0,marzo!AJ24<>\"X\",marzo!AJ24<>\"L\",marzo!AJ24<>\"J\",marzo!AJ24<>\"V\",marzo!AJ24<>\"F\",marzo!AJ24<>\"\"),SUMIF($F$13:$J$13,AP$13,$F23:$J23),\"\")","v":""},{"$f":"IF(AND(LEN($D23)>0,SUMIF($F$13:$J$13,AQ$13,$F23:$J23)>0,marzo!AK24<>\"X\",marzo!AK24<>\"L\",marzo!AK24<>\"J\",marzo!AK24<>\"V\",marzo!AK24<>\"F\",marzo!AK24<>\"\"),SUMIF($F$13:$J$13,AQ$13,$F23:$J23),\"\")","v":""},{"$f":"IF(AND(LEN($D23)>0,SUMIF($F$13:$J$13,AR$13,$F23:$J23)>0,marzo!AL24<>\"X\",marzo!AL24<>\"L\",marzo!AL24<>\"J\",marzo!AL24<>\"V\",marzo!AL24<>\"F\",marzo!AL24<>\"\"),SUMIF($F$13:$J$13,AR$13,$F23:$J23),\"\")","v":""},{"$f":"IF(AND(LEN($D23)>0,SUMIF($F$13:$J$13,AS$13,$F23:$J23)>0,marzo!AN24<>\"X\",marzo!AN24<>\"L\",marzo!AN24<>\"J\",marzo!AN24<>\"V\",marzo!AN24<>\"F\",marzo!AN24<>\"\"),SUMIF($F$13:$J$13,AS$13,$F23:$J23),\"\")","v":""},"",null,null,null,{"$f":"IF(AND(LEN($D23)>0,SUMIF($F$13:$J$13,AX$13,$F23:$J23)>0,marzo!AV24<>\"X\",marzo!AV24<>\"L\",marzo!AV24<>\"J\",marzo!AV24<>\"F\"),SUMIF($F$13:$J$13,AX$13,$F23:$J23),\"\")","v":""},{"$f":"IF(AND(LEN($D23)>0,SUMIF($F$13:$J$13,AY$13,$F23:$J23)>0,marzo!AW24<>\"X\",marzo!AW24<>\"L\",marzo!AW24<>\"J\",marzo!AW24<>\"F\"),SUMIF($F$13:$J$13,AY$13,$F23:$J23),\"\")","v":""},{"$f":"IF(AND(LEN($D23)>0,SUMIF($F$13:$J$13,AZ$13,$F23:$J23)>0,marzo!AX24<>\"X\",marzo!AX24<>\"L\",marzo!AX24<>\"J\",marzo!AX24<>\"F\"),SUMIF($F$13:$J$13,AZ$13,$F23:$J23),\"\")","v":""},{"$f":"IF(AND(LEN($D23)>0,SUMIF($F$13:$J$13,BA$13,$F23:$J23)>0,marzo!AY24<>\"X\",marzo!AY24<>\"L\",marzo!AY24<>\"J\",marzo!AY24<>\"F\"),SUMIF($F$13:$J$13,BA$13,$F23:$J23),\"\")","v":""},{"$f":"IF(AND(LEN($D23)>0,SUMIF($F$13:$J$13,BB$13,$F23:$J23)>0,marzo!AZ24<>\"X\",marzo!AZ24<>\"L\",marzo!AZ24<>\"J\",marzo!AZ24<>\"F\"),SUMIF($F$13:$J$13,BB$13,$F23:$J23),\"\")","v":""},{"$f":"IF(AND(LEN($D23)>0,SUMIF($F$13:$J$13,BC$13,$F23:$J23)>0,marzo!BA24<>\"X\",marzo!BA24<>\"L\",marzo!BA24<>\"J\",marzo!BA24<>\"F\"),SUMIF($F$13:$J$13,BC$13,$F23:$J23),\"\")","v":""},{"$f":"IF(AND(LEN($D23)>0,SUMIF($F$13:$J$13,BD$13,$F23:$J23)>0,marzo!BB24<>\"X\",marzo!BB24<>\"L\",marzo!BB24<>\"J\",marzo!BB24<>\"F\"),SUMIF($F$13:$J$13,BD$13,$F23:$J23),\"\")","v":""},{"$f":"IF(AND(LEN($D23)>0,SUMIF($F$13:$J$13,BE$13,$F23:$J23)>0,marzo!BC24<>\"X\",marzo!BC24<>\"L\",marzo!BC24<>\"J\",marzo!BC24<>\"F\"),SUMIF($F$13:$J$13,BE$13,$F23:$J23),\"\")","v":""},{"$f":"IF(AND(LEN($D23)>0,SUMIF($F$13:$J$13,BF$13,$F23:$J23)>0,marzo!#REF!<>\"X\",marzo!#REF!<>\"L\",marzo!#REF!<>\"J\",marzo!#REF!<>\"F\"),SUMIF($F$13:$J$13,BF$13,$F23:$J23),\"\")","v":{"$error":"#REF!"}},{"$f":"IF(AND(LEN($D23)>0,SUMIF($F$13:$J$13,BG$13,$F23:$J23)>0,marzo!#REF!<>\"X\",marzo!#REF!<>\"L\",marzo!#REF!<>\"J\",marzo!#REF!<>\"F\"),SUMIF($F$13:$J$13,BG$13,$F23:$J23),\"\")","v":{"$error":"#REF!"}},{"$f":"IF(AND(LEN($D23)>0,SUMIF($F$13:$J$13,BH$13,$F23:$J23)>0,marzo!BF24<>\"X\",marzo!BF24<>\"L\",marzo!BF24<>\"J\",marzo!BF24<>\"F\"),SUMIF($F$13:$J$13,BH$13,$F23:$J23),\"\")","v":""},{"$f":"IF(AND(LEN($D23)>0,SUMIF($F$13:$J$13,BI$13,$F23:$J23)>0,marzo!BG24<>\"X\",marzo!BG24<>\"L\",marzo!BG24<>\"J\",marzo!BG24<>\"F\"),SUMIF($F$13:$J$13,BI$13,$F23:$J23),\"\")","v":""},{"$f":"IF(AND(LEN($D23)>0,SUMIF($F$13:$J$13,BJ$13,$F23:$J23)>0,marzo!BH24<>\"X\",marzo!BH24<>\"L\",marzo!BH24<>\"J\",marzo!BH24<>\"F\"),SUMIF($F$13:$J$13,BJ$13,$F23:$J23),\"\")","v":""},{"$f":"IF(AND(LEN($D23)>0,SUMIF($F$13:$J$13,BK$13,$F23:$J23)>0,marzo!BI24<>\"X\",marzo!BI24<>\"L\",marzo!BI24<>\"J\",marzo!BI24<>\"F\"),SUMIF($F$13:$J$13,BK$13,$F23:$J23),\"\")","v":""},{"$f":"IF(AND(LEN($D23)>0,SUMIF($F$13:$J$13,BL$13,$F23:$J23)>0,marzo!BJ24<>\"X\",marzo!BJ24<>\"L\",marzo!BJ24<>\"J\",marzo!BJ24<>\"F\"),SUMIF($F$13:$J$13,BL$13,$F23:$J23),\"\")","v":""},{"$f":"IF(AND(LEN($D23)>0,SUMIF($F$13:$J$13,BM$13,$F23:$J23)>0,marzo!BK24<>\"X\",marzo!BK24<>\"L\",marzo!BK24<>\"J\",marzo!BK24<>\"F\"),SUMIF($F$13:$J$13,BM$13,$F23:$J23),\"\")","v":""},{"$f":"IF(AND(LEN($D23)>0,SUMIF($F$13:$J$13,BN$13,$F23:$J23)>0,marzo!BL24<>\"X\",marzo!BL24<>\"L\",marzo!BL24<>\"J\",marzo!BL24<>\"F\"),SUMIF($F$13:$J$13,BN$13,$F23:$J23),\"\")","v":""},{"$f":"IF(AND(LEN($D23)>0,SUMIF($F$13:$J$13,BO$13,$F23:$J23)>0,marzo!BM24<>\"X\",marzo!BM24<>\"L\",marzo!BM24<>\"J\",marzo!BM24<>\"F\"),SUMIF($F$13:$J$13,BO$13,$F23:$J23),\"\")","v":""},{"$f":"IF(AND(LEN($D23)>0,SUMIF($F$13:$J$13,BP$13,$F23:$J23)>0,marzo!BN24<>\"X\",marzo!BN24<>\"L\",marzo!BN24<>\"J\",marzo!BN24<>\"F\"),SUMIF($F$13:$J$13,BP$13,$F23:$J23),\"\")","v":""},{"$f":"IF(AND(LEN($D23)>0,SUMIF($F$13:$J$13,BQ$13,$F23:$J23)>0,marzo!BO24<>\"X\",marzo!BO24<>\"L\",marzo!BO24<>\"J\",marzo!BO24<>\"F\"),SUMIF($F$13:$J$13,BQ$13,$F23:$J23),\"\")","v":""},{"$f":"IF(AND(LEN($D23)>0,SUMIF($F$13:$J$13,BR$13,$F23:$J23)>0,marzo!BP24<>\"X\",marzo!BP24<>\"L\",marzo!BP24<>\"J\",marzo!BP24<>\"F\"),SUMIF($F$13:$J$13,BR$13,$F23:$J23),\"\")","v":""},{"$f":"IF(AND(LEN($D23)>0,SUMIF($F$13:$J$13,BS$13,$F23:$J23)>0,marzo!BQ24<>\"X\",marzo!BQ24<>\"L\",marzo!BQ24<>\"J\",marzo!BQ24<>\"F\"),SUMIF($F$13:$J$13,BS$13,$F23:$J23),\"\")","v":""},{"$f":"IF(AND(LEN($D23)>0,SUMIF($F$13:$J$13,BT$13,$F23:$J23)>0,marzo!BR24<>\"X\",marzo!BR24<>\"L\",marzo!BR24<>\"J\",marzo!BR24<>\"F\"),SUMIF($F$13:$J$13,BT$13,$F23:$J23),\"\")","v":""},{"$f":"IF(AND(LEN($D23)>0,SUMIF($F$13:$J$13,BU$13,$F23:$J23)>0,marzo!BS24<>\"X\",marzo!BS24<>\"L\",marzo!BS24<>\"J\",marzo!BS24<>\"F\"),SUMIF($F$13:$J$13,BU$13,$F23:$J23),\"\")","v":""},{"$f":"IF(AND(LEN($D23)>0,SUMIF($F$13:$J$13,BV$13,$F23:$J23)>0,marzo!BT24<>\"X\",marzo!BT24<>\"L\",marzo!BT24<>\"J\",marzo!BT24<>\"F\"),SUMIF($F$13:$J$13,BV$13,$F23:$J23),\"\")","v":""},{"$f":"IF(AND(LEN($D23)>0,SUMIF($F$13:$J$13,BW$13,$F23:$J23)>0,marzo!BU24<>\"X\",marzo!BU24<>\"L\",marzo!BU24<>\"J\",marzo!BU24<>\"F\"),SUMIF($F$13:$J$13,BW$13,$F23:$J23),\"\")","v":""},{"$f":"IF(AND(LEN($D23)>0,SUMIF($F$13:$J$13,BX$13,$F23:$J23)>0,marzo!BV24<>\"X\",marzo!BV24<>\"L\",marzo!BV24<>\"J\",marzo!BV24<>\"F\"),SUMIF($F$13:$J$13,BX$13,$F23:$J23),\"\")","v":""},{"$f":"IF(AND(LEN($D23)>0,SUMIF($F$13:$J$13,BY$13,$F23:$J23)>0,marzo!BW24<>\"X\",marzo!BW24<>\"L\",marzo!BW24<>\"J\",marzo!BW24<>\"F\"),SUMIF($F$13:$J$13,BY$13,$F23:$J23),\"\")","v":""},{"$f":"IF(AND(LEN($D23)>0,SUMIF($F$13:$J$13,BZ$13,$F23:$J23)>0,marzo!BX24<>\"X\",marzo!BX24<>\"L\",marzo!BX24<>\"J\",marzo!BX24<>\"F\"),SUMIF($F$13:$J$13,BZ$13,$F23:$J23),\"\")","v":""},{"$f":"IF(AND(LEN($D23)>0,SUMIF($F$13:$J$13,CA$13,$F23:$J23)>0,marzo!BY24<>\"X\",marzo!BY24<>\"L\",marzo!BY24<>\"J\",marzo!BY24<>\"F\"),SUMIF($F$13:$J$13,CA$13,$F23:$J23),\"\")","v":""},{"$f":"IF(AND(LEN($D23)>0,SUMIF($F$13:$J$13,CB$13,$F23:$J23)>0,marzo!BZ24<>\"X\",marzo!BZ24<>\"L\",marzo!BZ24<>\"J\",marzo!BZ24<>\"F\"),SUMIF($F$13:$J$13,CB$13,$F23:$J23),\"\")","v":""},{"$error":"#REF!"}]
["",{"$f":"IF(LEN(C24)>0,VLOOKUP($O$4,DATA!$A$1:$S$1,2,FALSE),\"\")","v":""},"",{"$f":"IF(LEN(marzo!E25)>0,marzo!E25,\"\")","v":""},{"$f":"IF(LEN(D24)>0,marzo!F25,\"\")","v":""},null,null,null,null,null,"",null,null,{"$error":"#REF!"},{"$f":"IF(AND(LEN($D24)>0,SUMIF($F$13:$J$13,O$13,$F24:$J24)>0,marzo!I25<>\"X\",marzo!I25<>\"L\",marzo!I25<>\"J\",marzo!I25<>\"V\",marzo!I25<>\"F\",marzo!I25<>\"\"),SUMIF($F$13:$J$13,O$13,$F24:$J24),\"\")","v":""},{"$f":"IF(AND(LEN($D24)>0,SUMIF($F$13:$J$13,P$13,$F24:$J24)>0,marzo!J25<>\"X\",marzo!J25<>\"L\",marzo!J25<>\"J\",marzo!J25<>\"V\",marzo!J25<>\"F\",marzo!J25<>\"\"),SUMIF($F$13:$J$13,P$13,$F24:$J24),\"\")","v":""},{"$f":"IF(AND(LEN($D24)>0,SUMIF($F$13:$J$13,Q$13,$F24:$J24)>0,marzo!K25<>\"X\",marzo!K25<>\"L\",marzo!K25<>\"J\",marzo!K25<>\"V\",marzo!K25<>\"F\",marzo!K25<>\"\"),SUMIF($F$13:$J$13,Q$13,$F24:$J24),\"\")","v":""},{"$f":"IF(AND(LEN($D24)>0,SUMIF($F$13:$J$13,R$13,$F24:$J24)>0,marzo!L25<>\"X\",marzo!L25<>\"L\",marzo!L25<>\"J\",marzo!L25<>\"V\",marzo!L25<>\"F\",marzo!L25<>\"\"),SUMIF($F$13:$J$13,R$13,$F24:$J24),\"\")","v":""},{"$f":"IF(AND(LEN($D24)>0,SUMIF($F$13:$J$13,S$13,$F24:$J24)>0,marzo!M25<>\"X\",marzo!M25<>\"L\",marzo!M25<>\"J\",marzo!M25<>\"V\",marzo!M25<>\"F\",marzo!M25<>\"\"),SUMIF($F$13:$J$13,S$13,$F24:$J24),\"\")","v":""},{"$f":"IF(AND(LEN($D24)>0,SUMIF($F$13:$J$13,T$13,$F24:$J24)>0,marzo!N25<>\"X\",marzo!N25<>\"L\",marzo!N25<>\"J\",marzo!N25<>\"V\",marzo!N25<>\"F\",marzo!N25<>\"\"),SUMIF($F$13:$J$13,T$13,$F24:$J24),\"\")","v":""},{"$f":"IF(AND(LEN($D24)>0,SUMIF($F$13:$J$13,U$13,$F24:$J24)>0,marzo!O25<>\"X\",marzo!O25<>\"L\",marzo!O25<>\"J\",marzo!O25<>\"V\",marzo!O25<>\"F\",marzo!O25<>\"\"),SUMIF($F$13:$J$13,U$13,$F24:$J24),\"\")","v":""},{"$f":"IF(AND(LEN($D24)>0,SUMIF($F$13:$J$13,V$13,$F24:$J24)>0,marzo!P25<>\"X\",marzo!P25<>\"L\",marzo!P25<>\"J\",marzo!P25<>\"V\",marzo!P25<>\"F\",marzo!P25<>\"\"),SUMIF($F$13:$J$13,V$13,$F24:$J24),\"\")","v":""},{"$f":"IF(AND(LEN($D24)>0,SUMIF($F$13:$J$13,W$13,$F24:$J24)>0,marzo!Q25<>\"X\",marzo!Q25<>\"L\",marzo!Q25<>\"J\",marzo!Q25<>\"V\",marzo!Q25<>\"F\",marzo!Q25<>\"\"),SUMIF($F$13:$J$13,W$13,$F24:$J24),\"\")","v":""},{"$f":"IF(AND(LEN($D24)>0,SUMIF($F$13:$J$13,X$13,$F24:$J24)>0,marzo!R25<>\"X\",marzo!R25<>\"L\",marzo!R25<>\"J\",marzo!R25<>\"V\",marzo!R25<>\"F\",marzo!R25<>\"\"),SUMIF($F$13:$J$13,X$13,$F24:$J24),\"\")","v":""},{"$f":"IF(AND(LEN($D24)>0,SUMIF($F$13:$J$13,Y$13,$F24:$J24)>0,marzo!S25<>\"X\",marzo!S25<>\"L\",marzo!S25<>\"J\",marzo!S25<>\"V\",marzo!S25<>\"F\",marzo!S25<>\"\"),SUMIF($F$13:$J$13,Y$13,$F24:$J24),\"\")","v":""},{"$f":"IF(AND(LEN($D24)>0,SUMIF($F$13:$J$13,Z$13,$F24:$J24)>0,marzo!T25<>\"X\",marzo!T25<>\"L\",marzo!T25<>\"J\",marzo!T25<>\"V\",marzo!T25<>\"F\",marzo!T25<>\"\"),SUMIF($F$13:$J$13,Z$13,$F24:$J24),\"\")","v":""},{"$f":"IF(AND(LEN($D24)>0,SUMIF($F$13:$J$13,AA$13,$F24:$J24)>0,marzo!U25<>\"X\",marzo!U25<>\"L\",marzo!U25<>\"J\",marzo!U25<>\"V\",marzo!U25<>\"F\",marzo!U25<>\"\"),SUMIF($F$13:$J$13,AA$13,$F24:$J24),\"\")","v":""},{"$f":"IF(AND(LEN($D24)>0,SUMIF($F$13:$J$13,AB$13,$F24:$J24)>0,marzo!V25<>\"X\",marzo!V25<>\"L\",marzo!V25<>\"J\",marzo!V25<>\"V\",marzo!V25<>\"F\",marzo!V25<>\"\"),SUMIF($F$13:$J$13,AB$13,$F24:$J24),\"\")","v":""},{"$f":"IF(AND(LEN($D24)>0,SUMIF($F$13:$J$13,AC$13,$F24:$J24)>0,marzo!W25<>\"X\",marzo!W25<>\"L\",marzo!W25<>\"J\",marzo!W25<>\"V\",marzo!W25<>\"F\",marzo!W25<>\"\"),SUMIF($F$13:$J$13,AC$13,$F24:$J24),\"\")","v":""},{"$f":"IF(AND(LEN($D24)>0,SUMIF($F$13:$J$13,AD$13,$F24:$J24)>0,marzo!X25<>\"X\",marzo!X25<>\"L\",marzo!X25<>\"J\",marzo!X25<>\"V\",marzo!X25<>\"F\",marzo!X25<>\"\"),SUMIF($F$13:$J$13,AD$13,$F24:$J24),\"\")","v":""},{"$f":"IF(AND(LEN($D24)>0,SUMIF($F$13:$J$13,AE$13,$F24:$J24)>0,marzo!Y25<>\"X\",marzo!Y25<>\"L\",marzo!Y25<>\"J\",marzo!Y25<>\"V\",marzo!Y25<>\"F\",marzo!Y25<>\"\"),SUMIF($F$13:$J$13,AE$13,$F24:$J24),\"\")","v":""},{"$f":"IF(AND(LEN($D24)>0,SUMIF($F$13:$J$13,AF$13,$F24:$J24)>0,marzo!Z25<>\"X\",marzo!Z25<>\"L\",marzo!Z25<>\"J\",marzo!Z25<>\"V\",marzo!Z25<>\"F\",marzo!Z25<>\"\"),SUMIF($F$13:$J$13,AF$13,$F24:$J24),\"\")","v":""},{"$f":"IF(AND(LEN($D24)>0,SUMIF($F$13:$J$13,AG$13,$F24:$J24)>0,marzo!AA25<>\"X\",marzo!AA25<>\"L\",marzo!AA25<>\"J\",marzo!AA25<>\"V\",marzo!AA25<>\"F\",marzo!AA25<>\"\"),SUMIF($F$13:$J$13,AG$13,$F24:$J24),\"\")","v":""},{"$f":"IF(AND(LEN($D24)>0,SUMIF($F$13:$J$13,AH$13,$F24:$J24)>0,marzo!AB25<>\"X\",marzo!AB25<>\"L\",marzo!AB25<>\"J\",marzo!AB25<>\"V\",marzo!AB25<>\"F\",marzo!AB25<>\"\"),SUMIF($F$13:$J$13,AH$13,$F24:$J24),\"\")","v":""},{"$f":"IF(AND(LEN($D24)>0,SUMIF($F$13:$J$13,AI$13,$F24:$J24)>0,marzo!AC25<>\"X\",marzo!AC25<>\"L\",marzo!AC25<>\"J\",marzo!AC25<>\"V\",marzo!AC25<>\"F\",marzo!AC25<>\"\"),SUMIF($F$13:$J$13,AI$13,$F24:$J24),\"\")","v":""},{"$f":"IF(AND(LEN($D24)>0,SUMIF($F$13:$J$13,AJ$13,$F24:$J24)>0,marzo!AD25<>\"X\",marzo!AD25<>\"L\",marzo!AD25<>\"J\",marzo!AD25<>\"V\",marzo!AD25<>\"F\",marzo!AD25<>\"\"),SUMIF($F$13:$J$13,AJ$13,$F24:$J24),\"\")","v":""},{"$f":"IF(AND(LEN($D24)>0,SUMIF($F$13:$J$13,AK$13,$F24:$J24)>0,marzo!AE25<>\"X\",marzo!AE25<>\"L\",marzo!AE25<>\"J\",marzo!AE25<>\"V\",marzo!AE25<>\"F\",marzo!AE25<>\"\"),SUMIF($F$13:$J$13,AK$13,$F24:$J24),\"\")","v":""},{"$f":"IF(AND(LEN($D24)>0,SUMIF($F$13:$J$13,AL$13,$F24:$J24)>0,marzo!AF25<>\"X\",marzo!AF25<>\"L\",marzo!AF25<>\"J\",marzo!AF25<>\"V\",marzo!AF25<>\"F\",marzo!AF25<>\"\"),SUMIF($F$13:$J$13,AL$13,$F24:$J24),\"\")","v":""},{"$f":"IF(AND(LEN($D24)>0,SUMIF($F$13:$J$13,AM$13,$F24:$J24)>0,marzo!AG25<>\"X\",marzo!AG25<>\"L\",marzo!AG25<>\"J\",marzo!AG25<>\"V\",marzo!AG25<>\"F\",marzo!AG25<>\"\"),SUMIF($F$13:$J$13,AM$13,$F24:$J24),\"\")","v":""},{"$f":"IF(AND(LEN($D24)>0,SUMIF($F$13:$J$13,AN$13,$F24:$J24)>0,marzo!AH25<>\"X\",marzo!AH25<>\"L\",marzo!AH25<>\"J\",marzo!AH25<>\"V\",marzo!AH25<>\"F\",marzo!AH25<>\"\"),SUMIF($F$13:$J$13,AN$13,$F24:$J24),\"\")","v":""},{"$f":"IF(AND(LEN($D24)>0,SUMIF($F$13:$J$13,AO$13,$F24:$J24)>0,marzo!AI25<>\"X\",marzo!AI25<>\"L\",marzo!AI25<>\"J\",marzo!AI25<>\"V\",marzo!AI25<>\"F\",marzo!AI25<>\"\"),SUMIF($F$13:$J$13,AO$13,$F24:$J24),\"\")","v":""},{"$f":"IF(AND(LEN($D24)>0,SUMIF($F$13:$J$13,AP$13,$F24:$J24)>0,marzo!AJ25<>\"X\",marzo!AJ25<>\"L\",marzo!AJ25<>\"J\",marzo!AJ25<>\"V\",marzo!AJ25<>\"F\",marzo!AJ25<>\"\"),SUMIF($F$13:$J$13,AP$13,$F24:$J24),\"\")","v":""},{"$f":"IF(AND(LEN($D24)>0,SUMIF($F$13:$J$13,AQ$13,$F24:$J24)>0,marzo!AK25<>\"X\",marzo!AK25<>\"L\",marzo!AK25<>\"J\",marzo!AK25<>\"V\",marzo!AK25<>\"F\",marzo!AK25<>\"\"),SUMIF($F$13:$J$13,AQ$13,$F24:$J24),\"\")","v":""},{"$f":"IF(AND(LEN($D24)>0,SUMIF($F$13:$J$13,AR$13,$F24:$J24)>0,marzo!AL25<>\"X\",marzo!AL25<>\"L\",marzo!AL25<>\"J\",marzo!AL25<>\"V\",marzo!AL25<>\"F\",marzo!AL25<>\"\"),SUMIF($F$13:$J$13,AR$13,$F24:$J24),\"\")","v":""},{"$f":"IF(AND(LEN($D24)>0,SUMIF($F$13:$J$13,AS$13,$F24:$J24)>0,marzo!AN25<>\"X\",marzo!AN25<>\"L\",marzo!AN25<>\"J\",marzo!AN25<>\"V\",marzo!AN25<>\"F\",marzo!AN25<>\"\"),SUMIF($F$13:$J$13,AS$13,$F24:$J24),\"\")","v":""},"",null,null,null,{"$f":"IF(AND(LEN($D24)>0,SUMIF($F$13:$J$13,AX$13,$F24:$J24)>0,marzo!AV25<>\"X\",marzo!AV25<>\"L\",marzo!AV25<>\"J\",marzo!AV25<>\"F\"),SUMIF($F$13:$J$13,AX$13,$F24:$J24),\"\")","v":""},{"$f":"IF(AND(LEN($D24)>0,SUMIF($F$13:$J$13,AY$13,$F24:$J24)>0,marzo!AW25<>\"X\",marzo!AW25<>\"L\",marzo!AW25<>\"J\",marzo!AW25<>\"F\"),SUMIF($F$13:$J$13,AY$13,$F24:$J24),\"\")","v":""},{"$f":"IF(AND(LEN($D24)>0,SUMIF($F$13:$J$13,AZ$13,$F24:$J24)>0,marzo!AX25<>\"X\",marzo!AX25<>\"L\",marzo!AX25<>\"J\",marzo!AX25<>\"F\"),SUMIF($F$13:$J$13,AZ$13,$F24:$J24),\"\")","v":""},{"$f":"IF(AND(LEN($D24)>0,SUMIF($F$13:$J$13,BA$13,$F24:$J24)>0,marzo!AY25<>\"X\",marzo!AY25<>\"L\",marzo!AY25<>\"J\",marzo!AY25<>\"F\"),SUMIF($F$13:$J$13,BA$13,$F24:$J24),\"\")","v":""},{"$f":"IF(AND(LEN($D24)>0,SUMIF($F$13:$J$13,BB$13,$F24:$J24)>0,marzo!AZ25<>\"X\",marzo!AZ25<>\"L\",marzo!AZ25<>\"J\",marzo!AZ25<>\"F\"),SUMIF($F$13:$J$13,BB$13,$F24:$J24),\"\")","v":""},{"$f":"IF(AND(LEN($D24)>0,SUMIF($F$13:$J$13,BC$13,$F24:$J24)>0,marzo!BA25<>\"X\",marzo!BA25<>\"L\",marzo!BA25<>\"J\",marzo!BA25<>\"F\"),SUMIF($F$13:$J$13,BC$13,$F24:$J24),\"\")","v":""},{"$f":"IF(AND(LEN($D24)>0,SUMIF($F$13:$J$13,BD$13,$F24:$J24)>0,marzo!BB25<>\"X\",marzo!BB25<>\"L\",marzo!BB25<>\"J\",marzo!BB25<>\"F\"),SUMIF($F$13:$J$13,BD$13,$F24:$J24),\"\")","v":""},{"$f":"IF(AND(LEN($D24)>0,SUMIF($F$13:$J$13,BE$13,$F24:$J24)>0,marzo!BC25<>\"X\",marzo!BC25<>\"L\",marzo!BC25<>\"J\",marzo!BC25<>\"F\"),SUMIF($F$13:$J$13,BE$13,$F24:$J24),\"\")","v":""},{"$f":"IF(AND(LEN($D24)>0,SUMIF($F$13:$J$13,BF$13,$F24:$J24)>0,marzo!#REF!<>\"X\",marzo!#REF!<>\"L\",marzo!#REF!<>\"J\",marzo!#REF!<>\"F\"),SUMIF($F$13:$J$13,BF$13,$F24:$J24),\"\")","v":{"$error":"#REF!"}},{"$f":"IF(AND(LEN($D24)>0,SUMIF($F$13:$J$13,BG$13,$F24:$J24)>0,marzo!#REF!<>\"X\",marzo!#REF!<>\"L\",marzo!#REF!<>\"J\",marzo!#REF!<>\"F\"),SUMIF($F$13:$J$13,BG$13,$F24:$J24),\"\")","v":{"$error":"#REF!"}},{"$f":"IF(AND(LEN($D24)>0,SUMIF($F$13:$J$13,BH$13,$F24:$J24)>0,marzo!BF25<>\"X\",marzo!BF25<>\"L\",marzo!BF25<>\"J\",marzo!BF25<>\"F\"),SUMIF($F$13:$J$13,BH$13,$F24:$J24),\"\")","v":""},{"$f":"IF(AND(LEN($D24)>0,SUMIF($F$13:$J$13,BI$13,$F24:$J24)>0,marzo!BG25<>\"X\",marzo!BG25<>\"L\",marzo!BG25<>\"J\",marzo!BG25<>\"F\"),SUMIF($F$13:$J$13,BI$13,$F24:$J24),\"\")","v":""},{"$f":"IF(AND(LEN($D24)>0,SUMIF($F$13:$J$13,BJ$13,$F24:$J24)>0,marzo!BH25<>\"X\",marzo!BH25<>\"L\",marzo!BH25<>\"J\",marzo!BH25<>\"F\"),SUMIF($F$13:$J$13,BJ$13,$F24:$J24),\"\")","v":""},{"$f":"IF(AND(LEN($D24)>0,SUMIF($F$13:$J$13,BK$13,$F24:$J24)>0,marzo!BI25<>\"X\",marzo!BI25<>\"L\",marzo!BI25<>\"J\",marzo!BI25<>\"F\"),SUMIF($F$13:$J$13,BK$13,$F24:$J24),\"\")","v":""},{"$f":"IF(AND(LEN($D24)>0,SUMIF($F$13:$J$13,BL$13,$F24:$J24)>0,marzo!BJ25<>\"X\",marzo!BJ25<>\"L\",marzo!BJ25<>\"J\",marzo!BJ25<>\"F\"),SUMIF($F$13:$J$13,BL$13,$F24:$J24),\"\")","v":""},{"$f":"IF(AND(LEN($D24)>0,SUMIF($F$13:$J$13,BM$13,$F24:$J24)>0,marzo!BK25<>\"X\",marzo!BK25<>\"L\",marzo!BK25<>\"J\",marzo!BK25<>\"F\"),SUMIF($F$13:$J$13,BM$13,$F24:$J24),\"\")","v":""},{"$f":"IF(AND(LEN($D24)>0,SUMIF($F$13:$J$13,BN$13,$F24:$J24)>0,marzo!BL25<>\"X\",marzo!BL25<>\"L\",marzo!BL25<>\"J\",marzo!BL25<>\"F\"),SUMIF($F$13:$J$13,BN$13,$F24:$J24),\"\")","v":""},{"$f":"IF(AND(LEN($D24)>0,SUMIF($F$13:$J$13,BO$13,$F24:$J24)>0,marzo!BM25<>\"X\",marzo!BM25<>\"L\",marzo!BM25<>\"J\",marzo!BM25<>\"F\"),SUMIF($F$13:$J$13,BO$13,$F24:$J24),\"\")","v":""},{"$f":"IF(AND(LEN($D24)>0,SUMIF($F$13:$J$13,BP$13,$F24:$J24)>0,marzo!BN25<>\"X\",marzo!BN25<>\"L\",marzo!BN25<>\"J\",marzo!BN25<>\"F\"),SUMIF($F$13:$J$13,BP$13,$F24:$J24),\"\")","v":""},{"$f":"IF(AND(LEN($D24)>0,SUMIF($F$13:$J$13,BQ$13,$F24:$J24)>0,marzo!BO25<>\"X\",marzo!BO25<>\"L\",marzo!BO25<>\"J\",marzo!BO25<>\"F\"),SUMIF($F$13:$J$13,BQ$13,$F24:$J24),\"\")","v":""},{"$f":"IF(AND(LEN($D24)>0,SUMIF($F$13:$J$13,BR$13,$F24:$J24)>0,marzo!BP25<>\"X\",marzo!BP25<>\"L\",marzo!BP25<>\"J\",marzo!BP25<>\"F\"),SUMIF($F$13:$J$13,BR$13,$F24:$J24),\"\")","v":""},{"$f":"IF(AND(LEN($D24)>0,SUMIF($F$13:$J$13,BS$13,$F24:$J24)>0,marzo!BQ25<>\"X\",marzo!BQ25<>\"L\",marzo!BQ25<>\"J\",marzo!BQ25<>\"F\"),SUMIF($F$13:$J$13,BS$13,$F24:$J24),\"\")","v":""},{"$f":"IF(AND(LEN($D24)>0,SUMIF($F$13:$J$13,BT$13,$F24:$J24)>0,marzo!BR25<>\"X\",marzo!BR25<>\"L\",marzo!BR25<>\"J\",marzo!BR25<>\"F\"),SUMIF($F$13:$J$13,BT$13,$F24:$J24),\"\")","v":""},{"$f":"IF(AND(LEN($D24)>0,SUMIF($F$13:$J$13,BU$13,$F24:$J24)>0,marzo!BS25<>\"X\",marzo!BS25<>\"L\",marzo!BS25<>\"J\",marzo!BS25<>\"F\"),SUMIF($F$13:$J$13,BU$13,$F24:$J24),\"\")","v":""},{"$f":"IF(AND(LEN($D24)>0,SUMIF($F$13:$J$13,BV$13,$F24:$J24)>0,marzo!BT25<>\"X\",marzo!BT25<>\"L\",marzo!BT25<>\"J\",marzo!BT25<>\"F\"),SUMIF($F$13:$J$13,BV$13,$F24:$J24),\"\")","v":""},{"$f":"IF(AND(LEN($D24)>0,SUMIF($F$13:$J$13,BW$13,$F24:$J24)>0,marzo!BU25<>\"X\",marzo!BU25<>\"L\",marzo!BU25<>\"J\",marzo!BU25<>\"F\"),SUMIF($F$13:$J$13,BW$13,$F24:$J24),\"\")","v":""},{"$f":"IF(AND(LEN($D24)>0,SUMIF($F$13:$J$13,BX$13,$F24:$J24)>0,marzo!BV25<>\"X\",marzo!BV25<>\"L\",marzo!BV25<>\"J\",marzo!BV25<>\"F\"),SUMIF($F$13:$J$13,BX$13,$F24:$J24),\"\")","v":""},{"$f":"IF(AND(LEN($D24)>0,SUMIF($F$13:$J$13,BY$13,$F24:$J24)>0,marzo!BW25<>\"X\",marzo!BW25<>\"L\",marzo!BW25<>\"J\",marzo!BW25<>\"F\"),SUMIF($F$13:$J$13,BY$13,$F24:$J24),\"\")","v":""},{"$f":"IF(AND(LEN($D24)>0,SUMIF($F$13:$J$13,BZ$13,$F24:$J24)>0,marzo!BX25<>\"X\",marzo!BX25<>\"L\",marzo!BX25<>\"J\",marzo!BX25<>\"F\"),SUMIF($F$13:$J$13,BZ$13,$F24:$J24),\"\")","v":""},{"$f":"IF(AND(LEN($D24)>0,SUMIF($F$13:$J$13,CA$13,$F24:$J24)>0,marzo!BY25<>\"X\",marzo!BY25<>\"L\",marzo!BY25<>\"J\",marzo!BY25<>\"F\"),SUMIF($F$13:$J$13,CA$13,$F24:$J24),\"\")","v":""},{"$f":"IF(AND(LEN($D24)>0,SUMIF($F$13:$J$13,CB$13,$F24:$J24)>0,marzo!BZ25<>\"X\",marzo!BZ25<>\"L\",marzo!BZ25<>\"J\",marzo!BZ25<>\"F\"),SUMIF($F$13:$J$13,CB$13,$F24:$J24),\"\")","v":""},{"$error":"#REF!"}]
["",{"$f":"IF(LEN(C25)>0,VLOOKUP($O$4,DATA!$A$1:$S$1,2,FALSE),\"\")","v":""},"",{"$f":"IF(LEN(marzo!E26)>0,marzo!E26,\"\")","v":""},{"$f":"IF(LEN(D25)>0,marzo!F26,\"\")","v":""},null,null,null,null,null,"",null,null,{"$error":"#REF!"},{"$f":"IF(AND(LEN($D25)>0,SUMIF($F$13:$J$13,O$13,$F25:$J25)>0,marzo!I26<>\"X\",marzo!I26<>\"L\",marzo!I26<>\"J\",marzo!I26<>\"V\",marzo!I26<>\"F\",marzo!I26<>\"\"),SUMIF($F$13:$J$13,O$13,$F25:$J25),\"\")","v":""},{"$f":"IF(AND(LEN($D25)>0,SUMIF($F$13:$J$13,P$13,$F25:$J25)>0,marzo!J26<>\"X\",marzo!J26<>\"L\",marzo!J26<>\"J\",marzo!J26<>\"V\",marzo!J26<>\"F\",marzo!J26<>\"\"),SUMIF($F$13:$J$13,P$13,$F25:$J25),\"\")","v":""},{"$f":"IF(AND(LEN($D25)>0,SUMIF($F$13:$J$13,Q$13,$F25:$J25)>0,marzo!K26<>\"X\",marzo!K26<>\"L\",marzo!K26<>\"J\",marzo!K26<>\"V\",marzo!K26<>\"F\",marzo!K26<>\"\"),SUMIF($F$13:$J$13,Q$13,$F25:$J25),\"\")","v":""},{"$f":"IF(AND(LEN($D25)>0,SUMIF($F$13:$J$13,R$13,$F25:$J25)>0,marzo!L26<>\"X\",marzo!L26<>\"L\",marzo!L26<>\"J\",marzo!L26<>\"V\",marzo!L26<>\"F\",marzo!L26<>\"\"),SUMIF($F$13:$J$13,R$13,$F25:$J25),\"\")","v":""},{"$f":"IF(AND(LEN($D25)>0,SUMIF($F$13:$J$13,S$13,$F25:$J25)>0,marzo!M26<>\"X\",marzo!M26<>\"L\",marzo!M26<>\"J\",marzo!M26<>\"V\",marzo!M26<>\"F\",marzo!M26<>\"\"),SUMIF($F$13:$J$13,S$13,$F25:$J25),\"\")","v":""},{"$f":"IF(AND(LEN($D25)>0,SUMIF($F$13:$J$13,T$13,$F25:$J25)>0,marzo!N26<>\"X\",marzo!N26<>\"L\",marzo!N26<>\"J\",marzo!N26<>\"V\",marzo!N26<>\"F\",marzo!N26<>\"\"),SUMIF($F$13:$J$13,T$13,$F25:$J25),\"\")","v":""},{"$f":"IF(AND(LEN($D25)>0,SUMIF($F$13:$J$13,U$13,$F25:$J25)>0,marzo!O26<>\"X\",marzo!O26<>\"L\",marzo!O26<>\"J\",marzo!O26<>\"V\",marzo!O26<>\"F\",marzo!O26<>\"\"),SUMIF($F$13:$J$13,U$13,$F25:$J25),\"\")","v":""},{"$f":"IF(AND(LEN($D25)>0,SUMIF($F$13:$J$13,V$13,$F25:$J25)>0,marzo!P26<>\"X\",marzo!P26<>\"L\",marzo!P26<>\"J\",marzo!P26<>\"V\",marzo!P26<>\"F\",marzo!P26<>\"\"),SUMIF($F$13:$J$13,V$13,$F25:$J25),\"\")","v":""},{"$f":"IF(AND(LEN($D25)>0,SUMIF($F$13:$J$13,W$13,$F25:$J25)>0,marzo!Q26<>\"X\",marzo!Q26<>\"L\",marzo!Q26<>\"J\",marzo!Q26<>\"V\",marzo!Q26<>\"F\",marzo!Q26<>\"\"),SUMIF($F$13:$J$13,W$13,$F25:$J25),\"\")","v":""},{"$f":"IF(AND(LEN($D25)>0,SUMIF($F$13:$J$13,X$13,$F25:$J25)>0,marzo!R26<>\"X\",marzo!R26<>\"L\",marzo!R26<>\"J\",marzo!R26<>\"V\",marzo!R26<>\"F\",marzo!R26<>\"\"),SUMIF($F$13:$J$13,X$13,$F25:$J25),\"\")","v":""},{"$f":"IF(AND(LEN($D25)>0,SUMIF($F$13:$J$13,Y$13,$F25:$J25)>0,marzo!S26<>\"X\",marzo!S26<>\"L\",marzo!S26<>\"J\",marzo!S26<>\"V\",marzo!S26<>\"F\",marzo!S26<>\"\"),SUMIF($F$13:$J$13,Y$13,$F25:$J25),\"\")","v":""},{"$f":"IF(AND(LEN($D25)>0,SUMIF($F$13:$J$13,Z$13,$F25:$J25)>0,marzo!T26<>\"X\",marzo!T26<>\"L\",marzo!T26<>\"J\",marzo!T26<>\"V\",marzo!T26<>\"F\",marzo!T26<>\"\"),SUMIF($F$13:$J$13,Z$13,$F25:$J25),\"\")","v":""},{"$f":"IF(AND(LEN($D25)>0,SUMIF($F$13:$J$13,AA$13,$F25:$J25)>0,marzo!U26<>\"X\",marzo!U26<>\"L\",marzo!U26<>\"J\",marzo!U26<>\"V\",marzo!U26<>\"F\",marzo!U26<>\"\"),SUMIF($F$13:$J$13,AA$13,$F25:$J25),\"\")","v":""},{"$f":"IF(AND(LEN($D25)>0,SUMIF($F$13:$J$13,AB$13,$F25:$J25)>0,marzo!V26<>\"X\",marzo!V26<>\"L\",marzo!V26<>\"J\",marzo!V26<>\"V\",marzo!V26<>\"F\",marzo!V26<>\"\"),SUMIF($F$13:$J$13,AB$13,$F25:$J25),\"\")","v":""},{"$f":"IF(AND(LEN($D25)>0,SUMIF($F$13:$J$13,AC$13,$F25:$J25)>0,marzo!W26<>\"X\",marzo!W26<>\"L\",marzo!W26<>\"J\",marzo!W26<>\"V\",marzo!W26<>\"F\",marzo!W26<>\"\"),SUMIF($F$13:$J$13,AC$13,$F25:$J25),\"\")","v":""},{"$f":"IF(AND(LEN($D25)>0,SUMIF($F$13:$J$13,AD$13,$F25:$J25)>0,marzo!X26<>\"X\",marzo!X26<>\"L\",marzo!X26<>\"J\",marzo!X26<>\"V\",marzo!X26<>\"F\",marzo!X26<>\"\"),SUMIF($F$13:$J$13,AD$13,$F25:$J25),\"\")","v":""},{"$f":"IF(AND(LEN($D25)>0,SUMIF($F$13:$J$13,AE$13,$F25:$J25)>0,marzo!Y26<>\"X\",marzo!Y26<>\"L\",marzo!Y26<>\"J\",marzo!Y26<>\"V\",marzo!Y26<>\"F\",marzo!Y26<>\"\"),SUMIF($F$13:$J$13,AE$13,$F25:$J25),\"\")","v":""},{"$f":"IF(AND(LEN($D25)>0,SUMIF($F$13:$J$13,AF$13,$F25:$J25)>0,marzo!Z26<>\"X\",marzo!Z26<>\"L\",marzo!Z26<>\"J\",marzo!Z26<>\"V\",marzo!Z26<>\"F\",marzo!Z26<>\"\"),SUMIF($F$13:$J$13,AF$13,$F25:$J25),\"\")","v":""},{"$f":"IF(AND(LEN($D25)>0,SUMIF($F$13:$J$13,AG$13,$F25:$J25)>0,marzo!AA26<>\"X\",marzo!AA26<>\"L\",marzo!AA26<>\"J\",marzo!AA26<>\"V\",marzo!AA26<>\"F\",marzo!AA26<>\"\"),SUMIF($F$13:$J$13,AG$13,$F25:$J25),\"\")","v":""},{"$f":"IF(AND(LEN($D25)>0,SUMIF($F$13:$J$13,AH$13,$F25:$J25)>0,marzo!AB26<>\"X\",marzo!AB26<>\"L\",marzo!AB26<>\"J\",marzo!AB26<>\"V\",marzo!AB26<>\"F\",marzo!AB26<>\"\"),SUMIF($F$13:$J$13,AH$13,$F25:$J25),\"\")","v":""},{"$f":"IF(AND(LEN($D25)>0,SUMIF($F$13:$J$13,AI$13,$F25:$J25)>0,marzo!AC26<>\"X\",marzo!AC26<>\"L\",marzo!AC26<>\"J\",marzo!AC26<>\"V\",marzo!AC26<>\"F\",marzo!AC26<>\"\"),SUMIF($F$13:$J$13,AI$13,$F25:$J25),\"\")","v":""},{"$f":"IF(AND(LEN($D25)>0,SUMIF($F$13:$J$13,AJ$13,$F25:$J25)>0,marzo!AD26<>\"X\",marzo!AD26<>\"L\",marzo!AD26<>\"J\",marzo!AD26<>\"V\",marzo!AD26<>\"F\",marzo!AD26<>\"\"),SUMIF($F$13:$J$13,AJ$13,$F25:$J25),\"\")","v":""},{"$f":"IF(AND(LEN($D25)>0,SUMIF($F$13:$J$13,AK$13,$F25:$J25)>0,marzo!AE26<>\"X\",marzo!AE26<>\"L\",marzo!AE26<>\"J\",marzo!AE26<>\"V\",marzo!AE26<>\"F\",marzo!AE26<>\"\"),SUMIF($F$13:$J$13,AK$13,$F25:$J25),\"\")","v":""},{"$f":"IF(AND(LEN($D25)>0,SUMIF($F$13:$J$13,AL$13,$F25:$J25)>0,marzo!AF26<>\"X\",marzo!AF26<>\"L\",marzo!AF26<>\"J\",marzo!AF26<>\"V\",marzo!AF26<>\"F\",marzo!AF26<>\"\"),SUMIF($F$13:$J$13,AL$13,$F25:$J25),\"\")","v":""},{"$f":"IF(AND(LEN($D25)>0,SUMIF($F$13:$J$13,AM$13,$F25:$J25)>0,marzo!AG26<>\"X\",marzo!AG26<>\"L\",marzo!AG26<>\"J\",marzo!AG26<>\"V\",marzo!AG26<>\"F\",marzo!AG26<>\"\"),SUMIF($F$13:$J$13,AM$13,$F25:$J25),\"\")","v":""},{"$f":"IF(AND(LEN($D25)>0,SUMIF($F$13:$J$13,AN$13,$F25:$J25)>0,marzo!AH26<>\"X\",marzo!AH26<>\"L\",marzo!AH26<>\"J\",marzo!AH26<>\"V\",marzo!AH26<>\"F\",marzo!AH26<>\"\"),SUMIF($F$13:$J$13,AN$13,$F25:$J25),\"\")","v":""},{"$f":"IF(AND(LEN($D25)>0,SUMIF($F$13:$J$13,AO$13,$F25:$J25)>0,marzo!AI26<>\"X\",marzo!AI26<>\"L\",marzo!AI26<>\"J\",marzo!AI26<>\"V\",marzo!AI26<>\"F\",marzo!AI26<>\"\"),SUMIF($F$13:$J$13,AO$13,$F25:$J25),\"\")","v":""},{"$f":"IF(AND(LEN($D25)>0,SUMIF($F$13:$J$13,AP$13,$F25:$J25)>0,marzo!AJ26<>\"X\",marzo!AJ26<>\"L\",marzo!AJ26<>\"J\",marzo!AJ26<>\"V\",marzo!AJ26<>\"F\",marzo!AJ26<>\"\"),SUMIF($F$13:$J$13,AP$13,$F25:$J25),\"\")","v":""},{"$f":"IF(AND(LEN($D25)>0,SUMIF($F$13:$J$13,AQ$13,$F25:$J25)>0,marzo!AK26<>\"X\",marzo!AK26<>\"L\",marzo!AK26<>\"J\",marzo!AK26<>\"V\",marzo!AK26<>\"F\",marzo!AK26<>\"\"),SUMIF($F$13:$J$13,AQ$13,$F25:$J25),\"\")","v":""},{"$f":"IF(AND(LEN($D25)>0,SUMIF($F$13:$J$13,AR$13,$F25:$J25)>0,marzo!AL26<>\"X\",marzo!AL26<>\"L\",marzo!AL26<>\"J\",marzo!AL26<>\"V\",marzo!AL26<>\"F\",marzo!AL26<>\"\"),SUMIF($F$13:$J$13,AR$13,$F25:$J25),\"\")","v":""},{"$f":"IF(AND(LEN($D25)>0,SUMIF($F$13:$J$13,AS$13,$F25:$J25)>0,marzo!AN26<>\"X\",marzo!AN26<>\"L\",marzo!AN26<>\"J\",marzo!AN26<>\"V\",marzo!AN26<>\"F\",marzo!AN26<>\"\"),SUMIF($F$13:$J$13,AS$13,$F25:$J25),\"\")","v":""},"",null,null,null,{"$f":"IF(AND(LEN($D25)>0,SUMIF($F$13:$J$13,AX$13,$F25:$J25)>0,marzo!AV26<>\"X\",marzo!AV26<>\"L\",marzo!AV26<>\"J\",marzo!AV26<>\"F\"),SUMIF($F$13:$J$13,AX$13,$F25:$J25),\"\")","v":""},{"$f":"IF(AND(LEN($D25)>0,SUMIF($F$13:$J$13,AY$13,$F25:$J25)>0,marzo!AW26<>\"X\",marzo!AW26<>\"L\",marzo!AW26<>\"J\",marzo!AW26<>\"F\"),SUMIF($F$13:$J$13,AY$13,$F25:$J25),\"\")","v":""},{"$f":"IF(AND(LEN($D25)>0,SUMIF($F$13:$J$13,AZ$13,$F25:$J25)>0,marzo!AX26<>\"X\",marzo!AX26<>\"L\",marzo!AX26<>\"J\",marzo!AX26<>\"F\"),SUMIF($F$13:$J$13,AZ$13,$F25:$J25),\"\")","v":""},{"$f":"IF(AND(LEN($D25)>0,SUMIF($F$13:$J$13,BA$13,$F25:$J25)>0,marzo!AY26<>\"X\",marzo!AY26<>\"L\",marzo!AY26<>\"J\",marzo!AY26<>\"F\"),SUMIF($F$13:$J$13,BA$13,$F25:$J25),\"\")","v":""},{"$f":"IF(AND(LEN($D25)>0,SUMIF($F$13:$J$13,BB$13,$F25:$J25)>0,marzo!AZ26<>\"X\",marzo!AZ26<>\"L\",marzo!AZ26<>\"J\",marzo!AZ26<>\"F\"),SUMIF($F$13:$J$13,BB$13,$F25:$J25),\"\")","v":""},{"$f":"IF(AND(LEN($D25)>0,SUMIF($F$13:$J$13,BC$13,$F25:$J25)>0,marzo!BA26<>\"X\",marzo!BA26<>\"L\",marzo!BA26<>\"J\",marzo!BA26<>\"F\"),SUMIF($F$13:$J$13,BC$13,$F25:$J25),\"\")","v":""},{"$f":"IF(AND(LEN($D25)>0,SUMIF($F$13:$J$13,BD$13,$F25:$J25)>0,marzo!BB26<>\"X\",marzo!BB26<>\"L\",marzo!BB26<>\"J\",marzo!BB26<>\"F\"),SUMIF($F$13:$J$13,BD$13,$F25:$J25),\"\")","v":""},{"$f":"IF(AND(LEN($D25)>0,SUMIF($F$13:$J$13,BE$13,$F25:$J25)>0,marzo!BC26<>\"X\",marzo!BC26<>\"L\",marzo!BC26<>\"J\",marzo!BC26<>\"F\"),SUMIF($F$13:$J$13,BE$13,$F25:$J25),\"\")","v":""},{"$f":"IF(AND(LEN($D25)>0,SUMIF($F$13:$J$13,BF$13,$F25:$J25)>0,marzo!#REF!<>\"X\",marzo!#REF!<>\"L\",marzo!#REF!<>\"J\",marzo!#REF!<>\"F\"),SUMIF($F$13:$J$13,BF$13,$F25:$J25),\"\")","v":{"$error":"#REF!"}},{"$f":"IF(AND(LEN($D25)>0,SUMIF($F$13:$J$13,BG$13,$F25:$J25)>0,marzo!#REF!<>\"X\",marzo!#REF!<>\"L\",marzo!#REF!<>\"J\",marzo!#REF!<>\"F\"),SUMIF($F$13:$J$13,BG$13,$F25:$J25),\"\")","v":{"$error":"#REF!"}},{"$f":"IF(AND(LEN($D25)>0,SUMIF($F$13:$J$13,BH$13,$F25:$J25)>0,marzo!BF26<>\"X\",marzo!BF26<>\"L\",marzo!BF26<>\"J\",marzo!BF26<>\"F\"),SUMIF($F$13:$J$13,BH$13,$F25:$J25),\"\")","v":""},{"$f":"IF(AND(LEN($D25)>0,SUMIF($F$13:$J$13,BI$13,$F25:$J25)>0,marzo!BG26<>\"X\",marzo!BG26<>\"L\",marzo!BG26<>\"J\",marzo!BG26<>\"F\"),SUMIF($F$13:$J$13,BI$13,$F25:$J25),\"\")","v":""},{"$f":"IF(AND(LEN($D25)>0,SUMIF($F$13:$J$13,BJ$13,$F25:$J25)>0,marzo!BH26<>\"X\",marzo!BH26<>\"L\",marzo!BH26<>\"J\",marzo!BH26<>\"F\"),SUMIF($F$13:$J$13,BJ$13,$F25:$J25),\"\")","v":""},{"$f":"IF(AND(LEN($D25)>0,SUMIF($F$13:$J$13,BK$13,$F25:$J25)>0,marzo!BI26<>\"X\",marzo!BI26<>\"L\",marzo!BI26<>\"J\",marzo!BI26<>\"F\"),SUMIF($F$13:$J$13,BK$13,$F25:$J25),\"\")","v":""},{"$f":"IF(AND(LEN($D25)>0,SUMIF($F$13:$J$13,BL$13,$F25:$J25)>0,marzo!BJ26<>\"X\",marzo!BJ26<>\"L\",marzo!BJ26<>\"J\",marzo!BJ26<>\"F\"),SUMIF($F$13:$J$13,BL$13,$F25:$J25),\"\")","v":""},{"$f":"IF(AND(LEN($D25)>0,SUMIF($F$13:$J$13,BM$13,$F25:$J25)>0,marzo!BK26<>\"X\",marzo!BK26<>\"L\",marzo!BK26<>\"J\",marzo!BK26<>\"F\"),SUMIF($F$13:$J$13,BM$13,$F25:$J25),\"\")","v":""},{"$f":"IF(AND(LEN($D25)>0,SUMIF($F$13:$J$13,BN$13,$F25:$J25)>0,marzo!BL26<>\"X\",marzo!BL26<>\"L\",marzo!BL26<>\"J\",marzo!BL26<>\"F\"),SUMIF($F$13:$J$13,BN$13,$F25:$J25),\"\")","v":""},{"$f":"IF(AND(LEN($D25)>0,SUMIF($F$13:$J$13,BO$13,$F25:$J25)>0,marzo!BM26<>\"X\",marzo!BM26<>\"L\",marzo!BM26<>\"J\",marzo!BM26<>\"F\"),SUMIF($F$13:$J$13,BO$13,$F25:$J25),\"\")","v":""},{"$f":"IF(AND(LEN($D25)>0,SUMIF($F$13:$J$13,BP$13,$F25:$J25)>0,marzo!BN26<>\"X\",marzo!BN26<>\"L\",marzo!BN26<>\"J\",marzo!BN26<>\"F\"),SUMIF($F$13:$J$13,BP$13,$F25:$J25),\"\")","v":""},{"$f":"IF(AND(LEN($D25)>0,SUMIF($F$13:$J$13,BQ$13,$F25:$J25)>0,marzo!BO26<>\"X\",marzo!BO26<>\"L\",marzo!BO26<>\"J\",marzo!BO26<>\"F\"),SUMIF($F$13:$J$13,BQ$13,$F25:$J25),\"\")","v":""},{"$f":"IF(AND(LEN($D25)>0,SUMIF($F$13:$J$13,BR$13,$F25:$J25)>0,marzo!BP26<>\"X\",marzo!BP26<>\"L\",marzo!BP26<>\"J\",marzo!BP26<>\"F\"),SUMIF($F$13:$J$13,BR$13,$F25:$J25),\"\")","v":""},{"$f":"IF(AND(LEN($D25)>0,SUMIF($F$13:$J$13,BS$13,$F25:$J25)>0,marzo!BQ26<>\"X\",marzo!BQ26<>\"L\",marzo!BQ26<>\"J\",marzo!BQ26<>\"F\"),SUMIF($F$13:$J$13,BS$13,$F25:$J25),\"\")","v":""},{"$f":"IF(AND(LEN($D25)>0,SUMIF($F$13:$J$13,BT$13,$F25:$J25)>0,marzo!BR26<>\"X\",marzo!BR26<>\"L\",marzo!BR26<>\"J\",marzo!BR26<>\"F\"),SUMIF($F$13:$J$13,BT$13,$F25:$J25),\"\")","v":""},{"$f":"IF(AND(LEN($D25)>0,SUMIF($F$13:$J$13,BU$13,$F25:$J25)>0,marzo!BS26<>\"X\",marzo!BS26<>\"L\",marzo!BS26<>\"J\",marzo!BS26<>\"F\"),SUMIF($F$13:$J$13,BU$13,$F25:$J25),\"\")","v":""},{"$f":"IF(AND(LEN($D25)>0,SUMIF($F$13:$J$13,BV$13,$F25:$J25)>0,marzo!BT26<>\"X\",marzo!BT26<>\"L\",marzo!BT26<>\"J\",marzo!BT26<>\"F\"),SUMIF($F$13:$J$13,BV$13,$F25:$J25),\"\")","v":""},{"$f":"IF(AND(LEN($D25)>0,SUMIF($F$13:$J$13,BW$13,$F25:$J25)>0,marzo!BU26<>\"X\",marzo!BU26<>\"L\",marzo!BU26<>\"J\",marzo!BU26<>\"F\"),SUMIF($F$13:$J$13,BW$13,$F25:$J25),\"\")","v":""},{"$f":"IF(AND(LEN($D25)>0,SUMIF($F$13:$J$13,BX$13,$F25:$J25)>0,marzo!BV26<>\"X\",marzo!BV26<>\"L\",marzo!BV26<>\"J\",marzo!BV26<>\"F\"),SUMIF($F$13:$J$13,BX$13,$F25:$J25),\"\")","v":""},{"$f":"IF(AND(LEN($D25)>0,SUMIF($F$13:$J$13,BY$13,$F25:$J25)>0,marzo!BW26<>\"X\",marzo!BW26<>\"L\",marzo!BW26<>\"J\",marzo!BW26<>\"F\"),SUMIF($F$13:$J$13,BY$13,$F25:$J25),\"\")","v":""},{"$f":"IF(AND(LEN($D25)>0,SUMIF($F$13:$J$13,BZ$13,$F25:$J25)>0,marzo!BX26<>\"X\",marzo!BX26<>\"L\",marzo!BX26<>\"J\",marzo!BX26<>\"F\"),SUMIF($F$13:$J$13,BZ$13,$F25:$J25),\"\")","v":""},{"$f":"IF(AND(LEN($D25)>0,SUMIF($F$13:$J$13,CA$13,$F25:$J25)>0,marzo!BY26<>\"X\",marzo!BY26<>\"L\",marzo!BY26<>\"J\",marzo!BY26<>\"F\"),SUMIF($F$13:$J$13,CA$13,$F25:$J25),\"\")","v":""},{"$f":"IF(AND(LEN($D25)>0,SUMIF($F$13:$J$13,CB$13,$F25:$J25)>0,marzo!BZ26<>\"X\",marzo!BZ26<>\"L\",marzo!BZ26<>\"J\",marzo!BZ26<>\"F\"),SUMIF($F$13:$J$13,CB$13,$F25:$J25),\"\")","v":""},{"$error":"#REF!"}]
["",{"$f":"IF(LEN(C26)>0,VLOOKUP($O$4,DATA!$A$1:$S$1,2,FALSE),\"\")","v":""},"",{"$f":"IF(LEN(marzo!E27)>0,marzo!E27,\"\")","v":""},{"$f":"IF(LEN(D26)>0,marzo!F27,\"\")","v":""},null,null,null,null,null,"",null,null,{"$error":"#REF!"},{"$f":"IF(AND(LEN($D26)>0,SUMIF($F$13:$J$13,O$13,$F26:$J26)>0,marzo!I27<>\"X\",marzo!I27<>\"L\",marzo!I27<>\"J\",marzo!I27<>\"V\",marzo!I27<>\"F\",marzo!I27<>\"\"),SUMIF($F$13:$J$13,O$13,$F26:$J26),\"\")","v":""},{"$f":"IF(AND(LEN($D26)>0,SUMIF($F$13:$J$13,P$13,$F26:$J26)>0,marzo!J27<>\"X\",marzo!J27<>\"L\",marzo!J27<>\"J\",marzo!J27<>\"V\",marzo!J27<>\"F\",marzo!J27<>\"\"),SUMIF($F$13:$J$13,P$13,$F26:$J26),\"\")","v":""},{"$f":"IF(AND(LEN($D26)>0,SUMIF($F$13:$J$13,Q$13,$F26:$J26)>0,marzo!K27<>\"X\",marzo!K27<>\"L\",marzo!K27<>\"J\",marzo!K27<>\"V\",marzo!K27<>\"F\",marzo!K27<>\"\"),SUMIF($F$13:$J$13,Q$13,$F26:$J26),\"\")","v":""},{"$f":"IF(AND(LEN($D26)>0,SUMIF($F$13:$J$13,R$13,$F26:$J26)>0,marzo!L27<>\"X\",marzo!L27<>\"L\",marzo!L27<>\"J\",marzo!L27<>\"V\",marzo!L27<>\"F\",marzo!L27<>\"\"),SUMIF($F$13:$J$13,R$13,$F26:$J26),\"\")","v":""},{"$f":"IF(AND(LEN($D26)>0,SUMIF($F$13:$J$13,S$13,$F26:$J26)>0,marzo!M27<>\"X\",marzo!M27<>\"L\",marzo!M27<>\"J\",marzo!M27<>\"V\",marzo!M27<>\"F\",marzo!M27<>\"\"),SUMIF($F$13:$J$13,S$13,$F26:$J26),\"\")","v":""},{"$f":"IF(AND(LEN($D26)>0,SUMIF($F$13:$J$13,T$13,$F26:$J26)>0,marzo!N27<>\"X\",marzo!N27<>\"L\",marzo!N27<>\"J\",marzo!N27<>\"V\",marzo!N27<>\"F\",marzo!N27<>\"\"),SUMIF($F$13:$J$13,T$13,$F26:$J26),\"\")","v":""},{"$f":"IF(AND(LEN($D26)>0,SUMIF($F$13:$J$13,U$13,$F26:$J26)>0,marzo!O27<>\"X\",marzo!O27<>\"L\",marzo!O27<>\"J\",marzo!O27<>\"V\",marzo!O27<>\"F\",marzo!O27<>\"\"),SUMIF($F$13:$J$13,U$13,$F26:$J26),\"\")","v":""},{"$f":"IF(AND(LEN($D26)>0,SUMIF($F$13:$J$13,V$13,$F26:$J26)>0,marzo!P27<>\"X\",marzo!P27<>\"L\",marzo!P27<>\"J\",marzo!P27<>\"V\",marzo!P27<>\"F\",marzo!P27<>\"\"),SUMIF($F$13:$J$13,V$13,$F26:$J26),\"\")","v":""},{"$f":"IF(AND(LEN($D26)>0,SUMIF($F$13:$J$13,W$13,$F26:$J26)>0,marzo!Q27<>\"X\",marzo!Q27<>\"L\",marzo!Q27<>\"J\",marzo!Q27<>\"V\",marzo!Q27<>\"F\",marzo!Q27<>\"\"),SUMIF($F$13:$J$13,W$13,$F26:$J26),\"\")","v":""},{"$f":"IF(AND(LEN($D26)>0,SUMIF($F$13:$J$13,X$13,$F26:$J26)>0,marzo!R27<>\"X\",marzo!R27<>\"L\",marzo!R27<>\"J\",marzo!R27<>\"V\",marzo!R27<>\"F\",marzo!R27<>\"\"),SUMIF($F$13:$J$13,X$13,$F26:$J26),\"\")","v":""},{"$f":"IF(AND(LEN($D26)>0,SUMIF($F$13:$J$13,Y$13,$F26:$J26)>0,marzo!S27<>\"X\",marzo!S27<>\"L\",marzo!S27<>\"J\",marzo!S27<>\"V\",marzo!S27<>\"F\",marzo!S27<>\"\"),SUMIF($F$13:$J$13,Y$13,$F26:$J26),\"\")","v":""},{"$f":"IF(AND(LEN($D26)>0,SUMIF($F$13:$J$13,Z$13,$F26:$J26)>0,marzo!T27<>\"X\",marzo!T27<>\"L\",marzo!T27<>\"J\",marzo!T27<>\"V\",marzo!T27<>\"F\",marzo!T27<>\"\"),SUMIF($F$13:$J$13,Z$13,$F26:$J26),\"\")","v":""},{"$f":"IF(AND(LEN($D26)>0,SUMIF($F$13:$J$13,AA$13,$F26:$J26)>0,marzo!U27<>\"X\",marzo!U27<>\"L\",marzo!U27<>\"J\",marzo!U27<>\"V\",marzo!U27<>\"F\",marzo!U27<>\"\"),SUMIF($F$13:$J$13,AA$13,$F26:$J26),\"\")","v":""},{"$f":"IF(AND(LEN($D26)>0,SUMIF($F$13:$J$13,AB$13,$F26:$J26)>0,marzo!V27<>\"X\",marzo!V27<>\"L\",marzo!V27<>\"J\",marzo!V27<>\"V\",marzo!V27<>\"F\",marzo!V27<>\"\"),SUMIF($F$13:$J$13,AB$13,$F26:$J26),\"\")","v":""},{"$f":"IF(AND(LEN($D26)>0,SUMIF($F$13:$J$13,AC$13,$F26:$J26)>0,marzo!W27<>\"X\",marzo!W27<>\"L\",marzo!W27<>\"J\",marzo!W27<>\"V\",marzo!W27<>\"F\",marzo!W27<>\"\"),SUMIF($F$13:$J$13,AC$13,$F26:$J26),\"\")","v":""},{"$f":"IF(AND(LEN($D26)>0,SUMIF($F$13:$J$13,AD$13,$F26:$J26)>0,marzo!X27<>\"X\",marzo!X27<>\"L\",marzo!X27<>\"J\",marzo!X27<>\"V\",marzo!X27<>\"F\",marzo!X27<>\"\"),SUMIF($F$13:$J$13,AD$13,$F26:$J26),\"\")","v":""},{"$f":"IF(AND(LEN($D26)>0,SUMIF($F$13:$J$13,AE$13,$F26:$J26)>0,marzo!Y27<>\"X\",marzo!Y27<>\"L\",marzo!Y27<>\"J\",marzo!Y27<>\"V\",marzo!Y27<>\"F\",marzo!Y27<>\"\"),SUMIF($F$13:$J$13,AE$13,$F26:$J26),\"\")","v":""},{"$f":"IF(AND(LEN($D26)>0,SUMIF($F$13:$J$13,AF$13,$F26:$J26)>0,marzo!Z27<>\"X\",marzo!Z27<>\"L\",marzo!Z27<>\"J\",marzo!Z27<>\"V\",marzo!Z27<>\"F\",marzo!Z27<>\"\"),SUMIF($F$13:$J$13,AF$13,$F26:$J26),\"\")","v":""},{"$f":"IF(AND(LEN($D26)>0,SUMIF($F$13:$J$13,AG$13,$F26:$J26)>0,marzo!AA27<>\"X\",marzo!AA27<>\"L\",marzo!AA27<>\"J\",marzo!AA27<>\"V\",marzo!AA27<>\"F\",marzo!AA27<>\"\"),SUMIF($F$13:$J$13,AG$13,$F26:$J26),\"\")","v":""},{"$f":"IF(AND(LEN($D26)>0,SUMIF($F$13:$J$13,AH$13,$F26:$J26)>0,marzo!AB27<>\"X\",marzo!AB27<>\"L\",marzo!AB27<>\"J\",marzo!AB27<>\"V\",marzo!AB27<>\"F\",marzo!AB27<>\"\"),SUMIF($F$13:$J$13,AH$13,$F26:$J26),\"\")","v":""},{"$f":"IF(AND(LEN($D26)>0,SUMIF($F$13:$J$13,AI$13,$F26:$J26)>0,marzo!AC27<>\"X\",marzo!AC27<>\"L\",marzo!AC27<>\"J\",marzo!AC27<>\"V\",marzo!AC27<>\"F\",marzo!AC27<>\"\"),SUMIF($F$13:$J$13,AI$13,$F26:$J26),\"\")","v":""},{"$f":"IF(AND(LEN($D26)>0,SUMIF($F$13:$J$13,AJ$13,$F26:$J26)>0,marzo!AD27<>\"X\",marzo!AD27<>\"L\",marzo!AD27<>\"J\",marzo!AD27<>\"V\",marzo!AD27<>\"F\",marzo!AD27<>\"\"),SUMIF($F$13:$J$13,AJ$13,$F26:$J26),\"\")","v":""},{"$f":"IF(AND(LEN($D26)>0,SUMIF($F$13:$J$13,AK$13,$F26:$J26)>0,marzo!AE27<>\"X\",marzo!AE27<>\"L\",marzo!AE27<>\"J\",marzo!AE27<>\"V\",marzo!AE27<>\"F\",marzo!AE27<>\"\"),SUMIF($F$13:$J$13,AK$13,$F26:$J26),\"\")","v":""},{"$f":"IF(AND(LEN($D26)>0,SUMIF($F$13:$J$13,AL$13,$F26:$J26)>0,marzo!AF27<>\"X\",marzo!AF27<>\"L\",marzo!AF27<>\"J\",marzo!AF27<>\"V\",marzo!AF27<>\"F\",marzo!AF27<>\"\"),SUMIF($F$13:$J$13,AL$13,$F26:$J26),\"\")","v":""},{"$f":"IF(AND(LEN($D26)>0,SUMIF($F$13:$J$13,AM$13,$F26:$J26)>0,marzo!AG27<>\"X\",marzo!AG27<>\"L\",marzo!AG27<>\"J\",marzo!AG27<>\"V\",marzo!AG27<>\"F\",marzo!AG27<>\"\"),SUMIF($F$13:$J$13,AM$13,$F26:$J26),\"\")","v":""},{"$f":"IF(AND(LEN($D26)>0,SUMIF($F$13:$J$13,AN$13,$F26:$J26)>0,marzo!AH27<>\"X\",marzo!AH27<>\"L\",marzo!AH27<>\"J\",marzo!AH27<>\"V\",marzo!AH27<>\"F\",marzo!AH27<>\"\"),SUMIF($F$13:$J$13,AN$13,$F26:$J26),\"\")","v":""},{"$f":"IF(AND(LEN($D26)>0,SUMIF($F$13:$J$13,AO$13,$F26:$J26)>0,marzo!AI27<>\"X\",marzo!AI27<>\"L\",marzo!AI27<>\"J\",marzo!AI27<>\"V\",marzo!AI27<>\"F\",marzo!AI27<>\"\"),SUMIF($F$13:$J$13,AO$13,$F26:$J26),\"\")","v":""},{"$f":"IF(AND(LEN($D26)>0,SUMIF($F$13:$J$13,AP$13,$F26:$J26)>0,marzo!AJ27<>\"X\",marzo!AJ27<>\"L\",marzo!AJ27<>\"J\",marzo!AJ27<>\"V\",marzo!AJ27<>\"F\",marzo!AJ27<>\"\"),SUMIF($F$13:$J$13,AP$13,$F26:$J26),\"\")","v":""},{"$f":"IF(AND(LEN($D26)>0,SUMIF($F$13:$J$13,AQ$13,$F26:$J26)>0,marzo!AK27<>\"X\",marzo!AK27<>\"L\",marzo!AK27<>\"J\",marzo!AK27<>\"V\",marzo!AK27<>\"F\",marzo!AK27<>\"\"),SUMIF($F$13:$J$13,AQ$13,$F26:$J26),\"\")","v":""},{"$f":"IF(AND(LEN($D26)>0,SUMIF($F$13:$J$13,AR$13,$F26:$J26)>0,marzo!AL27<>\"X\",marzo!AL27<>\"L\",marzo!AL27<>\"J\",marzo!AL27<>\"V\",marzo!AL27<>\"F\",marzo!AL27<>\"\"),SUMIF($F$13:$J$13,AR$13,$F26:$J26),\"\")","v":""},{"$f":"IF(AND(LEN($D26)>0,SUMIF($F$13:$J$13,AS$13,$F26:$J26)>0,marzo!AN27<>\"X\",marzo!AN27<>\"L\",marzo!AN27<>\"J\",marzo!AN27<>\"V\",marzo!AN27<>\"F\",marzo!AN27<>\"\"),SUMIF($F$13:$J$13,AS$13,$F26:$J26),\"\")","v":""},"",null,null,null,{"$f":"IF(AND(LEN($D26)>0,SUMIF($F$13:$J$13,AX$13,$F26:$J26)>0,marzo!AV27<>\"X\",marzo!AV27<>\"L\",marzo!AV27<>\"J\",marzo!AV27<>\"F\"),SUMIF($F$13:$J$13,AX$13,$F26:$J26),\"\")","v":""},{"$f":"IF(AND(LEN($D26)>0,SUMIF($F$13:$J$13,AY$13,$F26:$J26)>0,marzo!AW27<>\"X\",marzo!AW27<>\"L\",marzo!AW27<>\"J\",marzo!AW27<>\"F\"),SUMIF($F$13:$J$13,AY$13,$F26:$J26),\"\")","v":""},{"$f":"IF(AND(LEN($D26)>0,SUMIF($F$13:$J$13,AZ$13,$F26:$J26)>0,marzo!AX27<>\"X\",marzo!AX27<>\"L\",marzo!AX27<>\"J\",marzo!AX27<>\"F\"),SUMIF($F$13:$J$13,AZ$13,$F26:$J26),\"\")","v":""},{"$f":"IF(AND(LEN($D26)>0,SUMIF($F$13:$J$13,BA$13,$F26:$J26)>0,marzo!AY27<>\"X\",marzo!AY27<>\"L\",marzo!AY27<>\"J\",marzo!AY27<>\"F\"),SUMIF($F$13:$J$13,BA$13,$F26:$J26),\"\")","v":""},{"$f":"IF(AND(LEN($D26)>0,SUMIF($F$13:$J$13,BB$13,$F26:$J26)>0,marzo!AZ27<>\"X\",marzo!AZ27<>\"L\",marzo!AZ27<>\"J\",marzo!AZ27<>\"F\"),SUMIF($F$13:$J$13,BB$13,$F26:$J26),\"\")","v":""},{"$f":"IF(AND(LEN($D26)>0,SUMIF($F$13:$J$13,BC$13,$F26:$J26)>0,marzo!BA27<>\"X\",marzo!BA27<>\"L\",marzo!BA27<>\"J\",marzo!BA27<>\"F\"),SUMIF($F$13:$J$13,BC$13,$F26:$J26),\"\")","v":""},{"$f":"IF(AND(LEN($D26)>0,SUMIF($F$13:$J$13,BD$13,$F26:$J26)>0,marzo!BB27<>\"X\",marzo!BB27<>\"L\",marzo!BB27<>\"J\",marzo!BB27<>\"F\"),SUMIF($F$13:$J$13,BD$13,$F26:$J26),\"\")","v":""},{"$f":"IF(AND(LEN($D26)>0,SUMIF($F$13:$J$13,BE$13,$F26:$J26)>0,marzo!BC27<>\"X\",marzo!BC27<>\"L\",marzo!BC27<>\"J\",marzo!BC27<>\"F\"),SUMIF($F$13:$J$13,BE$13,$F26:$J26),\"\")","v":""},{"$f":"IF(AND(LEN($D26)>0,SUMIF($F$13:$J$13,BF$13,$F26:$J26)>0,marzo!#REF!<>\"X\",marzo!#REF!<>\"L\",marzo!#REF!<>\"J\",marzo!#REF!<>\"F\"),SUMIF($F$13:$J$13,BF$13,$F26:$J26),\"\")","v":{"$error":"#REF!"}},{"$f":"IF(AND(LEN($D26)>0,SUMIF($F$13:$J$13,BG$13,$F26:$J26)>0,marzo!#REF!<>\"X\",marzo!#REF!<>\"L\",marzo!#REF!<>\"J\",marzo!#REF!<>\"F\"),SUMIF($F$13:$J$13,BG$13,$F26:$J26),\"\")","v":{"$error":"#REF!"}},{"$f":"IF(AND(LEN($D26)>0,SUMIF($F$13:$J$13,BH$13,$F26:$J26)>0,marzo!BF27<>\"X\",marzo!BF27<>\"L\",marzo!BF27<>\"J\",marzo!BF27<>\"F\"),SUMIF($F$13:$J$13,BH$13,$F26:$J26),\"\")","v":""},{"$f":"IF(AND(LEN($D26)>0,SUMIF($F$13:$J$13,BI$13,$F26:$J26)>0,marzo!BG27<>\"X\",marzo!BG27<>\"L\",marzo!BG27<>\"J\",marzo!BG27<>\"F\"),SUMIF($F$13:$J$13,BI$13,$F26:$J26),\"\")","v":""},{"$f":"IF(AND(LEN($D26)>0,SUMIF($F$13:$J$13,BJ$13,$F26:$J26)>0,marzo!BH27<>\"X\",marzo!BH27<>\"L\",marzo!BH27<>\"J\",marzo!BH27<>\"F\"),SUMIF($F$13:$J$13,BJ$13,$F26:$J26),\"\")","v":""},{"$f":"IF(AND(LEN($D26)>0,SUMIF($F$13:$J$13,BK$13,$F26:$J26)>0,marzo!BI27<>\"X\",marzo!BI27<>\"L\",marzo!BI27<>\"J\",marzo!BI27<>\"F\"),SUMIF($F$13:$J$13,BK$13,$F26:$J26),\"\")","v":""},{"$f":"IF(AND(LEN($D26)>0,SUMIF($F$13:$J$13,BL$13,$F26:$J26)>0,marzo!BJ27<>\"X\",marzo!BJ27<>\"L\",marzo!BJ27<>\"J\",marzo!BJ27<>\"F\"),SUMIF($F$13:$J$13,BL$13,$F26:$J26),\"\")","v":""},{"$f":"IF(AND(LEN($D26)>0,SUMIF($F$13:$J$13,BM$13,$F26:$J26)>0,marzo!BK27<>\"X\",marzo!BK27<>\"L\",marzo!BK27<>\"J\",marzo!BK27<>\"F\"),SUMIF($F$13:$J$13,BM$13,$F26:$J26),\"\")","v":""},{"$f":"IF(AND(LEN($D26)>0,SUMIF($F$13:$J$13,BN$13,$F26:$J26)>0,marzo!BL27<>\"X\",marzo!BL27<>\"L\",marzo!BL27<>\"J\",marzo!BL27<>\"F\"),SUMIF($F$13:$J$13,BN$13,$F26:$J26),\"\")","v":""},{"$f":"IF(AND(LEN($D26)>0,SUMIF($F$13:$J$13,BO$13,$F26:$J26)>0,marzo!BM27<>\"X\",marzo!BM27<>\"L\",marzo!BM27<>\"J\",marzo!BM27<>\"F\"),SUMIF($F$13:$J$13,BO$13,$F26:$J26),\"\")","v":""},{"$f":"IF(AND(LEN($D26)>0,SUMIF($F$13:$J$13,BP$13,$F26:$J26)>0,marzo!BN27<>\"X\",marzo!BN27<>\"L\",marzo!BN27<>\"J\",marzo!BN27<>\"F\"),SUMIF($F$13:$J$13,BP$13,$F26:$J26),\"\")","v":""},{"$f":"IF(AND(LEN($D26)>0,SUMIF($F$13:$J$13,BQ$13,$F26:$J26)>0,marzo!BO27<>\"X\",marzo!BO27<>\"L\",marzo!BO27<>\"J\",marzo!BO27<>\"F\"),SUMIF($F$13:$J$13,BQ$13,$F26:$J26),\"\")","v":""},{"$f":"IF(AND(LEN($D26)>0,SUMIF($F$13:$J$13,BR$13,$F26:$J26)>0,marzo!BP27<>\"X\",marzo!BP27<>\"L\",marzo!BP27<>\"J\",marzo!BP27<>\"F\"),SUMIF($F$13:$J$13,BR$13,$F26:$J26),\"\")","v":""},{"$f":"IF(AND(LEN($D26)>0,SUMIF($F$13:$J$13,BS$13,$F26:$J26)>0,marzo!BQ27<>\"X\",marzo!BQ27<>\"L\",marzo!BQ27<>\"J\",marzo!BQ27<>\"F\"),SUMIF($F$13:$J$13,BS$13,$F26:$J26),\"\")","v":""},{"$f":"IF(AND(LEN($D26)>0,SUMIF($F$13:$J$13,BT$13,$F26:$J26)>0,marzo!BR27<>\"X\",marzo!BR27<>\"L\",marzo!BR27<>\"J\",marzo!BR27<>\"F\"),SUMIF($F$13:$J$13,BT$13,$F26:$J26),\"\")","v":""},{"$f":"IF(AND(LEN($D26)>0,SUMIF($F$13:$J$13,BU$13,$F26:$J26)>0,marzo!BS27<>\"X\",marzo!BS27<>\"L\",marzo!BS27<>\"J\",marzo!BS27<>\"F\"),SUMIF($F$13:$J$13,BU$13,$F26:$J26),\"\")","v":""},{"$f":"IF(AND(LEN($D26)>0,SUMIF($F$13:$J$13,BV$13,$F26:$J26)>0,marzo!BT27<>\"X\",marzo!BT27<>\"L\",marzo!BT27<>\"J\",marzo!BT27<>\"F\"),SUMIF($F$13:$J$13,BV$13,$F26:$J26),\"\")","v":""},{"$f":"IF(AND(LEN($D26)>0,SUMIF($F$13:$J$13,BW$13,$F26:$J26)>0,marzo!BU27<>\"X\",marzo!BU27<>\"L\",marzo!BU27<>\"J\",marzo!BU27<>\"F\"),SUMIF($F$13:$J$13,BW$13,$F26:$J26),\"\")","v":""},{"$f":"IF(AND(LEN($D26)>0,SUMIF($F$13:$J$13,BX$13,$F26:$J26)>0,marzo!BV27<>\"X\",marzo!BV27<>\"L\",marzo!BV27<>\"J\",marzo!BV27<>\"F\"),SUMIF($F$13:$J$13,BX$13,$F26:$J26),\"\")","v":""},{"$f":"IF(AND(LEN($D26)>0,SUMIF($F$13:$J$13,BY$13,$F26:$J26)>0,marzo!BW27<>\"X\",marzo!BW27<>\"L\",marzo!BW27<>\"J\",marzo!BW27<>\"F\"),SUMIF($F$13:$J$13,BY$13,$F26:$J26),\"\")","v":""},{"$f":"IF(AND(LEN($D26)>0,SUMIF($F$13:$J$13,BZ$13,$F26:$J26)>0,marzo!BX27<>\"X\",marzo!BX27<>\"L\",marzo!BX27<>\"J\",marzo!BX27<>\"F\"),SUMIF($F$13:$J$13,BZ$13,$F26:$J26),\"\")","v":""},{"$f":"IF(AND(LEN($D26)>0,SUMIF($F$13:$J$13,CA$13,$F26:$J26)>0,marzo!BY27<>\"X\",marzo!BY27<>\"L\",marzo!BY27<>\"J\",marzo!BY27<>\"F\"),SUMIF($F$13:$J$13,CA$13,$F26:$J26),\"\")","v":""},{"$f":"IF(AND(LEN($D26)>0,SUMIF($F$13:$J$13,CB$13,$F26:$J26)>0,marzo!BZ27<>\"X\",marzo!BZ27<>\"L\",marzo!BZ27<>\"J\",marzo!BZ27<>\"F\"),SUMIF($F$13:$J$13,CB$13,$F26:$J26),\"\")","v":""},{"$error":"#REF!"}]
["",{"$f":"IF(LEN(C27)>0,VLOOKUP($O$4,DATA!$A$1:$S$1,2,FALSE),\"\")","v":""},"",{"$f":"IF(LEN(marzo!E28)>0,marzo!E28,\"\")","v":""},{"$f":"IF(LEN(D27)>0,marzo!F28,\"\")","v":""},null,null,null,null,null,"",null,null,{"$error":"#REF!"},{"$f":"IF(AND(LEN($D27)>0,SUMIF($F$13:$J$13,O$13,$F27:$J27)>0,marzo!I28<>\"X\",marzo!I28<>\"L\",marzo!I28<>\"J\",marzo!I28<>\"V\",marzo!I28<>\"F\",marzo!I28<>\"\"),SUMIF($F$13:$J$13,O$13,$F27:$J27),\"\")","v":""},{"$f":"IF(AND(LEN($D27)>0,SUMIF($F$13:$J$13,P$13,$F27:$J27)>0,marzo!J28<>\"X\",marzo!J28<>\"L\",marzo!J28<>\"J\",marzo!J28<>\"V\",marzo!J28<>\"F\",marzo!J28<>\"\"),SUMIF($F$13:$J$13,P$13,$F27:$J27),\"\")","v":""},{"$f":"IF(AND(LEN($D27)>0,SUMIF($F$13:$J$13,Q$13,$F27:$J27)>0,marzo!K28<>\"X\",marzo!K28<>\"L\",marzo!K28<>\"J\",marzo!K28<>\"V\",marzo!K28<>\"F\",marzo!K28<>\"\"),SUMIF($F$13:$J$13,Q$13,$F27:$J27),\"\")","v":""},{"$f":"IF(AND(LEN($D27)>0,SUMIF($F$13:$J$13,R$13,$F27:$J27)>0,marzo!L28<>\"X\",marzo!L28<>\"L\",marzo!L28<>\"J\",marzo!L28<>\"V\",marzo!L28<>\"F\",marzo!L28<>\"\"),SUMIF($F$13:$J$13,R$13,$F27:$J27),\"\")","v":""},{"$f":"IF(AND(LEN($D27)>0,SUMIF($F$13:$J$13,S$13,$F27:$J27)>0,marzo!M28<>\"X\",marzo!M28<>\"L\",marzo!M28<>\"J\",marzo!M28<>\"V\",marzo!M28<>\"F\",marzo!M28<>\"\"),SUMIF($F$13:$J$13,S$13,$F27:$J27),\"\")","v":""},{"$f":"IF(AND(LEN($D27)>0,SUMIF($F$13:$J$13,T$13,$F27:$J27)>0,marzo!N28<>\"X\",marzo!N28<>\"L\",marzo!N28<>\"J\",marzo!N28<>\"V\",marzo!N28<>\"F\",marzo!N28<>\"\"),SUMIF($F$13:$J$13,T$13,$F27:$J27),\"\")","v":""},{"$f":"IF(AND(LEN($D27)>0,SUMIF($F$13:$J$13,U$13,$F27:$J27)>0,marzo!O28<>\"X\",marzo!O28<>\"L\",marzo!O28<>\"J\",marzo!O28<>\"V\",marzo!O28<>\"F\",marzo!O28<>\"\"),SUMIF($F$13:$J$13,U$13,$F27:$J27),\"\")","v":""},{"$f":"IF(AND(LEN($D27)>0,SUMIF($F$13:$J$13,V$13,$F27:$J27)>0,marzo!P28<>\"X\",marzo!P28<>\"L\",marzo!P28<>\"J\",marzo!P28<>\"V\",marzo!P28<>\"F\",marzo!P28<>\"\"),SUMIF($F$13:$J$13,V$13,$F27:$J27),\"\")","v":""},{"$f":"IF(AND(LEN($D27)>0,SUMIF($F$13:$J$13,W$13,$F27:$J27)>0,marzo!Q28<>\"X\",marzo!Q28<>\"L\",marzo!Q28<>\"J\",marzo!Q28<>\"V\",marzo!Q28<>\"F\",marzo!Q28<>\"\"),SUMIF($F$13:$J$13,W$13,$F27:$J27),\"\")","v":""},{"$f":"IF(AND(LEN($D27)>0,SUMIF($F$13:$J$13,X$13,$F27:$J27)>0,marzo!R28<>\"X\",marzo!R28<>\"L\",marzo!R28<>\"J\",marzo!R28<>\"V\",marzo!R28<>\"F\",marzo!R28<>\"\"),SUMIF($F$13:$J$13,X$13,$F27:$J27),\"\")","v":""},{"$f":"IF(AND(LEN($D27)>0,SUMIF($F$13:$J$13,Y$13,$F27:$J27)>0,marzo!S28<>\"X\",marzo!S28<>\"L\",marzo!S28<>\"J\",marzo!S28<>\"V\",marzo!S28<>\"F\",marzo!S28<>\"\"),SUMIF($F$13:$J$13,Y$13,$F27:$J27),\"\")","v":""},{"$f":"IF(AND(LEN($D27)>0,SUMIF($F$13:$J$13,Z$13,$F27:$J27)>0,marzo!T28<>\"X\",marzo!T28<>\"L\",marzo!T28<>\"J\",marzo!T28<>\"V\",marzo!T28<>\"F\",marzo!T28<>\"\"),SUMIF($F$13:$J$13,Z$13,$F27:$J27),\"\")","v":""},{"$f":"IF(AND(LEN($D27)>0,SUMIF($F$13:$J$13,AA$13,$F27:$J27)>0,marzo!U28<>\"X\",marzo!U28<>\"L\",marzo!U28<>\"J\",marzo!U28<>\"V\",marzo!U28<>\"F\",marzo!U28<>\"\"),SUMIF($F$13:$J$13,AA$13,$F27:$J27),\"\")","v":""},{"$f":"IF(AND(LEN($D27)>0,SUMIF($F$13:$J$13,AB$13,$F27:$J27)>0,marzo!V28<>\"X\",marzo!V28<>\"L\",marzo!V28<>\"J\",marzo!V28<>\"V\",marzo!V28<>\"F\",marzo!V28<>\"\"),SUMIF($F$13:$J$13,AB$13,$F27:$J27),\"\")","v":""},{"$f":"IF(AND(LEN($D27)>0,SUMIF($F$13:$J$13,AC$13,$F27:$J27)>0,marzo!W28<>\"X\",marzo!W28<>\"L\",marzo!W28<>\"J\",marzo!W28<>\"V\",marzo!W28<>\"F\",marzo!W28<>\"\"),SUMIF($F$13:$J$13,AC$13,$F27:$J27),\"\")","v":""},{"$f":"IF(AND(LEN($D27)>0,SUMIF($F$13:$J$13,AD$13,$F27:$J27)>0,marzo!X28<>\"X\",marzo!X28<>\"L\",marzo!X28<>\"J\",marzo!X28<>\"V\",marzo!X28<>\"F\",marzo!X28<>\"\"),SUMIF($F$13:$J$13,AD$13,$F27:$J27),\"\")","v":""},{"$f":"IF(AND(LEN($D27)>0,SUMIF($F$13:$J$13,AE$13,$F27:$J27)>0,marzo!Y28<>\"X\",marzo!Y28<>\"L\",marzo!Y28<>\"J\",marzo!Y28<>\"V\",marzo!Y28<>\"F\",marzo!Y28<>\"\"),SUMIF($F$13:$J$13,AE$13,$F27:$J27),\"\")","v":""},{"$f":"IF(AND(LEN($D27)>0,SUMIF($F$13:$J$13,AF$13,$F27:$J27)>0,marzo!Z28<>\"X\",marzo!Z28<>\"L\",marzo!Z28<>\"J\",marzo!Z28<>\"V\",marzo!Z28<>\"F\",marzo!Z28<>\"\"),SUMIF($F$13:$J$13,AF$13,$F27:$J27),\"\")","v":""},{"$f":"IF(AND(LEN($D27)>0,SUMIF($F$13:$J$13,AG$13,$F27:$J27)>0,marzo!AA28<>\"X\",marzo!AA28<>\"L\",marzo!AA28<>\"J\",marzo!AA28<>\"V\",marzo!AA28<>\"F\",marzo!AA28<>\"\"),SUMIF($F$13:$J$13,AG$13,$F27:$J27),\"\")","v":""},{"$f":"IF(AND(LEN($D27)>0,SUMIF($F$13:$J$13,AH$13,$F27:$J27)>0,marzo!AB28<>\"X\",marzo!AB28<>\"L\",marzo!AB28<>\"J\",marzo!AB28<>\"V\",marzo!AB28<>\"F\",marzo!AB28<>\"\"),SUMIF($F$13:$J$13,AH$13,$F27:$J27),\"\")","v":""},{"$f":"IF(AND(LEN($D27)>0,SUMIF($F$13:$J$13,AI$13,$F27:$J27)>0,marzo!AC28<>\"X\",marzo!AC28<>\"L\",marzo!AC28<>\"J\",marzo!AC28<>\"V\",marzo!AC28<>\"F\",marzo!AC28<>\"\"),SUMIF($F$13:$J$13,AI$13,$F27:$J27),\"\")","v":""},{"$f":"IF(AND(LEN($D27)>0,SUMIF($F$13:$J$13,AJ$13,$F27:$J27)>0,marzo!AD28<>\"X\",marzo!AD28<>\"L\",marzo!AD28<>\"J\",marzo!AD28<>\"V\",marzo!AD28<>\"F\",marzo!AD28<>\"\"),SUMIF($F$13:$J$13,AJ$13,$F27:$J27),\"\")","v":""},{"$f":"IF(AND(LEN($D27)>0,SUMIF($F$13:$J$13,AK$13,$F27:$J27)>0,marzo!AE28<>\"X\",marzo!AE28<>\"L\",marzo!AE28<>\"J\",marzo!AE28<>\"V\",marzo!AE28<>\"F\",marzo!AE28<>\"\"),SUMIF($F$13:$J$13,AK$13,$F27:$J27),\"\")","v":""},{"$f":"IF(AND(LEN($D27)>0,SUMIF($F$13:$J$13,AL$13,$F27:$J27)>0,marzo!AF28<>\"X\",marzo!AF28<>\"L\",marzo!AF28<>\"J\",marzo!AF28<>\"V\",marzo!AF28<>\"F\",marzo!AF28<>\"\"),SUMIF($F$13:$J$13,AL$13,$F27:$J27),\"\")","v":""},{"$f":"IF(AND(LEN($D27)>0,SUMIF($F$13:$J$13,AM$13,$F27:$J27)>0,marzo!AG28<>\"X\",marzo!AG28<>\"L\",marzo!AG28<>\"J\",marzo!AG28<>\"V\",marzo!AG28<>\"F\",marzo!AG28<>\"\"),SUMIF($F$13:$J$13,AM$13,$F27:$J27),\"\")","v":""},{"$f":"IF(AND(LEN($D27)>0,SUMIF($F$13:$J$13,AN$13,$F27:$J27)>0,marzo!AH28<>\"X\",marzo!AH28<>\"L\",marzo!AH28<>\"J\",marzo!AH28<>\"V\",marzo!AH28<>\"F\",marzo!AH28<>\"\"),SUMIF($F$13:$J$13,AN$13,$F27:$J27),\"\")","v":""},{"$f":"IF(AND(LEN($D27)>0,SUMIF($F$13:$J$13,AO$13,$F27:$J27)>0,marzo!AI28<>\"X\",marzo!AI28<>\"L\",marzo!AI28<>\"J\",marzo!AI28<>\"V\",marzo!AI28<>\"F\",marzo!AI28<>\"\"),SUMIF($F$13:$J$13,AO$13,$F27:$J27),\"\")","v":""},{"$f":"IF(AND(LEN($D27)>0,SUMIF($F$13:$J$13,AP$13,$F27:$J27)>0,marzo!AJ28<>\"X\",marzo!AJ28<>\"L\",marzo!AJ28<>\"J\",marzo!AJ28<>\"V\",marzo!AJ28<>\"F\",marzo!AJ28<>\"\"),SUMIF($F$13:$J$13,AP$13,$F27:$J27),\"\")","v":""},{"$f":"IF(AND(LEN($D27)>0,SUMIF($F$13:$J$13,AQ$13,$F27:$J27)>0,marzo!AK28<>\"X\",marzo!AK28<>\"L\",marzo!AK28<>\"J\",marzo!AK28<>\"V\",marzo!AK28<>\"F\",marzo!AK28<>\"\"),SUMIF($F$13:$J$13,AQ$13,$F27:$J27),\"\")","v":""},{"$f":"IF(AND(LEN($D27)>0,SUMIF($F$13:$J$13,AR$13,$F27:$J27)>0,marzo!AL28<>\"X\",marzo!AL28<>\"L\",marzo!AL28<>\"J\",marzo!AL28<>\"V\",marzo!AL28<>\"F\",marzo!AL28<>\"\"),SUMIF($F$13:$J$13,AR$13,$F27:$J27),\"\")","v":""},{"$f":"IF(AND(LEN($D27)>0,SUMIF($F$13:$J$13,AS$13,$F27:$J27)>0,marzo!AN28<>\"X\",marzo!AN28<>\"L\",marzo!AN28<>\"J\",marzo!AN28<>\"V\",marzo!AN28<>\"F\",marzo!AN28<>\"\"),SUMIF($F$13:$J$13,AS$13,$F27:$J27),\"\")","v":""},"",null,null,null,{"$f":"IF(AND(LEN($D27)>0,SUMIF($F$13:$J$13,AX$13,$F27:$J27)>0,marzo!AV28<>\"X\",marzo!AV28<>\"L\",marzo!AV28<>\"J\",marzo!AV28<>\"F\"),SUMIF($F$13:$J$13,AX$13,$F27:$J27),\"\")","v":""},{"$f":"IF(AND(LEN($D27)>0,SUMIF($F$13:$J$13,AY$13,$F27:$J27)>0,marzo!AW28<>\"X\",marzo!AW28<>\"L\",marzo!AW28<>\"J\",marzo!AW28<>\"F\"),SUMIF($F$13:$J$13,AY$13,$F27:$J27),\"\")","v":""},{"$f":"IF(AND(LEN($D27)>0,SUMIF($F$13:$J$13,AZ$13,$F27:$J27)>0,marzo!AX28<>\"X\",marzo!AX28<>\"L\",marzo!AX28<>\"J\",marzo!AX28<>\"F\"),SUMIF($F$13:$J$13,AZ$13,$F27:$J27),\"\")","v":""},{"$f":"IF(AND(LEN($D27)>0,SUMIF($F$13:$J$13,BA$13,$F27:$J27)>0,marzo!AY28<>\"X\",marzo!AY28<>\"L\",marzo!AY28<>\"J\",marzo!AY28<>\"F\"),SUMIF($F$13:$J$13,BA$13,$F27:$J27),\"\")","v":""},{"$f":"IF(AND(LEN($D27)>0,SUMIF($F$13:$J$13,BB$13,$F27:$J27)>0,marzo!AZ28<>\"X\",marzo!AZ28<>\"L\",marzo!AZ28<>\"J\",marzo!AZ28<>\"F\"),SUMIF($F$13:$J$13,BB$13,$F27:$J27),\"\")","v":""},{"$f":"IF(AND(LEN($D27)>0,SUMIF($F$13:$J$13,BC$13,$F27:$J27)>0,marzo!BA28<>\"X\",marzo!BA28<>\"L\",marzo!BA28<>\"J\",marzo!BA28<>\"F\"),SUMIF($F$13:$J$13,BC$13,$F27:$J27),\"\")","v":""},{"$f":"IF(AND(LEN($D27)>0,SUMIF($F$13:$J$13,BD$13,$F27:$J27)>0,marzo!BB28<>\"X\",marzo!BB28<>\"L\",marzo!BB28<>\"J\",marzo!BB28<>\"F\"),SUMIF($F$13:$J$13,BD$13,$F27:$J27),\"\")","v":""},{"$f":"IF(AND(LEN($D27)>0,SUMIF($F$13:$J$13,BE$13,$F27:$J27)>0,marzo!BC28<>\"X\",marzo!BC28<>\"L\",marzo!BC28<>\"J\",marzo!BC28<>\"F\"),SUMIF($F$13:$J$13,BE$13,$F27:$J27),\"\")","v":""},{"$f":"IF(AND(LEN($D27)>0,SUMIF($F$13:$J$13,BF$13,$F27:$J27)>0,marzo!#REF!<>\"X\",marzo!#REF!<>\"L\",marzo!#REF!<>\"J\",marzo!#REF!<>\"F\"),SUMIF($F$13:$J$13,BF$13,$F27:$J27),\"\")","v":{"$error":"#REF!"}},{"$f":"IF(AND(LEN($D27)>0,SUMIF($F$13:$J$13,BG$13,$F27:$J27)>0,marzo!#REF!<>\"X\",marzo!#REF!<>\"L\",marzo!#REF!<>\"J\",marzo!#REF!<>\"F\"),SUMIF($F$13:$J$13,BG$13,$F27:$J27),\"\")","v":{"$error":"#REF!"}},{"$f":"IF(AND(LEN($D27)>0,SUMIF($F$13:$J$13,BH$13,$F27:$J27)>0,marzo!BF28<>\"X\",marzo!BF28<>\"L\",marzo!BF28<>\"J\",marzo!BF28<>\"F\"),SUMIF($F$13:$J$13,BH$13,$F27:$J27),\"\")","v":""},{"$f":"IF(AND(LEN($D27)>0,SUMIF($F$13:$J$13,BI$13,$F27:$J27)>0,marzo!BG28<>\"X\",marzo!BG28<>\"L\",marzo!BG28<>\"J\",marzo!BG28<>\"F\"),SUMIF($F$13:$J$13,BI$13,$F27:$J27),\"\")","v":""},{"$f":"IF(AND(LEN($D27)>0,SUMIF($F$13:$J$13,BJ$13,$F27:$J27)>0,marzo!BH28<>\"X\",marzo!BH28<>\"L\",marzo!BH28<>\"J\",marzo!BH28<>\"F\"),SUMIF($F$13:$J$13,BJ$13,$F27:$J27),\"\")","v":""},{"$f":"IF(AND(LEN($D27)>0,SUMIF($F$13:$J$13,BK$13,$F27:$J27)>0,marzo!BI28<>\"X\",marzo!BI28<>\"L\",marzo!BI28<>\"J\",marzo!BI28<>\"F\"),SUMIF($F$13:$J$13,BK$13,$F27:$J27),\"\")","v":""},{"$f":"IF(AND(LEN($D27)>0,SUMIF($F$13:$J$13,BL$13,$F27:$J27)>0,marzo!BJ28<>\"X\",marzo!BJ28<>\"L\",marzo!BJ28<>\"J\",marzo!BJ28<>\"F\"),SUMIF($F$13:$J$13,BL$13,$F27:$J27),\"\")","v":""},{"$f":"IF(AND(LEN($D27)>0,SUMIF($F$13:$J$13,BM$13,$F27:$J27)>0,marzo!BK28<>\"X\",marzo!BK28<>\"L\",marzo!BK28<>\"J\",marzo!BK28<>\"F\"),SUMIF($F$13:$J$13,BM$13,$F27:$J27),\"\")","v":""},{"$f":"IF(AND(LEN($D27)>0,SUMIF($F$13:$J$13,BN$13,$F27:$J27)>0,marzo!BL28<>\"X\",marzo!BL28<>\"L\",marzo!BL28<>\"J\",marzo!BL28<>\"F\"),SUMIF($F$13:$J$13,BN$13,$F27:$J27),\"\")","v":""},{"$f":"IF(AND(LEN($D27)>0,SUMIF($F$13:$J$13,BO$13,$F27:$J27)>0,marzo!BM28<>\"X\",marzo!BM28<>\"L\",marzo!BM28<>\"J\",marzo!BM28<>\"F\"),SUMIF($F$13:$J$13,BO$13,$F27:$J27),\"\")","v":""},{"$f":"IF(AND(LEN($D27)>0,SUMIF($F$13:$J$13,BP$13,$F27:$J27)>0,marzo!BN28<>\"X\",marzo!BN28<>\"L\",marzo!BN28<>\"J\",marzo!BN28<>\"F\"),SUMIF($F$13:$J$13,BP$13,$F27:$J27),\"\")","v":""},{"$f":"IF(AND(LEN($D27)>0,SUMIF($F$13:$J$13,BQ$13,$F27:$J27)>0,marzo!BO28<>\"X\",marzo!BO28<>\"L\",marzo!BO28<>\"J\",marzo!BO28<>\"F\"),SUMIF($F$13:$J$13,BQ$13,$F27:$J27),\"\")","v":""},{"$f":"IF(AND(LEN($D27)>0,SUMIF($F$13:$J$13,BR$13,$F27:$J27)>0,marzo!BP28<>\"X\",marzo!BP28<>\"L\",marzo!BP28<>\"J\",marzo!BP28<>\"F\"),SUMIF($F$13:$J$13,BR$13,$F27:$J27),\"\")","v":""},{"$f":"IF(AND(LEN($D27)>0,SUMIF($F$13:$J$13,BS$13,$F27:$J27)>0,marzo!BQ28<>\"X\",marzo!BQ28<>\"L\",marzo!BQ28<>\"J\",marzo!BQ28<>\"F\"),SUMIF($F$13:$J$13,BS$13,$F27:$J27),\"\")","v":""},{"$f":"IF(AND(LEN($D27)>0,SUMIF($F$13:$J$13,BT$13,$F27:$J27)>0,marzo!BR28<>\"X\",marzo!BR28<>\"L\",marzo!BR28<>\"J\",marzo!BR28<>\"F\"),SUMIF($F$13:$J$13,BT$13,$F27:$J27),\"\")","v":""},{"$f":"IF(AND(LEN($D27)>0,SUMIF($F$13:$J$13,BU$13,$F27:$J27)>0,marzo!BS28<>\"X\",marzo!BS28<>\"L\",marzo!BS28<>\"J\",marzo!BS28<>\"F\"),SUMIF($F$13:$J$13,BU$13,$F27:$J27),\"\")","v":""},{"$f":"IF(AND(LEN($D27)>0,SUMIF($F$13:$J$13,BV$13,$F27:$J27)>0,marzo!BT28<>\"X\",marzo!BT28<>\"L\",marzo!BT28<>\"J\",marzo!BT28<>\"F\"),SUMIF($F$13:$J$13,BV$13,$F27:$J27),\"\")","v":""},{"$f":"IF(AND(LEN($D27)>0,SUMIF($F$13:$J$13,BW$13,$F27:$J27)>0,marzo!BU28<>\"X\",marzo!BU28<>\"L\",marzo!BU28<>\"J\",marzo!BU28<>\"F\"),SUMIF($F$13:$J$13,BW$13,$F27:$J27),\"\")","v":""},{"$f":"IF(AND(LEN($D27)>0,SUMIF($F$13:$J$13,BX$13,$F27:$J27)>0,marzo!BV28<>\"X\",marzo!BV28<>\"L\",marzo!BV28<>\"J\",marzo!BV28<>\"F\"),SUMIF($F$13:$J$13,BX$13,$F27:$J27),\"\")","v":""},{"$f":"IF(AND(LEN($D27)>0,SUMIF($F$13:$J$13,BY$13,$F27:$J27)>0,marzo!BW28<>\"X\",marzo!BW28<>\"L\",marzo!BW28<>\"J\",marzo!BW28<>\"F\"),SUMIF($F$13:$J$13,BY$13,$F27:$J27),\"\")","v":""},{"$f":"IF(AND(LEN($D27)>0,SUMIF($F$13:$J$13,BZ$13,$F27:$J27)>0,marzo!BX28<>\"X\",marzo!BX28<>\"L\",marzo!BX28<>\"J\",marzo!BX28<>\"F\"),SUMIF($F$13:$J$13,BZ$13,$F27:$J27),\"\")","v":""},{"$f":"IF(AND(LEN($D27)>0,SUMIF($F$13:$J$13,CA$13,$F27:$J27)>0,marzo!BY28<>\"X\",marzo!BY28<>\"L\",marzo!BY28<>\"J\",marzo!BY28<>\"F\"),SUMIF($F$13:$J$13,CA$13,$F27:$J27),\"\")","v":""},{"$f":"IF(AND(LEN($D27)>0,SUMIF($F$13:$J$13,CB$13,$F27:$J27)>0,marzo!BZ28<>\"X\",marzo!BZ28<>\"L\",marzo!BZ28<>\"J\",marzo!BZ28<>\"F\"),SUMIF($F$13:$J$13,CB$13,$F27:$J27),\"\")","v":""},{"$error":"#REF!"}]
["",{"$f":"IF(LEN(C28)>0,VLOOKUP($O$4,DATA!$A$1:$S$1,2,FALSE),\"\")","v":""},"",{"$f":"IF(LEN(marzo!E29)>0,marzo!E29,\"\")","v":""},{"$f":"IF(LEN(D28)>0,marzo!F29,\"\")","v":""},null,null,null,null,null,"",null,null,{"$error":"#REF!"},{"$f":"IF(AND(LEN($D28)>0,SUMIF($F$13:$J$13,O$13,$F28:$J28)>0,marzo!I29<>\"X\",marzo!I29<>\"L\",marzo!I29<>\"J\",marzo!I29<>\"V\",marzo!I29<>\"F\",marzo!I29<>\"\"),SUMIF($F$13:$J$13,O$13,$F28:$J28),\"\")","v":""},{"$f":"IF(AND(LEN($D28)>0,SUMIF($F$13:$J$13,P$13,$F28:$J28)>0,marzo!J29<>\"X\",marzo!J29<>\"L\",marzo!J29<>\"J\",marzo!J29<>\"V\",marzo!J29<>\"F\",marzo!J29<>\"\"),SUMIF($F$13:$J$13,P$13,$F28:$J28),\"\")","v":""},{"$f":"IF(AND(LEN($D28)>0,SUMIF($F$13:$J$13,Q$13,$F28:$J28)>0,marzo!K29<>\"X\",marzo!K29<>\"L\",marzo!K29<>\"J\",marzo!K29<>\"V\",marzo!K29<>\"F\",marzo!K29<>\"\"),SUMIF($F$13:$J$13,Q$13,$F28:$J28),\"\")","v":""},{"$f":"IF(AND(LEN($D28)>0,SUMIF($F$13:$J$13,R$13,$F28:$J28)>0,marzo!L29<>\"X\",marzo!L29<>\"L\",marzo!L29<>\"J\",marzo!L29<>\"V\",marzo!L29<>\"F\",marzo!L29<>\"\"),SUMIF($F$13:$J$13,R$13,$F28:$J28),\"\")","v":""},{"$f":"IF(AND(LEN($D28)>0,SUMIF($F$13:$J$13,S$13,$F28:$J28)>0,marzo!M29<>\"X\",marzo!M29<>\"L\",marzo!M29<>\"J\",marzo!M29<>\"V\",marzo!M29<>\"F\",marzo!M29<>\"\"),SUMIF($F$13:$J$13,S$13,$F28:$J28),\"\")","v":""},{"$f":"IF(AND(LEN($D28)>0,SUMIF($F$13:$J$13,T$13,$F28:$J28)>0,marzo!N29<>\"X\",marzo!N29<>\"L\",marzo!N29<>\"J\",marzo!N29<>\"V\",marzo!N29<>\"F\",marzo!N29<>\"\"),SUMIF($F$13:$J$13,T$13,$F28:$J28),\"\")","v":""},{"$f":"IF(AND(LEN($D28)>0,SUMIF($F$13:$J$13,U$13,$F28:$J28)>0,marzo!O29<>\"X\",marzo!O29<>\"L\",marzo!O29<>\"J\",marzo!O29<>\"V\",marzo!O29<>\"F\",marzo!O29<>\"\"),SUMIF($F$13:$J$13,U$13,$F28:$J28),\"\")","v":""},{"$f":"IF(AND(LEN($D28)>0,SUMIF($F$13:$J$13,V$13,$F28:$J28)>0,marzo!P29<>\"X\",marzo!P29<>\"L\",marzo!P29<>\"J\",marzo!P29<>\"V\",marzo!P29<>\"F\",marzo!P29<>\"\"),SUMIF($F$13:$J$13,V$13,$F28:$J28),\"\")","v":""},{"$f":"IF(AND(LEN($D28)>0,SUMIF($F$13:$J$13,W$13,$F28:$J28)>0,marzo!Q29<>\"X\",marzo!Q29<>\"L\",marzo!Q29<>\"J\",marzo!Q29<>\"V\",marzo!Q29<>\"F\",marzo!Q29<>\"\"),SUMIF($F$13:$J$13,W$13,$F28:$J28),\"\")","v":""},{"$f":"IF(AND(LEN($D28)>0,SUMIF($F$13:$J$13,X$13,$F28:$J28)>0,marzo!R29<>\"X\",marzo!R29<>\"L\",marzo!R29<>\"J\",marzo!R29<>\"V\",marzo!R29<>\"F\",marzo!R29<>\"\"),SUMIF($F$13:$J$13,X$13,$F28:$J28),\"\")","v":""},{"$f":"IF(AND(LEN($D28)>0,SUMIF($F$13:$J$13,Y$13,$F28:$J28)>0,marzo!S29<>\"X\",marzo!S29<>\"L\",marzo!S29<>\"J\",marzo!S29<>\"V\",marzo!S29<>\"F\",marzo!S29<>\"\"),SUMIF($F$13:$J$13,Y$13,$F28:$J28),\"\")","v":""},{"$f":"IF(AND(LEN($D28)>0,SUMIF($F$13:$J$13,Z$13,$F28:$J28)>0,marzo!T29<>\"X\",marzo!T29<>\"L\",marzo!T29<>\"J\",marzo!T29<>\"V\",marzo!T29<>\"F\",marzo!T29<>\"\"),SUMIF($F$13:$J$13,Z$13,$F28:$J28),\"\")","v":""},{"$f":"IF(AND(LEN($D28)>0,SUMIF($F$13:$J$13,AA$13,$F28:$J28)>0,marzo!U29<>\"X\",marzo!U29<>\"L\",marzo!U29<>\"J\",marzo!U29<>\"V\",marzo!U29<>\"F\",marzo!U29<>\"\"),SUMIF($F$13:$J$13,AA$13,$F28:$J28),\"\")","v":""},{"$f":"IF(AND(LEN($D28)>0,SUMIF($F$13:$J$13,AB$13,$F28:$J28)>0,marzo!V29<>\"X\",marzo!V29<>\"L\",marzo!V29<>\"J\",marzo!V29<>\"V\",marzo!V29<>\"F\",marzo!V29<>\"\"),SUMIF($F$13:$J$13,AB$13,$F28:$J28),\"\")","v":""},{"$f":"IF(AND(LEN($D28)>0,SUMIF($F$13:$J$13,AC$13,$F28:$J28)>0,marzo!W29<>\"X\",marzo!W29<>\"L\",marzo!W29<>\"J\",marzo!W29<>\"V\",marzo!W29<>\"F\",marzo!W29<>\"\"),SUMIF($F$13:$J$13,AC$13,$F28:$J28),\"\")","v":""},{"$f":"IF(AND(LEN($D28)>0,SUMIF($F$13:$J$13,AD$13,$F28:$J28)>0,marzo!X29<>\"X\",marzo!X29<>\"L\",marzo!X29<>\"J\",marzo!X29<>\"V\",marzo!X29<>\"F\",marzo!X29<>\"\"),SUMIF($F$13:$J$13,AD$13,$F28:$J28),\"\")","v":""},{"$f":"IF(AND(LEN($D28)>0,SUMIF($F$13:$J$13,AE$13,$F28:$J28)>0,marzo!Y29<>\"X\",marzo!Y29<>\"L\",marzo!Y29<>\"J\",marzo!Y29<>\"V\",marzo!Y29<>\"F\",marzo!Y29<>\"\"),SUMIF($F$13:$J$13,AE$13,$F28:$J28),\"\")","v":""},{"$f":"IF(AND(LEN($D28)>0,SUMIF($F$13:$J$13,AF$13,$F28:$J28)>0,marzo!Z29<>\"X\",marzo!Z29<>\"L\",marzo!Z29<>\"J\",marzo!Z29<>\"V\",marzo!Z29<>\"F\",marzo!Z29<>\"\"),SUMIF($F$13:$J$13,AF$13,$F28:$J28),\"\")","v":""},{"$f":"IF(AND(LEN($D28)>0,SUMIF($F$13:$J$13,AG$13,$F28:$J28)>0,marzo!AA29<>\"X\",marzo!AA29<>\"L\",marzo!AA29<>\"J\",marzo!AA29<>\"V\",marzo!AA29<>\"F\",marzo!AA29<>\"\"),SUMIF($F$13:$J$13,AG$13,$F28:$J28),\"\")","v":""},{"$f":"IF(AND(LEN($D28)>0,SUMIF($F$13:$J$13,AH$13,$F28:$J28)>0,marzo!AB29<>\"X\",marzo!AB29<>\"L\",marzo!AB29<>\"J\",marzo!AB29<>\"V\",marzo!AB29<>\"F\",marzo!AB29<>\"\"),SUMIF($F$13:$J$13,AH$13,$F28:$J28),\"\")","v":""},{"$f":"IF(AND(LEN($D28)>0,SUMIF($F$13:$J$13,AI$13,$F28:$J28)>0,marzo!AC29<>\"X\",marzo!AC29<>\"L\",marzo!AC29<>\"J\",marzo!AC29<>\"V\",marzo!AC29<>\"F\",marzo!AC29<>\"\"),SUMIF($F$13:$J$13,AI$13,$F28:$J28),\"\")","v":""},{"$f":"IF(AND(LEN($D28)>0,SUMIF($F$13:$J$13,AJ$13,$F28:$J28)>0,marzo!AD29<>\"X\",marzo!AD29<>\"L\",marzo!AD29<>\"J\",marzo!AD29<>\"V\",marzo!AD29<>\"F\",marzo!AD29<>\"\"),SUMIF($F$13:$J$13,AJ$13,$F28:$J28),\"\")","v":""},{"$f":"IF(AND(LEN($D28)>0,SUMIF($F$13:$J$13,AK$13,$F28:$J28)>0,marzo!AE29<>\"X\",marzo!AE29<>\"L\",marzo!AE29<>\"J\",marzo!AE29<>\"V\",marzo!AE29<>\"F\",marzo!AE29<>\"\"),SUMIF($F$13:$J$13,AK$13,$F28:$J28),\"\")","v":""},{"$f":"IF(AND(LEN($D28)>0,SUMIF($F$13:$J$13,AL$13,$F28:$J28)>0,marzo!AF29<>\"X\",marzo!AF29<>\"L\",marzo!AF29<>\"J\",marzo!AF29<>\"V\",marzo!AF29<>\"F\",marzo!AF29<>\"\"),SUMIF($F$13:$J$13,AL$13,$F28:$J28),\"\")","v":""},{"$f":"IF(AND(LEN($D28)>0,SUMIF($F$13:$J$13,AM$13,$F28:$J28)>0,marzo!AG29<>\"X\",marzo!AG29<>\"L\",marzo!AG29<>\"J\",marzo!AG29<>\"V\",marzo!AG29<>\"F\",marzo!AG29<>\"\"),SUMIF($F$13:$J$13,AM$13,$F28:$J28),\"\")","v":""},{"$f":"IF(AND(LEN($D28)>0,SUMIF($F$13:$J$13,AN$13,$F28:$J28)>0,marzo!AH29<>\"X\",marzo!AH29<>\"L\",marzo!AH29<>\"J\",marzo!AH29<>\"V\",marzo!AH29<>\"F\",marzo!AH29<>\"\"),SUMIF($F$13:$J$13,AN$13,$F28:$J28),\"\")","v":""},{"$f":"IF(AND(LEN($D28)>0,SUMIF($F$13:$J$13,AO$13,$F28:$J28)>0,marzo!AI29<>\"X\",marzo!AI29<>\"L\",marzo!AI29<>\"J\",marzo!AI29<>\"V\",marzo!AI29<>\"F\",marzo!AI29<>\"\"),SUMIF($F$13:$J$13,AO$13,$F28:$J28),\"\")","v":""},{"$f":"IF(AND(LEN($D28)>0,SUMIF($F$13:$J$13,AP$13,$F28:$J28)>0,marzo!AJ29<>\"X\",marzo!AJ29<>\"L\",marzo!AJ29<>\"J\",marzo!AJ29<>\"V\",marzo!AJ29<>\"F\",marzo!AJ29<>\"\"),SUMIF($F$13:$J$13,AP$13,$F28:$J28),\"\")","v":""},{"$f":"IF(AND(LEN($D28)>0,SUMIF($F$13:$J$13,AQ$13,$F28:$J28)>0,marzo!AK29<>\"X\",marzo!AK29<>\"L\",marzo!AK29<>\"J\",marzo!AK29<>\"V\",marzo!AK29<>\"F\",marzo!AK29<>\"\"),SUMIF($F$13:$J$13,AQ$13,$F28:$J28),\"\")","v":""},{"$f":"IF(AND(LEN($D28)>0,SUMIF($F$13:$J$13,AR$13,$F28:$J28)>0,marzo!AL29<>\"X\",marzo!AL29<>\"L\",marzo!AL29<>\"J\",marzo!AL29<>\"V\",marzo!AL29<>\"F\",marzo!AL29<>\"\"),SUMIF($F$13:$J$13,AR$13,$F28:$J28),\"\")","v":""},{"$f":"IF(AND(LEN($D28)>0,SUMIF($F$13:$J$13,AS$13,$F28:$J28)>0,marzo!AN29<>\"X\",marzo!AN29<>\"L\",marzo!AN29<>\"J\",marzo!AN29<>\"V\",marzo!AN29<>\"F\",marzo!AN29<>\"\"),SUMIF($F$13:$J$13,AS$13,$F28:$J28),\"\")","v":""},"",null,null,null,{"$f":"IF(AND(LEN($D28)>0,SUMIF($F$13:$J$13,AX$13,$F28:$J28)>0,marzo!AV29<>\"X\",marzo!AV29<>\"L\",marzo!AV29<>\"J\",marzo!AV29<>\"F\"),SUMIF($F$13:$J$13,AX$13,$F28:$J28),\"\")","v":""},{"$f":"IF(AND(LEN($D28)>0,SUMIF($F$13:$J$13,AY$13,$F28:$J28)>0,marzo!AW29<>\"X\",marzo!AW29<>\"L\",marzo!AW29<>\"J\",marzo!AW29<>\"F\"),SUMIF($F$13:$J$13,AY$13,$F28:$J28),\"\")","v":""},{"$f":"IF(AND(LEN($D28)>0,SUMIF($F$13:$J$13,AZ$13,$F28:$J28)>0,marzo!AX29<>\"X\",marzo!AX29<>\"L\",marzo!AX29<>\"J\",marzo!AX29<>\"F\"),SUMIF($F$13:$J$13,AZ$13,$F28:$J28),\"\")","v":""},{"$f":"IF(AND(LEN($D28)>0,SUMIF($F$13:$J$13,BA$13,$F28:$J28)>0,marzo!AY29<>\"X\",marzo!AY29<>\"L\",marzo!AY29<>\"J\",marzo!AY29<>\"F\"),SUMIF($F$13:$J$13,BA$13,$F28:$J28),\"\")","v":""},{"$f":"IF(AND(LEN($D28)>0,SUMIF($F$13:$J$13,BB$13,$F28:$J28)>0,marzo!AZ29<>\"X\",marzo!AZ29<>\"L\",marzo!AZ29<>\"J\",marzo!AZ29<>\"F\"),SUMIF($F$13:$J$13,BB$13,$F28:$J28),\"\")","v":""},{"$f":"IF(AND(LEN($D28)>0,SUMIF($F$13:$J$13,BC$13,$F28:$J28)>0,marzo!BA29<>\"X\",marzo!BA29<>\"L\",marzo!BA29<>\"J\",marzo!BA29<>\"F\"),SUMIF($F$13:$J$13,BC$13,$F28:$J28),\"\")","v":""},{"$f":"IF(AND(LEN($D28)>0,SUMIF($F$13:$J$13,BD$13,$F28:$J28)>0,marzo!BB29<>\"X\",marzo!BB29<>\"L\",marzo!BB29<>\"J\",marzo!BB29<>\"F\"),SUMIF($F$13:$J$13,BD$13,$F28:$J28),\"\")","v":""},{"$f":"IF(AND(LEN($D28)>0,SUMIF($F$13:$J$13,BE$13,$F28:$J28)>0,marzo!BC29<>\"X\",marzo!BC29<>\"L\",marzo!BC29<>\"J\",marzo!BC29<>\"F\"),SUMIF($F$13:$J$13,BE$13,$F28:$J28),\"\")","v":""},{"$f":"IF(AND(LEN($D28)>0,SUMIF($F$13:$J$13,BF$13,$F28:$J28)>0,marzo!#REF!<>\"X\",marzo!#REF!<>\"L\",marzo!#REF!<>\"J\",marzo!#REF!<>\"F\"),SUMIF($F$13:$J$13,BF$13,$F28:$J28),\"\")","v":{"$error":"#REF!"}},{"$f":"IF(AND(LEN($D28)>0,SUMIF($F$13:$J$13,BG$13,$F28:$J28)>0,marzo!#REF!<>\"X\",marzo!#REF!<>\"L\",marzo!#REF!<>\"J\",marzo!#REF!<>\"F\"),SUMIF($F$13:$J$13,BG$13,$F28:$J28),\"\")","v":{"$error":"#REF!"}},{"$f":"IF(AND(LEN($D28)>0,SUMIF($F$13:$J$13,BH$13,$F28:$J28)>0,marzo!BF29<>\"X\",marzo!BF29<>\"L\",marzo!BF29<>\"J\",marzo!BF29<>\"F\"),SUMIF($F$13:$J$13,BH$13,$F28:$J28),\"\")","v":""},{"$f":"IF(AND(LEN($D28)>0,SUMIF($F$13:$J$13,BI$13,$F28:$J28)>0,marzo!BG29<>\"X\",marzo!BG29<>\"L\",marzo!BG29<>\"J\",marzo!BG29<>\"F\"),SUMIF($F$13:$J$13,BI$13,$F28:$J28),\"\")","v":""},{"$f":"IF(AND(LEN($D28)>0,SUMIF($F$13:$J$13,BJ$13,$F28:$J28)>0,marzo!BH29<>\"X\",marzo!BH29<>\"L\",marzo!BH29<>\"J\",marzo!BH29<>\"F\"),SUMIF($F$13:$J$13,BJ$13,$F28:$J28),\"\")","v":""},{"$f":"IF(AND(LEN($D28)>0,SUMIF($F$13:$J$13,BK$13,$F28:$J28)>0,marzo!BI29<>\"X\",marzo!BI29<>\"L\",marzo!BI29<>\"J\",marzo!BI29<>\"F\"),SUMIF($F$13:$J$13,BK$13,$F28:$J28),\"\")","v":""},{"$f":"IF(AND(LEN($D28)>0,SUMIF($F$13:$J$13,BL$13,$F28:$J28)>0,marzo!BJ29<>\"X\",marzo!BJ29<>\"L\",marzo!BJ29<>\"J\",marzo!BJ29<>\"F\"),SUMIF($F$13:$J$13,BL$13,$F28:$J28),\"\")","v":""},{"$f":"IF(AND(LEN($D28)>0,SUMIF($F$13:$J$13,BM$13,$F28:$J28)>0,marzo!BK29<>\"X\",marzo!BK29<>\"L\",marzo!BK29<>\"J\",marzo!BK29<>\"F\"),SUMIF($F$13:$J$13,BM$13,$F28:$J28),\"\")","v":""},{"$f":"IF(AND(LEN($D28)>0,SUMIF($F$13:$J$13,BN$13,$F28:$J28)>0,marzo!BL29<>\"X\",marzo!BL29<>\"L\",marzo!BL29<>\"J\",marzo!BL29<>\"F\"),SUMIF($F$13:$J$13,BN$13,$F28:$J28),\"\")","v":""},{"$f":"IF(AND(LEN($D28)>0,SUMIF($F$13:$J$13,BO$13,$F28:$J28)>0,marzo!BM29<>\"X\",marzo!BM29<>\"L\",marzo!BM29<>\"J\",marzo!BM29<>\"F\"),SUMIF($F$13:$J$13,BO$13,$F28:$J28),\"\")","v":""},{"$f":"IF(AND(LEN($D28)>0,SUMIF($F$13:$J$13,BP$13,$F28:$J28)>0,marzo!BN29<>\"X\",marzo!BN29<>\"L\",marzo!BN29<>\"J\",marzo!BN29<>\"F\"),SUMIF($F$13:$J$13,BP$13,$F28:$J28),\"\")","v":""},{"$f":"IF(AND(LEN($D28)>0,SUMIF($F$13:$J$13,BQ$13,$F28:$J28)>0,marzo!BO29<>\"X\",marzo!BO29<>\"L\",marzo!BO29<>\"J\",marzo!BO29<>\"F\"),SUMIF($F$13:$J$13,BQ$13,$F28:$J28),\"\")","v":""},{"$f":"IF(AND(LEN($D28)>0,SUMIF($F$13:$J$13,BR$13,$F28:$J28)>0,marzo!BP29<>\"X\",marzo!BP29<>\"L\",marzo!BP29<>\"J\",marzo!BP29<>\"F\"),SUMIF($F$13:$J$13,BR$13,$F28:$J28),\"\")","v":""},{"$f":"IF(AND(LEN($D28)>0,SUMIF($F$13:$J$13,BS$13,$F28:$J28)>0,marzo!BQ29<>\"X\",marzo!BQ29<>\"L\",marzo!BQ29<>\"J\",marzo!BQ29<>\"F\"),SUMIF($F$13:$J$13,BS$13,$F28:$J28),\"\")","v":""},{"$f":"IF(AND(LEN($D28)>0,SUMIF($F$13:$J$13,BT$13,$F28:$J28)>0,marzo!BR29<>\"X\",marzo!BR29<>\"L\",marzo!BR29<>\"J\",marzo!BR29<>\"F\"),SUMIF($F$13:$J$13,BT$13,$F28:$J28),\"\")","v":""},{"$f":"IF(AND(LEN($D28)>0,SUMIF($F$13:$J$13,BU$13,$F28:$J28)>0,marzo!BS29<>\"X\",marzo!BS29<>\"L\",marzo!BS29<>\"J\",marzo!BS29<>\"F\"),SUMIF($F$13:$J$13,BU$13,$F28:$J28),\"\")","v":""},{"$f":"IF(AND(LEN($D28)>0,SUMIF($F$13:$J$13,BV$13,$F28:$J28)>0,marzo!BT29<>\"X\",marzo!BT29<>\"L\",marzo!BT29<>\"J\",marzo!BT29<>\"F\"),SUMIF($F$13:$J$13,BV$13,$F28:$J28),\"\")","v":""},{"$f":"IF(AND(LEN($D28)>0,SUMIF($F$13:$J$13,BW$13,$F28:$J28)>0,marzo!BU29<>\"X\",marzo!BU29<>\"L\",marzo!BU29<>\"J\",marzo!BU29<>\"F\"),SUMIF($F$13:$J$13,BW$13,$F28:$J28),\"\")","v":""},{"$f":"IF(AND(LEN($D28)>0,SUMIF($F$13:$J$13,BX$13,$F28:$J28)>0,marzo!BV29<>\"X\",marzo!BV29<>\"L\",marzo!BV29<>\"J\",marzo!BV29<>\"F\"),SUMIF($F$13:$J$13,BX$13,$F28:$J28),\"\")","v":""},{"$f":"IF(AND(LEN($D28)>0,SUMIF($F$13:$J$13,BY$13,$F28:$J28)>0,marzo!BW29<>\"X\",marzo!BW29<>\"L\",marzo!BW29<>\"J\",marzo!BW29<>\"F\"),SUMIF($F$13:$J$13,BY$13,$F28:$J28),\"\")","v":""},{"$f":"IF(AND(LEN($D28)>0,SUMIF($F$13:$J$13,BZ$13,$F28:$J28)>0,marzo!BX29<>\"X\",marzo!BX29<>\"L\",marzo!BX29<>\"J\",marzo!BX29<>\"F\"),SUMIF($F$13:$J$13,BZ$13,$F28:$J28),\"\")","v":""},{"$f":"IF(AND(LEN($D28)>0,SUMIF($F$13:$J$13,CA$13,$F28:$J28)>0,marzo!BY29<>\"X\",marzo!BY29<>\"L\",marzo!BY29<>\"J\",marzo!BY29<>\"F\"),SUMIF($F$13:$J$13,CA$13,$F28:$J28),\"\")","v":""},{"$f":"IF(AND(LEN($D28)>0,SUMIF($F$13:$J$13,CB$13,$F28:$J28)>0,marzo!BZ29<>\"X\",marzo!BZ29<>\"L\",marzo!BZ29<>\"J\",marzo!BZ29<>\"F\"),SUMIF($F$13:$J$13,CB$13,$F28:$J28),\"\")","v":""},{"$error":"#REF!"}]
["",{"$f":"IF(LEN(C29)>0,VLOOKUP($O$4,DATA!$A$1:$S$1,2,FALSE),\"\")","v":""},"",{"$f":"IF(LEN(marzo!E30)>0,marzo!E30,\"\")","v":""},{"$f":"IF(LEN(D29)>0,marzo!F30,\"\")","v":""},null,null,null,null,null,"",null,null,{"$error":"#REF!"},{"$f":"IF(AND(LEN($D29)>0,SUMIF($F$13:$J$13,O$13,$F29:$J29)>0,marzo!I30<>\"X\",marzo!I30<>\"L\",marzo!I30<>\"J\",marzo!I30<>\"V\",marzo!I30<>\"F\",marzo!I30<>\"\"),SUMIF($F$13:$J$13,O$13,$F29:$J29),\"\")","v":""},{"$f":"IF(AND(LEN($D29)>0,SUMIF($F$13:$J$13,P$13,$F29:$J29)>0,marzo!J30<>\"X\",marzo!J30<>\"L\",marzo!J30<>\"J\",marzo!J30<>\"V\",marzo!J30<>\"F\",marzo!J30<>\"\"),SUMIF($F$13:$J$13,P$13,$F29:$J29),\"\")","v":""},{"$f":"IF(AND(LEN($D29)>0,SUMIF($F$13:$J$13,Q$13,$F29:$J29)>0,marzo!K30<>\"X\",marzo!K30<>\"L\",marzo!K30<>\"J\",marzo!K30<>\"V\",marzo!K30<>\"F\",marzo!K30<>\"\"),SUMIF($F$13:$J$13,Q$13,$F29:$J29),\"\")","v":""},{"$f":"IF(AND(LEN($D29)>0,SUMIF($F$13:$J$13,R$13,$F29:$J29)>0,marzo!L30<>\"X\",marzo!L30<>\"L\",marzo!L30<>\"J\",marzo!L30<>\"V\",marzo!L30<>\"F\",marzo!L30<>\"\"),SUMIF($F$13:$J$13,R$13,$F29:$J29),\"\")","v":""},{"$f":"IF(AND(LEN($D29)>0,SUMIF($F$13:$J$13,S$13,$F29:$J29)>0,marzo!M30<>\"X\",marzo!M30<>\"L\",marzo!M30<>\"J\",marzo!M30<>\"V\",marzo!M30<>\"F\",marzo!M30<>\"\"),SUMIF($F$13:$J$13,S$13,$F29:$J29),\"\")","v":""},{"$f":"IF(AND(LEN($D29)>0,SUMIF($F$13:$J$13,T$13,$F29:$J29)>0,marzo!N30<>\"X\",marzo!N30<>\"L\",marzo!N30<>\"J\",marzo!N30<>\"V\",marzo!N30<>\"F\",marzo!N30<>\"\"),SUMIF($F$13:$J$13,T$13,$F29:$J29),\"\")","v":""},{"$f":"IF(AND(LEN($D29)>0,SUMIF($F$13:$J$13,U$13,$F29:$J29)>0,marzo!O30<>\"X\",marzo!O30<>\"L\",marzo!O30<>\"J\",marzo!O30<>\"V\",marzo!O30<>\"F\",marzo!O30<>\"\"),SUMIF($F$13:$J$13,U$13,$F29:$J29),\"\")","v":""},{"$f":"IF(AND(LEN($D29)>0,SUMIF($F$13:$J$13,V$13,$F29:$J29)>0,marzo!P30<>\"X\",marzo!P30<>\"L\",marzo!P30<>\"J\",marzo!P30<>\"V\",marzo!P30<>\"F\",marzo!P30<>\"\"),SUMIF($F$13:$J$13,V$13,$F29:$J29),\"\")","v":""},{"$f":"IF(AND(LEN($D29)>0,SUMIF($F$13:$J$13,W$13,$F29:$J29)>0,marzo!Q30<>\"X\",marzo!Q30<>\"L\",marzo!Q30<>\"J\",marzo!Q30<>\"V\",marzo!Q30<>\"F\",marzo!Q30<>\"\"),SUMIF($F$13:$J$13,W$13,$F29:$J29),\"\")","v":""},{"$f":"IF(AND(LEN($D29)>0,SUMIF($F$13:$J$13,X$13,$F29:$J29)>0,marzo!R30<>\"X\",marzo!R30<>\"L\",marzo!R30<>\"J\",marzo!R30<>\"V\",marzo!R30<>\"F\",marzo!R30<>\"\"),SUMIF($F$13:$J$13,X$13,$F29:$J29),\"\")","v":""},{"$f":"IF(AND(LEN($D29)>0,SUMIF($F$13:$J$13,Y$13,$F29:$J29)>0,marzo!S30<>\"X\",marzo!S30<>\"L\",marzo!S30<>\"J\",marzo!S30<>\"V\",marzo!S30<>\"F\",marzo!S30<>\"\"),SUMIF($F$13:$J$13,Y$13,$F29:$J29),\"\")","v":""},{"$f":"IF(AND(LEN($D29)>0,SUMIF($F$13:$J$13,Z$13,$F29:$J29)>0,marzo!T30<>\"X\",marzo!T30<>\"L\",marzo!T30<>\"J\",marzo!T30<>\"V\",marzo!T30<>\"F\",marzo!T30<>\"\"),SUMIF($F$13:$J$13,Z$13,$F29:$J29),\"\")","v":""},{"$f":"IF(AND(LEN($D29)>0,SUMIF($F$13:$J$13,AA$13,$F29:$J29)>0,marzo!U30<>\"X\",marzo!U30<>\"L\",marzo!U30<>\"J\",marzo!U30<>\"V\",marzo!U30<>\"F\",marzo!U30<>\"\"),SUMIF($F$13:$J$13,AA$13,$F29:$J29),\"\")","v":""},{"$f":"IF(AND(LEN($D29)>0,SUMIF($F$13:$J$13,AB$13,$F29:$J29)>0,marzo!V30<>\"X\",marzo!V30<>\"L\",marzo!V30<>\"J\",marzo!V30<>\"V\",marzo!V30<>\"F\",marzo!V30<>\"\"),SUMIF($F$13:$J$13,AB$13,$F29:$J29),\"\")","v":""},{"$f":"IF(AND(LEN($D29)>0,SUMIF($F$13:$J$13,AC$13,$F29:$J29)>0,marzo!W30<>\"X\",marzo!W30<>\"L\",marzo!W30<>\"J\",marzo!W30<>\"V\",marzo!W30<>\"F\",marzo!W30<>\"\"),SUMIF($F$13:$J$13,AC$13,$F29:$J29),\"\")","v":""},{"$f":"IF(AND(LEN($D29)>0,SUMIF($F$13:$J$13,AD$13,$F29:$J29)>0,marzo!X30<>\"X\",marzo!X30<>\"L\",marzo!X30<>\"J\",marzo!X30<>\"V\",marzo!X30<>\"F\",marzo!X30<>\"\"),SUMIF($F$13:$J$13,AD$13,$F29:$J29),\"\")","v":""},{"$f":"IF(AND(LEN($D29)>0,SUMIF($F$13:$J$13,AE$13,$F29:$J29)>0,marzo!Y30<>\"X\",marzo!Y30<>\"L\",marzo!Y30<>\"J\",marzo!Y30<>\"V\",marzo!Y30<>\"F\",marzo!Y30<>\"\"),SUMIF($F$13:$J$13,AE$13,$F29:$J29),\"\")","v":""},{"$f":"IF(AND(LEN($D29)>0,SUMIF($F$13:$J$13,AF$13,$F29:$J29)>0,marzo!Z30<>\"X\",marzo!Z30<>\"L\",marzo!Z30<>\"J\",marzo!Z30<>\"V\",marzo!Z30<>\"F\",marzo!Z30<>\"\"),SUMIF($F$13:$J$13,AF$13,$F29:$J29),\"\")","v":""},{"$f":"IF(AND(LEN($D29)>0,SUMIF($F$13:$J$13,AG$13,$F29:$J29)>0,marzo!AA30<>\"X\",marzo!AA30<>\"L\",marzo!AA30<>\"J\",marzo!AA30<>\"V\",marzo!AA30<>\"F\",marzo!AA30<>\"\"),SUMIF($F$13:$J$13,AG$13,$F29:$J29),\"\")","v":""},{"$f":"IF(AND(LEN($D29)>0,SUMIF($F$13:$J$13,AH$13,$F29:$J29)>0,marzo!AB30<>\"X\",marzo!AB30<>\"L\",marzo!AB30<>\"J\",marzo!AB30<>\"V\",marzo!AB30<>\"F\",marzo!AB30<>\"\"),SUMIF($F$13:$J$13,AH$13,$F29:$J29),\"\")","v":""},{"$f":"IF(AND(LEN($D29)>0,SUMIF($F$13:$J$13,AI$13,$F29:$J29)>0,marzo!AC30<>\"X\",marzo!AC30<>\"L\",marzo!AC30<>\"J\",marzo!AC30<>\"V\",marzo!AC30<>\"F\",marzo!AC30<>\"\"),SUMIF($F$13:$J$13,AI$13,$F29:$J29),\"\")","v":""},{"$f":"IF(AND(LEN($D29)>0,SUMIF($F$13:$J$13,AJ$13,$F29:$J29)>0,marzo!AD30<>\"X\",marzo!AD30<>\"L\",marzo!AD30<>\"J\",marzo!AD30<>\"V\",marzo!AD30<>\"F\",marzo!AD30<>\"\"),SUMIF($F$13:$J$13,AJ$13,$F29:$J29),\"\")","v":""},{"$f":"IF(AND(LEN($D29)>0,SUMIF($F$13:$J$13,AK$13,$F29:$J29)>0,marzo!AE30<>\"X\",marzo!AE30<>\"L\",marzo!AE30<>\"J\",marzo!AE30<>\"V\",marzo!AE30<>\"F\",marzo!AE30<>\"\"),SUMIF($F$13:$J$13,AK$13,$F29:$J29),\"\")","v":""},{"$f":"IF(AND(LEN($D29)>0,SUMIF($F$13:$J$13,AL$13,$F29:$J29)>0,marzo!AF30<>\"X\",marzo!AF30<>\"L\",marzo!AF30<>\"J\",marzo!AF30<>\"V\",marzo!AF30<>\"F\",marzo!AF30<>\"\"),SUMIF($F$13:$J$13,AL$13,$F29:$J29),\"\")","v":""},{"$f":"IF(AND(LEN($D29)>0,SUMIF($F$13:$J$13,AM$13,$F29:$J29)>0,marzo!AG30<>\"X\",marzo!AG30<>\"L\",marzo!AG30<>\"J\",marzo!AG30<>\"V\",marzo!AG30<>\"F\",marzo!AG30<>\"\"),SUMIF($F$13:$J$13,AM$13,$F29:$J29),\"\")","v":""},{"$f":"IF(AND(LEN($D29)>0,SUMIF($F$13:$J$13,AN$13,$F29:$J29)>0,marzo!AH30<>\"X\",marzo!AH30<>\"L\",marzo!AH30<>\"J\",marzo!AH30<>\"V\",marzo!AH30<>\"F\",marzo!AH30<>\"\"),SUMIF($F$13:$J$13,AN$13,$F29:$J29),\"\")","v":""},{"$f":"IF(AND(LEN($D29)>0,SUMIF($F$13:$J$13,AO$13,$F29:$J29)>0,marzo!AI30<>\"X\",marzo!AI30<>\"L\",marzo!AI30<>\"J\",marzo!AI30<>\"V\",marzo!AI30<>\"F\",marzo!AI30<>\"\"),SUMIF($F$13:$J$13,AO$13,$F29:$J29),\"\")","v":""},{"$f":"IF(AND(LEN($D29)>0,SUMIF($F$13:$J$13,AP$13,$F29:$J29)>0,marzo!AJ30<>\"X\",marzo!AJ30<>\"L\",marzo!AJ30<>\"J\",marzo!AJ30<>\"V\",marzo!AJ30<>\"F\",marzo!AJ30<>\"\"),SUMIF($F$13:$J$13,AP$13,$F29:$J29),\"\")","v":""},{"$f":"IF(AND(LEN($D29)>0,SUMIF($F$13:$J$13,AQ$13,$F29:$J29)>0,marzo!AK30<>\"X\",marzo!AK30<>\"L\",marzo!AK30<>\"J\",marzo!AK30<>\"V\",marzo!AK30<>\"F\",marzo!AK30<>\"\"),SUMIF($F$13:$J$13,AQ$13,$F29:$J29),\"\")","v":""},{"$f":"IF(AND(LEN($D29)>0,SUMIF($F$13:$J$13,AR$13,$F29:$J29)>0,marzo!AL30<>\"X\",marzo!AL30<>\"L\",marzo!AL30<>\"J\",marzo!AL30<>\"V\",marzo!AL30<>\"F\",marzo!AL30<>\"\"),SUMIF($F$13:$J$13,AR$13,$F29:$J29),\"\")","v":""},{"$f":"IF(AND(LEN($D29)>0,SUMIF($F$13:$J$13,AS$13,$F29:$J29)>0,marzo!AN30<>\"X\",marzo!AN30<>\"L\",marzo!AN30<>\"J\",marzo!AN30<>\"V\",marzo!AN30<>\"F\",marzo!AN30<>\"\"),SUMIF($F$13:$J$13,AS$13,$F29:$J29),\"\")","v":""},"",null,null,null,{"$f":"IF(AND(LEN($D29)>0,SUMIF($F$13:$J$13,AX$13,$F29:$J29)>0,marzo!AV30<>\"X\",marzo!AV30<>\"L\",marzo!AV30<>\"J\",marzo!AV30<>\"F\"),SUMIF($F$13:$J$13,AX$13,$F29:$J29),\"\")","v":""},{"$f":"IF(AND(LEN($D29)>0,SUMIF($F$13:$J$13,AY$13,$F29:$J29)>0,marzo!AW30<>\"X\",marzo!AW30<>\"L\",marzo!AW30<>\"J\",marzo!AW30<>\"F\"),SUMIF($F$13:$J$13,AY$13,$F29:$J29),\"\")","v":""},{"$f":"IF(AND(LEN($D29)>0,SUMIF($F$13:$J$13,AZ$13,$F29:$J29)>0,marzo!AX30<>\"X\",marzo!AX30<>\"L\",marzo!AX30<>\"J\",marzo!AX30<>\"F\"),SUMIF($F$13:$J$13,AZ$13,$F29:$J29),\"\")","v":""},{"$f":"IF(AND(LEN($D29)>0,SUMIF($F$13:$J$13,BA$13,$F29:$J29)>0,marzo!AY30<>\"X\",marzo!AY30<>\"L\",marzo!AY30<>\"J\",marzo!AY30<>\"F\"),SUMIF($F$13:$J$13,BA$13,$F29:$J29),\"\")","v":""},{"$f":"IF(AND(LEN($D29)>0,SUMIF($F$13:$J$13,BB$13,$F29:$J29)>0,marzo!AZ30<>\"X\",marzo!AZ30<>\"L\",marzo!AZ30<>\"J\",marzo!AZ30<>\"F\"),SUMIF($F$13:$J$13,BB$13,$F29:$J29),\"\")","v":""},{"$f":"IF(AND(LEN($D29)>0,SUMIF($F$13:$J$13,BC$13,$F29:$J29)>0,marzo!BA30<>\"X\",marzo!BA30<>\"L\",marzo!BA30<>\"J\",marzo!BA30<>\"F\"),SUMIF($F$13:$J$13,BC$13,$F29:$J29),\"\")","v":""},{"$f":"IF(AND(LEN($D29)>0,SUMIF($F$13:$J$13,BD$13,$F29:$J29)>0,marzo!BB30<>\"X\",marzo!BB30<>\"L\",marzo!BB30<>\"J\",marzo!BB30<>\"F\"),SUMIF($F$13:$J$13,BD$13,$F29:$J29),\"\")","v":""},{"$f":"IF(AND(LEN($D29)>0,SUMIF($F$13:$J$13,BE$13,$F29:$J29)>0,marzo!BC30<>\"X\",marzo!BC30<>\"L\",marzo!BC30<>\"J\",marzo!BC30<>\"F\"),SUMIF($F$13:$J$13,BE$13,$F29:$J29),\"\")","v":""},{"$f":"IF(AND(LEN($D29)>0,SUMIF($F$13:$J$13,BF$13,$F29:$J29)>0,marzo!#REF!<>\"X\",marzo!#REF!<>\"L\",marzo!#REF!<>\"J\",marzo!#REF!<>\"F\"),SUMIF($F$13:$J$13,BF$13,$F29:$J29),\"\")","v":{"$error":"#REF!"}},{"$f":"IF(AND(LEN($D29)>0,SUMIF($F$13:$J$13,BG$13,$F29:$J29)>0,marzo!#REF!<>\"X\",marzo!#REF!<>\"L\",marzo!#REF!<>\"J\",marzo!#REF!<>\"F\"),SUMIF($F$13:$J$13,BG$13,$F29:$J29),\"\")","v":{"$error":"#REF!"}},{"$f":"IF(AND(LEN($D29)>0,SUMIF($F$13:$J$13,BH$13,$F29:$J29)>0,marzo!BF30<>\"X\",marzo!BF30<>\"L\",marzo!BF30<>\"J\",marzo!BF30<>\"F\"),SUMIF($F$13:$J$13,BH$13,$F29:$J29),\"\")","v":""},{"$f":"IF(AND(LEN($D29)>0,SUMIF($F$13:$J$13,BI$13,$F29:$J29)>0,marzo!BG30<>\"X\",marzo!BG30<>\"L\",marzo!BG30<>\"J\",marzo!BG30<>\"F\"),SUMIF($F$13:$J$13,BI$13,$F29:$J29),\"\")","v":""},{"$f":"IF(AND(LEN($D29)>0,SUMIF($F$13:$J$13,BJ$13,$F29:$J29)>0,marzo!BH30<>\"X\",marzo!BH30<>\"L\",marzo!BH30<>\"J\",marzo!BH30<>\"F\"),SUMIF($F$13:$J$13,BJ$13,$F29:$J29),\"\")","v":""},{"$f":"IF(AND(LEN($D29)>0,SUMIF($F$13:$J$13,BK$13,$F29:$J29)>0,marzo!BI30<>\"X\",marzo!BI30<>\"L\",marzo!BI30<>\"J\",marzo!BI30<>\"F\"),SUMIF($F$13:$J$13,BK$13,$F29:$J29),\"\")","v":""},{"$f":"IF(AND(LEN($D29)>0,SUMIF($F$13:$J$13,BL$13,$F29:$J29)>0,marzo!BJ30<>\"X\",marzo!BJ30<>\"L\",marzo!BJ30<>\"J\",marzo!BJ30<>\"F\"),SUMIF($F$13:$J$13,BL$13,$F29:$J29),\"\")","v":""},{"$f":"IF(AND(LEN($D29)>0,SUMIF($F$13:$J$13,BM$13,$F29:$J29)>0,marzo!BK30<>\"X\",marzo!BK30<>\"L\",marzo!BK30<>\"J\",marzo!BK30<>\"F\"),SUMIF($F$13:$J$13,BM$13,$F29:$J29),\"\")","v":""},{"$f":"IF(AND(LEN($D29)>0,SUMIF($F$13:$J$13,BN$13,$F29:$J29)>0,marzo!BL30<>\"X\",marzo!BL30<>\"L\",marzo!BL30<>\"J\",marzo!BL30<>\"F\"),SUMIF($F$13:$J$13,BN$13,$F29:$J29),\"\")","v":""},{"$f":"IF(AND(LEN($D29)>0,SUMIF($F$13:$J$13,BO$13,$F29:$J29)>0,marzo!BM30<>\"X\",marzo!BM30<>\"L\",marzo!BM30<>\"J\",marzo!BM30<>\"F\"),SUMIF($F$13:$J$13,BO$13,$F29:$J29),\"\")","v":""},{"$f":"IF(AND(LEN($D29)>0,SUMIF($F$13:$J$13,BP$13,$F29:$J29)>0,marzo!BN30<>\"X\",marzo!BN30<>\"L\",marzo!BN30<>\"J\",marzo!BN30<>\"F\"),SUMIF($F$13:$J$13,BP$13,$F29:$J29),\"\")","v":""},{"$f":"IF(AND(LEN($D29)>0,SUMIF($F$13:$J$13,BQ$13,$F29:$J29)>0,marzo!BO30<>\"X\",marzo!BO30<>\"L\",marzo!BO30<>\"J\",marzo!BO30<>\"F\"),SUMIF($F$13:$J$13,BQ$13,$F29:$J29),\"\")","v":""},{"$f":"IF(AND(LEN($D29)>0,SUMIF($F$13:$J$13,BR$13,$F29:$J29)>0,marzo!BP30<>\"X\",marzo!BP30<>\"L\",marzo!BP30<>\"J\",marzo!BP30<>\"F\"),SUMIF($F$13:$J$13,BR$13,$F29:$J29),\"\")","v":""},{"$f":"IF(AND(LEN($D29)>0,SUMIF($F$13:$J$13,BS$13,$F29:$J29)>0,marzo!BQ30<>\"X\",marzo!BQ30<>\"L\",marzo!BQ30<>\"J\",marzo!BQ30<>\"F\"),SUMIF($F$13:$J$13,BS$13,$F29:$J29),\"\")","v":""},{"$f":"IF(AND(LEN($D29)>0,SUMIF($F$13:$J$13,BT$13,$F29:$J29)>0,marzo!BR30<>\"X\",marzo!BR30<>\"L\",marzo!BR30<>\"J\",marzo!BR30<>\"F\"),SUMIF($F$13:$J$13,BT$13,$F29:$J29),\"\")","v":""},{"$f":"IF(AND(LEN($D29)>0,SUMIF($F$13:$J$13,BU$13,$F29:$J29)>0,marzo!BS30<>\"X\",marzo!BS30<>\"L\",marzo!BS30<>\"J\",marzo!BS30<>\"F\"),SUMIF($F$13:$J$13,BU$13,$F29:$J29),\"\")","v":""},{"$f":"IF(AND(LEN($D29)>0,SUMIF($F$13:$J$13,BV$13,$F29:$J29)>0,marzo!BT30<>\"X\",marzo!BT30<>\"L\",marzo!BT30<>\"J\",marzo!BT30<>\"F\"),SUMIF($F$13:$J$13,BV$13,$F29:$J29),\"\")","v":""},{"$f":"IF(AND(LEN($D29)>0,SUMIF($F$13:$J$13,BW$13,$F29:$J29)>0,marzo!BU30<>\"X\",marzo!BU30<>\"L\",marzo!BU30<>\"J\",marzo!BU30<>\"F\"),SUMIF($F$13:$J$13,BW$13,$F29:$J29),\"\")","v":""},{"$f":"IF(AND(LEN($D29)>0,SUMIF($F$13:$J$13,BX$13,$F29:$J29)>0,marzo!BV30<>\"X\",marzo!BV30<>\"L\",marzo!BV30<>\"J\",marzo!BV30<>\"F\"),SUMIF($F$13:$J$13,BX$13,$F29:$J29),\"\")","v":""},{"$f":"IF(AND(LEN($D29)>0,SUMIF($F$13:$J$13,BY$13,$F29:$J29)>0,marzo!BW30<>\"X\",marzo!BW30<>\"L\",marzo!BW30<>\"J\",marzo!BW30<>\"F\"),SUMIF($F$13:$J$13,BY$13,$F29:$J29),\"\")","v":""},{"$f":"IF(AND(LEN($D29)>0,SUMIF($F$13:$J$13,BZ$13,$F29:$J29)>0,marzo!BX30<>\"X\",marzo!BX30<>\"L\",marzo!BX30<>\"J\",marzo!BX30<>\"F\"),SUMIF($F$13:$J$13,BZ$13,$F29:$J29),\"\")","v":""},{"$f":"IF(AND(LEN($D29)>0,SUMIF($F$13:$J$13,CA$13,$F29:$J29)>0,marzo!BY30<>\"X\",marzo!BY30<>\"L\",marzo!BY30<>\"J\",marzo!BY30<>\"F\"),SUMIF($F$13:$J$13,CA$13,$F29:$J29),\"\")","v":""},{"$f":"IF(AND(LEN($D29)>0,SUMIF($F$13:$J$13,CB$13,$F29:$J29)>0,marzo!BZ30<>\"X\",marzo!BZ30<>\"L\",marzo!BZ30<>\"J\",marzo!BZ30<>\"F\"),SUMIF($F$13:$J$13,CB$13,$F29:$J29),\"\")","v":""},{"$error":"#REF!"}]
[{"$error":"#REF!"},{"$f":"IF(LEN(C30)>0,VLOOKUP($O$4,DATA!$A$1:$S$1,2,FALSE),\"\")","v":{"$error":"#REF!"}},{"$error":"#REF!"},{"$f":"IF(LEN(marzo!#REF!)>0,marzo!#REF!,\"\")","v":{"$error":"#REF!"}},{"$f":"IF(LEN(D30)>0,marzo!#REF!,\"\")","v":{"$error":"#REF!"}},null,null,null,null,null,"",null,null,{"$error":"#REF!"},{"$f":"IF(AND(LEN($D30)>0,SUMIF($F$13:$J$13,O$13,$F30:$J30)>0,marzo!#REF!<>\"X\",marzo!#REF!<>\"L\",marzo!#REF!<>\"J\",marzo!#REF!<>\"V\",marzo!#REF!<>\"F\",marzo!#REF!<>\"\"),SUMIF($F$13:$J$13,O$13,$F30:$J30),\"\")","v":{"$error":"#REF!"}},{"$f":"IF(AND(LEN($D30)>0,SUMIF($F$13:$J$13,P$13,$F30:$J30)>0,marzo!#REF!<>\"X\",marzo!#REF!<>\"L\",marzo!#REF!<>\"J\",marzo!#REF!<>\"V\",marzo!#REF!<>\"F\",marzo!#REF!<>\"\"),SUMIF($F$13:$J$13,P$13,$F30:$J30),\"\")","v":{"$error":"#REF!"}},{"$f":"IF(AND(LEN($D30)>0,SUMIF($F$13:$J$13,Q$13,$F30:$J30)>0,marzo!#REF!<>\"X\",marzo!#REF!<>\"L\",marzo!#REF!<>\"J\",marzo!#REF!<>\"V\",marzo!#REF!<>\"F\",marzo!#REF!<>\"\"),SUMIF($F$13:$J$13,Q$13,$F30:$J30),\"\")","v":{"$error":"#REF!"}},{"$f":"IF(AND(LEN($D30)>0,SUMIF($F$13:$J$13,R$13,$F30:$J30)>0,marzo!#REF!<>\"X\",marzo!#REF!<>\"L\",marzo!#REF!<>\"J\",marzo!#REF!<>\"V\",marzo!#REF!<>\"F\",marzo!#REF!<>\"\"),SUMIF($F$13:$J$13,R$13,$F30:$J30),\"\")","v":{"$error":"#REF!"}},{"$f":"IF(AND(LEN($D30)>0,SUMIF($F$13:$J$13,S$13,$F30:$J30)>0,marzo!#REF!<>\"X\",marzo!#REF!<>\"L\",marzo!#REF!<>\"J\",marzo!#REF!<>\"V\",marzo!#REF!<>\"F\",marzo!#REF!<>\"\"),SUMIF($F$13:$J$13,S$13,$F30:$J30),\"\")","v":{"$error":"#REF!"}},{"$f":"IF(AND(LEN($D30)>0,SUMIF($F$13:$J$13,T$13,$F30:$J30)>0,marzo!#REF!<>\"X\",marzo!#REF!<>\"L\",marzo!#REF!<>\"J\",marzo!#REF!<>\"V\",marzo!#REF!<>\"F\",marzo!#REF!<>\"\"),SUMIF($F$13:$J$13,T$13,$F30:$J30),\"\")","v":{"$error":"#REF!"}},{"$f":"IF(AND(LEN($D30)>0,SUMIF($F$13:$J$13,U$13,$F30:$J30)>0,marzo!#REF!<>\"X\",marzo!#REF!<>\"L\",marzo!#REF!<>\"J\",marzo!#REF!<>\"V\",marzo!#REF!<>\"F\",marzo!#REF!<>\"\"),SUMIF($F$13:$J$13,U$13,$F30:$J30),\"\")","v":{"$error":"#REF!"}},{"$f":"IF(AND(LEN($D30)>0,SUMIF($F$13:$J$13,V$13,$F30:$J30)>0,marzo!#REF!<>\"X\",marzo!#REF!<>\"L\",marzo!#REF!<>\"J\",marzo!#REF!<>\"V\",marzo!#REF!<>\"F\",marzo!#REF!<>\"\"),SUMIF($F$13:$J$13,V$13,$F30:$J30),\"\")","v":{"$error":"#REF!"}},{"$f":"IF(AND(LEN($D30)>0,SUMIF($F$13:$J$13,W$13,$F30:$J30)>0,marzo!#REF!<>\"X\",marzo!#REF!<>\"L\",marzo!#REF!<>\"J\",marzo!#REF!<>\"V\",marzo!#REF!<>\"F\",marzo!#REF!<>\"\"),SUMIF($F$13:$J$13,W$13,$F30:$J30),\"\")","v":{"$error":"#REF!"}},{"$f":"IF(AND(LEN($D30)>0,SUMIF($F$13:$J$13,X$13,$F30:$J30)>0,marzo!#REF!<>\"X\",marzo!#REF!<>\"L\",marzo!#REF!<>\"J\",marzo!#REF!<>\"V\",marzo!#REF!<>\"F\",marzo!#REF!<>\"\"),SUMIF($F$13:$J$13,X$13,$F30:$J30),\"\")","v":{"$error":"#REF!"}},{"$f":"IF(AND(LEN($D30)>0,SUMIF($F$13:$J$13,Y$13,$F30:$J30)>0,marzo!#REF!<>\"X\",marzo!#REF!<>\"L\",marzo!#REF!<>\"J\",marzo!#REF!<>\"V\",marzo!#REF!<>\"F\",marzo!#REF!<>\"\"),SUMIF($F$13:$J$13,Y$13,$F30:$J30),\"\")","v":{"$error":"#REF!"}},{"$f":"IF(AND(LEN($D30)>0,SUMIF($F$13:$J$13,Z$13,$F30:$J30)>0,marzo!#REF!<>\"X\",marzo!#REF!<>\"L\",marzo!#REF!<>\"J\",marzo!#REF!<>\"V\",marzo!#REF!<>\"F\",marzo!#REF!<>\"\"),SUMIF($F$13:$J$13,Z$13,$F30:$J30),\"\")","v":{"$error":"#REF!"}},{"$f":"IF(AND(LEN($D30)>0,SUMIF($F$13:$J$13,AA$13,$F30:$J30)>0,marzo!#REF!<>\"X\",marzo!#REF!<>\"L\",marzo!#REF!<>\"J\",marzo!#REF!<>\"V\",marzo!#REF!<>\"F\",marzo!#REF!<>\"\"),SUMIF($F$13:$J$13,AA$13,$F30:$J30),\"\")","v":{"$error":"#REF!"}},{"$f":"IF(AND(LEN($D30)>0,SUMIF($F$13:$J$13,AB$13,$F30:$J30)>0,marzo!#REF!<>\"X\",marzo!#REF!<>\"L\",marzo!#REF!<>\"J\",marzo!#REF!<>\"V\",marzo!#REF!<>\"F\",marzo!#REF!<>\"\"),SUMIF($F$13:$J$13,AB$13,$F30:$J30),\"\")","v":{"$error":"#REF!"}},{"$f":"IF(AND(LEN($D30)>0,SUMIF($F$13:$J$13,AC$13,$F30:$J30)>0,marzo!#REF!<>\"X\",marzo!#REF!<>\"L\",marzo!#REF!<>\"J\",marzo!#REF!<>\"V\",marzo!#REF!<>\"F\",marzo!#REF!<>\"\"),SUMIF($F$13:$J$13,AC$13,$F30:$J30),\"\")","v":{"$error":"#REF!"}},{"$f":"IF(AND(LEN($D30)>0,SUMIF($F$13:$J$13,AD$13,$F30:$J30)>0,marzo!#REF!<>\"X\",marzo!#REF!<>\"L\",marzo!#REF!<>\"J\",marzo!#REF!<>\"V\",marzo!#REF!<>\"F\",marzo!#REF!<>\"\"),SUMIF($F$13:$J$13,AD$13,$F30:$J30),\"\")","v":{"$error":"#REF!"}},{"$f":"IF(AND(LEN($D30)>0,SUMIF($F$13:$J$13,AE$13,$F30:$J30)>0,marzo!#REF!<>\"X\",marzo!#REF!<>\"L\",marzo!#REF!<>\"J\",marzo!#REF!<>\"V\",marzo!#REF!<>\"F\",marzo!#REF!<>\"\"),SUMIF($F$13:$J$13,AE$13,$F30:$J30),\"\")","v":{"$error":"#REF!"}},{"$f":"IF(AND(LEN($D30)>0,SUMIF($F$13:$J$13,AF$13,$F30:$J30)>0,marzo!#REF!<>\"X\",marzo!#REF!<>\"L\",marzo!#REF!<>\"J\",marzo!#REF!<>\"V\",marzo!#REF!<>\"F\",marzo!#REF!<>\"\"),SUMIF($F$13:$J$13,AF$13,$F30:$J30),\"\")","v":{"$error":"#REF!"}},{"$f":"IF(AND(LEN($D30)>0,SUMIF($F$13:$J$13,AG$13,$F30:$J30)>0,marzo!#REF!<>\"X\",marzo!#REF!<>\"L\",marzo!#REF!<>\"J\",marzo!#REF!<>\"V\",marzo!#REF!<>\"F\",marzo!#REF!<>\"\"),SUMIF($F$13:$J$13,AG$13,$F30:$J30),\"\")","v":{"$error":"#REF!"}},{"$f":"IF(AND(LEN($D30)>0,SUMIF($F$13:$J$13,AH$13,$F30:$J30)>0,marzo!#REF!<>\"X\",marzo!#REF!<>\"L\",marzo!#REF!<>\"J\",marzo!#REF!<>\"V\",marzo!#REF!<>\"F\",marzo!#REF!<>\"\"),SUMIF($F$13:$J$13,AH$13,$F30:$J30),\"\")","v":{"$error":"#REF!"}},{"$f":"IF(AND(LEN($D30)>0,SUMIF($F$13:$J$13,AI$13,$F30:$J30)>0,marzo!#REF!<>\"X\",marzo!#REF!<>\"L\",marzo!#REF!<>\"J\",marzo!#REF!<>\"V\",marzo!#REF!<>\"F\",marzo!#REF!<>\"\"),SUMIF($F$13:$J$13,AI$13,$F30:$J30),\"\")","v":{"$error":"#REF!"}},{"$f":"IF(AND(LEN($D30)>0,SUMIF($F$13:$J$13,AJ$13,$F30:$J30)>0,marzo!#REF!<>\"X\",marzo!#REF!<>\"L\",marzo!#REF!<>\"J\",marzo!#REF!<>\"V\",marzo!#REF!<>\"F\",marzo!#REF!<>\"\"),SUMIF($F$13:$J$13,AJ$13,$F30:$J30),\"\")","v":{"$error":"#REF!"}},{"$f":"IF(AND(LEN($D30)>0,SUMIF($F$13:$J$13,AK$13,$F30:$J30)>0,marzo!#REF!<>\"X\",marzo!#REF!<>\"L\",marzo!#REF!<>\"J\",marzo!#REF!<>\"V\",marzo!#REF!<>\"F\",marzo!#REF!<>\"\"),SUMIF($F$13:$J$13,AK$13,$F30:$J30),\"\")","v":{"$error":"#REF!"}},{"$f":"IF(AND(LEN($D30)>0,SUMIF($F$13:$J$13,AL$13,$F30:$J30)>0,marzo!#REF!<>\"X\",marzo!#REF!<>\"L\",marzo!#REF!<>\"J\",marzo!#REF!<>\"V\",marzo!#REF!<>\"F\",marzo!#REF!<>\"\"),SUMIF($F$13:$J$13,AL$13,$F30:$J30),\"\")","v":{"$error":"#REF!"}},{"$f":"IF(AND(LEN($D30)>0,SUMIF($F$13:$J$13,AM$13,$F30:$J30)>0,marzo!#REF!<>\"X\",marzo!#REF!<>\"L\",marzo!#REF!<>\"J\",marzo!#REF!<>\"V\",marzo!#REF!<>\"F\",marzo!#REF!<>\"\"),SUMIF($F$13:$J$13,AM$13,$F30:$J30),\"\")","v":{"$error":"#REF!"}},{"$f":"IF(AND(LEN($D30)>0,SUMIF($F$13:$J$13,AN$13,$F30:$J30)>0,marzo!#REF!<>\"X\",marzo!#REF!<>\"L\",marzo!#REF!<>\"J\",marzo!#REF!<>\"V\",marzo!#REF!<>\"F\",marzo!#REF!<>\"\"),SUMIF($F$13:$J$13,AN$13,$F30:$J30),\"\")","v":{"$error":"#REF!"}},{"$f":"IF(AND(LEN($D30)>0,SUMIF($F$13:$J$13,AO$13,$F30:$J30)>0,marzo!#REF!<>\"X\",marzo!#REF!<>\"L\",marzo!#REF!<>\"J\",marzo!#REF!<>\"V\",marzo!#REF!<>\"F\",marzo!#REF!<>\"\"),SUMIF($F$13:$J$13,AO$13,$F30:$J30),\"\")","v":{"$error":"#REF!"}},{"$f":"IF(AND(LEN($D30)>0,SUMIF($F$13:$J$13,AP$13,$F30:$J30)>0,marzo!#REF!<>\"X\",marzo!#REF!<>\"L\",marzo!#REF!<>\"J\",marzo!#REF!<>\"V\",marzo!#REF!<>\"F\",marzo!#REF!<>\"\"),SUMIF($F$13:$J$13,AP$13,$F30:$J30),\"\")","v":{"$error":"#REF!"}},{"$f":"IF(AND(LEN($D30)>0,SUMIF($F$13:$J$13,AQ$13,$F30:$J30)>0,marzo!#REF!<>\"X\",marzo!#REF!<>\"L\",marzo!#REF!<>\"J\",marzo!#REF!<>\"V\",marzo!#REF!<>\"F\",marzo!#REF!<>\"\"),SUMIF($F$13:$J$13,AQ$13,$F30:$J30),\"\")","v":{"$error":"#REF!"}},{"$f":"IF(AND(LEN($D30)>0,SUMIF($F$13:$J$13,AR$13,$F30:$J30)>0,marzo!#REF!<>\"X\",marzo!#REF!<>\"L\",marzo!#REF!<>\"J\",marzo!#REF!<>\"V\",marzo!#REF!<>\"F\",marzo!#REF!<>\"\"),SUMIF($F$13:$J$13,AR$13,$F30:$J30),\"\")","v":{"$error":"#REF!"}},{"$f":"IF(AND(LEN($D30)>0,SUMIF($F$13:$J$13,AS$13,$F30:$J30)>0,marzo!#REF!<>\"X\",marzo!#REF!<>\"L\",marzo!#REF!<>\"J\",marzo!#REF!<>\"V\",marzo!#REF!<>\"F\",marzo!#REF!<>\"\"),SUMIF($F$13:$J$13,AS$13,$F30:$J30),\"\")","v":{"$error":"#REF!"}},{"$error":"#REF!"},null,null,null,{"$f":"IF(AND(LEN($D30)>0,SUMIF($F$13:$J$13,AX$13,$F30:$J30)>0,marzo!#REF!<>\"X\",marzo!#REF!<>\"L\",marzo!#REF!<>\"J\",marzo!#REF!<>\"F\"),SUMIF($F$13:$J$13,AX$13,$F30:$J30),\"\")","v":{"$error":"#REF!"}},{"$f":"IF(AND(LEN($D30)>0,SUMIF($F$13:$J$13,AY$13,$F30:$J30)>0,marzo!#REF!<>\"X\",marzo!#REF!<>\"L\",marzo!#REF!<>\"J\",marzo!#REF!<>\"F\"),SUMIF($F$13:$J$13,AY$13,$F30:$J30),\"\")","v":{"$error":"#REF!"}},{"$f":"IF(AND(LEN($D30)>0,SUMIF($F$13:$J$13,AZ$13,$F30:$J30)>0,marzo!#REF!<>\"X\",marzo!#REF!<>\"L\",marzo!#REF!<>\"J\",marzo!#REF!<>\"F\"),SUMIF($F$13:$J$13,AZ$13,$F30:$J30),\"\")","v":{"$error":"#REF!"}},{"$f":"IF(AND(LEN($D30)>0,SUMIF($F$13:$J$13,BA$13,$F30:$J30)>0,marzo!#REF!<>\"X\",marzo!#REF!<>\"L\",marzo!#REF!<>\"J\",marzo!#REF!<>\"F\"),SUMIF($F$13:$J$13,BA$13,$F30:$J30),\"\")","v":{"$error":"#REF!"}},{"$f":"IF(AND(LEN($D30)>0,SUMIF($F$13:$J$13,BB$13,$F30:$J30)>0,marzo!#REF!<>\"X\",marzo!#REF!<>\"L\",marzo!#REF!<>\"J\",marzo!#REF!<>\"F\"),SUMIF($F$13:$J$13,BB$13,$F30:$J30),\"\")","v":{"$error":"#REF!"}},{"$f":"IF(AND(LEN($D30)>0,SUMIF($F$13:$J$13,BC$13,$F30:$J30)>0,marzo!#REF!<>\"X\",marzo!#REF!<>\"L\",marzo!#REF!<>\"J\",marzo!#REF!<>\"F\"),SUMIF($F$13:$J$13,BC$13,$F30:$J30),\"\")","v":{"$error":"#REF!"}},{"$f":"IF(AND(LEN($D30)>0,SUMIF($F$13:$J$13,BD$13,$F30:$J30)>0,marzo!#REF!<>\"X\",marzo!#REF!<>\"L\",marzo!#REF!<>\"J\",marzo!#REF!<>\"F\"),SUMIF($F$13:$J$13,BD$13,$F30:$J30),\"\")","v":{"$error":"#REF!"}},{"$f":"IF(AND(LEN($D30)>0,SUMIF($F$13:$J$13,BE$13,$F30:$J30)>0,marzo!#REF!<>\"X\",marzo!#REF!<>\"L\",marzo!#REF!<>\"J\",marzo!#REF!<>\"F\"),SUMIF($F$13:$J$13,BE$13,$F30:$J30),\"\")","v":{"$error":"#REF!"}},{"$f":"IF(AND(LEN($D30)>0,SUMIF($F$13:$J$13,BF$13,$F30:$J30)>0,marzo!#REF!<>\"X\",marzo!#REF!<>\"L\",marzo!#REF!<>\"J\",marzo!#REF!<>\"F\"),SUMIF($F$13:$J$13,BF$13,$F30:$J30),\"\")","v":{"$error":"#REF!"}},{"$f":"IF(AND(LEN($D30)>0,SUMIF($F$13:$J$13,BG$13,$F30:$J30)>0,marzo!#REF!<>\"X\",marzo!#REF!<>\"L\",marzo!#REF!<>\"J\",marzo!#REF!<>\"F\"),SUMIF($F$13:$J$13,BG$13,$F30:$J30),\"\")","v":{"$error":"#REF!"}},{"$f":"IF(AND(LEN($D30)>0,SUMIF($F$13:$J$13,BH$13,$F30:$J30)>0,marzo!#REF!<>\"X\",marzo!#REF!<>\"L\",marzo!#REF!<>\"J\",marzo!#REF!<>\"F\"),SUMIF($F$13:$J$13,BH$13,$F30:$J30),\"\")","v":{"$error":"#REF!"}},{"$f":"IF(AND(LEN($D30)>0,SUMIF($F$13:$J$13,BI$13,$F30:$J30)>0,marzo!#REF!<>\"X\",marzo!#REF!<>\"L\",marzo!#REF!<>\"J\",marzo!#REF!<>\"F\"),SUMIF($F$13:$J$13,BI$13,$F30:$J30),\"\")","v":{"$error":"#REF!"}},{"$f":"IF(AND(LEN($D30)>0,SUMIF($F$13:$J$13,BJ$13,$F30:$J30)>0,marzo!#REF!<>\"X\",marzo!#REF!<>\"L\",marzo!#REF!<>\"J\",marzo!#REF!<>\"F\"),SUMIF($F$13:$J$13,BJ$13,$F30:$J30),\"\")","v":{"$error":"#REF!"}},{"$f":"IF(AND(LEN($D30)>0,SUMIF($F$13:$J$13,BK$13,$F30:$J30)>0,marzo!#REF!<>\"X\",marzo!#REF!<>\"L\",marzo!#REF!<>\"J\",marzo!#REF!<>\"F\"),SUMIF($F$13:$J$13,BK$13,$F30:$J30),\"\")","v":{"$error":"#REF!"}},{"$f":"IF(AND(LEN($D30)>0,SUMIF($F$13:$J$13,BL$13,$F30:$J30)>0,marzo!#REF!<>\"X\",marzo!#REF!<>\"L\",marzo!#REF!<>\"J\",marzo!#REF!<>\"F\"),SUMIF($F$13:$J$13,BL$13,$F30:$J30),\"\")","v":{"$error":"#REF!"}},{"$f":"IF(AND(LEN($D30)>0,SUMIF($F$13:$J$13,BM$13,$F30:$J30)>0,marzo!#REF!<>\"X\",marzo!#REF!<>\"L\",marzo!#REF!<>\"J\",marzo!#REF!<>\"F\"),SUMIF($F$13:$J$13,BM$13,$F30:$J30),\"\")","v":{"$error":"#REF!"}},{"$f":"IF(AND(LEN($D30)>0,SUMIF($F$13:$J$13,BN$13,$F30:$J30)>0,marzo!#REF!<>\"X\",marzo!#REF!<>\"L\",marzo!#REF!<>\"J\",marzo!#REF!<>\"F\"),SUMIF($F$13:$J$13,BN$13,$F30:$J30),\"\")","v":{"$error":"#REF!"}},{"$f":"IF(AND(LEN($D30)>0,SUMIF($F$13:$J$13,BO$13,$F30:$J30)>0,marzo!#REF!<>\"X\",marzo!#REF!<>\"L\",marzo!#REF!<>\"J\",marzo!#REF!<>\"F\"),SUMIF($F$13:$J$13,BO$13,$F30:$J30),\"\")","v":{"$error":"#REF!"}},{"$f":"IF(AND(LEN($D30)>0,SUMIF($F$13:$J$13,BP$13,$F30:$J30)>0,marzo!#REF!<>\"X\",marzo!#REF!<>\"L\",marzo!#REF!<>\"J\",marzo!#REF!<>\"F\"),SUMIF($F$13:$J$13,BP$13,$F30:$J30),\"\")","v":{"$error":"#REF!"}},{"$f":"IF(AND(LEN($D30)>0,SUMIF($F$13:$J$13,BQ$13,$F30:$J30)>0,marzo!#REF!<>\"X\",marzo!#REF!<>\"L\",marzo!#REF!<>\"J\",marzo!#REF!<>\"F\"),SUMIF($F$13:$J$13,BQ$13,$F30:$J30),\"\")","v":{"$error":"#REF!"}},{"$f":"IF(AND(LEN($D30)>0,SUMIF($F$13:$J$13,BR$13,$F30:$J30)>0,marzo!#REF!<>\"X\",marzo!#REF!<>\"L\",marzo!#REF!<>\"J\",marzo!#REF!<>\"F\"),SUMIF($F$13:$J$13,BR$13,$F30:$J30),\"\")","v":{"$error":"#REF!"}},{"$f":"IF(AND(LEN($D30)>0,SUMIF($F$13:$J$13,BS$13,$F30:$J30)>0,marzo!#REF!<>\"X\",marzo!#REF!<>\"L\",marzo!#REF!<>\"J\",marzo!#REF!<>\"F\"),SUMIF($F$13:$J$13,BS$13,$F30:$J30),\"\")","v":{"$error":"#REF!"}},{"$f":"IF(AND(LEN($D30)>0,SUMIF($F$13:$J$13,BT$13,$F30:$J30)>0,marzo!#REF!<>\"X\",marzo!#REF!<>\"L\",marzo!#REF!<>\"J\",marzo!#REF!<>\"F\"),SUMIF($F$13:$J$13,BT$13,$F30:$J30),\"\")","v":{"$error":"#REF!"}},{"$f":"IF(AND(LEN($D30)>0,SUMIF($F$13:$J$13,BU$13,$F30:$J30)>0,marzo!#REF!<>\"X\",marzo!#REF!<>\"L\",marzo!#REF!<>\"J\",marzo!#REF!<>\"F\"),SUMIF($F$13:$J$13,BU$13,$F30:$J30),\"\")","v":{"$error":"#REF!"}},{"$f":"IF(AND(LEN($D30)>0,SUMIF($F$13:$J$13,BV$13,$F30:$J30)>0,marzo!#REF!<>\"X\",marzo!#REF!<>\"L\",marzo!#REF!<>\"J\",marzo!#REF!<>\"F\"),SUMIF($F$13:$J$13,BV$13,$F30:$J30),\"\")","v":{"$error":"#REF!"}},{"$f":"IF(AND(LEN($D30)>0,SUMIF($F$13:$J$13,BW$13,$F30:$J30)>0,marzo!#REF!<>\"X\",marzo!#REF!<>\"L\",marzo!#REF!<>\"J\",marzo!#REF!<>\"F\"),SUMIF($F$13:$J$13,BW$13,$F30:$J30),\"\")","v":{"$error":"#REF!"}},{"$f":"IF(AND(LEN($D30)>0,SUMIF($F$13:$J$13,BX$13,$F30:$J30)>0,marzo!#REF!<>\"X\",marzo!#REF!<>\"L\",marzo!#REF!<>\"J\",marzo!#REF!<>\"F\"),SUMIF($F$13:$J$13,BX$13,$F30:$J30),\"\")","v":{"$error":"#REF!"}},{"$f":"IF(AND(LEN($D30)>0,SUMIF($F$13:$J$13,BY$13,$F30:$J30)>0,marzo!#REF!<>\"X\",marzo!#REF!<>\"L\",marzo!#REF!<>\"J\",marzo!#REF!<>\"F\"),SUMIF($F$13:$J$13,BY$13,$F30:$J30),\"\")","v":{"$error":"#REF!"}},{"$f":"IF(AND(LEN($D30)>0,SUMIF($F$13:$J$13,BZ$13,$F30:$J30)>0,marzo!#REF!<>\"X\",marzo!#REF!<>\"L\",marzo!#REF!<>\"J\",marzo!#REF!<>\"F\"),SUMIF($F$13:$J$13,BZ$13,$F30:$J30),\"\")","v":{"$error":"#REF!"}},{"$f":"IF(AND(LEN($D30)>0,SUMIF($F$13:$J$13,CA$13,$F30:$J30)>0,marzo!#REF!<>\"X\",marzo!#REF!<>\"L\",marzo!#REF!<>\"J\",marzo!#REF!<>\"F\"),SUMIF($F$13:$J$13,CA$13,$F30:$J30),\"\")","v":{"$error":"#REF!"}},{"$f":"IF(AND(LEN($D30)>0,SUMIF($F$13:$J$13,CB$13,$F30:$J30)>0,marzo!#REF!<>\"X\",marzo!#REF!<>\"L\",marzo!#REF!<>\"J\",marzo!#REF!<>\"F\"),SUMIF($F$13:$J$13,CB$13,$F30:$J30),\"\")","v":{"$error":"#REF!"}},{"$error":"#REF!"}]
[{"$error":"#REF!"},{"$f":"IF(LEN(C31)>0,VLOOKUP($O$4,DATA!$A$1:$S$1,2,FALSE),\"\")","v":{"$error":"#REF!"}},{"$error":"#REF!"},{"$f":"IF(LEN(marzo!#REF!)>0,marzo!#REF!,\"\")","v":{"$error":"#REF!"}},{"$f":"IF(LEN(D31)>0,marzo!#REF!,\"\")","v":{"$error":"#REF!"}},null,null,null,null,null,"",null,null,{"$error":"#REF!"},{"$f":"IF(AND(LEN($D31)>0,SUMIF($F$13:$J$13,O$13,$F31:$J31)>0,marzo!#REF!<>\"X\",marzo!#REF!<>\"L\",marzo!#REF!<>\"J\",marzo!#REF!<>\"V\",marzo!#REF!<>\"F\",marzo!#REF!<>\"\"),SUMIF($F$13:$J$13,O$13,$F31:$J31),\"\")","v":{"$error":"#REF!"}},{"$f":"IF(AND(LEN($D31)>0,SUMIF($F$13:$J$13,P$13,$F31:$J31)>0,marzo!#REF!<>\"X\",marzo!#REF!<>\"L\",marzo!#REF!<>\"J\",marzo!#REF!<>\"V\",marzo!#REF!<>\"F\",marzo!#REF!<>\"\"),SUMIF($F$13:$J$13,P$13,$F31:$J31),\"\")","v":{"$error":"#REF!"}},{"$f":"IF(AND(LEN($D31)>0,SUMIF($F$13:$J$13,Q$13,$F31:$J31)>0,marzo!#REF!<>\"X\",marzo!#REF!<>\"L\",marzo!#REF!<>\"J\",marzo!#REF!<>\"V\",marzo!#REF!<>\"F\",marzo!#REF!<>\"\"),SUMIF($F$13:$J$13,Q$13,$F31:$J31),\"\")","v":{"$error":"#REF!"}},{"$f":"IF(AND(LEN($D31)>0,SUMIF($F$13:$J$13,R$13,$F31:$J31)>0,marzo!#REF!<>\"X\",marzo!#REF!<>\"L\",marzo!#REF!<>\"J\",marzo!#REF!<>\"V\",marzo!#REF!<>\"F\",marzo!#REF!<>\"\"),SUMIF($F$13:$J$13,R$13,$F31:$J31),\"\")","v":{"$error":"#REF!"}},{"$f":"IF(AND(LEN($D31)>0,SUMIF($F$13:$J$13,S$13,$F31:$J31)>0,marzo!#REF!<>\"X\",marzo!#REF!<>\"L\",marzo!#REF!<>\"J\",marzo!#REF!<>\"V\",marzo!#REF!<>\"F\",marzo!#REF!<>\"\"),SUMIF($F$13:$J$13,S$13,$F31:$J31),\"\")","v":{"$error":"#REF!"}},{"$f":"IF(AND(LEN($D31)>0,SUMIF($F$13:$J$13,T$13,$F31:$J31)>0,marzo!#REF!<>\"X\",marzo!#REF!<>\"L\",marzo!#REF!<>\"J\",marzo!#REF!<>\"V\",marzo!#REF!<>\"F\",marzo!#REF!<>\"\"),SUMIF($F$13:$J$13,T$13,$F31:$J31),\"\")","v":{"$error":"#REF!"}},{"$f":"IF(AND(LEN($D31)>0,SUMIF($F$13:$J$13,U$13,$F31:$J31)>0,marzo!#REF!<>\"X\",marzo!#REF!<>\"L\",marzo!#REF!<>\"J\",marzo!#REF!<>\"V\",marzo!#REF!<>\"F\",marzo!#REF!<>\"\"),SUMIF($F$13:$J$13,U$13,$F31:$J31),\"\")","v":{"$error":"#REF!"}},{"$f":"IF(AND(LEN($D31)>0,SUMIF($F$13:$J$13,V$13,$F31:$J31)>0,marzo!#REF!<>\"X\",marzo!#REF!<>\"L\",marzo!#REF!<>\"J\",marzo!#REF!<>\"V\",marzo!#REF!<>\"F\",marzo!#REF!<>\"\"),SUMIF($F$13:$J$13,V$13,$F31:$J31),\"\")","v":{"$error":"#REF!"}},{"$f":"IF(AND(LEN($D31)>0,SUMIF($F$13:$J$13,W$13,$F31:$J31)>0,marzo!#REF!<>\"X\",marzo!#REF!<>\"L\",marzo!#REF!<>\"J\",marzo!#REF!<>\"V\",marzo!#REF!<>\"F\",marzo!#REF!<>\"\"),SUMIF($F$13:$J$13,W$13,$F31:$J31),\"\")","v":{"$error":"#REF!"}},{"$f":"IF(AND(LEN($D31)>0,SUMIF($F$13:$J$13,X$13,$F31:$J31)>0,marzo!#REF!<>\"X\",marzo!#REF!<>\"L\",marzo!#REF!<>\"J\",marzo!#REF!<>\"V\",marzo!#REF!<>\"F\",marzo!#REF!<>\"\"),SUMIF($F$13:$J$13,X$13,$F31:$J31),\"\")","v":{"$error":"#REF!"}},{"$f":"IF(AND(LEN($D31)>0,SUMIF($F$13:$J$13,Y$13,$F31:$J31)>0,marzo!#REF!<>\"X\",marzo!#REF!<>\"L\",marzo!#REF!<>\"J\",marzo!#REF!<>\"V\",marzo!#REF!<>\"F\",marzo!#REF!<>\"\"),SUMIF($F$13:$J$13,Y$13,$F31:$J31),\"\")","v":{"$error":"#REF!"}},{"$f":"IF(AND(LEN($D31)>0,SUMIF($F$13:$J$13,Z$13,$F31:$J31)>0,marzo!#REF!<>\"X\",marzo!#REF!<>\"L\",marzo!#REF!<>\"J\",marzo!#REF!<>\"V\",marzo!#REF!<>\"F\",marzo!#REF!<>\"\"),SUMIF($F$13:$J$13,Z$13,$F31:$J31),\"\")","v":{"$error":"#REF!"}},{"$f":"IF(AND(LEN($D31)>0,SUMIF($F$13:$J$13,AA$13,$F31:$J31)>0,marzo!#REF!<>\"X\",marzo!#REF!<>\"L\",marzo!#REF!<>\"J\",marzo!#REF!<>\"V\",marzo!#REF!<>\"F\",marzo!#REF!<>\"\"),SUMIF($F$13:$J$13,AA$13,$F31:$J31),\"\")","v":{"$error":"#REF!"}},{"$f":"IF(AND(LEN($D31)>0,SUMIF($F$13:$J$13,AB$13,$F31:$J31)>0,marzo!#REF!<>\"X\",marzo!#REF!<>\"L\",marzo!#REF!<>\"J\",marzo!#REF!<>\"V\",marzo!#REF!<>\"F\",marzo!#REF!<>\"\"),SUMIF($F$13:$J$13,AB$13,$F31:$J31),\"\")","v":{"$error":"#REF!"}},{"$f":"IF(AND(LEN($D31)>0,SUMIF($F$13:$J$13,AC$13,$F31:$J31)>0,marzo!#REF!<>\"X\",marzo!#REF!<>\"L\",marzo!#REF!<>\"J\",marzo!#REF!<>\"V\",marzo!#REF!<>\"F\",marzo!#REF!<>\"\"),SUMIF($F$13:$J$13,AC$13,$F31:$J31),\"\")","v":{"$error":"#REF!"}},{"$f":"IF(AND(LEN($D31)>0,SUMIF($F$13:$J$13,AD$13,$F31:$J31)>0,marzo!#REF!<>\"X\",marzo!#REF!<>\"L\",marzo!#REF!<>\"J\",marzo!#REF!<>\"V\",marzo!#REF!<>\"F\",marzo!#REF!<>\"\"),SUMIF($F$13:$J$13,AD$13,$F31:$J31),\"\")","v":{"$error":"#REF!"}},{"$f":"IF(AND(LEN($D31)>0,SUMIF($F$13:$J$13,AE$13,$F31:$J31)>0,marzo!#REF!<>\"X\",marzo!#REF!<>\"L\",marzo!#REF!<>\"J\",marzo!#REF!<>\"V\",marzo!#REF!<>\"F\",marzo!#REF!<>\"\"),SUMIF($F$13:$J$13,AE$13,$F31:$J31),\"\")","v":{"$error":"#REF!"}},{"$f":"IF(AND(LEN($D31)>0,SUMIF($F$13:$J$13,AF$13,$F31:$J31)>0,marzo!#REF!<>\"X\",marzo!#REF!<>\"L\",marzo!#REF!<>\"J\",marzo!#REF!<>\"V\",marzo!#REF!<>\"F\",marzo!#REF!<>\"\"),SUMIF($F$13:$J$13,AF$13,$F31:$J31),\"\")","v":{"$error":"#REF!"}},{"$f":"IF(AND(LEN($D31)>0,SUMIF($F$13:$J$13,AG$13,$F31:$J31)>0,marzo!#REF!<>\"X\",marzo!#REF!<>\"L\",marzo!#REF!<>\"J\",marzo!#REF!<>\"V\",marzo!#REF!<>\"F\",marzo!#REF!<>\"\"),SUMIF($F$13:$J$13,AG$13,$F31:$J31),\"\")","v":{"$error":"#REF!"}},{"$f":"IF(AND(LEN($D31)>0,SUMIF($F$13:$J$13,AH$13,$F31:$J31)>0,marzo!#REF!<>\"X\",marzo!#REF!<>\"L\",marzo!#REF!<>\"J\",marzo!#REF!<>\"V\",marzo!#REF!<>\"F\",marzo!#REF!<>\"\"),SUMIF($F$13:$J$13,AH$13,$F31:$J31),\"\")","v":{"$error":"#REF!"}},{"$f":"IF(AND(LEN($D31)>0,SUMIF($F$13:$J$13,AI$13,$F31:$J31)>0,marzo!#REF!<>\"X\",marzo!#REF!<>\"L\",marzo!#REF!<>\"J\",marzo!#REF!<>\"V\",marzo!#REF!<>\"F\",marzo!#REF!<>\"\"),SUMIF($F$13:$J$13,AI$13,$F31:$J31),\"\")","v":{"$error":"#REF!"}},{"$f":"IF(AND(LEN($D31)>0,SUMIF($F$13:$J$13,AJ$13,$F31:$J31)>0,marzo!#REF!<>\"X\",marzo!#REF!<>\"L\",marzo!#REF!<>\"J\",marzo!#REF!<>\"V\",marzo!#REF!<>\"F\",marzo!#REF!<>\"\"),SUMIF($F$13:$J$13,AJ$13,$F31:$J31),\"\")","v":{"$error":"#REF!"}},{"$f":"IF(AND(LEN($D31)>0,SUMIF($F$13:$J$13,AK$13,$F31:$J31)>0,marzo!#REF!<>\"X\",marzo!#REF!<>\"L\",marzo!#REF!<>\"J\",marzo!#REF!<>\"V\",marzo!#REF!<>\"F\",marzo!#REF!<>\"\"),SUMIF($F$13:$J$13,AK$13,$F31:$J31),\"\")","v":{"$error":"#REF!"}},{"$f":"IF(AND(LEN($D31)>0,SUMIF($F$13:$J$13,AL$13,$F31:$J31)>0,marzo!#REF!<>\"X\",marzo!#REF!<>\"L\",marzo!#REF!<>\"J\",marzo!#REF!<>\"V\",marzo!#REF!<>\"F\",marzo!#REF!<>\"\"),SUMIF($F$13:$J$13,AL$13,$F31:$J31),\"\")","v":{"$error":"#REF!"}},{"$f":"IF(AND(LEN($D31)>0,SUMIF($F$13:$J$13,AM$13,$F31:$J31)>0,marzo!#REF!<>\"X\",marzo!#REF!<>\"L\",marzo!#REF!<>\"J\",marzo!#REF!<>\"V\",marzo!#REF!<>\"F\",marzo!#REF!<>\"\"),SUMIF($F$13:$J$13,AM$13,$F31:$J31),\"\")","v":{"$error":"#REF!"}},{"$f":"IF(AND(LEN($D31)>0,SUMIF($F$13:$J$13,AN$13,$F31:$J31)>0,marzo!#REF!<>\"X\",marzo!#REF!<>\"L\",marzo!#REF!<>\"J\",marzo!#REF!<>\"V\",marzo!#REF!<>\"F\",marzo!#REF!<>\"\"),SUMIF($F$13:$J$13,AN$13,$F31:$J31),\"\")","v":{"$error":"#REF!"}},{"$f":"IF(AND(LEN($D31)>0,SUMIF($F$13:$J$13,AO$13,$F31:$J31)>0,marzo!#REF!<>\"X\",marzo!#REF!<>\"L\",marzo!#REF!<>\"J\",marzo!#REF!<>\"V\",marzo!#REF!<>\"F\",marzo!#REF!<>\"\"),SUMIF($F$13:$J$13,AO$13,$F31:$J31),\"\")","v":{"$error":"#REF!"}},{"$f":"IF(AND(LEN($D31)>0,SUMIF($F$13:$J$13,AP$13,$F31:$J31)>0,marzo!#REF!<>\"X\",marzo!#REF!<>\"L\",marzo!#REF!<>\"J\",marzo!#REF!<>\"V\",marzo!#REF!<>\"F\",marzo!#REF!<>\"\"),SUMIF($F$13:$J$13,AP$13,$F31:$J31),\"\")","v":{"$error":"#REF!"}},{"$f":"IF(AND(LEN($D31)>0,SUMIF($F$13:$J$13,AQ$13,$F31:$J31)>0,marzo!#REF!<>\"X\",marzo!#REF!<>\"L\",marzo!#REF!<>\"J\",marzo!#REF!<>\"V\",marzo!#REF!<>\"F\",marzo!#REF!<>\"\"),SUMIF($F$13:$J$13,AQ$13,$F31:$J31),\"\")","v":{"$error":"#REF!"}},{"$f":"IF(AND(LEN($D31)>0,SUMIF($F$13:$J$13,AR$13,$F31:$J31)>0,marzo!#REF!<>\"X\",marzo!#REF!<>\"L\",marzo!#REF!<>\"J\",marzo!#REF!<>\"V\",marzo!#REF!<>\"F\",marzo!#REF!<>\"\"),SUMIF($F$13:$J$13,AR$13,$F31:$J31),\"\")","v":{"$error":"#REF!"}},{"$f":"IF(AND(LEN($D31)>0,SUMIF($F$13:$J$13,AS$13,$F31:$J31)>0,marzo!#REF!<>\"X\",marzo!#REF!<>\"L\",marzo!#REF!<>\"J\",marzo!#REF!<>\"V\",marzo!#REF!<>\"F\",marzo!#REF!<>\"\"),SUMIF($F$13:$J$13,AS$13,$F31:$J31),\"\")","v":{"$error":"#REF!"}},{"$error":"#REF!"},null,null,null,{"$f":"IF(AND(LEN($D31)>0,SUMIF($F$13:$J$13,AX$13,$F31:$J31)>0,marzo!#REF!<>\"X\",marzo!#REF!<>\"L\",marzo!#REF!<>\"J\",marzo!#REF!<>\"F\"),SUMIF($F$13:$J$13,AX$13,$F31:$J31),\"\")","v":{"$error":"#REF!"}},{"$f":"IF(AND(LEN($D31)>0,SUMIF($F$13:$J$13,AY$13,$F31:$J31)>0,marzo!#REF!<>\"X\",marzo!#REF!<>\"L\",marzo!#REF!<>\"J\",marzo!#REF!<>\"F\"),SUMIF($F$13:$J$13,AY$13,$F31:$J31),\"\")","v":{"$error":"#REF!"}},{"$f":"IF(AND(LEN($D31)>0,SUMIF($F$13:$J$13,AZ$13,$F31:$J31)>0,marzo!#REF!<>\"X\",marzo!#REF!<>\"L\",marzo!#REF!<>\"J\",marzo!#REF!<>\"F\"),SUMIF($F$13:$J$13,AZ$13,$F31:$J31),\"\")","v":{"$error":"#REF!"}},{"$f":"IF(AND(LEN($D31)>0,SUMIF($F$13:$J$13,BA$13,$F31:$J31)>0,marzo!#REF!<>\"X\",marzo!#REF!<>\"L\",marzo!#REF!<>\"J\",marzo!#REF!<>\"F\"),SUMIF($F$13:$J$13,BA$13,$F31:$J31),\"\")","v":{"$error":"#REF!"}},{"$f":"IF(AND(LEN($D31)>0,SUMIF($F$13:$J$13,BB$13,$F31:$J31)>0,marzo!#REF!<>\"X\",marzo!#REF!<>\"L\",marzo!#REF!<>\"J\",marzo!#REF!<>\"F\"),SUMIF($F$13:$J$13,BB$13,$F31:$J31),\"\")","v":{"$error":"#REF!"}},{"$f":"IF(AND(LEN($D31)>0,SUMIF($F$13:$J$13,BC$13,$F31:$J31)>0,marzo!#REF!<>\"X\",marzo!#REF!<>\"L\",marzo!#REF!<>\"J\",marzo!#REF!<>\"F\"),SUMIF($F$13:$J$13,BC$13,$F31:$J31),\"\")","v":{"$error":"#REF!"}},{"$f":"IF(AND(LEN($D31)>0,SUMIF($F$13:$J$13,BD$13,$F31:$J31)>0,marzo!#REF!<>\"X\",marzo!#REF!<>\"L\",marzo!#REF!<>\"J\",marzo!#REF!<>\"F\"),SUMIF($F$13:$J$13,BD$13,$F31:$J31),\"\")","v":{"$error":"#REF!"}},{"$f":"IF(AND(LEN($D31)>0,SUMIF($F$13:$J$13,BE$13,$F31:$J31)>0,marzo!#REF!<>\"X\",marzo!#REF!<>\"L\",marzo!#REF!<>\"J\",marzo!#REF!<>\"F\"),SUMIF($F$13:$J$13,BE$13,$F31:$J31),\"\")","v":{"$error":"#REF!"}},{"$f":"IF(AND(LEN($D31)>0,SUMIF($F$13:$J$13,BF$13,$F31:$J31)>0,marzo!#REF!<>\"X\",marzo!#REF!<>\"L\",marzo!#REF!<>\"J\",marzo!#REF!<>\"F\"),SUMIF($F$13:$J$13,BF$13,$F31:$J31),\"\")","v":{"$error":"#REF!"}},{"$f":"IF(AND(LEN($D31)>0,SUMIF($F$13:$J$13,BG$13,$F31:$J31)>0,marzo!#REF!<>\"X\",marzo!#REF!<>\"L\",marzo!#REF!<>\"J\",marzo!#REF!<>\"F\"),SUMIF($F$13:$J$13,BG$13,$F31:$J31),\"\")","v":{"$error":"#REF!"}},{"$f":"IF(AND(LEN($D31)>0,SUMIF($F$13:$J$13,BH$13,$F31:$J31)>0,marzo!#REF!<>\"X\",marzo!#REF!<>\"L\",marzo!#REF!<>\"J\",marzo!#REF!<>\"F\"),SUMIF($F$13:$J$13,BH$13,$F31:$J31),\"\")","v":{"$error":"#REF!"}},{"$f":"IF(AND(LEN($D31)>0,SUMIF($F$13:$J$13,BI$13,$F31:$J31)>0,marzo!#REF!<>\"X\",marzo!#REF!<>\"L\",marzo!#REF!<>\"J\",marzo!#REF!<>\"F\"),SUMIF($F$13:$J$13,BI$13,$F31:$J31),\"\")","v":{"$error":"#REF!"}},{"$f":"IF(AND(LEN($D31)>0,SUMIF($F$13:$J$13,BJ$13,$F31:$J31)>0,marzo!#REF!<>\"X\",marzo!#REF!<>\"L\",marzo!#REF!<>\"J\",marzo!#REF!<>\"F\"),SUMIF($F$13:$J$13,BJ$13,$F31:$J31),\"\")","v":{"$error":"#REF!"}},{"$f":"IF(AND(LEN($D31)>0,SUMIF($F$13:$J$13,BK$13,$F31:$J31)>0,marzo!#REF!<>\"X\",marzo!#REF!<>\"L\",marzo!#REF!<>\"J\",marzo!#REF!<>\"F\"),SUMIF($F$13:$J$13,BK$13,$F31:$J31),\"\")","v":{"$error":"#REF!"}},{"$f":"IF(AND(LEN($D31)>0,SUMIF($F$13:$J$13,BL$13,$F31:$J31)>0,marzo!#REF!<>\"X\",marzo!#REF!<>\"L\",marzo!#REF!<>\"J\",marzo!#REF!<>\"F\"),SUMIF($F$13:$J$13,BL$13,$F31:$J31),\"\")","v":{"$error":"#REF!"}},{"$f":"IF(AND(LEN($D31)>0,SUMIF($F$13:$J$13,BM$13,$F31:$J31)>0,marzo!#REF!<>\"X\",marzo!#REF!<>\"L\",marzo!#REF!<>\"J\",marzo!#REF!<>\"F\"),SUMIF($F$13:$J$13,BM$13,$F31:$J31),\"\")","v":{"$error":"#REF!"}},{"$f":"IF(AND(LEN($D31)>0,SUMIF($F$13:$J$13,BN$13,$F31:$J31)>0,marzo!#REF!<>\"X\",marzo!#REF!<>\"L\",marzo!#REF!<>\"J\",marzo!#REF!<>\"F\"),SUMIF($F$13:$J$13,BN$13,$F31:$J31),\"\")","v":{"$error":"#REF!"}},{"$f":"IF(AND(LEN($D31)>0,SUMIF($F$13:$J$13,BO$13,$F31:$J31)>0,marzo!#REF!<>\"X\",marzo!#REF!<>\"L\",marzo!#REF!<>\"J\",marzo!#REF!<>\"F\"),SUMIF($F$13:$J$13,BO$13,$F31:$J31),\"\")","v":{"$error":"#REF!"}},{"$f":"IF(AND(LEN($D31)>0,SUMIF($F$13:$J$13,BP$13,$F31:$J31)>0,marzo!#REF!<>\"X\",marzo!#REF!<>\"L\",marzo!#REF!<>\"J\",marzo!#REF!<>\"F\"),SUMIF($F$13:$J$13,BP$13,$F31:$J31),\"\")","v":{"$error":"#REF!"}},{"$f":"IF(AND(LEN($D31)>0,SUMIF($F$13:$J$13,BQ$13,$F31:$J31)>0,marzo!#REF!<>\"X\",marzo!#REF!<>\"L\",marzo!#REF!<>\"J\",marzo!#REF!<>\"F\"),SUMIF($F$13:$J$13,BQ$13,$F31:$J31),\"\")","v":{"$error":"#REF!"}},{"$f":"IF(AND(LEN($D31)>0,SUMIF($F$13:$J$13,BR$13,$F31:$J31)>0,marzo!#REF!<>\"X\",marzo!#REF!<>\"L\",marzo!#REF!<>\"J\",marzo!#REF!<>\"F\"),SUMIF($F$13:$J$13,BR$13,$F31:$J31),\"\")","v":{"$error":"#REF!"}},{"$f":"IF(AND(LEN($D31)>0,SUMIF($F$13:$J$13,BS$13,$F31:$J31)>0,marzo!#REF!<>\"X\",marzo!#REF!<>\"L\",marzo!#REF!<>\"J\",marzo!#REF!<>\"F\"),SUMIF($F$13:$J$13,BS$13,$F31:$J31),\"\")","v":{"$error":"#REF!"}},{"$f":"IF(AND(LEN($D31)>0,SUMIF($F$13:$J$13,BT$13,$F31:$J31)>0,marzo!#REF!<>\"X\",marzo!#REF!<>\"L\",marzo!#REF!<>\"J\",marzo!#REF!<>\"F\"),SUMIF($F$13:$J$13,BT$13,$F31:$J31),\"\")","v":{"$error":"#REF!"}},{"$f":"IF(AND(LEN($D31)>0,SUMIF($F$13:$J$13,BU$13,$F31:$J31)>0,marzo!#REF!<>\"X\",marzo!#REF!<>\"L\",marzo!#REF!<>\"J\",marzo!#REF!<>\"F\"),SUMIF($F$13:$J$13,BU$13,$F31:$J31),\"\")","v":{"$error":"#REF!"}},{"$f":"IF(AND(LEN($D31)>0,SUMIF($F$13:$J$13,BV$13,$F31:$J31)>0,marzo!#REF!<>\"X\",marzo!#REF!<>\"L\",marzo!#REF!<>\"J\",marzo!#REF!<>\"F\"),SUMIF($F$13:$J$13,BV$13,$F31:$J31),\"\")","v":{"$error":"#REF!"}},{"$f":"IF(AND(LEN($D31)>0,SUMIF($F$13:$J$13,BW$13,$F31:$J31)>0,marzo!#REF!<>\"X\",marzo!#REF!<>\"L\",marzo!#REF!<>\"J\",marzo!#REF!<>\"F\"),SUMIF($F$13:$J$13,BW$13,$F31:$J31),\"\")","v":{"$error":"#REF!"}},{"$f":"IF(AND(LEN($D31)>0,SUMIF($F$13:$J$13,BX$13,$F31:$J31)>0,marzo!#REF!<>\"X\",marzo!#REF!<>\"L\",marzo!#REF!<>\"J\",marzo!#REF!<>\"F\"),SUMIF($F$13:$J$13,BX$13,$F31:$J31),\"\")","v":{"$error":"#REF!"}},{"$f":"IF(AND(LEN($D31)>0,SUMIF($F$13:$J$13,BY$13,$F31:$J31)>0,marzo!#REF!<>\"X\",marzo!#REF!<>\"L\",marzo!#REF!<>\"J\",marzo!#REF!<>\"F\"),SUMIF($F$13:$J$13,BY$13,$F31:$J31),\"\")","v":{"$error":"#REF!"}},{"$f":"IF(AND(LEN($D31)>0,SUMIF($F$13:$J$13,BZ$13,$F31:$J31)>0,marzo!#REF!<>\"X\",marzo!#REF!<>\"L\",marzo!#REF!<>\"J\",marzo!#REF!<>\"F\"),SUMIF($F$13:$J$13,BZ$13,$F31:$J31),\"\")","v":{"$error":"#REF!"}},{"$f":"IF(AND(LEN($D31)>0,SUMIF($F$13:$J$13,CA$13,$F31:$J31)>0,marzo!#REF!<>\"X\",marzo!#REF!<>\"L\",marzo!#REF!<>\"J\",marzo!#REF!<>\"F\"),SUMIF($F$13:$J$13,CA$13,$F31:$J31),\"\")","v":{"$error":"#REF!"}},{"$f":"IF(AND(LEN($D31)>0,SUMIF($F$13:$J$13,CB$13,$F31:$J31)>0,marzo!#REF!<>\"X\",marzo!#REF!<>\"L\",marzo!#REF!<>\"J\",marzo!#REF!<>\"F\"),SUMIF($F$13:$J$13,CB$13,$F31:$J31),\"\")","v":{"$error":"#REF!"}},{"$error":"#REF!"}]
[{"$error":"#REF!"},{"$f":"IF(LEN(C32)>0,VLOOKUP($O$4,DATA!$A$1:$S$1,2,FALSE),\"\")","v":{"$error":"#REF!"}},{"$error":"#REF!"},{"$f":"IF(LEN(marzo!#REF!)>0,marzo!#REF!,\"\")","v":{"$error":"#REF!"}},{"$f":"IF(LEN(D32)>0,marzo!#REF!,\"\")","v":{"$error":"#REF!"}},null,null,null,null,null,"",null,null,{"$error":"#REF!"},{"$f":"IF(AND(LEN($D32)>0,SUMIF($F$13:$J$13,O$13,$F32:$J32)>0,marzo!#REF!<>\"X\",marzo!#REF!<>\"L\",marzo!#REF!<>\"J\",marzo!#REF!<>\"V\",marzo!#REF!<>\"F\",marzo!#REF!<>\"\"),SUMIF($F$13:$J$13,O$13,$F32:$J32),\"\")","v":{"$error":"#REF!"}},{"$f":"IF(AND(LEN($D32)>0,SUMIF($F$13:$J$13,P$13,$F32:$J32)>0,marzo!#REF!<>\"X\",marzo!#REF!<>\"L\",marzo!#REF!<>\"J\",marzo!#REF!<>\"V\",marzo!#REF!<>\"F\",marzo!#REF!<>\"\"),SUMIF($F$13:$J$13,P$13,$F32:$J32),\"\")","v":{"$error":"#REF!"}},{"$f":"IF(AND(LEN($D32)>0,SUMIF($F$13:$J$13,Q$13,$F32:$J32)>0,marzo!#REF!<>\"X\",marzo!#REF!<>\"L\",marzo!#REF!<>\"J\",marzo!#REF!<>\"V\",marzo!#REF!<>\"F\",marzo!#REF!<>\"\"),SUMIF($F$13:$J$13,Q$13,$F32:$J32),\"\")","v":{"$error":"#REF!"}},{"$f":"IF(AND(LEN($D32)>0,SUMIF($F$13:$J$13,R$13,$F32:$J32)>0,marzo!#REF!<>\"X\",marzo!#REF!<>\"L\",marzo!#REF!<>\"J\",marzo!#REF!<>\"V\",marzo!#REF!<>\"F\",marzo!#REF!<>\"\"),SUMIF($F$13:$J$13,R$13,$F32:$J32),\"\")","v":{"$error":"#REF!"}},{"$f":"IF(AND(LEN($D32)>0,SUMIF($F$13:$J$13,S$13,$F32:$J32)>0,marzo!#REF!<>\"X\",marzo!#REF!<>\"L\",marzo!#REF!<>\"J\",marzo!#REF!<>\"V\",marzo!#REF!<>\"F\",marzo!#REF!<>\"\"),SUMIF($F$13:$J$13,S$13,$F32:$J32),\"\")","v":{"$error":"#REF!"}},{"$f":"IF(AND(LEN($D32)>0,SUMIF($F$13:$J$13,T$13,$F32:$J32)>0,marzo!#REF!<>\"X\",marzo!#REF!<>\"L\",marzo!#REF!<>\"J\",marzo!#REF!<>\"V\",marzo!#REF!<>\"F\",marzo!#REF!<>\"\"),SUMIF($F$13:$J$13,T$13,$F32:$J32),\"\")","v":{"$error":"#REF!"}},{"$f":"IF(AND(LEN($D32)>0,SUMIF($F$13:$J$13,U$13,$F32:$J32)>0,marzo!#REF!<>\"X\",marzo!#REF!<>\"L\",marzo!#REF!<>\"J\",marzo!#REF!<>\"V\",marzo!#REF!<>\"F\",marzo!#REF!<>\"\"),SUMIF($F$13:$J$13,U$13,$F32:$J32),\"\")","v":{"$error":"#REF!"}},{"$f":"IF(AND(LEN($D32)>0,SUMIF($F$13:$J$13,V$13,$F32:$J32)>0,marzo!#REF!<>\"X\",marzo!#REF!<>\"L\",marzo!#REF!<>\"J\",marzo!#REF!<>\"V\",marzo!#REF!<>\"F\",marzo!#REF!<>\"\"),SUMIF($F$13:$J$13,V$13,$F32:$J32),\"\")","v":{"$error":"#REF!"}},{"$f":"IF(AND(LEN($D32)>0,SUMIF($F$13:$J$13,W$13,$F32:$J32)>0,marzo!#REF!<>\"X\",marzo!#REF!<>\"L\",marzo!#REF!<>\"J\",marzo!#REF!<>\"V\",marzo!#REF!<>\"F\",marzo!#REF!<>\"\"),SUMIF($F$13:$J$13,W$13,$F32:$J32),\"\")","v":{"$error":"#REF!"}},{"$f":"IF(AND(LEN($D32)>0,SUMIF($F$13:$J$13,X$13,$F32:$J32)>0,marzo!#REF!<>\"X\",marzo!#REF!<>\"L\",marzo!#REF!<>\"J\",marzo!#REF!<>\"V\",marzo!#REF!<>\"F\",marzo!#REF!<>\"\"),SUMIF($F$13:$J$13,X$13,$F32:$J32),\"\")","v":{"$error":"#REF!"}},{"$f":"IF(AND(LEN($D32)>0,SUMIF($F$13:$J$13,Y$13,$F32:$J32)>0,marzo!#REF!<>\"X\",marzo!#REF!<>\"L\",marzo!#REF!<>\"J\",marzo!#REF!<>\"V\",marzo!#REF!<>\"F\",marzo!#REF!<>\"\"),SUMIF($F$13:$J$13,Y$13,$F32:$J32),\"\")","v":{"$error":"#REF!"}},{"$f":"IF(AND(LEN($D32)>0,SUMIF($F$13:$J$13,Z$13,$F32:$J32)>0,marzo!#REF!<>\"X\",marzo!#REF!<>\"L\",marzo!#REF!<>\"J\",marzo!#REF!<>\"V\",marzo!#REF!<>\"F\",marzo!#REF!<>\"\"),SUMIF($F$13:$J$13,Z$13,$F32:$J32),\"\")","v":{"$error":"#REF!"}},{"$f":"IF(AND(LEN($D32)>0,SUMIF($F$13:$J$13,AA$13,$F32:$J32)>0,marzo!#REF!<>\"X\",marzo!#REF!<>\"L\",marzo!#REF!<>\"J\",marzo!#REF!<>\"V\",marzo!#REF!<>\"F\",marzo!#REF!<>\"\"),SUMIF($F$13:$J$13,AA$13,$F32:$J32),\"\")","v":{"$error":"#REF!"}},{"$f":"IF(AND(LEN($D32)>0,SUMIF($F$13:$J$13,AB$13,$F32:$J32)>0,marzo!#REF!<>\"X\",marzo!#REF!<>\"L\",marzo!#REF!<>\"J\",marzo!#REF!<>\"V\",marzo!#REF!<>\"F\",marzo!#REF!<>\"\"),SUMIF($F$13:$J$13,AB$13,$F32:$J32),\"\")","v":{"$error":"#REF!"}},{"$f":"IF(AND(LEN($D32)>0,SUMIF($F$13:$J$13,AC$13,$F32:$J32)>0,marzo!#REF!<>\"X\",marzo!#REF!<>\"L\",marzo!#REF!<>\"J\",marzo!#REF!<>\"V\",marzo!#REF!<>\"F\",marzo!#REF!<>\"\"),SUMIF($F$13:$J$13,AC$13,$F32:$J32),\"\")","v":{"$error":"#REF!"}},{"$f":"IF(AND(LEN($D32)>0,SUMIF($F$13:$J$13,AD$13,$F32:$J32)>0,marzo!#REF!<>\"X\",marzo!#REF!<>\"L\",marzo!#REF!<>\"J\",marzo!#REF!<>\"V\",marzo!#REF!<>\"F\",marzo!#REF!<>\"\"),SUMIF($F$13:$J$13,AD$13,$F32:$J32),\"\")","v":{"$error":"#REF!"}},{"$f":"IF(AND(LEN($D32)>0,SUMIF($F$13:$J$13,AE$13,$F32:$J32)>0,marzo!#REF!<>\"X\",marzo!#REF!<>\"L\",marzo!#REF!<>\"J\",marzo!#REF!<>\"V\",marzo!#REF!<>\"F\",marzo!#REF!<>\"\"),SUMIF($F$13:$J$13,AE$13,$F32:$J32),\"\")","v":{"$error":"#REF!"}},{"$f":"IF(AND(LEN($D32)>0,SUMIF($F$13:$J$13,AF$13,$F32:$J32)>0,marzo!#REF!<>\"X\",marzo!#REF!<>\"L\",marzo!#REF!<>\"J\",marzo!#REF!<>\"V\",marzo!#REF!<>\"F\",marzo!#REF!<>\"\"),SUMIF($F$13:$J$13,AF$13,$F32:$J32),\"\")","v":{"$error":"#REF!"}},{"$f":"IF(AND(LEN($D32)>0,SUMIF($F$13:$J$13,AG$13,$F32:$J32)>0,marzo!#REF!<>\"X\",marzo!#REF!<>\"L\",marzo!#REF!<>\"J\",marzo!#REF!<>\"V\",marzo!#REF!<>\"F\",marzo!#REF!<>\"\"),SUMIF($F$13:$J$13,AG$13,$F32:$J32),\"\")","v":{"$error":"#REF!"}},{"$f":"IF(AND(LEN($D32)>0,SUMIF($F$13:$J$13,AH$13,$F32:$J32)>0,marzo!#REF!<>\"X\",marzo!#REF!<>\"L\",marzo!#REF!<>\"J\",marzo!#REF!<>\"V\",marzo!#REF!<>\"F\",marzo!#REF!<>\"\"),SUMIF($F$13:$J$13,AH$13,$F32:$J32),\"\")","v":{"$error":"#REF!"}},{"$f":"IF(AND(LEN($D32)>0,SUMIF($F$13:$J$13,AI$13,$F32:$J32)>0,marzo!#REF!<>\"X\",marzo!#REF!<>\"L\",marzo!#REF!<>\"J\",marzo!#REF!<>\"V\",marzo!#REF!<>\"F\",marzo!#REF!<>\"\"),SUMIF($F$13:$J$13,AI$13,$F32:$J32),\"\")","v":{"$error":"#REF!"}},{"$f":"IF(AND(LEN($D32)>0,SUMIF($F$13:$J$13,AJ$13,$F32:$J32)>0,marzo!#REF!<>\"X\",marzo!#REF!<>\"L\",marzo!#REF!<>\"J\",marzo!#REF!<>\"V\",marzo!#REF!<>\"F\",marzo!#REF!<>\"\"),SUMIF($F$13:$J$13,AJ$13,$F32:$J32),\"\")","v":{"$error":"#REF!"}},{"$f":"IF(AND(LEN($D32)>0,SUMIF($F$13:$J$13,AK$13,$F32:$J32)>0,marzo!#REF!<>\"X\",marzo!#REF!<>\"L\",marzo!#REF!<>\"J\",marzo!#REF!<>\"V\",marzo!#REF!<>\"F\",marzo!#REF!<>\"\"),SUMIF($F$13:$J$13,AK$13,$F32:$J32),\"\")","v":{"$error":"#REF!"}},{"$f":"IF(AND(LEN($D32)>0,SUMIF($F$13:$J$13,AL$13,$F32:$J32)>0,marzo!#REF!<>\"X\",marzo!#REF!<>\"L\",marzo!#REF!<>\"J\",marzo!#REF!<>\"V\",marzo!#REF!<>\"F\",marzo!#REF!<>\"\"),SUMIF($F$13:$J$13,AL$13,$F32:$J32),\"\")","v":{"$error":"#REF!"}},{"$f":"IF(AND(LEN($D32)>0,SUMIF($F$13:$J$13,AM$13,$F32:$J32)>0,marzo!#REF!<>\"X\",marzo!#REF!<>\"L\",marzo!#REF!<>\"J\",marzo!#REF!<>\"V\",marzo!#REF!<>\"F\",marzo!#REF!<>\"\"),SUMIF($F$13:$J$13,AM$13,$F32:$J32),\"\")","v":{"$error":"#REF!"}},{"$f":"IF(AND(LEN($D32)>0,SUMIF($F$13:$J$13,AN$13,$F32:$J32)>0,marzo!#REF!<>\"X\",marzo!#REF!<>\"L\",marzo!#REF!<>\"J\",marzo!#REF!<>\"V\",marzo!#REF!<>\"F\",marzo!#REF!<>\"\"),SUMIF($F$13:$J$13,AN$13,$F32:$J32),\"\")","v":{"$error":"#REF!"}},{"$f":"IF(AND(LEN($D32)>0,SUMIF($F$13:$J$13,AO$13,$F32:$J32)>0,marzo!#REF!<>\"X\",marzo!#REF!<>\"L\",marzo!#REF!<>\"J\",marzo!#REF!<>\"V\",marzo!#REF!<>\"F\",marzo!#REF!<>\"\"),SUMIF($F$13:$J$13,AO$13,$F32:$J32),\"\")","v":{"$error":"#REF!"}},{"$f":"IF(AND(LEN($D32)>0,SUMIF($F$13:$J$13,AP$13,$F32:$J32)>0,marzo!#REF!<>\"X\",marzo!#REF!<>\"L\",marzo!#REF!<>\"J\",marzo!#REF!<>\"V\",marzo!#REF!<>\"F\",marzo!#REF!<>\"\"),SUMIF($F$13:$J$13,AP$13,$F32:$J32),\"\")","v":{"$error":"#REF!"}},{"$f":"IF(AND(LEN($D32)>0,SUMIF($F$13:$J$13,AQ$13,$F32:$J32)>0,marzo!#REF!<>\"X\",marzo!#REF!<>\"L\",marzo!#REF!<>\"J\",marzo!#REF!<>\"V\",marzo!#REF!<>\"F\",marzo!#REF!<>\"\"),SUMIF($F$13:$J$13,AQ$13,$F32:$J32),\"\")","v":{"$error":"#REF!"}},{"$f":"IF(AND(LEN($D32)>0,SUMIF($F$13:$J$13,AR$13,$F32:$J32)>0,marzo!#REF!<>\"X\",marzo!#REF!<>\"L\",marzo!#REF!<>\"J\",marzo!#REF!<>\"V\",marzo!#REF!<>\"F\",marzo!#REF!<>\"\"),SUMIF($F$13:$J$13,AR$13,$F32:$J32),\"\")","v":{"$error":"#REF!"}},{"$f":"IF(AND(LEN($D32)>0,SUMIF($F$13:$J$13,AS$13,$F32:$J32)>0,marzo!#REF!<>\"X\",marzo!#REF!<>\"L\",marzo!#REF!<>\"J\",marzo!#REF!<>\"V\",marzo!#REF!<>\"F\",marzo!#REF!<>\"\"),SUMIF($F$13:$J$13,AS$13,$F32:$J32),\"\")","v":{"$error":"#REF!"}},{"$error":"#REF!"},null,null,null,{"$f":"IF(AND(LEN($D32)>0,SUMIF($F$13:$J$13,AX$13,$F32:$J32)>0,marzo!#REF!<>\"X\",marzo!#REF!<>\"L\",marzo!#REF!<>\"J\",marzo!#REF!<>\"F\"),SUMIF($F$13:$J$13,AX$13,$F32:$J32),\"\")","v":{"$error":"#REF!"}},{"$f":"IF(AND(LEN($D32)>0,SUMIF($F$13:$J$13,AY$13,$F32:$J32)>0,marzo!#REF!<>\"X\",marzo!#REF!<>\"L\",marzo!#REF!<>\"J\",marzo!#REF!<>\"F\"),SUMIF($F$13:$J$13,AY$13,$F32:$J32),\"\")","v":{"$error":"#REF!"}},{"$f":"IF(AND(LEN($D32)>0,SUMIF($F$13:$J$13,AZ$13,$F32:$J32)>0,marzo!#REF!<>\"X\",marzo!#REF!<>\"L\",marzo!#REF!<>\"J\",marzo!#REF!<>\"F\"),SUMIF($F$13:$J$13,AZ$13,$F32:$J32),\"\")","v":{"$error":"#REF!"}},{"$f":"IF(AND(LEN($D32)>0,SUMIF($F$13:$J$13,BA$13,$F32:$J32)>0,marzo!#REF!<>\"X\",marzo!#REF!<>\"L\",marzo!#REF!<>\"J\",marzo!#REF!<>\"F\"),SUMIF($F$13:$J$13,BA$13,$F32:$J32),\"\")","v":{"$error":"#REF!"}},{"$f":"IF(AND(LEN($D32)>0,SUMIF($F$13:$J$13,BB$13,$F32:$J32)>0,marzo!#REF!<>\"X\",marzo!#REF!<>\"L\",marzo!#REF!<>\"J\",marzo!#REF!<>\"F\"),SUMIF($F$13:$J$13,BB$13,$F32:$J32),\"\")","v":{"$error":"#REF!"}},{"$f":"IF(AND(LEN($D32)>0,SUMIF($F$13:$J$13,BC$13,$F32:$J32)>0,marzo!#REF!<>\"X\",marzo!#REF!<>\"L\",marzo!#REF!<>\"J\",marzo!#REF!<>\"F\"),SUMIF($F$13:$J$13,BC$13,$F32:$J32),\"\")","v":{"$error":"#REF!"}},{"$f":"IF(AND(LEN($D32)>0,SUMIF($F$13:$J$13,BD$13,$F32:$J32)>0,marzo!#REF!<>\"X\",marzo!#REF!<>\"L\",marzo!#REF!<>\"J\",marzo!#REF!<>\"F\"),SUMIF($F$13:$J$13,BD$13,$F32:$J32),\"\")","v":{"$error":"#REF!"}},{"$f":"IF(AND(LEN($D32)>0,SUMIF($F$13:$J$13,BE$13,$F32:$J32)>0,marzo!#REF!<>\"X\",marzo!#REF!<>\"L\",marzo!#REF!<>\"J\",marzo!#REF!<>\"F\"),SUMIF($F$13:$J$13,BE$13,$F32:$J32),\"\")","v":{"$error":"#REF!"}},{"$f":"IF(AND(LEN($D32)>0,SUMIF($F$13:$J$13,BF$13,$F32:$J32)>0,marzo!#REF!<>\"X\",marzo!#REF!<>\"L\",marzo!#REF!<>\"J\",marzo!#REF!<>\"F\"),SUMIF($F$13:$J$13,BF$13,$F32:$J32),\"\")","v":{"$error":"#REF!"}},{"$f":"IF(AND(LEN($D32)>0,SUMIF($F$13:$J$13,BG$13,$F32:$J32)>0,marzo!#REF!<>\"X\",marzo!#REF!<>\"L\",marzo!#REF!<>\"J\",marzo!#REF!<>\"F\"),SUMIF($F$13:$J$13,BG$13,$F32:$J32),\"\")","v":{"$error":"#REF!"}},{"$f":"IF(AND(LEN($D32)>0,SUMIF($F$13:$J$13,BH$13,$F32:$J32)>0,marzo!#REF!<>\"X\",marzo!#REF!<>\"L\",marzo!#REF!<>\"J\",marzo!#REF!<>\"F\"),SUMIF($F$13:$J$13,BH$13,$F32:$J32),\"\")","v":{"$error":"#REF!"}},{"$f":"IF(AND(LEN($D32)>0,SUMIF($F$13:$J$13,BI$13,$F32:$J32)>0,marzo!#REF!<>\"X\",marzo!#REF!<>\"L\",marzo!#REF!<>\"J\",marzo!#REF!<>\"F\"),SUMIF($F$13:$J$13,BI$13,$F32:$J32),\"\")","v":{"$error":"#REF!"}},{"$f":"IF(AND(LEN($D32)>0,SUMIF($F$13:$J$13,BJ$13,$F32:$J32)>0,marzo!#REF!<>\"X\",marzo!#REF!<>\"L\",marzo!#REF!<>\"J\",marzo!#REF!<>\"F\"),SUMIF($F$13:$J$13,BJ$13,$F32:$J32),\"\")","v":{"$error":"#REF!"}},{"$f":"IF(AND(LEN($D32)>0,SUMIF($F$13:$J$13,BK$13,$F32:$J32)>0,marzo!#REF!<>\"X\",marzo!#REF!<>\"L\",marzo!#REF!<>\"J\",marzo!#REF!<>\"F\"),SUMIF($F$13:$J$13,BK$13,$F32:$J32),\"\")","v":{"$error":"#REF!"}},{"$f":"IF(AND(LEN($D32)>0,SUMIF($F$13:$J$13,BL$13,$F32:$J32)>0,marzo!#REF!<>\"X\",marzo!#REF!<>\"L\",marzo!#REF!<>\"J\",marzo!#REF!<>\"F\"),SUMIF($F$13:$J$13,BL$13,$F32:$J32),\"\")","v":{"$error":"#REF!"}},{"$f":"IF(AND(LEN($D32)>0,SUMIF($F$13:$J$13,BM$13,$F32:$J32)>0,marzo!#REF!<>\"X\",marzo!#REF!<>\"L\",marzo!#REF!<>\"J\",marzo!#REF!<>\"F\"),SUMIF($F$13:$J$13,BM$13,$F32:$J32),\"\")","v":{"$error":"#REF!"}},{"$f":"IF(AND(LEN($D32)>0,SUMIF($F$13:$J$13,BN$13,$F32:$J32)>0,marzo!#REF!<>\"X\",marzo!#REF!<>\"L\",marzo!#REF!<>\"J\",marzo!#REF!<>\"F\"),SUMIF($F$13:$J$13,BN$13,$F32:$J32),\"\")","v":{"$error":"#REF!"}},{"$f":"IF(AND(LEN($D32)>0,SUMIF($F$13:$J$13,BO$13,$F32:$J32)>0,marzo!#REF!<>\"X\",marzo!#REF!<>\"L\",marzo!#REF!<>\"J\",marzo!#REF!<>\"F\"),SUMIF($F$13:$J$13,BO$13,$F32:$J32),\"\")","v":{"$error":"#REF!"}},{"$f":"IF(AND(LEN($D32)>0,SUMIF($F$13:$J$13,BP$13,$F32:$J32)>0,marzo!#REF!<>\"X\",marzo!#REF!<>\"L\",marzo!#REF!<>\"J\",marzo!#REF!<>\"F\"),SUMIF($F$13:$J$13,BP$13,$F32:$J32),\"\")","v":{"$error":"#REF!"}},{"$f":"IF(AND(LEN($D32)>0,SUMIF($F$13:$J$13,BQ$13,$F32:$J32)>0,marzo!#REF!<>\"X\",marzo!#REF!<>\"L\",marzo!#REF!<>\"J\",marzo!#REF!<>\"F\"),SUMIF($F$13:$J$13,BQ$13,$F32:$J32),\"\")","v":{"$error":"#REF!"}},{"$f":"IF(AND(LEN($D32)>0,SUMIF($F$13:$J$13,BR$13,$F32:$J32)>0,marzo!#REF!<>\"X\",marzo!#REF!<>\"L\",marzo!#REF!<>\"J\",marzo!#REF!<>\"F\"),SUMIF($F$13:$J$13,BR$13,$F32:$J32),\"\")","v":{"$error":"#REF!"}},{"$f":"IF(AND(LEN($D32)>0,SUMIF($F$13:$J$13,BS$13,$F32:$J32)>0,marzo!#REF!<>\"X\",marzo!#REF!<>\"L\",marzo!#REF!<>\"J\",marzo!#REF!<>\"F\"),SUMIF($F$13:$J$13,BS$13,$F32:$J32),\"\")","v":{"$error":"#REF!"}},{"$f":"IF(AND(LEN($D32)>0,SUMIF($F$13:$J$13,BT$13,$F32:$J32)>0,marzo!#REF!<>\"X\",marzo!#REF!<>\"L\",marzo!#REF!<>\"J\",marzo!#REF!<>\"F\"),SUMIF($F$13:$J$13,BT$13,$F32:$J32),\"\")","v":{"$error":"#REF!"}},{"$f":"IF(AND(LEN($D32)>0,SUMIF($F$13:$J$13,BU$13,$F32:$J32)>0,marzo!#REF!<>\"X\",marzo!#REF!<>\"L\",marzo!#REF!<>\"J\",marzo!#REF!<>\"F\"),SUMIF($F$13:$J$13,BU$13,$F32:$J32),\"\")","v":{"$error":"#REF!"}},{"$f":"IF(AND(LEN($D32)>0,SUMIF($F$13:$J$13,BV$13,$F32:$J32)>0,marzo!#REF!<>\"X\",marzo!#REF!<>\"L\",marzo!#REF!<>\"J\",marzo!#REF!<>\"F\"),SUMIF($F$13:$J$13,BV$13,$F32:$J32),\"\")","v":{"$error":"#REF!"}},{"$f":"IF(AND(LEN($D32)>0,SUMIF($F$13:$J$13,BW$13,$F32:$J32)>0,marzo!#REF!<>\"X\",marzo!#REF!<>\"L\",marzo!#REF!<>\"J\",marzo!#REF!<>\"F\"),SUMIF($F$13:$J$13,BW$13,$F32:$J32),\"\")","v":{"$error":"#REF!"}},{"$f":"IF(AND(LEN($D32)>0,SUMIF($F$13:$J$13,BX$13,$F32:$J32)>0,marzo!#REF!<>\"X\",marzo!#REF!<>\"L\",marzo!#REF!<>\"J\",marzo!#REF!<>\"F\"),SUMIF($F$13:$J$13,BX$13,$F32:$J32),\"\")","v":{"$error":"#REF!"}},{"$f":"IF(AND(LEN($D32)>0,SUMIF($F$13:$J$13,BY$13,$F32:$J32)>0,marzo!#REF!<>\"X\",marzo!#REF!<>\"L\",marzo!#REF!<>\"J\",marzo!#REF!<>\"F\"),SUMIF($F$13:$J$13,BY$13,$F32:$J32),\"\")","v":{"$error":"#REF!"}},{"$f":"IF(AND(LEN($D32)>0,SUMIF($F$13:$J$13,BZ$13,$F32:$J32)>0,marzo!#REF!<>\"X\",marzo!#REF!<>\"L\",marzo!#REF!<>\"J\",marzo!#REF!<>\"F\"),SUMIF($F$13:$J$13,BZ$13,$F32:$J32),\"\")","v":{"$error":"#REF!"}},{"$f":"IF(AND(LEN($D32)>0,SUMIF($F$13:$J$13,CA$13,$F32:$J32)>0,marzo!#REF!<>\"X\",marzo!#REF!<>\"L\",marzo!#REF!<>\"J\",marzo!#REF!<>\"F\"),SUMIF($F$13:$J$13,CA$13,$F32:$J32),\"\")","v":{"$error":"#REF!"}},{"$f":"IF(AND(LEN($D32)>0,SUMIF($F$13:$J$13,CB$13,$F32:$J32)>0,marzo!#REF!<>\"X\",marzo!#REF!<>\"L\",marzo!#REF!<>\"J\",marzo!#REF!<>\"F\"),SUMIF($F$13:$J$13,CB$13,$F32:$J32),\"\")","v":{"$error":"#REF!"}},{"$error":"#REF!"}]
[{"$error":"#REF!"},{"$f":"IF(LEN(C33)>0,VLOOKUP($O$4,DATA!$A$1:$S$1,2,FALSE),\"\")","v":{"$error":"#REF!"}},{"$error":"#REF!"},{"$f":"IF(LEN(marzo!#REF!)>0,marzo!#REF!,\"\")","v":{"$error":"#REF!"}},{"$f":"IF(LEN(D33)>0,marzo!#REF!,\"\")","v":{"$error":"#REF!"}},null,null,null,null,null,"",null,null,{"$error":"#REF!"},{"$f":"IF(AND(LEN($D33)>0,SUMIF($F$13:$J$13,O$13,$F33:$J33)>0,marzo!#REF!<>\"X\",marzo!#REF!<>\"L\",marzo!#REF!<>\"J\",marzo!#REF!<>\"V\",marzo!#REF!<>\"F\",marzo!#REF!<>\"\"),SUMIF($F$13:$J$13,O$13,$F33:$J33),\"\")","v":{"$error":"#REF!"}},{"$f":"IF(AND(LEN($D33)>0,SUMIF($F$13:$J$13,P$13,$F33:$J33)>0,marzo!#REF!<>\"X\",marzo!#REF!<>\"L\",marzo!#REF!<>\"J\",marzo!#REF!<>\"V\",marzo!#REF!<>\"F\",marzo!#REF!<>\"\"),SUMIF($F$13:$J$13,P$13,$F33:$J33),\"\")","v":{"$error":"#REF!"}},{"$f":"IF(AND(LEN($D33)>0,SUMIF($F$13:$J$13,Q$13,$F33:$J33)>0,marzo!#REF!<>\"X\",marzo!#REF!<>\"L\",marzo!#REF!<>\"J\",marzo!#REF!<>\"V\",marzo!#REF!<>\"F\",marzo!#REF!<>\"\"),SUMIF($F$13:$J$13,Q$13,$F33:$J33),\"\")","v":{"$error":"#REF!"}},{"$f":"IF(AND(LEN($D33)>0,SUMIF($F$13:$J$13,R$13,$F33:$J33)>0,marzo!#REF!<>\"X\",marzo!#REF!<>\"L\",marzo!#REF!<>\"J\",marzo!#REF!<>\"V\",marzo!#REF!<>\"F\",marzo!#REF!<>\"\"),SUMIF($F$13:$J$13,R$13,$F33:$J33),\"\")","v":{"$error":"#REF!"}},{"$f":"IF(AND(LEN($D33)>0,SUMIF($F$13:$J$13,S$13,$F33:$J33)>0,marzo!#REF!<>\"X\",marzo!#REF!<>\"L\",marzo!#REF!<>\"J\",marzo!#REF!<>\"V\",marzo!#REF!<>\"F\",marzo!#REF!<>\"\"),SUMIF($F$13:$J$13,S$13,$F33:$J33),\"\")","v":{"$error":"#REF!"}},{"$f":"IF(AND(LEN($D33)>0,SUMIF($F$13:$J$13,T$13,$F33:$J33)>0,marzo!#REF!<>\"X\",marzo!#REF!<>\"L\",marzo!#REF!<>\"J\",marzo!#REF!<>\"V\",marzo!#REF!<>\"F\",marzo!#REF!<>\"\"),SUMIF($F$13:$J$13,T$13,$F33:$J33),\"\")","v":{"$error":"#REF!"}},{"$f":"IF(AND(LEN($D33)>0,SUMIF($F$13:$J$13,U$13,$F33:$J33)>0,marzo!#REF!<>\"X\",marzo!#REF!<>\"L\",marzo!#REF!<>\"J\",marzo!#REF!<>\"V\",marzo!#REF!<>\"F\",marzo!#REF!<>\"\"),SUMIF($F$13:$J$13,U$13,$F33:$J33),\"\")","v":{"$error":"#REF!"}},{"$f":"IF(AND(LEN($D33)>0,SUMIF($F$13:$J$13,V$13,$F33:$J33)>0,marzo!#REF!<>\"X\",marzo!#REF!<>\"L\",marzo!#REF!<>\"J\",marzo!#REF!<>\"V\",marzo!#REF!<>\"F\",marzo!#REF!<>\"\"),SUMIF($F$13:$J$13,V$13,$F33:$J33),\"\")","v":{"$error":"#REF!"}},{"$f":"IF(AND(LEN($D33)>0,SUMIF($F$13:$J$13,W$13,$F33:$J33)>0,marzo!#REF!<>\"X\",marzo!#REF!<>\"L\",marzo!#REF!<>\"J\",marzo!#REF!<>\"V\",marzo!#REF!<>\"F\",marzo!#REF!<>\"\"),SUMIF($F$13:$J$13,W$13,$F33:$J33),\"\")","v":{"$error":"#REF!"}},{"$f":"IF(AND(LEN($D33)>0,SUMIF($F$13:$J$13,X$13,$F33:$J33)>0,marzo!#REF!<>\"X\",marzo!#REF!<>\"L\",marzo!#REF!<>\"J\",marzo!#REF!<>\"V\",marzo!#REF!<>\"F\",marzo!#REF!<>\"\"),SUMIF($F$13:$J$13,X$13,$F33:$J33),\"\")","v":{"$error":"#REF!"}},{"$f":"IF(AND(LEN($D33)>0,SUMIF($F$13:$J$13,Y$13,$F33:$J33)>0,marzo!#REF!<>\"X\",marzo!#REF!<>\"L\",marzo!#REF!<>\"J\",marzo!#REF!<>\"V\",marzo!#REF!<>\"F\",marzo!#REF!<>\"\"),SUMIF($F$13:$J$13,Y$13,$F33:$J33),\"\")","v":{"$error":"#REF!"}},{"$f":"IF(AND(LEN($D33)>0,SUMIF($F$13:$J$13,Z$13,$F33:$J33)>0,marzo!#REF!<>\"X\",marzo!#REF!<>\"L\",marzo!#REF!<>\"J\",marzo!#REF!<>\"V\",marzo!#REF!<>\"F\",marzo!#REF!<>\"\"),SUMIF($F$13:$J$13,Z$13,$F33:$J33),\"\")","v":{"$error":"#REF!"}},{"$f":"IF(AND(LEN($D33)>0,SUMIF($F$13:$J$13,AA$13,$F33:$J33)>0,marzo!#REF!<>\"X\",marzo!#REF!<>\"L\",marzo!#REF!<>\"J\",marzo!#REF!<>\"V\",marzo!#REF!<>\"F\",marzo!#REF!<>\"\"),SUMIF($F$13:$J$13,AA$13,$F33:$J33),\"\")","v":{"$error":"#REF!"}},{"$f":"IF(AND(LEN($D33)>0,SUMIF($F$13:$J$13,AB$13,$F33:$J33)>0,marzo!#REF!<>\"X\",marzo!#REF!<>\"L\",marzo!#REF!<>\"J\",marzo!#REF!<>\"V\",marzo!#REF!<>\"F\",marzo!#REF!<>\"\"),SUMIF($F$13:$J$13,AB$13,$F33:$J33),\"\")","v":{"$error":"#REF!"}},{"$f":"IF(AND(LEN($D33)>0,SUMIF($F$13:$J$13,AC$13,$F33:$J33)>0,marzo!#REF!<>\"X\",marzo!#REF!<>\"L\",marzo!#REF!<>\"J\",marzo!#REF!<>\"V\",marzo!#REF!<>\"F\",marzo!#REF!<>\"\"),SUMIF($F$13:$J$13,AC$13,$F33:$J33),\"\")","v":{"$error":"#REF!"}},{"$f":"IF(AND(LEN($D33)>0,SUMIF($F$13:$J$13,AD$13,$F33:$J33)>0,marzo!#REF!<>\"X\",marzo!#REF!<>\"L\",marzo!#REF!<>\"J\",marzo!#REF!<>\"V\",marzo!#REF!<>\"F\",marzo!#REF!<>\"\"),SUMIF($F$13:$J$13,AD$13,$F33:$J33),\"\")","v":{"$error":"#REF!"}},{"$f":"IF(AND(LEN($D33)>0,SUMIF($F$13:$J$13,AE$13,$F33:$J33)>0,marzo!#REF!<>\"X\",marzo!#REF!<>\"L\",marzo!#REF!<>\"J\",marzo!#REF!<>\"V\",marzo!#REF!<>\"F\",marzo!#REF!<>\"\"),SUMIF($F$13:$J$13,AE$13,$F33:$J33),\"\")","v":{"$error":"#REF!"}},{"$f":"IF(AND(LEN($D33)>0,SUMIF($F$13:$J$13,AF$13,$F33:$J33)>0,marzo!#REF!<>\"X\",marzo!#REF!<>\"L\",marzo!#REF!<>\"J\",marzo!#REF!<>\"V\",marzo!#REF!<>\"F\",marzo!#REF!<>\"\"),SUMIF($F$13:$J$13,AF$13,$F33:$J33),\"\")","v":{"$error":"#REF!"}},{"$f":"IF(AND(LEN($D33)>0,SUMIF($F$13:$J$13,AG$13,$F33:$J33)>0,marzo!#REF!<>\"X\",marzo!#REF!<>\"L\",marzo!#REF!<>\"J\",marzo!#REF!<>\"V\",marzo!#REF!<>\"F\",marzo!#REF!<>\"\"),SUMIF($F$13:$J$13,AG$13,$F33:$J33),\"\")","v":{"$error":"#REF!"}},{"$f":"IF(AND(LEN($D33)>0,SUMIF($F$13:$J$13,AH$13,$F33:$J33)>0,marzo!#REF!<>\"X\",marzo!#REF!<>\"L\",marzo!#REF!<>\"J\",marzo!#REF!<>\"V\",marzo!#REF!<>\"F\",marzo!#REF!<>\"\"),SUMIF($F$13:$J$13,AH$13,$F33:$J33),\"\")","v":{"$error":"#REF!"}},{"$f":"IF(AND(LEN($D33)>0,SUMIF($F$13:$J$13,AI$13,$F33:$J33)>0,marzo!#REF!<>\"X\",marzo!#REF!<>\"L\",marzo!#REF!<>\"J\",marzo!#REF!<>\"V\",marzo!#REF!<>\"F\",marzo!#REF!<>\"\"),SUMIF($F$13:$J$13,AI$13,$F33:$J33),\"\")","v":{"$error":"#REF!"}},{"$f":"IF(AND(LEN($D33)>0,SUMIF($F$13:$J$13,AJ$13,$F33:$J33)>0,marzo!#REF!<>\"X\",marzo!#REF!<>\"L\",marzo!#REF!<>\"J\",marzo!#REF!<>\"V\",marzo!#REF!<>\"F\",marzo!#REF!<>\"\"),SUMIF($F$13:$J$13,AJ$13,$F33:$J33),\"\")","v":{"$error":"#REF!"}},{"$f":"IF(AND(LEN($D33)>0,SUMIF($F$13:$J$13,AK$13,$F33:$J33)>0,marzo!#REF!<>\"X\",marzo!#REF!<>\"L\",marzo!#REF!<>\"J\",marzo!#REF!<>\"V\",marzo!#REF!<>\"F\",marzo!#REF!<>\"\"),SUMIF($F$13:$J$13,AK$13,$F33:$J33),\"\")","v":{"$error":"#REF!"}},{"$f":"IF(AND(LEN($D33)>0,SUMIF($F$13:$J$13,AL$13,$F33:$J33)>0,marzo!#REF!<>\"X\",marzo!#REF!<>\"L\",marzo!#REF!<>\"J\",marzo!#REF!<>\"V\",marzo!#REF!<>\"F\",marzo!#REF!<>\"\"),SUMIF($F$13:$J$13,AL$13,$F33:$J33),\"\")","v":{"$error":"#REF!"}},{"$f":"IF(AND(LEN($D33)>0,SUMIF($F$13:$J$13,AM$13,$F33:$J33)>0,marzo!#REF!<>\"X\",marzo!#REF!<>\"L\",marzo!#REF!<>\"J\",marzo!#REF!<>\"V\",marzo!#REF!<>\"F\",marzo!#REF!<>\"\"),SUMIF($F$13:$J$13,AM$13,$F33:$J33),\"\")","v":{"$error":"#REF!"}},{"$f":"IF(AND(LEN($D33)>0,SUMIF($F$13:$J$13,AN$13,$F33:$J33)>0,marzo!#REF!<>\"X\",marzo!#REF!<>\"L\",marzo!#REF!<>\"J\",marzo!#REF!<>\"V\",marzo!#REF!<>\"F\",marzo!#REF!<>\"\"),SUMIF($F$13:$J$13,AN$13,$F33:$J33),\"\")","v":{"$error":"#REF!"}},{"$f":"IF(AND(LEN($D33)>0,SUMIF($F$13:$J$13,AO$13,$F33:$J33)>0,marzo!#REF!<>\"X\",marzo!#REF!<>\"L\",marzo!#REF!<>\"J\",marzo!#REF!<>\"V\",marzo!#REF!<>\"F\",marzo!#REF!<>\"\"),SUMIF($F$13:$J$13,AO$13,$F33:$J33),\"\")","v":{"$error":"#REF!"}},{"$f":"IF(AND(LEN($D33)>0,SUMIF($F$13:$J$13,AP$13,$F33:$J33)>0,marzo!#REF!<>\"X\",marzo!#REF!<>\"L\",marzo!#REF!<>\"J\",marzo!#REF!<>\"V\",marzo!#REF!<>\"F\",marzo!#REF!<>\"\"),SUMIF($F$13:$J$13,AP$13,$F33:$J33),\"\")","v":{"$error":"#REF!"}},{"$f":"IF(AND(LEN($D33)>0,SUMIF($F$13:$J$13,AQ$13,$F33:$J33)>0,marzo!#REF!<>\"X\",marzo!#REF!<>\"L\",marzo!#REF!<>\"J\",marzo!#REF!<>\"V\",marzo!#REF!<>\"F\",marzo!#REF!<>\"\"),SUMIF($F$13:$J$13,AQ$13,$F33:$J33),\"\")","v":{"$error":"#REF!"}},{"$f":"IF(AND(LEN($D33)>0,SUMIF($F$13:$J$13,AR$13,$F33:$J33)>0,marzo!#REF!<>\"X\",marzo!#REF!<>\"L\",marzo!#REF!<>\"J\",marzo!#REF!<>\"V\",marzo!#REF!<>\"F\",marzo!#REF!<>\"\"),SUMIF($F$13:$J$13,AR$13,$F33:$J33),\"\")","v":{"$error":"#REF!"}},{"$f":"IF(AND(LEN($D33)>0,SUMIF($F$13:$J$13,AS$13,$F33:$J33)>0,marzo!#REF!<>\"X\",marzo!#REF!<>\"L\",marzo!#REF!<>\"J\",marzo!#REF!<>\"V\",marzo!#REF!<>\"F\",marzo!#REF!<>\"\"),SUMIF($F$13:$J$13,AS$13,$F33:$J33),\"\")","v":{"$error":"#REF!"}},{"$error":"#REF!"},null,null,null,{"$f":"IF(AND(LEN($D33)>0,SUMIF($F$13:$J$13,AX$13,$F33:$J33)>0,marzo!#REF!<>\"X\",marzo!#REF!<>\"L\",marzo!#REF!<>\"J\",marzo!#REF!<>\"F\"),SUMIF($F$13:$J$13,AX$13,$F33:$J33),\"\")","v":{"$error":"#REF!"}},{"$f":"IF(AND(LEN($D33)>0,SUMIF($F$13:$J$13,AY$13,$F33:$J33)>0,marzo!#REF!<>\"X\",marzo!#REF!<>\"L\",marzo!#REF!<>\"J\",marzo!#REF!<>\"F\"),SUMIF($F$13:$J$13,AY$13,$F33:$J33),\"\")","v":{"$error":"#REF!"}},{"$f":"IF(AND(LEN($D33)>0,SUMIF($F$13:$J$13,AZ$13,$F33:$J33)>0,marzo!#REF!<>\"X\",marzo!#REF!<>\"L\",marzo!#REF!<>\"J\",marzo!#REF!<>\"F\"),SUMIF($F$13:$J$13,AZ$13,$F33:$J33),\"\")","v":{"$error":"#REF!"}},{"$f":"IF(AND(LEN($D33)>0,SUMIF($F$13:$J$13,BA$13,$F33:$J33)>0,marzo!#REF!<>\"X\",marzo!#REF!<>\"L\",marzo!#REF!<>\"J\",marzo!#REF!<>\"F\"),SUMIF($F$13:$J$13,BA$13,$F33:$J33),\"\")","v":{"$error":"#REF!"}},{"$f":"IF(AND(LEN($D33)>0,SUMIF($F$13:$J$13,BB$13,$F33:$J33)>0,marzo!#REF!<>\"X\",marzo!#REF!<>\"L\",marzo!#REF!<>\"J\",marzo!#REF!<>\"F\"),SUMIF($F$13:$J$13,BB$13,$F33:$J33),\"\")","v":{"$error":"#REF!"}},{"$f":"IF(AND(LEN($D33)>0,SUMIF($F$13:$J$13,BC$13,$F33:$J33)>0,marzo!#REF!<>\"X\",marzo!#REF!<>\"L\",marzo!#REF!<>\"J\",marzo!#REF!<>\"F\"),SUMIF($F$13:$J$13,BC$13,$F33:$J33),\"\")","v":{"$error":"#REF!"}},{"$f":"IF(AND(LEN($D33)>0,SUMIF($F$13:$J$13,BD$13,$F33:$J33)>0,marzo!#REF!<>\"X\",marzo!#REF!<>\"L\",marzo!#REF!<>\"J\",marzo!#REF!<>\"F\"),SUMIF($F$13:$J$13,BD$13,$F33:$J33),\"\")","v":{"$error":"#REF!"}},{"$f":"IF(AND(LEN($D33)>0,SUMIF($F$13:$J$13,BE$13,$F33:$J33)>0,marzo!#REF!<>\"X\",marzo!#REF!<>\"L\",marzo!#REF!<>\"J\",marzo!#REF!<>\"F\"),SUMIF($F$13:$J$13,BE$13,$F33:$J33),\"\")","v":{"$error":"#REF!"}},{"$f":"IF(AND(LEN($D33)>0,SUMIF($F$13:$J$13,BF$13,$F33:$J33)>0,marzo!#REF!<>\"X\",marzo!#REF!<>\"L\",marzo!#REF!<>\"J\",marzo!#REF!<>\"F\"),SUMIF($F$13:$J$13,BF$13,$F33:$J33),\"\")","v":{"$error":"#REF!"}},{"$f":"IF(AND(LEN($D33)>0,SUMIF($F$13:$J$13,BG$13,$F33:$J33)>0,marzo!#REF!<>\"X\",marzo!#REF!<>\"L\",marzo!#REF!<>\"J\",marzo!#REF!<>\"F\"),SUMIF($F$13:$J$13,BG$13,$F33:$J33),\"\")","v":{"$error":"#REF!"}},{"$f":"IF(AND(LEN($D33)>0,SUMIF($F$13:$J$13,BH$13,$F33:$J33)>0,marzo!#REF!<>\"X\",marzo!#REF!<>\"L\",marzo!#REF!<>\"J\",marzo!#REF!<>\"F\"),SUMIF($F$13:$J$13,BH$13,$F33:$J33),\"\")","v":{"$error":"#REF!"}},{"$f":"IF(AND(LEN($D33)>0,SUMIF($F$13:$J$13,BI$13,$F33:$J33)>0,marzo!#REF!<>\"X\",marzo!#REF!<>\"L\",marzo!#REF!<>\"J\",marzo!#REF!<>\"F\"),SUMIF($F$13:$J$13,BI$13,$F33:$J33),\"\")","v":{"$error":"#REF!"}},{"$f":"IF(AND(LEN($D33)>0,SUMIF($F$13:$J$13,BJ$13,$F33:$J33)>0,marzo!#REF!<>\"X\",marzo!#REF!<>\"L\",marzo!#REF!<>\"J\",marzo!#REF!<>\"F\"),SUMIF($F$13:$J$13,BJ$13,$F33:$J33),\"\")","v":{"$error":"#REF!"}},{"$f":"IF(AND(LEN($D33)>0,SUMIF($F$13:$J$13,BK$13,$F33:$J33)>0,marzo!#REF!<>\"X\",marzo!#REF!<>\"L\",marzo!#REF!<>\"J\",marzo!#REF!<>\"F\"),SUMIF($F$13:$J$13,BK$13,$F33:$J33),\"\")","v":{"$error":"#REF!"}},{"$f":"IF(AND(LEN($D33)>0,SUMIF($F$13:$J$13,BL$13,$F33:$J33)>0,marzo!#REF!<>\"X\",marzo!#REF!<>\"L\",marzo!#REF!<>\"J\",marzo!#REF!<>\"F\"),SUMIF($F$13:$J$13,BL$13,$F33:$J33),\"\")","v":{"$error":"#REF!"}},{"$f":"IF(AND(LEN($D33)>0,SUMIF($F$13:$J$13,BM$13,$F33:$J33)>0,marzo!#REF!<>\"X\",marzo!#REF!<>\"L\",marzo!#REF!<>\"J\",marzo!#REF!<>\"F\"),SUMIF($F$13:$J$13,BM$13,$F33:$J33),\"\")","v":{"$error":"#REF!"}},{"$f":"IF(AND(LEN($D33)>0,SUMIF($F$13:$J$13,BN$13,$F33:$J33)>0,marzo!#REF!<>\"X\",marzo!#REF!<>\"L\",marzo!#REF!<>\"J\",marzo!#REF!<>\"F\"),SUMIF($F$13:$J$13,BN$13,$F33:$J33),\"\")","v":{"$error":"#REF!"}},{"$f":"IF(AND(LEN($D33)>0,SUMIF($F$13:$J$13,BO$13,$F33:$J33)>0,marzo!#REF!<>\"X\",marzo!#REF!<>\"L\",marzo!#REF!<>\"J\",marzo!#REF!<>\"F\"),SUMIF($F$13:$J$13,BO$13,$F33:$J33),\"\")","v":{"$error":"#REF!"}},{"$f":"IF(AND(LEN($D33)>0,SUMIF($F$13:$J$13,BP$13,$F33:$J33)>0,marzo!#REF!<>\"X\",marzo!#REF!<>\"L\",marzo!#REF!<>\"J\",marzo!#REF!<>\"F\"),SUMIF($F$13:$J$13,BP$13,$F33:$J33),\"\")","v":{"$error":"#REF!"}},{"$f":"IF(AND(LEN($D33)>0,SUMIF($F$13:$J$13,BQ$13,$F33:$J33)>0,marzo!#REF!<>\"X\",marzo!#REF!<>\"L\",marzo!#REF!<>\"J\",marzo!#REF!<>\"F\"),SUMIF($F$13:$J$13,BQ$13,$F33:$J33),\"\")","v":{"$error":"#REF!"}},{"$f":"IF(AND(LEN($D33)>0,SUMIF($F$13:$J$13,BR$13,$F33:$J33)>0,marzo!#REF!<>\"X\",marzo!#REF!<>\"L\",marzo!#REF!<>\"J\",marzo!#REF!<>\"F\"),SUMIF($F$13:$J$13,BR$13,$F33:$J33),\"\")","v":{"$error":"#REF!"}},{"$f":"IF(AND(LEN($D33)>0,SUMIF($F$13:$J$13,BS$13,$F33:$J33)>0,marzo!#REF!<>\"X\",marzo!#REF!<>\"L\",marzo!#REF!<>\"J\",marzo!#REF!<>\"F\"),SUMIF($F$13:$J$13,BS$13,$F33:$J33),\"\")","v":{"$error":"#REF!"}},{"$f":"IF(AND(LEN($D33)>0,SUMIF($F$13:$J$13,BT$13,$F33:$J33)>0,marzo!#REF!<>\"X\",marzo!#REF!<>\"L\",marzo!#REF!<>\"J\",marzo!#REF!<>\"F\"),SUMIF($F$13:$J$13,BT$13,$F33:$J33),\"\")","v":{"$error":"#REF!"}},{"$f":"IF(AND(LEN($D33)>0,SUMIF($F$13:$J$13,BU$13,$F33:$J33)>0,marzo!#REF!<>\"X\",marzo!#REF!<>\"L\",marzo!#REF!<>\"J\",marzo!#REF!<>\"F\"),SUMIF($F$13:$J$13,BU$13,$F33:$J33),\"\")","v":{"$error":"#REF!"}},{"$f":"IF(AND(LEN($D33)>0,SUMIF($F$13:$J$13,BV$13,$F33:$J33)>0,marzo!#REF!<>\"X\",marzo!#REF!<>\"L\",marzo!#REF!<>\"J\",marzo!#REF!<>\"F\"),SUMIF($F$13:$J$13,BV$13,$F33:$J33),\"\")","v":{"$error":"#REF!"}},{"$f":"IF(AND(LEN($D33)>0,SUMIF($F$13:$J$13,BW$13,$F33:$J33)>0,marzo!#REF!<>\"X\",marzo!#REF!<>\"L\",marzo!#REF!<>\"J\",marzo!#REF!<>\"F\"),SUMIF($F$13:$J$13,BW$13,$F33:$J33),\"\")","v":{"$error":"#REF!"}},{"$f":"IF(AND(LEN($D33)>0,SUMIF($F$13:$J$13,BX$13,$F33:$J33)>0,marzo!#REF!<>\"X\",marzo!#REF!<>\"L\",marzo!#REF!<>\"J\",marzo!#REF!<>\"F\"),SUMIF($F$13:$J$13,BX$13,$F33:$J33),\"\")","v":{"$error":"#REF!"}},{"$f":"IF(AND(LEN($D33)>0,SUMIF($F$13:$J$13,BY$13,$F33:$J33)>0,marzo!#REF!<>\"X\",marzo!#REF!<>\"L\",marzo!#REF!<>\"J\",marzo!#REF!<>\"F\"),SUMIF($F$13:$J$13,BY$13,$F33:$J33),\"\")","v":{"$error":"#REF!"}},{"$f":"IF(AND(LEN($D33)>0,SUMIF($F$13:$J$13,BZ$13,$F33:$J33)>0,marzo!#REF!<>\"X\",marzo!#REF!<>\"L\",marzo!#REF!<>\"J\",marzo!#REF!<>\"F\"),SUMIF($F$13:$J$13,BZ$13,$F33:$J33),\"\")","v":{"$error":"#REF!"}},{"$f":"IF(AND(LEN($D33)>0,SUMIF($F$13:$J$13,CA$13,$F33:$J33)>0,marzo!#REF!<>\"X\",marzo!#REF!<>\"L\",marzo!#REF!<>\"J\",marzo!#REF!<>\"F\"),SUMIF($F$13:$J$13,CA$13,$F33:$J33),\"\")","v":{"$error":"#REF!"}},{"$f":"IF(AND(LEN($D33)>0,SUMIF($F$13:$J$13,CB$13,$F33:$J33)>0,marzo!#REF!<>\"X\",marzo!#REF!<>\"L\",marzo!#REF!<>\"J\",marzo!#REF!<>\"F\"),SUMIF($F$13:$J$13,CB$13,$F33:$J33),\"\")","v":{"$error":"#REF!"}},{"$error":"#REF!"}]
[{"$error":"#REF!"},{"$f":"IF(LEN(C34)>0,VLOOKUP($O$4,DATA!$A$1:$S$1,2,FALSE),\"\")","v":{"$error":"#REF!"}},{"$error":"#REF!"},{"$f":"IF(LEN(marzo!#REF!)>0,marzo!#REF!,\"\")","v":{"$error":"#REF!"}},{"$f":"IF(LEN(D34)>0,marzo!#REF!,\"\")","v":{"$error":"#REF!"}},null,null,null,null,null,"",null,null,{"$error":"#REF!"},{"$f":"IF(AND(LEN($D34)>0,SUMIF($F$13:$J$13,O$13,$F34:$J34)>0,marzo!#REF!<>\"X\",marzo!#REF!<>\"L\",marzo!#REF!<>\"J\",marzo!#REF!<>\"V\",marzo!#REF!<>\"F\",marzo!#REF!<>\"\"),SUMIF($F$13:$J$13,O$13,$F34:$J34),\"\")","v":{"$error":"#REF!"}},{"$f":"IF(AND(LEN($D34)>0,SUMIF($F$13:$J$13,P$13,$F34:$J34)>0,marzo!#REF!<>\"X\",marzo!#REF!<>\"L\",marzo!#REF!<>\"J\",marzo!#REF!<>\"V\",marzo!#REF!<>\"F\",marzo!#REF!<>\"\"),SUMIF($F$13:$J$13,P$13,$F34:$J34),\"\")","v":{"$error":"#REF!"}},{"$f":"IF(AND(LEN($D34)>0,SUMIF($F$13:$J$13,Q$13,$F34:$J34)>0,marzo!#REF!<>\"X\",marzo!#REF!<>\"L\",marzo!#REF!<>\"J\",marzo!#REF!<>\"V\",marzo!#REF!<>\"F\",marzo!#REF!<>\"\"),SUMIF($F$13:$J$13,Q$13,$F34:$J34),\"\")","v":{"$error":"#REF!"}},{"$f":"IF(AND(LEN($D34)>0,SUMIF($F$13:$J$13,R$13,$F34:$J34)>0,marzo!#REF!<>\"X\",marzo!#REF!<>\"L\",marzo!#REF!<>\"J\",marzo!#REF!<>\"V\",marzo!#REF!<>\"F\",marzo!#REF!<>\"\"),SUMIF($F$13:$J$13,R$13,$F34:$J34),\"\")","v":{"$error":"#REF!"}},{"$f":"IF(AND(LEN($D34)>0,SUMIF($F$13:$J$13,S$13,$F34:$J34)>0,marzo!#REF!<>\"X\",marzo!#REF!<>\"L\",marzo!#REF!<>\"J\",marzo!#REF!<>\"V\",marzo!#REF!<>\"F\",marzo!#REF!<>\"\"),SUMIF($F$13:$J$13,S$13,$F34:$J34),\"\")","v":{"$error":"#REF!"}},{"$f":"IF(AND(LEN($D34)>0,SUMIF($F$13:$J$13,T$13,$F34:$J34)>0,marzo!#REF!<>\"X\",marzo!#REF!<>\"L\",marzo!#REF!<>\"J\",marzo!#REF!<>\"V\",marzo!#REF!<>\"F\",marzo!#REF!<>\"\"),SUMIF($F$13:$J$13,T$13,$F34:$J34),\"\")","v":{"$error":"#REF!"}},{"$f":"IF(AND(LEN($D34)>0,SUMIF($F$13:$J$13,U$13,$F34:$J34)>0,marzo!#REF!<>\"X\",marzo!#REF!<>\"L\",marzo!#REF!<>\"J\",marzo!#REF!<>\"V\",marzo!#REF!<>\"F\",marzo!#REF!<>\"\"),SUMIF($F$13:$J$13,U$13,$F34:$J34),\"\")","v":{"$error":"#REF!"}},{"$f":"IF(AND(LEN($D34)>0,SUMIF($F$13:$J$13,V$13,$F34:$J34)>0,marzo!#REF!<>\"X\",marzo!#REF!<>\"L\",marzo!#REF!<>\"J\",marzo!#REF!<>\"V\",marzo!#REF!<>\"F\",marzo!#REF!<>\"\"),SUMIF($F$13:$J$13,V$13,$F34:$J34),\"\")","v":{"$error":"#REF!"}},{"$f":"IF(AND(LEN($D34)>0,SUMIF($F$13:$J$13,W$13,$F34:$J34)>0,marzo!#REF!<>\"X\",marzo!#REF!<>\"L\",marzo!#REF!<>\"J\",marzo!#REF!<>\"V\",marzo!#REF!<>\"F\",marzo!#REF!<>\"\"),SUMIF($F$13:$J$13,W$13,$F34:$J34),\"\")","v":{"$error":"#REF!"}},{"$f":"IF(AND(LEN($D34)>0,SUMIF($F$13:$J$13,X$13,$F34:$J34)>0,marzo!#REF!<>\"X\",marzo!#REF!<>\"L\",marzo!#REF!<>\"J\",marzo!#REF!<>\"V\",marzo!#REF!<>\"F\",marzo!#REF!<>\"\"),SUMIF($F$13:$J$13,X$13,$F34:$J34),\"\")","v":{"$error":"#REF!"}},{"$f":"IF(AND(LEN($D34)>0,SUMIF($F$13:$J$13,Y$13,$F34:$J34)>0,marzo!#REF!<>\"X\",marzo!#REF!<>\"L\",marzo!#REF!<>\"J\",marzo!#REF!<>\"V\",marzo!#REF!<>\"F\",marzo!#REF!<>\"\"),SUMIF($F$13:$J$13,Y$13,$F34:$J34),\"\")","v":{"$error":"#REF!"}},{"$f":"IF(AND(LEN($D34)>0,SUMIF($F$13:$J$13,Z$13,$F34:$J34)>0,marzo!#REF!<>\"X\",marzo!#REF!<>\"L\",marzo!#REF!<>\"J\",marzo!#REF!<>\"V\",marzo!#REF!<>\"F\",marzo!#REF!<>\"\"),SUMIF($F$13:$J$13,Z$13,$F34:$J34),\"\")","v":{"$error":"#REF!"}},{"$f":"IF(AND(LEN($D34)>0,SUMIF($F$13:$J$13,AA$13,$F34:$J34)>0,marzo!#REF!<>\"X\",marzo!#REF!<>\"L\",marzo!#REF!<>\"J\",marzo!#REF!<>\"V\",marzo!#REF!<>\"F\",marzo!#REF!<>\"\"),SUMIF($F$13:$J$13,AA$13,$F34:$J34),\"\")","v":{"$error":"#REF!"}},{"$f":"IF(AND(LEN($D34)>0,SUMIF($F$13:$J$13,AB$13,$F34:$J34)>0,marzo!#REF!<>\"X\",marzo!#REF!<>\"L\",marzo!#REF!<>\"J\",marzo!#REF!<>\"V\",marzo!#REF!<>\"F\",marzo!#REF!<>\"\"),SUMIF($F$13:$J$13,AB$13,$F34:$J34),\"\")","v":{"$error":"#REF!"}},{"$f":"IF(AND(LEN($D34)>0,SUMIF($F$13:$J$13,AC$13,$F34:$J34)>0,marzo!#REF!<>\"X\",marzo!#REF!<>\"L\",marzo!#REF!<>\"J\",marzo!#REF!<>\"V\",marzo!#REF!<>\"F\",marzo!#REF!<>\"\"),SUMIF($F$13:$J$13,AC$13,$F34:$J34),\"\")","v":{"$error":"#REF!"}},{"$f":"IF(AND(LEN($D34)>0,SUMIF($F$13:$J$13,AD$13,$F34:$J34)>0,marzo!#REF!<>\"X\",marzo!#REF!<>\"L\",marzo!#REF!<>\"J\",marzo!#REF!<>\"V\",marzo!#REF!<>\"F\",marzo!#REF!<>\"\"),SUMIF($F$13:$J$13,AD$13,$F34:$J34),\"\")","v":{"$error":"#REF!"}},{"$f":"IF(AND(LEN($D34)>0,SUMIF($F$13:$J$13,AE$13,$F34:$J34)>0,marzo!#REF!<>\"X\",marzo!#REF!<>\"L\",marzo!#REF!<>\"J\",marzo!#REF!<>\"V\",marzo!#REF!<>\"F\",marzo!#REF!<>\"\"),SUMIF($F$13:$J$13,AE$13,$F34:$J34),\"\")","v":{"$error":"#REF!"}},{"$f":"IF(AND(LEN($D34)>0,SUMIF($F$13:$J$13,AF$13,$F34:$J34)>0,marzo!#REF!<>\"X\",marzo!#REF!<>\"L\",marzo!#REF!<>\"J\",marzo!#REF!<>\"V\",marzo!#REF!<>\"F\",marzo!#REF!<>\"\"),SUMIF($F$13:$J$13,AF$13,$F34:$J34),\"\")","v":{"$error":"#REF!"}},{"$f":"IF(AND(LEN($D34)>0,SUMIF($F$13:$J$13,AG$13,$F34:$J34)>0,marzo!#REF!<>\"X\",marzo!#REF!<>\"L\",marzo!#REF!<>\"J\",marzo!#REF!<>\"V\",marzo!#REF!<>\"F\",marzo!#REF!<>\"\"),SUMIF($F$13:$J$13,AG$13,$F34:$J34),\"\")","v":{"$error":"#REF!"}},{"$f":"IF(AND(LEN($D34)>0,SUMIF($F$13:$J$13,AH$13,$F34:$J34)>0,marzo!#REF!<>\"X\",marzo!#REF!<>\"L\",marzo!#REF!<>\"J\",marzo!#REF!<>\"V\",marzo!#REF!<>\"F\",marzo!#REF!<>\"\"),SUMIF($F$13:$J$13,AH$13,$F34:$J34),\"\")","v":{"$error":"#REF!"}},{"$f":"IF(AND(LEN($D34)>0,SUMIF($F$13:$J$13,AI$13,$F34:$J34)>0,marzo!#REF!<>\"X\",marzo!#REF!<>\"L\",marzo!#REF!<>\"J\",marzo!#REF!<>\"V\",marzo!#REF!<>\"F\",marzo!#REF!<>\"\"),SUMIF($F$13:$J$13,AI$13,$F34:$J34),\"\")","v":{"$error":"#REF!"}},{"$f":"IF(AND(LEN($D34)>0,SUMIF($F$13:$J$13,AJ$13,$F34:$J34)>0,marzo!#REF!<>\"X\",marzo!#REF!<>\"L\",marzo!#REF!<>\"J\",marzo!#REF!<>\"V\",marzo!#REF!<>\"F\",marzo!#REF!<>\"\"),SUMIF($F$13:$J$13,AJ$13,$F34:$J34),\"\")","v":{"$error":"#REF!"}},{"$f":"IF(AND(LEN($D34)>0,SUMIF($F$13:$J$13,AK$13,$F34:$J34)>0,marzo!#REF!<>\"X\",marzo!#REF!<>\"L\",marzo!#REF!<>\"J\",marzo!#REF!<>\"V\",marzo!#REF!<>\"F\",marzo!#REF!<>\"\"),SUMIF($F$13:$J$13,AK$13,$F34:$J34),\"\")","v":{"$error":"#REF!"}},{"$f":"IF(AND(LEN($D34)>0,SUMIF($F$13:$J$13,AL$13,$F34:$J34)>0,marzo!#REF!<>\"X\",marzo!#REF!<>\"L\",marzo!#REF!<>\"J\",marzo!#REF!<>\"V\",marzo!#REF!<>\"F\",marzo!#REF!<>\"\"),SUMIF($F$13:$J$13,AL$13,$F34:$J34),\"\")","v":{"$error":"#REF!"}},{"$f":"IF(AND(LEN($D34)>0,SUMIF($F$13:$J$13,AM$13,$F34:$J34)>0,marzo!#REF!<>\"X\",marzo!#REF!<>\"L\",marzo!#REF!<>\"J\",marzo!#REF!<>\"V\",marzo!#REF!<>\"F\",marzo!#REF!<>\"\"),SUMIF($F$13:$J$13,AM$13,$F34:$J34),\"\")","v":{"$error":"#REF!"}},{"$f":"IF(AND(LEN($D34)>0,SUMIF($F$13:$J$13,AN$13,$F34:$J34)>0,marzo!#REF!<>\"X\",marzo!#REF!<>\"L\",marzo!#REF!<>\"J\",marzo!#REF!<>\"V\",marzo!#REF!<>\"F\",marzo!#REF!<>\"\"),SUMIF($F$13:$J$13,AN$13,$F34:$J34),\"\")","v":{"$error":"#REF!"}},{"$f":"IF(AND(LEN($D34)>0,SUMIF($F$13:$J$13,AO$13,$F34:$J34)>0,marzo!#REF!<>\"X\",marzo!#REF!<>\"L\",marzo!#REF!<>\"J\",marzo!#REF!<>\"V\",marzo!#REF!<>\"F\",marzo!#REF!<>\"\"),SUMIF($F$13:$J$13,AO$13,$F34:$J34),\"\")","v":{"$error":"#REF!"}},{"$f":"IF(AND(LEN($D34)>0,SUMIF($F$13:$J$13,AP$13,$F34:$J34)>0,marzo!#REF!<>\"X\",marzo!#REF!<>\"L\",marzo!#REF!<>\"J\",marzo!#REF!<>\"V\",marzo!#REF!<>\"F\",marzo!#REF!<>\"\"),SUMIF($F$13:$J$13,AP$13,$F34:$J34),\"\")","v":{"$error":"#REF!"}},{"$f":"IF(AND(LEN($D34)>0,SUMIF($F$13:$J$13,AQ$13,$F34:$J34)>0,marzo!#REF!<>\"X\",marzo!#REF!<>\"L\",marzo!#REF!<>\"J\",marzo!#REF!<>\"V\",marzo!#REF!<>\"F\",marzo!#REF!<>\"\"),SUMIF($F$13:$J$13,AQ$13,$F34:$J34),\"\")","v":{"$error":"#REF!"}},{"$f":"IF(AND(LEN($D34)>0,SUMIF($F$13:$J$13,AR$13,$F34:$J34)>0,marzo!#REF!<>\"X\",marzo!#REF!<>\"L\",marzo!#REF!<>\"J\",marzo!#REF!<>\"V\",marzo!#REF!<>\"F\",marzo!#REF!<>\"\"),SUMIF($F$13:$J$13,AR$13,$F34:$J34),\"\")","v":{"$error":"#REF!"}},{"$f":"IF(AND(LEN($D34)>0,SUMIF($F$13:$J$13,AS$13,$F34:$J34)>0,marzo!#REF!<>\"X\",marzo!#REF!<>\"L\",marzo!#REF!<>\"J\",marzo!#REF!<>\"V\",marzo!#REF!<>\"F\",marzo!#REF!<>\"\"),SUMIF($F$13:$J$13,AS$13,$F34:$J34),\"\")","v":{"$error":"#REF!"}},{"$error":"#REF!"},null,null,null,{"$f":"IF(AND(LEN($D34)>0,SUMIF($F$13:$J$13,AX$13,$F34:$J34)>0,marzo!#REF!<>\"X\",marzo!#REF!<>\"L\",marzo!#REF!<>\"J\",marzo!#REF!<>\"F\"),SUMIF($F$13:$J$13,AX$13,$F34:$J34),\"\")","v":{"$error":"#REF!"}},{"$f":"IF(AND(LEN($D34)>0,SUMIF($F$13:$J$13,AY$13,$F34:$J34)>0,marzo!#REF!<>\"X\",marzo!#REF!<>\"L\",marzo!#REF!<>\"J\",marzo!#REF!<>\"F\"),SUMIF($F$13:$J$13,AY$13,$F34:$J34),\"\")","v":{"$error":"#REF!"}},{"$f":"IF(AND(LEN($D34)>0,SUMIF($F$13:$J$13,AZ$13,$F34:$J34)>0,marzo!#REF!<>\"X\",marzo!#REF!<>\"L\",marzo!#REF!<>\"J\",marzo!#REF!<>\"F\"),SUMIF($F$13:$J$13,AZ$13,$F34:$J34),\"\")","v":{"$error":"#REF!"}},{"$f":"IF(AND(LEN($D34)>0,SUMIF($F$13:$J$13,BA$13,$F34:$J34)>0,marzo!#REF!<>\"X\",marzo!#REF!<>\"L\",marzo!#REF!<>\"J\",marzo!#REF!<>\"F\"),SUMIF($F$13:$J$13,BA$13,$F34:$J34),\"\")","v":{"$error":"#REF!"}},{"$f":"IF(AND(LEN($D34)>0,SUMIF($F$13:$J$13,BB$13,$F34:$J34)>0,marzo!#REF!<>\"X\",marzo!#REF!<>\"L\",marzo!#REF!<>\"J\",marzo!#REF!<>\"F\"),SUMIF($F$13:$J$13,BB$13,$F34:$J34),\"\")","v":{"$error":"#REF!"}},{"$f":"IF(AND(LEN($D34)>0,SUMIF($F$13:$J$13,BC$13,$F34:$J34)>0,marzo!#REF!<>\"X\",marzo!#REF!<>\"L\",marzo!#REF!<>\"J\",marzo!#REF!<>\"F\"),SUMIF($F$13:$J$13,BC$13,$F34:$J34),\"\")","v":{"$error":"#REF!"}},{"$f":"IF(AND(LEN($D34)>0,SUMIF($F$13:$J$13,BD$13,$F34:$J34)>0,marzo!#REF!<>\"X\",marzo!#REF!<>\"L\",marzo!#REF!<>\"J\",marzo!#REF!<>\"F\"),SUMIF($F$13:$J$13,BD$13,$F34:$J34),\"\")","v":{"$error":"#REF!"}},{"$f":"IF(AND(LEN($D34)>0,SUMIF($F$13:$J$13,BE$13,$F34:$J34)>0,marzo!#REF!<>\"X\",marzo!#REF!<>\"L\",marzo!#REF!<>\"J\",marzo!#REF!<>\"F\"),SUMIF($F$13:$J$13,BE$13,$F34:$J34),\"\")","v":{"$error":"#REF!"}},{"$f":"IF(AND(LEN($D34)>0,SUMIF($F$13:$J$13,BF$13,$F34:$J34)>0,marzo!#REF!<>\"X\",marzo!#REF!<>\"L\",marzo!#REF!<>\"J\",marzo!#REF!<>\"F\"),SUMIF($F$13:$J$13,BF$13,$F34:$J34),\"\")","v":{"$error":"#REF!"}},{"$f":"IF(AND(LEN($D34)>0,SUMIF($F$13:$J$13,BG$13,$F34:$J34)>0,marzo!#REF!<>\"X\",marzo!#REF!<>\"L\",marzo!#REF!<>\"J\",marzo!#REF!<>\"F\"),SUMIF($F$13:$J$13,BG$13,$F34:$J34),\"\")","v":{"$error":"#REF!"}},{"$f":"IF(AND(LEN($D34)>0,SUMIF($F$13:$J$13,BH$13,$F34:$J34)>0,marzo!#REF!<>\"X\",marzo!#REF!<>\"L\",marzo!#REF!<>\"J\",marzo!#REF!<>\"F\"),SUMIF($F$13:$J$13,BH$13,$F34:$J34),\"\")","v":{"$error":"#REF!"}},{"$f":"IF(AND(LEN($D34)>0,SUMIF($F$13:$J$13,BI$13,$F34:$J34)>0,marzo!#REF!<>\"X\",marzo!#REF!<>\"L\",marzo!#REF!<>\"J\",marzo!#REF!<>\"F\"),SUMIF($F$13:$J$13,BI$13,$F34:$J34),\"\")","v":{"$error":"#REF!"}},{"$f":"IF(AND(LEN($D34)>0,SUMIF($F$13:$J$13,BJ$13,$F34:$J34)>0,marzo!#REF!<>\"X\",marzo!#REF!<>\"L\",marzo!#REF!<>\"J\",marzo!#REF!<>\"F\"),SUMIF($F$13:$J$13,BJ$13,$F34:$J34),\"\")","v":{"$error":"#REF!"}},{"$f":"IF(AND(LEN($D34)>0,SUMIF($F$13:$J$13,BK$13,$F34:$J34)>0,marzo!#REF!<>\"X\",marzo!#REF!<>\"L\",marzo!#REF!<>\"J\",marzo!#REF!<>\"F\"),SUMIF($F$13:$J$13,BK$13,$F34:$J34),\"\")","v":{"$error":"#REF!"}},{"$f":"IF(AND(LEN($D34)>0,SUMIF($F$13:$J$13,BL$13,$F34:$J34)>0,marzo!#REF!<>\"X\",marzo!#REF!<>\"L\",marzo!#REF!<>\"J\",marzo!#REF!<>\"F\"),SUMIF($F$13:$J$13,BL$13,$F34:$J34),\"\")","v":{"$error":"#REF!"}},{"$f":"IF(AND(LEN($D34)>0,SUMIF($F$13:$J$13,BM$13,$F34:$J34)>0,marzo!#REF!<>\"X\",marzo!#REF!<>\"L\",marzo!#REF!<>\"J\",marzo!#REF!<>\"F\"),SUMIF($F$13:$J$13,BM$13,$F34:$J34),\"\")","v":{"$error":"#REF!"}},{"$f":"IF(AND(LEN($D34)>0,SUMIF($F$13:$J$13,BN$13,$F34:$J34)>0,marzo!#REF!<>\"X\",marzo!#REF!<>\"L\",marzo!#REF!<>\"J\",marzo!#REF!<>\"F\"),SUMIF($F$13:$J$13,BN$13,$F34:$J34),\"\")","v":{"$error":"#REF!"}},{"$f":"IF(AND(LEN($D34)>0,SUMIF($F$13:$J$13,BO$13,$F34:$J34)>0,marzo!#REF!<>\"X\",marzo!#REF!<>\"L\",marzo!#REF!<>\"J\",marzo!#REF!<>\"F\"),SUMIF($F$13:$J$13,BO$13,$F34:$J34),\"\")","v":{"$error":"#REF!"}},{"$f":"IF(AND(LEN($D34)>0,SUMIF($F$13:$J$13,BP$13,$F34:$J34)>0,marzo!#REF!<>\"X\",marzo!#REF!<>\"L\",marzo!#REF!<>\"J\",marzo!#REF!<>\"F\"),SUMIF($F$13:$J$13,BP$13,$F34:$J34),\"\")","v":{"$error":"#REF!"}},{"$f":"IF(AND(LEN($D34)>0,SUMIF($F$13:$J$13,BQ$13,$F34:$J34)>0,marzo!#REF!<>\"X\",marzo!#REF!<>\"L\",marzo!#REF!<>\"J\",marzo!#REF!<>\"F\"),SUMIF($F$13:$J$13,BQ$13,$F34:$J34),\"\")","v":{"$error":"#REF!"}},{"$f":"IF(AND(LEN($D34)>0,SUMIF($F$13:$J$13,BR$13,$F34:$J34)>0,marzo!#REF!<>\"X\",marzo!#REF!<>\"L\",marzo!#REF!<>\"J\",marzo!#REF!<>\"F\"),SUMIF($F$13:$J$13,BR$13,$F34:$J34),\"\")","v":{"$error":"#REF!"}},{"$f":"IF(AND(LEN($D34)>0,SUMIF($F$13:$J$13,BS$13,$F34:$J34)>0,marzo!#REF!<>\"X\",marzo!#REF!<>\"L\",marzo!#REF!<>\"J\",marzo!#REF!<>\"F\"),SUMIF($F$13:$J$13,BS$13,$F34:$J34),\"\")","v":{"$error":"#REF!"}},{"$f":"IF(AND(LEN($D34)>0,SUMIF($F$13:$J$13,BT$13,$F34:$J34)>0,marzo!#REF!<>\"X\",marzo!#REF!<>\"L\",marzo!#REF!<>\"J\",marzo!#REF!<>\"F\"),SUMIF($F$13:$J$13,BT$13,$F34:$J34),\"\")","v":{"$error":"#REF!"}},{"$f":"IF(AND(LEN($D34)>0,SUMIF($F$13:$J$13,BU$13,$F34:$J34)>0,marzo!#REF!<>\"X\",marzo!#REF!<>\"L\",marzo!#REF!<>\"J\",marzo!#REF!<>\"F\"),SUMIF($F$13:$J$13,BU$13,$F34:$J34),\"\")","v":{"$error":"#REF!"}},{"$f":"IF(AND(LEN($D34)>0,SUMIF($F$13:$J$13,BV$13,$F34:$J34)>0,marzo!#REF!<>\"X\",marzo!#REF!<>\"L\",marzo!#REF!<>\"J\",marzo!#REF!<>\"F\"),SUMIF($F$13:$J$13,BV$13,$F34:$J34),\"\")","v":{"$error":"#REF!"}},{"$f":"IF(AND(LEN($D34)>0,SUMIF($F$13:$J$13,BW$13,$F34:$J34)>0,marzo!#REF!<>\"X\",marzo!#REF!<>\"L\",marzo!#REF!<>\"J\",marzo!#REF!<>\"F\"),SUMIF($F$13:$J$13,BW$13,$F34:$J34),\"\")","v":{"$error":"#REF!"}},{"$f":"IF(AND(LEN($D34)>0,SUMIF($F$13:$J$13,BX$13,$F34:$J34)>0,marzo!#REF!<>\"X\",marzo!#REF!<>\"L\",marzo!#REF!<>\"J\",marzo!#REF!<>\"F\"),SUMIF($F$13:$J$13,BX$13,$F34:$J34),\"\")","v":{"$error":"#REF!"}},{"$f":"IF(AND(LEN($D34)>0,SUMIF($F$13:$J$13,BY$13,$F34:$J34)>0,marzo!#REF!<>\"X\",marzo!#REF!<>\"L\",marzo!#REF!<>\"J\",marzo!#REF!<>\"F\"),SUMIF($F$13:$J$13,BY$13,$F34:$J34),\"\")","v":{"$error":"#REF!"}},{"$f":"IF(AND(LEN($D34)>0,SUMIF($F$13:$J$13,BZ$13,$F34:$J34)>0,marzo!#REF!<>\"X\",marzo!#REF!<>\"L\",marzo!#REF!<>\"J\",marzo!#REF!<>\"F\"),SUMIF($F$13:$J$13,BZ$13,$F34:$J34),\"\")","v":{"$error":"#REF!"}},{"$f":"IF(AND(LEN($D34)>0,SUMIF($F$13:$J$13,CA$13,$F34:$J34)>0,marzo!#REF!<>\"X\",marzo!#REF!<>\"L\",marzo!#REF!<>\"J\",marzo!#REF!<>\"F\"),SUMIF($F$13:$J$13,CA$13,$F34:$J34),\"\")","v":{"$error":"#REF!"}},{"$f":"IF(AND(LEN($D34)>0,SUMIF($F$13:$J$13,CB$13,$F34:$J34)>0,marzo!#REF!<>\"X\",marzo!#REF!<>\"L\",marzo!#REF!<>\"J\",marzo!#REF!<>\"F\"),SUMIF($F$13:$J$13,CB$13,$F34:$J34),\"\")","v":{"$error":"#REF!"}},{"$error":"#REF!"}]
[{"$error":"#REF!"},{"$f":"IF(LEN(C35)>0,VLOOKUP($O$4,DATA!$A$1:$S$1,2,FALSE),\"\")","v":{"$error":"#REF!"}},{"$error":"#REF!"},{"$f":"IF(LEN(marzo!#REF!)>0,marzo!#REF!,\"\")","v":{"$error":"#REF!"}},{"$f":"IF(LEN(D35)>0,marzo!#REF!,\"\")","v":{"$error":"#REF!"}},null,null,null,null,null,"",null,null,{"$error":"#REF!"},{"$f":"IF(AND(LEN($D35)>0,SUMIF($F$13:$J$13,O$13,$F35:$J35)>0,marzo!#REF!<>\"X\",marzo!#REF!<>\"L\",marzo!#REF!<>\"J\",marzo!#REF!<>\"V\",marzo!#REF!<>\"F\",marzo!#REF!<>\"\"),SUMIF($F$13:$J$13,O$13,$F35:$J35),\"\")","v":{"$error":"#REF!"}},{"$f":"IF(AND(LEN($D35)>0,SUMIF($F$13:$J$13,P$13,$F35:$J35)>0,marzo!#REF!<>\"X\",marzo!#REF!<>\"L\",marzo!#REF!<>\"J\",marzo!#REF!<>\"V\",marzo!#REF!<>\"F\",marzo!#REF!<>\"\"),SUMIF($F$13:$J$13,P$13,$F35:$J35),\"\")","v":{"$error":"#REF!"}},{"$f":"IF(AND(LEN($D35)>0,SUMIF($F$13:$J$13,Q$13,$F35:$J35)>0,marzo!#REF!<>\"X\",marzo!#REF!<>\"L\",marzo!#REF!<>\"J\",marzo!#REF!<>\"V\",marzo!#REF!<>\"F\",marzo!#REF!<>\"\"),SUMIF($F$13:$J$13,Q$13,$F35:$J35),\"\")","v":{"$error":"#REF!"}},{"$f":"IF(AND(LEN($D35)>0,SUMIF($F$13:$J$13,R$13,$F35:$J35)>0,marzo!#REF!<>\"X\",marzo!#REF!<>\"L\",marzo!#REF!<>\"J\",marzo!#REF!<>\"V\",marzo!#REF!<>\"F\",marzo!#REF!<>\"\"),SUMIF($F$13:$J$13,R$13,$F35:$J35),\"\")","v":{"$error":"#REF!"}},{"$f":"IF(AND(LEN($D35)>0,SUMIF($F$13:$J$13,S$13,$F35:$J35)>0,marzo!#REF!<>\"X\",marzo!#REF!<>\"L\",marzo!#REF!<>\"J\",marzo!#REF!<>\"V\",marzo!#REF!<>\"F\",marzo!#REF!<>\"\"),SUMIF($F$13:$J$13,S$13,$F35:$J35),\"\")","v":{"$error":"#REF!"}},{"$f":"IF(AND(LEN($D35)>0,SUMIF($F$13:$J$13,T$13,$F35:$J35)>0,marzo!#REF!<>\"X\",marzo!#REF!<>\"L\",marzo!#REF!<>\"J\",marzo!#REF!<>\"V\",marzo!#REF!<>\"F\",marzo!#REF!<>\"\"),SUMIF($F$13:$J$13,T$13,$F35:$J35),\"\")","v":{"$error":"#REF!"}},{"$f":"IF(AND(LEN($D35)>0,SUMIF($F$13:$J$13,U$13,$F35:$J35)>0,marzo!#REF!<>\"X\",marzo!#REF!<>\"L\",marzo!#REF!<>\"J\",marzo!#REF!<>\"V\",marzo!#REF!<>\"F\",marzo!#REF!<>\"\"),SUMIF($F$13:$J$13,U$13,$F35:$J35),\"\")","v":{"$error":"#REF!"}},{"$f":"IF(AND(LEN($D35)>0,SUMIF($F$13:$J$13,V$13,$F35:$J35)>0,marzo!#REF!<>\"X\",marzo!#REF!<>\"L\",marzo!#REF!<>\"J\",marzo!#REF!<>\"V\",marzo!#REF!<>\"F\",marzo!#REF!<>\"\"),SUMIF($F$13:$J$13,V$13,$F35:$J35),\"\")","v":{"$error":"#REF!"}},{"$f":"IF(AND(LEN($D35)>0,SUMIF($F$13:$J$13,W$13,$F35:$J35)>0,marzo!#REF!<>\"X\",marzo!#REF!<>\"L\",marzo!#REF!<>\"J\",marzo!#REF!<>\"V\",marzo!#REF!<>\"F\",marzo!#REF!<>\"\"),SUMIF($F$13:$J$13,W$13,$F35:$J35),\"\")","v":{"$error":"#REF!"}},{"$f":"IF(AND(LEN($D35)>0,SUMIF($F$13:$J$13,X$13,$F35:$J35)>0,marzo!#REF!<>\"X\",marzo!#REF!<>\"L\",marzo!#REF!<>\"J\",marzo!#REF!<>\"V\",marzo!#REF!<>\"F\",marzo!#REF!<>\"\"),SUMIF($F$13:$J$13,X$13,$F35:$J35),\"\")","v":{"$error":"#REF!"}},{"$f":"IF(AND(LEN($D35)>0,SUMIF($F$13:$J$13,Y$13,$F35:$J35)>0,marzo!#REF!<>\"X\",marzo!#REF!<>\"L\",marzo!#REF!<>\"J\",marzo!#REF!<>\"V\",marzo!#REF!<>\"F\",marzo!#REF!<>\"\"),SUMIF($F$13:$J$13,Y$13,$F35:$J35),\"\")","v":{"$error":"#REF!"}},{"$f":"IF(AND(LEN($D35)>0,SUMIF($F$13:$J$13,Z$13,$F35:$J35)>0,marzo!#REF!<>\"X\",marzo!#REF!<>\"L\",marzo!#REF!<>\"J\",marzo!#REF!<>\"V\",marzo!#REF!<>\"F\",marzo!#REF!<>\"\"),SUMIF($F$13:$J$13,Z$13,$F35:$J35),\"\")","v":{"$error":"#REF!"}},{"$f":"IF(AND(LEN($D35)>0,SUMIF($F$13:$J$13,AA$13,$F35:$J35)>0,marzo!#REF!<>\"X\",marzo!#REF!<>\"L\",marzo!#REF!<>\"J\",marzo!#REF!<>\"V\",marzo!#REF!<>\"F\",marzo!#REF!<>\"\"),SUMIF($F$13:$J$13,AA$13,$F35:$J35),\"\")","v":{"$error":"#REF!"}},{"$f":"IF(AND(LEN($D35)>0,SUMIF($F$13:$J$13,AB$13,$F35:$J35)>0,marzo!#REF!<>\"X\",marzo!#REF!<>\"L\",marzo!#REF!<>\"J\",marzo!#REF!<>\"V\",marzo!#REF!<>\"F\",marzo!#REF!<>\"\"),SUMIF($F$13:$J$13,AB$13,$F35:$J35),\"\")","v":{"$error":"#REF!"}},{"$f":"IF(AND(LEN($D35)>0,SUMIF($F$13:$J$13,AC$13,$F35:$J35)>0,marzo!#REF!<>\"X\",marzo!#REF!<>\"L\",marzo!#REF!<>\"J\",marzo!#REF!<>\"V\",marzo!#REF!<>\"F\",marzo!#REF!<>\"\"),SUMIF($F$13:$J$13,AC$13,$F35:$J35),\"\")","v":{"$error":"#REF!"}},{"$f":"IF(AND(LEN($D35)>0,SUMIF($F$13:$J$13,AD$13,$F35:$J35)>0,marzo!#REF!<>\"X\",marzo!#REF!<>\"L\",marzo!#REF!<>\"J\",marzo!#REF!<>\"V\",marzo!#REF!<>\"F\",marzo!#REF!<>\"\"),SUMIF($F$13:$J$13,AD$13,$F35:$J35),\"\")","v":{"$error":"#REF!"}},{"$f":"IF(AND(LEN($D35)>0,SUMIF($F$13:$J$13,AE$13,$F35:$J35)>0,marzo!#REF!<>\"X\",marzo!#REF!<>\"L\",marzo!#REF!<>\"J\",marzo!#REF!<>\"V\",marzo!#REF!<>\"F\",marzo!#REF!<>\"\"),SUMIF($F$13:$J$13,AE$13,$F35:$J35),\"\")","v":{"$error":"#REF!"}},{"$f":"IF(AND(LEN($D35)>0,SUMIF($F$13:$J$13,AF$13,$F35:$J35)>0,marzo!#REF!<>\"X\",marzo!#REF!<>\"L\",marzo!#REF!<>\"J\",marzo!#REF!<>\"V\",marzo!#REF!<>\"F\",marzo!#REF!<>\"\"),SUMIF($F$13:$J$13,AF$13,$F35:$J35),\"\")","v":{"$error":"#REF!"}},{"$f":"IF(AND(LEN($D35)>0,SUMIF($F$13:$J$13,AG$13,$F35:$J35)>0,marzo!#REF!<>\"X\",marzo!#REF!<>\"L\",marzo!#REF!<>\"J\",marzo!#REF!<>\"V\",marzo!#REF!<>\"F\",marzo!#REF!<>\"\"),SUMIF($F$13:$J$13,AG$13,$F35:$J35),\"\")","v":{"$error":"#REF!"}},{"$f":"IF(AND(LEN($D35)>0,SUMIF($F$13:$J$13,AH$13,$F35:$J35)>0,marzo!#REF!<>\"X\",marzo!#REF!<>\"L\",marzo!#REF!<>\"J\",marzo!#REF!<>\"V\",marzo!#REF!<>\"F\",marzo!#REF!<>\"\"),SUMIF($F$13:$J$13,AH$13,$F35:$J35),\"\")","v":{"$error":"#REF!"}},{"$f":"IF(AND(LEN($D35)>0,SUMIF($F$13:$J$13,AI$13,$F35:$J35)>0,marzo!#REF!<>\"X\",marzo!#REF!<>\"L\",marzo!#REF!<>\"J\",marzo!#REF!<>\"V\",marzo!#REF!<>\"F\",marzo!#REF!<>\"\"),SUMIF($F$13:$J$13,AI$13,$F35:$J35),\"\")","v":{"$error":"#REF!"}},{"$f":"IF(AND(LEN($D35)>0,SUMIF($F$13:$J$13,AJ$13,$F35:$J35)>0,marzo!#REF!<>\"X\",marzo!#REF!<>\"L\",marzo!#REF!<>\"J\",marzo!#REF!<>\"V\",marzo!#REF!<>\"F\",marzo!#REF!<>\"\"),SUMIF($F$13:$J$13,AJ$13,$F35:$J35),\"\")","v":{"$error":"#REF!"}},{"$f":"IF(AND(LEN($D35)>0,SUMIF($F$13:$J$13,AK$13,$F35:$J35)>0,marzo!#REF!<>\"X\",marzo!#REF!<>\"L\",marzo!#REF!<>\"J\",marzo!#REF!<>\"V\",marzo!#REF!<>\"F\",marzo!#REF!<>\"\"),SUMIF($F$13:$J$13,AK$13,$F35:$J35),\"\")","v":{"$error":"#REF!"}},{"$f":"IF(AND(LEN($D35)>0,SUMIF($F$13:$J$13,AL$13,$F35:$J35)>0,marzo!#REF!<>\"X\",marzo!#REF!<>\"L\",marzo!#REF!<>\"J\",marzo!#REF!<>\"V\",marzo!#REF!<>\"F\",marzo!#REF!<>\"\"),SUMIF($F$13:$J$13,AL$13,$F35:$J35),\"\")","v":{"$error":"#REF!"}},{"$f":"IF(AND(LEN($D35)>0,SUMIF($F$13:$J$13,AM$13,$F35:$J35)>0,marzo!#REF!<>\"X\",marzo!#REF!<>\"L\",marzo!#REF!<>\"J\",marzo!#REF!<>\"V\",marzo!#REF!<>\"F\",marzo!#REF!<>\"\"),SUMIF($F$13:$J$13,AM$13,$F35:$J35),\"\")","v":{"$error":"#REF!"}},{"$f":"IF(AND(LEN($D35)>0,SUMIF($F$13:$J$13,AN$13,$F35:$J35)>0,marzo!#REF!<>\"X\",marzo!#REF!<>\"L\",marzo!#REF!<>\"J\",marzo!#REF!<>\"V\",marzo!#REF!<>\"F\",marzo!#REF!<>\"\"),SUMIF($F$13:$J$13,AN$13,$F35:$J35),\"\")","v":{"$error":"#REF!"}},{"$f":"IF(AND(LEN($D35)>0,SUMIF($F$13:$J$13,AO$13,$F35:$J35)>0,marzo!#REF!<>\"X\",marzo!#REF!<>\"L\",marzo!#REF!<>\"J\",marzo!#REF!<>\"V\",marzo!#REF!<>\"F\",marzo!#REF!<>\"\"),SUMIF($F$13:$J$13,AO$13,$F35:$J35),\"\")","v":{"$error":"#REF!"}},{"$f":"IF(AND(LEN($D35)>0,SUMIF($F$13:$J$13,AP$13,$F35:$J35)>0,marzo!#REF!<>\"X\",marzo!#REF!<>\"L\",marzo!#REF!<>\"J\",marzo!#REF!<>\"V\",marzo!#REF!<>\"F\",marzo!#REF!<>\"\"),SUMIF($F$13:$J$13,AP$13,$F35:$J35),\"\")","v":{"$error":"#REF!"}},{"$f":"IF(AND(LEN($D35)>0,SUMIF($F$13:$J$13,AQ$13,$F35:$J35)>0,marzo!#REF!<>\"X\",marzo!#REF!<>\"L\",marzo!#REF!<>\"J\",marzo!#REF!<>\"V\",marzo!#REF!<>\"F\",marzo!#REF!<>\"\"),SUMIF($F$13:$J$13,AQ$13,$F35:$J35),\"\")","v":{"$error":"#REF!"}},{"$f":"IF(AND(LEN($D35)>0,SUMIF($F$13:$J$13,AR$13,$F35:$J35)>0,marzo!#REF!<>\"X\",marzo!#REF!<>\"L\",marzo!#REF!<>\"J\",marzo!#REF!<>\"V\",marzo!#REF!<>\"F\",marzo!#REF!<>\"\"),SUMIF($F$13:$J$13,AR$13,$F35:$J35),\"\")","v":{"$error":"#REF!"}},{"$f":"IF(AND(LEN($D35)>0,SUMIF($F$13:$J$13,AS$13,$F35:$J35)>0,marzo!#REF!<>\"X\",marzo!#REF!<>\"L\",marzo!#REF!<>\"J\",marzo!#REF!<>\"V\",marzo!#REF!<>\"F\",marzo!#REF!<>\"\"),SUMIF($F$13:$J$13,AS$13,$F35:$J35),\"\")","v":{"$error":"#REF!"}},{"$error":"#REF!"},null,null,null,{"$f":"IF(AND(LEN($D35)>0,SUMIF($F$13:$J$13,AX$13,$F35:$J35)>0,marzo!#REF!<>\"X\",marzo!#REF!<>\"L\",marzo!#REF!<>\"J\",marzo!#REF!<>\"F\"),SUMIF($F$13:$J$13,AX$13,$F35:$J35),\"\")","v":{"$error":"#REF!"}},{"$f":"IF(AND(LEN($D35)>0,SUMIF($F$13:$J$13,AY$13,$F35:$J35)>0,marzo!#REF!<>\"X\",marzo!#REF!<>\"L\",marzo!#REF!<>\"J\",marzo!#REF!<>\"F\"),SUMIF($F$13:$J$13,AY$13,$F35:$J35),\"\")","v":{"$error":"#REF!"}},{"$f":"IF(AND(LEN($D35)>0,SUMIF($F$13:$J$13,AZ$13,$F35:$J35)>0,marzo!#REF!<>\"X\",marzo!#REF!<>\"L\",marzo!#REF!<>\"J\",marzo!#REF!<>\"F\"),SUMIF($F$13:$J$13,AZ$13,$F35:$J35),\"\")","v":{"$error":"#REF!"}},{"$f":"IF(AND(LEN($D35)>0,SUMIF($F$13:$J$13,BA$13,$F35:$J35)>0,marzo!#REF!<>\"X\",marzo!#REF!<>\"L\",marzo!#REF!<>\"J\",marzo!#REF!<>\"F\"),SUMIF($F$13:$J$13,BA$13,$F35:$J35),\"\")","v":{"$error":"#REF!"}},{"$f":"IF(AND(LEN($D35)>0,SUMIF($F$13:$J$13,BB$13,$F35:$J35)>0,marzo!#REF!<>\"X\",marzo!#REF!<>\"L\",marzo!#REF!<>\"J\",marzo!#REF!<>\"F\"),SUMIF($F$13:$J$13,BB$13,$F35:$J35),\"\")","v":{"$error":"#REF!"}},{"$f":"IF(AND(LEN($D35)>0,SUMIF($F$13:$J$13,BC$13,$F35:$J35)>0,marzo!#REF!<>\"X\",marzo!#REF!<>\"L\",marzo!#REF!<>\"J\",marzo!#REF!<>\"F\"),SUMIF($F$13:$J$13,BC$13,$F35:$J35),\"\")","v":{"$error":"#REF!"}},{"$f":"IF(AND(LEN($D35)>0,SUMIF($F$13:$J$13,BD$13,$F35:$J35)>0,marzo!#REF!<>\"X\",marzo!#REF!<>\"L\",marzo!#REF!<>\"J\",marzo!#REF!<>\"F\"),SUMIF($F$13:$J$13,BD$13,$F35:$J35),\"\")","v":{"$error":"#REF!"}},{"$f":"IF(AND(LEN($D35)>0,SUMIF($F$13:$J$13,BE$13,$F35:$J35)>0,marzo!#REF!<>\"X\",marzo!#REF!<>\"L\",marzo!#REF!<>\"J\",marzo!#REF!<>\"F\"),SUMIF($F$13:$J$13,BE$13,$F35:$J35),\"\")","v":{"$error":"#REF!"}},{"$f":"IF(AND(LEN($D35)>0,SUMIF($F$13:$J$13,BF$13,$F35:$J35)>0,marzo!#REF!<>\"X\",marzo!#REF!<>\"L\",marzo!#REF!<>\"J\",marzo!#REF!<>\"F\"),SUMIF($F$13:$J$13,BF$13,$F35:$J35),\"\")","v":{"$error":"#REF!"}},{"$f":"IF(AND(LEN($D35)>0,SUMIF($F$13:$J$13,BG$13,$F35:$J35)>0,marzo!#REF!<>\"X\",marzo!#REF!<>\"L\",marzo!#REF!<>\"J\",marzo!#REF!<>\"F\"),SUMIF($F$13:$J$13,BG$13,$F35:$J35),\"\")","v":{"$error":"#REF!"}},{"$f":"IF(AND(LEN($D35)>0,SUMIF($F$13:$J$13,BH$13,$F35:$J35)>0,marzo!#REF!<>\"X\",marzo!#REF!<>\"L\",marzo!#REF!<>\"J\",marzo!#REF!<>\"F\"),SUMIF($F$13:$J$13,BH$13,$F35:$J35),\"\")","v":{"$error":"#REF!"}},{"$f":"IF(AND(LEN($D35)>0,SUMIF($F$13:$J$13,BI$13,$F35:$J35)>0,marzo!#REF!<>\"X\",marzo!#REF!<>\"L\",marzo!#REF!<>\"J\",marzo!#REF!<>\"F\"),SUMIF($F$13:$J$13,BI$13,$F35:$J35),\"\")","v":{"$error":"#REF!"}},{"$f":"IF(AND(LEN($D35)>0,SUMIF($F$13:$J$13,BJ$13,$F35:$J35)>0,marzo!#REF!<>\"X\",marzo!#REF!<>\"L\",marzo!#REF!<>\"J\",marzo!#REF!<>\"F\"),SUMIF($F$13:$J$13,BJ$13,$F35:$J35),\"\")","v":{"$error":"#REF!"}},{"$f":"IF(AND(LEN($D35)>0,SUMIF($F$13:$J$13,BK$13,$F35:$J35)>0,marzo!#REF!<>\"X\",marzo!#REF!<>\"L\",marzo!#REF!<>\"J\",marzo!#REF!<>\"F\"),SUMIF($F$13:$J$13,BK$13,$F35:$J35),\"\")","v":{"$error":"#REF!"}},{"$f":"IF(AND(LEN($D35)>0,SUMIF($F$13:$J$13,BL$13,$F35:$J35)>0,marzo!#REF!<>\"X\",marzo!#REF!<>\"L\",marzo!#REF!<>\"J\",marzo!#REF!<>\"F\"),SUMIF($F$13:$J$13,BL$13,$F35:$J35),\"\")","v":{"$error":"#REF!"}},{"$f":"IF(AND(LEN($D35)>0,SUMIF($F$13:$J$13,BM$13,$F35:$J35)>0,marzo!#REF!<>\"X\",marzo!#REF!<>\"L\",marzo!#REF!<>\"J\",marzo!#REF!<>\"F\"),SUMIF($F$13:$J$13,BM$13,$F35:$J35),\"\")","v":{"$error":"#REF!"}},{"$f":"IF(AND(LEN($D35)>0,SUMIF($F$13:$J$13,BN$13,$F35:$J35)>0,marzo!#REF!<>\"X\",marzo!#REF!<>\"L\",marzo!#REF!<>\"J\",marzo!#REF!<>\"F\"),SUMIF($F$13:$J$13,BN$13,$F35:$J35),\"\")","v":{"$error":"#REF!"}},{"$f":"IF(AND(LEN($D35)>0,SUMIF($F$13:$J$13,BO$13,$F35:$J35)>0,marzo!#REF!<>\"X\",marzo!#REF!<>\"L\",marzo!#REF!<>\"J\",marzo!#REF!<>\"F\"),SUMIF($F$13:$J$13,BO$13,$F35:$J35),\"\")","v":{"$error":"#REF!"}},{"$f":"IF(AND(LEN($D35)>0,SUMIF($F$13:$J$13,BP$13,$F35:$J35)>0,marzo!#REF!<>\"X\",marzo!#REF!<>\"L\",marzo!#REF!<>\"J\",marzo!#REF!<>\"F\"),SUMIF($F$13:$J$13,BP$13,$F35:$J35),\"\")","v":{"$error":"#REF!"}},{"$f":"IF(AND(LEN($D35)>0,SUMIF($F$13:$J$13,BQ$13,$F35:$J35)>0,marzo!#REF!<>\"X\",marzo!#REF!<>\"L\",marzo!#REF!<>\"J\",marzo!#REF!<>\"F\"),SUMIF($F$13:$J$13,BQ$13,$F35:$J35),\"\")","v":{"$error":"#REF!"}},{"$f":"IF(AND(LEN($D35)>0,SUMIF($F$13:$J$13,BR$13,$F35:$J35)>0,marzo!#REF!<>\"X\",marzo!#REF!<>\"L\",marzo!#REF!<>\"J\",marzo!#REF!<>\"F\"),SUMIF($F$13:$J$13,BR$13,$F35:$J35),\"\")","v":{"$error":"#REF!"}},{"$f":"IF(AND(LEN($D35)>0,SUMIF($F$13:$J$13,BS$13,$F35:$J35)>0,marzo!#REF!<>\"X\",marzo!#REF!<>\"L\",marzo!#REF!<>\"J\",marzo!#REF!<>\"F\"),SUMIF($F$13:$J$13,BS$13,$F35:$J35),\"\")","v":{"$error":"#REF!"}},{"$f":"IF(AND(LEN($D35)>0,SUMIF($F$13:$J$13,BT$13,$F35:$J35)>0,marzo!#REF!<>\"X\",marzo!#REF!<>\"L\",marzo!#REF!<>\"J\",marzo!#REF!<>\"F\"),SUMIF($F$13:$J$13,BT$13,$F35:$J35),\"\")","v":{"$error":"#REF!"}},{"$f":"IF(AND(LEN($D35)>0,SUMIF($F$13:$J$13,BU$13,$F35:$J35)>0,marzo!#REF!<>\"X\",marzo!#REF!<>\"L\",marzo!#REF!<>\"J\",marzo!#REF!<>\"F\"),SUMIF($F$13:$J$13,BU$13,$F35:$J35),\"\")","v":{"$error":"#REF!"}},{"$f":"IF(AND(LEN($D35)>0,SUMIF($F$13:$J$13,BV$13,$F35:$J35)>0,marzo!#REF!<>\"X\",marzo!#REF!<>\"L\",marzo!#REF!<>\"J\",marzo!#REF!<>\"F\"),SUMIF($F$13:$J$13,BV$13,$F35:$J35),\"\")","v":{"$error":"#REF!"}},{"$f":"IF(AND(LEN($D35)>0,SUMIF($F$13:$J$13,BW$13,$F35:$J35)>0,marzo!#REF!<>\"X\",marzo!#REF!<>\"L\",marzo!#REF!<>\"J\",marzo!#REF!<>\"F\"),SUMIF($F$13:$J$13,BW$13,$F35:$J35),\"\")","v":{"$error":"#REF!"}},{"$f":"IF(AND(LEN($D35)>0,SUMIF($F$13:$J$13,BX$13,$F35:$J35)>0,marzo!#REF!<>\"X\",marzo!#REF!<>\"L\",marzo!#REF!<>\"J\",marzo!#REF!<>\"F\"),SUMIF($F$13:$J$13,BX$13,$F35:$J35),\"\")","v":{"$error":"#REF!"}},{"$f":"IF(AND(LEN($D35)>0,SUMIF($F$13:$J$13,BY$13,$F35:$J35)>0,marzo!#REF!<>\"X\",marzo!#REF!<>\"L\",marzo!#REF!<>\"J\",marzo!#REF!<>\"F\"),SUMIF($F$13:$J$13,BY$13,$F35:$J35),\"\")","v":{"$error":"#REF!"}},{"$f":"IF(AND(LEN($D35)>0,SUMIF($F$13:$J$13,BZ$13,$F35:$J35)>0,marzo!#REF!<>\"X\",marzo!#REF!<>\"L\",marzo!#REF!<>\"J\",marzo!#REF!<>\"F\"),SUMIF($F$13:$J$13,BZ$13,$F35:$J35),\"\")","v":{"$error":"#REF!"}},{"$f":"IF(AND(LEN($D35)>0,SUMIF($F$13:$J$13,CA$13,$F35:$J35)>0,marzo!#REF!<>\"X\",marzo!#REF!<>\"L\",marzo!#REF!<>\"J\",marzo!#REF!<>\"F\"),SUMIF($F$13:$J$13,CA$13,$F35:$J35),\"\")","v":{"$error":"#REF!"}},{"$f":"IF(AND(LEN($D35)>0,SUMIF($F$13:$J$13,CB$13,$F35:$J35)>0,marzo!#REF!<>\"X\",marzo!#REF!<>\"L\",marzo!#REF!<>\"J\",marzo!#REF!<>\"F\"),SUMIF($F$13:$J$13,CB$13,$F35:$J35),\"\")","v":{"$error":"#REF!"}},{"$error":"#REF!"}]
[{"$error":"#REF!"},{"$f":"IF(LEN(C36)>0,VLOOKUP($O$4,DATA!$A$1:$S$1,2,FALSE),\"\")","v":{"$error":"#REF!"}},{"$error":"#REF!"},{"$f":"IF(LEN(marzo!#REF!)>0,marzo!#REF!,\"\")","v":{"$error":"#REF!"}},{"$f":"IF(LEN(D36)>0,marzo!#REF!,\"\")","v":{"$error":"#REF!"}},null,null,null,null,null,"",null,null,{"$error":"#REF!"},{"$f":"IF(AND(LEN($D36)>0,SUMIF($F$13:$J$13,O$13,$F36:$J36)>0,marzo!#REF!<>\"X\",marzo!#REF!<>\"L\",marzo!#REF!<>\"J\",marzo!#REF!<>\"V\",marzo!#REF!<>\"F\",marzo!#REF!<>\"\"),SUMIF($F$13:$J$13,O$13,$F36:$J36),\"\")","v":{"$error":"#REF!"}},{"$f":"IF(AND(LEN($D36)>0,SUMIF($F$13:$J$13,P$13,$F36:$J36)>0,marzo!#REF!<>\"X\",marzo!#REF!<>\"L\",marzo!#REF!<>\"J\",marzo!#REF!<>\"V\",marzo!#REF!<>\"F\",marzo!#REF!<>\"\"),SUMIF($F$13:$J$13,P$13,$F36:$J36),\"\")","v":{"$error":"#REF!"}},{"$f":"IF(AND(LEN($D36)>0,SUMIF($F$13:$J$13,Q$13,$F36:$J36)>0,marzo!#REF!<>\"X\",marzo!#REF!<>\"L\",marzo!#REF!<>\"J\",marzo!#REF!<>\"V\",marzo!#REF!<>\"F\",marzo!#REF!<>\"\"),SUMIF($F$13:$J$13,Q$13,$F36:$J36),\"\")","v":{"$error":"#REF!"}},{"$f":"IF(AND(LEN($D36)>0,SUMIF($F$13:$J$13,R$13,$F36:$J36)>0,marzo!#REF!<>\"X\",marzo!#REF!<>\"L\",marzo!#REF!<>\"J\",marzo!#REF!<>\"V\",marzo!#REF!<>\"F\",marzo!#REF!<>\"\"),SUMIF($F$13:$J$13,R$13,$F36:$J36),\"\")","v":{"$error":"#REF!"}},{"$f":"IF(AND(LEN($D36)>0,SUMIF($F$13:$J$13,S$13,$F36:$J36)>0,marzo!#REF!<>\"X\",marzo!#REF!<>\"L\",marzo!#REF!<>\"J\",marzo!#REF!<>\"V\",marzo!#REF!<>\"F\",marzo!#REF!<>\"\"),SUMIF($F$13:$J$13,S$13,$F36:$J36),\"\")","v":{"$error":"#REF!"}},{"$f":"IF(AND(LEN($D36)>0,SUMIF($F$13:$J$13,T$13,$F36:$J36)>0,marzo!#REF!<>\"X\",marzo!#REF!<>\"L\",marzo!#REF!<>\"J\",marzo!#REF!<>\"V\",marzo!#REF!<>\"F\",marzo!#REF!<>\"\"),SUMIF($F$13:$J$13,T$13,$F36:$J36),\"\")","v":{"$error":"#REF!"}},{"$f":"IF(AND(LEN($D36)>0,SUMIF($F$13:$J$13,U$13,$F36:$J36)>0,marzo!#REF!<>\"X\",marzo!#REF!<>\"L\",marzo!#REF!<>\"J\",marzo!#REF!<>\"V\",marzo!#REF!<>\"F\",marzo!#REF!<>\"\"),SUMIF($F$13:$J$13,U$13,$F36:$J36),\"\")","v":{"$error":"#REF!"}},{"$f":"IF(AND(LEN($D36)>0,SUMIF($F$13:$J$13,V$13,$F36:$J36)>0,marzo!#REF!<>\"X\",marzo!#REF!<>\"L\",marzo!#REF!<>\"J\",marzo!#REF!<>\"V\",marzo!#REF!<>\"F\",marzo!#REF!<>\"\"),SUMIF($F$13:$J$13,V$13,$F36:$J36),\"\")","v":{"$error":"#REF!"}},{"$f":"IF(AND(LEN($D36)>0,SUMIF($F$13:$J$13,W$13,$F36:$J36)>0,marzo!#REF!<>\"X\",marzo!#REF!<>\"L\",marzo!#REF!<>\"J\",marzo!#REF!<>\"V\",marzo!#REF!<>\"F\",marzo!#REF!<>\"\"),SUMIF($F$13:$J$13,W$13,$F36:$J36),\"\")","v":{"$error":"#REF!"}},{"$f":"IF(AND(LEN($D36)>0,SUMIF($F$13:$J$13,X$13,$F36:$J36)>0,marzo!#REF!<>\"X\",marzo!#REF!<>\"L\",marzo!#REF!<>\"J\",marzo!#REF!<>\"V\",marzo!#REF!<>\"F\",marzo!#REF!<>\"\"),SUMIF($F$13:$J$13,X$13,$F36:$J36),\"\")","v":{"$error":"#REF!"}},{"$f":"IF(AND(LEN($D36)>0,SUMIF($F$13:$J$13,Y$13,$F36:$J36)>0,marzo!#REF!<>\"X\",marzo!#REF!<>\"L\",marzo!#REF!<>\"J\",marzo!#REF!<>\"V\",marzo!#REF!<>\"F\",marzo!#REF!<>\"\"),SUMIF($F$13:$J$13,Y$13,$F36:$J36),\"\")","v":{"$error":"#REF!"}},{"$f":"IF(AND(LEN($D36)>0,SUMIF($F$13:$J$13,Z$13,$F36:$J36)>0,marzo!#REF!<>\"X\",marzo!#REF!<>\"L\",marzo!#REF!<>\"J\",marzo!#REF!<>\"V\",marzo!#REF!<>\"F\",marzo!#REF!<>\"\"),SUMIF($F$13:$J$13,Z$13,$F36:$J36),\"\")","v":{"$error":"#REF!"}},{"$f":"IF(AND(LEN($D36)>0,SUMIF($F$13:$J$13,AA$13,$F36:$J36)>0,marzo!#REF!<>\"X\",marzo!#REF!<>\"L\",marzo!#REF!<>\"J\",marzo!#REF!<>\"V\",marzo!#REF!<>\"F\",marzo!#REF!<>\"\"),SUMIF($F$13:$J$13,AA$13,$F36:$J36),\"\")","v":{"$error":"#REF!"}},{"$f":"IF(AND(LEN($D36)>0,SUMIF($F$13:$J$13,AB$13,$F36:$J36)>0,marzo!#REF!<>\"X\",marzo!#REF!<>\"L\",marzo!#REF!<>\"J\",marzo!#REF!<>\"V\",marzo!#REF!<>\"F\",marzo!#REF!<>\"\"),SUMIF($F$13:$J$13,AB$13,$F36:$J36),\"\")","v":{"$error":"#REF!"}},{"$f":"IF(AND(LEN($D36)>0,SUMIF($F$13:$J$13,AC$13,$F36:$J36)>0,marzo!#REF!<>\"X\",marzo!#REF!<>\"L\",marzo!#REF!<>\"J\",marzo!#REF!<>\"V\",marzo!#REF!<>\"F\",marzo!#REF!<>\"\"),SUMIF($F$13:$J$13,AC$13,$F36:$J36),\"\")","v":{"$error":"#REF!"}},{"$f":"IF(AND(LEN($D36)>0,SUMIF($F$13:$J$13,AD$13,$F36:$J36)>0,marzo!#REF!<>\"X\",marzo!#REF!<>\"L\",marzo!#REF!<>\"J\",marzo!#REF!<>\"V\",marzo!#REF!<>\"F\",marzo!#REF!<>\"\"),SUMIF($F$13:$J$13,AD$13,$F36:$J36),\"\")","v":{"$error":"#REF!"}},{"$f":"IF(AND(LEN($D36)>0,SUMIF($F$13:$J$13,AE$13,$F36:$J36)>0,marzo!#REF!<>\"X\",marzo!#REF!<>\"L\",marzo!#REF!<>\"J\",marzo!#REF!<>\"V\",marzo!#REF!<>\"F\",marzo!#REF!<>\"\"),SUMIF($F$13:$J$13,AE$13,$F36:$J36),\"\")","v":{"$error":"#REF!"}},{"$f":"IF(AND(LEN($D36)>0,SUMIF($F$13:$J$13,AF$13,$F36:$J36)>0,marzo!#REF!<>\"X\",marzo!#REF!<>\"L\",marzo!#REF!<>\"J\",marzo!#REF!<>\"V\",marzo!#REF!<>\"F\",marzo!#REF!<>\"\"),SUMIF($F$13:$J$13,AF$13,$F36:$J36),\"\")","v":{"$error":"#REF!"}},{"$f":"IF(AND(LEN($D36)>0,SUMIF($F$13:$J$13,AG$13,$F36:$J36)>0,marzo!#REF!<>\"X\",marzo!#REF!<>\"L\",marzo!#REF!<>\"J\",marzo!#REF!<>\"V\",marzo!#REF!<>\"F\",marzo!#REF!<>\"\"),SUMIF($F$13:$J$13,AG$13,$F36:$J36),\"\")","v":{"$error":"#REF!"}},{"$f":"IF(AND(LEN($D36)>0,SUMIF($F$13:$J$13,AH$13,$F36:$J36)>0,marzo!#REF!<>\"X\",marzo!#REF!<>\"L\",marzo!#REF!<>\"J\",marzo!#REF!<>\"V\",marzo!#REF!<>\"F\",marzo!#REF!<>\"\"),SUMIF($F$13:$J$13,AH$13,$F36:$J36),\"\")","v":{"$error":"#REF!"}},{"$f":"IF(AND(LEN($D36)>0,SUMIF($F$13:$J$13,AI$13,$F36:$J36)>0,marzo!#REF!<>\"X\",marzo!#REF!<>\"L\",marzo!#REF!<>\"J\",marzo!#REF!<>\"V\",marzo!#REF!<>\"F\",marzo!#REF!<>\"\"),SUMIF($F$13:$J$13,AI$13,$F36:$J36),\"\")","v":{"$error":"#REF!"}},{"$f":"IF(AND(LEN($D36)>0,SUMIF($F$13:$J$13,AJ$13,$F36:$J36)>0,marzo!#REF!<>\"X\",marzo!#REF!<>\"L\",marzo!#REF!<>\"J\",marzo!#REF!<>\"V\",marzo!#REF!<>\"F\",marzo!#REF!<>\"\"),SUMIF($F$13:$J$13,AJ$13,$F36:$J36),\"\")","v":{"$error":"#REF!"}},{"$f":"IF(AND(LEN($D36)>0,SUMIF($F$13:$J$13,AK$13,$F36:$J36)>0,marzo!#REF!<>\"X\",marzo!#REF!<>\"L\",marzo!#REF!<>\"J\",marzo!#REF!<>\"V\",marzo!#REF!<>\"F\",marzo!#REF!<>\"\"),SUMIF($F$13:$J$13,AK$13,$F36:$J36),\"\")","v":{"$error":"#REF!"}},{"$f":"IF(AND(LEN($D36)>0,SUMIF($F$13:$J$13,AL$13,$F36:$J36)>0,marzo!#REF!<>\"X\",marzo!#REF!<>\"L\",marzo!#REF!<>\"J\",marzo!#REF!<>\"V\",marzo!#REF!<>\"F\",marzo!#REF!<>\"\"),SUMIF($F$13:$J$13,AL$13,$F36:$J36),\"\")","v":{"$error":"#REF!"}},{"$f":"IF(AND(LEN($D36)>0,SUMIF($F$13:$J$13,AM$13,$F36:$J36)>0,marzo!#REF!<>\"X\",marzo!#REF!<>\"L\",marzo!#REF!<>\"J\",marzo!#REF!<>\"V\",marzo!#REF!<>\"F\",marzo!#REF!<>\"\"),SUMIF($F$13:$J$13,AM$13,$F36:$J36),\"\")","v":{"$error":"#REF!"}},{"$f":"IF(AND(LEN($D36)>0,SUMIF($F$13:$J$13,AN$13,$F36:$J36)>0,marzo!#REF!<>\"X\",marzo!#REF!<>\"L\",marzo!#REF!<>\"J\",marzo!#REF!<>\"V\",marzo!#REF!<>\"F\",marzo!#REF!<>\"\"),SUMIF($F$13:$J$13,AN$13,$F36:$J36),\"\")","v":{"$error":"#REF!"}},{"$f":"IF(AND(LEN($D36)>0,SUMIF($F$13:$J$13,AO$13,$F36:$J36)>0,marzo!#REF!<>\"X\",marzo!#REF!<>\"L\",marzo!#REF!<>\"J\",marzo!#REF!<>\"V\",marzo!#REF!<>\"F\",marzo!#REF!<>\"\"),SUMIF($F$13:$J$13,AO$13,$F36:$J36),\"\")","v":{"$error":"#REF!"}},{"$f":"IF(AND(LEN($D36)>0,SUMIF($F$13:$J$13,AP$13,$F36:$J36)>0,marzo!#REF!<>\"X\",marzo!#REF!<>\"L\",marzo!#REF!<>\"J\",marzo!#REF!<>\"V\",marzo!#REF!<>\"F\",marzo!#REF!<>\"\"),SUMIF($F$13:$J$13,AP$13,$F36:$J36),\"\")","v":{"$error":"#REF!"}},{"$f":"IF(AND(LEN($D36)>0,SUMIF($F$13:$J$13,AQ$13,$F36:$J36)>0,marzo!#REF!<>\"X\",marzo!#REF!<>\"L\",marzo!#REF!<>\"J\",marzo!#REF!<>\"V\",marzo!#REF!<>\"F\",marzo!#REF!<>\"\"),SUMIF($F$13:$J$13,AQ$13,$F36:$J36),\"\")","v":{"$error":"#REF!"}},{"$f":"IF(AND(LEN($D36)>0,SUMIF($F$13:$J$13,AR$13,$F36:$J36)>0,marzo!#REF!<>\"X\",marzo!#REF!<>\"L\",marzo!#REF!<>\"J\",marzo!#REF!<>\"V\",marzo!#REF!<>\"F\",marzo!#REF!<>\"\"),SUMIF($F$13:$J$13,AR$13,$F36:$J36),\"\")","v":{"$error":"#REF!"}},{"$f":"IF(AND(LEN($D36)>0,SUMIF($F$13:$J$13,AS$13,$F36:$J36)>0,marzo!#REF!<>\"X\",marzo!#REF!<>\"L\",marzo!#REF!<>\"J\",marzo!#REF!<>\"V\",marzo!#REF!<>\"F\",marzo!#REF!<>\"\"),SUMIF($F$13:$J$13,AS$13,$F36:$J36),\"\")","v":{"$error":"#REF!"}},{"$error":"#REF!"},null,null,null,{"$f":"IF(AND(LEN($D36)>0,SUMIF($F$13:$J$13,AX$13,$F36:$J36)>0,marzo!#REF!<>\"X\",marzo!#REF!<>\"L\",marzo!#REF!<>\"J\",marzo!#REF!<>\"F\"),SUMIF($F$13:$J$13,AX$13,$F36:$J36),\"\")","v":{"$error":"#REF!"}},{"$f":"IF(AND(LEN($D36)>0,SUMIF($F$13:$J$13,AY$13,$F36:$J36)>0,marzo!#REF!<>\"X\",marzo!#REF!<>\"L\",marzo!#REF!<>\"J\",marzo!#REF!<>\"F\"),SUMIF($F$13:$J$13,AY$13,$F36:$J36),\"\")","v":{"$error":"#REF!"}},{"$f":"IF(AND(LEN($D36)>0,SUMIF($F$13:$J$13,AZ$13,$F36:$J36)>0,marzo!#REF!<>\"X\",marzo!#REF!<>\"L\",marzo!#REF!<>\"J\",marzo!#REF!<>\"F\"),SUMIF($F$13:$J$13,AZ$13,$F36:$J36),\"\")","v":{"$error":"#REF!"}},{"$f":"IF(AND(LEN($D36)>0,SUMIF($F$13:$J$13,BA$13,$F36:$J36)>0,marzo!#REF!<>\"X\",marzo!#REF!<>\"L\",marzo!#REF!<>\"J\",marzo!#REF!<>\"F\"),SUMIF($F$13:$J$13,BA$13,$F36:$J36),\"\")","v":{"$error":"#REF!"}},{"$f":"IF(AND(LEN($D36)>0,SUMIF($F$13:$J$13,BB$13,$F36:$J36)>0,marzo!#REF!<>\"X\",marzo!#REF!<>\"L\",marzo!#REF!<>\"J\",marzo!#REF!<>\"F\"),SUMIF($F$13:$J$13,BB$13,$F36:$J36),\"\")","v":{"$error":"#REF!"}},{"$f":"IF(AND(LEN($D36)>0,SUMIF($F$13:$J$13,BC$13,$F36:$J36)>0,marzo!#REF!<>\"X\",marzo!#REF!<>\"L\",marzo!#REF!<>\"J\",marzo!#REF!<>\"F\"),SUMIF($F$13:$J$13,BC$13,$F36:$J36),\"\")","v":{"$error":"#REF!"}},{"$f":"IF(AND(LEN($D36)>0,SUMIF($F$13:$J$13,BD$13,$F36:$J36)>0,marzo!#REF!<>\"X\",marzo!#REF!<>\"L\",marzo!#REF!<>\"J\",marzo!#REF!<>\"F\"),SUMIF($F$13:$J$13,BD$13,$F36:$J36),\"\")","v":{"$error":"#REF!"}},{"$f":"IF(AND(LEN($D36)>0,SUMIF($F$13:$J$13,BE$13,$F36:$J36)>0,marzo!#REF!<>\"X\",marzo!#REF!<>\"L\",marzo!#REF!<>\"J\",marzo!#REF!<>\"F\"),SUMIF($F$13:$J$13,BE$13,$F36:$J36),\"\")","v":{"$error":"#REF!"}},{"$f":"IF(AND(LEN($D36)>0,SUMIF($F$13:$J$13,BF$13,$F36:$J36)>0,marzo!#REF!<>\"X\",marzo!#REF!<>\"L\",marzo!#REF!<>\"J\",marzo!#REF!<>\"F\"),SUMIF($F$13:$J$13,BF$13,$F36:$J36),\"\")","v":{"$error":"#REF!"}},{"$f":"IF(AND(LEN($D36)>0,SUMIF($F$13:$J$13,BG$13,$F36:$J36)>0,marzo!#REF!<>\"X\",marzo!#REF!<>\"L\",marzo!#REF!<>\"J\",marzo!#REF!<>\"F\"),SUMIF($F$13:$J$13,BG$13,$F36:$J36),\"\")","v":{"$error":"#REF!"}},{"$f":"IF(AND(LEN($D36)>0,SUMIF($F$13:$J$13,BH$13,$F36:$J36)>0,marzo!#REF!<>\"X\",marzo!#REF!<>\"L\",marzo!#REF!<>\"J\",marzo!#REF!<>\"F\"),SUMIF($F$13:$J$13,BH$13,$F36:$J36),\"\")","v":{"$error":"#REF!"}},{"$f":"IF(AND(LEN($D36)>0,SUMIF($F$13:$J$13,BI$13,$F36:$J36)>0,marzo!#REF!<>\"X\",marzo!#REF!<>\"L\",marzo!#REF!<>\"J\",marzo!#REF!<>\"F\"),SUMIF($F$13:$J$13,BI$13,$F36:$J36),\"\")","v":{"$error":"#REF!"}},{"$f":"IF(AND(LEN($D36)>0,SUMIF($F$13:$J$13,BJ$13,$F36:$J36)>0,marzo!#REF!<>\"X\",marzo!#REF!<>\"L\",marzo!#REF!<>\"J\",marzo!#REF!<>\"F\"),SUMIF($F$13:$J$13,BJ$13,$F36:$J36),\"\")","v":{"$error":"#REF!"}},{"$f":"IF(AND(LEN($D36)>0,SUMIF($F$13:$J$13,BK$13,$F36:$J36)>0,marzo!#REF!<>\"X\",marzo!#REF!<>\"L\",marzo!#REF!<>\"J\",marzo!#REF!<>\"F\"),SUMIF($F$13:$J$13,BK$13,$F36:$J36),\"\")","v":{"$error":"#REF!"}},{"$f":"IF(AND(LEN($D36)>0,SUMIF($F$13:$J$13,BL$13,$F36:$J36)>0,marzo!#REF!<>\"X\",marzo!#REF!<>\"L\",marzo!#REF!<>\"J\",marzo!#REF!<>\"F\"),SUMIF($F$13:$J$13,BL$13,$F36:$J36),\"\")","v":{"$error":"#REF!"}},{"$f":"IF(AND(LEN($D36)>0,SUMIF($F$13:$J$13,BM$13,$F36:$J36)>0,marzo!#REF!<>\"X\",marzo!#REF!<>\"L\",marzo!#REF!<>\"J\",marzo!#REF!<>\"F\"),SUMIF($F$13:$J$13,BM$13,$F36:$J36),\"\")","v":{"$error":"#REF!"}},{"$f":"IF(AND(LEN($D36)>0,SUMIF($F$13:$J$13,BN$13,$F36:$J36)>0,marzo!#REF!<>\"X\",marzo!#REF!<>\"L\",marzo!#REF!<>\"J\",marzo!#REF!<>\"F\"),SUMIF($F$13:$J$13,BN$13,$F36:$J36),\"\")","v":{"$error":"#REF!"}},{"$f":"IF(AND(LEN($D36)>0,SUMIF($F$13:$J$13,BO$13,$F36:$J36)>0,marzo!#REF!<>\"X\",marzo!#REF!<>\"L\",marzo!#REF!<>\"J\",marzo!#REF!<>\"F\"),SUMIF($F$13:$J$13,BO$13,$F36:$J36),\"\")","v":{"$error":"#REF!"}},{"$f":"IF(AND(LEN($D36)>0,SUMIF($F$13:$J$13,BP$13,$F36:$J36)>0,marzo!#REF!<>\"X\",marzo!#REF!<>\"L\",marzo!#REF!<>\"J\",marzo!#REF!<>\"F\"),SUMIF($F$13:$J$13,BP$13,$F36:$J36),\"\")","v":{"$error":"#REF!"}},{"$f":"IF(AND(LEN($D36)>0,SUMIF($F$13:$J$13,BQ$13,$F36:$J36)>0,marzo!#REF!<>\"X\",marzo!#REF!<>\"L\",marzo!#REF!<>\"J\",marzo!#REF!<>\"F\"),SUMIF($F$13:$J$13,BQ$13,$F36:$J36),\"\")","v":{"$error":"#REF!"}},{"$f":"IF(AND(LEN($D36)>0,SUMIF($F$13:$J$13,BR$13,$F36:$J36)>0,marzo!#REF!<>\"X\",marzo!#REF!<>\"L\",marzo!#REF!<>\"J\",marzo!#REF!<>\"F\"),SUMIF($F$13:$J$13,BR$13,$F36:$J36),\"\")","v":{"$error":"#REF!"}},{"$f":"IF(AND(LEN($D36)>0,SUMIF($F$13:$J$13,BS$13,$F36:$J36)>0,marzo!#REF!<>\"X\",marzo!#REF!<>\"L\",marzo!#REF!<>\"J\",marzo!#REF!<>\"F\"),SUMIF($F$13:$J$13,BS$13,$F36:$J36),\"\")","v":{"$error":"#REF!"}},{"$f":"IF(AND(LEN($D36)>0,SUMIF($F$13:$J$13,BT$13,$F36:$J36)>0,marzo!#REF!<>\"X\",marzo!#REF!<>\"L\",marzo!#REF!<>\"J\",marzo!#REF!<>\"F\"),SUMIF($F$13:$J$13,BT$13,$F36:$J36),\"\")","v":{"$error":"#REF!"}},{"$f":"IF(AND(LEN($D36)>0,SUMIF($F$13:$J$13,BU$13,$F36:$J36)>0,marzo!#REF!<>\"X\",marzo!#REF!<>\"L\",marzo!#REF!<>\"J\",marzo!#REF!<>\"F\"),SUMIF($F$13:$J$13,BU$13,$F36:$J36),\"\")","v":{"$error":"#REF!"}},{"$f":"IF(AND(LEN($D36)>0,SUMIF($F$13:$J$13,BV$13,$F36:$J36)>0,marzo!#REF!<>\"X\",marzo!#REF!<>\"L\",marzo!#REF!<>\"J\",marzo!#REF!<>\"F\"),SUMIF($F$13:$J$13,BV$13,$F36:$J36),\"\")","v":{"$error":"#REF!"}},{"$f":"IF(AND(LEN($D36)>0,SUMIF($F$13:$J$13,BW$13,$F36:$J36)>0,marzo!#REF!<>\"X\",marzo!#REF!<>\"L\",marzo!#REF!<>\"J\",marzo!#REF!<>\"F\"),SUMIF($F$13:$J$13,BW$13,$F36:$J36),\"\")","v":{"$error":"#REF!"}},{"$f":"IF(AND(LEN($D36)>0,SUMIF($F$13:$J$13,BX$13,$F36:$J36)>0,marzo!#REF!<>\"X\",marzo!#REF!<>\"L\",marzo!#REF!<>\"J\",marzo!#REF!<>\"F\"),SUMIF($F$13:$J$13,BX$13,$F36:$J36),\"\")","v":{"$error":"#REF!"}},{"$f":"IF(AND(LEN($D36)>0,SUMIF($F$13:$J$13,BY$13,$F36:$J36)>0,marzo!#REF!<>\"X\",marzo!#REF!<>\"L\",marzo!#REF!<>\"J\",marzo!#REF!<>\"F\"),SUMIF($F$13:$J$13,BY$13,$F36:$J36),\"\")","v":{"$error":"#REF!"}},{"$f":"IF(AND(LEN($D36)>0,SUMIF($F$13:$J$13,BZ$13,$F36:$J36)>0,marzo!#REF!<>\"X\",marzo!#REF!<>\"L\",marzo!#REF!<>\"J\",marzo!#REF!<>\"F\"),SUMIF($F$13:$J$13,BZ$13,$F36:$J36),\"\")","v":{"$error":"#REF!"}},{"$f":"IF(AND(LEN($D36)>0,SUMIF($F$13:$J$13,CA$13,$F36:$J36)>0,marzo!#REF!<>\"X\",marzo!#REF!<>\"L\",marzo!#REF!<>\"J\",marzo!#REF!<>\"F\"),SUMIF($F$13:$J$13,CA$13,$F36:$J36),\"\")","v":{"$error":"#REF!"}},{"$f":"IF(AND(LEN($D36)>0,SUMIF($F$13:$J$13,CB$13,$F36:$J36)>0,marzo!#REF!<>\"X\",marzo!#REF!<>\"L\",marzo!#REF!<>\"J\",marzo!#REF!<>\"F\"),SUMIF($F$13:$J$13,CB$13,$F36:$J36),\"\")","v":{"$error":"#REF!"}},{"$error":"#REF!"}]
[{"$error":"#REF!"},{"$f":"IF(LEN(C37)>0,VLOOKUP($O$4,DATA!$A$1:$S$1,2,FALSE),\"\")","v":{"$error":"#REF!"}},{"$error":"#REF!"},{"$f":"IF(LEN(marzo!#REF!)>0,marzo!#REF!,\"\")","v":{"$error":"#REF!"}},{"$f":"IF(LEN(D37)>0,marzo!#REF!,\"\")","v":{"$error":"#REF!"}},null,null,null,null,null,"",null,null,{"$error":"#REF!"},{"$f":"IF(AND(LEN($D37)>0,SUMIF($F$13:$J$13,O$13,$F37:$J37)>0,marzo!#REF!<>\"X\",marzo!#REF!<>\"L\",marzo!#REF!<>\"J\",marzo!#REF!<>\"V\",marzo!#REF!<>\"F\",marzo!#REF!<>\"\"),SUMIF($F$13:$J$13,O$13,$F37:$J37),\"\")","v":{"$error":"#REF!"}},{"$f":"IF(AND(LEN($D37)>0,SUMIF($F$13:$J$13,P$13,$F37:$J37)>0,marzo!#REF!<>\"X\",marzo!#REF!<>\"L\",marzo!#REF!<>\"J\",marzo!#REF!<>\"V\",marzo!#REF!<>\"F\",marzo!#REF!<>\"\"),SUMIF($F$13:$J$13,P$13,$F37:$J37),\"\")","v":{"$error":"#REF!"}},{"$f":"IF(AND(LEN($D37)>0,SUMIF($F$13:$J$13,Q$13,$F37:$J37)>0,marzo!#REF!<>\"X\",marzo!#REF!<>\"L\",marzo!#REF!<>\"J\",marzo!#REF!<>\"V\",marzo!#REF!<>\"F\",marzo!#REF!<>\"\"),SUMIF($F$13:$J$13,Q$13,$F37:$J37),\"\")","v":{"$error":"#REF!"}},{"$f":"IF(AND(LEN($D37)>0,SUMIF($F$13:$J$13,R$13,$F37:$J37)>0,marzo!#REF!<>\"X\",marzo!#REF!<>\"L\",marzo!#REF!<>\"J\",marzo!#REF!<>\"V\",marzo!#REF!<>\"F\",marzo!#REF!<>\"\"),SUMIF($F$13:$J$13,R$13,$F37:$J37),\"\")","v":{"$error":"#REF!"}},{"$f":"IF(AND(LEN($D37)>0,SUMIF($F$13:$J$13,S$13,$F37:$J37)>0,marzo!#REF!<>\"X\",marzo!#REF!<>\"L\",marzo!#REF!<>\"J\",marzo!#REF!<>\"V\",marzo!#REF!<>\"F\",marzo!#REF!<>\"\"),SUMIF($F$13:$J$13,S$13,$F37:$J37),\"\")","v":{"$error":"#REF!"}},{"$f":"IF(AND(LEN($D37)>0,SUMIF($F$13:$J$13,T$13,$F37:$J37)>0,marzo!#REF!<>\"X\",marzo!#REF!<>\"L\",marzo!#REF!<>\"J\",marzo!#REF!<>\"V\",marzo!#REF!<>\"F\",marzo!#REF!<>\"\"),SUMIF($F$13:$J$13,T$13,$F37:$J37),\"\")","v":{"$error":"#REF!"}},{"$f":"IF(AND(LEN($D37)>0,SUMIF($F$13:$J$13,U$13,$F37:$J37)>0,marzo!#REF!<>\"X\",marzo!#REF!<>\"L\",marzo!#REF!<>\"J\",marzo!#REF!<>\"V\",marzo!#REF!<>\"F\",marzo!#REF!<>\"\"),SUMIF($F$13:$J$13,U$13,$F37:$J37),\"\")","v":{"$error":"#REF!"}},{"$f":"IF(AND(LEN($D37)>0,SUMIF($F$13:$J$13,V$13,$F37:$J37)>0,marzo!#REF!<>\"X\",marzo!#REF!<>\"L\",marzo!#REF!<>\"J\",marzo!#REF!<>\"V\",marzo!#REF!<>\"F\",marzo!#REF!<>\"\"),SUMIF($F$13:$J$13,V$13,$F37:$J37),\"\")","v":{"$error":"#REF!"}},{"$f":"IF(AND(LEN($D37)>0,SUMIF($F$13:$J$13,W$13,$F37:$J37)>0,marzo!#REF!<>\"X\",marzo!#REF!<>\"L\",marzo!#REF!<>\"J\",marzo!#REF!<>\"V\",marzo!#REF!<>\"F\",marzo!#REF!<>\"\"),SUMIF($F$13:$J$13,W$13,$F37:$J37),\"\")","v":{"$error":"#REF!"}},{"$f":"IF(AND(LEN($D37)>0,SUMIF($F$13:$J$13,X$13,$F37:$J37)>0,marzo!#REF!<>\"X\",marzo!#REF!<>\"L\",marzo!#REF!<>\"J\",marzo!#REF!<>\"V\",marzo!#REF!<>\"F\",marzo!#REF!<>\"\"),SUMIF($F$13:$J$13,X$13,$F37:$J37),\"\")","v":{"$error":"#REF!"}},{"$f":"IF(AND(LEN($D37)>0,SUMIF($F$13:$J$13,Y$13,$F37:$J37)>0,marzo!#REF!<>\"X\",marzo!#REF!<>\"L\",marzo!#REF!<>\"J\",marzo!#REF!<>\"V\",marzo!#REF!<>\"F\",marzo!#REF!<>\"\"),SUMIF($F$13:$J$13,Y$13,$F37:$J37),\"\")","v":{"$error":"#REF!"}},{"$f":"IF(AND(LEN($D37)>0,SUMIF($F$13:$J$13,Z$13,$F37:$J37)>0,marzo!#REF!<>\"X\",marzo!#REF!<>\"L\",marzo!#REF!<>\"J\",marzo!#REF!<>\"V\",marzo!#REF!<>\"F\",marzo!#REF!<>\"\"),SUMIF($F$13:$J$13,Z$13,$F37:$J37),\"\")","v":{"$error":"#REF!"}},{"$f":"IF(AND(LEN($D37)>0,SUMIF($F$13:$J$13,AA$13,$F37:$J37)>0,marzo!#REF!<>\"X\",marzo!#REF!<>\"L\",marzo!#REF!<>\"J\",marzo!#REF!<>\"V\",marzo!#REF!<>\"F\",marzo!#REF!<>\"\"),SUMIF($F$13:$J$13,AA$13,$F37:$J37),\"\")","v":{"$error":"#REF!"}},{"$f":"IF(AND(LEN($D37)>0,SUMIF($F$13:$J$13,AB$13,$F37:$J37)>0,marzo!#REF!<>\"X\",marzo!#REF!<>\"L\",marzo!#REF!<>\"J\",marzo!#REF!<>\"V\",marzo!#REF!<>\"F\",marzo!#REF!<>\"\"),SUMIF($F$13:$J$13,AB$13,$F37:$J37),\"\")","v":{"$error":"#REF!"}},{"$f":"IF(AND(LEN($D37)>0,SUMIF($F$13:$J$13,AC$13,$F37:$J37)>0,marzo!#REF!<>\"X\",marzo!#REF!<>\"L\",marzo!#REF!<>\"J\",marzo!#REF!<>\"V\",marzo!#REF!<>\"F\",marzo!#REF!<>\"\"),SUMIF($F$13:$J$13,AC$13,$F37:$J37),\"\")","v":{"$error":"#REF!"}},{"$f":"IF(AND(LEN($D37)>0,SUMIF($F$13:$J$13,AD$13,$F37:$J37)>0,marzo!#REF!<>\"X\",marzo!#REF!<>\"L\",marzo!#REF!<>\"J\",marzo!#REF!<>\"V\",marzo!#REF!<>\"F\",marzo!#REF!<>\"\"),SUMIF($F$13:$J$13,AD$13,$F37:$J37),\"\")","v":{"$error":"#REF!"}},{"$f":"IF(AND(LEN($D37)>0,SUMIF($F$13:$J$13,AE$13,$F37:$J37)>0,marzo!#REF!<>\"X\",marzo!#REF!<>\"L\",marzo!#REF!<>\"J\",marzo!#REF!<>\"V\",marzo!#REF!<>\"F\",marzo!#REF!<>\"\"),SUMIF($F$13:$J$13,AE$13,$F37:$J37),\"\")","v":{"$error":"#REF!"}},{"$f":"IF(AND(LEN($D37)>0,SUMIF($F$13:$J$13,AF$13,$F37:$J37)>0,marzo!#REF!<>\"X\",marzo!#REF!<>\"L\",marzo!#REF!<>\"J\",marzo!#REF!<>\"V\",marzo!#REF!<>\"F\",marzo!#REF!<>\"\"),SUMIF($F$13:$J$13,AF$13,$F37:$J37),\"\")","v":{"$error":"#REF!"}},{"$f":"IF(AND(LEN($D37)>0,SUMIF($F$13:$J$13,AG$13,$F37:$J37)>0,marzo!#REF!<>\"X\",marzo!#REF!<>\"L\",marzo!#REF!<>\"J\",marzo!#REF!<>\"V\",marzo!#REF!<>\"F\",marzo!#REF!<>\"\"),SUMIF($F$13:$J$13,AG$13,$F37:$J37),\"\")","v":{"$error":"#REF!"}},{"$f":"IF(AND(LEN($D37)>0,SUMIF($F$13:$J$13,AH$13,$F37:$J37)>0,marzo!#REF!<>\"X\",marzo!#REF!<>\"L\",marzo!#REF!<>\"J\",marzo!#REF!<>\"V\",marzo!#REF!<>\"F\",marzo!#REF!<>\"\"),SUMIF($F$13:$J$13,AH$13,$F37:$J37),\"\")","v":{"$error":"#REF!"}},{"$f":"IF(AND(LEN($D37)>0,SUMIF($F$13:$J$13,AI$13,$F37:$J37)>0,marzo!#REF!<>\"X\",marzo!#REF!<>\"L\",marzo!#REF!<>\"J\",marzo!#REF!<>\"V\",marzo!#REF!<>\"F\",marzo!#REF!<>\"\"),SUMIF($F$13:$J$13,AI$13,$F37:$J37),\"\")","v":{"$error":"#REF!"}},{"$f":"IF(AND(LEN($D37)>0,SUMIF($F$13:$J$13,AJ$13,$F37:$J37)>0,marzo!#REF!<>\"X\",marzo!#REF!<>\"L\",marzo!#REF!<>\"J\",marzo!#REF!<>\"V\",marzo!#REF!<>\"F\",marzo!#REF!<>\"\"),SUMIF($F$13:$J$13,AJ$13,$F37:$J37),\"\")","v":{"$error":"#REF!"}},{"$f":"IF(AND(LEN($D37)>0,SUMIF($F$13:$J$13,AK$13,$F37:$J37)>0,marzo!#REF!<>\"X\",marzo!#REF!<>\"L\",marzo!#REF!<>\"J\",marzo!#REF!<>\"V\",marzo!#REF!<>\"F\",marzo!#REF!<>\"\"),SUMIF($F$13:$J$13,AK$13,$F37:$J37),\"\")","v":{"$error":"#REF!"}},{"$f":"IF(AND(LEN($D37)>0,SUMIF($F$13:$J$13,AL$13,$F37:$J37)>0,marzo!#REF!<>\"X\",marzo!#REF!<>\"L\",marzo!#REF!<>\"J\",marzo!#REF!<>\"V\",marzo!#REF!<>\"F\",marzo!#REF!<>\"\"),SUMIF($F$13:$J$13,AL$13,$F37:$J37),\"\")","v":{"$error":"#REF!"}},{"$f":"IF(AND(LEN($D37)>0,SUMIF($F$13:$J$13,AM$13,$F37:$J37)>0,marzo!#REF!<>\"X\",marzo!#REF!<>\"L\",marzo!#REF!<>\"J\",marzo!#REF!<>\"V\",marzo!#REF!<>\"F\",marzo!#REF!<>\"\"),SUMIF($F$13:$J$13,AM$13,$F37:$J37),\"\")","v":{"$error":"#REF!"}},{"$f":"IF(AND(LEN($D37)>0,SUMIF($F$13:$J$13,AN$13,$F37:$J37)>0,marzo!#REF!<>\"X\",marzo!#REF!<>\"L\",marzo!#REF!<>\"J\",marzo!#REF!<>\"V\",marzo!#REF!<>\"F\",marzo!#REF!<>\"\"),SUMIF($F$13:$J$13,AN$13,$F37:$J37),\"\")","v":{"$error":"#REF!"}},{"$f":"IF(AND(LEN($D37)>0,SUMIF($F$13:$J$13,AO$13,$F37:$J37)>0,marzo!#REF!<>\"X\",marzo!#REF!<>\"L\",marzo!#REF!<>\"J\",marzo!#REF!<>\"V\",marzo!#REF!<>\"F\",marzo!#REF!<>\"\"),SUMIF($F$13:$J$13,AO$13,$F37:$J37),\"\")","v":{"$error":"#REF!"}},{"$f":"IF(AND(LEN($D37)>0,SUMIF($F$13:$J$13,AP$13,$F37:$J37)>0,marzo!#REF!<>\"X\",marzo!#REF!<>\"L\",marzo!#REF!<>\"J\",marzo!#REF!<>\"V\",marzo!#REF!<>\"F\",marzo!#REF!<>\"\"),SUMIF($F$13:$J$13,AP$13,$F37:$J37),\"\")","v":{"$error":"#REF!"}},{"$f":"IF(AND(LEN($D37)>0,SUMIF($F$13:$J$13,AQ$13,$F37:$J37)>0,marzo!#REF!<>\"X\",marzo!#REF!<>\"L\",marzo!#REF!<>\"J\",marzo!#REF!<>\"V\",marzo!#REF!<>\"F\",marzo!#REF!<>\"\"),SUMIF($F$13:$J$13,AQ$13,$F37:$J37),\"\")","v":{"$error":"#REF!"}},{"$f":"IF(AND(LEN($D37)>0,SUMIF($F$13:$J$13,AR$13,$F37:$J37)>0,marzo!#REF!<>\"X\",marzo!#REF!<>\"L\",marzo!#REF!<>\"J\",marzo!#REF!<>\"V\",marzo!#REF!<>\"F\",marzo!#REF!<>\"\"),SUMIF($F$13:$J$13,AR$13,$F37:$J37),\"\")","v":{"$error":"#REF!"}},{"$f":"IF(AND(LEN($D37)>0,SUMIF($F$13:$J$13,AS$13,$F37:$J37)>0,marzo!#REF!<>\"X\",marzo!#REF!<>\"L\",marzo!#REF!<>\"J\",marzo!#REF!<>\"V\",marzo!#REF!<>\"F\",marzo!#REF!<>\"\"),SUMIF($F$13:$J$13,AS$13,$F37:$J37),\"\")","v":{"$error":"#REF!"}},{"$error":"#REF!"},null,null,null,{"$f":"IF(AND(LEN($D37)>0,SUMIF($F$13:$J$13,AX$13,$F37:$J37)>0,marzo!#REF!<>\"X\",marzo!#REF!<>\"L\",marzo!#REF!<>\"J\",marzo!#REF!<>\"F\"),SUMIF($F$13:$J$13,AX$13,$F37:$J37),\"\")","v":{"$error":"#REF!"}},{"$f":"IF(AND(LEN($D37)>0,SUMIF($F$13:$J$13,AY$13,$F37:$J37)>0,marzo!#REF!<>\"X\",marzo!#REF!<>\"L\",marzo!#REF!<>\"J\",marzo!#REF!<>\"F\"),SUMIF($F$13:$J$13,AY$13,$F37:$J37),\"\")","v":{"$error":"#REF!"}},{"$f":"IF(AND(LEN($D37)>0,SUMIF($F$13:$J$13,AZ$13,$F37:$J37)>0,marzo!#REF!<>\"X\",marzo!#REF!<>\"L\",marzo!#REF!<>\"J\",marzo!#REF!<>\"F\"),SUMIF($F$13:$J$13,AZ$13,$F37:$J37),\"\")","v":{"$error":"#REF!"}},{"$f":"IF(AND(LEN($D37)>0,SUMIF($F$13:$J$13,BA$13,$F37:$J37)>0,marzo!#REF!<>\"X\",marzo!#REF!<>\"L\",marzo!#REF!<>\"J\",marzo!#REF!<>\"F\"),SUMIF($F$13:$J$13,BA$13,$F37:$J37),\"\")","v":{"$error":"#REF!"}},{"$f":"IF(AND(LEN($D37)>0,SUMIF($F$13:$J$13,BB$13,$F37:$J37)>0,marzo!#REF!<>\"X\",marzo!#REF!<>\"L\",marzo!#REF!<>\"J\",marzo!#REF!<>\"F\"),SUMIF($F$13:$J$13,BB$13,$F37:$J37),\"\")","v":{"$error":"#REF!"}},{"$f":"IF(AND(LEN($D37)>0,SUMIF($F$13:$J$13,BC$13,$F37:$J37)>0,marzo!#REF!<>\"X\",marzo!#REF!<>\"L\",marzo!#REF!<>\"J\",marzo!#REF!<>\"F\"),SUMIF($F$13:$J$13,BC$13,$F37:$J37),\"\")","v":{"$error":"#REF!"}},{"$f":"IF(AND(LEN($D37)>0,SUMIF($F$13:$J$13,BD$13,$F37:$J37)>0,marzo!#REF!<>\"X\",marzo!#REF!<>\"L\",marzo!#REF!<>\"J\",marzo!#REF!<>\"F\"),SUMIF($F$13:$J$13,BD$13,$F37:$J37),\"\")","v":{"$error":"#REF!"}},{"$f":"IF(AND(LEN($D37)>0,SUMIF($F$13:$J$13,BE$13,$F37:$J37)>0,marzo!#REF!<>\"X\",marzo!#REF!<>\"L\",marzo!#REF!<>\"J\",marzo!#REF!<>\"F\"),SUMIF($F$13:$J$13,BE$13,$F37:$J37),\"\")","v":{"$error":"#REF!"}},{"$f":"IF(AND(LEN($D37)>0,SUMIF($F$13:$J$13,BF$13,$F37:$J37)>0,marzo!#REF!<>\"X\",marzo!#REF!<>\"L\",marzo!#REF!<>\"J\",marzo!#REF!<>\"F\"),SUMIF($F$13:$J$13,BF$13,$F37:$J37),\"\")","v":{"$error":"#REF!"}},{"$f":"IF(AND(LEN($D37)>0,SUMIF($F$13:$J$13,BG$13,$F37:$J37)>0,marzo!#REF!<>\"X\",marzo!#REF!<>\"L\",marzo!#REF!<>\"J\",marzo!#REF!<>\"F\"),SUMIF($F$13:$J$13,BG$13,$F37:$J37),\"\")","v":{"$error":"#REF!"}},{"$f":"IF(AND(LEN($D37)>0,SUMIF($F$13:$J$13,BH$13,$F37:$J37)>0,marzo!#REF!<>\"X\",marzo!#REF!<>\"L\",marzo!#REF!<>\"J\",marzo!#REF!<>\"F\"),SUMIF($F$13:$J$13,BH$13,$F37:$J37),\"\")","v":{"$error":"#REF!"}},{"$f":"IF(AND(LEN($D37)>0,SUMIF($F$13:$J$13,BI$13,$F37:$J37)>0,marzo!#REF!<>\"X\",marzo!#REF!<>\"L\",marzo!#REF!<>\"J\",marzo!#REF!<>\"F\"),SUMIF($F$13:$J$13,BI$13,$F37:$J37),\"\")","v":{"$error":"#REF!"}},{"$f":"IF(AND(LEN($D37)>0,SUMIF($F$13:$J$13,BJ$13,$F37:$J37)>0,marzo!#REF!<>\"X\",marzo!#REF!<>\"L\",marzo!#REF!<>\"J\",marzo!#REF!<>\"F\"),SUMIF($F$13:$J$13,BJ$13,$F37:$J37),\"\")","v":{"$error":"#REF!"}},{"$f":"IF(AND(LEN($D37)>0,SUMIF($F$13:$J$13,BK$13,$F37:$J37)>0,marzo!#REF!<>\"X\",marzo!#REF!<>\"L\",marzo!#REF!<>\"J\",marzo!#REF!<>\"F\"),SUMIF($F$13:$J$13,BK$13,$F37:$J37),\"\")","v":{"$error":"#REF!"}},{"$f":"IF(AND(LEN($D37)>0,SUMIF($F$13:$J$13,BL$13,$F37:$J37)>0,marzo!#REF!<>\"X\",marzo!#REF!<>\"L\",marzo!#REF!<>\"J\",marzo!#REF!<>\"F\"),SUMIF($F$13:$J$13,BL$13,$F37:$J37),\"\")","v":{"$error":"#REF!"}},{"$f":"IF(AND(LEN($D37)>0,SUMIF($F$13:$J$13,BM$13,$F37:$J37)>0,marzo!#REF!<>\"X\",marzo!#REF!<>\"L\",marzo!#REF!<>\"J\",marzo!#REF!<>\"F\"),SUMIF($F$13:$J$13,BM$13,$F37:$J37),\"\")","v":{"$error":"#REF!"}},{"$f":"IF(AND(LEN($D37)>0,SUMIF($F$13:$J$13,BN$13,$F37:$J37)>0,marzo!#REF!<>\"X\",marzo!#REF!<>\"L\",marzo!#REF!<>\"J\",marzo!#REF!<>\"F\"),SUMIF($F$13:$J$13,BN$13,$F37:$J37),\"\")","v":{"$error":"#REF!"}},{"$f":"IF(AND(LEN($D37)>0,SUMIF($F$13:$J$13,BO$13,$F37:$J37)>0,marzo!#REF!<>\"X\",marzo!#REF!<>\"L\",marzo!#REF!<>\"J\",marzo!#REF!<>\"F\"),SUMIF($F$13:$J$13,BO$13,$F37:$J37),\"\")","v":{"$error":"#REF!"}},{"$f":"IF(AND(LEN($D37)>0,SUMIF($F$13:$J$13,BP$13,$F37:$J37)>0,marzo!#REF!<>\"X\",marzo!#REF!<>\"L\",marzo!#REF!<>\"J\",marzo!#REF!<>\"F\"),SUMIF($F$13:$J$13,BP$13,$F37:$J37),\"\")","v":{"$error":"#REF!"}},{"$f":"IF(AND(LEN($D37)>0,SUMIF($F$13:$J$13,BQ$13,$F37:$J37)>0,marzo!#REF!<>\"X\",marzo!#REF!<>\"L\",marzo!#REF!<>\"J\",marzo!#REF!<>\"F\"),SUMIF($F$13:$J$13,BQ$13,$F37:$J37),\"\")","v":{"$error":"#REF!"}},{"$f":"IF(AND(LEN($D37)>0,SUMIF($F$13:$J$13,BR$13,$F37:$J37)>0,marzo!#REF!<>\"X\",marzo!#REF!<>\"L\",marzo!#REF!<>\"J\",marzo!#REF!<>\"F\"),SUMIF($F$13:$J$13,BR$13,$F37:$J37),\"\")","v":{"$error":"#REF!"}},{"$f":"IF(AND(LEN($D37)>0,SUMIF($F$13:$J$13,BS$13,$F37:$J37)>0,marzo!#REF!<>\"X\",marzo!#REF!<>\"L\",marzo!#REF!<>\"J\",marzo!#REF!<>\"F\"),SUMIF($F$13:$J$13,BS$13,$F37:$J37),\"\")","v":{"$error":"#REF!"}},{"$f":"IF(AND(LEN($D37)>0,SUMIF($F$13:$J$13,BT$13,$F37:$J37)>0,marzo!#REF!<>\"X\",marzo!#REF!<>\"L\",marzo!#REF!<>\"J\",marzo!#REF!<>\"F\"),SUMIF($F$13:$J$13,BT$13,$F37:$J37),\"\")","v":{"$error":"#REF!"}},{"$f":"IF(AND(LEN($D37)>0,SUMIF($F$13:$J$13,BU$13,$F37:$J37)>0,marzo!#REF!<>\"X\",marzo!#REF!<>\"L\",marzo!#REF!<>\"J\",marzo!#REF!<>\"F\"),SUMIF($F$13:$J$13,BU$13,$F37:$J37),\"\")","v":{"$error":"#REF!"}},{"$f":"IF(AND(LEN($D37)>0,SUMIF($F$13:$J$13,BV$13,$F37:$J37)>0,marzo!#REF!<>\"X\",marzo!#REF!<>\"L\",marzo!#REF!<>\"J\",marzo!#REF!<>\"F\"),SUMIF($F$13:$J$13,BV$13,$F37:$J37),\"\")","v":{"$error":"#REF!"}},{"$f":"IF(AND(LEN($D37)>0,SUMIF($F$13:$J$13,BW$13,$F37:$J37)>0,marzo!#REF!<>\"X\",marzo!#REF!<>\"L\",marzo!#REF!<>\"J\",marzo!#REF!<>\"F\"),SUMIF($F$13:$J$13,BW$13,$F37:$J37),\"\")","v":{"$error":"#REF!"}},{"$f":"IF(AND(LEN($D37)>0,SUMIF($F$13:$J$13,BX$13,$F37:$J37)>0,marzo!#REF!<>\"X\",marzo!#REF!<>\"L\",marzo!#REF!<>\"J\",marzo!#REF!<>\"F\"),SUMIF($F$13:$J$13,BX$13,$F37:$J37),\"\")","v":{"$error":"#REF!"}},{"$f":"IF(AND(LEN($D37)>0,SUMIF($F$13:$J$13,BY$13,$F37:$J37)>0,marzo!#REF!<>\"X\",marzo!#REF!<>\"L\",marzo!#REF!<>\"J\",marzo!#REF!<>\"F\"),SUMIF($F$13:$J$13,BY$13,$F37:$J37),\"\")","v":{"$error":"#REF!"}},{"$f":"IF(AND(LEN($D37)>0,SUMIF($F$13:$J$13,BZ$13,$F37:$J37)>0,marzo!#REF!<>\"X\",marzo!#REF!<>\"L\",marzo!#REF!<>\"J\",marzo!#REF!<>\"F\"),SUMIF($F$13:$J$13,BZ$13,$F37:$J37),\"\")","v":{"$error":"#REF!"}},{"$f":"IF(AND(LEN($D37)>0,SUMIF($F$13:$J$13,CA$13,$F37:$J37)>0,marzo!#REF!<>\"X\",marzo!#REF!<>\"L\",marzo!#REF!<>\"J\",marzo!#REF!<>\"F\"),SUMIF($F$13:$J$13,CA$13,$F37:$J37),\"\")","v":{"$error":"#REF!"}},{"$f":"IF(AND(LEN($D37)>0,SUMIF($F$13:$J$13,CB$13,$F37:$J37)>0,marzo!#REF!<>\"X\",marzo!#REF!<>\"L\",marzo!#REF!<>\"J\",marzo!#REF!<>\"F\"),SUMIF($F$13:$J$13,CB$13,$F37:$J37),\"\")","v":{"$error":"#REF!"}},{"$error":"#REF!"}]
[{"$error":"#REF!"},{"$f":"IF(LEN(C38)>0,VLOOKUP($O$4,DATA!$A$1:$S$1,2,FALSE),\"\")","v":{"$error":"#REF!"}},{"$error":"#REF!"},{"$f":"IF(LEN(marzo!#REF!)>0,marzo!#REF!,\"\")","v":{"$error":"#REF!"}},{"$f":"IF(LEN(D38)>0,marzo!#REF!,\"\")","v":{"$error":"#REF!"}},null,null,null,null,null,"",null,null,{"$error":"#REF!"},{"$f":"IF(AND(LEN($D38)>0,SUMIF($F$13:$J$13,O$13,$F38:$J38)>0,marzo!#REF!<>\"X\",marzo!#REF!<>\"L\",marzo!#REF!<>\"J\",marzo!#REF!<>\"V\",marzo!#REF!<>\"F\",marzo!#REF!<>\"\"),SUMIF($F$13:$J$13,O$13,$F38:$J38),\"\")","v":{"$error":"#REF!"}},{"$f":"IF(AND(LEN($D38)>0,SUMIF($F$13:$J$13,P$13,$F38:$J38)>0,marzo!#REF!<>\"X\",marzo!#REF!<>\"L\",marzo!#REF!<>\"J\",marzo!#REF!<>\"V\",marzo!#REF!<>\"F\",marzo!#REF!<>\"\"),SUMIF($F$13:$J$13,P$13,$F38:$J38),\"\")","v":{"$error":"#REF!"}},{"$f":"IF(AND(LEN($D38)>0,SUMIF($F$13:$J$13,Q$13,$F38:$J38)>0,marzo!#REF!<>\"X\",marzo!#REF!<>\"L\",marzo!#REF!<>\"J\",marzo!#REF!<>\"V\",marzo!#REF!<>\"F\",marzo!#REF!<>\"\"),SUMIF($F$13:$J$13,Q$13,$F38:$J38),\"\")","v":{"$error":"#REF!"}},{"$f":"IF(AND(LEN($D38)>0,SUMIF($F$13:$J$13,R$13,$F38:$J38)>0,marzo!#REF!<>\"X\",marzo!#REF!<>\"L\",marzo!#REF!<>\"J\",marzo!#REF!<>\"V\",marzo!#REF!<>\"F\",marzo!#REF!<>\"\"),SUMIF($F$13:$J$13,R$13,$F38:$J38),\"\")","v":{"$error":"#REF!"}},{"$f":"IF(AND(LEN($D38)>0,SUMIF($F$13:$J$13,S$13,$F38:$J38)>0,marzo!#REF!<>\"X\",marzo!#REF!<>\"L\",marzo!#REF!<>\"J\",marzo!#REF!<>\"V\",marzo!#REF!<>\"F\",marzo!#REF!<>\"\"),SUMIF($F$13:$J$13,S$13,$F38:$J38),\"\")","v":{"$error":"#REF!"}},{"$f":"IF(AND(LEN($D38)>0,SUMIF($F$13:$J$13,T$13,$F38:$J38)>0,marzo!#REF!<>\"X\",marzo!#REF!<>\"L\",marzo!#REF!<>\"J\",marzo!#REF!<>\"V\",marzo!#REF!<>\"F\",marzo!#REF!<>\"\"),SUMIF($F$13:$J$13,T$13,$F38:$J38),\"\")","v":{"$error":"#REF!"}},{"$f":"IF(AND(LEN($D38)>0,SUMIF($F$13:$J$13,U$13,$F38:$J38)>0,marzo!#REF!<>\"X\",marzo!#REF!<>\"L\",marzo!#REF!<>\"J\",marzo!#REF!<>\"V\",marzo!#REF!<>\"F\",marzo!#REF!<>\"\"),SUMIF($F$13:$J$13,U$13,$F38:$J38),\"\")","v":{"$error":"#REF!"}},{"$f":"IF(AND(LEN($D38)>0,SUMIF($F$13:$J$13,V$13,$F38:$J38)>0,marzo!#REF!<>\"X\",marzo!#REF!<>\"L\",marzo!#REF!<>\"J\",marzo!#REF!<>\"V\",marzo!#REF!<>\"F\",marzo!#REF!<>\"\"),SUMIF($F$13:$J$13,V$13,$F38:$J38),\"\")","v":{"$error":"#REF!"}},{"$f":"IF(AND(LEN($D38)>0,SUMIF($F$13:$J$13,W$13,$F38:$J38)>0,marzo!#REF!<>\"X\",marzo!#REF!<>\"L\",marzo!#REF!<>\"J\",marzo!#REF!<>\"V\",marzo!#REF!<>\"F\",marzo!#REF!<>\"\"),SUMIF($F$13:$J$13,W$13,$F38:$J38),\"\")","v":{"$error":"#REF!"}},{"$f":"IF(AND(LEN($D38)>0,SUMIF($F$13:$J$13,X$13,$F38:$J38)>0,marzo!#REF!<>\"X\",marzo!#REF!<>\"L\",marzo!#REF!<>\"J\",marzo!#REF!<>\"V\",marzo!#REF!<>\"F\",marzo!#REF!<>\"\"),SUMIF($F$13:$J$13,X$13,$F38:$J38),\"\")","v":{"$error":"#REF!"}},{"$f":"IF(AND(LEN($D38)>0,SUMIF($F$13:$J$13,Y$13,$F38:$J38)>0,marzo!#REF!<>\"X\",marzo!#REF!<>\"L\",marzo!#REF!<>\"J\",marzo!#REF!<>\"V\",marzo!#REF!<>\"F\",marzo!#REF!<>\"\"),SUMIF($F$13:$J$13,Y$13,$F38:$J38),\"\")","v":{"$error":"#REF!"}},{"$f":"IF(AND(LEN($D38)>0,SUMIF($F$13:$J$13,Z$13,$F38:$J38)>0,marzo!#REF!<>\"X\",marzo!#REF!<>\"L\",marzo!#REF!<>\"J\",marzo!#REF!<>\"V\",marzo!#REF!<>\"F\",marzo!#REF!<>\"\"),SUMIF($F$13:$J$13,Z$13,$F38:$J38),\"\")","v":{"$error":"#REF!"}},{"$f":"IF(AND(LEN($D38)>0,SUMIF($F$13:$J$13,AA$13,$F38:$J38)>0,marzo!#REF!<>\"X\",marzo!#REF!<>\"L\",marzo!#REF!<>\"J\",marzo!#REF!<>\"V\",marzo!#REF!<>\"F\",marzo!#REF!<>\"\"),SUMIF($F$13:$J$13,AA$13,$F38:$J38),\"\")","v":{"$error":"#REF!"}},{"$f":"IF(AND(LEN($D38)>0,SUMIF($F$13:$J$13,AB$13,$F38:$J38)>0,marzo!#REF!<>\"X\",marzo!#REF!<>\"L\",marzo!#REF!<>\"J\",marzo!#REF!<>\"V\",marzo!#REF!<>\"F\",marzo!#REF!<>\"\"),SUMIF($F$13:$J$13,AB$13,$F38:$J38),\"\")","v":{"$error":"#REF!"}},{"$f":"IF(AND(LEN($D38)>0,SUMIF($F$13:$J$13,AC$13,$F38:$J38)>0,marzo!#REF!<>\"X\",marzo!#REF!<>\"L\",marzo!#REF!<>\"J\",marzo!#REF!<>\"V\",marzo!#REF!<>\"F\",marzo!#REF!<>\"\"),SUMIF($F$13:$J$13,AC$13,$F38:$J38),\"\")","v":{"$error":"#REF!"}},{"$f":"IF(AND(LEN($D38)>0,SUMIF($F$13:$J$13,AD$13,$F38:$J38)>0,marzo!#REF!<>\"X\",marzo!#REF!<>\"L\",marzo!#REF!<>\"J\",marzo!#REF!<>\"V\",marzo!#REF!<>\"F\",marzo!#REF!<>\"\"),SUMIF($F$13:$J$13,AD$13,$F38:$J38),\"\")","v":{"$error":"#REF!"}},{"$f":"IF(AND(LEN($D38)>0,SUMIF($F$13:$J$13,AE$13,$F38:$J38)>0,marzo!#REF!<>\"X\",marzo!#REF!<>\"L\",marzo!#REF!<>\"J\",marzo!#REF!<>\"V\",marzo!#REF!<>\"F\",marzo!#REF!<>\"\"),SUMIF($F$13:$J$13,AE$13,$F38:$J38),\"\")","v":{"$error":"#REF!"}},{"$f":"IF(AND(LEN($D38)>0,SUMIF($F$13:$J$13,AF$13,$F38:$J38)>0,marzo!#REF!<>\"X\",marzo!#REF!<>\"L\",marzo!#REF!<>\"J\",marzo!#REF!<>\"V\",marzo!#REF!<>\"F\",marzo!#REF!<>\"\"),SUMIF($F$13:$J$13,AF$13,$F38:$J38),\"\")","v":{"$error":"#REF!"}},{"$f":"IF(AND(LEN($D38)>0,SUMIF($F$13:$J$13,AG$13,$F38:$J38)>0,marzo!#REF!<>\"X\",marzo!#REF!<>\"L\",marzo!#REF!<>\"J\",marzo!#REF!<>\"V\",marzo!#REF!<>\"F\",marzo!#REF!<>\"\"),SUMIF($F$13:$J$13,AG$13,$F38:$J38),\"\")","v":{"$error":"#REF!"}},{"$f":"IF(AND(LEN($D38)>0,SUMIF($F$13:$J$13,AH$13,$F38:$J38)>0,marzo!#REF!<>\"X\",marzo!#REF!<>\"L\",marzo!#REF!<>\"J\",marzo!#REF!<>\"V\",marzo!#REF!<>\"F\",marzo!#REF!<>\"\"),SUMIF($F$13:$J$13,AH$13,$F38:$J38),\"\")","v":{"$error":"#REF!"}},{"$f":"IF(AND(LEN($D38)>0,SUMIF($F$13:$J$13,AI$13,$F38:$J38)>0,marzo!#REF!<>\"X\",marzo!#REF!<>\"L\",marzo!#REF!<>\"J\",marzo!#REF!<>\"V\",marzo!#REF!<>\"F\",marzo!#REF!<>\"\"),SUMIF($F$13:$J$13,AI$13,$F38:$J38),\"\")","v":{"$error":"#REF!"}},{"$f":"IF(AND(LEN($D38)>0,SUMIF($F$13:$J$13,AJ$13,$F38:$J38)>0,marzo!#REF!<>\"X\",marzo!#REF!<>\"L\",marzo!#REF!<>\"J\",marzo!#REF!<>\"V\",marzo!#REF!<>\"F\",marzo!#REF!<>\"\"),SUMIF($F$13:$J$13,AJ$13,$F38:$J38),\"\")","v":{"$error":"#REF!"}},{"$f":"IF(AND(LEN($D38)>0,SUMIF($F$13:$J$13,AK$13,$F38:$J38)>0,marzo!#REF!<>\"X\",marzo!#REF!<>\"L\",marzo!#REF!<>\"J\",marzo!#REF!<>\"V\",marzo!#REF!<>\"F\",marzo!#REF!<>\"\"),SUMIF($F$13:$J$13,AK$13,$F38:$J38),\"\")","v":{"$error":"#REF!"}},{"$f":"IF(AND(LEN($D38)>0,SUMIF($F$13:$J$13,AL$13,$F38:$J38)>0,marzo!#REF!<>\"X\",marzo!#REF!<>\"L\",marzo!#REF!<>\"J\",marzo!#REF!<>\"V\",marzo!#REF!<>\"F\",marzo!#REF!<>\"\"),SUMIF($F$13:$J$13,AL$13,$F38:$J38),\"\")","v":{"$error":"#REF!"}},{"$f":"IF(AND(LEN($D38)>0,SUMIF($F$13:$J$13,AM$13,$F38:$J38)>0,marzo!#REF!<>\"X\",marzo!#REF!<>\"L\",marzo!#REF!<>\"J\",marzo!#REF!<>\"V\",marzo!#REF!<>\"F\",marzo!#REF!<>\"\"),SUMIF($F$13:$J$13,AM$13,$F38:$J38),\"\")","v":{"$error":"#REF!"}},{"$f":"IF(AND(LEN($D38)>0,SUMIF($F$13:$J$13,AN$13,$F38:$J38)>0,marzo!#REF!<>\"X\",marzo!#REF!<>\"L\",marzo!#REF!<>\"J\",marzo!#REF!<>\"V\",marzo!#REF!<>\"F\",marzo!#REF!<>\"\"),SUMIF($F$13:$J$13,AN$13,$F38:$J38),\"\")","v":{"$error":"#REF!"}},{"$f":"IF(AND(LEN($D38)>0,SUMIF($F$13:$J$13,AO$13,$F38:$J38)>0,marzo!#REF!<>\"X\",marzo!#REF!<>\"L\",marzo!#REF!<>\"J\",marzo!#REF!<>\"V\",marzo!#REF!<>\"F\",marzo!#REF!<>\"\"),SUMIF($F$13:$J$13,AO$13,$F38:$J38),\"\")","v":{"$error":"#REF!"}},{"$f":"IF(AND(LEN($D38)>0,SUMIF($F$13:$J$13,AP$13,$F38:$J38)>0,marzo!#REF!<>\"X\",marzo!#REF!<>\"L\",marzo!#REF!<>\"J\",marzo!#REF!<>\"V\",marzo!#REF!<>\"F\",marzo!#REF!<>\"\"),SUMIF($F$13:$J$13,AP$13,$F38:$J38),\"\")","v":{"$error":"#REF!"}},{"$f":"IF(AND(LEN($D38)>0,SUMIF($F$13:$J$13,AQ$13,$F38:$J38)>0,marzo!#REF!<>\"X\",marzo!#REF!<>\"L\",marzo!#REF!<>\"J\",marzo!#REF!<>\"V\",marzo!#REF!<>\"F\",marzo!#REF!<>\"\"),SUMIF($F$13:$J$13,AQ$13,$F38:$J38),\"\")","v":{"$error":"#REF!"}},{"$f":"IF(AND(LEN($D38)>0,SUMIF($F$13:$J$13,AR$13,$F38:$J38)>0,marzo!#REF!<>\"X\",marzo!#REF!<>\"L\",marzo!#REF!<>\"J\",marzo!#REF!<>\"V\",marzo!#REF!<>\"F\",marzo!#REF!<>\"\"),SUMIF($F$13:$J$13,AR$13,$F38:$J38),\"\")","v":{"$error":"#REF!"}},{"$f":"IF(AND(LEN($D38)>0,SUMIF($F$13:$J$13,AS$13,$F38:$J38)>0,marzo!#REF!<>\"X\",marzo!#REF!<>\"L\",marzo!#REF!<>\"J\",marzo!#REF!<>\"V\",marzo!#REF!<>\"F\",marzo!#REF!<>\"\"),SUMIF($F$13:$J$13,AS$13,$F38:$J38),\"\")","v":{"$error":"#REF!"}},{"$error":"#REF!"},null,null,null,{"$f":"IF(AND(LEN($D38)>0,SUMIF($F$13:$J$13,AX$13,$F38:$J38)>0,marzo!#REF!<>\"X\",marzo!#REF!<>\"L\",marzo!#REF!<>\"J\",marzo!#REF!<>\"F\"),SUMIF($F$13:$J$13,AX$13,$F38:$J38),\"\")","v":{"$error":"#REF!"}},{"$f":"IF(AND(LEN($D38)>0,SUMIF($F$13:$J$13,AY$13,$F38:$J38)>0,marzo!#REF!<>\"X\",marzo!#REF!<>\"L\",marzo!#REF!<>\"J\",marzo!#REF!<>\"F\"),SUMIF($F$13:$J$13,AY$13,$F38:$J38),\"\")","v":{"$error":"#REF!"}},{"$f":"IF(AND(LEN($D38)>0,SUMIF($F$13:$J$13,AZ$13,$F38:$J38)>0,marzo!#REF!<>\"X\",marzo!#REF!<>\"L\",marzo!#REF!<>\"J\",marzo!#REF!<>\"F\"),SUMIF($F$13:$J$13,AZ$13,$F38:$J38),\"\")","v":{"$error":"#REF!"}},{"$f":"IF(AND(LEN($D38)>0,SUMIF($F$13:$J$13,BA$13,$F38:$J38)>0,marzo!#REF!<>\"X\",marzo!#REF!<>\"L\",marzo!#REF!<>\"J\",marzo!#REF!<>\"F\"),SUMIF($F$13:$J$13,BA$13,$F38:$J38),\"\")","v":{"$error":"#REF!"}},{"$f":"IF(AND(LEN($D38)>0,SUMIF($F$13:$J$13,BB$13,$F38:$J38)>0,marzo!#REF!<>\"X\",marzo!#REF!<>\"L\",marzo!#REF!<>\"J\",marzo!#REF!<>\"F\"),SUMIF($F$13:$J$13,BB$13,$F38:$J38),\"\")","v":{"$error":"#REF!"}},{"$f":"IF(AND(LEN($D38)>0,SUMIF($F$13:$J$13,BC$13,$F38:$J38)>0,marzo!#REF!<>\"X\",marzo!#REF!<>\"L\",marzo!#REF!<>\"J\",marzo!#REF!<>\"F\"),SUMIF($F$13:$J$13,BC$13,$F38:$J38),\"\")","v":{"$error":"#REF!"}},{"$f":"IF(AND(LEN($D38)>0,SUMIF($F$13:$J$13,BD$13,$F38:$J38)>0,marzo!#REF!<>\"X\",marzo!#REF!<>\"L\",marzo!#REF!<>\"J\",marzo!#REF!<>\"F\"),SUMIF($F$13:$J$13,BD$13,$F38:$J38),\"\")","v":{"$error":"#REF!"}},{"$f":"IF(AND(LEN($D38)>0,SUMIF($F$13:$J$13,BE$13,$F38:$J38)>0,marzo!#REF!<>\"X\",marzo!#REF!<>\"L\",marzo!#REF!<>\"J\",marzo!#REF!<>\"F\"),SUMIF($F$13:$J$13,BE$13,$F38:$J38),\"\")","v":{"$error":"#REF!"}},{"$f":"IF(AND(LEN($D38)>0,SUMIF($F$13:$J$13,BF$13,$F38:$J38)>0,marzo!#REF!<>\"X\",marzo!#REF!<>\"L\",marzo!#REF!<>\"J\",marzo!#REF!<>\"F\"),SUMIF($F$13:$J$13,BF$13,$F38:$J38),\"\")","v":{"$error":"#REF!"}},{"$f":"IF(AND(LEN($D38)>0,SUMIF($F$13:$J$13,BG$13,$F38:$J38)>0,marzo!#REF!<>\"X\",marzo!#REF!<>\"L\",marzo!#REF!<>\"J\",marzo!#REF!<>\"F\"),SUMIF($F$13:$J$13,BG$13,$F38:$J38),\"\")","v":{"$error":"#REF!"}},{"$f":"IF(AND(LEN($D38)>0,SUMIF($F$13:$J$13,BH$13,$F38:$J38)>0,marzo!#REF!<>\"X\",marzo!#REF!<>\"L\",marzo!#REF!<>\"J\",marzo!#REF!<>\"F\"),SUMIF($F$13:$J$13,BH$13,$F38:$J38),\"\")","v":{"$error":"#REF!"}},{"$f":"IF(AND(LEN($D38)>0,SUMIF($F$13:$J$13,BI$13,$F38:$J38)>0,marzo!#REF!<>\"X\",marzo!#REF!<>\"L\",marzo!#REF!<>\"J\",marzo!#REF!<>\"F\"),SUMIF($F$13:$J$13,BI$13,$F38:$J38),\"\")","v":{"$error":"#REF!"}},{"$f":"IF(AND(LEN($D38)>0,SUMIF($F$13:$J$13,BJ$13,$F38:$J38)>0,marzo!#REF!<>\"X\",marzo!#REF!<>\"L\",marzo!#REF!<>\"J\",marzo!#REF!<>\"F\"),SUMIF($F$13:$J$13,BJ$13,$F38:$J38),\"\")","v":{"$error":"#REF!"}},{"$f":"IF(AND(LEN($D38)>0,SUMIF($F$13:$J$13,BK$13,$F38:$J38)>0,marzo!#REF!<>\"X\",marzo!#REF!<>\"L\",marzo!#REF!<>\"J\",marzo!#REF!<>\"F\"),SUMIF($F$13:$J$13,BK$13,$F38:$J38),\"\")","v":{"$error":"#REF!"}},{"$f":"IF(AND(LEN($D38)>0,SUMIF($F$13:$J$13,BL$13,$F38:$J38)>0,marzo!#REF!<>\"X\",marzo!#REF!<>\"L\",marzo!#REF!<>\"J\",marzo!#REF!<>\"F\"),SUMIF($F$13:$J$13,BL$13,$F38:$J38),\"\")","v":{"$error":"#REF!"}},{"$f":"IF(AND(LEN($D38)>0,SUMIF($F$13:$J$13,BM$13,$F38:$J38)>0,marzo!#REF!<>\"X\",marzo!#REF!<>\"L\",marzo!#REF!<>\"J\",marzo!#REF!<>\"F\"),SUMIF($F$13:$J$13,BM$13,$F38:$J38),\"\")","v":{"$error":"#REF!"}},{"$f":"IF(AND(LEN($D38)>0,SUMIF($F$13:$J$13,BN$13,$F38:$J38)>0,marzo!#REF!<>\"X\",marzo!#REF!<>\"L\",marzo!#REF!<>\"J\",marzo!#REF!<>\"F\"),SUMIF($F$13:$J$13,BN$13,$F38:$J38),\"\")","v":{"$error":"#REF!"}},{"$f":"IF(AND(LEN($D38)>0,SUMIF($F$13:$J$13,BO$13,$F38:$J38)>0,marzo!#REF!<>\"X\",marzo!#REF!<>\"L\",marzo!#REF!<>\"J\",marzo!#REF!<>\"F\"),SUMIF($F$13:$J$13,BO$13,$F38:$J38),\"\")","v":{"$error":"#REF!"}},{"$f":"IF(AND(LEN($D38)>0,SUMIF($F$13:$J$13,BP$13,$F38:$J38)>0,marzo!#REF!<>\"X\",marzo!#REF!<>\"L\",marzo!#REF!<>\"J\",marzo!#REF!<>\"F\"),SUMIF($F$13:$J$13,BP$13,$F38:$J38),\"\")","v":{"$error":"#REF!"}},{"$f":"IF(AND(LEN($D38)>0,SUMIF($F$13:$J$13,BQ$13,$F38:$J38)>0,marzo!#REF!<>\"X\",marzo!#REF!<>\"L\",marzo!#REF!<>\"J\",marzo!#REF!<>\"F\"),SUMIF($F$13:$J$13,BQ$13,$F38:$J38),\"\")","v":{"$error":"#REF!"}},{"$f":"IF(AND(LEN($D38)>0,SUMIF($F$13:$J$13,BR$13,$F38:$J38)>0,marzo!#REF!<>\"X\",marzo!#REF!<>\"L\",marzo!#REF!<>\"J\",marzo!#REF!<>\"F\"),SUMIF($F$13:$J$13,BR$13,$F38:$J38),\"\")","v":{"$error":"#REF!"}},{"$f":"IF(AND(LEN($D38)>0,SUMIF($F$13:$J$13,BS$13,$F38:$J38)>0,marzo!#REF!<>\"X\",marzo!#REF!<>\"L\",marzo!#REF!<>\"J\",marzo!#REF!<>\"F\"),SUMIF($F$13:$J$13,BS$13,$F38:$J38),\"\")","v":{"$error":"#REF!"}},{"$f":"IF(AND(LEN($D38)>0,SUMIF($F$13:$J$13,BT$13,$F38:$J38)>0,marzo!#REF!<>\"X\",marzo!#REF!<>\"L\",marzo!#REF!<>\"J\",marzo!#REF!<>\"F\"),SUMIF($F$13:$J$13,BT$13,$F38:$J38),\"\")","v":{"$error":"#REF!"}},{"$f":"IF(AND(LEN($D38)>0,SUMIF($F$13:$J$13,BU$13,$F38:$J38)>0,marzo!#REF!<>\"X\",marzo!#REF!<>\"L\",marzo!#REF!<>\"J\",marzo!#REF!<>\"F\"),SUMIF($F$13:$J$13,BU$13,$F38:$J38),\"\")","v":{"$error":"#REF!"}},{"$f":"IF(AND(LEN($D38)>0,SUMIF($F$13:$J$13,BV$13,$F38:$J38)>0,marzo!#REF!<>\"X\",marzo!#REF!<>\"L\",marzo!#REF!<>\"J\",marzo!#REF!<>\"F\"),SUMIF($F$13:$J$13,BV$13,$F38:$J38),\"\")","v":{"$error":"#REF!"}},{"$f":"IF(AND(LEN($D38)>0,SUMIF($F$13:$J$13,BW$13,$F38:$J38)>0,marzo!#REF!<>\"X\",marzo!#REF!<>\"L\",marzo!#REF!<>\"J\",marzo!#REF!<>\"F\"),SUMIF($F$13:$J$13,BW$13,$F38:$J38),\"\")","v":{"$error":"#REF!"}},{"$f":"IF(AND(LEN($D38)>0,SUMIF($F$13:$J$13,BX$13,$F38:$J38)>0,marzo!#REF!<>\"X\",marzo!#REF!<>\"L\",marzo!#REF!<>\"J\",marzo!#REF!<>\"F\"),SUMIF($F$13:$J$13,BX$13,$F38:$J38),\"\")","v":{"$error":"#REF!"}},{"$f":"IF(AND(LEN($D38)>0,SUMIF($F$13:$J$13,BY$13,$F38:$J38)>0,marzo!#REF!<>\"X\",marzo!#REF!<>\"L\",marzo!#REF!<>\"J\",marzo!#REF!<>\"F\"),SUMIF($F$13:$J$13,BY$13,$F38:$J38),\"\")","v":{"$error":"#REF!"}},{"$f":"IF(AND(LEN($D38)>0,SUMIF($F$13:$J$13,BZ$13,$F38:$J38)>0,marzo!#REF!<>\"X\",marzo!#REF!<>\"L\",marzo!#REF!<>\"J\",marzo!#REF!<>\"F\"),SUMIF($F$13:$J$13,BZ$13,$F38:$J38),\"\")","v":{"$error":"#REF!"}},{"$f":"IF(AND(LEN($D38)>0,SUMIF($F$13:$J$13,CA$13,$F38:$J38)>0,marzo!#REF!<>\"X\",marzo!#REF!<>\"L\",marzo!#REF!<>\"J\",marzo!#REF!<>\"F\"),SUMIF($F$13:$J$13,CA$13,$F38:$J38),\"\")","v":{"$error":"#REF!"}},{"$f":"IF(AND(LEN($D38)>0,SUMIF($F$13:$J$13,CB$13,$F38:$J38)>0,marzo!#REF!<>\"X\",marzo!#REF!<>\"L\",marzo!#REF!<>\"J\",marzo!#REF!<>\"F\"),SUMIF($F$13:$J$13,CB$13,$F38:$J38),\"\")","v":{"$error":"#REF!"}},{"$error":"#REF!"}]
[{"$error":"#REF!"},{"$f":"IF(LEN(C39)>0,VLOOKUP($O$4,DATA!$A$1:$S$1,2,FALSE),\"\")","v":{"$error":"#REF!"}},{"$error":"#REF!"},{"$f":"IF(LEN(marzo!#REF!)>0,marzo!#REF!,\"\")","v":{"$error":"#REF!"}},{"$f":"IF(LEN(D39)>0,marzo!#REF!,\"\")","v":{"$error":"#REF!"}},null,null,null,null,null,"",null,null,{"$error":"#REF!"},{"$f":"IF(AND(LEN($D39)>0,SUMIF($F$13:$J$13,O$13,$F39:$J39)>0,marzo!#REF!<>\"X\",marzo!#REF!<>\"L\",marzo!#REF!<>\"J\",marzo!#REF!<>\"V\",marzo!#REF!<>\"F\",marzo!#REF!<>\"\"),SUMIF($F$13:$J$13,O$13,$F39:$J39),\"\")","v":{"$error":"#REF!"}},{"$f":"IF(AND(LEN($D39)>0,SUMIF($F$13:$J$13,P$13,$F39:$J39)>0,marzo!#REF!<>\"X\",marzo!#REF!<>\"L\",marzo!#REF!<>\"J\",marzo!#REF!<>\"V\",marzo!#REF!<>\"F\",marzo!#REF!<>\"\"),SUMIF($F$13:$J$13,P$13,$F39:$J39),\"\")","v":{"$error":"#REF!"}},{"$f":"IF(AND(LEN($D39)>0,SUMIF($F$13:$J$13,Q$13,$F39:$J39)>0,marzo!#REF!<>\"X\",marzo!#REF!<>\"L\",marzo!#REF!<>\"J\",marzo!#REF!<>\"V\",marzo!#REF!<>\"F\",marzo!#REF!<>\"\"),SUMIF($F$13:$J$13,Q$13,$F39:$J39),\"\")","v":{"$error":"#REF!"}},{"$f":"IF(AND(LEN($D39)>0,SUMIF($F$13:$J$13,R$13,$F39:$J39)>0,marzo!#REF!<>\"X\",marzo!#REF!<>\"L\",marzo!#REF!<>\"J\",marzo!#REF!<>\"V\",marzo!#REF!<>\"F\",marzo!#REF!<>\"\"),SUMIF($F$13:$J$13,R$13,$F39:$J39),\"\")","v":{"$error":"#REF!"}},{"$f":"IF(AND(LEN($D39)>0,SUMIF($F$13:$J$13,S$13,$F39:$J39)>0,marzo!#REF!<>\"X\",marzo!#REF!<>\"L\",marzo!#REF!<>\"J\",marzo!#REF!<>\"V\",marzo!#REF!<>\"F\",marzo!#REF!<>\"\"),SUMIF($F$13:$J$13,S$13,$F39:$J39),\"\")","v":{"$error":"#REF!"}},{"$f":"IF(AND(LEN($D39)>0,SUMIF($F$13:$J$13,T$13,$F39:$J39)>0,marzo!#REF!<>\"X\",marzo!#REF!<>\"L\",marzo!#REF!<>\"J\",marzo!#REF!<>\"V\",marzo!#REF!<>\"F\",marzo!#REF!<>\"\"),SUMIF($F$13:$J$13,T$13,$F39:$J39),\"\")","v":{"$error":"#REF!"}},{"$f":"IF(AND(LEN($D39)>0,SUMIF($F$13:$J$13,U$13,$F39:$J39)>0,marzo!#REF!<>\"X\",marzo!#REF!<>\"L\",marzo!#REF!<>\"J\",marzo!#REF!<>\"V\",marzo!#REF!<>\"F\",marzo!#REF!<>\"\"),SUMIF($F$13:$J$13,U$13,$F39:$J39),\"\")","v":{"$error":"#REF!"}},{"$f":"IF(AND(LEN($D39)>0,SUMIF($F$13:$J$13,V$13,$F39:$J39)>0,marzo!#REF!<>\"X\",marzo!#REF!<>\"L\",marzo!#REF!<>\"J\",marzo!#REF!<>\"V\",marzo!#REF!<>\"F\",marzo!#REF!<>\"\"),SUMIF($F$13:$J$13,V$13,$F39:$J39),\"\")","v":{"$error":"#REF!"}},{"$f":"IF(AND(LEN($D39)>0,SUMIF($F$13:$J$13,W$13,$F39:$J39)>0,marzo!#REF!<>\"X\",marzo!#REF!<>\"L\",marzo!#REF!<>\"J\",marzo!#REF!<>\"V\",marzo!#REF!<>\"F\",marzo!#REF!<>\"\"),SUMIF($F$13:$J$13,W$13,$F39:$J39),\"\")","v":{"$error":"#REF!"}},{"$f":"IF(AND(LEN($D39)>0,SUMIF($F$13:$J$13,X$13,$F39:$J39)>0,marzo!#REF!<>\"X\",marzo!#REF!<>\"L\",marzo!#REF!<>\"J\",marzo!#REF!<>\"V\",marzo!#REF!<>\"F\",marzo!#REF!<>\"\"),SUMIF($F$13:$J$13,X$13,$F39:$J39),\"\")","v":{"$error":"#REF!"}},{"$f":"IF(AND(LEN($D39)>0,SUMIF($F$13:$J$13,Y$13,$F39:$J39)>0,marzo!#REF!<>\"X\",marzo!#REF!<>\"L\",marzo!#REF!<>\"J\",marzo!#REF!<>\"V\",marzo!#REF!<>\"F\",marzo!#REF!<>\"\"),SUMIF($F$13:$J$13,Y$13,$F39:$J39),\"\")","v":{"$error":"#REF!"}},{"$f":"IF(AND(LEN($D39)>0,SUMIF($F$13:$J$13,Z$13,$F39:$J39)>0,marzo!#REF!<>\"X\",marzo!#REF!<>\"L\",marzo!#REF!<>\"J\",marzo!#REF!<>\"V\",marzo!#REF!<>\"F\",marzo!#REF!<>\"\"),SUMIF($F$13:$J$13,Z$13,$F39:$J39),\"\")","v":{"$error":"#REF!"}},{"$f":"IF(AND(LEN($D39)>0,SUMIF($F$13:$J$13,AA$13,$F39:$J39)>0,marzo!#REF!<>\"X\",marzo!#REF!<>\"L\",marzo!#REF!<>\"J\",marzo!#REF!<>\"V\",marzo!#REF!<>\"F\",marzo!#REF!<>\"\"),SUMIF($F$13:$J$13,AA$13,$F39:$J39),\"\")","v":{"$error":"#REF!"}},{"$f":"IF(AND(LEN($D39)>0,SUMIF($F$13:$J$13,AB$13,$F39:$J39)>0,marzo!#REF!<>\"X\",marzo!#REF!<>\"L\",marzo!#REF!<>\"J\",marzo!#REF!<>\"V\",marzo!#REF!<>\"F\",marzo!#REF!<>\"\"),SUMIF($F$13:$J$13,AB$13,$F39:$J39),\"\")","v":{"$error":"#REF!"}},{"$f":"IF(AND(LEN($D39)>0,SUMIF($F$13:$J$13,AC$13,$F39:$J39)>0,marzo!#REF!<>\"X\",marzo!#REF!<>\"L\",marzo!#REF!<>\"J\",marzo!#REF!<>\"V\",marzo!#REF!<>\"F\",marzo!#REF!<>\"\"),SUMIF($F$13:$J$13,AC$13,$F39:$J39),\"\")","v":{"$error":"#REF!"}},{"$f":"IF(AND(LEN($D39)>0,SUMIF($F$13:$J$13,AD$13,$F39:$J39)>0,marzo!#REF!<>\"X\",marzo!#REF!<>\"L\",marzo!#REF!<>\"J\",marzo!#REF!<>\"V\",marzo!#REF!<>\"F\",marzo!#REF!<>\"\"),SUMIF($F$13:$J$13,AD$13,$F39:$J39),\"\")","v":{"$error":"#REF!"}},{"$f":"IF(AND(LEN($D39)>0,SUMIF($F$13:$J$13,AE$13,$F39:$J39)>0,marzo!#REF!<>\"X\",marzo!#REF!<>\"L\",marzo!#REF!<>\"J\",marzo!#REF!<>\"V\",marzo!#REF!<>\"F\",marzo!#REF!<>\"\"),SUMIF($F$13:$J$13,AE$13,$F39:$J39),\"\")","v":{"$error":"#REF!"}},{"$f":"IF(AND(LEN($D39)>0,SUMIF($F$13:$J$13,AF$13,$F39:$J39)>0,marzo!#REF!<>\"X\",marzo!#REF!<>\"L\",marzo!#REF!<>\"J\",marzo!#REF!<>\"V\",marzo!#REF!<>\"F\",marzo!#REF!<>\"\"),SUMIF($F$13:$J$13,AF$13,$F39:$J39),\"\")","v":{"$error":"#REF!"}},{"$f":"IF(AND(LEN($D39)>0,SUMIF($F$13:$J$13,AG$13,$F39:$J39)>0,marzo!#REF!<>\"X\",marzo!#REF!<>\"L\",marzo!#REF!<>\"J\",marzo!#REF!<>\"V\",marzo!#REF!<>\"F\",marzo!#REF!<>\"\"),SUMIF($F$13:$J$13,AG$13,$F39:$J39),\"\")","v":{"$error":"#REF!"}},{"$f":"IF(AND(LEN($D39)>0,SUMIF($F$13:$J$13,AH$13,$F39:$J39)>0,marzo!#REF!<>\"X\",marzo!#REF!<>\"L\",marzo!#REF!<>\"J\",marzo!#REF!<>\"V\",marzo!#REF!<>\"F\",marzo!#REF!<>\"\"),SUMIF($F$13:$J$13,AH$13,$F39:$J39),\"\")","v":{"$error":"#REF!"}},{"$f":"IF(AND(LEN($D39)>0,SUMIF($F$13:$J$13,AI$13,$F39:$J39)>0,marzo!#REF!<>\"X\",marzo!#REF!<>\"L\",marzo!#REF!<>\"J\",marzo!#REF!<>\"V\",marzo!#REF!<>\"F\",marzo!#REF!<>\"\"),SUMIF($F$13:$J$13,AI$13,$F39:$J39),\"\")","v":{"$error":"#REF!"}},{"$f":"IF(AND(LEN($D39)>0,SUMIF($F$13:$J$13,AJ$13,$F39:$J39)>0,marzo!#REF!<>\"X\",marzo!#REF!<>\"L\",marzo!#REF!<>\"J\",marzo!#REF!<>\"V\",marzo!#REF!<>\"F\",marzo!#REF!<>\"\"),SUMIF($F$13:$J$13,AJ$13,$F39:$J39),\"\")","v":{"$error":"#REF!"}},{"$f":"IF(AND(LEN($D39)>0,SUMIF($F$13:$J$13,AK$13,$F39:$J39)>0,marzo!#REF!<>\"X\",marzo!#REF!<>\"L\",marzo!#REF!<>\"J\",marzo!#REF!<>\"V\",marzo!#REF!<>\"F\",marzo!#REF!<>\"\"),SUMIF($F$13:$J$13,AK$13,$F39:$J39),\"\")","v":{"$error":"#REF!"}},{"$f":"IF(AND(LEN($D39)>0,SUMIF($F$13:$J$13,AL$13,$F39:$J39)>0,marzo!#REF!<>\"X\",marzo!#REF!<>\"L\",marzo!#REF!<>\"J\",marzo!#REF!<>\"V\",marzo!#REF!<>\"F\",marzo!#REF!<>\"\"),SUMIF($F$13:$J$13,AL$13,$F39:$J39),\"\")","v":{"$error":"#REF!"}},{"$f":"IF(AND(LEN($D39)>0,SUMIF($F$13:$J$13,AM$13,$F39:$J39)>0,marzo!#REF!<>\"X\",marzo!#REF!<>\"L\",marzo!#REF!<>\"J\",marzo!#REF!<>\"V\",marzo!#REF!<>\"F\",marzo!#REF!<>\"\"),SUMIF($F$13:$J$13,AM$13,$F39:$J39),\"\")","v":{"$error":"#REF!"}},{"$f":"IF(AND(LEN($D39)>0,SUMIF($F$13:$J$13,AN$13,$F39:$J39)>0,marzo!#REF!<>\"X\",marzo!#REF!<>\"L\",marzo!#REF!<>\"J\",marzo!#REF!<>\"V\",marzo!#REF!<>\"F\",marzo!#REF!<>\"\"),SUMIF($F$13:$J$13,AN$13,$F39:$J39),\"\")","v":{"$error":"#REF!"}},{"$f":"IF(AND(LEN($D39)>0,SUMIF($F$13:$J$13,AO$13,$F39:$J39)>0,marzo!#REF!<>\"X\",marzo!#REF!<>\"L\",marzo!#REF!<>\"J\",marzo!#REF!<>\"V\",marzo!#REF!<>\"F\",marzo!#REF!<>\"\"),SUMIF($F$13:$J$13,AO$13,$F39:$J39),\"\")","v":{"$error":"#REF!"}},{"$f":"IF(AND(LEN($D39)>0,SUMIF($F$13:$J$13,AP$13,$F39:$J39)>0,marzo!#REF!<>\"X\",marzo!#REF!<>\"L\",marzo!#REF!<>\"J\",marzo!#REF!<>\"V\",marzo!#REF!<>\"F\",marzo!#REF!<>\"\"),SUMIF($F$13:$J$13,AP$13,$F39:$J39),\"\")","v":{"$error":"#REF!"}},{"$f":"IF(AND(LEN($D39)>0,SUMIF($F$13:$J$13,AQ$13,$F39:$J39)>0,marzo!#REF!<>\"X\",marzo!#REF!<>\"L\",marzo!#REF!<>\"J\",marzo!#REF!<>\"V\",marzo!#REF!<>\"F\",marzo!#REF!<>\"\"),SUMIF($F$13:$J$13,AQ$13,$F39:$J39),\"\")","v":{"$error":"#REF!"}},{"$f":"IF(AND(LEN($D39)>0,SUMIF($F$13:$J$13,AR$13,$F39:$J39)>0,marzo!#REF!<>\"X\",marzo!#REF!<>\"L\",marzo!#REF!<>\"J\",marzo!#REF!<>\"V\",marzo!#REF!<>\"F\",marzo!#REF!<>\"\"),SUMIF($F$13:$J$13,AR$13,$F39:$J39),\"\")","v":{"$error":"#REF!"}},{"$f":"IF(AND(LEN($D39)>0,SUMIF($F$13:$J$13,AS$13,$F39:$J39)>0,marzo!#REF!<>\"X\",marzo!#REF!<>\"L\",marzo!#REF!<>\"J\",marzo!#REF!<>\"V\",marzo!#REF!<>\"F\",marzo!#REF!<>\"\"),SUMIF($F$13:$J$13,AS$13,$F39:$J39),\"\")","v":{"$error":"#REF!"}},{"$error":"#REF!"},null,null,null,{"$f":"IF(AND(LEN($D39)>0,SUMIF($F$13:$J$13,AX$13,$F39:$J39)>0,marzo!#REF!<>\"X\",marzo!#REF!<>\"L\",marzo!#REF!<>\"J\",marzo!#REF!<>\"F\"),SUMIF($F$13:$J$13,AX$13,$F39:$J39),\"\")","v":{"$error":"#REF!"}},{"$f":"IF(AND(LEN($D39)>0,SUMIF($F$13:$J$13,AY$13,$F39:$J39)>0,marzo!#REF!<>\"X\",marzo!#REF!<>\"L\",marzo!#REF!<>\"J\",marzo!#REF!<>\"F\"),SUMIF($F$13:$J$13,AY$13,$F39:$J39),\"\")","v":{"$error":"#REF!"}},{"$f":"IF(AND(LEN($D39)>0,SUMIF($F$13:$J$13,AZ$13,$F39:$J39)>0,marzo!#REF!<>\"X\",marzo!#REF!<>\"L\",marzo!#REF!<>\"J\",marzo!#REF!<>\"F\"),SUMIF($F$13:$J$13,AZ$13,$F39:$J39),\"\")","v":{"$error":"#REF!"}},{"$f":"IF(AND(LEN($D39)>0,SUMIF($F$13:$J$13,BA$13,$F39:$J39)>0,marzo!#REF!<>\"X\",marzo!#REF!<>\"L\",marzo!#REF!<>\"J\",marzo!#REF!<>\"F\"),SUMIF($F$13:$J$13,BA$13,$F39:$J39),\"\")","v":{"$error":"#REF!"}},{"$f":"IF(AND(LEN($D39)>0,SUMIF($F$13:$J$13,BB$13,$F39:$J39)>0,marzo!#REF!<>\"X\",marzo!#REF!<>\"L\",marzo!#REF!<>\"J\",marzo!#REF!<>\"F\"),SUMIF($F$13:$J$13,BB$13,$F39:$J39),\"\")","v":{"$error":"#REF!"}},{"$f":"IF(AND(LEN($D39)>0,SUMIF($F$13:$J$13,BC$13,$F39:$J39)>0,marzo!#REF!<>\"X\",marzo!#REF!<>\"L\",marzo!#REF!<>\"J\",marzo!#REF!<>\"F\"),SUMIF($F$13:$J$13,BC$13,$F39:$J39),\"\")","v":{"$error":"#REF!"}},{"$f":"IF(AND(LEN($D39)>0,SUMIF($F$13:$J$13,BD$13,$F39:$J39)>0,marzo!#REF!<>\"X\",marzo!#REF!<>\"L\",marzo!#REF!<>\"J\",marzo!#REF!<>\"F\"),SUMIF($F$13:$J$13,BD$13,$F39:$J39),\"\")","v":{"$error":"#REF!"}},{"$f":"IF(AND(LEN($D39)>0,SUMIF($F$13:$J$13,BE$13,$F39:$J39)>0,marzo!#REF!<>\"X\",marzo!#REF!<>\"L\",marzo!#REF!<>\"J\",marzo!#REF!<>\"F\"),SUMIF($F$13:$J$13,BE$13,$F39:$J39),\"\")","v":{"$error":"#REF!"}},{"$f":"IF(AND(LEN($D39)>0,SUMIF($F$13:$J$13,BF$13,$F39:$J39)>0,marzo!#REF!<>\"X\",marzo!#REF!<>\"L\",marzo!#REF!<>\"J\",marzo!#REF!<>\"F\"),SUMIF($F$13:$J$13,BF$13,$F39:$J39),\"\")","v":{"$error":"#REF!"}},{"$f":"IF(AND(LEN($D39)>0,SUMIF($F$13:$J$13,BG$13,$F39:$J39)>0,marzo!#REF!<>\"X\",marzo!#REF!<>\"L\",marzo!#REF!<>\"J\",marzo!#REF!<>\"F\"),SUMIF($F$13:$J$13,BG$13,$F39:$J39),\"\")","v":{"$error":"#REF!"}},{"$f":"IF(AND(LEN($D39)>0,SUMIF($F$13:$J$13,BH$13,$F39:$J39)>0,marzo!#REF!<>\"X\",marzo!#REF!<>\"L\",marzo!#REF!<>\"J\",marzo!#REF!<>\"F\"),SUMIF($F$13:$J$13,BH$13,$F39:$J39),\"\")","v":{"$error":"#REF!"}},{"$f":"IF(AND(LEN($D39)>0,SUMIF($F$13:$J$13,BI$13,$F39:$J39)>0,marzo!#REF!<>\"X\",marzo!#REF!<>\"L\",marzo!#REF!<>\"J\",marzo!#REF!<>\"F\"),SUMIF($F$13:$J$13,BI$13,$F39:$J39),\"\")","v":{"$error":"#REF!"}},{"$f":"IF(AND(LEN($D39)>0,SUMIF($F$13:$J$13,BJ$13,$F39:$J39)>0,marzo!#REF!<>\"X\",marzo!#REF!<>\"L\",marzo!#REF!<>\"J\",marzo!#REF!<>\"F\"),SUMIF($F$13:$J$13,BJ$13,$F39:$J39),\"\")","v":{"$error":"#REF!"}},{"$f":"IF(AND(LEN($D39)>0,SUMIF($F$13:$J$13,BK$13,$F39:$J39)>0,marzo!#REF!<>\"X\",marzo!#REF!<>\"L\",marzo!#REF!<>\"J\",marzo!#REF!<>\"F\"),SUMIF($F$13:$J$13,BK$13,$F39:$J39),\"\")","v":{"$error":"#REF!"}},{"$f":"IF(AND(LEN($D39)>0,SUMIF($F$13:$J$13,BL$13,$F39:$J39)>0,marzo!#REF!<>\"X\",marzo!#REF!<>\"L\",marzo!#REF!<>\"J\",marzo!#REF!<>\"F\"),SUMIF($F$13:$J$13,BL$13,$F39:$J39),\"\")","v":{"$error":"#REF!"}},{"$f":"IF(AND(LEN($D39)>0,SUMIF($F$13:$J$13,BM$13,$F39:$J39)>0,marzo!#REF!<>\"X\",marzo!#REF!<>\"L\",marzo!#REF!<>\"J\",marzo!#REF!<>\"F\"),SUMIF($F$13:$J$13,BM$13,$F39:$J39),\"\")","v":{"$error":"#REF!"}},{"$f":"IF(AND(LEN($D39)>0,SUMIF($F$13:$J$13,BN$13,$F39:$J39)>0,marzo!#REF!<>\"X\",marzo!#REF!<>\"L\",marzo!#REF!<>\"J\",marzo!#REF!<>\"F\"),SUMIF($F$13:$J$13,BN$13,$F39:$J39),\"\")","v":{"$error":"#REF!"}},{"$f":"IF(AND(LEN($D39)>0,SUMIF($F$13:$J$13,BO$13,$F39:$J39)>0,marzo!#REF!<>\"X\",marzo!#REF!<>\"L\",marzo!#REF!<>\"J\",marzo!#REF!<>\"F\"),SUMIF($F$13:$J$13,BO$13,$F39:$J39),\"\")","v":{"$error":"#REF!"}},{"$f":"IF(AND(LEN($D39)>0,SUMIF($F$13:$J$13,BP$13,$F39:$J39)>0,marzo!#REF!<>\"X\",marzo!#REF!<>\"L\",marzo!#REF!<>\"J\",marzo!#REF!<>\"F\"),SUMIF($F$13:$J$13,BP$13,$F39:$J39),\"\")","v":{"$error":"#REF!"}},{"$f":"IF(AND(LEN($D39)>0,SUMIF($F$13:$J$13,BQ$13,$F39:$J39)>0,marzo!#REF!<>\"X\",marzo!#REF!<>\"L\",marzo!#REF!<>\"J\",marzo!#REF!<>\"F\"),SUMIF($F$13:$J$13,BQ$13,$F39:$J39),\"\")","v":{"$error":"#REF!"}},{"$f":"IF(AND(LEN($D39)>0,SUMIF($F$13:$J$13,BR$13,$F39:$J39)>0,marzo!#REF!<>\"X\",marzo!#REF!<>\"L\",marzo!#REF!<>\"J\",marzo!#REF!<>\"F\"),SUMIF($F$13:$J$13,BR$13,$F39:$J39),\"\")","v":{"$error":"#REF!"}},{"$f":"IF(AND(LEN($D39)>0,SUMIF($F$13:$J$13,BS$13,$F39:$J39)>0,marzo!#REF!<>\"X\",marzo!#REF!<>\"L\",marzo!#REF!<>\"J\",marzo!#REF!<>\"F\"),SUMIF($F$13:$J$13,BS$13,$F39:$J39),\"\")","v":{"$error":"#REF!"}},{"$f":"IF(AND(LEN($D39)>0,SUMIF($F$13:$J$13,BT$13,$F39:$J39)>0,marzo!#REF!<>\"X\",marzo!#REF!<>\"L\",marzo!#REF!<>\"J\",marzo!#REF!<>\"F\"),SUMIF($F$13:$J$13,BT$13,$F39:$J39),\"\")","v":{"$error":"#REF!"}},{"$f":"IF(AND(LEN($D39)>0,SUMIF($F$13:$J$13,BU$13,$F39:$J39)>0,marzo!#REF!<>\"X\",marzo!#REF!<>\"L\",marzo!#REF!<>\"J\",marzo!#REF!<>\"F\"),SUMIF($F$13:$J$13,BU$13,$F39:$J39),\"\")","v":{"$error":"#REF!"}},{"$f":"IF(AND(LEN($D39)>0,SUMIF($F$13:$J$13,BV$13,$F39:$J39)>0,marzo!#REF!<>\"X\",marzo!#REF!<>\"L\",marzo!#REF!<>\"J\",marzo!#REF!<>\"F\"),SUMIF($F$13:$J$13,BV$13,$F39:$J39),\"\")","v":{"$error":"#REF!"}},{"$f":"IF(AND(LEN($D39)>0,SUMIF($F$13:$J$13,BW$13,$F39:$J39)>0,marzo!#REF!<>\"X\",marzo!#REF!<>\"L\",marzo!#REF!<>\"J\",marzo!#REF!<>\"F\"),SUMIF($F$13:$J$13,BW$13,$F39:$J39),\"\")","v":{"$error":"#REF!"}},{"$f":"IF(AND(LEN($D39)>0,SUMIF($F$13:$J$13,BX$13,$F39:$J39)>0,marzo!#REF!<>\"X\",marzo!#REF!<>\"L\",marzo!#REF!<>\"J\",marzo!#REF!<>\"F\"),SUMIF($F$13:$J$13,BX$13,$F39:$J39),\"\")","v":{"$error":"#REF!"}},{"$f":"IF(AND(LEN($D39)>0,SUMIF($F$13:$J$13,BY$13,$F39:$J39)>0,marzo!#REF!<>\"X\",marzo!#REF!<>\"L\",marzo!#REF!<>\"J\",marzo!#REF!<>\"F\"),SUMIF($F$13:$J$13,BY$13,$F39:$J39),\"\")","v":{"$error":"#REF!"}},{"$f":"IF(AND(LEN($D39)>0,SUMIF($F$13:$J$13,BZ$13,$F39:$J39)>0,marzo!#REF!<>\"X\",marzo!#REF!<>\"L\",marzo!#REF!<>\"J\",marzo!#REF!<>\"F\"),SUMIF($F$13:$J$13,BZ$13,$F39:$J39),\"\")","v":{"$error":"#REF!"}},{"$f":"IF(AND(LEN($D39)>0,SUMIF($F$13:$J$13,CA$13,$F39:$J39)>0,marzo!#REF!<>\"X\",marzo!#REF!<>\"L\",marzo!#REF!<>\"J\",marzo!#REF!<>\"F\"),SUMIF($F$13:$J$13,CA$13,$F39:$J39),\"\")","v":{"$error":"#REF!"}},{"$f":"IF(AND(LEN($D39)>0,SUMIF($F$13:$J$13,CB$13,$F39:$J39)>0,marzo!#REF!<>\"X\",marzo!#REF!<>\"L\",marzo!#REF!<>\"J\",marzo!#REF!<>\"F\"),SUMIF($F$13:$J$13,CB$13,$F39:$J39),\"\")","v":{"$error":"#REF!"}},{"$error":"#REF!"}]
[{"$error":"#REF!"},{"$f":"IF(LEN(C40)>0,VLOOKUP($O$4,DATA!$A$1:$S$1,2,FALSE),\"\")","v":{"$error":"#REF!"}},{"$error":"#REF!"},{"$f":"IF(LEN(marzo!#REF!)>0,marzo!#REF!,\"\")","v":{"$error":"#REF!"}},{"$f":"IF(LEN(D40)>0,marzo!#REF!,\"\")","v":{"$error":"#REF!"}},null,null,null,null,null,"",null,null,{"$error":"#REF!"},{"$f":"IF(AND(LEN($D40)>0,SUMIF($F$13:$J$13,O$13,$F40:$J40)>0,marzo!#REF!<>\"X\",marzo!#REF!<>\"L\",marzo!#REF!<>\"J\",marzo!#REF!<>\"V\",marzo!#REF!<>\"F\",marzo!#REF!<>\"\"),SUMIF($F$13:$J$13,O$13,$F40:$J40),\"\")","v":{"$error":"#REF!"}},{"$f":"IF(AND(LEN($D40)>0,SUMIF($F$13:$J$13,P$13,$F40:$J40)>0,marzo!#REF!<>\"X\",marzo!#REF!<>\"L\",marzo!#REF!<>\"J\",marzo!#REF!<>\"V\",marzo!#REF!<>\"F\",marzo!#REF!<>\"\"),SUMIF($F$13:$J$13,P$13,$F40:$J40),\"\")","v":{"$error":"#REF!"}},{"$f":"IF(AND(LEN($D40)>0,SUMIF($F$13:$J$13,Q$13,$F40:$J40)>0,marzo!#REF!<>\"X\",marzo!#REF!<>\"L\",marzo!#REF!<>\"J\",marzo!#REF!<>\"V\",marzo!#REF!<>\"F\",marzo!#REF!<>\"\"),SUMIF($F$13:$J$13,Q$13,$F40:$J40),\"\")","v":{"$error":"#REF!"}},{"$f":"IF(AND(LEN($D40)>0,SUMIF($F$13:$J$13,R$13,$F40:$J40)>0,marzo!#REF!<>\"X\",marzo!#REF!<>\"L\",marzo!#REF!<>\"J\",marzo!#REF!<>\"V\",marzo!#REF!<>\"F\",marzo!#REF!<>\"\"),SUMIF($F$13:$J$13,R$13,$F40:$J40),\"\")","v":{"$error":"#REF!"}},{"$f":"IF(AND(LEN($D40)>0,SUMIF($F$13:$J$13,S$13,$F40:$J40)>0,marzo!#REF!<>\"X\",marzo!#REF!<>\"L\",marzo!#REF!<>\"J\",marzo!#REF!<>\"V\",marzo!#REF!<>\"F\",marzo!#REF!<>\"\"),SUMIF($F$13:$J$13,S$13,$F40:$J40),\"\")","v":{"$error":"#REF!"}},{"$f":"IF(AND(LEN($D40)>0,SUMIF($F$13:$J$13,T$13,$F40:$J40)>0,marzo!#REF!<>\"X\",marzo!#REF!<>\"L\",marzo!#REF!<>\"J\",marzo!#REF!<>\"V\",marzo!#REF!<>\"F\",marzo!#REF!<>\"\"),SUMIF($F$13:$J$13,T$13,$F40:$J40),\"\")","v":{"$error":"#REF!"}},{"$f":"IF(AND(LEN($D40)>0,SUMIF($F$13:$J$13,U$13,$F40:$J40)>0,marzo!#REF!<>\"X\",marzo!#REF!<>\"L\",marzo!#REF!<>\"J\",marzo!#REF!<>\"V\",marzo!#REF!<>\"F\",marzo!#REF!<>\"\"),SUMIF($F$13:$J$13,U$13,$F40:$J40),\"\")","v":{"$error":"#REF!"}},{"$f":"IF(AND(LEN($D40)>0,SUMIF($F$13:$J$13,V$13,$F40:$J40)>0,marzo!#REF!<>\"X\",marzo!#REF!<>\"L\",marzo!#REF!<>\"J\",marzo!#REF!<>\"V\",marzo!#REF!<>\"F\",marzo!#REF!<>\"\"),SUMIF($F$13:$J$13,V$13,$F40:$J40),\"\")","v":{"$error":"#REF!"}},{"$f":"IF(AND(LEN($D40)>0,SUMIF($F$13:$J$13,W$13,$F40:$J40)>0,marzo!#REF!<>\"X\",marzo!#REF!<>\"L\",marzo!#REF!<>\"J\",marzo!#REF!<>\"V\",marzo!#REF!<>\"F\",marzo!#REF!<>\"\"),SUMIF($F$13:$J$13,W$13,$F40:$J40),\"\")","v":{"$error":"#REF!"}},{"$f":"IF(AND(LEN($D40)>0,SUMIF($F$13:$J$13,X$13,$F40:$J40)>0,marzo!#REF!<>\"X\",marzo!#REF!<>\"L\",marzo!#REF!<>\"J\",marzo!#REF!<>\"V\",marzo!#REF!<>\"F\",marzo!#REF!<>\"\"),SUMIF($F$13:$J$13,X$13,$F40:$J40),\"\")","v":{"$error":"#REF!"}},{"$f":"IF(AND(LEN($D40)>0,SUMIF($F$13:$J$13,Y$13,$F40:$J40)>0,marzo!#REF!<>\"X\",marzo!#REF!<>\"L\",marzo!#REF!<>\"J\",marzo!#REF!<>\"V\",marzo!#REF!<>\"F\",marzo!#REF!<>\"\"),SUMIF($F$13:$J$13,Y$13,$F40:$J40),\"\")","v":{"$error":"#REF!"}},{"$f":"IF(AND(LEN($D40)>0,SUMIF($F$13:$J$13,Z$13,$F40:$J40)>0,marzo!#REF!<>\"X\",marzo!#REF!<>\"L\",marzo!#REF!<>\"J\",marzo!#REF!<>\"V\",marzo!#REF!<>\"F\",marzo!#REF!<>\"\"),SUMIF($F$13:$J$13,Z$13,$F40:$J40),\"\")","v":{"$error":"#REF!"}},{"$f":"IF(AND(LEN($D40)>0,SUMIF($F$13:$J$13,AA$13,$F40:$J40)>0,marzo!#REF!<>\"X\",marzo!#REF!<>\"L\",marzo!#REF!<>\"J\",marzo!#REF!<>\"V\",marzo!#REF!<>\"F\",marzo!#REF!<>\"\"),SUMIF($F$13:$J$13,AA$13,$F40:$J40),\"\")","v":{"$error":"#REF!"}},{"$f":"IF(AND(LEN($D40)>0,SUMIF($F$13:$J$13,AB$13,$F40:$J40)>0,marzo!#REF!<>\"X\",marzo!#REF!<>\"L\",marzo!#REF!<>\"J\",marzo!#REF!<>\"V\",marzo!#REF!<>\"F\",marzo!#REF!<>\"\"),SUMIF($F$13:$J$13,AB$13,$F40:$J40),\"\")","v":{"$error":"#REF!"}},{"$f":"IF(AND(LEN($D40)>0,SUMIF($F$13:$J$13,AC$13,$F40:$J40)>0,marzo!#REF!<>\"X\",marzo!#REF!<>\"L\",marzo!#REF!<>\"J\",marzo!#REF!<>\"V\",marzo!#REF!<>\"F\",marzo!#REF!<>\"\"),SUMIF($F$13:$J$13,AC$13,$F40:$J40),\"\")","v":{"$error":"#REF!"}},{"$f":"IF(AND(LEN($D40)>0,SUMIF($F$13:$J$13,AD$13,$F40:$J40)>0,marzo!#REF!<>\"X\",marzo!#REF!<>\"L\",marzo!#REF!<>\"J\",marzo!#REF!<>\"V\",marzo!#REF!<>\"F\",marzo!#REF!<>\"\"),SUMIF($F$13:$J$13,AD$13,$F40:$J40),\"\")","v":{"$error":"#REF!"}},{"$f":"IF(AND(LEN($D40)>0,SUMIF($F$13:$J$13,AE$13,$F40:$J40)>0,marzo!#REF!<>\"X\",marzo!#REF!<>\"L\",marzo!#REF!<>\"J\",marzo!#REF!<>\"V\",marzo!#REF!<>\"F\",marzo!#REF!<>\"\"),SUMIF($F$13:$J$13,AE$13,$F40:$J40),\"\")","v":{"$error":"#REF!"}},{"$f":"IF(AND(LEN($D40)>0,SUMIF($F$13:$J$13,AF$13,$F40:$J40)>0,marzo!#REF!<>\"X\",marzo!#REF!<>\"L\",marzo!#REF!<>\"J\",marzo!#REF!<>\"V\",marzo!#REF!<>\"F\",marzo!#REF!<>\"\"),SUMIF($F$13:$J$13,AF$13,$F40:$J40),\"\")","v":{"$error":"#REF!"}},{"$f":"IF(AND(LEN($D40)>0,SUMIF($F$13:$J$13,AG$13,$F40:$J40)>0,marzo!#REF!<>\"X\",marzo!#REF!<>\"L\",marzo!#REF!<>\"J\",marzo!#REF!<>\"V\",marzo!#REF!<>\"F\",marzo!#REF!<>\"\"),SUMIF($F$13:$J$13,AG$13,$F40:$J40),\"\")","v":{"$error":"#REF!"}},{"$f":"IF(AND(LEN($D40)>0,SUMIF($F$13:$J$13,AH$13,$F40:$J40)>0,marzo!#REF!<>\"X\",marzo!#REF!<>\"L\",marzo!#REF!<>\"J\",marzo!#REF!<>\"V\",marzo!#REF!<>\"F\",marzo!#REF!<>\"\"),SUMIF($F$13:$J$13,AH$13,$F40:$J40),\"\")","v":{"$error":"#REF!"}},{"$f":"IF(AND(LEN($D40)>0,SUMIF($F$13:$J$13,AI$13,$F40:$J40)>0,marzo!#REF!<>\"X\",marzo!#REF!<>\"L\",marzo!#REF!<>\"J\",marzo!#REF!<>\"V\",marzo!#REF!<>\"F\",marzo!#REF!<>\"\"),SUMIF($F$13:$J$13,AI$13,$F40:$J40),\"\")","v":{"$error":"#REF!"}},{"$f":"IF(AND(LEN($D40)>0,SUMIF($F$13:$J$13,AJ$13,$F40:$J40)>0,marzo!#REF!<>\"X\",marzo!#REF!<>\"L\",marzo!#REF!<>\"J\",marzo!#REF!<>\"V\",marzo!#REF!<>\"F\",marzo!#REF!<>\"\"),SUMIF($F$13:$J$13,AJ$13,$F40:$J40),\"\")","v":{"$error":"#REF!"}},{"$f":"IF(AND(LEN($D40)>0,SUMIF($F$13:$J$13,AK$13,$F40:$J40)>0,marzo!#REF!<>\"X\",marzo!#REF!<>\"L\",marzo!#REF!<>\"J\",marzo!#REF!<>\"V\",marzo!#REF!<>\"F\",marzo!#REF!<>\"\"),SUMIF($F$13:$J$13,AK$13,$F40:$J40),\"\")","v":{"$error":"#REF!"}},{"$f":"IF(AND(LEN($D40)>0,SUMIF($F$13:$J$13,AL$13,$F40:$J40)>0,marzo!#REF!<>\"X\",marzo!#REF!<>\"L\",marzo!#REF!<>\"J\",marzo!#REF!<>\"V\",marzo!#REF!<>\"F\",marzo!#REF!<>\"\"),SUMIF($F$13:$J$13,AL$13,$F40:$J40),\"\")","v":{"$error":"#REF!"}},{"$f":"IF(AND(LEN($D40)>0,SUMIF($F$13:$J$13,AM$13,$F40:$J40)>0,marzo!#REF!<>\"X\",marzo!#REF!<>\"L\",marzo!#REF!<>\"J\",marzo!#REF!<>\"V\",marzo!#REF!<>\"F\",marzo!#REF!<>\"\"),SUMIF($F$13:$J$13,AM$13,$F40:$J40),\"\")","v":{"$error":"#REF!"}},{"$f":"IF(AND(LEN($D40)>0,SUMIF($F$13:$J$13,AN$13,$F40:$J40)>0,marzo!#REF!<>\"X\",marzo!#REF!<>\"L\",marzo!#REF!<>\"J\",marzo!#REF!<>\"V\",marzo!#REF!<>\"F\",marzo!#REF!<>\"\"),SUMIF($F$13:$J$13,AN$13,$F40:$J40),\"\")","v":{"$error":"#REF!"}},{"$f":"IF(AND(LEN($D40)>0,SUMIF($F$13:$J$13,AO$13,$F40:$J40)>0,marzo!#REF!<>\"X\",marzo!#REF!<>\"L\",marzo!#REF!<>\"J\",marzo!#REF!<>\"V\",marzo!#REF!<>\"F\",marzo!#REF!<>\"\"),SUMIF($F$13:$J$13,AO$13,$F40:$J40),\"\")","v":{"$error":"#REF!"}},{"$f":"IF(AND(LEN($D40)>0,SUMIF($F$13:$J$13,AP$13,$F40:$J40)>0,marzo!#REF!<>\"X\",marzo!#REF!<>\"L\",marzo!#REF!<>\"J\",marzo!#REF!<>\"V\",marzo!#REF!<>\"F\",marzo!#REF!<>\"\"),SUMIF($F$13:$J$13,AP$13,$F40:$J40),\"\")","v":{"$error":"#REF!"}},{"$f":"IF(AND(LEN($D40)>0,SUMIF($F$13:$J$13,AQ$13,$F40:$J40)>0,marzo!#REF!<>\"X\",marzo!#REF!<>\"L\",marzo!#REF!<>\"J\",marzo!#REF!<>\"V\",marzo!#REF!<>\"F\",marzo!#REF!<>\"\"),SUMIF($F$13:$J$13,AQ$13,$F40:$J40),\"\")","v":{"$error":"#REF!"}},{"$f":"IF(AND(LEN($D40)>0,SUMIF($F$13:$J$13,AR$13,$F40:$J40)>0,marzo!#REF!<>\"X\",marzo!#REF!<>\"L\",marzo!#REF!<>\"J\",marzo!#REF!<>\"V\",marzo!#REF!<>\"F\",marzo!#REF!<>\"\"),SUMIF($F$13:$J$13,AR$13,$F40:$J40),\"\")","v":{"$error":"#REF!"}},{"$f":"IF(AND(LEN($D40)>0,SUMIF($F$13:$J$13,AS$13,$F40:$J40)>0,marzo!#REF!<>\"X\",marzo!#REF!<>\"L\",marzo!#REF!<>\"J\",marzo!#REF!<>\"V\",marzo!#REF!<>\"F\",marzo!#REF!<>\"\"),SUMIF($F$13:$J$13,AS$13,$F40:$J40),\"\")","v":{"$error":"#REF!"}},{"$error":"#REF!"},null,null,null,{"$f":"IF(AND(LEN($D40)>0,SUMIF($F$13:$J$13,AX$13,$F40:$J40)>0,marzo!#REF!<>\"X\",marzo!#REF!<>\"L\",marzo!#REF!<>\"J\",marzo!#REF!<>\"F\"),SUMIF($F$13:$J$13,AX$13,$F40:$J40),\"\")","v":{"$error":"#REF!"}},{"$f":"IF(AND(LEN($D40)>0,SUMIF($F$13:$J$13,AY$13,$F40:$J40)>0,marzo!#REF!<>\"X\",marzo!#REF!<>\"L\",marzo!#REF!<>\"J\",marzo!#REF!<>\"F\"),SUMIF($F$13:$J$13,AY$13,$F40:$J40),\"\")","v":{"$error":"#REF!"}},{"$f":"IF(AND(LEN($D40)>0,SUMIF($F$13:$J$13,AZ$13,$F40:$J40)>0,marzo!#REF!<>\"X\",marzo!#REF!<>\"L\",marzo!#REF!<>\"J\",marzo!#REF!<>\"F\"),SUMIF($F$13:$J$13,AZ$13,$F40:$J40),\"\")","v":{"$error":"#REF!"}},{"$f":"IF(AND(LEN($D40)>0,SUMIF($F$13:$J$13,BA$13,$F40:$J40)>0,marzo!#REF!<>\"X\",marzo!#REF!<>\"L\",marzo!#REF!<>\"J\",marzo!#REF!<>\"F\"),SUMIF($F$13:$J$13,BA$13,$F40:$J40),\"\")","v":{"$error":"#REF!"}},{"$f":"IF(AND(LEN($D40)>0,SUMIF($F$13:$J$13,BB$13,$F40:$J40)>0,marzo!#REF!<>\"X\",marzo!#REF!<>\"L\",marzo!#REF!<>\"J\",marzo!#REF!<>\"F\"),SUMIF($F$13:$J$13,BB$13,$F40:$J40),\"\")","v":{"$error":"#REF!"}},{"$f":"IF(AND(LEN($D40)>0,SUMIF($F$13:$J$13,BC$13,$F40:$J40)>0,marzo!#REF!<>\"X\",marzo!#REF!<>\"L\",marzo!#REF!<>\"J\",marzo!#REF!<>\"F\"),SUMIF($F$13:$J$13,BC$13,$F40:$J40),\"\")","v":{"$error":"#REF!"}},{"$f":"IF(AND(LEN($D40)>0,SUMIF($F$13:$J$13,BD$13,$F40:$J40)>0,marzo!#REF!<>\"X\",marzo!#REF!<>\"L\",marzo!#REF!<>\"J\",marzo!#REF!<>\"F\"),SUMIF($F$13:$J$13,BD$13,$F40:$J40),\"\")","v":{"$error":"#REF!"}},{"$f":"IF(AND(LEN($D40)>0,SUMIF($F$13:$J$13,BE$13,$F40:$J40)>0,marzo!#REF!<>\"X\",marzo!#REF!<>\"L\",marzo!#REF!<>\"J\",marzo!#REF!<>\"F\"),SUMIF($F$13:$J$13,BE$13,$F40:$J40),\"\")","v":{"$error":"#REF!"}},{"$f":"IF(AND(LEN($D40)>0,SUMIF($F$13:$J$13,BF$13,$F40:$J40)>0,marzo!#REF!<>\"X\",marzo!#REF!<>\"L\",marzo!#REF!<>\"J\",marzo!#REF!<>\"F\"),SUMIF($F$13:$J$13,BF$13,$F40:$J40),\"\")","v":{"$error":"#REF!"}},{"$f":"IF(AND(LEN($D40)>0,SUMIF($F$13:$J$13,BG$13,$F40:$J40)>0,marzo!#REF!<>\"X\",marzo!#REF!<>\"L\",marzo!#REF!<>\"J\",marzo!#REF!<>\"F\"),SUMIF($F$13:$J$13,BG$13,$F40:$J40),\"\")","v":{"$error":"#REF!"}},{"$f":"IF(AND(LEN($D40)>0,SUMIF($F$13:$J$13,BH$13,$F40:$J40)>0,marzo!#REF!<>\"X\",marzo!#REF!<>\"L\",marzo!#REF!<>\"J\",marzo!#REF!<>\"F\"),SUMIF($F$13:$J$13,BH$13,$F40:$J40),\"\")","v":{"$error":"#REF!"}},{"$f":"IF(AND(LEN($D40)>0,SUMIF($F$13:$J$13,BI$13,$F40:$J40)>0,marzo!#REF!<>\"X\",marzo!#REF!<>\"L\",marzo!#REF!<>\"J\",marzo!#REF!<>\"F\"),SUMIF($F$13:$J$13,BI$13,$F40:$J40),\"\")","v":{"$error":"#REF!"}},{"$f":"IF(AND(LEN($D40)>0,SUMIF($F$13:$J$13,BJ$13,$F40:$J40)>0,marzo!#REF!<>\"X\",marzo!#REF!<>\"L\",marzo!#REF!<>\"J\",marzo!#REF!<>\"F\"),SUMIF($F$13:$J$13,BJ$13,$F40:$J40),\"\")","v":{"$error":"#REF!"}},{"$f":"IF(AND(LEN($D40)>0,SUMIF($F$13:$J$13,BK$13,$F40:$J40)>0,marzo!#REF!<>\"X\",marzo!#REF!<>\"L\",marzo!#REF!<>\"J\",marzo!#REF!<>\"F\"),SUMIF($F$13:$J$13,BK$13,$F40:$J40),\"\")","v":{"$error":"#REF!"}},{"$f":"IF(AND(LEN($D40)>0,SUMIF($F$13:$J$13,BL$13,$F40:$J40)>0,marzo!#REF!<>\"X\",marzo!#REF!<>\"L\",marzo!#REF!<>\"J\",marzo!#REF!<>\"F\"),SUMIF($F$13:$J$13,BL$13,$F40:$J40),\"\")","v":{"$error":"#REF!"}},{"$f":"IF(AND(LEN($D40)>0,SUMIF($F$13:$J$13,BM$13,$F40:$J40)>0,marzo!#REF!<>\"X\",marzo!#REF!<>\"L\",marzo!#REF!<>\"J\",marzo!#REF!<>\"F\"),SUMIF($F$13:$J$13,BM$13,$F40:$J40),\"\")","v":{"$error":"#REF!"}},{"$f":"IF(AND(LEN($D40)>0,SUMIF($F$13:$J$13,BN$13,$F40:$J40)>0,marzo!#REF!<>\"X\",marzo!#REF!<>\"L\",marzo!#REF!<>\"J\",marzo!#REF!<>\"F\"),SUMIF($F$13:$J$13,BN$13,$F40:$J40),\"\")","v":{"$error":"#REF!"}},{"$f":"IF(AND(LEN($D40)>0,SUMIF($F$13:$J$13,BO$13,$F40:$J40)>0,marzo!#REF!<>\"X\",marzo!#REF!<>\"L\",marzo!#REF!<>\"J\",marzo!#REF!<>\"F\"),SUMIF($F$13:$J$13,BO$13,$F40:$J40),\"\")","v":{"$error":"#REF!"}},{"$f":"IF(AND(LEN($D40)>0,SUMIF($F$13:$J$13,BP$13,$F40:$J40)>0,marzo!#REF!<>\"X\",marzo!#REF!<>\"L\",marzo!#REF!<>\"J\",marzo!#REF!<>\"F\"),SUMIF($F$13:$J$13,BP$13,$F40:$J40),\"\")","v":{"$error":"#REF!"}},{"$f":"IF(AND(LEN($D40)>0,SUMIF($F$13:$J$13,BQ$13,$F40:$J40)>0,marzo!#REF!<>\"X\",marzo!#REF!<>\"L\",marzo!#REF!<>\"J\",marzo!#REF!<>\"F\"),SUMIF($F$13:$J$13,BQ$13,$F40:$J40),\"\")","v":{"$error":"#REF!"}},{"$f":"IF(AND(LEN($D40)>0,SUMIF($F$13:$J$13,BR$13,$F40:$J40)>0,marzo!#REF!<>\"X\",marzo!#REF!<>\"L\",marzo!#REF!<>\"J\",marzo!#REF!<>\"F\"),SUMIF($F$13:$J$13,BR$13,$F40:$J40),\"\")","v":{"$error":"#REF!"}},{"$f":"IF(AND(LEN($D40)>0,SUMIF($F$13:$J$13,BS$13,$F40:$J40)>0,marzo!#REF!<>\"X\",marzo!#REF!<>\"L\",marzo!#REF!<>\"J\",marzo!#REF!<>\"F\"),SUMIF($F$13:$J$13,BS$13,$F40:$J40),\"\")","v":{"$error":"#REF!"}},{"$f":"IF(AND(LEN($D40)>0,SUMIF($F$13:$J$13,BT$13,$F40:$J40)>0,marzo!#REF!<>\"X\",marzo!#REF!<>\"L\",marzo!#REF!<>\"J\",marzo!#REF!<>\"F\"),SUMIF($F$13:$J$13,BT$13,$F40:$J40),\"\")","v":{"$error":"#REF!"}},{"$f":"IF(AND(LEN($D40)>0,SUMIF($F$13:$J$13,BU$13,$F40:$J40)>0,marzo!#REF!<>\"X\",marzo!#REF!<>\"L\",marzo!#REF!<>\"J\",marzo!#REF!<>\"F\"),SUMIF($F$13:$J$13,BU$13,$F40:$J40),\"\")","v":{"$error":"#REF!"}},{"$f":"IF(AND(LEN($D40)>0,SUMIF($F$13:$J$13,BV$13,$F40:$J40)>0,marzo!#REF!<>\"X\",marzo!#REF!<>\"L\",marzo!#REF!<>\"J\",marzo!#REF!<>\"F\"),SUMIF($F$13:$J$13,BV$13,$F40:$J40),\"\")","v":{"$error":"#REF!"}},{"$f":"IF(AND(LEN($D40)>0,SUMIF($F$13:$J$13,BW$13,$F40:$J40)>0,marzo!#REF!<>\"X\",marzo!#REF!<>\"L\",marzo!#REF!<>\"J\",marzo!#REF!<>\"F\"),SUMIF($F$13:$J$13,BW$13,$F40:$J40),\"\")","v":{"$error":"#REF!"}},{"$f":"IF(AND(LEN($D40)>0,SUMIF($F$13:$J$13,BX$13,$F40:$J40)>0,marzo!#REF!<>\"X\",marzo!#REF!<>\"L\",marzo!#REF!<>\"J\",marzo!#REF!<>\"F\"),SUMIF($F$13:$J$13,BX$13,$F40:$J40),\"\")","v":{"$error":"#REF!"}},{"$f":"IF(AND(LEN($D40)>0,SUMIF($F$13:$J$13,BY$13,$F40:$J40)>0,marzo!#REF!<>\"X\",marzo!#REF!<>\"L\",marzo!#REF!<>\"J\",marzo!#REF!<>\"F\"),SUMIF($F$13:$J$13,BY$13,$F40:$J40),\"\")","v":{"$error":"#REF!"}},{"$f":"IF(AND(LEN($D40)>0,SUMIF($F$13:$J$13,BZ$13,$F40:$J40)>0,marzo!#REF!<>\"X\",marzo!#REF!<>\"L\",marzo!#REF!<>\"J\",marzo!#REF!<>\"F\"),SUMIF($F$13:$J$13,BZ$13,$F40:$J40),\"\")","v":{"$error":"#REF!"}},{"$f":"IF(AND(LEN($D40)>0,SUMIF($F$13:$J$13,CA$13,$F40:$J40)>0,marzo!#REF!<>\"X\",marzo!#REF!<>\"L\",marzo!#REF!<>\"J\",marzo!#REF!<>\"F\"),SUMIF($F$13:$J$13,CA$13,$F40:$J40),\"\")","v":{"$error":"#REF!"}},{"$f":"IF(AND(LEN($D40)>0,SUMIF($F$13:$J$13,CB$13,$F40:$J40)>0,marzo!#REF!<>\"X\",marzo!#REF!<>\"L\",marzo!#REF!<>\"J\",marzo!#REF!<>\"F\"),SUMIF($F$13:$J$13,CB$13,$F40:$J40),\"\")","v":{"$error":"#REF!"}},{"$error":"#REF!"}]
[{"$error":"#REF!"},{"$f":"IF(LEN(C41)>0,VLOOKUP($O$4,DATA!$A$1:$S$1,2,FALSE),\"\")","v":{"$error":"#REF!"}},{"$error":"#REF!"},{"$f":"IF(LEN(marzo!#REF!)>0,marzo!#REF!,\"\")","v":{"$error":"#REF!"}},{"$f":"IF(LEN(D41)>0,marzo!#REF!,\"\")","v":{"$error":"#REF!"}},null,null,null,null,null,"",null,null,{"$error":"#REF!"},{"$f":"IF(AND(LEN($D41)>0,SUMIF($F$13:$J$13,O$13,$F41:$J41)>0,marzo!#REF!<>\"X\",marzo!#REF!<>\"L\",marzo!#REF!<>\"J\",marzo!#REF!<>\"V\",marzo!#REF!<>\"F\",marzo!#REF!<>\"\"),SUMIF($F$13:$J$13,O$13,$F41:$J41),\"\")","v":{"$error":"#REF!"}},{"$f":"IF(AND(LEN($D41)>0,SUMIF($F$13:$J$13,P$13,$F41:$J41)>0,marzo!#REF!<>\"X\",marzo!#REF!<>\"L\",marzo!#REF!<>\"J\",marzo!#REF!<>\"V\",marzo!#REF!<>\"F\",marzo!#REF!<>\"\"),SUMIF($F$13:$J$13,P$13,$F41:$J41),\"\")","v":{"$error":"#REF!"}},{"$f":"IF(AND(LEN($D41)>0,SUMIF($F$13:$J$13,Q$13,$F41:$J41)>0,marzo!#REF!<>\"X\",marzo!#REF!<>\"L\",marzo!#REF!<>\"J\",marzo!#REF!<>\"V\",marzo!#REF!<>\"F\",marzo!#REF!<>\"\"),SUMIF($F$13:$J$13,Q$13,$F41:$J41),\"\")","v":{"$error":"#REF!"}},{"$f":"IF(AND(LEN($D41)>0,SUMIF($F$13:$J$13,R$13,$F41:$J41)>0,marzo!#REF!<>\"X\",marzo!#REF!<>\"L\",marzo!#REF!<>\"J\",marzo!#REF!<>\"V\",marzo!#REF!<>\"F\",marzo!#REF!<>\"\"),SUMIF($F$13:$J$13,R$13,$F41:$J41),\"\")","v":{"$error":"#REF!"}},{"$f":"IF(AND(LEN($D41)>0,SUMIF($F$13:$J$13,S$13,$F41:$J41)>0,marzo!#REF!<>\"X\",marzo!#REF!<>\"L\",marzo!#REF!<>\"J\",marzo!#REF!<>\"V\",marzo!#REF!<>\"F\",marzo!#REF!<>\"\"),SUMIF($F$13:$J$13,S$13,$F41:$J41),\"\")","v":{"$error":"#REF!"}},{"$f":"IF(AND(LEN($D41)>0,SUMIF($F$13:$J$13,T$13,$F41:$J41)>0,marzo!#REF!<>\"X\",marzo!#REF!<>\"L\",marzo!#REF!<>\"J\",marzo!#REF!<>\"V\",marzo!#REF!<>\"F\",marzo!#REF!<>\"\"),SUMIF($F$13:$J$13,T$13,$F41:$J41),\"\")","v":{"$error":"#REF!"}},{"$f":"IF(AND(LEN($D41)>0,SUMIF($F$13:$J$13,U$13,$F41:$J41)>0,marzo!#REF!<>\"X\",marzo!#REF!<>\"L\",marzo!#REF!<>\"J\",marzo!#REF!<>\"V\",marzo!#REF!<>\"F\",marzo!#REF!<>\"\"),SUMIF($F$13:$J$13,U$13,$F41:$J41),\"\")","v":{"$error":"#REF!"}},{"$f":"IF(AND(LEN($D41)>0,SUMIF($F$13:$J$13,V$13,$F41:$J41)>0,marzo!#REF!<>\"X\",marzo!#REF!<>\"L\",marzo!#REF!<>\"J\",marzo!#REF!<>\"V\",marzo!#REF!<>\"F\",marzo!#REF!<>\"\"),SUMIF($F$13:$J$13,V$13,$F41:$J41),\"\")","v":{"$error":"#REF!"}},{"$f":"IF(AND(LEN($D41)>0,SUMIF($F$13:$J$13,W$13,$F41:$J41)>0,marzo!#REF!<>\"X\",marzo!#REF!<>\"L\",marzo!#REF!<>\"J\",marzo!#REF!<>\"V\",marzo!#REF!<>\"F\",marzo!#REF!<>\"\"),SUMIF($F$13:$J$13,W$13,$F41:$J41),\"\")","v":{"$error":"#REF!"}},{"$f":"IF(AND(LEN($D41)>0,SUMIF($F$13:$J$13,X$13,$F41:$J41)>0,marzo!#REF!<>\"X\",marzo!#REF!<>\"L\",marzo!#REF!<>\"J\",marzo!#REF!<>\"V\",marzo!#REF!<>\"F\",marzo!#REF!<>\"\"),SUMIF($F$13:$J$13,X$13,$F41:$J41),\"\")","v":{"$error":"#REF!"}},{"$f":"IF(AND(LEN($D41)>0,SUMIF($F$13:$J$13,Y$13,$F41:$J41)>0,marzo!#REF!<>\"X\",marzo!#REF!<>\"L\",marzo!#REF!<>\"J\",marzo!#REF!<>\"V\",marzo!#REF!<>\"F\",marzo!#REF!<>\"\"),SUMIF($F$13:$J$13,Y$13,$F41:$J41),\"\")","v":{"$error":"#REF!"}},{"$f":"IF(AND(LEN($D41)>0,SUMIF($F$13:$J$13,Z$13,$F41:$J41)>0,marzo!#REF!<>\"X\",marzo!#REF!<>\"L\",marzo!#REF!<>\"J\",marzo!#REF!<>\"V\",marzo!#REF!<>\"F\",marzo!#REF!<>\"\"),SUMIF($F$13:$J$13,Z$13,$F41:$J41),\"\")","v":{"$error":"#REF!"}},{"$f":"IF(AND(LEN($D41)>0,SUMIF($F$13:$J$13,AA$13,$F41:$J41)>0,marzo!#REF!<>\"X\",marzo!#REF!<>\"L\",marzo!#REF!<>\"J\",marzo!#REF!<>\"V\",marzo!#REF!<>\"F\",marzo!#REF!<>\"\"),SUMIF($F$13:$J$13,AA$13,$F41:$J41),\"\")","v":{"$error":"#REF!"}},{"$f":"IF(AND(LEN($D41)>0,SUMIF($F$13:$J$13,AB$13,$F41:$J41)>0,marzo!#REF!<>\"X\",marzo!#REF!<>\"L\",marzo!#REF!<>\"J\",marzo!#REF!<>\"V\",marzo!#REF!<>\"F\",marzo!#REF!<>\"\"),SUMIF($F$13:$J$13,AB$13,$F41:$J41),\"\")","v":{"$error":"#REF!"}},{"$f":"IF(AND(LEN($D41)>0,SUMIF($F$13:$J$13,AC$13,$F41:$J41)>0,marzo!#REF!<>\"X\",marzo!#REF!<>\"L\",marzo!#REF!<>\"J\",marzo!#REF!<>\"V\",marzo!#REF!<>\"F\",marzo!#REF!<>\"\"),SUMIF($F$13:$J$13,AC$13,$F41:$J41),\"\")","v":{"$error":"#REF!"}},{"$f":"IF(AND(LEN($D41)>0,SUMIF($F$13:$J$13,AD$13,$F41:$J41)>0,marzo!#REF!<>\"X\",marzo!#REF!<>\"L\",marzo!#REF!<>\"J\",marzo!#REF!<>\"V\",marzo!#REF!<>\"F\",marzo!#REF!<>\"\"),SUMIF($F$13:$J$13,AD$13,$F41:$J41),\"\")","v":{"$error":"#REF!"}},{"$f":"IF(AND(LEN($D41)>0,SUMIF($F$13:$J$13,AE$13,$F41:$J41)>0,marzo!#REF!<>\"X\",marzo!#REF!<>\"L\",marzo!#REF!<>\"J\",marzo!#REF!<>\"V\",marzo!#REF!<>\"F\",marzo!#REF!<>\"\"),SUMIF($F$13:$J$13,AE$13,$F41:$J41),\"\")","v":{"$error":"#REF!"}},{"$f":"IF(AND(LEN($D41)>0,SUMIF($F$13:$J$13,AF$13,$F41:$J41)>0,marzo!#REF!<>\"X\",marzo!#REF!<>\"L\",marzo!#REF!<>\"J\",marzo!#REF!<>\"V\",marzo!#REF!<>\"F\",marzo!#REF!<>\"\"),SUMIF($F$13:$J$13,AF$13,$F41:$J41),\"\")","v":{"$error":"#REF!"}},{"$f":"IF(AND(LEN($D41)>0,SUMIF($F$13:$J$13,AG$13,$F41:$J41)>0,marzo!#REF!<>\"X\",marzo!#REF!<>\"L\",marzo!#REF!<>\"J\",marzo!#REF!<>\"V\",marzo!#REF!<>\"F\",marzo!#REF!<>\"\"),SUMIF($F$13:$J$13,AG$13,$F41:$J41),\"\")","v":{"$error":"#REF!"}},{"$f":"IF(AND(LEN($D41)>0,SUMIF($F$13:$J$13,AH$13,$F41:$J41)>0,marzo!#REF!<>\"X\",marzo!#REF!<>\"L\",marzo!#REF!<>\"J\",marzo!#REF!<>\"V\",marzo!#REF!<>\"F\",marzo!#REF!<>\"\"),SUMIF($F$13:$J$13,AH$13,$F41:$J41),\"\")","v":{"$error":"#REF!"}},{"$f":"IF(AND(LEN($D41)>0,SUMIF($F$13:$J$13,AI$13,$F41:$J41)>0,marzo!#REF!<>\"X\",marzo!#REF!<>\"L\",marzo!#REF!<>\"J\",marzo!#REF!<>\"V\",marzo!#REF!<>\"F\",marzo!#REF!<>\"\"),SUMIF($F$13:$J$13,AI$13,$F41:$J41),\"\")","v":{"$error":"#REF!"}},{"$f":"IF(AND(LEN($D41)>0,SUMIF($F$13:$J$13,AJ$13,$F41:$J41)>0,marzo!#REF!<>\"X\",marzo!#REF!<>\"L\",marzo!#REF!<>\"J\",marzo!#REF!<>\"V\",marzo!#REF!<>\"F\",marzo!#REF!<>\"\"),SUMIF($F$13:$J$13,AJ$13,$F41:$J41),\"\")","v":{"$error":"#REF!"}},{"$f":"IF(AND(LEN($D41)>0,SUMIF($F$13:$J$13,AK$13,$F41:$J41)>0,marzo!#REF!<>\"X\",marzo!#REF!<>\"L\",marzo!#REF!<>\"J\",marzo!#REF!<>\"V\",marzo!#REF!<>\"F\",marzo!#REF!<>\"\"),SUMIF($F$13:$J$13,AK$13,$F41:$J41),\"\")","v":{"$error":"#REF!"}},{"$f":"IF(AND(LEN($D41)>0,SUMIF($F$13:$J$13,AL$13,$F41:$J41)>0,marzo!#REF!<>\"X\",marzo!#REF!<>\"L\",marzo!#REF!<>\"J\",marzo!#REF!<>\"V\",marzo!#REF!<>\"F\",marzo!#REF!<>\"\"),SUMIF($F$13:$J$13,AL$13,$F41:$J41),\"\")","v":{"$error":"#REF!"}},{"$f":"IF(AND(LEN($D41)>0,SUMIF($F$13:$J$13,AM$13,$F41:$J41)>0,marzo!#REF!<>\"X\",marzo!#REF!<>\"L\",marzo!#REF!<>\"J\",marzo!#REF!<>\"V\",marzo!#REF!<>\"F\",marzo!#REF!<>\"\"),SUMIF($F$13:$J$13,AM$13,$F41:$J41),\"\")","v":{"$error":"#REF!"}},{"$f":"IF(AND(LEN($D41)>0,SUMIF($F$13:$J$13,AN$13,$F41:$J41)>0,marzo!#REF!<>\"X\",marzo!#REF!<>\"L\",marzo!#REF!<>\"J\",marzo!#REF!<>\"V\",marzo!#REF!<>\"F\",marzo!#REF!<>\"\"),SUMIF($F$13:$J$13,AN$13,$F41:$J41),\"\")","v":{"$error":"#REF!"}},{"$f":"IF(AND(LEN($D41)>0,SUMIF($F$13:$J$13,AO$13,$F41:$J41)>0,marzo!#REF!<>\"X\",marzo!#REF!<>\"L\",marzo!#REF!<>\"J\",marzo!#REF!<>\"V\",marzo!#REF!<>\"F\",marzo!#REF!<>\"\"),SUMIF($F$13:$J$13,AO$13,$F41:$J41),\"\")","v":{"$error":"#REF!"}},{"$f":"IF(AND(LEN($D41)>0,SUMIF($F$13:$J$13,AP$13,$F41:$J41)>0,marzo!#REF!<>\"X\",marzo!#REF!<>\"L\",marzo!#REF!<>\"J\",marzo!#REF!<>\"V\",marzo!#REF!<>\"F\",marzo!#REF!<>\"\"),SUMIF($F$13:$J$13,AP$13,$F41:$J41),\"\")","v":{"$error":"#REF!"}},{"$f":"IF(AND(LEN($D41)>0,SUMIF($F$13:$J$13,AQ$13,$F41:$J41)>0,marzo!#REF!<>\"X\",marzo!#REF!<>\"L\",marzo!#REF!<>\"J\",marzo!#REF!<>\"V\",marzo!#REF!<>\"F\",marzo!#REF!<>\"\"),SUMIF($F$13:$J$13,AQ$13,$F41:$J41),\"\")","v":{"$error":"#REF!"}},{"$f":"IF(AND(LEN($D41)>0,SUMIF($F$13:$J$13,AR$13,$F41:$J41)>0,marzo!#REF!<>\"X\",marzo!#REF!<>\"L\",marzo!#REF!<>\"J\",marzo!#REF!<>\"V\",marzo!#REF!<>\"F\",marzo!#REF!<>\"\"),SUMIF($F$13:$J$13,AR$13,$F41:$J41),\"\")","v":{"$error":"#REF!"}},{"$f":"IF(AND(LEN($D41)>0,SUMIF($F$13:$J$13,AS$13,$F41:$J41)>0,marzo!#REF!<>\"X\",marzo!#REF!<>\"L\",marzo!#REF!<>\"J\",marzo!#REF!<>\"V\",marzo!#REF!<>\"F\",marzo!#REF!<>\"\"),SUMIF($F$13:$J$13,AS$13,$F41:$J41),\"\")","v":{"$error":"#REF!"}},{"$error":"#REF!"},null,null,null,{"$f":"IF(AND(LEN($D41)>0,SUMIF($F$13:$J$13,AX$13,$F41:$J41)>0,marzo!#REF!<>\"X\",marzo!#REF!<>\"L\",marzo!#REF!<>\"J\",marzo!#REF!<>\"F\"),SUMIF($F$13:$J$13,AX$13,$F41:$J41),\"\")","v":{"$error":"#REF!"}},{"$f":"IF(AND(LEN($D41)>0,SUMIF($F$13:$J$13,AY$13,$F41:$J41)>0,marzo!#REF!<>\"X\",marzo!#REF!<>\"L\",marzo!#REF!<>\"J\",marzo!#REF!<>\"F\"),SUMIF($F$13:$J$13,AY$13,$F41:$J41),\"\")","v":{"$error":"#REF!"}},{"$f":"IF(AND(LEN($D41)>0,SUMIF($F$13:$J$13,AZ$13,$F41:$J41)>0,marzo!#REF!<>\"X\",marzo!#REF!<>\"L\",marzo!#REF!<>\"J\",marzo!#REF!<>\"F\"),SUMIF($F$13:$J$13,AZ$13,$F41:$J41),\"\")","v":{"$error":"#REF!"}},{"$f":"IF(AND(LEN($D41)>0,SUMIF($F$13:$J$13,BA$13,$F41:$J41)>0,marzo!#REF!<>\"X\",marzo!#REF!<>\"L\",marzo!#REF!<>\"J\",marzo!#REF!<>\"F\"),SUMIF($F$13:$J$13,BA$13,$F41:$J41),\"\")","v":{"$error":"#REF!"}},{"$f":"IF(AND(LEN($D41)>0,SUMIF($F$13:$J$13,BB$13,$F41:$J41)>0,marzo!#REF!<>\"X\",marzo!#REF!<>\"L\",marzo!#REF!<>\"J\",marzo!#REF!<>\"F\"),SUMIF($F$13:$J$13,BB$13,$F41:$J41),\"\")","v":{"$error":"#REF!"}},{"$f":"IF(AND(LEN($D41)>0,SUMIF($F$13:$J$13,BC$13,$F41:$J41)>0,marzo!#REF!<>\"X\",marzo!#REF!<>\"L\",marzo!#REF!<>\"J\",marzo!#REF!<>\"F\"),SUMIF($F$13:$J$13,BC$13,$F41:$J41),\"\")","v":{"$error":"#REF!"}},{"$f":"IF(AND(LEN($D41)>0,SUMIF($F$13:$J$13,BD$13,$F41:$J41)>0,marzo!#REF!<>\"X\",marzo!#REF!<>\"L\",marzo!#REF!<>\"J\",marzo!#REF!<>\"F\"),SUMIF($F$13:$J$13,BD$13,$F41:$J41),\"\")","v":{"$error":"#REF!"}},{"$f":"IF(AND(LEN($D41)>0,SUMIF($F$13:$J$13,BE$13,$F41:$J41)>0,marzo!#REF!<>\"X\",marzo!#REF!<>\"L\",marzo!#REF!<>\"J\",marzo!#REF!<>\"F\"),SUMIF($F$13:$J$13,BE$13,$F41:$J41),\"\")","v":{"$error":"#REF!"}},{"$f":"IF(AND(LEN($D41)>0,SUMIF($F$13:$J$13,BF$13,$F41:$J41)>0,marzo!#REF!<>\"X\",marzo!#REF!<>\"L\",marzo!#REF!<>\"J\",marzo!#REF!<>\"F\"),SUMIF($F$13:$J$13,BF$13,$F41:$J41),\"\")","v":{"$error":"#REF!"}},{"$f":"IF(AND(LEN($D41)>0,SUMIF($F$13:$J$13,BG$13,$F41:$J41)>0,marzo!#REF!<>\"X\",marzo!#REF!<>\"L\",marzo!#REF!<>\"J\",marzo!#REF!<>\"F\"),SUMIF($F$13:$J$13,BG$13,$F41:$J41),\"\")","v":{"$error":"#REF!"}},{"$f":"IF(AND(LEN($D41)>0,SUMIF($F$13:$J$13,BH$13,$F41:$J41)>0,marzo!#REF!<>\"X\",marzo!#REF!<>\"L\",marzo!#REF!<>\"J\",marzo!#REF!<>\"F\"),SUMIF($F$13:$J$13,BH$13,$F41:$J41),\"\")","v":{"$error":"#REF!"}},{"$f":"IF(AND(LEN($D41)>0,SUMIF($F$13:$J$13,BI$13,$F41:$J41)>0,marzo!#REF!<>\"X\",marzo!#REF!<>\"L\",marzo!#REF!<>\"J\",marzo!#REF!<>\"F\"),SUMIF($F$13:$J$13,BI$13,$F41:$J41),\"\")","v":{"$error":"#REF!"}},{"$f":"IF(AND(LEN($D41)>0,SUMIF($F$13:$J$13,BJ$13,$F41:$J41)>0,marzo!#REF!<>\"X\",marzo!#REF!<>\"L\",marzo!#REF!<>\"J\",marzo!#REF!<>\"F\"),SUMIF($F$13:$J$13,BJ$13,$F41:$J41),\"\")","v":{"$error":"#REF!"}},{"$f":"IF(AND(LEN($D41)>0,SUMIF($F$13:$J$13,BK$13,$F41:$J41)>0,marzo!#REF!<>\"X\",marzo!#REF!<>\"L\",marzo!#REF!<>\"J\",marzo!#REF!<>\"F\"),SUMIF($F$13:$J$13,BK$13,$F41:$J41),\"\")","v":{"$error":"#REF!"}},{"$f":"IF(AND(LEN($D41)>0,SUMIF($F$13:$J$13,BL$13,$F41:$J41)>0,marzo!#REF!<>\"X\",marzo!#REF!<>\"L\",marzo!#REF!<>\"J\",marzo!#REF!<>\"F\"),SUMIF($F$13:$J$13,BL$13,$F41:$J41),\"\")","v":{"$error":"#REF!"}},{"$f":"IF(AND(LEN($D41)>0,SUMIF($F$13:$J$13,BM$13,$F41:$J41)>0,marzo!#REF!<>\"X\",marzo!#REF!<>\"L\",marzo!#REF!<>\"J\",marzo!#REF!<>\"F\"),SUMIF($F$13:$J$13,BM$13,$F41:$J41),\"\")","v":{"$error":"#REF!"}},{"$f":"IF(AND(LEN($D41)>0,SUMIF($F$13:$J$13,BN$13,$F41:$J41)>0,marzo!#REF!<>\"X\",marzo!#REF!<>\"L\",marzo!#REF!<>\"J\",marzo!#REF!<>\"F\"),SUMIF($F$13:$J$13,BN$13,$F41:$J41),\"\")","v":{"$error":"#REF!"}},{"$f":"IF(AND(LEN($D41)>0,SUMIF($F$13:$J$13,BO$13,$F41:$J41)>0,marzo!#REF!<>\"X\",marzo!#REF!<>\"L\",marzo!#REF!<>\"J\",marzo!#REF!<>\"F\"),SUMIF($F$13:$J$13,BO$13,$F41:$J41),\"\")","v":{"$error":"#REF!"}},{"$f":"IF(AND(LEN($D41)>0,SUMIF($F$13:$J$13,BP$13,$F41:$J41)>0,marzo!#REF!<>\"X\",marzo!#REF!<>\"L\",marzo!#REF!<>\"J\",marzo!#REF!<>\"F\"),SUMIF($F$13:$J$13,BP$13,$F41:$J41),\"\")","v":{"$error":"#REF!"}},{"$f":"IF(AND(LEN($D41)>0,SUMIF($F$13:$J$13,BQ$13,$F41:$J41)>0,marzo!#REF!<>\"X\",marzo!#REF!<>\"L\",marzo!#REF!<>\"J\",marzo!#REF!<>\"F\"),SUMIF($F$13:$J$13,BQ$13,$F41:$J41),\"\")","v":{"$error":"#REF!"}},{"$f":"IF(AND(LEN($D41)>0,SUMIF($F$13:$J$13,BR$13,$F41:$J41)>0,marzo!#REF!<>\"X\",marzo!#REF!<>\"L\",marzo!#REF!<>\"J\",marzo!#REF!<>\"F\"),SUMIF($F$13:$J$13,BR$13,$F41:$J41),\"\")","v":{"$error":"#REF!"}},{"$f":"IF(AND(LEN($D41)>0,SUMIF($F$13:$J$13,BS$13,$F41:$J41)>0,marzo!#REF!<>\"X\",marzo!#REF!<>\"L\",marzo!#REF!<>\"J\",marzo!#REF!<>\"F\"),SUMIF($F$13:$J$13,BS$13,$F41:$J41),\"\")","v":{"$error":"#REF!"}},{"$f":"IF(AND(LEN($D41)>0,SUMIF($F$13:$J$13,BT$13,$F41:$J41)>0,marzo!#REF!<>\"X\",marzo!#REF!<>\"L\",marzo!#REF!<>\"J\",marzo!#REF!<>\"F\"),SUMIF($F$13:$J$13,BT$13,$F41:$J41),\"\")","v":{"$error":"#REF!"}},{"$f":"IF(AND(LEN($D41)>0,SUMIF($F$13:$J$13,BU$13,$F41:$J41)>0,marzo!#REF!<>\"X\",marzo!#REF!<>\"L\",marzo!#REF!<>\"J\",marzo!#REF!<>\"F\"),SUMIF($F$13:$J$13,BU$13,$F41:$J41),\"\")","v":{"$error":"#REF!"}},{"$f":"IF(AND(LEN($D41)>0,SUMIF($F$13:$J$13,BV$13,$F41:$J41)>0,marzo!#REF!<>\"X\",marzo!#REF!<>\"L\",marzo!#REF!<>\"J\",marzo!#REF!<>\"F\"),SUMIF($F$13:$J$13,BV$13,$F41:$J41),\"\")","v":{"$error":"#REF!"}},{"$f":"IF(AND(LEN($D41)>0,SUMIF($F$13:$J$13,BW$13,$F41:$J41)>0,marzo!#REF!<>\"X\",marzo!#REF!<>\"L\",marzo!#REF!<>\"J\",marzo!#REF!<>\"F\"),SUMIF($F$13:$J$13,BW$13,$F41:$J41),\"\")","v":{"$error":"#REF!"}},{"$f":"IF(AND(LEN($D41)>0,SUMIF($F$13:$J$13,BX$13,$F41:$J41)>0,marzo!#REF!<>\"X\",marzo!#REF!<>\"L\",marzo!#REF!<>\"J\",marzo!#REF!<>\"F\"),SUMIF($F$13:$J$13,BX$13,$F41:$J41),\"\")","v":{"$error":"#REF!"}},{"$f":"IF(AND(LEN($D41)>0,SUMIF($F$13:$J$13,BY$13,$F41:$J41)>0,marzo!#REF!<>\"X\",marzo!#REF!<>\"L\",marzo!#REF!<>\"J\",marzo!#REF!<>\"F\"),SUMIF($F$13:$J$13,BY$13,$F41:$J41),\"\")","v":{"$error":"#REF!"}},{"$f":"IF(AND(LEN($D41)>0,SUMIF($F$13:$J$13,BZ$13,$F41:$J41)>0,marzo!#REF!<>\"X\",marzo!#REF!<>\"L\",marzo!#REF!<>\"J\",marzo!#REF!<>\"F\"),SUMIF($F$13:$J$13,BZ$13,$F41:$J41),\"\")","v":{"$error":"#REF!"}},{"$f":"IF(AND(LEN($D41)>0,SUMIF($F$13:$J$13,CA$13,$F41:$J41)>0,marzo!#REF!<>\"X\",marzo!#REF!<>\"L\",marzo!#REF!<>\"J\",marzo!#REF!<>\"F\"),SUMIF($F$13:$J$13,CA$13,$F41:$J41),\"\")","v":{"$error":"#REF!"}},{"$f":"IF(AND(LEN($D41)>0,SUMIF($F$13:$J$13,CB$13,$F41:$J41)>0,marzo!#REF!<>\"X\",marzo!#REF!<>\"L\",marzo!#REF!<>\"J\",marzo!#REF!<>\"F\"),SUMIF($F$13:$J$13,CB$13,$F41:$J41),\"\")","v":{"$error":"#REF!"}},{"$error":"#REF!"}]
[{"$error":"#REF!"},{"$f":"IF(LEN(C42)>0,VLOOKUP($O$4,DATA!$A$1:$S$1,2,FALSE),\"\")","v":{"$error":"#REF!"}},{"$error":"#REF!"},{"$f":"IF(LEN(marzo!#REF!)>0,marzo!#REF!,\"\")","v":{"$error":"#REF!"}},{"$f":"IF(LEN(D42)>0,marzo!#REF!,\"\")","v":{"$error":"#REF!"}},null,null,null,null,null,"",null,null,{"$error":"#REF!"},{"$f":"IF(AND(LEN($D42)>0,SUMIF($F$13:$J$13,O$13,$F42:$J42)>0,marzo!#REF!<>\"X\",marzo!#REF!<>\"L\",marzo!#REF!<>\"J\",marzo!#REF!<>\"V\",marzo!#REF!<>\"F\",marzo!#REF!<>\"\"),SUMIF($F$13:$J$13,O$13,$F42:$J42),\"\")","v":{"$error":"#REF!"}},{"$f":"IF(AND(LEN($D42)>0,SUMIF($F$13:$J$13,P$13,$F42:$J42)>0,marzo!#REF!<>\"X\",marzo!#REF!<>\"L\",marzo!#REF!<>\"J\",marzo!#REF!<>\"V\",marzo!#REF!<>\"F\",marzo!#REF!<>\"\"),SUMIF($F$13:$J$13,P$13,$F42:$J42),\"\")","v":{"$error":"#REF!"}},{"$f":"IF(AND(LEN($D42)>0,SUMIF($F$13:$J$13,Q$13,$F42:$J42)>0,marzo!#REF!<>\"X\",marzo!#REF!<>\"L\",marzo!#REF!<>\"J\",marzo!#REF!<>\"V\",marzo!#REF!<>\"F\",marzo!#REF!<>\"\"),SUMIF($F$13:$J$13,Q$13,$F42:$J42),\"\")","v":{"$error":"#REF!"}},{"$f":"IF(AND(LEN($D42)>0,SUMIF($F$13:$J$13,R$13,$F42:$J42)>0,marzo!#REF!<>\"X\",marzo!#REF!<>\"L\",marzo!#REF!<>\"J\",marzo!#REF!<>\"V\",marzo!#REF!<>\"F\",marzo!#REF!<>\"\"),SUMIF($F$13:$J$13,R$13,$F42:$J42),\"\")","v":{"$error":"#REF!"}},{"$f":"IF(AND(LEN($D42)>0,SUMIF($F$13:$J$13,S$13,$F42:$J42)>0,marzo!#REF!<>\"X\",marzo!#REF!<>\"L\",marzo!#REF!<>\"J\",marzo!#REF!<>\"V\",marzo!#REF!<>\"F\",marzo!#REF!<>\"\"),SUMIF($F$13:$J$13,S$13,$F42:$J42),\"\")","v":{"$error":"#REF!"}},{"$f":"IF(AND(LEN($D42)>0,SUMIF($F$13:$J$13,T$13,$F42:$J42)>0,marzo!#REF!<>\"X\",marzo!#REF!<>\"L\",marzo!#REF!<>\"J\",marzo!#REF!<>\"V\",marzo!#REF!<>\"F\",marzo!#REF!<>\"\"),SUMIF($F$13:$J$13,T$13,$F42:$J42),\"\")","v":{"$error":"#REF!"}},{"$f":"IF(AND(LEN($D42)>0,SUMIF($F$13:$J$13,U$13,$F42:$J42)>0,marzo!#REF!<>\"X\",marzo!#REF!<>\"L\",marzo!#REF!<>\"J\",marzo!#REF!<>\"V\",marzo!#REF!<>\"F\",marzo!#REF!<>\"\"),SUMIF($F$13:$J$13,U$13,$F42:$J42),\"\")","v":{"$error":"#REF!"}},{"$f":"IF(AND(LEN($D42)>0,SUMIF($F$13:$J$13,V$13,$F42:$J42)>0,marzo!#REF!<>\"X\",marzo!#REF!<>\"L\",marzo!#REF!<>\"J\",marzo!#REF!<>\"V\",marzo!#REF!<>\"F\",marzo!#REF!<>\"\"),SUMIF($F$13:$J$13,V$13,$F42:$J42),\"\")","v":{"$error":"#REF!"}},{"$f":"IF(AND(LEN($D42)>0,SUMIF($F$13:$J$13,W$13,$F42:$J42)>0,marzo!#REF!<>\"X\",marzo!#REF!<>\"L\",marzo!#REF!<>\"J\",marzo!#REF!<>\"V\",marzo!#REF!<>\"F\",marzo!#REF!<>\"\"),SUMIF($F$13:$J$13,W$13,$F42:$J42),\"\")","v":{"$error":"#REF!"}},{"$f":"IF(AND(LEN($D42)>0,SUMIF($F$13:$J$13,X$13,$F42:$J42)>0,marzo!#REF!<>\"X\",marzo!#REF!<>\"L\",marzo!#REF!<>\"J\",marzo!#REF!<>\"V\",marzo!#REF!<>\"F\",marzo!#REF!<>\"\"),SUMIF($F$13:$J$13,X$13,$F42:$J42),\"\")","v":{"$error":"#REF!"}},{"$f":"IF(AND(LEN($D42)>0,SUMIF($F$13:$J$13,Y$13,$F42:$J42)>0,marzo!#REF!<>\"X\",marzo!#REF!<>\"L\",marzo!#REF!<>\"J\",marzo!#REF!<>\"V\",marzo!#REF!<>\"F\",marzo!#REF!<>\"\"),SUMIF($F$13:$J$13,Y$13,$F42:$J42),\"\")","v":{"$error":"#REF!"}},{"$f":"IF(AND(LEN($D42)>0,SUMIF($F$13:$J$13,Z$13,$F42:$J42)>0,marzo!#REF!<>\"X\",marzo!#REF!<>\"L\",marzo!#REF!<>\"J\",marzo!#REF!<>\"V\",marzo!#REF!<>\"F\",marzo!#REF!<>\"\"),SUMIF($F$13:$J$13,Z$13,$F42:$J42),\"\")","v":{"$error":"#REF!"}},{"$f":"IF(AND(LEN($D42)>0,SUMIF($F$13:$J$13,AA$13,$F42:$J42)>0,marzo!#REF!<>\"X\",marzo!#REF!<>\"L\",marzo!#REF!<>\"J\",marzo!#REF!<>\"V\",marzo!#REF!<>\"F\",marzo!#REF!<>\"\"),SUMIF($F$13:$J$13,AA$13,$F42:$J42),\"\")","v":{"$error":"#REF!"}},{"$f":"IF(AND(LEN($D42)>0,SUMIF($F$13:$J$13,AB$13,$F42:$J42)>0,marzo!#REF!<>\"X\",marzo!#REF!<>\"L\",marzo!#REF!<>\"J\",marzo!#REF!<>\"V\",marzo!#REF!<>\"F\",marzo!#REF!<>\"\"),SUMIF($F$13:$J$13,AB$13,$F42:$J42),\"\")","v":{"$error":"#REF!"}},{"$f":"IF(AND(LEN($D42)>0,SUMIF($F$13:$J$13,AC$13,$F42:$J42)>0,marzo!#REF!<>\"X\",marzo!#REF!<>\"L\",marzo!#REF!<>\"J\",marzo!#REF!<>\"V\",marzo!#REF!<>\"F\",marzo!#REF!<>\"\"),SUMIF($F$13:$J$13,AC$13,$F42:$J42),\"\")","v":{"$error":"#REF!"}},{"$f":"IF(AND(LEN($D42)>0,SUMIF($F$13:$J$13,AD$13,$F42:$J42)>0,marzo!#REF!<>\"X\",marzo!#REF!<>\"L\",marzo!#REF!<>\"J\",marzo!#REF!<>\"V\",marzo!#REF!<>\"F\",marzo!#REF!<>\"\"),SUMIF($F$13:$J$13,AD$13,$F42:$J42),\"\")","v":{"$error":"#REF!"}},{"$f":"IF(AND(LEN($D42)>0,SUMIF($F$13:$J$13,AE$13,$F42:$J42)>0,marzo!#REF!<>\"X\",marzo!#REF!<>\"L\",marzo!#REF!<>\"J\",marzo!#REF!<>\"V\",marzo!#REF!<>\"F\",marzo!#REF!<>\"\"),SUMIF($F$13:$J$13,AE$13,$F42:$J42),\"\")","v":{"$error":"#REF!"}},{"$f":"IF(AND(LEN($D42)>0,SUMIF($F$13:$J$13,AF$13,$F42:$J42)>0,marzo!#REF!<>\"X\",marzo!#REF!<>\"L\",marzo!#REF!<>\"J\",marzo!#REF!<>\"V\",marzo!#REF!<>\"F\",marzo!#REF!<>\"\"),SUMIF($F$13:$J$13,AF$13,$F42:$J42),\"\")","v":{"$error":"#REF!"}},{"$f":"IF(AND(LEN($D42)>0,SUMIF($F$13:$J$13,AG$13,$F42:$J42)>0,marzo!#REF!<>\"X\",marzo!#REF!<>\"L\",marzo!#REF!<>\"J\",marzo!#REF!<>\"V\",marzo!#REF!<>\"F\",marzo!#REF!<>\"\"),SUMIF($F$13:$J$13,AG$13,$F42:$J42),\"\")","v":{"$error":"#REF!"}},{"$f":"IF(AND(LEN($D42)>0,SUMIF($F$13:$J$13,AH$13,$F42:$J42)>0,marzo!#REF!<>\"X\",marzo!#REF!<>\"L\",marzo!#REF!<>\"J\",marzo!#REF!<>\"V\",marzo!#REF!<>\"F\",marzo!#REF!<>\"\"),SUMIF($F$13:$J$13,AH$13,$F42:$J42),\"\")","v":{"$error":"#REF!"}},{"$f":"IF(AND(LEN($D42)>0,SUMIF($F$13:$J$13,AI$13,$F42:$J42)>0,marzo!#REF!<>\"X\",marzo!#REF!<>\"L\",marzo!#REF!<>\"J\",marzo!#REF!<>\"V\",marzo!#REF!<>\"F\",marzo!#REF!<>\"\"),SUMIF($F$13:$J$13,AI$13,$F42:$J42),\"\")","v":{"$error":"#REF!"}},{"$f":"IF(AND(LEN($D42)>0,SUMIF($F$13:$J$13,AJ$13,$F42:$J42)>0,marzo!#REF!<>\"X\",marzo!#REF!<>\"L\",marzo!#REF!<>\"J\",marzo!#REF!<>\"V\",marzo!#REF!<>\"F\",marzo!#REF!<>\"\"),SUMIF($F$13:$J$13,AJ$13,$F42:$J42),\"\")","v":{"$error":"#REF!"}},{"$f":"IF(AND(LEN($D42)>0,SUMIF($F$13:$J$13,AK$13,$F42:$J42)>0,marzo!#REF!<>\"X\",marzo!#REF!<>\"L\",marzo!#REF!<>\"J\",marzo!#REF!<>\"V\",marzo!#REF!<>\"F\",marzo!#REF!<>\"\"),SUMIF($F$13:$J$13,AK$13,$F42:$J42),\"\")","v":{"$error":"#REF!"}},{"$f":"IF(AND(LEN($D42)>0,SUMIF($F$13:$J$13,AL$13,$F42:$J42)>0,marzo!#REF!<>\"X\",marzo!#REF!<>\"L\",marzo!#REF!<>\"J\",marzo!#REF!<>\"V\",marzo!#REF!<>\"F\",marzo!#REF!<>\"\"),SUMIF($F$13:$J$13,AL$13,$F42:$J42),\"\")","v":{"$error":"#REF!"}},{"$f":"IF(AND(LEN($D42)>0,SUMIF($F$13:$J$13,AM$13,$F42:$J42)>0,marzo!#REF!<>\"X\",marzo!#REF!<>\"L\",marzo!#REF!<>\"J\",marzo!#REF!<>\"V\",marzo!#REF!<>\"F\",marzo!#REF!<>\"\"),SUMIF($F$13:$J$13,AM$13,$F42:$J42),\"\")","v":{"$error":"#REF!"}},{"$f":"IF(AND(LEN($D42)>0,SUMIF($F$13:$J$13,AN$13,$F42:$J42)>0,marzo!#REF!<>\"X\",marzo!#REF!<>\"L\",marzo!#REF!<>\"J\",marzo!#REF!<>\"V\",marzo!#REF!<>\"F\",marzo!#REF!<>\"\"),SUMIF($F$13:$J$13,AN$13,$F42:$J42),\"\")","v":{"$error":"#REF!"}},{"$f":"IF(AND(LEN($D42)>0,SUMIF($F$13:$J$13,AO$13,$F42:$J42)>0,marzo!#REF!<>\"X\",marzo!#REF!<>\"L\",marzo!#REF!<>\"J\",marzo!#REF!<>\"V\",marzo!#REF!<>\"F\",marzo!#REF!<>\"\"),SUMIF($F$13:$J$13,AO$13,$F42:$J42),\"\")","v":{"$error":"#REF!"}},{"$f":"IF(AND(LEN($D42)>0,SUMIF($F$13:$J$13,AP$13,$F42:$J42)>0,marzo!#REF!<>\"X\",marzo!#REF!<>\"L\",marzo!#REF!<>\"J\",marzo!#REF!<>\"V\",marzo!#REF!<>\"F\",marzo!#REF!<>\"\"),SUMIF($F$13:$J$13,AP$13,$F42:$J42),\"\")","v":{"$error":"#REF!"}},{"$f":"IF(AND(LEN($D42)>0,SUMIF($F$13:$J$13,AQ$13,$F42:$J42)>0,marzo!#REF!<>\"X\",marzo!#REF!<>\"L\",marzo!#REF!<>\"J\",marzo!#REF!<>\"V\",marzo!#REF!<>\"F\",marzo!#REF!<>\"\"),SUMIF($F$13:$J$13,AQ$13,$F42:$J42),\"\")","v":{"$error":"#REF!"}},{"$f":"IF(AND(LEN($D42)>0,SUMIF($F$13:$J$13,AR$13,$F42:$J42)>0,marzo!#REF!<>\"X\",marzo!#REF!<>\"L\",marzo!#REF!<>\"J\",marzo!#REF!<>\"V\",marzo!#REF!<>\"F\",marzo!#REF!<>\"\"),SUMIF($F$13:$J$13,AR$13,$F42:$J42),\"\")","v":{"$error":"#REF!"}},{"$f":"IF(AND(LEN($D42)>0,SUMIF($F$13:$J$13,AS$13,$F42:$J42)>0,marzo!#REF!<>\"X\",marzo!#REF!<>\"L\",marzo!#REF!<>\"J\",marzo!#REF!<>\"V\",marzo!#REF!<>\"F\",marzo!#REF!<>\"\"),SUMIF($F$13:$J$13,AS$13,$F42:$J42),\"\")","v":{"$error":"#REF!"}},{"$error":"#REF!"},null,null,null,{"$f":"IF(AND(LEN($D42)>0,SUMIF($F$13:$J$13,AX$13,$F42:$J42)>0,marzo!#REF!<>\"X\",marzo!#REF!<>\"L\",marzo!#REF!<>\"J\",marzo!#REF!<>\"F\"),SUMIF($F$13:$J$13,AX$13,$F42:$J42),\"\")","v":{"$error":"#REF!"}},{"$f":"IF(AND(LEN($D42)>0,SUMIF($F$13:$J$13,AY$13,$F42:$J42)>0,marzo!#REF!<>\"X\",marzo!#REF!<>\"L\",marzo!#REF!<>\"J\",marzo!#REF!<>\"F\"),SUMIF($F$13:$J$13,AY$13,$F42:$J42),\"\")","v":{"$error":"#REF!"}},{"$f":"IF(AND(LEN($D42)>0,SUMIF($F$13:$J$13,AZ$13,$F42:$J42)>0,marzo!#REF!<>\"X\",marzo!#REF!<>\"L\",marzo!#REF!<>\"J\",marzo!#REF!<>\"F\"),SUMIF($F$13:$J$13,AZ$13,$F42:$J42),\"\")","v":{"$error":"#REF!"}},{"$f":"IF(AND(LEN($D42)>0,SUMIF($F$13:$J$13,BA$13,$F42:$J42)>0,marzo!#REF!<>\"X\",marzo!#REF!<>\"L\",marzo!#REF!<>\"J\",marzo!#REF!<>\"F\"),SUMIF($F$13:$J$13,BA$13,$F42:$J42),\"\")","v":{"$error":"#REF!"}},{"$f":"IF(AND(LEN($D42)>0,SUMIF($F$13:$J$13,BB$13,$F42:$J42)>0,marzo!#REF!<>\"X\",marzo!#REF!<>\"L\",marzo!#REF!<>\"J\",marzo!#REF!<>\"F\"),SUMIF($F$13:$J$13,BB$13,$F42:$J42),\"\")","v":{"$error":"#REF!"}},{"$f":"IF(AND(LEN($D42)>0,SUMIF($F$13:$J$13,BC$13,$F42:$J42)>0,marzo!#REF!<>\"X\",marzo!#REF!<>\"L\",marzo!#REF!<>\"J\",marzo!#REF!<>\"F\"),SUMIF($F$13:$J$13,BC$13,$F42:$J42),\"\")","v":{"$error":"#REF!"}},{"$f":"IF(AND(LEN($D42)>0,SUMIF($F$13:$J$13,BD$13,$F42:$J42)>0,marzo!#REF!<>\"X\",marzo!#REF!<>\"L\",marzo!#REF!<>\"J\",marzo!#REF!<>\"F\"),SUMIF($F$13:$J$13,BD$13,$F42:$J42),\"\")","v":{"$error":"#REF!"}},{"$f":"IF(AND(LEN($D42)>0,SUMIF($F$13:$J$13,BE$13,$F42:$J42)>0,marzo!#REF!<>\"X\",marzo!#REF!<>\"L\",marzo!#REF!<>\"J\",marzo!#REF!<>\"F\"),SUMIF($F$13:$J$13,BE$13,$F42:$J42),\"\")","v":{"$error":"#REF!"}},{"$f":"IF(AND(LEN($D42)>0,SUMIF($F$13:$J$13,BF$13,$F42:$J42)>0,marzo!#REF!<>\"X\",marzo!#REF!<>\"L\",marzo!#REF!<>\"J\",marzo!#REF!<>\"F\"),SUMIF($F$13:$J$13,BF$13,$F42:$J42),\"\")","v":{"$error":"#REF!"}},{"$f":"IF(AND(LEN($D42)>0,SUMIF($F$13:$J$13,BG$13,$F42:$J42)>0,marzo!#REF!<>\"X\",marzo!#REF!<>\"L\",marzo!#REF!<>\"J\",marzo!#REF!<>\"F\"),SUMIF($F$13:$J$13,BG$13,$F42:$J42),\"\")","v":{"$error":"#REF!"}},{"$f":"IF(AND(LEN($D42)>0,SUMIF($F$13:$J$13,BH$13,$F42:$J42)>0,marzo!#REF!<>\"X\",marzo!#REF!<>\"L\",marzo!#REF!<>\"J\",marzo!#REF!<>\"F\"),SUMIF($F$13:$J$13,BH$13,$F42:$J42),\"\")","v":{"$error":"#REF!"}},{"$f":"IF(AND(LEN($D42)>0,SUMIF($F$13:$J$13,BI$13,$F42:$J42)>0,marzo!#REF!<>\"X\",marzo!#REF!<>\"L\",marzo!#REF!<>\"J\",marzo!#REF!<>\"F\"),SUMIF($F$13:$J$13,BI$13,$F42:$J42),\"\")","v":{"$error":"#REF!"}},{"$f":"IF(AND(LEN($D42)>0,SUMIF($F$13:$J$13,BJ$13,$F42:$J42)>0,marzo!#REF!<>\"X\",marzo!#REF!<>\"L\",marzo!#REF!<>\"J\",marzo!#REF!<>\"F\"),SUMIF($F$13:$J$13,BJ$13,$F42:$J42),\"\")","v":{"$error":"#REF!"}},{"$f":"IF(AND(LEN($D42)>0,SUMIF($F$13:$J$13,BK$13,$F42:$J42)>0,marzo!#REF!<>\"X\",marzo!#REF!<>\"L\",marzo!#REF!<>\"J\",marzo!#REF!<>\"F\"),SUMIF($F$13:$J$13,BK$13,$F42:$J42),\"\")","v":{"$error":"#REF!"}},{"$f":"IF(AND(LEN($D42)>0,SUMIF($F$13:$J$13,BL$13,$F42:$J42)>0,marzo!#REF!<>\"X\",marzo!#REF!<>\"L\",marzo!#REF!<>\"J\",marzo!#REF!<>\"F\"),SUMIF($F$13:$J$13,BL$13,$F42:$J42),\"\")","v":{"$error":"#REF!"}},{"$f":"IF(AND(LEN($D42)>0,SUMIF($F$13:$J$13,BM$13,$F42:$J42)>0,marzo!#REF!<>\"X\",marzo!#REF!<>\"L\",marzo!#REF!<>\"J\",marzo!#REF!<>\"F\"),SUMIF($F$13:$J$13,BM$13,$F42:$J42),\"\")","v":{"$error":"#REF!"}},{"$f":"IF(AND(LEN($D42)>0,SUMIF($F$13:$J$13,BN$13,$F42:$J42)>0,marzo!#REF!<>\"X\",marzo!#REF!<>\"L\",marzo!#REF!<>\"J\",marzo!#REF!<>\"F\"),SUMIF($F$13:$J$13,BN$13,$F42:$J42),\"\")","v":{"$error":"#REF!"}},{"$f":"IF(AND(LEN($D42)>0,SUMIF($F$13:$J$13,BO$13,$F42:$J42)>0,marzo!#REF!<>\"X\",marzo!#REF!<>\"L\",marzo!#REF!<>\"J\",marzo!#REF!<>\"F\"),SUMIF($F$13:$J$13,BO$13,$F42:$J42),\"\")","v":{"$error":"#REF!"}},{"$f":"IF(AND(LEN($D42)>0,SUMIF($F$13:$J$13,BP$13,$F42:$J42)>0,marzo!#REF!<>\"X\",marzo!#REF!<>\"L\",marzo!#REF!<>\"J\",marzo!#REF!<>\"F\"),SUMIF($F$13:$J$13,BP$13,$F42:$J42),\"\")","v":{"$error":"#REF!"}},{"$f":"IF(AND(LEN($D42)>0,SUMIF($F$13:$J$13,BQ$13,$F42:$J42)>0,marzo!#REF!<>\"X\",marzo!#REF!<>\"L\",marzo!#REF!<>\"J\",marzo!#REF!<>\"F\"),SUMIF($F$13:$J$13,BQ$13,$F42:$J42),\"\")","v":{"$error":"#REF!"}},{"$f":"IF(AND(LEN($D42)>0,SUMIF($F$13:$J$13,BR$13,$F42:$J42)>0,marzo!#REF!<>\"X\",marzo!#REF!<>\"L\",marzo!#REF!<>\"J\",marzo!#REF!<>\"F\"),SUMIF($F$13:$J$13,BR$13,$F42:$J42),\"\")","v":{"$error":"#REF!"}},{"$f":"IF(AND(LEN($D42)>0,SUMIF($F$13:$J$13,BS$13,$F42:$J42)>0,marzo!#REF!<>\"X\",marzo!#REF!<>\"L\",marzo!#REF!<>\"J\",marzo!#REF!<>\"F\"),SUMIF($F$13:$J$13,BS$13,$F42:$J42),\"\")","v":{"$error":"#REF!"}},{"$f":"IF(AND(LEN($D42)>0,SUMIF($F$13:$J$13,BT$13,$F42:$J42)>0,marzo!#REF!<>\"X\",marzo!#REF!<>\"L\",marzo!#REF!<>\"J\",marzo!#REF!<>\"F\"),SUMIF($F$13:$J$13,BT$13,$F42:$J42),\"\")","v":{"$error":"#REF!"}},{"$f":"IF(AND(LEN($D42)>0,SUMIF($F$13:$J$13,BU$13,$F42:$J42)>0,marzo!#REF!<>\"X\",marzo!#REF!<>\"L\",marzo!#REF!<>\"J\",marzo!#REF!<>\"F\"),SUMIF($F$13:$J$13,BU$13,$F42:$J42),\"\")","v":{"$error":"#REF!"}},{"$f":"IF(AND(LEN($D42)>0,SUMIF($F$13:$J$13,BV$13,$F42:$J42)>0,marzo!#REF!<>\"X\",marzo!#REF!<>\"L\",marzo!#REF!<>\"J\",marzo!#REF!<>\"F\"),SUMIF($F$13:$J$13,BV$13,$F42:$J42),\"\")","v":{"$error":"#REF!"}},{"$f":"IF(AND(LEN($D42)>0,SUMIF($F$13:$J$13,BW$13,$F42:$J42)>0,marzo!#REF!<>\"X\",marzo!#REF!<>\"L\",marzo!#REF!<>\"J\",marzo!#REF!<>\"F\"),SUMIF($F$13:$J$13,BW$13,$F42:$J42),\"\")","v":{"$error":"#REF!"}},{"$f":"IF(AND(LEN($D42)>0,SUMIF($F$13:$J$13,BX$13,$F42:$J42)>0,marzo!#REF!<>\"X\",marzo!#REF!<>\"L\",marzo!#REF!<>\"J\",marzo!#REF!<>\"F\"),SUMIF($F$13:$J$13,BX$13,$F42:$J42),\"\")","v":{"$error":"#REF!"}},{"$f":"IF(AND(LEN($D42)>0,SUMIF($F$13:$J$13,BY$13,$F42:$J42)>0,marzo!#REF!<>\"X\",marzo!#REF!<>\"L\",marzo!#REF!<>\"J\",marzo!#REF!<>\"F\"),SUMIF($F$13:$J$13,BY$13,$F42:$J42),\"\")","v":{"$error":"#REF!"}},{"$f":"IF(AND(LEN($D42)>0,SUMIF($F$13:$J$13,BZ$13,$F42:$J42)>0,marzo!#REF!<>\"X\",marzo!#REF!<>\"L\",marzo!#REF!<>\"J\",marzo!#REF!<>\"F\"),SUMIF($F$13:$J$13,BZ$13,$F42:$J42),\"\")","v":{"$error":"#REF!"}},{"$f":"IF(AND(LEN($D42)>0,SUMIF($F$13:$J$13,CA$13,$F42:$J42)>0,marzo!#REF!<>\"X\",marzo!#REF!<>\"L\",marzo!#REF!<>\"J\",marzo!#REF!<>\"F\"),SUMIF($F$13:$J$13,CA$13,$F42:$J42),\"\")","v":{"$error":"#REF!"}},{"$f":"IF(AND(LEN($D42)>0,SUMIF($F$13:$J$13,CB$13,$F42:$J42)>0,marzo!#REF!<>\"X\",marzo!#REF!<>\"L\",marzo!#REF!<>\"J\",marzo!#REF!<>\"F\"),SUMIF($F$13:$J$13,CB$13,$F42:$J42),\"\")","v":{"$error":"#REF!"}},{"$error":"#REF!"}]
[{"$error":"#REF!"},{"$f":"IF(LEN(C43)>0,VLOOKUP($O$4,DATA!$A$1:$S$1,2,FALSE),\"\")","v":{"$error":"#REF!"}},{"$error":"#REF!"},{"$f":"IF(LEN(marzo!#REF!)>0,marzo!#REF!,\"\")","v":{"$error":"#REF!"}},{"$f":"IF(LEN(D43)>0,marzo!#REF!,\"\")","v":{"$error":"#REF!"}},null,null,null,null,null,"",null,null,{"$error":"#REF!"},{"$f":"IF(AND(LEN($D43)>0,SUMIF($F$13:$J$13,O$13,$F43:$J43)>0,marzo!#REF!<>\"X\",marzo!#REF!<>\"L\",marzo!#REF!<>\"J\",marzo!#REF!<>\"V\",marzo!#REF!<>\"F\",marzo!#REF!<>\"\"),SUMIF($F$13:$J$13,O$13,$F43:$J43),\"\")","v":{"$error":"#REF!"}},{"$f":"IF(AND(LEN($D43)>0,SUMIF($F$13:$J$13,P$13,$F43:$J43)>0,marzo!#REF!<>\"X\",marzo!#REF!<>\"L\",marzo!#REF!<>\"J\",marzo!#REF!<>\"V\",marzo!#REF!<>\"F\",marzo!#REF!<>\"\"),SUMIF($F$13:$J$13,P$13,$F43:$J43),\"\")","v":{"$error":"#REF!"}},{"$f":"IF(AND(LEN($D43)>0,SUMIF($F$13:$J$13,Q$13,$F43:$J43)>0,marzo!#REF!<>\"X\",marzo!#REF!<>\"L\",marzo!#REF!<>\"J\",marzo!#REF!<>\"V\",marzo!#REF!<>\"F\",marzo!#REF!<>\"\"),SUMIF($F$13:$J$13,Q$13,$F43:$J43),\"\")","v":{"$error":"#REF!"}},{"$f":"IF(AND(LEN($D43)>0,SUMIF($F$13:$J$13,R$13,$F43:$J43)>0,marzo!#REF!<>\"X\",marzo!#REF!<>\"L\",marzo!#REF!<>\"J\",marzo!#REF!<>\"V\",marzo!#REF!<>\"F\",marzo!#REF!<>\"\"),SUMIF($F$13:$J$13,R$13,$F43:$J43),\"\")","v":{"$error":"#REF!"}},{"$f":"IF(AND(LEN($D43)>0,SUMIF($F$13:$J$13,S$13,$F43:$J43)>0,marzo!#REF!<>\"X\",marzo!#REF!<>\"L\",marzo!#REF!<>\"J\",marzo!#REF!<>\"V\",marzo!#REF!<>\"F\",marzo!#REF!<>\"\"),SUMIF($F$13:$J$13,S$13,$F43:$J43),\"\")","v":{"$error":"#REF!"}},{"$f":"IF(AND(LEN($D43)>0,SUMIF($F$13:$J$13,T$13,$F43:$J43)>0,marzo!#REF!<>\"X\",marzo!#REF!<>\"L\",marzo!#REF!<>\"J\",marzo!#REF!<>\"V\",marzo!#REF!<>\"F\",marzo!#REF!<>\"\"),SUMIF($F$13:$J$13,T$13,$F43:$J43),\"\")","v":{"$error":"#REF!"}},{"$f":"IF(AND(LEN($D43)>0,SUMIF($F$13:$J$13,U$13,$F43:$J43)>0,marzo!#REF!<>\"X\",marzo!#REF!<>\"L\",marzo!#REF!<>\"J\",marzo!#REF!<>\"V\",marzo!#REF!<>\"F\",marzo!#REF!<>\"\"),SUMIF($F$13:$J$13,U$13,$F43:$J43),\"\")","v":{"$error":"#REF!"}},{"$f":"IF(AND(LEN($D43)>0,SUMIF($F$13:$J$13,V$13,$F43:$J43)>0,marzo!#REF!<>\"X\",marzo!#REF!<>\"L\",marzo!#REF!<>\"J\",marzo!#REF!<>\"V\",marzo!#REF!<>\"F\",marzo!#REF!<>\"\"),SUMIF($F$13:$J$13,V$13,$F43:$J43),\"\")","v":{"$error":"#REF!"}},{"$f":"IF(AND(LEN($D43)>0,SUMIF($F$13:$J$13,W$13,$F43:$J43)>0,marzo!#REF!<>\"X\",marzo!#REF!<>\"L\",marzo!#REF!<>\"J\",marzo!#REF!<>\"V\",marzo!#REF!<>\"F\",marzo!#REF!<>\"\"),SUMIF($F$13:$J$13,W$13,$F43:$J43),\"\")","v":{"$error":"#REF!"}},{"$f":"IF(AND(LEN($D43)>0,SUMIF($F$13:$J$13,X$13,$F43:$J43)>0,marzo!#REF!<>\"X\",marzo!#REF!<>\"L\",marzo!#REF!<>\"J\",marzo!#REF!<>\"V\",marzo!#REF!<>\"F\",marzo!#REF!<>\"\"),SUMIF($F$13:$J$13,X$13,$F43:$J43),\"\")","v":{"$error":"#REF!"}},{"$f":"IF(AND(LEN($D43)>0,SUMIF($F$13:$J$13,Y$13,$F43:$J43)>0,marzo!#REF!<>\"X\",marzo!#REF!<>\"L\",marzo!#REF!<>\"J\",marzo!#REF!<>\"V\",marzo!#REF!<>\"F\",marzo!#REF!<>\"\"),SUMIF($F$13:$J$13,Y$13,$F43:$J43),\"\")","v":{"$error":"#REF!"}},{"$f":"IF(AND(LEN($D43)>0,SUMIF($F$13:$J$13,Z$13,$F43:$J43)>0,marzo!#REF!<>\"X\",marzo!#REF!<>\"L\",marzo!#REF!<>\"J\",marzo!#REF!<>\"V\",marzo!#REF!<>\"F\",marzo!#REF!<>\"\"),SUMIF($F$13:$J$13,Z$13,$F43:$J43),\"\")","v":{"$error":"#REF!"}},{"$f":"IF(AND(LEN($D43)>0,SUMIF($F$13:$J$13,AA$13,$F43:$J43)>0,marzo!#REF!<>\"X\",marzo!#REF!<>\"L\",marzo!#REF!<>\"J\",marzo!#REF!<>\"V\",marzo!#REF!<>\"F\",marzo!#REF!<>\"\"),SUMIF($F$13:$J$13,AA$13,$F43:$J43),\"\")","v":{"$error":"#REF!"}},{"$f":"IF(AND(LEN($D43)>0,SUMIF($F$13:$J$13,AB$13,$F43:$J43)>0,marzo!#REF!<>\"X\",marzo!#REF!<>\"L\",marzo!#REF!<>\"J\",marzo!#REF!<>\"V\",marzo!#REF!<>\"F\",marzo!#REF!<>\"\"),SUMIF($F$13:$J$13,AB$13,$F43:$J43),\"\")","v":{"$error":"#REF!"}},{"$f":"IF(AND(LEN($D43)>0,SUMIF($F$13:$J$13,AC$13,$F43:$J43)>0,marzo!#REF!<>\"X\",marzo!#REF!<>\"L\",marzo!#REF!<>\"J\",marzo!#REF!<>\"V\",marzo!#REF!<>\"F\",marzo!#REF!<>\"\"),SUMIF($F$13:$J$13,AC$13,$F43:$J43),\"\")","v":{"$error":"#REF!"}},{"$f":"IF(AND(LEN($D43)>0,SUMIF($F$13:$J$13,AD$13,$F43:$J43)>0,marzo!#REF!<>\"X\",marzo!#REF!<>\"L\",marzo!#REF!<>\"J\",marzo!#REF!<>\"V\",marzo!#REF!<>\"F\",marzo!#REF!<>\"\"),SUMIF($F$13:$J$13,AD$13,$F43:$J43),\"\")","v":{"$error":"#REF!"}},{"$f":"IF(AND(LEN($D43)>0,SUMIF($F$13:$J$13,AE$13,$F43:$J43)>0,marzo!#REF!<>\"X\",marzo!#REF!<>\"L\",marzo!#REF!<>\"J\",marzo!#REF!<>\"V\",marzo!#REF!<>\"F\",marzo!#REF!<>\"\"),SUMIF($F$13:$J$13,AE$13,$F43:$J43),\"\")","v":{"$error":"#REF!"}},{"$f":"IF(AND(LEN($D43)>0,SUMIF($F$13:$J$13,AF$13,$F43:$J43)>0,marzo!#REF!<>\"X\",marzo!#REF!<>\"L\",marzo!#REF!<>\"J\",marzo!#REF!<>\"V\",marzo!#REF!<>\"F\",marzo!#REF!<>\"\"),SUMIF($F$13:$J$13,AF$13,$F43:$J43),\"\")","v":{"$error":"#REF!"}},{"$f":"IF(AND(LEN($D43)>0,SUMIF($F$13:$J$13,AG$13,$F43:$J43)>0,marzo!#REF!<>\"X\",marzo!#REF!<>\"L\",marzo!#REF!<>\"J\",marzo!#REF!<>\"V\",marzo!#REF!<>\"F\",marzo!#REF!<>\"\"),SUMIF($F$13:$J$13,AG$13,$F43:$J43),\"\")","v":{"$error":"#REF!"}},{"$f":"IF(AND(LEN($D43)>0,SUMIF($F$13:$J$13,AH$13,$F43:$J43)>0,marzo!#REF!<>\"X\",marzo!#REF!<>\"L\",marzo!#REF!<>\"J\",marzo!#REF!<>\"V\",marzo!#REF!<>\"F\",marzo!#REF!<>\"\"),SUMIF($F$13:$J$13,AH$13,$F43:$J43),\"\")","v":{"$error":"#REF!"}},{"$f":"IF(AND(LEN($D43)>0,SUMIF($F$13:$J$13,AI$13,$F43:$J43)>0,marzo!#REF!<>\"X\",marzo!#REF!<>\"L\",marzo!#REF!<>\"J\",marzo!#REF!<>\"V\",marzo!#REF!<>\"F\",marzo!#REF!<>\"\"),SUMIF($F$13:$J$13,AI$13,$F43:$J43),\"\")","v":{"$error":"#REF!"}},{"$f":"IF(AND(LEN($D43)>0,SUMIF($F$13:$J$13,AJ$13,$F43:$J43)>0,marzo!#REF!<>\"X\",marzo!#REF!<>\"L\",marzo!#REF!<>\"J\",marzo!#REF!<>\"V\",marzo!#REF!<>\"F\",marzo!#REF!<>\"\"),SUMIF($F$13:$J$13,AJ$13,$F43:$J43),\"\")","v":{"$error":"#REF!"}},{"$f":"IF(AND(LEN($D43)>0,SUMIF($F$13:$J$13,AK$13,$F43:$J43)>0,marzo!#REF!<>\"X\",marzo!#REF!<>\"L\",marzo!#REF!<>\"J\",marzo!#REF!<>\"V\",marzo!#REF!<>\"F\",marzo!#REF!<>\"\"),SUMIF($F$13:$J$13,AK$13,$F43:$J43),\"\")","v":{"$error":"#REF!"}},{"$f":"IF(AND(LEN($D43)>0,SUMIF($F$13:$J$13,AL$13,$F43:$J43)>0,marzo!#REF!<>\"X\",marzo!#REF!<>\"L\",marzo!#REF!<>\"J\",marzo!#REF!<>\"V\",marzo!#REF!<>\"F\",marzo!#REF!<>\"\"),SUMIF($F$13:$J$13,AL$13,$F43:$J43),\"\")","v":{"$error":"#REF!"}},{"$f":"IF(AND(LEN($D43)>0,SUMIF($F$13:$J$13,AM$13,$F43:$J43)>0,marzo!#REF!<>\"X\",marzo!#REF!<>\"L\",marzo!#REF!<>\"J\",marzo!#REF!<>\"V\",marzo!#REF!<>\"F\",marzo!#REF!<>\"\"),SUMIF($F$13:$J$13,AM$13,$F43:$J43),\"\")","v":{"$error":"#REF!"}},{"$f":"IF(AND(LEN($D43)>0,SUMIF($F$13:$J$13,AN$13,$F43:$J43)>0,marzo!#REF!<>\"X\",marzo!#REF!<>\"L\",marzo!#REF!<>\"J\",marzo!#REF!<>\"V\",marzo!#REF!<>\"F\",marzo!#REF!<>\"\"),SUMIF($F$13:$J$13,AN$13,$F43:$J43),\"\")","v":{"$error":"#REF!"}},{"$f":"IF(AND(LEN($D43)>0,SUMIF($F$13:$J$13,AO$13,$F43:$J43)>0,marzo!#REF!<>\"X\",marzo!#REF!<>\"L\",marzo!#REF!<>\"J\",marzo!#REF!<>\"V\",marzo!#REF!<>\"F\",marzo!#REF!<>\"\"),SUMIF($F$13:$J$13,AO$13,$F43:$J43),\"\")","v":{"$error":"#REF!"}},{"$f":"IF(AND(LEN($D43)>0,SUMIF($F$13:$J$13,AP$13,$F43:$J43)>0,marzo!#REF!<>\"X\",marzo!#REF!<>\"L\",marzo!#REF!<>\"J\",marzo!#REF!<>\"V\",marzo!#REF!<>\"F\",marzo!#REF!<>\"\"),SUMIF($F$13:$J$13,AP$13,$F43:$J43),\"\")","v":{"$error":"#REF!"}},{"$f":"IF(AND(LEN($D43)>0,SUMIF($F$13:$J$13,AQ$13,$F43:$J43)>0,marzo!#REF!<>\"X\",marzo!#REF!<>\"L\",marzo!#REF!<>\"J\",marzo!#REF!<>\"V\",marzo!#REF!<>\"F\",marzo!#REF!<>\"\"),SUMIF($F$13:$J$13,AQ$13,$F43:$J43),\"\")","v":{"$error":"#REF!"}},{"$f":"IF(AND(LEN($D43)>0,SUMIF($F$13:$J$13,AR$13,$F43:$J43)>0,marzo!#REF!<>\"X\",marzo!#REF!<>\"L\",marzo!#REF!<>\"J\",marzo!#REF!<>\"V\",marzo!#REF!<>\"F\",marzo!#REF!<>\"\"),SUMIF($F$13:$J$13,AR$13,$F43:$J43),\"\")","v":{"$error":"#REF!"}},{"$f":"IF(AND(LEN($D43)>0,SUMIF($F$13:$J$13,AS$13,$F43:$J43)>0,marzo!#REF!<>\"X\",marzo!#REF!<>\"L\",marzo!#REF!<>\"J\",marzo!#REF!<>\"V\",marzo!#REF!<>\"F\",marzo!#REF!<>\"\"),SUMIF($F$13:$J$13,AS$13,$F43:$J43),\"\")","v":{"$error":"#REF!"}},{"$error":"#REF!"},null,null,null,{"$f":"IF(AND(LEN($D43)>0,SUMIF($F$13:$J$13,AX$13,$F43:$J43)>0,marzo!#REF!<>\"X\",marzo!#REF!<>\"L\",marzo!#REF!<>\"J\",marzo!#REF!<>\"F\"),SUMIF($F$13:$J$13,AX$13,$F43:$J43),\"\")","v":{"$error":"#REF!"}},{"$f":"IF(AND(LEN($D43)>0,SUMIF($F$13:$J$13,AY$13,$F43:$J43)>0,marzo!#REF!<>\"X\",marzo!#REF!<>\"L\",marzo!#REF!<>\"J\",marzo!#REF!<>\"F\"),SUMIF($F$13:$J$13,AY$13,$F43:$J43),\"\")","v":{"$error":"#REF!"}},{"$f":"IF(AND(LEN($D43)>0,SUMIF($F$13:$J$13,AZ$13,$F43:$J43)>0,marzo!#REF!<>\"X\",marzo!#REF!<>\"L\",marzo!#REF!<>\"J\",marzo!#REF!<>\"F\"),SUMIF($F$13:$J$13,AZ$13,$F43:$J43),\"\")","v":{"$error":"#REF!"}},{"$f":"IF(AND(LEN($D43)>0,SUMIF($F$13:$J$13,BA$13,$F43:$J43)>0,marzo!#REF!<>\"X\",marzo!#REF!<>\"L\",marzo!#REF!<>\"J\",marzo!#REF!<>\"F\"),SUMIF($F$13:$J$13,BA$13,$F43:$J43),\"\")","v":{"$error":"#REF!"}},{"$f":"IF(AND(LEN($D43)>0,SUMIF($F$13:$J$13,BB$13,$F43:$J43)>0,marzo!#REF!<>\"X\",marzo!#REF!<>\"L\",marzo!#REF!<>\"J\",marzo!#REF!<>\"F\"),SUMIF($F$13:$J$13,BB$13,$F43:$J43),\"\")","v":{"$error":"#REF!"}},{"$f":"IF(AND(LEN($D43)>0,SUMIF($F$13:$J$13,BC$13,$F43:$J43)>0,marzo!#REF!<>\"X\",marzo!#REF!<>\"L\",marzo!#REF!<>\"J\",marzo!#REF!<>\"F\"),SUMIF($F$13:$J$13,BC$13,$F43:$J43),\"\")","v":{"$error":"#REF!"}},{"$f":"IF(AND(LEN($D43)>0,SUMIF($F$13:$J$13,BD$13,$F43:$J43)>0,marzo!#REF!<>\"X\",marzo!#REF!<>\"L\",marzo!#REF!<>\"J\",marzo!#REF!<>\"F\"),SUMIF($F$13:$J$13,BD$13,$F43:$J43),\"\")","v":{"$error":"#REF!"}},{"$f":"IF(AND(LEN($D43)>0,SUMIF($F$13:$J$13,BE$13,$F43:$J43)>0,marzo!#REF!<>\"X\",marzo!#REF!<>\"L\",marzo!#REF!<>\"J\",marzo!#REF!<>\"F\"),SUMIF($F$13:$J$13,BE$13,$F43:$J43),\"\")","v":{"$error":"#REF!"}},{"$f":"IF(AND(LEN($D43)>0,SUMIF($F$13:$J$13,BF$13,$F43:$J43)>0,marzo!#REF!<>\"X\",marzo!#REF!<>\"L\",marzo!#REF!<>\"J\",marzo!#REF!<>\"F\"),SUMIF($F$13:$J$13,BF$13,$F43:$J43),\"\")","v":{"$error":"#REF!"}},{"$f":"IF(AND(LEN($D43)>0,SUMIF($F$13:$J$13,BG$13,$F43:$J43)>0,marzo!#REF!<>\"X\",marzo!#REF!<>\"L\",marzo!#REF!<>\"J\",marzo!#REF!<>\"F\"),SUMIF($F$13:$J$13,BG$13,$F43:$J43),\"\")","v":{"$error":"#REF!"}},{"$f":"IF(AND(LEN($D43)>0,SUMIF($F$13:$J$13,BH$13,$F43:$J43)>0,marzo!#REF!<>\"X\",marzo!#REF!<>\"L\",marzo!#REF!<>\"J\",marzo!#REF!<>\"F\"),SUMIF($F$13:$J$13,BH$13,$F43:$J43),\"\")","v":{"$error":"#REF!"}},{"$f":"IF(AND(LEN($D43)>0,SUMIF($F$13:$J$13,BI$13,$F43:$J43)>0,marzo!#REF!<>\"X\",marzo!#REF!<>\"L\",marzo!#REF!<>\"J\",marzo!#REF!<>\"F\"),SUMIF($F$13:$J$13,BI$13,$F43:$J43),\"\")","v":{"$error":"#REF!"}},{"$f":"IF(AND(LEN($D43)>0,SUMIF($F$13:$J$13,BJ$13,$F43:$J43)>0,marzo!#REF!<>\"X\",marzo!#REF!<>\"L\",marzo!#REF!<>\"J\",marzo!#REF!<>\"F\"),SUMIF($F$13:$J$13,BJ$13,$F43:$J43),\"\")","v":{"$error":"#REF!"}},{"$f":"IF(AND(LEN($D43)>0,SUMIF($F$13:$J$13,BK$13,$F43:$J43)>0,marzo!#REF!<>\"X\",marzo!#REF!<>\"L\",marzo!#REF!<>\"J\",marzo!#REF!<>\"F\"),SUMIF($F$13:$J$13,BK$13,$F43:$J43),\"\")","v":{"$error":"#REF!"}},{"$f":"IF(AND(LEN($D43)>0,SUMIF($F$13:$J$13,BL$13,$F43:$J43)>0,marzo!#REF!<>\"X\",marzo!#REF!<>\"L\",marzo!#REF!<>\"J\",marzo!#REF!<>\"F\"),SUMIF($F$13:$J$13,BL$13,$F43:$J43),\"\")","v":{"$error":"#REF!"}},{"$f":"IF(AND(LEN($D43)>0,SUMIF($F$13:$J$13,BM$13,$F43:$J43)>0,marzo!#REF!<>\"X\",marzo!#REF!<>\"L\",marzo!#REF!<>\"J\",marzo!#REF!<>\"F\"),SUMIF($F$13:$J$13,BM$13,$F43:$J43),\"\")","v":{"$error":"#REF!"}},{"$f":"IF(AND(LEN($D43)>0,SUMIF($F$13:$J$13,BN$13,$F43:$J43)>0,marzo!#REF!<>\"X\",marzo!#REF!<>\"L\",marzo!#REF!<>\"J\",marzo!#REF!<>\"F\"),SUMIF($F$13:$J$13,BN$13,$F43:$J43),\"\")","v":{"$error":"#REF!"}},{"$f":"IF(AND(LEN($D43)>0,SUMIF($F$13:$J$13,BO$13,$F43:$J43)>0,marzo!#REF!<>\"X\",marzo!#REF!<>\"L\",marzo!#REF!<>\"J\",marzo!#REF!<>\"F\"),SUMIF($F$13:$J$13,BO$13,$F43:$J43),\"\")","v":{"$error":"#REF!"}},{"$f":"IF(AND(LEN($D43)>0,SUMIF($F$13:$J$13,BP$13,$F43:$J43)>0,marzo!#REF!<>\"X\",marzo!#REF!<>\"L\",marzo!#REF!<>\"J\",marzo!#REF!<>\"F\"),SUMIF($F$13:$J$13,BP$13,$F43:$J43),\"\")","v":{"$error":"#REF!"}},{"$f":"IF(AND(LEN($D43)>0,SUMIF($F$13:$J$13,BQ$13,$F43:$J43)>0,marzo!#REF!<>\"X\",marzo!#REF!<>\"L\",marzo!#REF!<>\"J\",marzo!#REF!<>\"F\"),SUMIF($F$13:$J$13,BQ$13,$F43:$J43),\"\")","v":{"$error":"#REF!"}},{"$f":"IF(AND(LEN($D43)>0,SUMIF($F$13:$J$13,BR$13,$F43:$J43)>0,marzo!#REF!<>\"X\",marzo!#REF!<>\"L\",marzo!#REF!<>\"J\",marzo!#REF!<>\"F\"),SUMIF($F$13:$J$13,BR$13,$F43:$J43),\"\")","v":{"$error":"#REF!"}},{"$f":"IF(AND(LEN($D43)>0,SUMIF($F$13:$J$13,BS$13,$F43:$J43)>0,marzo!#REF!<>\"X\",marzo!#REF!<>\"L\",marzo!#REF!<>\"J\",marzo!#REF!<>\"F\"),SUMIF($F$13:$J$13,BS$13,$F43:$J43),\"\")","v":{"$error":"#REF!"}},{"$f":"IF(AND(LEN($D43)>0,SUMIF($F$13:$J$13,BT$13,$F43:$J43)>0,marzo!#REF!<>\"X\",marzo!#REF!<>\"L\",marzo!#REF!<>\"J\",marzo!#REF!<>\"F\"),SUMIF($F$13:$J$13,BT$13,$F43:$J43),\"\")","v":{"$error":"#REF!"}},{"$f":"IF(AND(LEN($D43)>0,SUMIF($F$13:$J$13,BU$13,$F43:$J43)>0,marzo!#REF!<>\"X\",marzo!#REF!<>\"L\",marzo!#REF!<>\"J\",marzo!#REF!<>\"F\"),SUMIF($F$13:$J$13,BU$13,$F43:$J43),\"\")","v":{"$error":"#REF!"}},{"$f":"IF(AND(LEN($D43)>0,SUMIF($F$13:$J$13,BV$13,$F43:$J43)>0,marzo!#REF!<>\"X\",marzo!#REF!<>\"L\",marzo!#REF!<>\"J\",marzo!#REF!<>\"F\"),SUMIF($F$13:$J$13,BV$13,$F43:$J43),\"\")","v":{"$error":"#REF!"}},{"$f":"IF(AND(LEN($D43)>0,SUMIF($F$13:$J$13,BW$13,$F43:$J43)>0,marzo!#REF!<>\"X\",marzo!#REF!<>\"L\",marzo!#REF!<>\"J\",marzo!#REF!<>\"F\"),SUMIF($F$13:$J$13,BW$13,$F43:$J43),\"\")","v":{"$error":"#REF!"}},{"$f":"IF(AND(LEN($D43)>0,SUMIF($F$13:$J$13,BX$13,$F43:$J43)>0,marzo!#REF!<>\"X\",marzo!#REF!<>\"L\",marzo!#REF!<>\"J\",marzo!#REF!<>\"F\"),SUMIF($F$13:$J$13,BX$13,$F43:$J43),\"\")","v":{"$error":"#REF!"}},{"$f":"IF(AND(LEN($D43)>0,SUMIF($F$13:$J$13,BY$13,$F43:$J43)>0,marzo!#REF!<>\"X\",marzo!#REF!<>\"L\",marzo!#REF!<>\"J\",marzo!#REF!<>\"F\"),SUMIF($F$13:$J$13,BY$13,$F43:$J43),\"\")","v":{"$error":"#REF!"}},{"$f":"IF(AND(LEN($D43)>0,SUMIF($F$13:$J$13,BZ$13,$F43:$J43)>0,marzo!#REF!<>\"X\",marzo!#REF!<>\"L\",marzo!#REF!<>\"J\",marzo!#REF!<>\"F\"),SUMIF($F$13:$J$13,BZ$13,$F43:$J43),\"\")","v":{"$error":"#REF!"}},{"$f":"IF(AND(LEN($D43)>0,SUMIF($F$13:$J$13,CA$13,$F43:$J43)>0,marzo!#REF!<>\"X\",marzo!#REF!<>\"L\",marzo!#REF!<>\"J\",marzo!#REF!<>\"F\"),SUMIF($F$13:$J$13,CA$13,$F43:$J43),\"\")","v":{"$error":"#REF!"}},{"$f":"IF(AND(LEN($D43)>0,SUMIF($F$13:$J$13,CB$13,$F43:$J43)>0,marzo!#REF!<>\"X\",marzo!#REF!<>\"L\",marzo!#REF!<>\"J\",marzo!#REF!<>\"F\"),SUMIF($F$13:$J$13,CB$13,$F43:$J43),\"\")","v":{"$error":"#REF!"}},{"$error":"#REF!"}]
[]
["(*) No se considera los días feriados",null,null,null,null,null,null,null,null,null,null,null,null,{"$f":"SUM(N14:N43)","v":{"$error":"#REF!"}},null,null,null,null,null,null,null,null,null,null,null,null,null,null,null,null,null,null,null,null,null,null,null,null,null,null,null,null,null,null,null,{"$f":"SUM(AT14:AT43)","v":{"$error":"#REF!"}},null,null,null,null,null,null,null,null,null,null,null,null,null,null,null,null,null,null,null,null,null,null,null,null,null,null,null,null,null,null,null,null,null,null,{"$f":"SUM(CC14:CC43)","v":{"$error":"#REF!"}}]
["LEYENDA"]
["J: Falta justificada",null,null,null,null,null,null,null,null,null,null,null,null,null,null,null,null,null,null,null,null,null,"Nivel Inicial : 1 dia : 5 horas",null,null,null,null,null,null,null,null,null,null,null,null,null,null,null,null,null,null,null,null,null,null,null,null,null,null,null,null,null,null,null,null,null,null,"Nivel Inicial : 1 dia : 5 horas"]
["I: Falta Injustificada",null,null,null,null,null,null,null,null,null,null,null,null,null,null,null,null,null,null,null,null,null,"Nivel Primaria : 1 día : 6 horas",null,null,null,null,null,null,null,null,null,null,null,null,null,null,null,null,null,null,null,null,null,null,null,null,null,null,null,null,null,null,null,null,null,null,"Nivel Primaria : 1 día : 6 horas"]
["F: Dia Feriado",null,null,null,null,null,null,null,null,null,null,null,null,null,null,null,null,null,null,null,null,null,"Nivel Secundaria :1 día : 7 horas",null,null,null,null,null,null,null,null,null,null,null,null,null,null,null,null,null,null,null,null,null,null,null,null,null,null,null,null,null,null,null,null,null,null,"Nivel Secundaria :1 día : 7 horas"]
["CRT: Centro de Recursos Tecnológicos"]
["AIP: Aula de Innovación Pedagógica"]
["TQ: Taller de Quechua"]
["TD: Taller de Danza"]
[null,null,null,null,null,null,null,null,null,null,null,"DIRECTOR (A) DE INSTITUCIÓN EDUCATIVA",null,null,null,null,null,null,null,null,null,null,null,null,null,null,null,null,null,null,null,null,null,"V° B° REPRESENTANTE CONOEI",null,null,null,null,null,null,null,null,null,null,null,null,null,null,null,null,null,null,null,null,null,null,null,null,null,null,null,null,null,null,null,null,null,null,"V° B° REPRESENTANTE CONOEI"]

{"sheet":"DATA","index":7,"n_rows":302,"n_cols":14,"rows_kept":302,"cut":false,"hidden":true,"merged":[[0,11,2,11],[0,12,2,12],[0,3,2,3],[0,6,2,6],[0,7,2,7],[0,8,2,8],[0,9,2,9],[0,10,2,10]]}
["",null,"","Distrito / Centro Poblado","","","# Tot Doc, Aux, Adm","# Doc","# Doc Nomb","# Doc Contr","# Doc Espjo","# Aux Ed","# Adm"]
["Cód. Mod.","Nombre de IE","Nivel",null,"Distrito","Centro Poblado",null,null,null,null,null,null,null,"# CAS"]
["","","",null,"",""]
["01245465","PRONOEI","A1 Inicial No Escolarizado",{"$f":"CONCATENATE(E4,\" / \",F4)","v":"ILAVE / 5 Distritos"},"ILAVE","5 Distritos"]
["0474577","216","A2 - Inicial - Jardín              ",{"$f":"CONCATENATE(E5,\" / \",F5)","v":"ILAVE / BELLAVISTA"},"ILAVE","BELLAVISTA",5,3,2,1,0,1,1]
["0474585",217,"A2 - Inicial - Jardín              ",{"$f":"CONCATENATE(E6,\" / \",F6)","v":"PILCUYO / 18 DE ENERO"},"PILCUYO","18 DE ENERO",6,3,3,0,1,1,1]
["0500538","220","A2 - Inicial - Jardín              ","SANTA ROSA / 3 DE MAYO","SANTA ROSA","3 DE MAYO",5,3,0,3,0,1,1]
["0474601","223","A2 - Inicial - Jardín              ","ILAVE / SAN MIGUEL","ILAVE","SAN MIGUEL",6,3,3,0,0,2,1]
["0229765","246 MI SEGUNDO HOGAR","A2 - Inicial - Jardín              ","ILAVE / ALASAYA","ILAVE","ALASAYA",19,11,8,3,1,5,2]
["0539650","259","A2 - Inicial - Jardín              ","CONDURIRI / MUNICIPAL","CONDURIRI","MUNICIPAL",4,2,0,2,0,1,1]
["0574889","260","A2 - Inicial - Jardín              ","ILAVE / RAMON CASTILLA","ILAVE","RAMON CASTILLA",7,4,3,1,1,1,1]
["0539452","265","A2 - Inicial - Jardín              ","PILCUYO / SUCANO","PILCUYO","SUCANO",1,1,1,0,0,0,0]
["0539551","266","A2 - Inicial - Jardín              ","ILAVE / SULCATURA 1","ILAVE","SULCATURA 1",2,1,1,0,0,0,1]
["0549006","267","A2 - Inicial - Jardín              ","SANTA ROSA / SANTA ROSA","SANTA ROSA","SANTA ROSA",2,2,0,2,0,0,0]
["0755371","301","A2 - Inicial - Jardín              ","PILCUYO / CHIPANA","PILCUYO","CHIPANA",1,1,1,0,0,0,0]
["0744250","302","A2 - Inicial - Jardín              ","ILAVE / CRUZANI","ILAVE","CRUZANI",7,4,3,1,0,2,1]
["0744268","303","A2 - Inicial - Jardín              ","ILAVE / ILAVE","ILAVE","ILAVE",5,3,3,0,0,1,1]
["0744276","304","A2 - Inicial - Jardín              ","ILAVE / PORVENIR MIRAFLORES","ILAVE","PORVENIR MIRAFLORES",7,4,4,0,0,2,1]
["0799288","306","A2 - Inicial - Jardín              ","ILAVE / MULLACONIHUECO","ILAVE","MULLACONIHUECO",2,1,1,0,0,0,1]
["0799296","307","A2 - Inicial - Jardín              ","ILAVE / CHIJICHAYA","ILAVE","CHIJICHAYA",4,3,2,1,0,1,0]
["0755389","309","A2 - Inicial - Jardín              ","PILCUYO / MACHATMARCA","PILCUYO","MACHATMARCA",1,1,1,0,0,0,0]
["1027028",310,"A2 - Inicial - Jardín              ","ILAVE / CAMECACHI","ILAVE","CAMECACHI",3,2,2,0,0,1,0]
["0799395","311","A2 - Inicial - Jardín              ","PILCUYO / MAQUERCOTA","PILCUYO","MAQUERCOTA",1,1,1,0,0,0,0]
["1027192","314","A2 - Inicial - Jardín              ","ILAVE / SAN CRISTOBAL","ILAVE","SAN CRISTOBAL",4,3,2,1,0,1,0]
["1027234","315","A2 - Inicial - Jardín              ","ILAVE / CHUCARAYA","ILAVE","CHUCARAYA",2,2,1,1,0,0,0]
["1027242","316","A2 - Inicial - Jardín              ","ILAVE / ULLACACHI","ILAVE","ULLACACHI",1,1,1,0,0,0,0]
["1027101","317","A2 - Inicial - Jardín              ","PILCUYO / SARAPI ARROYO","PILCUYO","SARAPI ARROYO",1,1,0,1,0,0,0]
["1027119","318","A2 - Inicial - Jardín              ","PILCUYO / ACCASO","PILCUYO","ACCASO",3,2,1,1,0,0,1]
["1027143","319","A2 - Inicial - Jardín              ","ILAVE / CHECCA","ILAVE","CHECCA",1,1,1,0,0,0,0]
["1027499","320","A2 - Inicial - Jardín              ","PILCUYO / MARCOLLO","PILCUYO","MARCOLLO",2,1,1,0,0,0,1]
["1030014","351","A2 - Inicial - Jardín              ","ILAVE / SANTA BARBARA","ILAVE","SANTA BARBARA",8,4,3,1,1,2,1]
["1027044","365","A2 - Inicial - Jardín              ","ILAVE / BELLAVISTA","ILAVE","BELLAVISTA",8,4,2,2,1,2,1]
["1576149","402","A2 - Inicial - Jardín              ","ILAVE / ILAVE","ILAVE","ILAVE",4,3,0,3,0,1,0]
["1472505","694","A2 - Inicial - Jardín              ","ILAVE / ANCOAMAYA","ILAVE","ANCOAMAYA",1,1,1,0,0,0,0]
["1472521","695","A2 - Inicial - Jardín              ","ILAVE / CALLATA","ILAVE","CALLATA",1,1,1,0,0,0,0]
["1472539","696","A2 - Inicial - Jardín              ","ILAVE / CANGALLI ACHANTUYO","ILAVE","CANGALLI ACHANTUYO",1,1,1,0,0,0,0]
["1472547","697","A2 - Inicial - Jardín              ","CAPAZO / CAPASO","CAPAZO","CAPASO",1,1,0,1,0,0,0]
["1472554","698","A2 - Inicial - Jardín              ","ILAVE / CATAMURO II","ILAVE","CATAMURO II",1,1,1,0,0,0,0]
["1472562","699","A2 - Inicial - Jardín              ","ILAVE / CHIJUYO COPAPUJO","ILAVE","CHIJUYO COPAPUJO",1,1,1,0,0,0,0]
["1472570","700","A2 - Inicial - Jardín              ","ILAVE / CHURO MAQUERA","ILAVE","CHURO MAQUERA",2,2,1,1,0,0,0]
["1472604","701","A2 - Inicial - Jardín              ","ILAVE / OCOÑA","ILAVE","OCOÑA",1,1,0,1,0,0,0]
["1472612","702","A2 - Inicial - Jardín              ","ILAVE / PHARATA COPANI","ILAVE","PHARATA COPANI",1,1,1,0,0,0,0]
["1472620","703","A2 - Inicial - Jardín              ","PILCUYO / PUCARA","PILCUYO","PUCARA",1,1,1,0,0,0,0]
["1472638","704","A2 - Inicial - Jardín              ","PILCUYO / SACARI TITICACHI","PILCUYO","SACARI TITICACHI",1,1,0,1,0,0,0]
["1472646","705","A2 - Inicial - Jardín              ","ILAVE / URANI","ILAVE","URANI",1,1,0,1,0,0,0]
["1472653","706","A2 - Inicial - Jardín              ","PILCUYO / CACHIPUCARA","PILCUYO","CACHIPUCARA",1,1,0,1,0,0,0]
["1472661","707","A2 - Inicial - Jardín              ","ILAVE / JACHOCCO HUARACCO","ILAVE","JACHOCCO HUARACCO",4,3,0,3,0,1,0]
["1472679","708","A2 - Inicial - Jardín              ","ILAVE / LACAYA","ILAVE","LACAYA",1,1,1,0,0,0,0]
["1472687","709","A2 - Inicial - Jardín              ","ILAVE / PANTIHUECO","ILAVE","PANTIHUECO",1,1,1,0,0,0,0]
["1472695","710","A2 - Inicial - Jardín              ","ILAVE / POQUICHILLA","ILAVE","POQUICHILLA",1,1,1,0,0,0,0]
["1472703",711,"A2 - Inicial - Jardín              ","ILAVE / ROSACANI","ILAVE","ROSACANI",2,2,0,2,0,0,0]
["1472711","712","A2 - Inicial - Jardín              ","ILAVE / SIRAYA","ILAVE","SIRAYA",2,2,0,2,0,0,0]
["1472729","713","A2 - Inicial - Jardín              ","ILAVE / TANAPACA","ILAVE","TANAPACA",1,1,1,0,0,0,0]
["1493089","714","A2 - Inicial - Jardín              ","ILAVE / LACACHI","ILAVE","LACACHI",1,1,0,1,0,0,0]
["1540939","715","A2 - Inicial - Jardín              ","ILAVE / PAJJCHA CCACCAPI","ILAVE","PAJJCHA CCACCAPI",1,1,1,0,0,0,0]
["1564624","717","A2 - Inicial - Jardín              ","PILCUYO / PACCO BEBEDERO","PILCUYO","PACCO BEBEDERO",1,1,1,0,0,0,0]
["1472588","718","A2 - Inicial - Jardín              ","ILAVE / COLLATA","ILAVE","COLLATA",1,1,1,0,0,0,0]
["1472596","719","A2 - Inicial - Jardín              ","ILAVE / HUANCARANI","ILAVE","HUANCARANI",1,1,1,0,0,0,0]
["1472737","720","A2 - Inicial - Jardín              ","ILAVE / COLLOCO HUAYCHANI","ILAVE","COLLOCO HUAYCHANI",1,1,1,0,0,0,0]
["1472513","721","A2 - Inicial - Jardín              ","SANTA ROSA / AYUPALCA","SANTA ROSA","AYUPALCA",1,1,0,1,0,0,0]
["1556695","722","A2 - Inicial - Jardín              ","SANTA ROSA / SULCANACA","SANTA ROSA","SULCANACA",1,1,0,1,0,0,0]
["1556604","723","A2 - Inicial - Jardín              ","SANTA ROSA / MAZOCRUZ","SANTA ROSA","MAZOCRUZ",2,2,0,2,0,0,0]
["1556489","724","A2 - Inicial - Jardín              ","ILAVE / ILAVE","ILAVE","ILAVE",2,2,1,1,0,0,0]
["1556521","725","A2 - Inicial - Jardín              ","ILAVE / CHECACHATA","ILAVE","CHECACHATA",1,1,0,1,0,0,0]
["1556687","726","A2 - Inicial - Jardín              ","ILAVE / SIMILLACA","ILAVE","SIMILLACA",1,1,1,0,0,0,0]
["1556505","727","A2 - Inicial - Jardín              ","ILAVE / CHALLOCOLLO","ILAVE","CHALLOCOLLO",1,1,1,0,0,0,0]
["1556471","728","A2 - Inicial - Jardín              ","ILAVE / APHARUNI","ILAVE","APHARUNI",1,1,1,0,0,0,0]
["1556596","729","A2 - Inicial - Jardín              ","ILAVE / JARANI","ILAVE","JARANI",1,1,1,0,0,0,0]
["1556547","730","A2 - Inicial - Jardín              ","ILAVE / COMPACAZO","ILAVE","COMPACAZO",1,1,1,0,0,0,0]
["1556638","731","A2 - Inicial - Jardín              ",{"$f":"CONCATENATE(E70,\" / \",F70)","v":"ILAVE / PICHINCUTA"},"ILAVE","PICHINCUTA",1,1,1,0,0,0,0]
["1556554","732","A2 - Inicial - Jardín              ","ILAVE / CONCHACA","ILAVE","CONCHACA",2,2,1,1,0,0,0]
["1556570","733","A2 - Inicial - Jardín              ","ILAVE / HUARAHUARANI","ILAVE","HUARAHUARANI",1,1,0,1,0,0,0]
["1556562","734","A2 - Inicial - Jardín              ","ILAVE / CUTINI PUCARA","ILAVE","CUTINI PUCARA",1,1,0,1,0,0,0]
["1556679","735","A2 - Inicial - Jardín              ","ILAVE / SANTA ROSA DE HUAYLLATA","ILAVE","SANTA ROSA DE HUAYLLATA",1,1,0,1,0,0,0]
["1556653","736","A2 - Inicial - Jardín              ","ILAVE / HUINI HUININI","ILAVE","HUINI HUININI",1,1,0,1,0,0,0]
["1564616","737","A2 - Inicial - Jardín              ","ILAVE / CALACOTA","ILAVE","CALACOTA",1,1,1,0,0,0,0]
["1556497","738","A2 - Inicial - Jardín              ","PILCUYO / CAÑA MAQUERA","PILCUYO","CAÑA MAQUERA",1,1,1,0,0,0,0]
["1556703","739","A2 - Inicial - Jardín              ","PILCUYO / TARACANCAMAYA / CANCAMAYA","PILCUYO","TARACANCAMAYA / CANCAMAYA",1,1,1,0,0,0,0]
["1556612","740","A2 - Inicial - Jardín              ","PILCUYO / MULLACANI","PILCUYO","MULLACANI",1,1,1,0,0,0,0]
["1556646","741","A2 - Inicial - Jardín              ","PILCUYO / QUETY","PILCUYO","QUETY",1,1,1,0,0,0,0]
["1556588","742","A2 - Inicial - Jardín              ","PILCUYO / HUARIQUISAMA","PILCUYO","HUARIQUISAMA",1,1,1,0,0,0,0]
["1556539","743","A2 - Inicial - Jardín              ","PILCUYO / CHOJÑA CHOJÑANI","PILCUYO","CHOJÑA CHOJÑANI",1,1,1,0,0,0,0]
["1556513","744","A2 - Inicial - Jardín              ","PILCUYO / CHAULLACAMANI","PILCUYO","CHAULLACAMANI",1,1,0,1,0,0,0]
["1556711","745","A2 - Inicial - Jardín              ","PILCUYO / YAJACIRCATUYO / TUYO / TUCO","PILCUYO","YAJACIRCATUYO / TUYO / TUCO",1,1,0,1,0,0,0]
["1556661","746","A2 - Inicial - Jardín              ","PILCUYO / HUAYLLATA","PILCUYO","HUAYLLATA",1,1,1,0,0,0,0]
["1556620","747","A2 - Inicial - Jardín              ","PILCUYO / PACCO CUSULLANA","PILCUYO","PACCO CUSULLANA",1,1,1,0,0,0,0]
["1561414","748","A2 - Inicial - Jardín              ","SANTA ROSA / PROVIDENCIA","SANTA ROSA","PROVIDENCIA",1,1,1,0,0,0,0]
["1561422","749","A2 - Inicial - Jardín              ","ILAVE / PIÑUTANI","ILAVE","PIÑUTANI",1,1,1,0,0,0,0]
["1561406","750","A2 - Inicial - Jardín              ","PILCUYO / JALLUYO","PILCUYO","JALLUYO",2,2,1,1,0,0,0]
["1566330","751","A2 - Inicial - Jardín              ","ILAVE / CHURO LOPEZ","ILAVE","CHURO LOPEZ",2,2,0,2,0,0,0]
["1633502","1050","A2 - Inicial - Jardín              ","ILAVE / ILAVE","ILAVE","ILAVE",1,1,1,0,0,0,0]
["1610187","1052","A2 - Inicial - Jardín              ","CAPAZO / ROSARIO ALTO ANCOMARCA","CAPAZO","ROSARIO ALTO ANCOMARCA",1,1,0,1,0,0,0]
["1609619","1053","A2 - Inicial - Jardín              ","ILAVE / SANTA MARIA","ILAVE","SANTA MARIA",1,1,1,0,0,0,0]
["1609635","1054","A2 - Inicial - Jardín              ","ILAVE / ANCASAYA","ILAVE","ANCASAYA",1,1,1,0,0,0,0]
["1609668","1055","A2 - Inicial - Jardín              ","ILAVE / CHIRIMAYA","ILAVE","CHIRIMAYA",1,1,1,0,0,0,0]
["1609742","1056","A2 - Inicial - Jardín              ","ILAVE / LACOTUYO","ILAVE","LACOTUYO",1,1,1,0,0,0,0]
["1610229","1057","A2 - Inicial - Jardín              ","CAPAZO / SAN JOSE DE ANCOMARCA","CAPAZO","SAN JOSE DE ANCOMARCA",1,1,0,1,0,0,0]
["1609700","1058","A2 - Inicial - Jardín              ","ILAVE / COLLPUYO","ILAVE","COLLPUYO",1,1,1,0,0,0,0]
["1610203","1060","A2 - Inicial - Jardín              ","CONDURIRI / SALES GRANDE","CONDURIRI","SALES GRANDE",1,1,0,1,0,0,0]
["1609601","1061","A2 - Inicial - Jardín              ","ILAVE / CHOQUE","ILAVE","CHOQUE",1,1,1,0,0,0,0]
["1609692","1062","A2 - Inicial - Jardín              ","ILAVE / CHUNTACOLLO","ILAVE","CHUNTACOLLO",3,3,1,2,0,0,0]
["1610245","1063","A2 - Inicial - Jardín              ","SANTA ROSA / SAPACHULPA","SANTA ROSA","SAPACHULPA",2,2,0,2,0,0,0]
["1609676","1064","A2 - Inicial - Jardín              ","ILAVE / CHOCCOQUELICANI","ILAVE","CHOCCOQUELICANI",1,1,0,1,0,0,0]
["1633510","1065","A2 - Inicial - Jardín              ","ILAVE / ILAVE","ILAVE","ILAVE",1,1,0,1,0,0,0]
["1609726","1066","A2 - Inicial - Jardín              ","SANTA ROSA / HUANACACAMAYA","SANTA ROSA","HUANACACAMAYA",1,1,1,0,0,0,0]
["1609585","1067","A2 - Inicial - Jardín              ","ILAVE / CCACCATA","ILAVE","CCACCATA",1,1,1,0,0,0,0]
["1610260","1068","A2 - Inicial - Jardín              ","CONDURIRI / UNTAVE","CONDURIRI","UNTAVE",1,1,0,1,0,0,0]
["1610237","1069","A2 - Inicial - Jardín              ","PILCUYO / SANCUTA","PILCUYO","SANCUTA",1,1,1,0,0,0,0]
["1609650","1070","A2 - Inicial - Jardín              ","ILAVE / CHILACOLLO","ILAVE","CHILACOLLO",1,1,1,0,0,0,0]
["1610179","1071","A2 - Inicial - Jardín              ","ILAVE / QUALICANI CHICO","ILAVE","QUALICANI CHICO",1,1,1,0,0,0,0]
["1633494","1073","A2 - Inicial - Jardín              ","SANTA ROSA / CHICHILLAPI","SANTA ROSA","CHICHILLAPI",1,1,0,1,0,0,0]
["1610153","1074","A2 - Inicial - Jardín              ","CONDURIRI / PAIRUMANI","CONDURIRI","PAIRUMANI",1,1,0,1,0,0,0]
["1609593","1075","A2 - Inicial - Jardín              ","ILAVE / VILCA CHILE","ILAVE","VILCA CHILE",1,1,1,0,0,0,0]
["1609734",1076,"A2 - Inicial - Jardín              ","ILAVE / JAQUENCACHI","ILAVE","JAQUENCACHI",2,2,1,1,0,0,0]
["1610161","1077","A2 - Inicial - Jardín              ","ILAVE / PALLALLMARCA","ILAVE","PALLALLMARCA",1,1,0,1,0,0,0]
["1609684","1078","A2 - Inicial - Jardín              ","ILAVE / CHUNGARA","ILAVE","CHUNGARA",1,1,0,1,0,0,0]
["1610278","1079","A2 - Inicial - Jardín              ","CONDURIRI / YARIHUANI","CONDURIRI","YARIHUANI",1,1,1,0,0,0,0]
["1610211","1080","A2 - Inicial - Jardín              ","ILAVE / SAN CARLOS MARCACCOLLO","ILAVE","SAN CARLOS MARCACCOLLO",1,1,0,1,0,0,0]
["1609718","1081","A2 - Inicial - Jardín              ","ILAVE / CORARACA","ILAVE","CORARACA",1,1,1,0,0,0,0]
["1610252","1082","A2 - Inicial - Jardín              ","CAPAZO / TUPALA HACIENDA","CAPAZO","TUPALA HACIENDA",1,1,0,1,0,0,0]
["1578715","1083","A2 - Inicial - Jardín              ","ILAVE / CORPA","ILAVE","CORPA",1,1,1,0,0,0,0]
["1653484","1117","A2 - Inicial - Jardín              ","ILAVE / ILAVE","ILAVE","ILAVE",1,1,1,0,0,0,0]
["1653492","1118","A2 - Inicial - Jardín              ","ILAVE / CONCAHUI","ILAVE","CONCAHUI",1,1,0,1,0,0,0]
["1653518",1119,"A2 - Inicial - Jardín              ","ILAVE / ILAVE","ILAVE","ILAVE",2,2,0,2,0,0,0]
["1678192","1313","A2 - Inicial - Jardín              ","ILAVE / CHOQUETANCA","ILAVE","CHOQUETANCA",1,1,0,1,0,0,0]
["1678135","1314","A2 - Inicial - Jardín              ","ILAVE / JALLANILLA","ILAVE","JALLANILLA",1,1,0,1,0,0,0]
["1678176","1315","A2 - Inicial - Jardín              ","ILAVE / JILACATURA","ILAVE","JILACATURA",1,1,0,1,0,0,0]
["1678168","1316","A2 - Inicial - Jardín              ","ILAVE / MAQUERA COMPUTI","ILAVE","MAQUERA COMPUTI",1,1,0,1,0,0,0]
["1678143","1317","A2 - Inicial - Jardín              ","ILAVE / ILAVE","ILAVE","ILAVE",1,1,0,1,0,0,0]
["1678127","1318","A2 - Inicial - Jardín              ","ILAVE / SARACAYA","ILAVE","SARACAYA",1,1,0,1,0,0,0]
["1678184","1319","A2 - Inicial - Jardín              ","ILAVE / SULCATURA II","ILAVE","SULCATURA II",1,1,0,1,0,0,0]
["1692250","1320","A2 - Inicial - Jardín              ","ILAVE / SAN JOSE","ILAVE","SAN JOSE",2,2,0,2,0,0,0]
["1710789","1461","A2 - Inicial - Jardín              ","ILAVE / SICATA","ILAVE","SICATA",1,1,0,1,0,0,0]
["1710797","1462","A2 - Inicial - Jardín              ",{"$f":"CONCATENATE(E134,\" / \",F134)","v":"ILAVE / ALQUIPA"},"ILAVE","ALQUIPA",1,1,0,1,0,0,0]
["1710805","1463","A2 - Inicial - Jardín              ","ILAVE / LLAU","ILAVE","LLAU",1,1,0,1,0,0,0]
["1710763","1464","A2 - Inicial - Jardín              ","ILAVE / PUSUYO","ILAVE","PUSUYO",1,1,0,1,0,0,0]
["1710771","1465","A2 - Inicial - Jardín              ","ILAVE / YAURIMA","ILAVE","YAURIMA",1,1,0,1,0,0,0]
["1746320","1594","A2 - Inicial - Jardín              ","PILCUYO / CALLACHOCO","PILCUYO","CALLACHOCO",1,1,0,1,0,0,0]
["1785930",1622,"A2 - Inicial - Jardín              ","ILAVE / CHINGANI","ILAVE","CHINGANI",2,2,0,2,0,0,0]
["0230896","70082","B0 - Primaria                      ",{"$f":"CONCATENATE(E140,\" / \",F140)","v":"ILAVE / SULCATURA 1"},"ILAVE","SULCATURA 1",6,4,4,0,1,0,1]
["0231357",70128,"B0 - Primaria                      ",{"$f":"CONCATENATE(E141,\" / \",F141)","v":"ILAVE / JILACATURA"},"ILAVE","JILACATURA",4,3,3,0,0,0,1]
["0231373","70130","B0 - Primaria                      ","ILAVE / CHOQUETANCA","ILAVE","CHOQUETANCA",5,4,3,1,0,0,1]
["0231472","70140","B0 - Primaria                      ","ILAVE / SULLCACATURA  II","ILAVE","SULLCACATURA  II",6,4,4,0,1,0,1]
["0573139","70161","B0 - Primaria                      ","ILAVE / SUQUINAPE","ILAVE","SUQUINAPE",2,2,2,0,0,0,0]
["0231746","70167","B0 - Primaria                      ","ILAVE / LAQUI","ILAVE","LAQUI",2,2,1,1,0,0,0]
["0231845","70178","B0 - Primaria                      ","ILAVE / YACANGO CENTRAL","ILAVE","YACANGO CENTRAL",6,5,4,1,0,0,1]
["0549402","70200","B0 - Primaria                      ","ILAVE / CANGALLE","ILAVE","CANGALLE",7,5,3,2,1,0,1]
["0220798","70201","B0 - Primaria                      ","CONDURIRI / CALASAYA","CONDURIRI","CALASAYA",1,1,1,0,0,0,0]
["0220921","70214","B0 - Primaria                      ","CAPAZO / ROSARIO ALTO ANCOMARCA","CAPAZO","ROSARIO ALTO ANCOMARCA",1,1,1,0,0,0,0]
["0220939","70215","B0 - Primaria                      ","CAPAZO / CAPASO","CAPAZO","CAPASO",2,2,2,0,0,0,0]
["0220962","70218","B0 - Primaria                      ","CAPAZO / CHUA","CAPAZO","CHUA",1,1,1,0,0,0,0]
["0270611","70315","B0 - Primaria                      ","ILAVE / RAMON CASTILLA","ILAVE","RAMON CASTILLA",61,51,45,6,3,0,7]
["0270629","70316 SAGRADO CORAZON DE JESUS","B0 - Primaria                      ","ILAVE / SAN MIGUEL","ILAVE","SAN MIGUEL",38,32,30,2,0,0,6]
["0270637",70317,"B0 - Primaria                      ","ILAVE / CHURU MAQUERA","ILAVE","CHURU MAQUERA",7,6,5,1,0,0,1]
["0270645","70318","B0 - Primaria                      ","ILAVE / CHECCA","ILAVE","CHECCA",5,4,4,0,0,0,1]
["0270652","70319","B0 - Primaria                      ","ILAVE / MAÑAZO","ILAVE","MAÑAZO",4,3,3,0,0,0,1]
["0270660","70320","B0 - Primaria                      ","ILAVE / SIRAYA","ILAVE","SIRAYA",5,4,3,1,0,0,1]
["0270678","70321 DOMINGO PILCO VILCA","B0 - Primaria                      ","ILAVE / CAMICACHI","ILAVE","CAMICACHI",18,16,14,2,0,0,2]
["0270686","70322","B0 - Primaria                      ","ILAVE / CHUCARAYA","ILAVE","CHUCARAYA",2,2,1,1,0,0,0]
["0270694","70323","B0 - Primaria                      ","ILAVE / APARUNE","ILAVE","APARUNE",3,3,3,0,0,0,0]
["0270702","70324","B0 - Primaria                      ","ILAVE / ROSACANI","ILAVE","ROSACANI",14,11,10,1,1,0,2]
["0270710","70325","B0 - Primaria                      ","ILAVE / JACHOCCO HUARACCO","ILAVE","JACHOCCO HUARACCO",14,11,10,1,2,0,1]
["0270728","70326","B0 - Primaria                      ","ILAVE / ULLACACHI","ILAVE","ULLACACHI",2,2,2,0,0,0,0]
["0270736","70327","B0 - Primaria                      ","ILAVE / COPAPOJO / CHILUYO COPAPUJO","ILAVE","COPAPOJO / CHILUYO COPAPUJO",5,4,4,0,0,0,1]
["0270744","70328","B0 - Primaria                      ","ILAVE / CATAMURO","ILAVE","CATAMURO",3,3,2,1,0,0,0]
["0270751","70329","B0 - Primaria                      ","ILAVE / CUTINI PUCARA","ILAVE","CUTINI PUCARA",2,2,2,0,0,0,0]
["0270769","70330","B0 - Primaria                      ","PILCUYO / MAQUERCOTA","PILCUYO","MAQUERCOTA",3,3,3,0,0,0,0]
["0270777","70331","B0 - Primaria                      ","PILCUYO / HUARIQUISAMA","PILCUYO","HUARIQUISAMA",3,2,2,0,1,0,0]
["0270785","70332","B0 - Primaria                      ","PILCUYO / ACCASO","PILCUYO","ACCASO",5,4,3,1,0,0,1]
["0270793","70333","B0 - Primaria                      ","PILCUYO / MULLACANI","PILCUYO","MULLACANI",3,3,3,0,0,0,0]
["0270801","70334","B0 - Primaria                      ","PILCUYO / JILAMAICO","PILCUYO","JILAMAICO",1,1,1,0,0,0,0]
["0270819","70335","B0 - Primaria                      ","PILCUYO / CACHIPUCARA","PILCUYO","CACHIPUCARA",6,5,4,1,0,0,1]
["0270827","70336","B0 - Primaria                      ","PILCUYO / TARACANCAMAYA / CANCAMAYA","PILCUYO","TARACANCAMAYA / CANCAMAYA",4,3,3,0,1,0,0]
["0335844","70337","B0 - Primaria                      ","PILCUYO / CONAPI SUMARIRE / JONAPI","PILCUYO","CONAPI SUMARIRE / JONAPI",1,1,0,1,0,0,0]
["0335851","70338","B0 - Primaria                      ","PILCUYO / YAJACIRCATUYO / TUYO / TUCO","PILCUYO","YAJACIRCATUYO / TUYO / TUCO",2,2,2,0,0,0,0]
["0305813","70339","B0 - Primaria                      ","PILCUYO / CHIPANA","PILCUYO","CHIPANA",6,5,5,0,0,0,1]
["0305821","70340 GLORIOSO JOSE ANTONIO ENCINAS","B0 - Primaria                      ","PILCUYO / PILCUYO","PILCUYO","PILCUYO",10,8,6,2,0,0,2]
["0305839",70341,"B0 - Primaria                      ","SANTA ROSA / SANTA ROSA","SANTA ROSA","SANTA ROSA",5,4,3,1,0,0,1]
["0305847","70342","B0 - Primaria                      ","SANTA ROSA / CHINCHILLAPI","SANTA ROSA","CHINCHILLAPI",1,1,1,0,0,0,0]
["0305854","70343","B0 - Primaria                      ","SANTA ROSA / ALIANZA","SANTA ROSA","ALIANZA",19,16,9,7,1,0,2]
["0305862","70344 CRISTO REY","B0 - Primaria                      ","ILAVE / CALLATA","ILAVE","CALLATA",5,4,4,0,0,0,1]
["0305888","70346","B0 - Primaria                      ","ILAVE / CHALLA CCOLLO","ILAVE","CHALLA CCOLLO",3,3,2,1,0,0,0]
["0305896","70347","B0 - Primaria                      ","ILAVE / COPACACHI CHILACOLLO","ILAVE","COPACACHI CHILACOLLO",3,3,3,0,0,0,0]
["0305904",70348,"B0 - Primaria                      ","ILAVE / JAQUENCACHI","ILAVE","JAQUENCACHI",4,3,3,0,0,0,1]
["0305912","70349","B0 - Primaria                      ","ILAVE / URANI","ILAVE","URANI",4,4,4,0,0,0,0]
["0305920","70350","B0 - Primaria                      ","ILAVE / PICHINCOTA","ILAVE","PICHINCOTA",4,4,4,0,0,0,0]
["0305938","70351","B0 - Primaria                      ","ILAVE / SENCA","ILAVE","SENCA",2,2,1,1,0,0,0]
["0305946",70352,"B0 - Primaria                      ","ILAVE / ALQUIPA","ILAVE","ALQUIPA",4,3,3,0,0,0,1]
["0305953","70353","B0 - Primaria                      ","ILAVE / ANCOAMAYA","ILAVE","ANCOAMAYA",2,2,2,0,0,0,0]
["0559237","70354","B0 - Primaria                      ","ILAVE / PUSUYO","ILAVE","PUSUYO",2,2,2,0,0,0,0]
["0305979","70355 SAGRADO NIÑO JESUS","B0 - Primaria                      ","ILAVE / CCACCATA","ILAVE","CCACCATA",2,2,2,0,0,0,0]
["0305987","70356","B0 - Primaria                      ","ILAVE / CHIJICHAYA","ILAVE","CHIJICHAYA",4,4,3,1,0,0,0]
["0305995","70357","B0 - Primaria                      ","ILAVE / MULLACONIHUECO","ILAVE","MULLACONIHUECO",3,3,3,0,0,0,0]
["0306019",70358,"B0 - Primaria                      ","ILAVE / CONCAHUI","ILAVE","CONCAHUI",5,4,3,1,0,0,1]
["0306043","70359","B0 - Primaria                      ","ILAVE / CORARACA","ILAVE","CORARACA",3,3,2,1,0,0,0]
["0306050","70360","B0 - Primaria                      ","ILAVE / SIMILLACA","ILAVE","SIMILLACA",2,2,2,0,0,0,0]
["0306068","70361","B0 - Primaria                      ","ILAVE / JICHU CCOLLO","ILAVE","JICHU CCOLLO",1,1,1,0,0,0,0]
["0306092",70363,"B0 - Primaria                      ","ILAVE / CONCHACA","ILAVE","CONCHACA",5,5,4,1,0,0,0]
["0306100","70364","B0 - Primaria                      ","ILAVE / CHIRIMAYA","ILAVE","CHIRIMAYA",2,2,2,0,0,0,0]
["0306233","70365","B0 - Primaria                      ","ILAVE / HUARIHUARANI","ILAVE","HUARIHUARANI",2,2,1,1,0,0,0]
["0306332",70367,"B0 - Primaria                      ","ILAVE / CORPA","ILAVE","CORPA",4,4,2,2,0,0,0]
["0306357","70369 JOSE OLAYA BALANDRA","B0 - Primaria                      ","ILAVE / PHARATA COPANI","ILAVE","PHARATA COPANI",5,4,4,0,0,0,1]
["0306365","70370","B0 - Primaria                      ","ILAVE / SAN CRISTOBAL","ILAVE","SAN CRISTOBAL",8,6,5,1,2,0,0]
["0306373",70371,"B0 - Primaria                      ","ILAVE / SANTA ROSA DE HUAYLLATA","ILAVE","SANTA ROSA DE HUAYLLATA",4,3,3,0,0,0,1]
["0306381","70372 GAMALIEL CHURATA","B0 - Primaria                      ",{"$f":"CONCATENATE(E205,\" / \",F205)","v":"ILAVE / COLLATA"},"ILAVE","COLLATA",3,3,3,0,0,0,0]
["0306399",70373,"B0 - Primaria                      ","ILAVE / HUANCARANI","ILAVE","HUANCARANI",3,3,2,1,0,0,0]
["0306407","70374","B0 - Primaria                      ","ILAVE / HUINI HUININI","ILAVE","HUINI HUININI",3,3,3,0,0,0,0]
["0306431","70375","B0 - Primaria                      ","ILAVE / COMPACAZO","ILAVE","COMPACAZO",4,3,3,0,1,0,0]
["0306027","70376","B0 - Primaria                      ","PILCUYO / VILCATURPO","PILCUYO","VILCATURPO",3,3,2,1,0,0,0]
["0306035","70377","B0 - Primaria                      ","PILCUYO / HUAYLLATA","PILCUYO","HUAYLLATA",3,3,3,0,0,0,0]
["0306076","70378","B0 - Primaria                      ","PILCUYO / CALLACHOCO","PILCUYO","CALLACHOCO",3,3,3,0,0,0,0]
["0306118","70379","B0 - Primaria                      ","PILCUYO / QUETY","PILCUYO","QUETY",2,1,1,0,1,0,0]
["0306126","70380","B0 - Primaria                      ","PILCUYO / SARAPI ARROYO","PILCUYO","SARAPI ARROYO",3,3,3,0,0,0,0]
["0306142","70382","B0 - Primaria                      ","ILAVE / OCOÑA","ILAVE","OCOÑA",3,3,3,0,0,0,0]
["0306159","70383","B0 - Primaria                      ","PILCUYO / SANCUTA","PILCUYO","SANCUTA",4,3,3,0,0,0,1]
["0306167","70384","B0 - Primaria                      ","PILCUYO / MARCOLLO","PILCUYO","MARCOLLO",4,3,3,0,0,0,1]
["0306175",70385,"B0 - Primaria                      ","PILCUYO / SARAPI PEÑALOSA / SACARE PEÑALOSA","PILCUYO","SARAPI PEÑALOSA / SACARE PEÑALOSA",2,2,2,0,0,0,0]
["0306183","70386","B0 - Primaria                      ","SANTA ROSA / LLUSTA","SANTA ROSA","LLUSTA",1,1,1,0,0,0,0]
["0306191","70387","B0 - Primaria                      ","SANTA ROSA / HUANACACAMAYA","SANTA ROSA","HUANACACAMAYA",1,1,1,0,0,0,0]
["0306209","70388","B0 - Primaria                      ","SANTA ROSA / SULCANACA","SANTA ROSA","SULCANACA",2,2,2,0,0,0,0]
["0306225","70390","B0 - Primaria                      ","SANTA ROSA / PATAPATA","SANTA ROSA","PATAPATA",1,1,1,0,0,0,0]
["0218412",70607,"B0 - Primaria                      ","ILAVE / VILCACHILI","ILAVE","VILCACHILI",4,4,3,1,0,0,0]
["0243766","70610","B0 - Primaria                      ","CONDURIRI / MIRAFLORES","CONDURIRI","MIRAFLORES",8,7,5,2,0,0,1]
["0218446","70613 TUPAC AMARU","B0 - Primaria                      ","ILAVE / CCOLLPA","ILAVE","CCOLLPA",4,3,3,0,1,0,0]
["0243790","70614 SAN MARTIN DE PORRES","B0 - Primaria                      ","ILAVE / ALASAYA","ILAVE","ALASAYA",46,39,34,5,1,0,6]
["0218453","70617","B0 - Primaria                      ","PILCUYO / CHAULLACAMANI","PILCUYO","CHAULLACAMANI",2,2,2,0,0,0,0]
["0474619","70621","B0 - Primaria                      ","CAPAZO / ANCOMARCA","CAPAZO","ANCOMARCA",2,2,2,0,0,0,0]
["0548909","70626","B0 - Primaria                      ","SANTA ROSA / PUNTA PERDIDA","SANTA ROSA","PUNTA PERDIDA",1,1,1,0,0,0,0]
["0227769","70634","B0 - Primaria                      ","PILCUYO / TICONA","PILCUYO","TICONA",2,2,1,1,0,0,0]
["0529602","70643","B0 - Primaria                      ","SANTA ROSA / AROPATA","SANTA ROSA","AROPATA",1,1,1,0,0,0,0]
["0547612",70648,"B0 - Primaria                      ","ILAVE / THOCORI JARANI","ILAVE","THOCORI JARANI",5,4,4,0,0,0,1]
["0615476","70659","B0 - Primaria                      ","ILAVE / WENCASI","ILAVE","WENCASI",1,1,1,0,0,0,0]
["0529404","70661","B0 - Primaria                      ","ILAVE / CHOQUE","ILAVE","CHOQUE",3,3,3,0,0,0,0]
["0559351","70669","B0 - Primaria                      ","SANTA ROSA / CUIPACUIPA","SANTA ROSA","CUIPACUIPA",1,1,1,0,0,0,0]
["0516146","70685","B0 - Primaria                      ","PILCUYO / CHAJÑA CHAJÑANI / CHOJNECHOUNA","PILCUYO","CHAJÑA CHAJÑANI / CHOJNECHOUNA",3,3,3,0,0,0,0]
["0615294",70686,"B0 - Primaria                      ","ILAVE / CHOCOQUELCANI","ILAVE","CHOCOQUELCANI",6,5,3,2,0,0,1]
["0615328","70711","B0 - Primaria                      ","ILAVE / PUCARA YACANGO","ILAVE","PUCARA YACANGO",2,2,2,0,0,0,0]
["0744342","70712","B0 - Primaria                      ","ILAVE / LOPEZ","ILAVE","LOPEZ",3,3,3,0,0,0,0]
["0516344","70718","B0 - Primaria                      ","ILAVE / ILAVE","ILAVE","ILAVE",13,10,9,1,1,0,2]
["0474429","70722","B0 - Primaria                      ","ILAVE / PANTIHUECO","ILAVE","PANTIHUECO",2,2,2,0,0,0,0]
["0660373","70723","B0 - Primaria                      ","ILAVE / CHECACHATA","ILAVE","CHECACHATA",2,2,1,1,0,0,0]
["0744318","70728 PERU BIRF","B0 - Primaria                      ","ILAVE / JOSE CARLOS MARIATEGUI","ILAVE","JOSE CARLOS MARIATEGUI",18,15,11,4,1,0,2]
["0744383","70730","B0 - Primaria                      ","ILAVE / PALLALLMARCA","ILAVE","PALLALLMARCA",3,3,3,0,0,0,0]
["0755017","70731","B0 - Primaria                      ","ILAVE / LACAYA","ILAVE","LACAYA",3,3,3,0,0,0,0]
["0744359","70733","B0 - Primaria                      ","ILAVE / ESCOLLAYA / JISCULLAYA","ILAVE","ESCOLLAYA / JISCULLAYA",1,1,1,0,0,0,0]
["0744367","70735","B0 - Primaria                      ","ILAVE / QUELCAHUECCO","ILAVE","QUELCAHUECCO",2,2,2,0,0,0,0]
["0755108","70736","B0 - Primaria                      ","ILAVE / SANTA MARIA","ILAVE","SANTA MARIA",2,2,2,0,0,0,0]
["0744417","70737","B0 - Primaria                      ","PILCUYO / JALLUYO","PILCUYO","JALLUYO",3,3,3,0,0,0,0]
["0744425","70738 PERU - BIRF","B0 - Primaria                      ","PILCUYO / PILCUYO","PILCUYO","PILCUYO",4,3,3,0,0,0,1]
["0755272","70739","B0 - Primaria                      ","CONDURIRI / CHIUTIRI HACIENDA","CONDURIRI","CHIUTIRI HACIENDA",1,1,1,0,0,0,0]
[{"$f":"P250","v":0},"70742","B0 - Primaria                      ","ILAVE / CCORPA FLORES","ILAVE","CCORPA FLORES",2,2,2,0,0,0,0]
[{"$f":"B253","v":"70747"},"70743 ESCUELA CONCERTADA CALACOTA","B0 - Primaria                      ","ILAVE / CALACOTA","ILAVE","CALACOTA",4,4,4,0,0,0,0]
[799551,"70747","B0 - Primaria                      ","CAPAZO / PATJATA","CAPAZO","PATJATA",1,1,1,0,0,0,0]
[848754,70748,"B0 - Primaria                      ","PILCUYO / PACCO CUSULLANA","PILCUYO","PACCO CUSULLANA",1,1,1,0,0,0,0]
[1155134,70746,"B0 - Primaria                      ","SANTA ROSA / AYUPALCA","SANTA ROSA","AYUPALCA",1,1,1,0,1,0,0]
[1155134,70746,"B0 - Primaria                      ","ILAVE / AYUPALCA","ILAVE","AYUPALCA",1,1,1,0,0,0,0]
["0848721","70751","B0 - Primaria                      ","PILCUYO / QUISPEMAQUERA","PILCUYO","QUISPEMAQUERA",3,2,2,0,1,0,0]
["0243915","71007 MARIANO ZEVALLOS GONZALES","B0 - Primaria                      ","ILAVE / SAN MIGUEL","ILAVE","SAN MIGUEL",44,36,34,2,1,0,7]
["0239392",71543,"B0 - Primaria                      ","CAPAZO / TUPALA HACIENDA","CAPAZO","TUPALA HACIENDA",5,4,4,0,0,0,1]
["0239392","ANEXO-71543","B0 - Primaria                      ","CAPAZO / SAN SALVADOR TIRACCOLLO","CAPAZO","SAN SALVADOR TIRACCOLLO",0,0,0,0,0,0,0]
["0845719","71545","B0 - Primaria                      ","ILAVE / PAMAYA","ILAVE","PAMAYA",3,3,3,0,0,0,0]
["0232033","ANEXO-70197","B0 - Primaria                      ","CONDURIRI / SICUNI KAMANI","CONDURIRI","SICUNI KAMANI",1,1,1,0,0,0,0]
["1576131","72756","B0 - Primaria                      ","ILAVE / BALSABE","ILAVE","BALSABE",10,7,4,3,2,0,1]
["0660423","ACCASO","F0 - Secundaria                    ",{"$f":"CONCATENATE(E264,\" / \",F264)","v":"PILCUYO / ACCASO"},"PILCUYO","ACCASO",9,8,6,2,0,0,1,0]
["0578906","AUGUSTO SALAZAR BONDY","F0 - Secundaria                    ",{"$f":"CONCATENATE(E265,\" / \",F265)","v":"ILAVE / CHUCARAYA"},"ILAVE","CHUCARAYA",10,9,8,1,0,0,1,0]
["0755280","CANGALLI","F0 - Secundaria                    ","ILAVE / CANGALLE","ILAVE","CANGALLE",9,8,7,1,0,0,1,0]
["1027671","CAPASO","F0 - Secundaria                    ","CAPAZO / CAPASO","CAPAZO","CAPASO",9,8,6,2,0,0,1,0]
["1576115","CARLOS DANTE NAVA","F0 - Secundaria                    ","ILAVE / PHARATA COPANI","ILAVE","PHARATA COPANI",11,8,6,2,2,0,1,0]
["0474593","CESAR VALLEJO","F0 - Secundaria                    ","PILCUYO / 24 DE NOVIEMBRE","PILCUYO","24 DE NOVIEMBRE",23,16,12,4,1,1,5,0]
["1027812","CHIJICHAYA","F0 - Secundaria                    ","ILAVE / CHIJICHAYA","ILAVE","CHIJICHAYA",9,8,6,2,0,0,1,0]
["0578898","HORACIO ZEVALLOS GAMEZ","F0 - Secundaria                    ","ILAVE / JACHOCCO HUARACCO","ILAVE","JACHOCCO HUARACCO",26,21,14,7,0,1,2,2]
["0660431","IES YACANGO","F0 - Secundaria                    ","ILAVE / YACANGO CENTRAL","ILAVE","YACANGO CENTRAL",10,8,7,1,0,1,1,0]
["0522490","JORGE BASADRE","F0 - Secundaria                    ","ILAVE / CAMECACHI","ILAVE","CAMECACHI",35,26,21,5,1,2,3,3]
["0578914","JORGE CHAVEZ","F0 - Secundaria                    ","ILAVE / CHIJUYO","ILAVE","CHIJUYO",10,8,6,2,0,1,1,0]
["0240218","JOSE CARLOS MARIATEGUI","F0 - Secundaria                    ","ILAVE / SAN MIGUEL","ILAVE","SAN MIGUEL",114,88,78,10,4,8,14,0]
["0500439","JOSE MARIA ARGUEDAS","F0 - Secundaria                    ","SANTA ROSA / MAZO CRUZ","SANTA ROSA","MAZO CRUZ",31,23,9,14,1,1,3,3]
["0522391","JOSE OLAYA","F0 - Secundaria                    ","PILCUYO / CHIPANA","PILCUYO","CHIPANA",16,11,9,2,0,1,4,0]
["1540228","JUAN VELASCO ALVARADO","F0 - Secundaria                    ","ILAVE / ROSACANI","ILAVE","ROSACANI",10,8,7,1,0,1,1,0]
["0579003","MANUEL GONZALES PRADA","F0 - Secundaria                    ","PILCUYO / MAQUERCOTA","PILCUYO","MAQUERCOTA",9,8,5,3,0,0,1,0]
["0579011","MARIANO MELGAR","F0 - Secundaria                    ","ILAVE / CALLATA","ILAVE","CALLATA",18,14,9,5,0,1,1,2]
["0578997","MARISCAL RAMON CASTILLA","F0 - Secundaria                    ","PILCUYO / CACHI PUCARA","PILCUYO","CACHI PUCARA",9,8,6,2,0,0,1,0]
["0701532","MICAELA BASTIDAS","F0 - Secundaria                    ","PILCUYO / INCAPIURA","PILCUYO","INCAPIURA",30,24,12,12,0,1,3,2]
["0573196","MIGUEL GRAU","F0 - Secundaria                    ","PILCUYO / HUAYLLATA","PILCUYO","HUAYLLATA",12,10,8,2,1,0,1,0]
["0240283","NUESTRA SEÑORA DEL CARMEN","F0 - Secundaria                    ","ILAVE / SANTA BARBARA","ILAVE","SANTA BARBARA",135,102,89,13,11,8,14,0]
["0537464","PEDRO VILCAPAZA","F0 - Secundaria                    ","ILAVE / SANTA ROSA DE HUAYLLATA","ILAVE","SANTA ROSA DE HUAYLLATA",9,8,7,1,0,0,1,0]
["1761857","PERU BIRF","F0 - Secundaria                    ","ILAVE / JOSE CARLOS MARIATEGUI","ILAVE","JOSE CARLOS MARIATEGUI",11,10,5,5,0,1,0,0]
["0755223","POLITECNICO REGIONAL DON BOSCO","F0 - Secundaria                    ","ILAVE / BELLAVISTA","ILAVE","BELLAVISTA",72,55,41,14,3,4,10,0]
["1633791","PROVIDENCIA","F0 - Secundaria                    ","SANTA ROSA / AJIPINCUCHO","SANTA ROSA","AJIPINCUCHO",9,8,6,2,0,0,1,0]
["1027804","SAN ANTONIO","F0 - Secundaria                    ","ILAVE / CHECCA","ILAVE","CHECCA",23,18,15,3,0,1,2,2]
["0701573","SAN JOSE DE ANCOMARCA","F0 - Secundaria                    ","CAPAZO / ANCOMARCA","CAPAZO","ANCOMARCA",9,8,3,5,0,0,1,0]
["0533810","SANTA ROSA","F0 - Secundaria                    ","SANTA ROSA / SANTA ROSA","SANTA ROSA","SANTA ROSA",8,8,3,5,0,0,0,0]
["0578880","SIRAYA","F0 - Secundaria                    ","ILAVE / SIRAYA","ILAVE","SIRAYA",10,8,7,1,0,1,1,0]
["1653476","TIUTIRI ANTAMARCA","F0 - Secundaria                    ","ILAVE / TIUTIRI","ILAVE","TIUTIRI",10,9,6,3,0,0,1,0]
["0579045","TUPAC AMARU II","F0 - Secundaria                    ","CONDURIRI / CONDURIRI","CONDURIRI","CONDURIRI",22,19,6,13,0,0,1,2]
["0579037","TUPALA","F0 - Secundaria                    ","CAPAZO / TUPALA HACIENDA","CAPAZO","TUPALA HACIENDA",9,8,5,3,0,0,1,0]
["0755199","ULLACACHI","F0 - Secundaria                    ","ILAVE / ULLACACHI","ILAVE","ULLACACHI",9,8,7,1,0,0,1,0]
["1725878","CEBA - SEÑOR DE LOS MILAGROS","EBA - Inicial e Intermedio","Ilave","Ilave","ILAVE"]
["0240465","CEBA - SEÑOR DE LOS MILAGROS","EBA - Avanzado","Ilave","Ilave","ILAVE"]
["1749217","ILAVE","EBE - Inicial","Ilave","Ilave","SAN MIGUEL"]
["1153659","ILAVE","EBE - Primaria","Ilave","Ilave","SAN MIGUEL"]
["0755165","PILCUYO","CETPRO","Pilcuyo","Pilcuyo","CHIPANA"]
["0805028","ILAVE","CETPRO","Ilave","Ilave","BELLAVISTA"]

{"sheet":"CALEND","index":8,"n_rows":28,"n_cols":32,"rows_kept":28,"cut":false,"hidden":true,"merged":[]}
["MESES",1,2,3,4,5,6,7,8,9,10,11,12,13,14,15,16,17,18,19,20,21,22,23,24,25,26,27,28,29,30,31]
[1,{"$f":"TEXT(WEEKDAY(DATE(AñoNatural,$A2,B$1),1),\"[$-c0a]ddd\")","v":"lu."},{"$f":"TEXT(WEEKDAY(DATE(AñoNatural,$A2,C$1),1),\"[$-c0a]ddd\")","v":"ma."},"mi.","ju.","vi.","sá.","do.","lu.","ma.","mi.","ju.","vi.","sá.","do.","lu.","ma.","mi.","ju.","vi.","sá.","do.","lu.","ma.","mi.","ju.","vi.","sá.","do.","lu.","ma.","mi."]
[2,{"$f":"TEXT(WEEKDAY(DATE(AñoNatural,$A3,B$1),1),\"[$-c0a]ddd\")","v":"ju."},"vi.","sá.","do.","lu.","ma.","mi.","ju.","vi.","sá.",{"$f":"TEXT(WEEKDAY(DATE(AñoNatural,$A3,L$1),1),\"[$-c0a]ddd\")","v":"do."},"lu.","ma.","mi.","ju.","vi.","sá.","do.","lu.","ma.",{"$f":"TEXT(WEEKDAY(DATE(AñoNatural,$A3,V$1),1),\"[$-c0a]ddd\")","v":"mi."},"ju.","vi.","sá.","do.","lu.","ma.","mi.",{"$f":"TEXT(WEEKDAY(DATE(AñoNatural,$A3,AD$1),1),\"[$-c0a]ddd\")","v":"ju."}]
[3,"vi.","sá.","do.","lu.","ma.","mi.","ju.","vi.","sá.","do.","lu.","ma.","mi.","ju.","vi.","sá.","do.","lu.","ma.","mi.","ju.","vi.","sá.","do.","lu.","ma.","mi.","ju.",{"$f":"TEXT(WEEKDAY(DATE(AñoNatural,$A4,AD$1),1),\"[$-c0a]ddd\")","v":"vi."},{"$f":"TEXT(WEEKDAY(DATE(AñoNatural,$A4,AE$1),1),\"[$-c0a]ddd\")","v":"sá."},{"$f":"TEXT(WEEKDAY(DATE(AñoNatural,$A4,AF$1),1),\"[$-c0a]ddd\")","v":"do."}]
[4,"lu.","ma.","mi.","ju.","vi.","sá.","do.","lu.","ma.","mi.","ju.","vi.","sá.","do.","lu.","ma.","mi.","ju.","vi.","sá.","do.","lu.","ma.","mi.","ju.","vi.","sá.","do.",{"$f":"TEXT(WEEKDAY(DATE(AñoNatural,$A5,AD$1),1),\"[$-c0a]ddd\")","v":"lu."},"ma."]
[5,"mi.","ju.","vi.","sá.","do.","lu.","ma.","mi.","ju.","vi.","sá.","do.","lu.","ma.","mi.","ju.","vi.","sá.","do.","lu.","ma.","mi.","ju.","vi.","sá.","do.","lu.","ma.","mi.","ju.",{"$f":"TEXT(WEEKDAY(DATE(AñoNatural,$A6,AF$1),1),\"[$-c0a]ddd\")","v":"vi."}]
[6,"sá.","do.","lu.","ma.","mi.","ju.","vi.","sá.","do.","lu.","ma.","mi.","ju.","vi.","sá.","do.","lu.","ma.","mi.","ju.","vi.","sá.","do.","lu.","ma.","mi.","ju.","vi.","sá.","do."]
[7,"lu.","ma.","mi.","ju.","vi.","sá.","do.","lu.","ma.","mi.","ju.","vi.","sá.","do.","lu.","ma.","mi.","ju.","vi.","sá.","do.","lu.","ma.","mi.","ju.","vi.","sá.","do.","lu.","ma.",{"$f":"TEXT(WEEKDAY(DATE(AñoNatural,$A8,AF$1),1),\"[$-c0a]ddd\")","v":"mi."}]
[8,"ju.","vi.","sá.","do.","lu.","ma.","mi.","ju.","vi.","sá.","do.","lu.","ma.","mi.","ju.","vi.","sá.","do.","lu.","ma.","mi.","ju.","vi.","sá.","do.","lu.","ma.","mi.","ju.","vi.",{"$f":"TEXT(WEEKDAY(DATE(AñoNatural,$A9,AF$1),1),\"[$-c0a]ddd\")","v":"sá."}]
[9,"do.","lu.","ma.","mi.","ju.","vi.","sá.","do.","lu.","ma.","mi.","ju.","vi.","sá.","do.","lu.","ma.","mi.","ju.","vi.","sá.","do.","lu.","ma.","mi.","ju.","vi.","sá.","do.","lu."]
[10,"ma.","mi.","ju.","vi.","sá.","do.","lu.","ma.","mi.","ju.","vi.","sá.","do.","lu.","ma.","mi.","ju.","vi.","sá.","do.","lu.","ma.","mi.","ju.","vi.","sá.","do.","lu.","ma.","mi.",{"$f":"TEXT(WEEKDAY(DATE(AñoNatural,$A11,AF$1),1),\"[$-c0a]ddd\")","v":"ju."}]
[11,"vi.","sá.","do.","lu.","ma.","mi.","ju.","vi.","sá.","do.","lu.","ma.","mi.","ju.","vi.","sá.","do.","lu.","ma.","mi.","ju.","vi.","sá.","do.","lu.","ma.","mi.","ju.","vi.","sá."]
[12,"do.","lu.","ma.","mi.","ju.","vi.","sá.","do.","lu.","ma.","mi.","ju.","vi.","sá.","do.","lu.","ma.","mi.","ju.","vi.","sá.","do.","lu.","ma.","mi.","ju.","vi.","sá.","do.","lu.",{"$f":"TEXT(WEEKDAY(DATE(AñoNatural,$A13,AF$1),1),\"[$-c0a]ddd\")","v":"ma."}]
[]
[]
[]
["ENERO",1,null,null,null,null,null,null,"L","Lu."]
["FEBRERO",2,null,null,null,null,null,null,"M","Ma."]
["MARZO",3,null,null,null,null,null,null,"Mi","Mi."]
["ABRIL",4,null,null,null,null,null,null,"J","Ju."]
["MAYO",5,null,null,null,null,null,null,"V","Vi."]
["JUNIO",6,null,null,null,null,null,null,"S","Sa."]
["JULIO",7,null,null,null,null,null,null,"D","Do."]
["AGOSTO",8]
["SEPTIEMBRE",9]
["OCTUBRE",10]
["NOVIEMBRE",11]
["DICIEMBRE",12]