{"text_format":"1","workbook":"xlsx","n_sheets":7,"sheets":["OFICIO","ASISTENCIA","REPORTE CONSOLIDADO","Norma","HORAS EFECTIVAS","DATA","CALEND"],"not_rendered":{"charts":0,"images":8,"macros":1,"external_links":1,"defined_names":11,"comments":0,"pivot_tables":0},"unopened":[],"bounds":{"document_bytes":16777216,"sheet_cells":100000,"rows_first":2000,"rows_last":500,"rows_between":2000,"halvings":0,"cell_chars":16384,"cell_head_chars":4096},"cells_cut":0,"cells_raw":0,"read":"whole","date_system":"1900"}

{"sheet":"OFICIO","index":0,"n_rows":32,"n_cols":6,"rows_kept":32,"cut":false,"hidden":false,"merged":[]}
[]
[null,"Año del Bicentenario de la consolidacion de nuestra Independencia,"]
[null," y de la conmemoracion de las heroicas batalla de Junin y Ayacucho\""]
[]
[null,null,null,null,"Concahui, 01  de julio de 2024.","de agosto de 2024."]
[]
["         OFICIO Nº 013-2024/DREP/DUGELEC/DIEP Nº 70358-C","025-2024 DREP/DUGELEC",null,"/DIEP.Nº 70358-C"]
["         SEÑORA              : DIRECTORA DE LA UNIDAD DE GESTION DUCATIVA LOCAL EL","              : DIRECTORA DE LA UNIDAD DE GESTION EDUCATIVA LOCAL EL",null,"UNIDAD DE GESTION EDUCATIVA UGEL EL","ESTION EDUCATIVA LOCAL EL"]
[null,"                COLLAO ."]
[null,"                 DRA. NORKA B. CCORI TORO"]
["         ASUNTO              : INFORME DE ASISTENCIA DEL PERSONAL DOCENTE Y DIRECTIVO"]
["                                         CORRESPONDIENTE AL MES DE MARZO - 2024 -IEP. Nº 70358 DE","               CORRESPONDIENTE AL MES DE  ABRIL DE LA IEP. Nº 70358 DE  CONCAHUI",null,"E AL MES DE JULIO DE LA IEP. Nº 70358 DE","ULIO 70358 -","IEP. Nº 70358 DE"]
["                                          CONCAHUI.","                CONCAHUI."]
["         REFERENCIA       : RSG Nº 326-2017-MINEDU."]
[]
["                                          Es grato dirigirme a Ud. Con la finalidad de hacerle extensivo un"]
["        cordial saludo a nombre de la comunidad educativa, al mismo tiempo informo sobre "]
["        la asistencia del personal docente y directivo de la Institucion Educativa Primaria Nº "]
["        70358 de Concahui, correspondiente al mes de MARZO - 2024.",null,"respondiente ","al MES DE JULIO- 2024."]
[]
["                                        ADJUNTO:"]
["        - Cuadro Consolidado de Asistencia del MES DE MARZO - 2024",null,null,"el mes de julio  de 2024."]
[]
[null,"               Sin otro particular aprovecho la oportunidad para expresarle mis"]
["         consideraciones mas distingidas. "]
[]
[null,null,null,"                         Atentamente,"]
[]
[null,null,"                                                                                                                  "]
[]
[null,null,null,"                             "]
[null,"                            "]

{"sheet":"ASISTENCIA","index":1,"n_rows":175,"n_cols":59,"rows_kept":175,"cut":false,"hidden":false,"merged":[[0,4,1,34],[6,9,6,12],[7,9,7,12],[7,5,7,7],[6,13,6,25],[7,13,7,25],[5,5,5,25],[6,5,6,7],[4,18,4,20],[4,16,4,17],[3,4,3,35],[4,28,4,34],[4,6,4,10],[2,0,2,38],[170,48,170,51],[166,38,166,39],[169,3,169,4],[168,3,168,4],[10,40,11,40],[167,38,167,39],[165,38,165,39],[10,39,11,39],[167,3,167,4],[166,24,166,37],[165,3,165,4],[166,3,166,4],[9,3,11,3],[9,8,9,38],[174,3,174,4],[170,3,170,4],[171,3,171,4],[172,3,172,4],[173,3,173,4],[9,0,11,0],[6,32,6,36],[164,3,164,4],[9,5,11,5],[9,4,11,4],[9,7,11,7],[9,6,11,6],[10,1,11,1],[10,2,11,2]]}
[null,null,null,null,"NORMAS  PARA EL REGISTRO Y CONTROL  DE ASISTENCIA  Y SU  APLICACIÓN  EN LA PLANILLA  ÚNICA DE PAGOS DE LOS  PROFESORES Y AUXILIARES DE EDUCACIÓN, EN EL  MARCO  DE LA LEY DE REFORMA MAGISTERIAL Y SU REGLAMENTO (R.S.G. N° 326-2017-MINEDU)",null,null,null,null,null,null,null,null,null,null,null,null,null,null,null,null,null,null,null,null,null,null,null,null,null,null,null,null,null,null,null,null,null,null,null,null,null,null,null,null,null,null,null,null,null,null,null,null,null,null,null,"CARGO","CONDICION LABORAL","TURNO"]
[null,null,null,null,null,null,null,null,null,null,null,null,null,null,null,null,null,null,null,null,null,null,null,null,null,null,null,null,null,null,null,null,null,null,null,null,null,null,null,null,null,null,null,null,null,null,null,null,null,null,null,null,null,null,null,null,"Director(e)","Nombrado","Mañana"]
["ANEXO 03",null,null,null,null,null,null,null,null,null,null,null,null,null,null,null,null,null,null,null,null,null,null,null,null,null,null,null,null,null,null,null,null,null,null,null,null,null,null,null,null,null,null,null,null,null,null,null,null,null,null,null,null,null,null,null,"Director Desig.","Destacado","Tarde"]
[null,null,null,null,"FORMATO 01: REPORTE DE ASISTENCIA DETALLADO ",null,null,null,null,null,null,null,null,null,null,null,null,null,null,null,null,null,null,null,null,null,null,null,null,null,null,null,null,null,null,null,null,null,null,null,null,null,null,null,null,null,null,null,null,null,null,null,null,null,null,null,"Sub Director","Contratado","Noche"]
[null,null,null,null,"UGEL: EL COLLAO","MES: ","JULIO",null,null,null,null,{"$f":"VLOOKUP(G5,CALEND!$A$17:$B$28,2,FALSE)","v":7},null,null,null,null,"AÑO:",null,2024,null,null,null,null,{"$f":"+AñoNatural","v":2024},null,"TURNO:",null,null,"Mañana",null,null,null,null,null,null,null,null,null,null,null,null,null,null,null,null,null,null,null,null,null,null,null,null,null,null,null,"Coord. Pedag.","CAS","Mañana y Tarde"]
[null,null,null,null,"INSTITUCIÓN EDUCATIVA:","70358 DE CONCAHUI",null,null,null,null,null,null,null,null,null,null,null,null,null,null,null,null,null,null,null,null,null,null,null,null,null,null,null,null,null,null,null,null,null,null,null,null,null,null,null,null,null,null,null,null,null,null,null,null,null,null,"Profesor","Encargado"]
[null,null,null,null,"NIVEL EDUCATIVO Y MODALIDAD:","PRIMARIA",null,null,null,"DIRECCION:",null,null,null,"COMUNIDAD CONCAHUI",null,null,null,null,null,null,null,null,null,null,null,null,null,null,null,null,null,null,null,null,null,null,null,null,null,null,null,null,null,null,null,null,null,null,null,null,null,null,null,null,null,null,"Aux. Educación"]
[null,null,null,null,"CODIGO MODULAR:","0306019",null,null,null,"DIST / CP:",null,null,null,"ILAVE / TIUTIRI",null,null,null,null,null,null,null,null,null,null,null,null,null,null,null,null,null,null,null,null,null,null,null,null,null,null,null,null,null,null,null,null,null,null,null,null,null,null,null,null,null,null,"Bibliotecario"]
[null,null,null,null,null,null,null,null,null,null,null,null,null,null,null,null,null,null,null,null,null,null,null,null,null,null,null,null,null,null,null,null,null,null,null,null,null,null,null,null,null,null,null,null,null,null,null,null,null,null,null,null,null,null,null,null,"Oficinista"]
["N°",null,null,"DNI","APELLIDOS Y NOMBRES","CARGO","CONDICION LABORAL","JORNADA LABORAL","DIAS CALENDARIO",null,null,null,null,null,null,null,null,null,null,null,null,null,null,null,null,null,null,null,null,null,null,null,null,null,null,null,null,null,null,null,null,null,null,null,null,null,null,null,null,null,null,null,null,null,null,null,"Aux. de Laboratorio"]
[null,"COD MOD II.EE.","MES",null,null,null,null,null,1,2,3,4,5,6,7,8,9,10,11,12,13,14,15,16,17,18,19,20,21,22,23,24,25,26,27,28,29,{"$f":"IF(G5=\"FEBRERO\",\"\",30)","v":30},31,"Inasistencia + LSGH","OBSERVACIONES",null,null,null,null,null,null,null,null,null,null,null,null,null,null,null,"Pers. Servicio"]
[null,null,null,null,null,null,null,null,{"$f":"IF(LEN(VLOOKUP($L$5,CALEND!$A$2:$AF$13,I$11+1,FALSE))>0,VLOOKUP($L$5,CALEND!$A$2:$AF$13,I$11+1,FALSE),\"\")","v":"lu."},{"$f":"IF(LEN(VLOOKUP($L$5,CALEND!$A$2:$AF$13,J$11+1,FALSE))>0,VLOOKUP($L$5,CALEND!$A$2:$AF$13,J$11+1,FALSE),\"\")","v":"ma."},{"$f":"IF(LEN(VLOOKUP($L$5,CALEND!$A$2:$AF$13,K$11+1,FALSE))>0,VLOOKUP($L$5,CALEND!$A$2:$AF$13,K$11+1,FALSE),\"\")","v":"mi."},{"$f":"IF(LEN(VLOOKUP($L$5,CALEND!$A$2:$AF$13,L$11+1,FALSE))>0,VLOOKUP($L$5,CALEND!$A$2:$AF$13,L$11+1,FALSE),\"\")","v":"ju."},{"$f":"IF(LEN(VLOOKUP($L$5,CALEND!$A$2:$AF$13,M$11+1,FALSE))>0,VLOOKUP($L$5,CALEND!$A$2:$AF$13,M$11+1,FALSE),\"\")","v":"vi."},{"$f":"IF(LEN(VLOOKUP($L$5,CALEND!$A$2:$AF$13,N$11+1,FALSE))>0,VLOOKUP($L$5,CALEND!$A$2:$AF$13,N$11+1,FALSE),\"\")","v":"sá."},{"$f":"IF(LEN(VLOOKUP($L$5,CALEND!$A$2:$AF$13,O$11+1,FALSE))>0,VLOOKUP($L$5,CALEND!$A$2:$AF$13,O$11+1,FALSE),\"\")","v":"do."},{"$f":"IF(LEN(VLOOKUP($L$5,CALEND!$A$2:$AF$13,P$11+1,FALSE))>0,VLOOKUP($L$5,CALEND!$A$2:$AF$13,P$11+1,FALSE),\"\")","v":"lu."},{"$f":"IF(LEN(VLOOKUP($L$5,CALEND!$A$2:$AF$13,Q$11+1,FALSE))>0,VLOOKUP($L$5,CALEND!$A$2:$AF$13,Q$11+1,FALSE),\"\")","v":"ma."},{"$f":"IF(LEN(VLOOKUP($L$5,CALEND!$A$2:$AF$13,R$11+1,FALSE))>0,VLOOKUP($L$5,CALEND!$A$2:$AF$13,R$11+1,FALSE),\"\")","v":"mi."},"ma",{"$f":"IF(LEN(VLOOKUP($L$5,CALEND!$A$2:$AF$13,T$11+1,FALSE))>0,VLOOKUP($L$5,CALEND!$A$2:$AF$13,T$11+1,FALSE),\"\")","v":"vi."},{"$f":"IF(LEN(VLOOKUP($L$5,CALEND!$A$2:$AF$13,U$11+1,FALSE))>0,VLOOKUP($L$5,CALEND!$A$2:$AF$13,U$11+1,FALSE),\"\")","v":"sá."},{"$f":"IF(LEN(VLOOKUP($L$5,CALEND!$A$2:$AF$13,V$11+1,FALSE))>0,VLOOKUP($L$5,CALEND!$A$2:$AF$13,V$11+1,FALSE),\"\")","v":"do."},{"$f":"IF(LEN(VLOOKUP($L$5,CALEND!$A$2:$AF$13,W$11+1,FALSE))>0,VLOOKUP($L$5,CALEND!$A$2:$AF$13,W$11+1,FALSE),\"\")","v":"lu."},{"$f":"IF(LEN(VLOOKUP($L$5,CALEND!$A$2:$AF$13,X$11+1,FALSE))>0,VLOOKUP($L$5,CALEND!$A$2:$AF$13,X$11+1,FALSE),\"\")","v":"ma."},{"$f":"IF(LEN(VLOOKUP($L$5,CALEND!$A$2:$AF$13,Y$11+1,FALSE))>0,VLOOKUP($L$5,CALEND!$A$2:$AF$13,Y$11+1,FALSE),\"\")","v":"mi."},{"$f":"IF(LEN(VLOOKUP($L$5,CALEND!$A$2:$AF$13,Z$11+1,FALSE))>0,VLOOKUP($L$5,CALEND!$A$2:$AF$13,Z$11+1,FALSE),\"\")","v":"ju."},{"$f":"IF(LEN(VLOOKUP($L$5,CALEND!$A$2:$AF$13,AA$11+1,FALSE))>0,VLOOKUP($L$5,CALEND!$A$2:$AF$13,AA$11+1,FALSE),\"\")","v":"vi."},{"$f":"IF(LEN(VLOOKUP($L$5,CALEND!$A$2:$AF$13,AB$11+1,FALSE))>0,VLOOKUP($L$5,CALEND!$A$2:$AF$13,AB$11+1,FALSE),\"\")","v":"sá."},{"$f":"IF(LEN(VLOOKUP($L$5,CALEND!$A$2:$AF$13,AC$11+1,FALSE))>0,VLOOKUP($L$5,CALEND!$A$2:$AF$13,AC$11+1,FALSE),\"\")","v":"do."},{"$f":"IF(LEN(VLOOKUP($L$5,CALEND!$A$2:$AF$13,AD$11+1,FALSE))>0,VLOOKUP($L$5,CALEND!$A$2:$AF$13,AD$11+1,FALSE),\"\")","v":"lu."},{"$f":"IF(LEN(VLOOKUP($L$5,CALEND!$A$2:$AF$13,AE$11+1,FALSE))>0,VLOOKUP($L$5,CALEND!$A$2:$AF$13,AE$11+1,FALSE),\"\")","v":"ma."},{"$f":"IF(LEN(VLOOKUP($L$5,CALEND!$A$2:$AF$13,AF$11+1,FALSE))>0,VLOOKUP($L$5,CALEND!$A$2:$AF$13,AF$11+1,FALSE),\"\")","v":"mi."},{"$f":"IF(LEN(VLOOKUP($L$5,CALEND!$A$2:$AF$13,AG$11+1,FALSE))>0,VLOOKUP($L$5,CALEND!$A$2:$AF$13,AG$11+1,FALSE),\"\")","v":"ju."},{"$f":"IF(LEN(VLOOKUP($L$5,CALEND!$A$2:$AF$13,AH$11+1,FALSE))>0,VLOOKUP($L$5,CALEND!$A$2:$AF$13,AH$11+1,FALSE),\"\")","v":"vi."},{"$f":"IF(LEN(VLOOKUP($L$5,CALEND!$A$2:$AF$13,AI$11+1,FALSE))>0,VLOOKUP($L$5,CALEND!$A$2:$AF$13,AI$11+1,FALSE),\"\")","v":"sá."},{"$f":"IF(LEN(VLOOKUP($L$5,CALEND!$A$2:$AF$13,AJ$11+1,FALSE))>0,VLOOKUP($L$5,CALEND!$A$2:$AF$13,AJ$11+1,FALSE),\"\")","v":"do."},{"$f":"IF(LEN(VLOOKUP($L$5,CALEND!$A$2:$AF$13,AK$11+1,FALSE))>0,VLOOKUP($L$5,CALEND!$A$2:$AF$13,AK$11+1,FALSE),\"\")","v":"lu."},{"$f":"IF(AL11=\"\",\"\",IF(LEN(VLOOKUP($L$5,CALEND!$A$2:$AF$13,AL$11+1,FALSE))>0,VLOOKUP($L$5,CALEND!$A$2:$AF$13,AL$11+1,FALSE),\"\"))","v":"ma."},"mi.",null,null,null,"I","LG","LS","LGU","TR","F","T","P","H",null,null,null,null,null,"Secretaria(o)"]
[null,{"$f":"IF(LEN(C13)>0,VLOOKUP($F$6,DATA!$A:$S,2,FALSE),\"\")","v":""},{"$f":"IF(LEN(E13)>0,$G$5,\"\")","v":""},null,null,null,null,null,{"$f":"IF(AND(LEN($E13)>0,I$12<>\"sá.\",I$12<>\"do.\",I$12<>\"\"),\"C\",\"\")","v":""},"","","","","","","","","","","","","","","","","","","","","","","","","","","","","","",{"$f":"IF(OR(COUNTIF($I13:$AM13,\"X\")>0,COUNTIF($I13:$AM13,\"L\")>0),COUNTIF($I13:$AM13,\"X\")+COUNTIF($I13:$AM13,\"L\"),\"\")","v":""},null,null,{"$f":"COUNTIF(J13:AM13,$AO$9)","v":0},{"$f":"COUNTIF(J13:AM13,$AP$9)","v":0},{"$f":"COUNTIF(J13:AM13,$AQ$9)","v":0},{"$f":"COUNTIF(J13:AM13,$AR$9)","v":0},{"$f":"COUNTIF(J13:AM13,$AS$9)","v":0},{"$f":"COUNTIF(J13:AM13,$AT$9)","v":0},null,null,null,null,null,null,null,null,"Vigilante"]
[{"$f":"IF(LEN(E14)>0,1+A13,\"\")","v":1},{"$f":"IF(LEN(C14)>0,VLOOKUP($F$8,DATA!$A$4:$A$296,1,FALSE),\"\")","v":"0306019"},"JULIO","01861672","AROCUTIPA PARI, Irma","Director(e)","Nombrado",40,"A","A",{"$f":"IF(AND(LEN($E14)>0,K$12<>\"sá.\",K$12<>\"do.\",K$12<>\"\"),\"A\",\"\")","v":"A"},"A","A","","","A","A","A","A","A","","","A","A","A","A","A","","","A","F","A","A","A","","","F","A","A",{"$f":"IF(AND(LEN($E14)>0,AN$12<>\"sá.\",AN$12<>\"do.\",AN$12<>\"\"),\"TR\",\"\")","v":""},null,null,{"$f":"COUNTIF(I14:AM14,$AQ$12)","v":0},{"$f":"COUNTIF(I14:AM14,$AR$12)","v":0},{"$f":"COUNTIF(I14:AM14,$AS$12)","v":0},{"$f":"COUNTIF(I14:AM14,$AT$12)","v":0},{"$f":"COUNTIF(I14:AM14,$AU$12)","v":0},{"$f":"COUNTIF(I14:AM14,$AV$12)","v":2},{"$f":"COUNTIF(I14:AM14,$AW$12)","v":0},{"$f":"COUNTIF(I14:AM14,$AX$12)","v":0},{"$f":"COUNTIF(I14:AM14,$AY$12)","v":0},null,null,null,{"$f":"COUNTIF(I14:AM14,\"T\")","v":0},{"$f":"INT(BC14/3)","v":0},"Coord. Adm."]
[{"$f":"IF(LEN(E15)>0,1+A14,\"\")","v":2},{"$f":"IF(LEN(C15)>0,VLOOKUP($F$8,DATA!$A$4:$A$296,1,FALSE),\"\")","v":"0306019"},"JULIO","01217206","SALCEDO MRNDIZABAL, Maria Elena","Profesor","Nombrado",30,{"$f":"IF(AND(LEN($E15)>0,I$12<>\"sá.\",I$12<>\"do.\",I$12<>\"\"),\"A\",\"\")","v":"A"},"A","A","A",{"$f":"IF(AND(LEN($E15)>0,M$12<>\"sá.\",M$12<>\"do.\",M$12<>\"\"),\"A\",\"\")","v":"A"},"","","A",{"$f":"IF(AND(LEN($E15)>0,Q$12<>\"sá.\",Q$12<>\"do.\",Q$12<>\"\"),\"A\",\"\")","v":"A"},"A","A","A",{"$f":"IF(AND(LEN($E15)>0,U$12<>\"sá.\",U$12<>\"do.\",U$12<>\"\"),\"A\",\"\")","v":""},"","A","A",{"$f":"IF(AND(LEN($E15)>0,Y$12<>\"sá.\",Y$12<>\"do.\",Y$12<>\"\"),\"A\",\"\")","v":"A"},"A","A","",{"$f":"IF(AND(LEN($E15)>0,AC$12<>\"sá.\",AC$12<>\"do.\",AC$12<>\"\"),\"A\",\"\")","v":""},"A","F","A",{"$f":"IF(AND(LEN($E15)>0,AG$12<>\"sá.\",AG$12<>\"do.\",AG$12<>\"\"),\"A\",\"\")","v":"A"},"A","","","F",{"$f":"IF(AND(LEN($E15)>0,AL$12<>\"sá.\",AL$12<>\"do.\",AL$12<>\"\"),\"A\",\"\")","v":"A"},"A","",null,null,{"$f":"COUNTIF(I15:AM15,$AQ$12)","v":0},{"$f":"COUNTIF(I15:AM15,$AR$12)","v":0},{"$f":"COUNTIF(I15:AM15,$AS$12)","v":0},{"$f":"COUNTIF(I15:AM15,$AT$12)","v":0},{"$f":"COUNTIF(I15:AM15,$AU$12)","v":0},{"$f":"COUNTIF(I15:AM15,$AV$12)","v":2},{"$f":"COUNTIF(I15:AM15,$AW$12)","v":0},{"$f":"COUNTIF(I15:AM15,$AX$12)","v":0},{"$f":"COUNTIF(I15:AM15,$AY$12)","v":0},null,null,null,0,{"$f":"INT(BC15/3)","v":0},"CIST"]
[3,{"$f":"IF(LEN(C16)>0,VLOOKUP($F$8,DATA!$A$4:$A$296,1,FALSE),\"\")","v":"0306019"},"JULIO","01308070","FLORES ORTEGA, Julia","Profesor","Nombrado",30,"A","A","A","A","A","","","A","A","A","A","A","","","A","A","A","A","A","","","A","F","A","A","A","","","F","A","A","",null,null,0,0,0,0,0,2,0,0,0,null,null,null,0,0,"Psicólogo"]
[4,{"$f":"IF(LEN(C17)>0,VLOOKUP($F$8,DATA!$A$4:$A$296,1,FALSE),\"\")","v":"0306019"},"JULIO","40901688","CONDORI PAUCAR, Mery Yeny","Profesor","Contratado",30,"A","A","A","A","A","","","A","A","A","A","A","","","A","A","A","A","A","","","A","F","A","A","A","","","F","A","A","",null,null,0,0,0,0,0,2,0,0,0,null,null,null,0,0,"Apoyo Educativo"]
["",{"$f":"IF(LEN(C18)>0,VLOOKUP($F$8,DATA!$A$4:$A$296,1,FALSE),\"\")","v":""},"",null,null,null,null,null,"","","","","","","","","","","",null,"","","","","","","","","","","","","","","","","","","","",null,null,0,0,0,0,0,0,0,0,0,null,null,null,0,0,"Pers. Mantenim."]
["",{"$f":"IF(LEN(C19)>0,VLOOKUP($F$8,DATA!$A$4:$A$296,1,FALSE),\"\")","v":""},"",null,null,null,null,null,"","","","","","","","","","","","","","","","","","","","","","","","","","","","","","","","",null,null,0,0,0,0,0,0,0,0,0,null,null,null,0,0]
["",{"$f":"IF(LEN(C20)>0,VLOOKUP($F$8,DATA!$A$4:$A$296,1,FALSE),\"\")","v":""},"",null,null,null,null,null,"","","","","","","","","","","","","","","","","","","","","","","","","","","","","","","","",null,null,0,0,0,0,0,0,0,0,0,null,null,null,0,0]
["",{"$f":"IF(LEN(C21)>0,VLOOKUP($F$8,DATA!$A$4:$A$296,1,FALSE),\"\")","v":""},"",null,null,null,null,null,"","","","","","","","","","","","","","","","","","","","","","","","","","","","","","","","",null,null,0,0,0,0,0,0,0,0,0,null,null,null,0,0]
["",{"$f":"IF(LEN(C22)>0,VLOOKUP($F$8,DATA!$A$4:$A$296,1,FALSE),\"\")","v":""},"",null,null,null,null,null,"","","","","","","","","","","","","","","","","","","","","","","","","","","","","","","","",null,null,0,0,0,0,0,0,0,0,0,null,null,null,0,0]
["",{"$f":"IF(LEN(C23)>0,VLOOKUP($F$8,DATA!$A$4:$A$296,1,FALSE),\"\")","v":""},"",null,null,null,null,null,"","","","","","","","","","","","","","","","","","","","","","","","","","","","","","","","",null,null,0,0,0,0,0,0,0,0,0,null,null,null,0,0]
["",{"$f":"IF(LEN(C24)>0,VLOOKUP($F$8,DATA!$A$4:$A$296,1,FALSE),\"\")","v":""},"",null,null,null,null,null,"","","","","","","","","","","","","","","","","","","","","","","","","","","","","","","","",null,null,0,0,0,0,0,0,0,0,0,null,null,null,0,0]
["",{"$f":"IF(LEN(C25)>0,VLOOKUP($F$8,DATA!$A$4:$A$296,1,FALSE),\"\")","v":""},"",null,null,null,null,null,"","","","","","","","","","","","","","","","","","","","","","","","","","","","","","","","",null,null,0,0,0,0,0,0,0,0,0,null,null,null,0,0]
["",{"$f":"IF(LEN(C26)>0,VLOOKUP($F$8,DATA!$A$4:$A$296,1,FALSE),\"\")","v":""},"",null,null,null,null,null,"","","","","","","","","","","","","","","","","","","","","","","","","","","","","","","","",null,null,0,0,0,0,0,0,0,0,0,null,null,null,0,0]
["",{"$f":"IF(LEN(C27)>0,VLOOKUP($F$8,DATA!$A$4:$A$296,1,FALSE),\"\")","v":""},"",null,null,null,null,null,"","","","","","","","","","","","","","","","","","","","","","","","","","","","","","","","",null,null,0,0,0,0,0,0,0,0,0,null,null,null,0,0]
["",{"$f":"IF(LEN(C28)>0,VLOOKUP($F$8,DATA!$A$4:$A$296,1,FALSE),\"\")","v":""},"",null,null,null,null,null,"","","","","","","","","","","","","","","","","","","","","","","","","","","","","","","","",null,null,0,0,0,0,0,0,0,0,0,null,null,null,0,0]
["",{"$f":"IF(LEN(C29)>0,VLOOKUP($F$8,DATA!$A$4:$A$296,1,FALSE),\"\")","v":""},"",null,null,null,null,null,"","","","","","","","","","","","","","","","","","","","","","","","","","","","","","","","",null,null,0,0,0,0,0,0,0,0,0,null,null,null,0,0]
["",{"$f":"IF(LEN(C30)>0,VLOOKUP($F$8,DATA!$A$4:$A$296,1,FALSE),\"\")","v":""},"",null,null,null,null,null,"","","","","","","","","","","","","","","","","","","","","","","","","","","","","","","","",null,null,0,0,0,0,0,0,0,0,0,null,null,null,0,0]
["",{"$f":"IF(LEN(C31)>0,VLOOKUP($F$8,DATA!$A$4:$A$296,1,FALSE),\"\")","v":""},"",null,null,null,null,null,"","","","","","","","","","","","","","","","","","","","","","","","","","","","","","","","",null,null,0,0,0,0,0,0,0,0,0,null,null,null,0,0]
["",{"$f":"IF(LEN(C32)>0,VLOOKUP($F$8,DATA!$A$4:$A$296,1,FALSE),\"\")","v":""},"",null,null,null,null,null,"","","","","","","","","","","","","","","","","","","","","","","","","","","","","","","","",null,null,0,0,0,0,0,0,0,0,0,null,null,null,0,0]
["",{"$f":"IF(LEN(C33)>0,VLOOKUP($F$8,DATA!$A$4:$A$296,1,FALSE),\"\")","v":""},"",null,null,null,null,null,"","","","","","","","","","","","","","","","","","","","","","","","","","","","","","","","",null,null,0,0,0,0,0,0,0,0,0,null,null,null,0,0]
["",{"$f":"IF(LEN(C34)>0,VLOOKUP($F$8,DATA!$A$4:$A$296,1,FALSE),\"\")","v":""},"",null,null,null,null,null,"","","","","","","","","","","","","","","","","","","","","","","","","","","","","","","","",null,null,0,0,0,0,0,0,0,0,0,null,null,null,0,0]
["",{"$f":"IF(LEN(C35)>0,VLOOKUP($F$8,DATA!$A$4:$A$296,1,FALSE),\"\")","v":""},"",null,null,null,null,null,"","","","","","","","","","","","","","","","","","","","","","","","","","","","","","","","",null,null,0,0,0,0,0,0,0,0,0,null,null,null,0,0]
["",{"$f":"IF(LEN(C36)>0,VLOOKUP($F$8,DATA!$A$4:$A$296,1,FALSE),\"\")","v":""},"",null,null,null,null,null,"","","","","","","","","","","","","","","","","","","","","","","","","","","","","","","","",null,null,0,0,0,0,0,0,0,0,0,null,null,null,0,0]
["",{"$f":"IF(LEN(C37)>0,VLOOKUP($F$8,DATA!$A$4:$A$296,1,FALSE),\"\")","v":""},"",null,null,null,null,null,"","","","","","","","","","","","","","","","","","","","","","","","","","","","","","","","",null,null,0,0,0,0,0,0,0,0,0,null,null,null,0,0]
["",{"$f":"IF(LEN(C38)>0,VLOOKUP($F$8,DATA!$A$4:$A$296,1,FALSE),\"\")","v":""},"",null,null,null,null,null,"","","","","","","","","","","","","","","","","","","","","","","","","","","","","","","","",null,null,0,0,0,0,0,0,0,0,0,null,null,null,0,0]
["",{"$f":"IF(LEN(C39)>0,VLOOKUP($F$8,DATA!$A$4:$A$296,1,FALSE),\"\")","v":""},"",null,null,null,null,null,"","","","","","","","","","","","","","","","","","","","","","","","","","","","","","","","",null,null,0,0,0,0,0,0,0,0,0,null,null,null,0,0]
["",{"$f":"IF(LEN(C40)>0,VLOOKUP($F$8,DATA!$A$4:$A$296,1,FALSE),\"\")","v":""},"",null,null,null,null,null,"","","","","","","","","","","","","","","","","","","","","","","","","","","","","","","","",null,null,0,0,0,0,0,0,0,0,0,null,null,null,0,0]
["",{"$f":"IF(LEN(C41)>0,VLOOKUP($F$8,DATA!$A$4:$A$296,1,FALSE),\"\")","v":""},"",null,null,null,null,null,"","","","","","","","","","","","","","","","","","","","","","","","","","","","","","","","",null,null,0,0,0,0,0,0,0,0,0,null,null,null,0,0]
["",{"$f":"IF(LEN(C42)>0,VLOOKUP($F$8,DATA!$A$4:$A$296,1,FALSE),\"\")","v":""},{"$f":"IF(LEN(E42)>0,$G$5,\"\")","v":""},null,null,null,null,null,"","","","","","","","","","","","","","","","","","","","","","","","","","","","","","","","",null,null,0,0,0,0,0,0,0,0,0,null,null,null,0,0]
["",{"$f":"IF(LEN(C43)>0,VLOOKUP($F$8,DATA!$A$4:$A$296,1,FALSE),\"\")","v":""},"",null,null,null,null,null,"","","","","","","","","","","","","","","","","","","","","","","","","","","","","","","","",null,null,0,0,0,0,0,0,0,0,0,null,null,null,0,0]
["",{"$f":"IF(LEN(C44)>0,VLOOKUP($F$8,DATA!$A$4:$A$296,1,FALSE),\"\")","v":""},"",null,null,null,null,null,"","","","","","","","","","","","","","","","","","","","","","","","","","","","","","","","",null,null,0,0,0,0,0,0,0,0,0,null,null,null,0,0]
["",{"$f":"IF(LEN(C45)>0,VLOOKUP($F$8,DATA!$A$4:$A$296,1,FALSE),\"\")","v":""},null,null,null,null,null,null,"","","","","","","","","","","","","","","","","","","","","","","","","","","","","","","","",null,null,0,0,0,0,0,0,0,0,0,null,null,null,0,0]
["",{"$f":"IF(LEN(C46)>0,VLOOKUP($F$8,DATA!$A$4:$A$296,1,FALSE),\"\")","v":""},null,null,null,null,null,null,"","","","","","","","","","","","","","","","","","","","","","","","","","","","","","","","",null,null,0,0,0,0,0,0,0,0,0,null,null,null,0,0]
["",{"$f":"IF(LEN(C47)>0,VLOOKUP($F$8,DATA!$A$4:$A$296,1,FALSE),\"\")","v":""},null,null,null,null,null,null,"","","","","","","","","","","","","","","","","","","","","","","","","","","","","","","","",null,null,0,0,0,0,0,0,0,0,0,null,null,null,0,0]
["",{"$f":"IF(LEN(C48)>0,VLOOKUP($F$8,DATA!$A$4:$A$296,1,FALSE),\"\")","v":""},null,null,null,null,null,null,"","","","","","","","","","","","","","","","","","","","","","","","","","","","","","","","",null,null,0,0,0,0,0,0,0,0,0,null,null,null,0,0]
["",{"$f":"IF(LEN(C49)>0,VLOOKUP($F$8,DATA!$A$4:$A$296,1,FALSE),\"\")","v":""},null,null,null,null,null,null,"","","","","","","","","","","","","","","","","","","","","","","","","","","","","","","","",null,null,0,0,0,0,0,0,0,0,0,null,null,null,0,0]
["",{"$f":"IF(LEN(C50)>0,VLOOKUP($F$8,DATA!$A$4:$A$296,1,FALSE),\"\")","v":""},null,null,null,null,null,null,"","","","","","","","","","","","","","","","","","","","","","","","","","","","","","","","",null,null,0,0,0,0,0,0,0,0,0,null,null,null,0,0]
["",{"$f":"IF(LEN(C51)>0,VLOOKUP($F$8,DATA!$A$4:$A$296,1,FALSE),\"\")","v":""},null,null,null,null,null,null,"","","","","","","","","","","","","","","","","","","","","","","","","","","","","","","","",null,null,0,0,0,0,0,0,0,0,0,null,null,null,0,0]
["",{"$f":"IF(LEN(C52)>0,VLOOKUP($F$8,DATA!$A$4:$A$296,1,FALSE),\"\")","v":""},null,null,null,null,null,null,"","","","","","","","","","","","","","","","","","","","","","","","","","","","","","","","",null,null,0,0,0,0,0,0,0,0,0,null,null,null,0,0]
["",{"$f":"IF(LEN(C53)>0,VLOOKUP($F$8,DATA!$A$4:$A$296,1,FALSE),\"\")","v":""},null,null,null,null,null,null,"","","","","","","","","","","","","","","","","","","","","","","","","","","","","","","","",null,null,0,0,0,0,0,0,0,0,0,null,null,null,0,0]
["",{"$f":"IF(LEN(C54)>0,VLOOKUP($F$8,DATA!$A$4:$A$296,1,FALSE),\"\")","v":""},null,null,null,null,null,null,"","","","","","","","","","","","","","","","","","","","","","","","","","","","","","","","",null,null,0,0,0,0,0,0,0,0,0,null,null,null,0,0]
["",{"$f":"IF(LEN(C55)>0,VLOOKUP($F$8,DATA!$A$4:$A$296,1,FALSE),\"\")","v":""},null,null,null,null,null,null,"","","","","","","","","","","","","","","","","","","","","","","","","","","","","","","","",null,null,0,0,0,0,0,0,0,0,0,null,null,null,0,0]
["",{"$f":"IF(LEN(C56)>0,VLOOKUP($F$8,DATA!$A$4:$A$296,1,FALSE),\"\")","v":""},null,null,null,null,null,null,"","","","","","","","","","","","","","","","","","","","","","","","","","","","","","","","",null,null,0,0,0,0,0,0,0,0,0,null,null,null,0,0]
["",{"$f":"IF(LEN(C57)>0,VLOOKUP($F$8,DATA!$A$4:$A$296,1,FALSE),\"\")","v":""},null,null,null,null,null,null,"","","","","","","","","","","","","","","","","","","","","","","","","","","","","","","","",null,null,0,0,0,0,0,0,0,0,0,null,null,null,0,0]
["",{"$f":"IF(LEN(C58)>0,VLOOKUP($F$8,DATA!$A$4:$A$296,1,FALSE),\"\")","v":""},null,null,null,null,null,null,"","","","","","","","","","","","","","","","","","","","","","","","","","","","","","","","",null,null,0,0,0,0,0,0,0,0,0,null,null,null,0,0]
["",{"$f":"IF(LEN(C59)>0,VLOOKUP($F$8,DATA!$A$4:$A$296,1,FALSE),\"\")","v":""},null,null,null,null,null,null,"","","","","","","","","","","","","","","","","","","","","","","","","","","","","","","","",null,null,0,0,0,0,0,0,0,0,0,null,null,null,0,0]
["",{"$f":"IF(LEN(C60)>0,VLOOKUP($F$8,DATA!$A$4:$A$296,1,FALSE),\"\")","v":""},null,null,null,null,null,null,"","","","","","","","","","","","","","","","","","","","","","","","","","","","","","","","",null,null,0,0,0,0,0,0,0,0,0,null,null,null,0,0]
["",{"$f":"IF(LEN(C61)>0,VLOOKUP($F$8,DATA!$A$4:$A$296,1,FALSE),\"\")","v":""},null,null,null,null,null,null,"","","","","","","","","","","","","","","","","","","","","","","","","","","","","","","","",null,null,0,0,0,0,0,0,0,0,0,null,null,null,0,0]
["",{"$f":"IF(LEN(C62)>0,VLOOKUP($F$8,DATA!$A$4:$A$296,1,FALSE),\"\")","v":""},null,null,null,null,null,null,"","","","","","","","","","","","","","","","","","","","","","","","","","","","","","","","",null,null,0,0,0,0,0,0,0,0,0,null,null,null,0,0]
["",{"$f":"IF(LEN(C63)>0,VLOOKUP($F$8,DATA!$A$4:$A$296,1,FALSE),\"\")","v":""},null,null,null,null,null,null,"","","","","","","","","","","","","","","","","","","","","","","","","","","","","","","","",null,null,0,0,0,0,0,0,0,0,0,null,null,null,0,0]
["",{"$f":"IF(LEN(C64)>0,VLOOKUP($F$8,DATA!$A$4:$A$296,1,FALSE),\"\")","v":""},null,null,null,null,null,null,"","","","","","","","","","","","","","","","","","","","","","","","","","","","","","","","",null,null,0,0,0,0,0,0,0,0,0,null,null,null,0,0]
["",{"$f":"IF(LEN(C65)>0,VLOOKUP($F$8,DATA!$A$4:$A$296,1,FALSE),\"\")","v":""},null,null,null,null,null,null,"","","","","","","","","","","","","","","","","","","","","","","","","","","","","","","","",null,null,0,0,0,0,0,0,0,0,0,null,null,null,0,0]
["",{"$f":"IF(LEN(C66)>0,VLOOKUP($F$8,DATA!$A$4:$A$296,1,FALSE),\"\")","v":""},null,null,null,null,null,null,"","","","","","","","","","","","","","","","","","","","","","","","","","","","","","","","",null,null,0,0,0,0,0,0,0,0,0,null,null,null,0,0]
["",{"$f":"IF(LEN(C67)>0,VLOOKUP($F$8,DATA!$A$4:$A$296,1,FALSE),\"\")","v":""},null,null,null,null,null,null,"","","","","","","","","","","","","","","","","","","","","","","","","","","","","","","","",null,null,0,0,0,0,0,0,0,0,0,null,null,null,0,0]
["",{"$f":"IF(LEN(C68)>0,VLOOKUP($F$8,DATA!$A$4:$A$296,1,FALSE),\"\")","v":""},null,null,null,null,null,null,"","","","","","","","","","","","","","","","","","","","","","","","","","","","","","","","",null,null,0,0,0,0,0,0,0,0,0,null,null,null,0,0]
["",{"$f":"IF(LEN(C69)>0,VLOOKUP($F$8,DATA!$A$4:$A$296,1,FALSE),\"\")","v":""},null,null,null,null,null,null,"","","","","","","","","","","","","","","","","","","","","","","","","","","","","","","","",null,null,0,0,0,0,0,0,0,0,0,null,null,null,0,0]
["",{"$f":"IF(LEN(C70)>0,VLOOKUP($F$8,DATA!$A$4:$A$296,1,FALSE),\"\")","v":""},null,null,null,null,null,null,"","","","","","","","","","","","","","","","","","","","","","","","","","","","","","","","",null,null,0,0,0,0,0,0,0,0,0,null,null,null,0,0]
["",{"$f":"IF(LEN(C71)>0,VLOOKUP($F$8,DATA!$A$4:$A$296,1,FALSE),\"\")","v":""},null,null,null,null,null,null,"","","","","","","","","","","","","","","","","","","","","","","","","","","","","","","","",null,null,0,0,0,0,0,0,0,0,0,null,null,null,0,0]
["",{"$f":"IF(LEN(C72)>0,VLOOKUP($F$8,DATA!$A$4:$A$296,1,FALSE),\"\")","v":""},null,null,null,null,null,null,"","","","","","","","","","","","","","","","","","","","","","","","","","","","","","","","",null,null,0,0,0,0,0,0,0,0,0,null,null,null,0,0]
["",{"$f":"IF(LEN(C73)>0,VLOOKUP($F$8,DATA!$A$4:$A$296,1,FALSE),\"\")","v":""},null,null,null,null,null,null,"","","","","","","","","","","","","","","","","","","","","","","","","","","","","","","","",null,null,0,0,0,0,0,0,0,0,0,null,null,null,0,0]
["",{"$f":"IF(LEN(C74)>0,VLOOKUP($F$8,DATA!$A$4:$A$296,1,FALSE),\"\")","v":""},null,null,null,null,null,null,"","","","","","","","","","","","","","","","","","","","","","","","","","","","","","","","",null,null,0,0,0,0,0,0,0,0,0,null,null,null,0,0]
["",{"$f":"IF(LEN(C75)>0,VLOOKUP($F$8,DATA!$A$4:$A$296,1,FALSE),\"\")","v":""},null,null,null,null,null,null,"","","","","","","","","","","","","","","","","","","","","","","","","","","","","","","","",null,null,0,0,0,0,0,0,0,0,0,null,null,null,0,0]
["",{"$f":"IF(LEN(C76)>0,VLOOKUP($F$8,DATA!$A$4:$A$296,1,FALSE),\"\")","v":""},null,null,null,null,null,null,"","","","","","","","","","","","","","","","","","","","","","","","","","","","","","","","",null,null,0,0,0,0,0,0,0,0,0,null,null,null,0,0]
["",{"$f":"IF(LEN(C77)>0,VLOOKUP($F$8,DATA!$A$4:$A$296,1,FALSE),\"\")","v":""},null,null,null,null,null,null,"","","","","","","","","","","","","","","","","","","","","","","","","","","","","","","","",null,null,0,0,0,0,0,0,0,0,0,null,null,null,0,0]
["",{"$f":"IF(LEN(C78)>0,VLOOKUP($F$8,DATA!$A$4:$A$296,1,FALSE),\"\")","v":""},null,null,null,null,null,null,"","","",{"$f":"IF(AND(LEN($E78)>0,L$12<>\"sá.\",L$12<>\"do.\",L$12<>\"\"),\"A\",\"\")","v":""},"","","",{"$f":"IF(AND(LEN($E78)>0,P$12<>\"sá.\",P$12<>\"do.\",P$12<>\"\"),\"A\",\"\")","v":""},"","","",{"$f":"IF(AND(LEN($E78)>0,T$12<>\"sá.\",T$12<>\"do.\",T$12<>\"\"),\"A\",\"\")","v":""},"","","",{"$f":"IF(AND(LEN($E78)>0,X$12<>\"sá.\",X$12<>\"do.\",X$12<>\"\"),\"A\",\"\")","v":""},"","","",{"$f":"IF(AND(LEN($E78)>0,AB$12<>\"sá.\",AB$12<>\"do.\",AB$12<>\"\"),\"A\",\"\")","v":""},"","","",{"$f":"IF(AND(LEN($E78)>0,AF$12<>\"sá.\",AF$12<>\"do.\",AF$12<>\"\"),\"A\",\"\")","v":""},"","","",{"$f":"IF(AND(LEN($E78)>0,AJ$12<>\"sá.\",AJ$12<>\"do.\",AJ$12<>\"\"),\"A\",\"\")","v":""},"","","",{"$f":"IF(AND(LEN($E78)>0,AN$12<>\"sá.\",AN$12<>\"do.\",AN$12<>\"\"),\"TR\",\"\")","v":""},null,null,0,0,0,0,0,0,0,0,0,null,null,null,0,0]
[{"$f":"IF(LEN(E79)>0,1+A78,\"\")","v":""},{"$f":"IF(LEN(C79)>0,VLOOKUP($F$8,DATA!$A$4:$A$296,1,FALSE),\"\")","v":""},null,null,null,null,null,null,{"$f":"IF(AND(LEN($E79)>0,I$12<>\"sá.\",I$12<>\"do.\",I$12<>\"\"),\"A\",\"\")","v":""},"","","","","","","","","","","","","","","","","","","","","","","","","","","","","","",{"$f":"IF(AND(LEN($E79)>0,AN$12<>\"sá.\",AN$12<>\"do.\",AN$12<>\"\"),\"TR\",\"\")","v":""},null,null,{"$f":"COUNTIF(I79:AM79,$AQ$12)","v":0},{"$f":"COUNTIF(I79:AM79,$AR$12)","v":0},{"$f":"COUNTIF(I79:AM79,$AS$12)","v":0},{"$f":"COUNTIF(I79:AM79,$AT$12)","v":0},{"$f":"COUNTIF(I79:AM79,$AU$12)","v":0},{"$f":"COUNTIF(I79:AM79,$AV$12)","v":0},{"$f":"COUNTIF(I79:AM79,$AW$12)","v":0},{"$f":"COUNTIF(I79:AM79,$AX$12)","v":0},{"$f":"COUNTIF(I79:AM79,$AY$12)","v":0},null,null,null,0,{"$f":"INT(BC79/3)","v":0}]
["",{"$f":"IF(LEN(C80)>0,VLOOKUP($F$8,DATA!$A$4:$A$296,1,FALSE),\"\")","v":""},null,null,null,null,null,null,"","","","","","","","","","","","","","","","","","","","","","","","","","","","","","","","",null,null,0,0,0,0,0,0,0,0,0,null,null,null,0,0]
["",{"$f":"IF(LEN(C81)>0,VLOOKUP($F$8,DATA!$A$4:$A$296,1,FALSE),\"\")","v":""},null,null,null,null,null,null,"","","","","","","","","","","","","","","","","","","","","","","","","","","","","","","","",null,null,0,0,0,0,0,0,0,0,0,null,null,null,0,0]
["",{"$f":"IF(LEN(C82)>0,VLOOKUP($F$8,DATA!$A$4:$A$296,1,FALSE),\"\")","v":""},null,null,null,null,null,null,"","","","","","","","","","","","","","","","","","","","","","","","","","","","","","","","",null,null,0,0,0,0,0,0,0,0,0,null,null,null,0,0]
["",{"$f":"IF(LEN(C83)>0,VLOOKUP($F$8,DATA!$A$4:$A$296,1,FALSE),\"\")","v":""},null,null,null,null,null,null,"","","","","","","","","","","","","","","","","","","","","","","","","","","","","","","","",null,null,0,0,0,0,0,0,0,0,0,null,null,null,0,0]
["",{"$f":"IF(LEN(C84)>0,VLOOKUP($F$8,DATA!$A$4:$A$296,1,FALSE),\"\")","v":""},null,null,null,null,null,null,"","","","","","","","","","","","","","","","","","","","","","","","","","","","","","","","",null,null,0,0,0,0,0,0,0,0,0,null,null,null,0,0]
["",{"$f":"IF(LEN(C85)>0,VLOOKUP($F$8,DATA!$A$4:$A$296,1,FALSE),\"\")","v":""},null,null,null,null,null,null,"","","","","","","","","","","","","","","","","","","","","","","","","","","","","","","","",null,null,0,0,0,0,0,0,0,0,0,null,null,null,0,0]
["",{"$f":"IF(LEN(C86)>0,VLOOKUP($F$8,DATA!$A$4:$A$296,1,FALSE),\"\")","v":""},null,null,null,null,null,null,"","","","","","","","","","","","","","","","","","","","","","","","","","","","","","","","",null,null,0,0,0,0,0,0,0,0,0,null,null,null,0,0]
["",{"$f":"IF(LEN(C87)>0,VLOOKUP($F$8,DATA!$A$4:$A$296,1,FALSE),\"\")","v":""},null,null,null,null,null,null,"","","","","","","","","","","","","","","","","","","","","","","","","","","","","","","","",null,null,0,0,0,0,0,0,0,0,0,null,null,null,0,0]
["",{"$f":"IF(LEN(C88)>0,VLOOKUP($F$8,DATA!$A$4:$A$296,1,FALSE),\"\")","v":""},null,null,null,null,null,null,"","","","","","","","","","","","","","","","","","","","","","","","","","","","","","","","",null,null,0,0,0,0,0,0,0,0,0,null,null,null,0,0]
["",{"$f":"IF(LEN(C89)>0,VLOOKUP($F$8,DATA!$A$4:$A$296,1,FALSE),\"\")","v":""},null,null,null,null,null,null,"","","","","","","","","","","","","","","","","","","","","","","","","","","","","","","","",null,null,0,0,0,0,0,0,0,0,0,null,null,null,0,0]
["",{"$f":"IF(LEN(C90)>0,VLOOKUP($F$8,DATA!$A$4:$A$296,1,FALSE),\"\")","v":""},null,null,null,null,null,null,"","","","","","","","","","","","","","","","","","","","","","","","","","","","","","","","",null,null,0,0,0,0,0,0,0,0,0,null,null,null,0,0]
["",{"$f":"IF(LEN(C91)>0,VLOOKUP($F$8,DATA!$A$4:$A$296,1,FALSE),\"\")","v":""},null,null,null,null,null,null,"","","","","","","","","","","","","","","","","","","","","","","","","","","","","","","","",null,null,0,0,0,0,0,0,0,0,0,null,null,null,0,0]
["",{"$f":"IF(LEN(C92)>0,VLOOKUP($F$8,DATA!$A$4:$A$296,1,FALSE),\"\")","v":""},null,null,null,null,null,null,"","","","","","","","","","","","","","","","","","","","","","","","","","","","","","","","",null,null,0,0,0,0,0,0,0,0,0,null,null,null,0,0]
["",{"$f":"IF(LEN(C93)>0,VLOOKUP($F$8,DATA!$A$4:$A$296,1,FALSE),\"\")","v":""},null,null,null,null,null,null,"","","","","","","","","","","","","","","","","","","","","","","","","","","","","","","","",null,null,0,0,0,0,0,0,0,0,0,null,null,null,0,0]
["",{"$f":"IF(LEN(C94)>0,VLOOKUP($F$8,DATA!$A$4:$A$296,1,FALSE),\"\")","v":""},null,null,null,null,null,null,"","","","","","","","","","","","","","","","","","","","","","","","","","","","","","","","",null,null,0,0,0,0,0,0,0,0,0,null,null,null,0,0]
["",{"$f":"IF(LEN(C95)>0,VLOOKUP($F$8,DATA!$A$4:$A$296,1,FALSE),\"\")","v":""},null,null,null,null,null,null,"","","","","","","","","","","","","","","","","","","","","","","","","","","","","","","","",null,null,0,0,0,0,0,0,0,0,0,null,null,null,0,0]
["",{"$f":"IF(LEN(C96)>0,VLOOKUP($F$8,DATA!$A$4:$A$296,1,FALSE),\"\")","v":""},null,null,null,null,null,null,"","","","","","","","","","","","","","","","","","","","","","","","","","","","","","","","",null,null,0,0,0,0,0,0,0,0,0,null,null,null,0,0]
["",{"$f":"IF(LEN(C97)>0,VLOOKUP($F$8,DATA!$A$4:$A$296,1,FALSE),\"\")","v":""},null,null,null,null,null,null,"","","","","","","","","","","","","","","","","","","","","","","","","","","","","","","","",null,null,0,0,0,0,0,0,0,0,0,null,null,null,0,0]
["",{"$f":"IF(LEN(C98)>0,VLOOKUP($F$8,DATA!$A$4:$A$296,1,FALSE),\"\")","v":""},null,null,null,null,null,null,"","","","","","","","","","","","","","","","","","","","","","","","","","","","","","","","",null,null,0,0,0,0,0,0,0,0,0,null,null,null,0,0]
["",{"$f":"IF(LEN(C99)>0,VLOOKUP($F$8,DATA!$A$4:$A$296,1,FALSE),\"\")","v":""},null,null,null,null,null,null,"","","","","","","","","","","","","","","","","","","","","","","","","","","","","","","","",null,null,0,0,0,0,0,0,0,0,0,null,null,null,0,0]
["",{"$f":"IF(LEN(C100)>0,VLOOKUP($F$8,DATA!$A$4:$A$296,1,FALSE),\"\")","v":""},null,null,null,null,null,null,"","","","","","","","","","","","","","","","","","","","","","","","","","","","","","","","",null,null,0,0,0,0,0,0,0,0,0,null,null,null,0,0]
["",{"$f":"IF(LEN(C101)>0,VLOOKUP($F$8,DATA!$A$4:$A$296,1,FALSE),\"\")","v":""},null,null,null,null,null,null,"","","","","","","","","","","","","","","","","","","","","","","","","","","","","","","","",null,null,0,0,0,0,0,0,0,0,0,null,null,null,0,0]
["",{"$f":"IF(LEN(C102)>0,VLOOKUP($F$8,DATA!$A$4:$A$296,1,FALSE),\"\")","v":""},null,null,null,null,null,null,"","","","","","","","","","","","","","","","","","","","","","","","","","","","","","","","",null,null,0,0,0,0,0,0,0,0,0,null,null,null,0,0]
["",{"$f":"IF(LEN(C103)>0,VLOOKUP($F$8,DATA!$A$4:$A$296,1,FALSE),\"\")","v":""},null,null,null,null,null,null,"","","","","","","","","","","","","","","","","","","","","","","","","","","","","","","","",null,null,0,0,0,0,0,0,0,0,0,null,null,null,0,0]
["",{"$f":"IF(LEN(C104)>0,VLOOKUP($F$8,DATA!$A$4:$A$296,1,FALSE),\"\")","v":""},null,null,null,null,null,null,"","","","","","","","","","","","","","","","","","","","","","","","","","","","","","","","",null,null,0,0,0,0,0,0,0,0,0,null,null,null,0,0]
["",{"$f":"IF(LEN(C105)>0,VLOOKUP($F$8,DATA!$A$4:$A$296,1,FALSE),\"\")","v":""},null,null,null,null,null,null,"","","","","","","","","","","","","","","","","","","","","","","","","","","","","","","","",null,null,0,0,0,0,0,0,0,0,0,null,null,null,0,0]
["",{"$f":"IF(LEN(C106)>0,VLOOKUP($F$8,DATA!$A$4:$A$296,1,FALSE),\"\")","v":""},null,null,null,null,null,null,"","","","","","","","","","","","","","","","","","","","","","","","","","","","","","","","",null,null,0,0,0,0,0,0,0,0,0,null,null,null,0,0]
["",{"$f":"IF(LEN(C107)>0,VLOOKUP($F$8,DATA!$A$4:$A$296,1,FALSE),\"\")","v":""},null,null,null,null,null,null,"","","","","","","","","","","","","","","","","","","","","","","","","","","","","","","","",null,null,0,0,0,0,0,0,0,0,0,null,null,null,0,0]
["",{"$f":"IF(LEN(C108)>0,VLOOKUP($F$8,DATA!$A$4:$A$296,1,FALSE),\"\")","v":""},null,null,null,null,null,null,"","","","","","","","","","","","","","","","","","","","","","","","","","","","","","","","",null,null,0,0,0,0,0,0,0,0,0,null,null,null,0,0]
["",{"$f":"IF(LEN(C109)>0,VLOOKUP($F$8,DATA!$A$4:$A$296,1,FALSE),\"\")","v":""},null,null,null,null,null,null,"","","","","","","","","","","","","","","","","","","","","","","","","","","","","","","","",null,null,0,0,0,0,0,0,0,0,0,null,null,null,0,0]
["",{"$f":"IF(LEN(C110)>0,VLOOKUP($F$8,DATA!$A$4:$A$296,1,FALSE),\"\")","v":""},null,null,null,null,null,null,"","","","","","","","","","","","","","","","","","","","","","","","","","","","","","","","",null,null,0,0,0,0,0,0,0,0,0,null,null,null,0,0]
["",{"$f":"IF(LEN(C111)>0,VLOOKUP($F$8,DATA!$A$4:$A$296,1,FALSE),\"\")","v":""},null,null,null,null,null,null,"","","","","","","","","","","","","","","","","","","","","","","","","","","","","","","","",null,null,0,0,0,0,0,0,0,0,0,null,null,null,0,0]
["",{"$f":"IF(LEN(C112)>0,VLOOKUP($F$8,DATA!$A$4:$A$296,1,FALSE),\"\")","v":""},null,null,null,null,null,null,"","","","","","","","","","","","","","","","","","","","","","","","","","","","","","","","",null,null,0,0,0,0,0,0,0,0,0,null,null,null,0,0]
["",{"$f":"IF(LEN(C113)>0,VLOOKUP($F$8,DATA!$A$4:$A$296,1,FALSE),\"\")","v":""},null,null,null,null,null,null,"","","","","","","","","","","","","","","","","","","","","","","","","","","","","","","","",null,null,0,0,0,0,0,0,0,0,0,null,null,null,0,0]
["",{"$f":"IF(LEN(C114)>0,VLOOKUP($F$8,DATA!$A$4:$A$296,1,FALSE),\"\")","v":""},null,null,null,null,null,null,"","","","","","","","","","","","","","","","","","","","","","","","","","","","","","","","",null,null,0,0,0,0,0,0,0,0,0,null,null,null,0,0]
["",{"$f":"IF(LEN(C115)>0,VLOOKUP($F$8,DATA!$A$4:$A$296,1,FALSE),\"\")","v":""},null,null,null,null,null,null,"","","","","","","","","","","","","","","","","","","","","","","","","","","","","","","","",null,null,0,0,0,0,0,0,0,0,0,null,null,null,0,0]
["",{"$f":"IF(LEN(C116)>0,VLOOKUP($F$8,DATA!$A$4:$A$296,1,FALSE),\"\")","v":""},null,null,null,null,null,null,"","","","","","","","","","","","","","","","","","","","","","","","","","","","","","","","",null,null,0,0,0,0,0,0,0,0,0,null,null,null,0,0]
["",{"$f":"IF(LEN(C117)>0,VLOOKUP($F$8,DATA!$A$4:$A$296,1,FALSE),\"\")","v":""},null,null,null,null,null,null,"","","","","","","","","","","","","","","","","","","","","","","","","","","","","","","","",null,null,0,0,0,0,0,0,0,0,0,null,null,null,0,0]
["",{"$f":"IF(LEN(C118)>0,VLOOKUP($F$8,DATA!$A$4:$A$296,1,FALSE),\"\")","v":""},null,null,null,null,null,null,"","","","","","","","","","","","","","","","","","","","","","","","","","","","","","","","",null,null,0,0,0,0,0,0,0,0,0,null,null,null,0,0]
["",{"$f":"IF(LEN(C119)>0,VLOOKUP($F$8,DATA!$A$4:$A$296,1,FALSE),\"\")","v":""},null,null,null,null,null,null,"","","","","","","","","","","","","","","","","","","","","","","","","","","","","","","","",null,null,0,0,0,0,0,0,0,0,0,null,null,null,0,0]
["",{"$f":"IF(LEN(C120)>0,VLOOKUP($F$8,DATA!$A$4:$A$296,1,FALSE),\"\")","v":""},null,null,null,null,null,null,"","","","","","","","","","","","","","","","","","","","","","","","","","","","","","","","",null,null,0,0,0,0,0,0,0,0,0,null,null,null,0,0]
["",{"$f":"IF(LEN(C121)>0,VLOOKUP($F$8,DATA!$A$4:$A$296,1,FALSE),\"\")","v":""},null,null,null,null,null,null,"","","","","","","","","","","","","","","","","","","","","","","","","","","","","","","","",null,null,0,0,0,0,0,0,0,0,0,null,null,null,0,0]
["",{"$f":"IF(LEN(C122)>0,VLOOKUP($F$8,DATA!$A$4:$A$296,1,FALSE),\"\")","v":""},null,null,null,null,null,null,"","","","","","","","","","","","","","","","","","","","","","","","","","","","","","","","",null,null,0,0,0,0,0,0,0,0,0,null,null,null,0,0]
["",{"$f":"IF(LEN(C123)>0,VLOOKUP($F$8,DATA!$A$4:$A$296,1,FALSE),\"\")","v":""},null,null,null,null,null,null,"","","","","","","","","","","","","","","","","","","","","","","","","","","","","","","","",null,null,0,0,0,0,0,0,0,0,0,null,null,null,0,0]
["",{"$f":"IF(LEN(C124)>0,VLOOKUP($F$8,DATA!$A$4:$A$296,1,FALSE),\"\")","v":""},null,null,null,null,null,null,"","","","","","","","","","","","","","","","","","","","","","","","","","","","","","","","",null,null,0,0,0,0,0,0,0,0,0,null,null,null,0,0]
["",{"$f":"IF(LEN(C125)>0,VLOOKUP($F$8,DATA!$A$4:$A$296,1,FALSE),\"\")","v":""},null,null,null,null,null,null,"","","","","","","","","","","","","","","","","","","","","","","","","","","","","","","","",null,null,0,0,0,0,0,0,0,0,0,null,null,null,0,0]
["",{"$f":"IF(LEN(C126)>0,VLOOKUP($F$8,DATA!$A$4:$A$296,1,FALSE),\"\")","v":""},null,null,null,null,null,null,"","","","","","","","","","","","","","","","","","","","","","","","","","","","","","","","",null,null,0,0,0,0,0,0,0,0,0,null,null,null,0,0]
["",{"$f":"IF(LEN(C127)>0,VLOOKUP($F$8,DATA!$A$4:$A$296,1,FALSE),\"\")","v":""},null,null,null,null,null,null,"","","","","","","","","","","","","","","","","","","","","","","","","","","","","","","","",null,null,0,0,0,0,0,0,0,0,0,null,null,null,0,0]
["",{"$f":"IF(LEN(C128)>0,VLOOKUP($F$8,DATA!$A$4:$A$296,1,FALSE),\"\")","v":""},null,null,null,null,null,null,"","","","","","","","","","","","","","","","","","","","","","","","","","","","","","","","",null,null,0,0,0,0,0,0,0,0,0,null,null,null,0,0]
["",{"$f":"IF(LEN(C129)>0,VLOOKUP($F$8,DATA!$A$4:$A$296,1,FALSE),\"\")","v":""},null,null,null,null,null,null,"","","","","","","","","","","","","","","","","","","","","","","","","","","","","","","","",null,null,0,0,0,0,0,0,0,0,0,null,null,null,0,0]
["",{"$f":"IF(LEN(C130)>0,VLOOKUP($F$8,DATA!$A$4:$A$296,1,FALSE),\"\")","v":""},null,null,null,null,null,null,"","","","","","","","","","","","","","","","","","","","","","","","","","","","","","","","",null,null,0,0,0,0,0,0,0,0,0,null,null,null,0,0]
["",{"$f":"IF(LEN(C131)>0,VLOOKUP($F$8,DATA!$A$4:$A$296,1,FALSE),\"\")","v":""},null,null,null,null,null,null,"","","","","","","","","","","","","","","","","","","","","","","","","","","","","","","","",null,null,0,0,0,0,0,0,0,0,0,null,null,null,0,0]
["",{"$f":"IF(LEN(C132)>0,VLOOKUP($F$8,DATA!$A$4:$A$296,1,FALSE),\"\")","v":""},null,null,null,null,null,null,"","","","","","","","","","","","","","","","","","","","","","","","","","","","","","","","",null,null,0,0,0,0,0,0,0,0,0,null,null,null,0,0]
["",{"$f":"IF(LEN(C133)>0,VLOOKUP($F$8,DATA!$A$4:$A$296,1,FALSE),\"\")","v":""},null,null,null,null,null,null,"","","","","","","","","","","","","","","","","","","","","","","","","","","","","","","","",null,null,0,0,0,0,0,0,0,0,0,null,null,null,0,0]
["",{"$f":"IF(LEN(C134)>0,VLOOKUP($F$8,DATA!$A$4:$A$296,1,FALSE),\"\")","v":""},null,null,null,null,null,null,"","","","","","","","","","","","","","","","","","","","","","","","","","","","","","","","",null,null,0,0,0,0,0,0,0,0,0,null,null,null,0,0]
["",{"$f":"IF(LEN(C135)>0,VLOOKUP($F$8,DATA!$A$4:$A$296,1,FALSE),\"\")","v":""},null,null,null,null,null,null,"","","","","","","","","","","","","","","","","","","","","","","","","","","","","","","","",null,null,0,0,0,0,0,0,0,0,0,null,null,null,0,0]
["",{"$f":"IF(LEN(C136)>0,VLOOKUP($F$8,DATA!$A$4:$A$296,1,FALSE),\"\")","v":""},null,null,null,null,null,null,"","","","","","","","","","","","","","","","","","","","","","","","","","","","","","","","",null,null,0,0,0,0,0,0,0,0,0,null,null,null,0,0]
["",{"$f":"IF(LEN(C137)>0,VLOOKUP($F$8,DATA!$A$4:$A$296,1,FALSE),\"\")","v":""},null,null,null,null,null,null,"","","","","","","","","","","","","","","","","","","","","","","","","","","","","","","","",null,null,0,0,0,0,0,0,0,0,0,null,null,null,0,0]
["",{"$f":"IF(LEN(C138)>0,VLOOKUP($F$8,DATA!$A$4:$A$296,1,FALSE),\"\")","v":""},null,null,null,null,null,null,"","","","","","","","","","","","","","","","","","","","","","","","","","","","","","","","",null,null,0,0,0,0,0,0,0,0,0,null,null,null,0,0]
["",{"$f":"IF(LEN(C139)>0,VLOOKUP($F$8,DATA!$A$4:$A$296,1,FALSE),\"\")","v":""},null,null,null,null,null,null,"","","","","","","","","","","","","","","","","","","","","","","","","","","","","","","","",null,null,0,0,0,0,0,0,0,0,0,null,null,null,0,0]
["",{"$f":"IF(LEN(C140)>0,VLOOKUP($F$8,DATA!$A$4:$A$296,1,FALSE),\"\")","v":""},null,null,null,null,null,null,"","","","","","","","","","","","","","","","","","","","","","","","","","","","","","","","",null,null,0,0,0,0,0,0,0,0,0,null,null,null,0,0]
["",{"$f":"IF(LEN(C141)>0,VLOOKUP($F$8,DATA!$A$4:$A$296,1,FALSE),\"\")","v":""},null,null,null,null,null,null,"","","","","","","","","","","","","","","","","","","","","","","","","","","","","","","","",null,null,0,0,0,0,0,0,0,0,0,null,null,null,0,0]
["",{"$f":"IF(LEN(C142)>0,VLOOKUP($F$8,DATA!$A$4:$A$296,1,FALSE),\"\")","v":""},null,null,null,null,null,null,"","","","","","","","","","","","","","","","",{"$f":"IF(AND(LEN($E142)>0,Y$12<>\"sá.\",Y$12<>\"do.\",Y$12<>\"\"),\"A\",\"\")","v":""},"","","","","","","","","","","",{"$f":"IF(AND(LEN($E142)>0,AK$12<>\"sá.\",AK$12<>\"do.\",AK$12<>\"\"),\"A\",\"\")","v":""},"","","",null,null,0,0,0,0,0,0,0,0,0,null,null,null,0,0]
[{"$f":"IF(LEN(E143)>0,1+A142,\"\")","v":""},{"$f":"IF(LEN(C143)>0,VLOOKUP($F$8,DATA!$A$4:$A$296,1,FALSE),\"\")","v":""},null,null,null,null,null,null,{"$f":"IF(AND(LEN($E143)>0,I$12<>\"sá.\",I$12<>\"do.\",I$12<>\"\"),\"A\",\"\")","v":""},"","","","","","","","","","","","",{"$f":"IF(AND(LEN($E143)>0,V$12<>\"sá.\",V$12<>\"do.\",V$12<>\"\"),\"A\",\"\")","v":""},"","","","","","","","","","","","","","","","","",{"$f":"IF(AND(LEN($E143)>0,AN$12<>\"sá.\",AN$12<>\"do.\",AN$12<>\"\"),\"TR\",\"\")","v":""},null,null,{"$f":"COUNTIF(I143:AM143,$AQ$12)","v":0},{"$f":"COUNTIF(I143:AM143,$AR$12)","v":0},{"$f":"COUNTIF(I143:AM143,$AS$12)","v":0},{"$f":"COUNTIF(I143:AM143,$AT$12)","v":0},{"$f":"COUNTIF(I143:AM143,$AU$12)","v":0},{"$f":"COUNTIF(I143:AM143,$AV$12)","v":0},{"$f":"COUNTIF(I143:AM143,$AW$12)","v":0},{"$f":"COUNTIF(I143:AM143,$AX$12)","v":0},{"$f":"COUNTIF(I143:AM143,$AY$12)","v":0},null,null,null,0,{"$f":"INT(BC143/3)","v":0}]
["",{"$f":"IF(LEN(C144)>0,VLOOKUP($F$8,DATA!$A$4:$A$296,1,FALSE),\"\")","v":""},null,null,null,null,null,null,"","","","","","","","","","","","","","","","","","","","","","","","","","","","","","","","",null,null,0,0,0,0,0,0,0,0,0,null,null,null,0,0]
["",{"$f":"IF(LEN(C145)>0,VLOOKUP($F$8,DATA!$A$4:$A$296,1,FALSE),\"\")","v":""},null,null,null,null,null,null,"","","","","","","","","","","","","","","","","","","","","","","","","","","","","","","","",null,null,0,0,0,0,0,0,0,0,0,null,null,null,0,0]
["",{"$f":"IF(LEN(C146)>0,VLOOKUP($F$8,DATA!$A$4:$A$296,1,FALSE),\"\")","v":""},null,null,null,null,null,null,"","","","","","","","","","","","",{"$f":"IF(AND(LEN($E146)>0,U$12<>\"sá.\",U$12<>\"do.\",U$12<>\"\"),\"A\",\"\")","v":""},"","","","","","","","","","","","","","","","","","","",null,null,0,0,0,0,0,0,0,0,0,null,null,null,0,0]
["",{"$f":"IF(LEN(C147)>0,VLOOKUP($F$8,DATA!$A$4:$A$296,1,FALSE),\"\")","v":""},null,null,null,null,null,null,"","","","","","","","","","","","","","","","","","","","","","","","","","","","","","","","",null,null,0,0,0,0,0,0,0,0,0,null,null,null,0,0]
["",{"$f":"IF(LEN(C148)>0,VLOOKUP($F$8,DATA!$A$4:$A$296,1,FALSE),\"\")","v":""},null,null,null,null,null,null,"","","","","","","","","","","","","","","","","","","","","","","","","","","","","","","","",null,null,0,0,0,0,0,0,0,0,0,null,null,null,0,0]
["",{"$f":"IF(LEN(C149)>0,VLOOKUP($F$8,DATA!$A$4:$A$296,1,FALSE),\"\")","v":""},null,null,null,null,null,null,"","","","","","","","","","","","","","","","","","","","","","","","","","","","","","","","",null,null,0,0,0,0,0,0,0,0,0,null,null,null,0,0]
["",{"$f":"IF(LEN(C150)>0,VLOOKUP($F$8,DATA!$A$4:$A$296,1,FALSE),\"\")","v":""},null,null,null,null,null,null,"","","","","","","","","","","","","","","","","","","","","","","","","","","","","","","","",null,null,0,0,0,0,0,0,0,0,0,null,null,null,0,0]
["",{"$f":"IF(LEN(C151)>0,VLOOKUP($F$8,DATA!$A$4:$A$296,1,FALSE),\"\")","v":""},null,null,null,null,null,null,"","","","","","","","","","","","","","","","","","","","","","","","","","","","","","","","",null,null,0,0,0,0,0,0,0,0,0,null,null,null,0,0]
["",{"$f":"IF(LEN(C152)>0,VLOOKUP($F$8,DATA!$A$4:$A$296,1,FALSE),\"\")","v":""},null,null,null,null,null,null,"","","","","","","","","","","","","","","","","","","","","","","","","","","","","","","","",null,null,0,0,0,0,0,0,0,0,0,null,null,null,0,0]
["",{"$f":"IF(LEN(C153)>0,VLOOKUP($F$8,DATA!$A$4:$A$296,1,FALSE),\"\")","v":""},null,null,null,null,null,null,"","","","","","","","","","","","","","","","","","","","","","","","","","","","","","","","",null,null,0,0,0,0,0,0,0,0,0,null,null,null,0,0]
["",{"$f":"IF(LEN(C154)>0,VLOOKUP($F$8,DATA!$A$4:$A$296,1,FALSE),\"\")","v":""},null,null,null,null,null,null,"","","","","","","","","","","","","","","","","","","","","","","","","","","","","","","","",null,null,0,0,0,0,0,0,0,0,0,null,null,null,0,0]
["",{"$f":"IF(LEN(C155)>0,VLOOKUP($F$8,DATA!$A$4:$A$296,1,FALSE),\"\")","v":""},null,null,null,null,null,null,"","","","","","","","","","","","","","","","","","","","","","","","","","","",{"$f":"IF(AND(LEN($E155)>0,AJ$12<>\"sá.\",AJ$12<>\"do.\",AJ$12<>\"\"),\"A\",\"\")","v":""},"","","","",null,null,0,0,0,0,0,0,0,0,0,null,null,null,0,0]
["",{"$f":"IF(LEN(C156)>0,VLOOKUP($F$8,DATA!$A$4:$A$296,1,FALSE),\"\")","v":""},null,null,null,null,null,null,"","","","","","","","","","","","","","","","","","","","","","","","","","","","","","","","",null,null,0,0,0,0,0,0,0,0,0,null,null,null,0,0]
["",{"$f":"IF(LEN(C157)>0,VLOOKUP($F$8,DATA!$A$4:$A$296,1,FALSE),\"\")","v":""},null,null,null,null,null,null,"","","","","","","","","","","","","","","","","","","","","","","","","","","","","","","","",null,null,0,0,0,0,0,0,0,0,0,null,null,null,0,0]
["",{"$f":"IF(LEN(C158)>0,VLOOKUP($F$8,DATA!$A$4:$A$296,1,FALSE),\"\")","v":""},null,null,null,null,null,null,"","","","","","","","","","","","","","","","","","","","","","","","","","","","","","","","",null,null,0,0,0,0,0,0,0,0,0,null,null,null,0,0]
["",{"$f":"IF(LEN(C159)>0,VLOOKUP($F$8,DATA!$A$4:$A$296,1,FALSE),\"\")","v":""},null,null,null,null,null,null,"","","","","","","","","","","","","","","","","","","","","","","","","","","","","","","","",null,null,0,0,0,0,0,0,0,0,0,null,null,null,0,0]
["",{"$f":"IF(LEN(C160)>0,VLOOKUP($F$8,DATA!$A$4:$A$296,1,FALSE),\"\")","v":""},null,null,null,null,null,null,"","","","","","","","","","","","","","","","","","","","","","","","","","","","","","","","",null,null,0,0,0,0,0,0,0,0,0,null,null,null,0,0]
["",{"$f":"IF(LEN(C161)>0,VLOOKUP($F$8,DATA!$A$4:$A$296,1,FALSE),\"\")","v":""},null,null,null,null,null,null,"","","","","","","","","","","","","","","","","","","","","","","","","","","","","","","","",null,null,0,0,0,0,0,0,0,0,0,null,null,null,0,0]
["",{"$f":"IF(LEN(C162)>0,VLOOKUP($F$8,DATA!$A$4:$A$296,1,FALSE),\"\")","v":""},null,null,null,null,null,null,"","","","","","","","","","","","","","","","","","","","","","","","","","","","","","","","",null,null,0,0,0,0,0,0,0,0,0,null,null,null,0,0]
["",{"$f":"IF(LEN(C163)>0,VLOOKUP($F$8,DATA!$A$4:$A$296,1,FALSE),\"\")","v":""},"",null,null,null,null,null,"","","","","","","","","","","","","","","","","","","","","","","","","","","","","","","","",null,null,0,0,0,0,0,0,0,0,0,null,null,null,{"$f":"COUNTIF(I163:AM163,\"T\")","v":0},0]
["LEYENDA:",{"$f":"IF(LEN(C164)>0,VLOOKUP($F$6,DATA!$A:$S,2,FALSE),\"\")","v":""}]
["A",null,"C","ASISTENCIA"]
["I",null,"L","INASISTENCIA INJUSTIFICADA",null,null,null,null,null,null,null,null,null,null,null,null,null,null,null,null,null,null,null,null,null,null,null,null,null,null,null,null,null,null,null,null,null,null,null,null,"NOMBRADO (A)",null,null,null,null,null,null,"I","INASISTENCIA INJUSTIFICADA"]
["LG",null,null,"LICENCIA CON GOCE DE REMUNERACIONES ",null,null,null,null,null,null,null,null,null,null,null,null,null,null,null,null,null,null,null,"LUGAR Y FECHA:","Concahui, 01 de agosto de 2024.",null,null,null,null,null,null,null,null,null,null,null,null,null,null,null,"CONTRATADO (A)",null,null,null,null,null,null,"LG","LICENCIA CON GOCE DE REMUNERACIONES "]
["LS",null,null,"LICENCIA SIN GOCE DE REMUNERACIONES ",null,null,null,null,null,null,null,null,null,null,null,null,null,null,null,null,null,null,null,null,null,null,null,null,null,null,null,null,null,null,null,null,null,null,null,null,"DESTACADO (A)",null,null,null,null,null,null,"LS","LICENCIA SIN GOCE DE REMUNERACIONES "]
["LGU",null,"J","LICENCIA CON GOCE POR DECRETO DE URGENCIA"]
["TR",null,"X","TRABAJO REMOTO POR DECRETO DE URGENCIA",null,null,null,null,null,null,null,null,null,null,null,null,null,null,null,null,null,null,null,null,null,null,null,null,null,null,null,null,null,null,null,null,null,null,null,null,null,null,null,null,null,null,null,"LGU","LICENCIA CON GOCE POR DECRETO DE URGENCIA"]
["F",null,null,"FALTAS",null,null,null,null,null,null,null,null,null,null,null,null,null,null,null,null,null,null,null,null,null,null,null,null,null,null,null,null,null,null,null,null,null,null,null,null,null,null,null,null,null,null,null,"TR","TRABAJO REMOTO POR DECRETO DE URGENCIA"]
["T",null,null,"TARDANZA EN MINUTOS (DIGITACION EN NUMEROS)",null,null,null,null,null,null,null,null,null,null,null,null,null,null,null,null,null,null,null,null,"REPRESENTANTE DE CONEI",null,null,null,null,null,null,null,null,null,null,null,null,null,null,null,null,null,null,null,null,null,null,"F","Faltas"]
["P",null,null,"PERMISO SIN GOCE DE REMUNERACIONES",null,null,null,null,null,null,null,null,null,null,null,null,null,null,null,null,null,null,null,null,null,null,null,null,null,null,null,null,null,null,null,null,null,null,null,null,null,null,null,null,null,null,null,"T","TARDANZA EN MINUTOS (DIGITACION EN NUMEROS)"]
["H",null,null,"HUELGA O PARO",null,null,null,null,null,null,null,null,null,null,null,null,null,null,null,null,null,null,null,null,null,null,null,null,null,null,null,null,null,null,null,null,null,null,null,null,null,null,null,null,null,null,null,"P","PERMISO SIN GOCE DE REMUNERACIONES"]
["V",null,null,"VACACIONES",null,null,null,null,null,null,null,null,null,null,null,null,null,null,null,null,null,null,null,null,null,null,null,null,null,null,null,null,null,null,null,null,null,null,null,null,null,null,null,null,null,null,null,"H","HUELGA O PARO"]

{"sheet":"REPORTE CONSOLIDADO","index":2,"n_rows":169,"n_cols":38,"rows_kept":169,"cut":false,"hidden":false,"merged":[[14,27,14,35],[15,27,15,35],[29,27,29,35],[30,27,30,35],[31,27,31,35],[32,27,32,35],[46,27,46,35],[35,27,35,35],[24,27,24,35],[25,27,25,35],[26,27,26,35],[27,27,27,35],[40,27,40,35],[41,27,41,35],[42,27,42,35],[33,27,33,35],[34,27,34,35],[36,27,36,35],[37,27,37,35],[38,27,38,35],[161,27,161,35],[39,27,39,35],[43,27,43,35],[44,27,44,35],[45,27,45,35],[48,27,48,35],[49,27,49,35],[50,27,50,35],[51,27,51,35],[52,27,52,35],[53,27,53,35],[55,27,55,35],[56,27,56,35],[57,27,57,35],[58,27,58,35],[68,27,68,35],[74,27,74,35],[75,27,75,35],[76,27,76,35],[77,27,77,35],[78,27,78,35],[69,27,69,35],[70,27,70,35],[71,27,71,35],[0,0,1,37],[2,0,2,36],[4,6,4,10],[5,5,5,33],[4,26,4,33],[6,5,6,7],[9,0,10,0],[9,3,10,3],[9,4,10,4],[9,5,10,5],[9,6,10,6],[9,7,10,7],[9,11,9,13],[9,27,10,35],[7,5,7,7],[6,11,6,18],[7,11,7,18],[12,27,12,35],[13,27,13,35],[9,22,9,23],[9,19,9,20],[47,27,47,35],[64,27,64,35],[65,27,65,35],[66,27,66,35],[67,27,67,35],[59,27,59,35],[60,27,60,35],[61,27,61,35],[62,27,62,35],[63,27,63,35],[16,27,16,35],[17,27,17,35],[23,27,23,35],[18,27,18,35],[19,27,19,35],[20,27,20,35],[21,27,21,35],[22,27,22,35],[54,27,54,35],[28,27,28,35],[72,27,72,35],[73,27,73,35],[84,27,84,35],[85,27,85,35],[86,27,86,35],[87,27,87,35],[88,27,88,35],[79,27,79,35],[80,27,80,35],[81,27,81,35],[82,27,82,35],[83,27,83,35],[94,27,94,35],[95,27,95,35],[96,27,96,35],[97,27,97,35],[98,27,98,35],[89,27,89,35],[90,27,90,35],[91,27,91,35],[92,27,92,35],[93,27,93,35],[104,27,104,35],[105,27,105,35],[106,27,106,35],[107,27,107,35],[108,27,108,35],[99,27,99,35],[100,27,100,35],[101,27,101,35],[102,27,102,35],[103,27,103,35],[114,27,114,35],[115,27,115,35],[116,27,116,35],[117,27,117,35],[118,27,118,35],[109,27,109,35],[110,27,110,35],[111,27,111,35],[112,27,112,35],[113,27,113,35],[124,27,124,35],[125,27,125,35],[126,27,126,35],[127,27,127,35],[128,27,128,35],[119,27,119,35],[120,27,120,35],[121,27,121,35],[122,27,122,35],[123,27,123,35],[134,27,134,35],[135,27,135,35],[136,27,136,35],[137,27,137,35],[138,27,138,35],[129,27,129,35],[130,27,130,35],[131,27,131,35],[132,27,132,35],[133,27,133,35],[163,14,168,20],[159,27,159,35],[160,27,160,35],[3,4,3,34],[154,27,154,35],[155,27,155,35],[156,27,156,35],[157,27,157,35],[158,27,158,35],[149,27,149,35],[150,27,150,35],[151,27,151,35],[152,27,152,35],[153,27,153,35],[144,27,144,35],[145,27,145,35],[146,27,146,35],[147,27,147,35],[148,27,148,35],[139,27,139,35],[140,27,140,35],[141,27,141,35],[142,27,142,35],[143,27,143,35]]}
["NORMAS  PARA EL REGISTRO Y CONTROL  DE ASISTENCIA  Y SU  APLICACIÓN  EN LA PLANILLA  ÚNICA DE PAGOS DE LOS  PROFESORES Y AUXILIARES DE EDUCACIÓN, EN EL  MARCO  DE LA                                \nLEY DE REFORMA MAGISTERIAL  Y SU  REGLAMENTO (R.S.G. N° 326-2017-MINEDU)"]
[]
["ANEXO 04"]
[null,null,null,null,"FORMATO 02: REPORTE  CONSOLIDADO DE INASISTENCIAS, TARDANZAS Y PERMISOS SIN GOCE DE REMUNERACIÓN"]
[null,null,null,null,"UGEL: EL COLLAO","MES: ",{"$f":"ASISTENCIA!G5","v":"JULIO"},null,null,null,null,{"$f":"VLOOKUP(G5,CALEND!$A$17:$B$28,2,FALSE)","v":7},null,null,null,"AÑO:",null,{"$f":"+ASISTENCIA!X5*1","v":2024},null,null,null,null,null,null,null,"TURNO:",{"$f":"IF(+ASISTENCIA!AC5=\"\",\"\",ASISTENCIA!AC5)","v":"Mañana"}]
[null,null,null,null,"INSTITUCIÓN EDUCATIVA:",{"$f":"IF(+ASISTENCIA!F6=\"\",\"\",ASISTENCIA!F6)","v":"70358 DE CONCAHUI"}]
[null,null,null,null,"NIVEL EDUCATIVO Y/O MODALIDAD:",{"$f":"IF(+ASISTENCIA!F7=\"\",\"\",ASISTENCIA!F7)","v":"PRIMARIA"},null,null,null,"DIRECCION:",null,"COMUNIDAD CONCAHUI"]
[null,null,null,null,"CODIGO MODULAR:",{"$f":"IF(+ASISTENCIA!F8=\"\",\"\",ASISTENCIA!F8)","v":"0306019"},null,null,null,"DIST / CP:",null,{"$f":"IF(+ASISTENCIA!N8=\"\",\"\",ASISTENCIA!N8)","v":"ILAVE / TIUTIRI"}]
[]
["N°",null,null,"DNI","APELLIDOS Y NOMBRES","CARGO","CONDICION LABORAL","JORNADA LABORAL",null,"INASIST. JUSTIFICADAS",null,"LICENCIAS",null,null,null,"TRABAJO REMOTO",null,"FALTAS",null,"TARDANZAS",null,null,"PERMISOS SG",null,null,"HUELGA PARO",null,"Observaciones"]
[null,"COD MOD II.EE.","MES",null,null,null,null,null,null,"DIAS",null,"CON GOCE","SIN GOCE","DU",null,"DU 026-2020\nDS 009-2021",null,"DIAS",null,"# TARD.","MINUTOS (*)",null,"HORAS (*)","MUNUTOS (*)",null,"DIAS",null,null,null,null,null,null,null,null,null,null,"Inasistencia + LSGH","OBSERVACIONES"]
[null,{"$f":"IF(LEN(C12)>0,VLOOKUP($F$6,DATA!$A:$S,2,FALSE),\"\")","v":""},{"$f":"IF(LEN(E12)>0,$G$5,\"\")","v":""},null,null,null,null,null,{"$f":"IF(AND(LEN($E12)>0,#REF!<>\"sá.\",#REF!<>\"do.\",#REF!<>\"\"),\"C\",\"\")","v":{"$error":"#REF!"}},{"$f":"IF(AND(LEN($E12)>0,#REF!<>\"sá.\",#REF!<>\"do.\",#REF!<>\"\"),\"C\",\"\")","v":{"$error":"#REF!"}},{"$f":"IF(AND(LEN($E12)>0,#REF!<>\"sá.\",#REF!<>\"do.\",#REF!<>\"\"),\"C\",\"\")","v":{"$error":"#REF!"}},{"$f":"IF(AND(LEN($E12)>0,#REF!<>\"sá.\",#REF!<>\"do.\",#REF!<>\"\"),\"C\",\"\")","v":{"$error":"#REF!"}},null,{"$f":"IF(AND(LEN($E12)>0,#REF!<>\"sá.\",#REF!<>\"do.\",#REF!<>\"\"),\"C\",\"\")","v":{"$error":"#REF!"}},{"$f":"IF(AND(LEN($E12)>0,#REF!<>\"sá.\",#REF!<>\"do.\",#REF!<>\"\"),\"C\",\"\")","v":{"$error":"#REF!"}},{"$f":"IF(AND(LEN($E12)>0,#REF!<>\"sá.\",#REF!<>\"do.\",#REF!<>\"\"),\"C\",\"\")","v":{"$error":"#REF!"}},{"$f":"IF(AND(LEN($E12)>0,#REF!<>\"sá.\",#REF!<>\"do.\",#REF!<>\"\"),\"C\",\"\")","v":{"$error":"#REF!"}},{"$f":"IF(AND(LEN($E12)>0,#REF!<>\"sá.\",#REF!<>\"do.\",#REF!<>\"\"),\"C\",\"\")","v":{"$error":"#REF!"}},null,{"$f":"IF(AND(LEN($E12)>0,#REF!<>\"sá.\",#REF!<>\"do.\",#REF!<>\"\"),\"C\",\"\")","v":{"$error":"#REF!"}},null,null,{"$f":"IF(AND(LEN($E12)>0,#REF!<>\"sá.\",#REF!<>\"do.\",#REF!<>\"\"),\"C\",\"\")","v":{"$error":"#REF!"}},null,null,{"$f":"IF(AND(LEN($E12)>0,#REF!<>\"sá.\",#REF!<>\"do.\",#REF!<>\"\"),\"C\",\"\")","v":{"$error":"#REF!"}},null,{"$f":"IF(AND(LEN($E12)>0,#REF!<>\"sá.\",#REF!<>\"do.\",#REF!<>\"\"),\"C\",\"\")","v":{"$error":"#REF!"}},{"$f":"IF(AND(LEN($E12)>0,#REF!<>\"sá.\",#REF!<>\"do.\",#REF!<>\"\"),\"C\",\"\")","v":{"$error":"#REF!"}},{"$f":"IF(AND(LEN($E12)>0,#REF!<>\"sá.\",#REF!<>\"do.\",#REF!<>\"\"),\"C\",\"\")","v":{"$error":"#REF!"}},{"$f":"IF(AND(LEN($E12)>0,#REF!<>\"sá.\",#REF!<>\"do.\",#REF!<>\"\"),\"C\",\"\")","v":{"$error":"#REF!"}},{"$f":"IF(AND(LEN($E12)>0,#REF!<>\"sá.\",#REF!<>\"do.\",#REF!<>\"\"),\"C\",\"\")","v":{"$error":"#REF!"}},{"$f":"IF(AND(LEN($E12)>0,#REF!<>\"sá.\",#REF!<>\"do.\",#REF!<>\"\"),\"C\",\"\")","v":{"$error":"#REF!"}},{"$f":"IF(AND(LEN($E12)>0,#REF!<>\"sá.\",#REF!<>\"do.\",#REF!<>\"\"),\"C\",\"\")","v":{"$error":"#REF!"}},{"$f":"IF(AND(LEN($E12)>0,#REF!<>\"sá.\",#REF!<>\"do.\",#REF!<>\"\"),\"C\",\"\")","v":{"$error":"#REF!"}},{"$f":"IF(AND(LEN($E12)>0,#REF!<>\"sá.\",#REF!<>\"do.\",#REF!<>\"\"),\"C\",\"\")","v":{"$error":"#REF!"}},{"$f":"IF(OR(COUNTIF($I12:$AJ12,\"X\")>0,COUNTIF($I12:$AJ12,\"L\")>0),COUNTIF($I12:$AJ12,\"X\")+COUNTIF($I12:$AJ12,\"L\"),\"\")","v":""}]
[{"$f":"IF(+ASISTENCIA!A14=\"\",\"\",ASISTENCIA!A14)","v":1},{"$f":"IF(LEN(C13)>0,VLOOKUP($F$6,DATA!$A:$S,2,FALSE),\"\")","v":{"$error":"#N/A"}},"JULIO",{"$f":"IF(+ASISTENCIA!D14=\"\",\"\",ASISTENCIA!D14)","v":"01861672"},{"$f":"IF(+ASISTENCIA!E14=\"\",\"\",ASISTENCIA!E14)","v":"AROCUTIPA PARI, Irma"},{"$f":"IF(+ASISTENCIA!F14=\"\",\"\",ASISTENCIA!F14)","v":"Director(e)"},{"$f":"IF(+ASISTENCIA!G14=\"\",\"\",ASISTENCIA!G14)","v":"Nombrado"},{"$f":"IF(+ASISTENCIA!H14=\"\",\"\",ASISTENCIA!H14)","v":40},null,{"$f":"ASISTENCIA!AQ14","v":0},null,{"$f":"ASISTENCIA!AR14","v":0},{"$f":"ASISTENCIA!AS14","v":0},{"$f":"ASISTENCIA!AT14","v":0},null,{"$f":"ASISTENCIA!AU14","v":0},null,0,null,{"$f":"ASISTENCIA!AW14","v":0},null,null,{"$f":"ASISTENCIA!AX14","v":0},null,null,{"$f":"ASISTENCIA!AY14","v":0},null,null,null,null,null,null,null,null,null,null,""]
[{"$f":"IF(+ASISTENCIA!A15=\"\",\"\",ASISTENCIA!A15)","v":2},{"$f":"IF(LEN(C14)>0,VLOOKUP($F$6,DATA!$A:$S,2,FALSE),\"\")","v":{"$error":"#N/A"}},{"$f":"IF(LEN(E14)>0,$G$5,\"\")","v":"JULIO"},{"$f":"IF(+ASISTENCIA!D15=\"\",\"\",ASISTENCIA!D15)","v":"01217206"},{"$f":"IF(+ASISTENCIA!E15=\"\",\"\",ASISTENCIA!E15)","v":"SALCEDO MRNDIZABAL, Maria Elena"},{"$f":"IF(+ASISTENCIA!F15=\"\",\"\",ASISTENCIA!F15)","v":"Profesor"},{"$f":"IF(+ASISTENCIA!G15=\"\",\"\",ASISTENCIA!G15)","v":"Nombrado"},{"$f":"IF(+ASISTENCIA!H15=\"\",\"\",ASISTENCIA!H15)","v":30},null,{"$f":"ASISTENCIA!AQ15","v":0},null,{"$f":"ASISTENCIA!AR15","v":0},{"$f":"ASISTENCIA!AS15","v":0},{"$f":"ASISTENCIA!AT15","v":0},null,{"$f":"ASISTENCIA!AU15","v":0},null,0,null,{"$f":"ASISTENCIA!AW15","v":0},null,null,{"$f":"ASISTENCIA!AX15","v":0},null,null,{"$f":"ASISTENCIA!AY15","v":0},null,null,null,null,null,null,null,null,null,null,""]
[{"$f":"IF(+ASISTENCIA!A16=\"\",\"\",ASISTENCIA!A16)","v":3},{"$f":"IF(LEN(C15)>0,VLOOKUP($F$6,DATA!$A:$S,2,FALSE),\"\")","v":{"$error":"#N/A"}},"JULIO",{"$f":"IF(+ASISTENCIA!D16=\"\",\"\",ASISTENCIA!D16)","v":"01308070"},{"$f":"IF(+ASISTENCIA!E16=\"\",\"\",ASISTENCIA!E16)","v":"FLORES ORTEGA, Julia"},{"$f":"IF(+ASISTENCIA!F16=\"\",\"\",ASISTENCIA!F16)","v":"Profesor"},{"$f":"IF(+ASISTENCIA!G16=\"\",\"\",ASISTENCIA!G16)","v":"Nombrado"},{"$f":"IF(+ASISTENCIA!H16=\"\",\"\",ASISTENCIA!H16)","v":30},null,{"$f":"ASISTENCIA!AQ16","v":0},null,{"$f":"ASISTENCIA!AR16","v":0},{"$f":"ASISTENCIA!AS16","v":0},{"$f":"ASISTENCIA!AT16","v":0},null,{"$f":"ASISTENCIA!AU16","v":0},null,0,null,{"$f":"ASISTENCIA!AW16","v":0},null,null,{"$f":"ASISTENCIA!AX16","v":0},null,null,{"$f":"ASISTENCIA!AY16","v":0},null,null,null,null,null,null,null,null,null,null,""]
[{"$f":"IF(+ASISTENCIA!A17=\"\",\"\",ASISTENCIA!A17)","v":4},{"$f":"IF(LEN(C16)>0,VLOOKUP($F$6,DATA!$A:$S,2,FALSE),\"\")","v":{"$error":"#N/A"}},"JULIO",{"$f":"IF(+ASISTENCIA!D17=\"\",\"\",ASISTENCIA!D17)","v":"40901688"},{"$f":"IF(+ASISTENCIA!E17=\"\",\"\",ASISTENCIA!E17)","v":"CONDORI PAUCAR, Mery Yeny"},{"$f":"IF(+ASISTENCIA!F17=\"\",\"\",ASISTENCIA!F17)","v":"Profesor"},{"$f":"IF(+ASISTENCIA!G17=\"\",\"\",ASISTENCIA!G17)","v":"Contratado"},{"$f":"IF(+ASISTENCIA!H17=\"\",\"\",ASISTENCIA!H17)","v":30},null,{"$f":"ASISTENCIA!AQ17","v":0},null,{"$f":"ASISTENCIA!AR17","v":0},{"$f":"ASISTENCIA!AS17","v":0},{"$f":"ASISTENCIA!AT17","v":0},null,{"$f":"ASISTENCIA!AU17","v":0},null,"O",null,{"$f":"ASISTENCIA!AW17","v":0},null,null,{"$f":"ASISTENCIA!AX17","v":0},null,null,{"$f":"ASISTENCIA!AY17","v":0},null,null,null,null,null,null,null,null,null,null,""]
[{"$f":"IF(+ASISTENCIA!A18=\"\",\"\",ASISTENCIA!A18)","v":""},{"$f":"IF(LEN(C17)>0,VLOOKUP($F$6,DATA!$A:$S,2,FALSE),\"\")","v":""},"",{"$f":"IF(+ASISTENCIA!D18=\"\",\"\",ASISTENCIA!D18)","v":""},{"$f":"IF(+ASISTENCIA!E18=\"\",\"\",ASISTENCIA!E18)","v":""},{"$f":"IF(+ASISTENCIA!F18=\"\",\"\",ASISTENCIA!F18)","v":""},{"$f":"IF(+ASISTENCIA!G18=\"\",\"\",ASISTENCIA!G18)","v":""},{"$f":"IF(+ASISTENCIA!H18=\"\",\"\",ASISTENCIA!H18)","v":""},null,{"$f":"ASISTENCIA!AQ18","v":0},null,{"$f":"ASISTENCIA!AR18","v":0},{"$f":"ASISTENCIA!AS18","v":0},{"$f":"ASISTENCIA!AT18","v":0},null,{"$f":"ASISTENCIA!AU18","v":0},null,{"$f":"ASISTENCIA!AV18","v":0},null,{"$f":"ASISTENCIA!AW18","v":0},null,null,{"$f":"ASISTENCIA!AX18","v":0},null,null,{"$f":"ASISTENCIA!AY18","v":0},null,null,null,null,null,null,null,null,null,null,""]
[{"$f":"IF(+ASISTENCIA!A19=\"\",\"\",ASISTENCIA!A19)","v":""},{"$f":"IF(LEN(C18)>0,VLOOKUP($F$6,DATA!$A:$S,2,FALSE),\"\")","v":""},"",{"$f":"IF(+ASISTENCIA!D19=\"\",\"\",ASISTENCIA!D19)","v":""},{"$f":"IF(+ASISTENCIA!E19=\"\",\"\",ASISTENCIA!E19)","v":""},{"$f":"IF(+ASISTENCIA!F19=\"\",\"\",ASISTENCIA!F19)","v":""},{"$f":"IF(+ASISTENCIA!G19=\"\",\"\",ASISTENCIA!G19)","v":""},{"$f":"IF(+ASISTENCIA!H19=\"\",\"\",ASISTENCIA!H19)","v":""},null,{"$f":"ASISTENCIA!AQ19","v":0},null,{"$f":"ASISTENCIA!AR19","v":0},{"$f":"ASISTENCIA!AS19","v":0},{"$f":"ASISTENCIA!AT19","v":0},null,{"$f":"ASISTENCIA!AU19","v":0},null,{"$f":"ASISTENCIA!AV19","v":0},null,{"$f":"ASISTENCIA!AW19","v":0},null,null,{"$f":"ASISTENCIA!AX19","v":0},null,null,{"$f":"ASISTENCIA!AY19","v":0},null,null,null,null,null,null,null,null,null,null,""]
[{"$f":"IF(+ASISTENCIA!A20=\"\",\"\",ASISTENCIA!A20)","v":""},{"$f":"IF(LEN(C19)>0,VLOOKUP($F$6,DATA!$A:$S,2,FALSE),\"\")","v":""},"",{"$f":"IF(+ASISTENCIA!D20=\"\",\"\",ASISTENCIA!D20)","v":""},{"$f":"IF(+ASISTENCIA!E20=\"\",\"\",ASISTENCIA!E20)","v":""},{"$f":"IF(+ASISTENCIA!F20=\"\",\"\",ASISTENCIA!F20)","v":""},{"$f":"IF(+ASISTENCIA!G20=\"\",\"\",ASISTENCIA!G20)","v":""},{"$f":"IF(+ASISTENCIA!H20=\"\",\"\",ASISTENCIA!H20)","v":""},null,{"$f":"ASISTENCIA!AQ20","v":0},null,{"$f":"ASISTENCIA!AR20","v":0},{"$f":"ASISTENCIA!AS20","v":0},{"$f":"ASISTENCIA!AT20","v":0},null,{"$f":"ASISTENCIA!AU20","v":0},null,{"$f":"ASISTENCIA!AV20","v":0},null,{"$f":"ASISTENCIA!AW20","v":0},null,null,{"$f":"ASISTENCIA!AX20","v":0},null,null,{"$f":"ASISTENCIA!AY20","v":0},null,null,null,null,null,null,null,null,null,null,""]
[{"$f":"IF(+ASISTENCIA!A21=\"\",\"\",ASISTENCIA!A21)","v":""},{"$f":"IF(LEN(C20)>0,VLOOKUP($F$6,DATA!$A:$S,2,FALSE),\"\")","v":""},"",{"$f":"IF(+ASISTENCIA!D21=\"\",\"\",ASISTENCIA!D21)","v":""},{"$f":"IF(+ASISTENCIA!E21=\"\",\"\",ASISTENCIA!E21)","v":""},{"$f":"IF(+ASISTENCIA!F21=\"\",\"\",ASISTENCIA!F21)","v":""},{"$f":"IF(+ASISTENCIA!G21=\"\",\"\",ASISTENCIA!G21)","v":""},{"$f":"IF(+ASISTENCIA!H21=\"\",\"\",ASISTENCIA!H21)","v":""},null,{"$f":"ASISTENCIA!AQ21","v":0},null,{"$f":"ASISTENCIA!AR21","v":0},{"$f":"ASISTENCIA!AS21","v":0},{"$f":"ASISTENCIA!AT21","v":0},null,{"$f":"ASISTENCIA!AU21","v":0},null,{"$f":"ASISTENCIA!AV21","v":0},null,{"$f":"ASISTENCIA!AW21","v":0},null,null,{"$f":"ASISTENCIA!AX21","v":0},null,null,{"$f":"ASISTENCIA!AY21","v":0},null,null,null,null,null,null,null,null,null,null,""]
[{"$f":"IF(+ASISTENCIA!A22=\"\",\"\",ASISTENCIA!A22)","v":""},{"$f":"IF(LEN(C21)>0,VLOOKUP($F$6,DATA!$A:$S,2,FALSE),\"\")","v":""},"",{"$f":"IF(+ASISTENCIA!D22=\"\",\"\",ASISTENCIA!D22)","v":""},{"$f":"IF(+ASISTENCIA!E22=\"\",\"\",ASISTENCIA!E22)","v":""},{"$f":"IF(+ASISTENCIA!F22=\"\",\"\",ASISTENCIA!F22)","v":""},{"$f":"IF(+ASISTENCIA!G22=\"\",\"\",ASISTENCIA!G22)","v":""},{"$f":"IF(+ASISTENCIA!H22=\"\",\"\",ASISTENCIA!H22)","v":""},null,{"$f":"ASISTENCIA!AQ22","v":0},null,{"$f":"ASISTENCIA!AR22","v":0},{"$f":"ASISTENCIA!AS22","v":0},{"$f":"ASISTENCIA!AT22","v":0},null,{"$f":"ASISTENCIA!AU22","v":0},null,{"$f":"ASISTENCIA!AV22","v":0},null,{"$f":"ASISTENCIA!AW22","v":0},null,null,{"$f":"ASISTENCIA!AX22","v":0},null,null,{"$f":"ASISTENCIA!AY22","v":0},null,null,null,null,null,null,null,null,null,null,""]
[{"$f":"IF(+ASISTENCIA!A23=\"\",\"\",ASISTENCIA!A23)","v":""},{"$f":"IF(LEN(C22)>0,VLOOKUP($F$6,DATA!$A:$S,2,FALSE),\"\")","v":""},"",{"$f":"IF(+ASISTENCIA!D23=\"\",\"\",ASISTENCIA!D23)","v":""},{"$f":"IF(+ASISTENCIA!E23=\"\",\"\",ASISTENCIA!E23)","v":""},{"$f":"IF(+ASISTENCIA!F23=\"\",\"\",ASISTENCIA!F23)","v":""},{"$f":"IF(+ASISTENCIA!G23=\"\",\"\",ASISTENCIA!G23)","v":""},{"$f":"IF(+ASISTENCIA!H23=\"\",\"\",ASISTENCIA!H23)","v":""},null,{"$f":"ASISTENCIA!AQ23","v":0},null,{"$f":"ASISTENCIA!AR23","v":0},{"$f":"ASISTENCIA!AS23","v":0},{"$f":"ASISTENCIA!AT23","v":0},null,{"$f":"ASISTENCIA!AU23","v":0},null,{"$f":"ASISTENCIA!AV23","v":0},null,{"$f":"ASISTENCIA!AW23","v":0},null,null,{"$f":"ASISTENCIA!AX23","v":0},null,null,{"$f":"ASISTENCIA!AY23","v":0},null,null,null,null,null,null,null,null,null,null,""]
[{"$f":"IF(+ASISTENCIA!A24=\"\",\"\",ASISTENCIA!A24)","v":""},{"$f":"IF(LEN(C23)>0,VLOOKUP($F$6,DATA!$A:$S,2,FALSE),\"\")","v":""},"",{"$f":"IF(+ASISTENCIA!D24=\"\",\"\",ASISTENCIA!D24)","v":""},{"$f":"IF(+ASISTENCIA!E24=\"\",\"\",ASISTENCIA!E24)","v":""},{"$f":"IF(+ASISTENCIA!F24=\"\",\"\",ASISTENCIA!F24)","v":""},{"$f":"IF(+ASISTENCIA!G24=\"\",\"\",ASISTENCIA!G24)","v":""},{"$f":"IF(+ASISTENCIA!H24=\"\",\"\",ASISTENCIA!H24)","v":""},null,{"$f":"ASISTENCIA!AQ24","v":0},null,{"$f":"ASISTENCIA!AR24","v":0},{"$f":"ASISTENCIA!AS24","v":0},{"$f":"ASISTENCIA!AT24","v":0},null,{"$f":"ASISTENCIA!AU24","v":0},null,{"$f":"ASISTENCIA!AV24","v":0},null,{"$f":"ASISTENCIA!AW24","v":0},null,null,{"$f":"ASISTENCIA!AX24","v":0},null,null,{"$f":"ASISTENCIA!AY24","v":0},null,null,null,null,null,null,null,null,null,null,""]
[{"$f":"IF(+ASISTENCIA!A25=\"\",\"\",ASISTENCIA!A25)","v":""},{"$f":"IF(LEN(C24)>0,VLOOKUP($F$6,DATA!$A:$S,2,FALSE),\"\")","v":""},"",{"$f":"IF(+ASISTENCIA!D25=\"\",\"\",ASISTENCIA!D25)","v":""},{"$f":"IF(+ASISTENCIA!E25=\"\",\"\",ASISTENCIA!E25)","v":""},{"$f":"IF(+ASISTENCIA!F25=\"\",\"\",ASISTENCIA!F25)","v":""},{"$f":"IF(+ASISTENCIA!G25=\"\",\"\",ASISTENCIA!G25)","v":""},{"$f":"IF(+ASISTENCIA!H25=\"\",\"\",ASISTENCIA!H25)","v":""},null,{"$f":"ASISTENCIA!AQ25","v":0},null,{"$f":"ASISTENCIA!AR25","v":0},{"$f":"ASISTENCIA!AS25","v":0},{"$f":"ASISTENCIA!AT25","v":0},null,{"$f":"ASISTENCIA!AU25","v":0},null,{"$f":"ASISTENCIA!AV25","v":0},null,{"$f":"ASISTENCIA!AW25","v":0},null,null,{"$f":"ASISTENCIA!AX25","v":0},null,null,{"$f":"ASISTENCIA!AY25","v":0},null,null,null,null,null,null,null,null,null,null,""]
[{"$f":"IF(+ASISTENCIA!A26=\"\",\"\",ASISTENCIA!A26)","v":""},{"$f":"IF(LEN(C25)>0,VLOOKUP($F$6,DATA!$A:$S,2,FALSE),\"\")","v":""},"",{"$f":"IF(+ASISTENCIA!D26=\"\",\"\",ASISTENCIA!D26)","v":""},{"$f":"IF(+ASISTENCIA!E26=\"\",\"\",ASISTENCIA!E26)","v":""},{"$f":"IF(+ASISTENCIA!F26=\"\",\"\",ASISTENCIA!F26)","v":""},{"$f":"IF(+ASISTENCIA!G26=\"\",\"\",ASISTENCIA!G26)","v":""},{"$f":"IF(+ASISTENCIA!H26=\"\",\"\",ASISTENCIA!H26)","v":""},null,{"$f":"ASISTENCIA!AQ26","v":0},null,{"$f":"ASISTENCIA!AR26","v":0},{"$f":"ASISTENCIA!AS26","v":0},{"$f":"ASISTENCIA!AT26","v":0},null,{"$f":"ASISTENCIA!AU26","v":0},null,{"$f":"ASISTENCIA!AV26","v":0},null,{"$f":"ASISTENCIA!AW26","v":0},null,null,{"$f":"ASISTENCIA!AX26","v":0},null,null,{"$f":"ASISTENCIA!AY26","v":0},null,null,null,null,null,null,null,null,null,null,""]
[{"$f":"IF(+ASISTENCIA!A27=\"\",\"\",ASISTENCIA!A27)","v":""},{"$f":"IF(LEN(C26)>0,VLOOKUP($F$6,DATA!$A:$S,2,FALSE),\"\")","v":""},"",{"$f":"IF(+ASISTENCIA!D27=\"\",\"\",ASISTENCIA!D27)","v":""},{"$f":"IF(+ASISTENCIA!E27=\"\",\"\",ASISTENCIA!E27)","v":""},{"$f":"IF(+ASISTENCIA!F27=\"\",\"\",ASISTENCIA!F27)","v":""},{"$f":"IF(+ASISTENCIA!G27=\"\",\"\",ASISTENCIA!G27)","v":""},{"$f":"IF(+ASISTENCIA!H27=\"\",\"\",ASISTENCIA!H27)","v":""},null,{"$f":"ASISTENCIA!AQ27","v":0},null,{"$f":"ASISTENCIA!AR27","v":0},{"$f":"ASISTENCIA!AS27","v":0},{"$f":"ASISTENCIA!AT27","v":0},null,{"$f":"ASISTENCIA!AU27","v":0},null,{"$f":"ASISTENCIA!AV27","v":0},null,{"$f":"ASISTENCIA!AW27","v":0},null,null,{"$f":"ASISTENCIA!AX27","v":0},null,null,{"$f":"ASISTENCIA!AY27","v":0},null,null,null,null,null,null,null,null,null,null,""]
[{"$f":"IF(+ASISTENCIA!A28=\"\",\"\",ASISTENCIA!A28)","v":""},{"$f":"IF(LEN(C27)>0,VLOOKUP($F$6,DATA!$A:$S,2,FALSE),\"\")","v":""},"",{"$f":"IF(+ASISTENCIA!D28=\"\",\"\",ASISTENCIA!D28)","v":""},{"$f":"IF(+ASISTENCIA!E28=\"\",\"\",ASISTENCIA!E28)","v":""},{"$f":"IF(+ASISTENCIA!F28=\"\",\"\",ASISTENCIA!F28)","v":""},{"$f":"IF(+ASISTENCIA!G28=\"\",\"\",ASISTENCIA!G28)","v":""},{"$f":"IF(+ASISTENCIA!H28=\"\",\"\",ASISTENCIA!H28)","v":""},null,{"$f":"ASISTENCIA!AQ28","v":0},null,{"$f":"ASISTENCIA!AR28","v":0},{"$f":"ASISTENCIA!AS28","v":0},{"$f":"ASISTENCIA!AT28","v":0},null,{"$f":"ASISTENCIA!AU28","v":0},null,{"$f":"ASISTENCIA!AV28","v":0},null,{"$f":"ASISTENCIA!AW28","v":0},null,null,{"$f":"ASISTENCIA!AX28","v":0},null,null,{"$f":"ASISTENCIA!AY28","v":0},null,null,null,null,null,null,null,null,null,null,""]
[{"$f":"IF(+ASISTENCIA!A29=\"\",\"\",ASISTENCIA!A29)","v":""},{"$f":"IF(LEN(C28)>0,VLOOKUP($F$6,DATA!$A:$S,2,FALSE),\"\")","v":""},"",{"$f":"IF(+ASISTENCIA!D29=\"\",\"\",ASISTENCIA!D29)","v":""},{"$f":"IF(+ASISTENCIA!E29=\"\",\"\",ASISTENCIA!E29)","v":""},{"$f":"IF(+ASISTENCIA!F29=\"\",\"\",ASISTENCIA!F29)","v":""},{"$f":"IF(+ASISTENCIA!G29=\"\",\"\",ASISTENCIA!G29)","v":""},{"$f":"IF(+ASISTENCIA!H29=\"\",\"\",ASISTENCIA!H29)","v":""},null,{"$f":"ASISTENCIA!AQ29","v":0},null,{"$f":"ASISTENCIA!AR29","v":0},{"$f":"ASISTENCIA!AS29","v":0},{"$f":"ASISTENCIA!AT29","v":0},null,{"$f":"ASISTENCIA!AU29","v":0},null,{"$f":"ASISTENCIA!AV29","v":0},null,{"$f":"ASISTENCIA!AW29","v":0},null,null,{"$f":"ASISTENCIA!AX29","v":0},null,null,{"$f":"ASISTENCIA!AY29","v":0},null,null,null,null,null,null,null,null,null,null,""]
[{"$f":"IF(+ASISTENCIA!A30=\"\",\"\",ASISTENCIA!A30)","v":""},{"$f":"IF(LEN(C29)>0,VLOOKUP($F$6,DATA!$A:$S,2,FALSE),\"\")","v":""},"",{"$f":"IF(+ASISTENCIA!D30=\"\",\"\",ASISTENCIA!D30)","v":""},{"$f":"IF(+ASISTENCIA!E30=\"\",\"\",ASISTENCIA!E30)","v":""},{"$f":"IF(+ASISTENCIA!F30=\"\",\"\",ASISTENCIA!F30)","v":""},{"$f":"IF(+ASISTENCIA!G30=\"\",\"\",ASISTENCIA!G30)","v":""},{"$f":"IF(+ASISTENCIA!H30=\"\",\"\",ASISTENCIA!H30)","v":""},null,{"$f":"ASISTENCIA!AQ30","v":0},null,{"$f":"ASISTENCIA!AR30","v":0},{"$f":"ASISTENCIA!AS30","v":0},{"$f":"ASISTENCIA!AT30","v":0},null,{"$f":"ASISTENCIA!AU30","v":0},null,{"$f":"ASISTENCIA!AV30","v":0},null,{"$f":"ASISTENCIA!AW30","v":0},null,null,{"$f":"ASISTENCIA!AX30","v":0},null,null,{"$f":"ASISTENCIA!AY30","v":0},null,null,null,null,null,null,null,null,null,null,""]
[{"$f":"IF(+ASISTENCIA!A31=\"\",\"\",ASISTENCIA!A31)","v":""},{"$f":"IF(LEN(C30)>0,VLOOKUP($F$6,DATA!$A:$S,2,FALSE),\"\")","v":""},"",{"$f":"IF(+ASISTENCIA!D31=\"\",\"\",ASISTENCIA!D31)","v":""},{"$f":"IF(+ASISTENCIA!E31=\"\",\"\",ASISTENCIA!E31)","v":""},{"$f":"IF(+ASISTENCIA!F31=\"\",\"\",ASISTENCIA!F31)","v":""},{"$f":"IF(+ASISTENCIA!G31=\"\",\"\",ASISTENCIA!G31)","v":""},{"$f":"IF(+ASISTENCIA!H31=\"\",\"\",ASISTENCIA!H31)","v":""},null,{"$f":"ASISTENCIA!AQ31","v":0},null,{"$f":"ASISTENCIA!AR31","v":0},{"$f":"ASISTENCIA!AS31","v":0},{"$f":"ASISTENCIA!AT31","v":0},null,{"$f":"ASISTENCIA!AU31","v":0},null,{"$f":"ASISTENCIA!AV31","v":0},null,{"$f":"ASISTENCIA!AW31","v":0},null,null,{"$f":"ASISTENCIA!AX31","v":0},null,null,{"$f":"ASISTENCIA!AY31","v":0},null,null,null,null,null,null,null,null,null,null,""]
[{"$f":"IF(+ASISTENCIA!A32=\"\",\"\",ASISTENCIA!A32)","v":""},{"$f":"IF(LEN(C31)>0,VLOOKUP($F$6,DATA!$A:$S,2,FALSE),\"\")","v":""},"",{"$f":"IF(+ASISTENCIA!D32=\"\",\"\",ASISTENCIA!D32)","v":""},{"$f":"IF(+ASISTENCIA!E32=\"\",\"\",ASISTENCIA!E32)","v":""},{"$f":"IF(+ASISTENCIA!F32=\"\",\"\",ASISTENCIA!F32)","v":""},{"$f":"IF(+ASISTENCIA!G32=\"\",\"\",ASISTENCIA!G32)","v":""},{"$f":"IF(+ASISTENCIA!H32=\"\",\"\",ASISTENCIA!H32)","v":""},null,{"$f":"ASISTENCIA!AQ32","v":0},null,{"$f":"ASISTENCIA!AR32","v":0},{"$f":"ASISTENCIA!AS32","v":0},{"$f":"ASISTENCIA!AT32","v":0},null,{"$f":"ASISTENCIA!AU32","v":0},null,{"$f":"ASISTENCIA!AV32","v":0},null,{"$f":"ASISTENCIA!AW32","v":0},null,null,{"$f":"ASISTENCIA!AX32","v":0},null,null,{"$f":"ASISTENCIA!AY32","v":0},null,null,null,null,null,null,null,null,null,null,""]
[{"$f":"IF(+ASISTENCIA!A33=\"\",\"\",ASISTENCIA!A33)","v":""},{"$f":"IF(LEN(C32)>0,VLOOKUP($F$6,DATA!$A:$S,2,FALSE),\"\")","v":""},"",{"$f":"IF(+ASISTENCIA!D33=\"\",\"\",ASISTENCIA!D33)","v":""},{"$f":"IF(+ASISTENCIA!E33=\"\",\"\",ASISTENCIA!E33)","v":""},{"$f":"IF(+ASISTENCIA!F33=\"\",\"\",ASISTENCIA!F33)","v":""},{"$f":"IF(+ASISTENCIA!G33=\"\",\"\",ASISTENCIA!G33)","v":""},{"$f":"IF(+ASISTENCIA!H33=\"\",\"\",ASISTENCIA!H33)","v":""},null,{"$f":"ASISTENCIA!AQ33","v":0},null,{"$f":"ASISTENCIA!AR33","v":0},{"$f":"ASISTENCIA!AS33","v":0},{"$f":"ASISTENCIA!AT33","v":0},null,{"$f":"ASISTENCIA!AU33","v":0},null,{"$f":"ASISTENCIA!AV33","v":0},null,{"$f":"ASISTENCIA!AW33","v":0},null,null,{"$f":"ASISTENCIA!AX33","v":0},null,null,{"$f":"ASISTENCIA!AY33","v":0},null,null,null,null,null,null,null,null,null,null,""]
[{"$f":"IF(+ASISTENCIA!A34=\"\",\"\",ASISTENCIA!A34)","v":""},{"$f":"IF(LEN(C33)>0,VLOOKUP($F$6,DATA!$A:$S,2,FALSE),\"\")","v":""},"",{"$f":"IF(+ASISTENCIA!D34=\"\",\"\",ASISTENCIA!D34)","v":""},{"$f":"IF(+ASISTENCIA!E34=\"\",\"\",ASISTENCIA!E34)","v":""},{"$f":"IF(+ASISTENCIA!F34=\"\",\"\",ASISTENCIA!F34)","v":""},{"$f":"IF(+ASISTENCIA!G34=\"\",\"\",ASISTENCIA!G34)","v":""},{"$f":"IF(+ASISTENCIA!H34=\"\",\"\",ASISTENCIA!H34)","v":""},null,{"$f":"ASISTENCIA!AQ34","v":0},null,{"$f":"ASISTENCIA!AR34","v":0},{"$f":"ASISTENCIA!AS34","v":0},{"$f":"ASISTENCIA!AT34","v":0},null,{"$f":"ASISTENCIA!AU34","v":0},null,{"$f":"ASISTENCIA!AV34","v":0},null,{"$f":"ASISTENCIA!AW34","v":0},null,null,{"$f":"ASISTENCIA!AX34","v":0},null,null,{"$f":"ASISTENCIA!AY34","v":0},null,null,null,null,null,null,null,null,null,null,""]
[{"$f":"IF(+ASISTENCIA!A35=\"\",\"\",ASISTENCIA!A35)","v":""},{"$f":"IF(LEN(C34)>0,VLOOKUP($F$6,DATA!$A:$S,2,FALSE),\"\")","v":""},"",{"$f":"IF(+ASISTENCIA!D35=\"\",\"\",ASISTENCIA!D35)","v":""},{"$f":"IF(+ASISTENCIA!E35=\"\",\"\",ASISTENCIA!E35)","v":""},{"$f":"IF(+ASISTENCIA!F35=\"\",\"\",ASISTENCIA!F35)","v":""},{"$f":"IF(+ASISTENCIA!G35=\"\",\"\",ASISTENCIA!G35)","v":""},{"$f":"IF(+ASISTENCIA!H35=\"\",\"\",ASISTENCIA!H35)","v":""},null,{"$f":"ASISTENCIA!AQ35","v":0},null,{"$f":"ASISTENCIA!AR35","v":0},{"$f":"ASISTENCIA!AS35","v":0},{"$f":"ASISTENCIA!AT35","v":0},null,{"$f":"ASISTENCIA!AU35","v":0},null,{"$f":"ASISTENCIA!AV35","v":0},null,{"$f":"ASISTENCIA!AW35","v":0},null,null,{"$f":"ASISTENCIA!AX35","v":0},null,null,{"$f":"ASISTENCIA!AY35","v":0},null,null,null,null,null,null,null,null,null,null,""]
[{"$f":"IF(+ASISTENCIA!A36=\"\",\"\",ASISTENCIA!A36)","v":""},{"$f":"IF(LEN(C35)>0,VLOOKUP($F$6,DATA!$A:$S,2,FALSE),\"\")","v":""},"",{"$f":"IF(+ASISTENCIA!D36=\"\",\"\",ASISTENCIA!D36)","v":""},{"$f":"IF(+ASISTENCIA!E36=\"\",\"\",ASISTENCIA!E36)","v":""},{"$f":"IF(+ASISTENCIA!F36=\"\",\"\",ASISTENCIA!F36)","v":""},{"$f":"IF(+ASISTENCIA!G36=\"\",\"\",ASISTENCIA!G36)","v":""},{"$f":"IF(+ASISTENCIA!H36=\"\",\"\",ASISTENCIA!H36)","v":""},null,{"$f":"ASISTENCIA!AQ36","v":0},null,{"$f":"ASISTENCIA!AR36","v":0},{"$f":"ASISTENCIA!AS36","v":0},{"$f":"ASISTENCIA!AT36","v":0},null,{"$f":"ASISTENCIA!AU36","v":0},null,{"$f":"ASISTENCIA!AV36","v":0},null,{"$f":"ASISTENCIA!AW36","v":0},null,null,{"$f":"ASISTENCIA!AX36","v":0},null,null,{"$f":"ASISTENCIA!AY36","v":0},null,null,null,null,null,null,null,null,null,null,""]
[{"$f":"IF(+ASISTENCIA!A37=\"\",\"\",ASISTENCIA!A37)","v":""},{"$f":"IF(LEN(C36)>0,VLOOKUP($F$6,DATA!$A:$S,2,FALSE),\"\")","v":""},"",{"$f":"IF(+ASISTENCIA!D37=\"\",\"\",ASISTENCIA!D37)","v":""},{"$f":"IF(+ASISTENCIA!E37=\"\",\"\",ASISTENCIA!E37)","v":""},{"$f":"IF(+ASISTENCIA!F37=\"\",\"\",ASISTENCIA!F37)","v":""},{"$f":"IF(+ASISTENCIA!G37=\"\",\"\",ASISTENCIA!G37)","v":""},{"$f":"IF(+ASISTENCIA!H37=\"\",\"\",ASISTENCIA!H37)","v":""},null,{"$f":"ASISTENCIA!AQ37","v":0},null,{"$f":"ASISTENCIA!AR37","v":0},{"$f":"ASISTENCIA!AS37","v":0},{"$f":"ASISTENCIA!AT37","v":0},null,{"$f":"ASISTENCIA!AU37","v":0},null,{"$f":"ASISTENCIA!AV37","v":0},null,{"$f":"ASISTENCIA!AW37","v":0},null,null,{"$f":"ASISTENCIA!AX37","v":0},null,null,{"$f":"ASISTENCIA!AY37","v":0},null,null,null,null,null,null,null,null,null,null,""]
[{"$f":"IF(+ASISTENCIA!A38=\"\",\"\",ASISTENCIA!A38)","v":""},{"$f":"IF(LEN(C37)>0,VLOOKUP($F$6,DATA!$A:$S,2,FALSE),\"\")","v":""},"",{"$f":"IF(+ASISTENCIA!D38=\"\",\"\",ASISTENCIA!D38)","v":""},{"$f":"IF(+ASISTENCIA!E38=\"\",\"\",ASISTENCIA!E38)","v":""},{"$f":"IF(+ASISTENCIA!F38=\"\",\"\",ASISTENCIA!F38)","v":""},{"$f":"IF(+ASISTENCIA!G38=\"\",\"\",ASISTENCIA!G38)","v":""},{"$f":"IF(+ASISTENCIA!H38=\"\",\"\",ASISTENCIA!H38)","v":""},null,{"$f":"ASISTENCIA!AQ38","v":0},null,{"$f":"ASISTENCIA!AR38","v":0},{"$f":"ASISTENCIA!AS38","v":0},{"$f":"ASISTENCIA!AT38","v":0},null,{"$f":"ASISTENCIA!AU38","v":0},null,{"$f":"ASISTENCIA!AV38","v":0},null,{"$f":"ASISTENCIA!AW38","v":0},null,null,{"$f":"ASISTENCIA!AX38","v":0},null,null,{"$f":"ASISTENCIA!AY38","v":0},null,null,null,null,null,null,null,null,null,null,""]
[{"$f":"IF(+ASISTENCIA!A39=\"\",\"\",ASISTENCIA!A39)","v":""},{"$f":"IF(LEN(C38)>0,VLOOKUP($F$6,DATA!$A:$S,2,FALSE),\"\")","v":""},"",{"$f":"IF(+ASISTENCIA!D39=\"\",\"\",ASISTENCIA!D39)","v":""},{"$f":"IF(+ASISTENCIA!E39=\"\",\"\",ASISTENCIA!E39)","v":""},{"$f":"IF(+ASISTENCIA!F39=\"\",\"\",ASISTENCIA!F39)","v":""},{"$f":"IF(+ASISTENCIA!G39=\"\",\"\",ASISTENCIA!G39)","v":""},{"$f":"IF(+ASISTENCIA!H39=\"\",\"\",ASISTENCIA!H39)","v":""},null,{"$f":"ASISTENCIA!AQ39","v":0},null,{"$f":"ASISTENCIA!AR39","v":0},{"$f":"ASISTENCIA!AS39","v":0},{"$f":"ASISTENCIA!AT39","v":0},null,{"$f":"ASISTENCIA!AU39","v":0},null,{"$f":"ASISTENCIA!AV39","v":0},null,{"$f":"ASISTENCIA!AW39","v":0},null,null,{"$f":"ASISTENCIA!AX39","v":0},null,null,{"$f":"ASISTENCIA!AY39","v":0},null,null,null,null,null,null,null,null,null,null,""]
[{"$f":"IF(+ASISTENCIA!A40=\"\",\"\",ASISTENCIA!A40)","v":""},{"$f":"IF(LEN(C39)>0,VLOOKUP($F$6,DATA!$A:$S,2,FALSE),\"\")","v":""},"",{"$f":"IF(+ASISTENCIA!D40=\"\",\"\",ASISTENCIA!D40)","v":""},{"$f":"IF(+ASISTENCIA!E40=\"\",\"\",ASISTENCIA!E40)","v":""},{"$f":"IF(+ASISTENCIA!F40=\"\",\"\",ASISTENCIA!F40)","v":""},{"$f":"IF(+ASISTENCIA!G40=\"\",\"\",ASISTENCIA!G40)","v":""},{"$f":"IF(+ASISTENCIA!H40=\"\",\"\",ASISTENCIA!H40)","v":""},null,{"$f":"ASISTENCIA!AQ40","v":0},null,{"$f":"ASISTENCIA!AR40","v":0},{"$f":"ASISTENCIA!AS40","v":0},{"$f":"ASISTENCIA!AT40","v":0},null,{"$f":"ASISTENCIA!AU40","v":0},null,{"$f":"ASISTENCIA!AV40","v":0},null,{"$f":"ASISTENCIA!AW40","v":0},null,null,{"$f":"ASISTENCIA!AX40","v":0},null,null,{"$f":"ASISTENCIA!AY40","v":0},null,null,null,null,null,null,null,null,null,null,""]
[{"$f":"IF(+ASISTENCIA!A41=\"\",\"\",ASISTENCIA!A41)","v":""},{"$f":"IF(LEN(C40)>0,VLOOKUP($F$6,DATA!$A:$S,2,FALSE),\"\")","v":""},"",{"$f":"IF(+ASISTENCIA!D41=\"\",\"\",ASISTENCIA!D41)","v":""},{"$f":"IF(+ASISTENCIA!E41=\"\",\"\",ASISTENCIA!E41)","v":""},{"$f":"IF(+ASISTENCIA!F41=\"\",\"\",ASISTENCIA!F41)","v":""},{"$f":"IF(+ASISTENCIA!G41=\"\",\"\",ASISTENCIA!G41)","v":""},{"$f":"IF(+ASISTENCIA!H41=\"\",\"\",ASISTENCIA!H41)","v":""},null,{"$f":"ASISTENCIA!AQ41","v":0},null,{"$f":"ASISTENCIA!AR41","v":0},{"$f":"ASISTENCIA!AS41","v":0},{"$f":"ASISTENCIA!AT41","v":0},null,{"$f":"ASISTENCIA!AU41","v":0},null,{"$f":"ASISTENCIA!AV41","v":0},null,{"$f":"ASISTENCIA!AW41","v":0},null,null,{"$f":"ASISTENCIA!AX41","v":0},null,null,{"$f":"ASISTENCIA!AY41","v":0},null,null,null,null,null,null,null,null,null,null,""]
[{"$f":"IF(+ASISTENCIA!A42=\"\",\"\",ASISTENCIA!A42)","v":""},{"$f":"IF(LEN(C41)>0,VLOOKUP($F$6,DATA!$A:$S,2,FALSE),\"\")","v":""},"",{"$f":"IF(+ASISTENCIA!D42=\"\",\"\",ASISTENCIA!D42)","v":""},{"$f":"IF(+ASISTENCIA!E42=\"\",\"\",ASISTENCIA!E42)","v":""},{"$f":"IF(+ASISTENCIA!F42=\"\",\"\",ASISTENCIA!F42)","v":""},{"$f":"IF(+ASISTENCIA!G42=\"\",\"\",ASISTENCIA!G42)","v":""},{"$f":"IF(+ASISTENCIA!H42=\"\",\"\",ASISTENCIA!H42)","v":""},null,{"$f":"ASISTENCIA!AQ42","v":0},null,{"$f":"ASISTENCIA!AR42","v":0},{"$f":"ASISTENCIA!AS42","v":0},{"$f":"ASISTENCIA!AT42","v":0},null,{"$f":"ASISTENCIA!AU42","v":0},null,{"$f":"ASISTENCIA!AV42","v":0},null,{"$f":"ASISTENCIA!AW42","v":0},null,null,{"$f":"ASISTENCIA!AX42","v":0},null,null,{"$f":"ASISTENCIA!AY42","v":0},null,null,null,null,null,null,null,null,null,null,""]
[{"$f":"IF(+ASISTENCIA!A43=\"\",\"\",ASISTENCIA!A43)","v":""},{"$f":"IF(LEN(C42)>0,VLOOKUP($F$6,DATA!$A:$S,2,FALSE),\"\")","v":""},"",{"$f":"IF(+ASISTENCIA!D43=\"\",\"\",ASISTENCIA!D43)","v":""},{"$f":"IF(+ASISTENCIA!E43=\"\",\"\",ASISTENCIA!E43)","v":""},{"$f":"IF(+ASISTENCIA!F43=\"\",\"\",ASISTENCIA!F43)","v":""},{"$f":"IF(+ASISTENCIA!G43=\"\",\"\",ASISTENCIA!G43)","v":""},{"$f":"IF(+ASISTENCIA!H43=\"\",\"\",ASISTENCIA!H43)","v":""},null,{"$f":"ASISTENCIA!AQ43","v":0},null,{"$f":"ASISTENCIA!AR43","v":0},{"$f":"ASISTENCIA!AS43","v":0},{"$f":"ASISTENCIA!AT43","v":0},null,{"$f":"ASISTENCIA!AU43","v":0},null,{"$f":"ASISTENCIA!AV43","v":0},null,{"$f":"ASISTENCIA!AW43","v":0},null,null,{"$f":"ASISTENCIA!AX43","v":0},null,null,{"$f":"ASISTENCIA!AY43","v":0},null,null,null,null,null,null,null,null,null,null,""]
[{"$f":"IF(+ASISTENCIA!A44=\"\",\"\",ASISTENCIA!A44)","v":""},{"$f":"IF(LEN(C43)>0,VLOOKUP($F$6,DATA!$A:$S,2,FALSE),\"\")","v":""},"",{"$f":"IF(+ASISTENCIA!D44=\"\",\"\",ASISTENCIA!D44)","v":""},{"$f":"IF(+ASISTENCIA!E44=\"\",\"\",ASISTENCIA!E44)","v":""},{"$f":"IF(+ASISTENCIA!F44=\"\",\"\",ASISTENCIA!F44)","v":""},{"$f":"IF(+ASISTENCIA!G44=\"\",\"\",ASISTENCIA!G44)","v":""},{"$f":"IF(+ASISTENCIA!H44=\"\",\"\",ASISTENCIA!H44)","v":""},null,{"$f":"ASISTENCIA!AQ44","v":0},null,{"$f":"ASISTENCIA!AR44","v":0},{"$f":"ASISTENCIA!AS44","v":0},{"$f":"ASISTENCIA!AT44","v":0},null,{"$f":"ASISTENCIA!AU44","v":0},null,{"$f":"ASISTENCIA!AV44","v":0},null,{"$f":"ASISTENCIA!AW44","v":0},null,null,{"$f":"ASISTENCIA!AX44","v":0},null,null,{"$f":"ASISTENCIA!AY44","v":0},null,null,null,null,null,null,null,null,null,null,""]
[{"$f":"IF(+ASISTENCIA!A45=\"\",\"\",ASISTENCIA!A45)","v":""},null,null,{"$f":"IF(+ASISTENCIA!D45=\"\",\"\",ASISTENCIA!D45)","v":""},{"$f":"IF(+ASISTENCIA!E45=\"\",\"\",ASISTENCIA!E45)","v":""},{"$f":"IF(+ASISTENCIA!F45=\"\",\"\",ASISTENCIA!F45)","v":""},{"$f":"IF(+ASISTENCIA!G45=\"\",\"\",ASISTENCIA!G45)","v":""},{"$f":"IF(+ASISTENCIA!H45=\"\",\"\",ASISTENCIA!H45)","v":""},null,{"$f":"ASISTENCIA!AQ45","v":0},null,{"$f":"ASISTENCIA!AR45","v":0},{"$f":"ASISTENCIA!AS45","v":0},{"$f":"ASISTENCIA!AT45","v":0},null,{"$f":"ASISTENCIA!AU45","v":0},null,{"$f":"ASISTENCIA!AV45","v":0},null,{"$f":"ASISTENCIA!AW45","v":0},null,null,{"$f":"ASISTENCIA!AX45","v":0},null,null,{"$f":"ASISTENCIA!AY45","v":0},null,null,null,null,null,null,null,null,null,null,""]
[{"$f":"IF(+ASISTENCIA!A46=\"\",\"\",ASISTENCIA!A46)","v":""},null,null,{"$f":"IF(+ASISTENCIA!D46=\"\",\"\",ASISTENCIA!D46)","v":""},{"$f":"IF(+ASISTENCIA!E46=\"\",\"\",ASISTENCIA!E46)","v":""},{"$f":"IF(+ASISTENCIA!F46=\"\",\"\",ASISTENCIA!F46)","v":""},{"$f":"IF(+ASISTENCIA!G46=\"\",\"\",ASISTENCIA!G46)","v":""},{"$f":"IF(+ASISTENCIA!H46=\"\",\"\",ASISTENCIA!H46)","v":""},null,{"$f":"ASISTENCIA!AQ46","v":0},null,{"$f":"ASISTENCIA!AR46","v":0},{"$f":"ASISTENCIA!AS46","v":0},{"$f":"ASISTENCIA!AT46","v":0},null,{"$f":"ASISTENCIA!AU46","v":0},null,{"$f":"ASISTENCIA!AV46","v":0},null,{"$f":"ASISTENCIA!AW46","v":0},null,null,{"$f":"ASISTENCIA!AX46","v":0},null,null,{"$f":"ASISTENCIA!AY46","v":0},null,null,null,null,null,null,null,null,null,null,""]
[{"$f":"IF(+ASISTENCIA!A47=\"\",\"\",ASISTENCIA!A47)","v":""},null,null,{"$f":"IF(+ASISTENCIA!D47=\"\",\"\",ASISTENCIA!D47)","v":""},{"$f":"IF(+ASISTENCIA!E47=\"\",\"\",ASISTENCIA!E47)","v":""},{"$f":"IF(+ASISTENCIA!F47=\"\",\"\",ASISTENCIA!F47)","v":""},{"$f":"IF(+ASISTENCIA!G47=\"\",\"\",ASISTENCIA!G47)","v":""},{"$f":"IF(+ASISTENCIA!H47=\"\",\"\",ASISTENCIA!H47)","v":""},null,{"$f":"ASISTENCIA!AQ47","v":0},null,{"$f":"ASISTENCIA!AR47","v":0},{"$f":"ASISTENCIA!AS47","v":0},{"$f":"ASISTENCIA!AU47","v":0},null,{"$f":"ASISTENCIA!AV47","v":0},null,{"$f":"ASISTENCIA!AT47","v":0},null,{"$f":"ASISTENCIA!AW47","v":0},null,null,null,null,null,null,null,null,null,null,null,null,null,null,null,null,""]
[{"$f":"IF(+ASISTENCIA!A48=\"\",\"\",ASISTENCIA!A48)","v":""},null,null,{"$f":"IF(+ASISTENCIA!D48=\"\",\"\",ASISTENCIA!D48)","v":""},{"$f":"IF(+ASISTENCIA!E48=\"\",\"\",ASISTENCIA!E48)","v":""},{"$f":"IF(+ASISTENCIA!F48=\"\",\"\",ASISTENCIA!F48)","v":""},{"$f":"IF(+ASISTENCIA!G48=\"\",\"\",ASISTENCIA!G48)","v":""},{"$f":"IF(+ASISTENCIA!H48=\"\",\"\",ASISTENCIA!H48)","v":""},null,{"$f":"ASISTENCIA!AQ48","v":0},null,{"$f":"ASISTENCIA!AR48","v":0},{"$f":"ASISTENCIA!AS48","v":0},{"$f":"ASISTENCIA!AU48","v":0},null,{"$f":"ASISTENCIA!AV48","v":0},null,{"$f":"ASISTENCIA!AT48","v":0},null,{"$f":"ASISTENCIA!AW48","v":0},null,null,null,null,null,null,null,null,null,null,null,null,null,null,null,null,""]
[{"$f":"IF(+ASISTENCIA!A49=\"\",\"\",ASISTENCIA!A49)","v":""},null,null,{"$f":"IF(+ASISTENCIA!D49=\"\",\"\",ASISTENCIA!D49)","v":""},{"$f":"IF(+ASISTENCIA!E49=\"\",\"\",ASISTENCIA!E49)","v":""},{"$f":"IF(+ASISTENCIA!F49=\"\",\"\",ASISTENCIA!F49)","v":""},{"$f":"IF(+ASISTENCIA!G49=\"\",\"\",ASISTENCIA!G49)","v":""},{"$f":"IF(+ASISTENCIA!H49=\"\",\"\",ASISTENCIA!H49)","v":""},null,{"$f":"ASISTENCIA!AQ49","v":0},null,{"$f":"ASISTENCIA!AR49","v":0},{"$f":"ASISTENCIA!AS49","v":0},{"$f":"ASISTENCIA!AU49","v":0},null,{"$f":"ASISTENCIA!AV49","v":0},null,{"$f":"ASISTENCIA!AT49","v":0},null,{"$f":"ASISTENCIA!AW49","v":0},null,null,null,null,null,null,null,null,null,null,null,null,null,null,null,null,""]
[{"$f":"IF(+ASISTENCIA!A50=\"\",\"\",ASISTENCIA!A50)","v":""},null,null,{"$f":"IF(+ASISTENCIA!D50=\"\",\"\",ASISTENCIA!D50)","v":""},{"$f":"IF(+ASISTENCIA!E50=\"\",\"\",ASISTENCIA!E50)","v":""},{"$f":"IF(+ASISTENCIA!F50=\"\",\"\",ASISTENCIA!F50)","v":""},{"$f":"IF(+ASISTENCIA!G50=\"\",\"\",ASISTENCIA!G50)","v":""},{"$f":"IF(+ASISTENCIA!H50=\"\",\"\",ASISTENCIA!H50)","v":""},null,{"$f":"ASISTENCIA!AQ50","v":0},null,{"$f":"ASISTENCIA!AR50","v":0},{"$f":"ASISTENCIA!AS50","v":0},{"$f":"ASISTENCIA!AU50","v":0},null,{"$f":"ASISTENCIA!AV50","v":0},null,{"$f":"ASISTENCIA!AT50","v":0},null,{"$f":"ASISTENCIA!AW50","v":0},null,null,null,null,null,null,null,null,null,null,null,null,null,null,null,null,""]
[{"$f":"IF(+ASISTENCIA!A51=\"\",\"\",ASISTENCIA!A51)","v":""},null,null,{"$f":"IF(+ASISTENCIA!D51=\"\",\"\",ASISTENCIA!D51)","v":""},{"$f":"IF(+ASISTENCIA!E51=\"\",\"\",ASISTENCIA!E51)","v":""},{"$f":"IF(+ASISTENCIA!F51=\"\",\"\",ASISTENCIA!F51)","v":""},{"$f":"IF(+ASISTENCIA!G51=\"\",\"\",ASISTENCIA!G51)","v":""},{"$f":"IF(+ASISTENCIA!H51=\"\",\"\",ASISTENCIA!H51)","v":""},null,{"$f":"ASISTENCIA!AQ51","v":0},null,{"$f":"ASISTENCIA!AR51","v":0},{"$f":"ASISTENCIA!AS51","v":0},{"$f":"ASISTENCIA!AU51","v":0},null,{"$f":"ASISTENCIA!AV51","v":0},null,{"$f":"ASISTENCIA!AT51","v":0},null,{"$f":"ASISTENCIA!AW51","v":0},null,null,null,null,null,null,null,null,null,null,null,null,null,null,null,null,""]
[{"$f":"IF(+ASISTENCIA!A52=\"\",\"\",ASISTENCIA!A52)","v":""},null,null,{"$f":"IF(+ASISTENCIA!D52=\"\",\"\",ASISTENCIA!D52)","v":""},{"$f":"IF(+ASISTENCIA!E52=\"\",\"\",ASISTENCIA!E52)","v":""},{"$f":"IF(+ASISTENCIA!F52=\"\",\"\",ASISTENCIA!F52)","v":""},{"$f":"IF(+ASISTENCIA!G52=\"\",\"\",ASISTENCIA!G52)","v":""},{"$f":"IF(+ASISTENCIA!H52=\"\",\"\",ASISTENCIA!H52)","v":""},null,{"$f":"ASISTENCIA!AQ52","v":0},null,{"$f":"ASISTENCIA!AR52","v":0},{"$f":"ASISTENCIA!AS52","v":0},{"$f":"ASISTENCIA!AU52","v":0},null,{"$f":"ASISTENCIA!AV52","v":0},null,{"$f":"ASISTENCIA!AT52","v":0},null,{"$f":"ASISTENCIA!AW52","v":0},null,null,null,null,null,null,null,null,null,null,null,null,null,null,null,null,""]
[{"$f":"IF(+ASISTENCIA!A53=\"\",\"\",ASISTENCIA!A53)","v":""},null,null,{"$f":"IF(+ASISTENCIA!D53=\"\",\"\",ASISTENCIA!D53)","v":""},{"$f":"IF(+ASISTENCIA!E53=\"\",\"\",ASISTENCIA!E53)","v":""},{"$f":"IF(+ASISTENCIA!F53=\"\",\"\",ASISTENCIA!F53)","v":""},{"$f":"IF(+ASISTENCIA!G53=\"\",\"\",ASISTENCIA!G53)","v":""},{"$f":"IF(+ASISTENCIA!H53=\"\",\"\",ASISTENCIA!H53)","v":""},null,{"$f":"ASISTENCIA!AQ53","v":0},null,{"$f":"ASISTENCIA!AR53","v":0},{"$f":"ASISTENCIA!AS53","v":0},{"$f":"ASISTENCIA!AU53","v":0},null,{"$f":"ASISTENCIA!AV53","v":0},null,{"$f":"ASISTENCIA!AT53","v":0},null,{"$f":"ASISTENCIA!AW53","v":0},null,null,null,null,null,null,null,null,null,null,null,null,null,null,null,null,""]
[{"$f":"IF(+ASISTENCIA!A54=\"\",\"\",ASISTENCIA!A54)","v":""},null,null,{"$f":"IF(+ASISTENCIA!D54=\"\",\"\",ASISTENCIA!D54)","v":""},{"$f":"IF(+ASISTENCIA!E54=\"\",\"\",ASISTENCIA!E54)","v":""},{"$f":"IF(+ASISTENCIA!F54=\"\",\"\",ASISTENCIA!F54)","v":""},{"$f":"IF(+ASISTENCIA!G54=\"\",\"\",ASISTENCIA!G54)","v":""},{"$f":"IF(+ASISTENCIA!H54=\"\",\"\",ASISTENCIA!H54)","v":""},null,{"$f":"ASISTENCIA!AQ54","v":0},null,{"$f":"ASISTENCIA!AR54","v":0},{"$f":"ASISTENCIA!AS54","v":0},{"$f":"ASISTENCIA!AU54","v":0},null,{"$f":"ASISTENCIA!AV54","v":0},null,{"$f":"ASISTENCIA!AT54","v":0},null,{"$f":"ASISTENCIA!AW54","v":0},null,null,null,null,null,null,null,null,null,null,null,null,null,null,null,null,""]
[{"$f":"IF(+ASISTENCIA!A55=\"\",\"\",ASISTENCIA!A55)","v":""},null,null,{"$f":"IF(+ASISTENCIA!D55=\"\",\"\",ASISTENCIA!D55)","v":""},{"$f":"IF(+ASISTENCIA!E55=\"\",\"\",ASISTENCIA!E55)","v":""},{"$f":"IF(+ASISTENCIA!F55=\"\",\"\",ASISTENCIA!F55)","v":""},{"$f":"IF(+ASISTENCIA!G55=\"\",\"\",ASISTENCIA!G55)","v":""},{"$f":"IF(+ASISTENCIA!H55=\"\",\"\",ASISTENCIA!H55)","v":""},null,{"$f":"ASISTENCIA!AQ55","v":0},null,{"$f":"ASISTENCIA!AR55","v":0},{"$f":"ASISTENCIA!AS55","v":0},{"$f":"ASISTENCIA!AU55","v":0},null,{"$f":"ASISTENCIA!AV55","v":0},null,{"$f":"ASISTENCIA!AT55","v":0},null,{"$f":"ASISTENCIA!AW55","v":0},null,null,null,null,null,null,null,null,null,null,null,null,null,null,null,null,""]
[{"$f":"IF(+ASISTENCIA!A56=\"\",\"\",ASISTENCIA!A56)","v":""},null,null,{"$f":"IF(+ASISTENCIA!D56=\"\",\"\",ASISTENCIA!D56)","v":""},{"$f":"IF(+ASISTENCIA!E56=\"\",\"\",ASISTENCIA!E56)","v":""},{"$f":"IF(+ASISTENCIA!F56=\"\",\"\",ASISTENCIA!F56)","v":""},{"$f":"IF(+ASISTENCIA!G56=\"\",\"\",ASISTENCIA!G56)","v":""},{"$f":"IF(+ASISTENCIA!H56=\"\",\"\",ASISTENCIA!H56)","v":""},null,{"$f":"ASISTENCIA!AQ56","v":0},null,{"$f":"ASISTENCIA!AR56","v":0},{"$f":"ASISTENCIA!AS56","v":0},{"$f":"ASISTENCIA!AU56","v":0},null,{"$f":"ASISTENCIA!AV56","v":0},null,{"$f":"ASISTENCIA!AT56","v":0},null,{"$f":"ASISTENCIA!AW56","v":0},null,null,null,null,null,null,null,null,null,null,null,null,null,null,null,null,""]
[{"$f":"IF(+ASISTENCIA!A57=\"\",\"\",ASISTENCIA!A57)","v":""},null,null,{"$f":"IF(+ASISTENCIA!D57=\"\",\"\",ASISTENCIA!D57)","v":""},{"$f":"IF(+ASISTENCIA!E57=\"\",\"\",ASISTENCIA!E57)","v":""},{"$f":"IF(+ASISTENCIA!F57=\"\",\"\",ASISTENCIA!F57)","v":""},{"$f":"IF(+ASISTENCIA!G57=\"\",\"\",ASISTENCIA!G57)","v":""},{"$f":"IF(+ASISTENCIA!H57=\"\",\"\",ASISTENCIA!H57)","v":""},null,{"$f":"ASISTENCIA!AQ57","v":0},null,{"$f":"ASISTENCIA!AR57","v":0},{"$f":"ASISTENCIA!AS57","v":0},{"$f":"ASISTENCIA!AU57","v":0},null,{"$f":"ASISTENCIA!AV57","v":0},null,{"$f":"ASISTENCIA!AT57","v":0},null,{"$f":"ASISTENCIA!AW57","v":0},null,null,null,null,null,null,null,null,null,null,null,null,null,null,null,null,""]
[{"$f":"IF(+ASISTENCIA!A58=\"\",\"\",ASISTENCIA!A58)","v":""},null,null,{"$f":"IF(+ASISTENCIA!D58=\"\",\"\",ASISTENCIA!D58)","v":""},{"$f":"IF(+ASISTENCIA!E58=\"\",\"\",ASISTENCIA!E58)","v":""},{"$f":"IF(+ASISTENCIA!F58=\"\",\"\",ASISTENCIA!F58)","v":""},{"$f":"IF(+ASISTENCIA!G58=\"\",\"\",ASISTENCIA!G58)","v":""},{"$f":"IF(+ASISTENCIA!H58=\"\",\"\",ASISTENCIA!H58)","v":""},null,{"$f":"ASISTENCIA!AQ58","v":0},null,{"$f":"ASISTENCIA!AR58","v":0},{"$f":"ASISTENCIA!AS58","v":0},{"$f":"ASISTENCIA!AU58","v":0},null,{"$f":"ASISTENCIA!AV58","v":0},null,{"$f":"ASISTENCIA!AT58","v":0},null,{"$f":"ASISTENCIA!AW58","v":0},null,null,null,null,null,null,null,null,null,null,null,null,null,null,null,null,""]
[{"$f":"IF(+ASISTENCIA!A59=\"\",\"\",ASISTENCIA!A59)","v":""},null,null,{"$f":"IF(+ASISTENCIA!D59=\"\",\"\",ASISTENCIA!D59)","v":""},{"$f":"IF(+ASISTENCIA!E59=\"\",\"\",ASISTENCIA!E59)","v":""},{"$f":"IF(+ASISTENCIA!F59=\"\",\"\",ASISTENCIA!F59)","v":""},{"$f":"IF(+ASISTENCIA!G59=\"\",\"\",ASISTENCIA!G59)","v":""},{"$f":"IF(+ASISTENCIA!H59=\"\",\"\",ASISTENCIA!H59)","v":""},null,{"$f":"ASISTENCIA!AQ59","v":0},null,{"$f":"ASISTENCIA!AR59","v":0},{"$f":"ASISTENCIA!AS59","v":0},{"$f":"ASISTENCIA!AU59","v":0},null,{"$f":"ASISTENCIA!AV59","v":0},null,{"$f":"ASISTENCIA!AT59","v":0},null,{"$f":"ASISTENCIA!AW59","v":0},null,null,null,null,null,null,null,null,null,null,null,null,null,null,null,null,""]
[{"$f":"IF(+ASISTENCIA!A60=\"\",\"\",ASISTENCIA!A60)","v":""},null,null,{"$f":"IF(+ASISTENCIA!D60=\"\",\"\",ASISTENCIA!D60)","v":""},{"$f":"IF(+ASISTENCIA!E60=\"\",\"\",ASISTENCIA!E60)","v":""},{"$f":"IF(+ASISTENCIA!F60=\"\",\"\",ASISTENCIA!F60)","v":""},{"$f":"IF(+ASISTENCIA!G60=\"\",\"\",ASISTENCIA!G60)","v":""},{"$f":"IF(+ASISTENCIA!H60=\"\",\"\",ASISTENCIA!H60)","v":""},null,{"$f":"ASISTENCIA!AQ60","v":0},null,{"$f":"ASISTENCIA!AR60","v":0},{"$f":"ASISTENCIA!AS60","v":0},{"$f":"ASISTENCIA!AU60","v":0},null,{"$f":"ASISTENCIA!AV60","v":0},null,{"$f":"ASISTENCIA!AT60","v":0},null,{"$f":"ASISTENCIA!AW60","v":0},null,null,null,null,null,null,null,null,null,null,null,null,null,null,null,null,""]
[{"$f":"IF(+ASISTENCIA!A61=\"\",\"\",ASISTENCIA!A61)","v":""},null,null,{"$f":"IF(+ASISTENCIA!D61=\"\",\"\",ASISTENCIA!D61)","v":""},{"$f":"IF(+ASISTENCIA!E61=\"\",\"\",ASISTENCIA!E61)","v":""},{"$f":"IF(+ASISTENCIA!F61=\"\",\"\",ASISTENCIA!F61)","v":""},{"$f":"IF(+ASISTENCIA!G61=\"\",\"\",ASISTENCIA!G61)","v":""},{"$f":"IF(+ASISTENCIA!H61=\"\",\"\",ASISTENCIA!H61)","v":""},null,{"$f":"ASISTENCIA!AQ61","v":0},null,{"$f":"ASISTENCIA!AR61","v":0},{"$f":"ASISTENCIA!AS61","v":0},{"$f":"ASISTENCIA!AU61","v":0},null,{"$f":"ASISTENCIA!AV61","v":0},null,{"$f":"ASISTENCIA!AT61","v":0},null,{"$f":"ASISTENCIA!AW61","v":0},null,null,null,null,null,null,null,null,null,null,null,null,null,null,null,null,""]
[{"$f":"IF(+ASISTENCIA!A62=\"\",\"\",ASISTENCIA!A62)","v":""},null,null,{"$f":"IF(+ASISTENCIA!D62=\"\",\"\",ASISTENCIA!D62)","v":""},{"$f":"IF(+ASISTENCIA!E62=\"\",\"\",ASISTENCIA!E62)","v":""},{"$f":"IF(+ASISTENCIA!F62=\"\",\"\",ASISTENCIA!F62)","v":""},{"$f":"IF(+ASISTENCIA!G62=\"\",\"\",ASISTENCIA!G62)","v":""},{"$f":"IF(+ASISTENCIA!H62=\"\",\"\",ASISTENCIA!H62)","v":""},null,{"$f":"ASISTENCIA!AQ62","v":0},null,{"$f":"ASISTENCIA!AR62","v":0},{"$f":"ASISTENCIA!AS62","v":0},{"$f":"ASISTENCIA!AU62","v":0},null,{"$f":"ASISTENCIA!AV62","v":0},null,{"$f":"ASISTENCIA!AT62","v":0},null,{"$f":"ASISTENCIA!AW62","v":0},null,null,null,null,null,null,null,null,null,null,null,null,null,null,null,null,""]
[{"$f":"IF(+ASISTENCIA!A63=\"\",\"\",ASISTENCIA!A63)","v":""},null,null,{"$f":"IF(+ASISTENCIA!D63=\"\",\"\",ASISTENCIA!D63)","v":""},{"$f":"IF(+ASISTENCIA!E63=\"\",\"\",ASISTENCIA!E63)","v":""},{"$f":"IF(+ASISTENCIA!F63=\"\",\"\",ASISTENCIA!F63)","v":""},{"$f":"IF(+ASISTENCIA!G63=\"\",\"\",ASISTENCIA!G63)","v":""},{"$f":"IF(+ASISTENCIA!H63=\"\",\"\",ASISTENCIA!H63)","v":""},null,{"$f":"ASISTENCIA!AQ63","v":0},null,{"$f":"ASISTENCIA!AR63","v":0},{"$f":"ASISTENCIA!AS63","v":0},{"$f":"ASISTENCIA!AU63","v":0},null,{"$f":"ASISTENCIA!AV63","v":0},null,{"$f":"ASISTENCIA!AT63","v":0},null,{"$f":"ASISTENCIA!AW63","v":0},null,null,null,null,null,null,null,null,null,null,null,null,null,null,null,null,""]
[{"$f":"IF(+ASISTENCIA!A64=\"\",\"\",ASISTENCIA!A64)","v":""},null,null,{"$f":"IF(+ASISTENCIA!D64=\"\",\"\",ASISTENCIA!D64)","v":""},{"$f":"IF(+ASISTENCIA!E64=\"\",\"\",ASISTENCIA!E64)","v":""},{"$f":"IF(+ASISTENCIA!F64=\"\",\"\",ASISTENCIA!F64)","v":""},{"$f":"IF(+ASISTENCIA!G64=\"\",\"\",ASISTENCIA!G64)","v":""},{"$f":"IF(+ASISTENCIA!H64=\"\",\"\",ASISTENCIA!H64)","v":""},null,{"$f":"ASISTENCIA!AQ64","v":0},null,{"$f":"ASISTENCIA!AR64","v":0},{"$f":"ASISTENCIA!AS64","v":0},{"$f":"ASISTENCIA!AU64","v":0},null,{"$f":"ASISTENCIA!AV64","v":0},null,{"$f":"ASISTENCIA!AT64","v":0},null,{"$f":"ASISTENCIA!AW64","v":0},null,null,null,null,null,null,null,null,null,null,null,null,null,null,null,null,""]
[{"$f":"IF(+ASISTENCIA!A65=\"\",\"\",ASISTENCIA!A65)","v":""},null,null,{"$f":"IF(+ASISTENCIA!D65=\"\",\"\",ASISTENCIA!D65)","v":""},{"$f":"IF(+ASISTENCIA!E65=\"\",\"\",ASISTENCIA!E65)","v":""},{"$f":"IF(+ASISTENCIA!F65=\"\",\"\",ASISTENCIA!F65)","v":""},{"$f":"IF(+ASISTENCIA!G65=\"\",\"\",ASISTENCIA!G65)","v":""},{"$f":"IF(+ASISTENCIA!H65=\"\",\"\",ASISTENCIA!H65)","v":""},null,{"$f":"ASISTENCIA!AQ65","v":0},null,{"$f":"ASISTENCIA!AR65","v":0},{"$f":"ASISTENCIA!AS65","v":0},{"$f":"ASISTENCIA!AU65","v":0},null,{"$f":"ASISTENCIA!AV65","v":0},null,{"$f":"ASISTENCIA!AT65","v":0},null,{"$f":"ASISTENCIA!AW65","v":0},null,null,null,null,null,null,null,null,null,null,null,null,null,null,null,null,""]
[{"$f":"IF(+ASISTENCIA!A66=\"\",\"\",ASISTENCIA!A66)","v":""},null,null,{"$f":"IF(+ASISTENCIA!D66=\"\",\"\",ASISTENCIA!D66)","v":""},{"$f":"IF(+ASISTENCIA!E66=\"\",\"\",ASISTENCIA!E66)","v":""},{"$f":"IF(+ASISTENCIA!F66=\"\",\"\",ASISTENCIA!F66)","v":""},{"$f":"IF(+ASISTENCIA!G66=\"\",\"\",ASISTENCIA!G66)","v":""},{"$f":"IF(+ASISTENCIA!H66=\"\",\"\",ASISTENCIA!H66)","v":""},null,{"$f":"ASISTENCIA!AQ66","v":0},null,{"$f":"ASISTENCIA!AR66","v":0},{"$f":"ASISTENCIA!AS66","v":0},{"$f":"ASISTENCIA!AU66","v":0},null,{"$f":"ASISTENCIA!AV66","v":0},null,{"$f":"ASISTENCIA!AT66","v":0},null,{"$f":"ASISTENCIA!AW66","v":0},null,null,null,null,null,null,null,null,null,null,null,null,null,null,null,null,""]
[{"$f":"IF(+ASISTENCIA!A67=\"\",\"\",ASISTENCIA!A67)","v":""},null,null,{"$f":"IF(+ASISTENCIA!D67=\"\",\"\",ASISTENCIA!D67)","v":""},{"$f":"IF(+ASISTENCIA!E67=\"\",\"\",ASISTENCIA!E67)","v":""},{"$f":"IF(+ASISTENCIA!F67=\"\",\"\",ASISTENCIA!F67)","v":""},{"$f":"IF(+ASISTENCIA!G67=\"\",\"\",ASISTENCIA!G67)","v":""},{"$f":"IF(+ASISTENCIA!H67=\"\",\"\",ASISTENCIA!H67)","v":""},null,{"$f":"ASISTENCIA!AQ67","v":0},null,{"$f":"ASISTENCIA!AR67","v":0},{"$f":"ASISTENCIA!AS67","v":0},{"$f":"ASISTENCIA!AU67","v":0},null,{"$f":"ASISTENCIA!AV67","v":0},null,{"$f":"ASISTENCIA!AT67","v":0},null,{"$f":"ASISTENCIA!AW67","v":0},null,null,null,null,null,null,null,null,null,null,null,null,null,null,null,null,""]
[{"$f":"IF(+ASISTENCIA!A68=\"\",\"\",ASISTENCIA!A68)","v":""},null,null,{"$f":"IF(+ASISTENCIA!D68=\"\",\"\",ASISTENCIA!D68)","v":""},{"$f":"IF(+ASISTENCIA!E68=\"\",\"\",ASISTENCIA!E68)","v":""},{"$f":"IF(+ASISTENCIA!F68=\"\",\"\",ASISTENCIA!F68)","v":""},{"$f":"IF(+ASISTENCIA!G68=\"\",\"\",ASISTENCIA!G68)","v":""},{"$f":"IF(+ASISTENCIA!H68=\"\",\"\",ASISTENCIA!H68)","v":""},null,{"$f":"ASISTENCIA!AQ68","v":0},null,{"$f":"ASISTENCIA!AR68","v":0},{"$f":"ASISTENCIA!AS68","v":0},{"$f":"ASISTENCIA!AU68","v":0},null,{"$f":"ASISTENCIA!AV68","v":0},null,{"$f":"ASISTENCIA!AT68","v":0},null,{"$f":"ASISTENCIA!AW68","v":0},null,null,null,null,null,null,null,null,null,null,null,null,null,null,null,null,""]
[{"$f":"IF(+ASISTENCIA!A69=\"\",\"\",ASISTENCIA!A69)","v":""},null,null,{"$f":"IF(+ASISTENCIA!D69=\"\",\"\",ASISTENCIA!D69)","v":""},{"$f":"IF(+ASISTENCIA!E69=\"\",\"\",ASISTENCIA!E69)","v":""},{"$f":"IF(+ASISTENCIA!F69=\"\",\"\",ASISTENCIA!F69)","v":""},{"$f":"IF(+ASISTENCIA!G69=\"\",\"\",ASISTENCIA!G69)","v":""},{"$f":"IF(+ASISTENCIA!H69=\"\",\"\",ASISTENCIA!H69)","v":""},null,{"$f":"ASISTENCIA!AQ69","v":0},null,{"$f":"ASISTENCIA!AR69","v":0},{"$f":"ASISTENCIA!AS69","v":0},{"$f":"ASISTENCIA!AU69","v":0},null,{"$f":"ASISTENCIA!AV69","v":0},null,{"$f":"ASISTENCIA!AT69","v":0},null,{"$f":"ASISTENCIA!AW69","v":0},null,null,null,null,null,null,null,null,null,null,null,null,null,null,null,null,""]
[{"$f":"IF(+ASISTENCIA!A70=\"\",\"\",ASISTENCIA!A70)","v":""},null,null,{"$f":"IF(+ASISTENCIA!D70=\"\",\"\",ASISTENCIA!D70)","v":""},{"$f":"IF(+ASISTENCIA!E70=\"\",\"\",ASISTENCIA!E70)","v":""},{"$f":"IF(+ASISTENCIA!F70=\"\",\"\",ASISTENCIA!F70)","v":""},{"$f":"IF(+ASISTENCIA!G70=\"\",\"\",ASISTENCIA!G70)","v":""},{"$f":"IF(+ASISTENCIA!H70=\"\",\"\",ASISTENCIA!H70)","v":""},null,{"$f":"ASISTENCIA!AQ70","v":0},null,{"$f":"ASISTENCIA!AR70","v":0},{"$f":"ASISTENCIA!AS70","v":0},{"$f":"ASISTENCIA!AU70","v":0},null,{"$f":"ASISTENCIA!AV70","v":0},null,{"$f":"ASISTENCIA!AT70","v":0},null,{"$f":"ASISTENCIA!AW70","v":0},null,null,null,null,null,null,null,null,null,null,null,null,null,null,null,null,""]
[{"$f":"IF(+ASISTENCIA!A71=\"\",\"\",ASISTENCIA!A71)","v":""},null,null,{"$f":"IF(+ASISTENCIA!D71=\"\",\"\",ASISTENCIA!D71)","v":""},{"$f":"IF(+ASISTENCIA!E71=\"\",\"\",ASISTENCIA!E71)","v":""},{"$f":"IF(+ASISTENCIA!F71=\"\",\"\",ASISTENCIA!F71)","v":""},{"$f":"IF(+ASISTENCIA!G71=\"\",\"\",ASISTENCIA!G71)","v":""},{"$f":"IF(+ASISTENCIA!H71=\"\",\"\",ASISTENCIA!H71)","v":""},null,{"$f":"ASISTENCIA!AQ71","v":0},null,{"$f":"ASISTENCIA!AR71","v":0},{"$f":"ASISTENCIA!AS71","v":0},{"$f":"ASISTENCIA!AU71","v":0},null,{"$f":"ASISTENCIA!AV71","v":0},null,{"$f":"ASISTENCIA!AT71","v":0},null,{"$f":"ASISTENCIA!AW71","v":0},null,null,null,null,null,null,null,null,null,null,null,null,null,null,null,null,""]
[{"$f":"IF(+ASISTENCIA!A72=\"\",\"\",ASISTENCIA!A72)","v":""},null,null,{"$f":"IF(+ASISTENCIA!D72=\"\",\"\",ASISTENCIA!D72)","v":""},{"$f":"IF(+ASISTENCIA!E72=\"\",\"\",ASISTENCIA!E72)","v":""},{"$f":"IF(+ASISTENCIA!F72=\"\",\"\",ASISTENCIA!F72)","v":""},{"$f":"IF(+ASISTENCIA!G72=\"\",\"\",ASISTENCIA!G72)","v":""},{"$f":"IF(+ASISTENCIA!H72=\"\",\"\",ASISTENCIA!H72)","v":""},null,{"$f":"ASISTENCIA!AQ72","v":0},null,{"$f":"ASISTENCIA!AR72","v":0},{"$f":"ASISTENCIA!AS72","v":0},{"$f":"ASISTENCIA!AU72","v":0},null,{"$f":"ASISTENCIA!AV72","v":0},null,{"$f":"ASISTENCIA!AT72","v":0},null,{"$f":"ASISTENCIA!AW72","v":0},null,null,null,null,null,null,null,null,null,null,null,null,null,null,null,null,""]
[{"$f":"IF(+ASISTENCIA!A73=\"\",\"\",ASISTENCIA!A73)","v":""},null,null,{"$f":"IF(+ASISTENCIA!D73=\"\",\"\",ASISTENCIA!D73)","v":""},{"$f":"IF(+ASISTENCIA!E73=\"\",\"\",ASISTENCIA!E73)","v":""},{"$f":"IF(+ASISTENCIA!F73=\"\",\"\",ASISTENCIA!F73)","v":""},{"$f":"IF(+ASISTENCIA!G73=\"\",\"\",ASISTENCIA!G73)","v":""},{"$f":"IF(+ASISTENCIA!H73=\"\",\"\",ASISTENCIA!H73)","v":""},null,{"$f":"ASISTENCIA!AQ73","v":0},null,{"$f":"ASISTENCIA!AR73","v":0},{"$f":"ASISTENCIA!AS73","v":0},{"$f":"ASISTENCIA!AU73","v":0},null,{"$f":"ASISTENCIA!AV73","v":0},null,{"$f":"ASISTENCIA!AT73","v":0},null,{"$f":"ASISTENCIA!AW73","v":0},null,null,null,null,null,null,null,null,null,null,null,null,null,null,null,null,""]
[{"$f":"IF(+ASISTENCIA!A74=\"\",\"\",ASISTENCIA!A74)","v":""},null,null,{"$f":"IF(+ASISTENCIA!D74=\"\",\"\",ASISTENCIA!D74)","v":""},{"$f":"IF(+ASISTENCIA!E74=\"\",\"\",ASISTENCIA!E74)","v":""},{"$f":"IF(+ASISTENCIA!F74=\"\",\"\",ASISTENCIA!F74)","v":""},{"$f":"IF(+ASISTENCIA!G74=\"\",\"\",ASISTENCIA!G74)","v":""},{"$f":"IF(+ASISTENCIA!H74=\"\",\"\",ASISTENCIA!H74)","v":""},null,{"$f":"ASISTENCIA!AQ74","v":0},null,{"$f":"ASISTENCIA!AR74","v":0},{"$f":"ASISTENCIA!AS74","v":0},{"$f":"ASISTENCIA!AU74","v":0},null,{"$f":"ASISTENCIA!AV74","v":0},null,{"$f":"ASISTENCIA!AT74","v":0},null,{"$f":"ASISTENCIA!AW74","v":0},null,null,null,null,null,null,null,null,null,null,null,null,null,null,null,null,""]
[{"$f":"IF(+ASISTENCIA!A75=\"\",\"\",ASISTENCIA!A75)","v":""},null,null,{"$f":"IF(+ASISTENCIA!D75=\"\",\"\",ASISTENCIA!D75)","v":""},{"$f":"IF(+ASISTENCIA!E75=\"\",\"\",ASISTENCIA!E75)","v":""},{"$f":"IF(+ASISTENCIA!F75=\"\",\"\",ASISTENCIA!F75)","v":""},{"$f":"IF(+ASISTENCIA!G75=\"\",\"\",ASISTENCIA!G75)","v":""},{"$f":"IF(+ASISTENCIA!H75=\"\",\"\",ASISTENCIA!H75)","v":""},null,{"$f":"ASISTENCIA!AQ75","v":0},null,{"$f":"ASISTENCIA!AR75","v":0},{"$f":"ASISTENCIA!AS75","v":0},{"$f":"ASISTENCIA!AU75","v":0},null,{"$f":"ASISTENCIA!AV75","v":0},null,{"$f":"ASISTENCIA!AT75","v":0},null,{"$f":"ASISTENCIA!AW75","v":0},null,null,null,null,null,null,null,null,null,null,null,null,null,null,null,null,""]
[{"$f":"IF(+ASISTENCIA!A76=\"\",\"\",ASISTENCIA!A76)","v":""},null,null,{"$f":"IF(+ASISTENCIA!D76=\"\",\"\",ASISTENCIA!D76)","v":""},{"$f":"IF(+ASISTENCIA!E76=\"\",\"\",ASISTENCIA!E76)","v":""},{"$f":"IF(+ASISTENCIA!F76=\"\",\"\",ASISTENCIA!F76)","v":""},{"$f":"IF(+ASISTENCIA!G76=\"\",\"\",ASISTENCIA!G76)","v":""},{"$f":"IF(+ASISTENCIA!H76=\"\",\"\",ASISTENCIA!H76)","v":""},null,{"$f":"ASISTENCIA!AQ76","v":0},null,{"$f":"ASISTENCIA!AR76","v":0},{"$f":"ASISTENCIA!AS76","v":0},{"$f":"ASISTENCIA!AU76","v":0},null,{"$f":"ASISTENCIA!AV76","v":0},null,{"$f":"ASISTENCIA!AT76","v":0},null,{"$f":"ASISTENCIA!AW76","v":0},null,null,null,null,null,null,null,null,null,null,null,null,null,null,null,null,""]
[{"$f":"IF(+ASISTENCIA!A77=\"\",\"\",ASISTENCIA!A77)","v":""},null,null,{"$f":"IF(+ASISTENCIA!D77=\"\",\"\",ASISTENCIA!D77)","v":""},{"$f":"IF(+ASISTENCIA!E77=\"\",\"\",ASISTENCIA!E77)","v":""},{"$f":"IF(+ASISTENCIA!F77=\"\",\"\",ASISTENCIA!F77)","v":""},{"$f":"IF(+ASISTENCIA!G77=\"\",\"\",ASISTENCIA!G77)","v":""},{"$f":"IF(+ASISTENCIA!H77=\"\",\"\",ASISTENCIA!H77)","v":""},null,{"$f":"ASISTENCIA!AQ77","v":0},null,{"$f":"ASISTENCIA!AR77","v":0},{"$f":"ASISTENCIA!AS77","v":0},{"$f":"ASISTENCIA!AU77","v":0},null,{"$f":"ASISTENCIA!AV77","v":0},null,{"$f":"ASISTENCIA!AT77","v":0},null,{"$f":"ASISTENCIA!AW77","v":0},null,null,null,null,null,null,null,null,null,null,null,null,null,null,null,null,{"$f":"IF(OR(COUNTIF($I76:$AJ76,\"X\")>0,COUNTIF($I76:$AJ76,\"L\")>0),COUNTIF($I76:$AJ76,\"X\")+COUNTIF($I76:$AJ76,\"L\"),\"\")","v":""}]
[{"$f":"IF(+ASISTENCIA!A78=\"\",\"\",ASISTENCIA!A78)","v":""},null,null,{"$f":"IF(+ASISTENCIA!D78=\"\",\"\",ASISTENCIA!D78)","v":""},{"$f":"IF(+ASISTENCIA!E78=\"\",\"\",ASISTENCIA!E78)","v":""},{"$f":"IF(+ASISTENCIA!F78=\"\",\"\",ASISTENCIA!F78)","v":""},{"$f":"IF(+ASISTENCIA!G78=\"\",\"\",ASISTENCIA!G78)","v":""},{"$f":"IF(+ASISTENCIA!H78=\"\",\"\",ASISTENCIA!H78)","v":""},null,{"$f":"ASISTENCIA!AQ78","v":0},null,{"$f":"ASISTENCIA!AR78","v":0},{"$f":"ASISTENCIA!AS78","v":0},{"$f":"ASISTENCIA!AU78","v":0},null,{"$f":"ASISTENCIA!AV78","v":0},null,{"$f":"ASISTENCIA!AT78","v":0},null,{"$f":"ASISTENCIA!AW78","v":0},null,null,null,null,null,null,null,null,null,null,null,null,null,null,null,null,""]
[{"$f":"IF(+ASISTENCIA!A79=\"\",\"\",ASISTENCIA!A79)","v":""},null,null,{"$f":"IF(+ASISTENCIA!D79=\"\",\"\",ASISTENCIA!D79)","v":""},{"$f":"IF(+ASISTENCIA!E79=\"\",\"\",ASISTENCIA!E79)","v":""},{"$f":"IF(+ASISTENCIA!F79=\"\",\"\",ASISTENCIA!F79)","v":""},{"$f":"IF(+ASISTENCIA!G79=\"\",\"\",ASISTENCIA!G79)","v":""},{"$f":"IF(+ASISTENCIA!H79=\"\",\"\",ASISTENCIA!H79)","v":""},null,{"$f":"ASISTENCIA!AQ79","v":0},null,{"$f":"ASISTENCIA!AR79","v":0},{"$f":"ASISTENCIA!AS79","v":0},{"$f":"ASISTENCIA!AU79","v":0},null,{"$f":"ASISTENCIA!AV79","v":0},null,{"$f":"ASISTENCIA!AT79","v":0},null,{"$f":"ASISTENCIA!AW79","v":0},null,null,null,null,null,null,null,null,null,null,null,null,null,null,null,null,""]
[{"$f":"IF(+ASISTENCIA!A80=\"\",\"\",ASISTENCIA!A80)","v":""},null,null,{"$f":"IF(+ASISTENCIA!D80=\"\",\"\",ASISTENCIA!D80)","v":""},{"$f":"IF(+ASISTENCIA!E80=\"\",\"\",ASISTENCIA!E80)","v":""},{"$f":"IF(+ASISTENCIA!F80=\"\",\"\",ASISTENCIA!F80)","v":""},{"$f":"IF(+ASISTENCIA!G80=\"\",\"\",ASISTENCIA!G80)","v":""},{"$f":"IF(+ASISTENCIA!H80=\"\",\"\",ASISTENCIA!H80)","v":""},null,{"$f":"ASISTENCIA!AQ80","v":0},null,{"$f":"ASISTENCIA!AR80","v":0},{"$f":"ASISTENCIA!AS80","v":0},{"$f":"ASISTENCIA!AU80","v":0},null,{"$f":"ASISTENCIA!AV80","v":0},null,{"$f":"ASISTENCIA!AT80","v":0},null,{"$f":"ASISTENCIA!AW80","v":0},null,null,null,null,null,null,null,null,null,null,null,null,null,null,null,null,""]
[{"$f":"IF(+ASISTENCIA!A81=\"\",\"\",ASISTENCIA!A81)","v":""},null,null,{"$f":"IF(+ASISTENCIA!D81=\"\",\"\",ASISTENCIA!D81)","v":""},{"$f":"IF(+ASISTENCIA!E81=\"\",\"\",ASISTENCIA!E81)","v":""},{"$f":"IF(+ASISTENCIA!F81=\"\",\"\",ASISTENCIA!F81)","v":""},{"$f":"IF(+ASISTENCIA!G81=\"\",\"\",ASISTENCIA!G81)","v":""},{"$f":"IF(+ASISTENCIA!H81=\"\",\"\",ASISTENCIA!H81)","v":""},null,{"$f":"ASISTENCIA!AQ81","v":0},null,{"$f":"ASISTENCIA!AR81","v":0},{"$f":"ASISTENCIA!AS81","v":0},{"$f":"ASISTENCIA!AU81","v":0},null,{"$f":"ASISTENCIA!AV81","v":0},null,{"$f":"ASISTENCIA!AT81","v":0},null,{"$f":"ASISTENCIA!AW81","v":0},null,null,null,null,null,null,null,null,null,null,null,null,null,null,null,null,""]
[{"$f":"IF(+ASISTENCIA!A82=\"\",\"\",ASISTENCIA!A82)","v":""},null,null,{"$f":"IF(+ASISTENCIA!D82=\"\",\"\",ASISTENCIA!D82)","v":""},{"$f":"IF(+ASISTENCIA!E82=\"\",\"\",ASISTENCIA!E82)","v":""},{"$f":"IF(+ASISTENCIA!F82=\"\",\"\",ASISTENCIA!F82)","v":""},{"$f":"IF(+ASISTENCIA!G82=\"\",\"\",ASISTENCIA!G82)","v":""},{"$f":"IF(+ASISTENCIA!H82=\"\",\"\",ASISTENCIA!H82)","v":""},null,{"$f":"ASISTENCIA!AQ82","v":0},null,{"$f":"ASISTENCIA!AR82","v":0},{"$f":"ASISTENCIA!AS82","v":0},{"$f":"ASISTENCIA!AU82","v":0},null,{"$f":"ASISTENCIA!AV82","v":0},null,{"$f":"ASISTENCIA!AT82","v":0},null,{"$f":"ASISTENCIA!AW82","v":0},null,null,null,null,null,null,null,null,null,null,null,null,null,null,null,null,""]
[{"$f":"IF(+ASISTENCIA!A83=\"\",\"\",ASISTENCIA!A83)","v":""},null,null,{"$f":"IF(+ASISTENCIA!D83=\"\",\"\",ASISTENCIA!D83)","v":""},{"$f":"IF(+ASISTENCIA!E83=\"\",\"\",ASISTENCIA!E83)","v":""},{"$f":"IF(+ASISTENCIA!F83=\"\",\"\",ASISTENCIA!F83)","v":""},{"$f":"IF(+ASISTENCIA!G83=\"\",\"\",ASISTENCIA!G83)","v":""},{"$f":"IF(+ASISTENCIA!H83=\"\",\"\",ASISTENCIA!H83)","v":""},null,{"$f":"ASISTENCIA!AQ83","v":0},null,{"$f":"ASISTENCIA!AR83","v":0},{"$f":"ASISTENCIA!AS83","v":0},{"$f":"ASISTENCIA!AU83","v":0},null,{"$f":"ASISTENCIA!AV83","v":0},null,{"$f":"ASISTENCIA!AT83","v":0},null,{"$f":"ASISTENCIA!AW83","v":0},null,null,null,null,null,null,null,null,null,null,null,null,null,null,null,null,""]
[{"$f":"IF(+ASISTENCIA!A84=\"\",\"\",ASISTENCIA!A84)","v":""},null,null,{"$f":"IF(+ASISTENCIA!D84=\"\",\"\",ASISTENCIA!D84)","v":""},{"$f":"IF(+ASISTENCIA!E84=\"\",\"\",ASISTENCIA!E84)","v":""},{"$f":"IF(+ASISTENCIA!F84=\"\",\"\",ASISTENCIA!F84)","v":""},{"$f":"IF(+ASISTENCIA!G84=\"\",\"\",ASISTENCIA!G84)","v":""},{"$f":"IF(+ASISTENCIA!H84=\"\",\"\",ASISTENCIA!H84)","v":""},null,{"$f":"ASISTENCIA!AQ84","v":0},null,{"$f":"ASISTENCIA!AR84","v":0},{"$f":"ASISTENCIA!AS84","v":0},{"$f":"ASISTENCIA!AU84","v":0},null,{"$f":"ASISTENCIA!AV84","v":0},null,{"$f":"ASISTENCIA!AT84","v":0},null,{"$f":"ASISTENCIA!AW84","v":0},null,null,null,null,null,null,null,null,null,null,null,null,null,null,null,null,""]
[{"$f":"IF(+ASISTENCIA!A85=\"\",\"\",ASISTENCIA!A85)","v":""},null,null,{"$f":"IF(+ASISTENCIA!D85=\"\",\"\",ASISTENCIA!D85)","v":""},{"$f":"IF(+ASISTENCIA!E85=\"\",\"\",ASISTENCIA!E85)","v":""},{"$f":"IF(+ASISTENCIA!F85=\"\",\"\",ASISTENCIA!F85)","v":""},{"$f":"IF(+ASISTENCIA!G85=\"\",\"\",ASISTENCIA!G85)","v":""},{"$f":"IF(+ASISTENCIA!H85=\"\",\"\",ASISTENCIA!H85)","v":""},null,{"$f":"ASISTENCIA!AQ85","v":0},null,{"$f":"ASISTENCIA!AR85","v":0},{"$f":"ASISTENCIA!AS85","v":0},{"$f":"ASISTENCIA!AU85","v":0},null,{"$f":"ASISTENCIA!AV85","v":0},null,{"$f":"ASISTENCIA!AT85","v":0},null,{"$f":"ASISTENCIA!AW85","v":0},null,null,null,null,null,null,null,null,null,null,null,null,null,null,null,null,""]
[{"$f":"IF(+ASISTENCIA!A86=\"\",\"\",ASISTENCIA!A86)","v":""},null,null,{"$f":"IF(+ASISTENCIA!D86=\"\",\"\",ASISTENCIA!D86)","v":""},{"$f":"IF(+ASISTENCIA!E86=\"\",\"\",ASISTENCIA!E86)","v":""},{"$f":"IF(+ASISTENCIA!F86=\"\",\"\",ASISTENCIA!F86)","v":""},{"$f":"IF(+ASISTENCIA!G86=\"\",\"\",ASISTENCIA!G86)","v":""},{"$f":"IF(+ASISTENCIA!H86=\"\",\"\",ASISTENCIA!H86)","v":""},null,{"$f":"ASISTENCIA!AQ86","v":0},null,{"$f":"ASISTENCIA!AR86","v":0},{"$f":"ASISTENCIA!AS86","v":0},{"$f":"ASISTENCIA!AU86","v":0},null,{"$f":"ASISTENCIA!AV86","v":0},null,{"$f":"ASISTENCIA!AT86","v":0},null,{"$f":"ASISTENCIA!AW86","v":0},null,null,null,null,null,null,null,null,null,null,null,null,null,null,null,null,""]
[{"$f":"IF(+ASISTENCIA!A87=\"\",\"\",ASISTENCIA!A87)","v":""},null,null,{"$f":"IF(+ASISTENCIA!D87=\"\",\"\",ASISTENCIA!D87)","v":""},{"$f":"IF(+ASISTENCIA!E87=\"\",\"\",ASISTENCIA!E87)","v":""},{"$f":"IF(+ASISTENCIA!F87=\"\",\"\",ASISTENCIA!F87)","v":""},{"$f":"IF(+ASISTENCIA!G87=\"\",\"\",ASISTENCIA!G87)","v":""},{"$f":"IF(+ASISTENCIA!H87=\"\",\"\",ASISTENCIA!H87)","v":""},null,{"$f":"ASISTENCIA!AQ87","v":0},null,{"$f":"ASISTENCIA!AR87","v":0},{"$f":"ASISTENCIA!AS87","v":0},{"$f":"ASISTENCIA!AU87","v":0},null,{"$f":"ASISTENCIA!AV87","v":0},null,{"$f":"ASISTENCIA!AT87","v":0},null,{"$f":"ASISTENCIA!AW87","v":0},null,null,null,null,null,null,null,null,null,null,null,null,null,null,null,null,""]
[{"$f":"IF(+ASISTENCIA!A88=\"\",\"\",ASISTENCIA!A88)","v":""},null,null,{"$f":"IF(+ASISTENCIA!D88=\"\",\"\",ASISTENCIA!D88)","v":""},{"$f":"IF(+ASISTENCIA!E88=\"\",\"\",ASISTENCIA!E88)","v":""},{"$f":"IF(+ASISTENCIA!F88=\"\",\"\",ASISTENCIA!F88)","v":""},{"$f":"IF(+ASISTENCIA!G88=\"\",\"\",ASISTENCIA!G88)","v":""},{"$f":"IF(+ASISTENCIA!H88=\"\",\"\",ASISTENCIA!H88)","v":""},null,{"$f":"ASISTENCIA!AQ88","v":0},null,{"$f":"ASISTENCIA!AR88","v":0},{"$f":"ASISTENCIA!AS88","v":0},{"$f":"ASISTENCIA!AU88","v":0},null,{"$f":"ASISTENCIA!AV88","v":0},null,{"$f":"ASISTENCIA!AT88","v":0},null,{"$f":"ASISTENCIA!AW88","v":0},null,null,null,null,null,null,null,null,null,null,null,null,null,null,null,null,""]
[{"$f":"IF(+ASISTENCIA!A89=\"\",\"\",ASISTENCIA!A89)","v":""},null,null,{"$f":"IF(+ASISTENCIA!D89=\"\",\"\",ASISTENCIA!D89)","v":""},{"$f":"IF(+ASISTENCIA!E89=\"\",\"\",ASISTENCIA!E89)","v":""},{"$f":"IF(+ASISTENCIA!F89=\"\",\"\",ASISTENCIA!F89)","v":""},{"$f":"IF(+ASISTENCIA!G89=\"\",\"\",ASISTENCIA!G89)","v":""},{"$f":"IF(+ASISTENCIA!H89=\"\",\"\",ASISTENCIA!H89)","v":""},null,{"$f":"ASISTENCIA!AQ89","v":0},null,{"$f":"ASISTENCIA!AR89","v":0},{"$f":"ASISTENCIA!AS89","v":0},{"$f":"ASISTENCIA!AU89","v":0},null,{"$f":"ASISTENCIA!AV89","v":0},null,{"$f":"ASISTENCIA!AT89","v":0},null,{"$f":"ASISTENCIA!AW89","v":0},null,null,null,null,null,null,null,null,null,null,null,null,null,null,null,null,""]
[{"$f":"IF(+ASISTENCIA!A90=\"\",\"\",ASISTENCIA!A90)","v":""},null,null,{"$f":"IF(+ASISTENCIA!D90=\"\",\"\",ASISTENCIA!D90)","v":""},{"$f":"IF(+ASISTENCIA!E90=\"\",\"\",ASISTENCIA!E90)","v":""},{"$f":"IF(+ASISTENCIA!F90=\"\",\"\",ASISTENCIA!F90)","v":""},{"$f":"IF(+ASISTENCIA!G90=\"\",\"\",ASISTENCIA!G90)","v":""},{"$f":"IF(+ASISTENCIA!H90=\"\",\"\",ASISTENCIA!H90)","v":""},null,{"$f":"ASISTENCIA!AQ90","v":0},null,{"$f":"ASISTENCIA!AR90","v":0},{"$f":"ASISTENCIA!AS90","v":0},{"$f":"ASISTENCIA!AU90","v":0},null,{"$f":"ASISTENCIA!AV90","v":0},null,{"$f":"ASISTENCIA!AT90","v":0},null,{"$f":"ASISTENCIA!AW90","v":0},null,null,null,null,null,null,null,null,null,null,null,null,null,null,null,null,""]
[{"$f":"IF(+ASISTENCIA!A91=\"\",\"\",ASISTENCIA!A91)","v":""},null,null,{"$f":"IF(+ASISTENCIA!D91=\"\",\"\",ASISTENCIA!D91)","v":""},{"$f":"IF(+ASISTENCIA!E91=\"\",\"\",ASISTENCIA!E91)","v":""},{"$f":"IF(+ASISTENCIA!F91=\"\",\"\",ASISTENCIA!F91)","v":""},{"$f":"IF(+ASISTENCIA!G91=\"\",\"\",ASISTENCIA!G91)","v":""},{"$f":"IF(+ASISTENCIA!H91=\"\",\"\",ASISTENCIA!H91)","v":""},null,{"$f":"ASISTENCIA!AQ91","v":0},null,{"$f":"ASISTENCIA!AR91","v":0},{"$f":"ASISTENCIA!AS91","v":0},{"$f":"ASISTENCIA!AU91","v":0},null,{"$f":"ASISTENCIA!AV91","v":0},null,{"$f":"ASISTENCIA!AT91","v":0},null,{"$f":"ASISTENCIA!AW91","v":0},null,null,null,null,null,null,null,null,null,null,null,null,null,null,null,null,""]
[{"$f":"IF(+ASISTENCIA!A92=\"\",\"\",ASISTENCIA!A92)","v":""},null,null,{"$f":"IF(+ASISTENCIA!D92=\"\",\"\",ASISTENCIA!D92)","v":""},{"$f":"IF(+ASISTENCIA!E92=\"\",\"\",ASISTENCIA!E92)","v":""},{"$f":"IF(+ASISTENCIA!F92=\"\",\"\",ASISTENCIA!F92)","v":""},{"$f":"IF(+ASISTENCIA!G92=\"\",\"\",ASISTENCIA!G92)","v":""},{"$f":"IF(+ASISTENCIA!H92=\"\",\"\",ASISTENCIA!H92)","v":""},null,{"$f":"ASISTENCIA!AQ92","v":0},null,{"$f":"ASISTENCIA!AR92","v":0},{"$f":"ASISTENCIA!AS92","v":0},{"$f":"ASISTENCIA!AU92","v":0},null,{"$f":"ASISTENCIA!AV92","v":0},null,{"$f":"ASISTENCIA!AT92","v":0},null,{"$f":"ASISTENCIA!AW92","v":0},null,null,null,null,null,null,null,null,null,null,null,null,null,null,null,null,""]
[{"$f":"IF(+ASISTENCIA!A93=\"\",\"\",ASISTENCIA!A93)","v":""},null,null,{"$f":"IF(+ASISTENCIA!D93=\"\",\"\",ASISTENCIA!D93)","v":""},{"$f":"IF(+ASISTENCIA!E93=\"\",\"\",ASISTENCIA!E93)","v":""},{"$f":"IF(+ASISTENCIA!F93=\"\",\"\",ASISTENCIA!F93)","v":""},{"$f":"IF(+ASISTENCIA!G93=\"\",\"\",ASISTENCIA!G93)","v":""},{"$f":"IF(+ASISTENCIA!H93=\"\",\"\",ASISTENCIA!H93)","v":""},null,{"$f":"ASISTENCIA!AQ93","v":0},null,{"$f":"ASISTENCIA!AR93","v":0},{"$f":"ASISTENCIA!AS93","v":0},{"$f":"ASISTENCIA!AU93","v":0},null,{"$f":"ASISTENCIA!AV93","v":0},null,{"$f":"ASISTENCIA!AT93","v":0},null,{"$f":"ASISTENCIA!AW93","v":0},null,null,null,null,null,null,null,null,null,null,null,null,null,null,null,null,""]
[{"$f":"IF(+ASISTENCIA!A94=\"\",\"\",ASISTENCIA!A94)","v":""},null,null,{"$f":"IF(+ASISTENCIA!D94=\"\",\"\",ASISTENCIA!D94)","v":""},{"$f":"IF(+ASISTENCIA!E94=\"\",\"\",ASISTENCIA!E94)","v":""},{"$f":"IF(+ASISTENCIA!F94=\"\",\"\",ASISTENCIA!F94)","v":""},{"$f":"IF(+ASISTENCIA!G94=\"\",\"\",ASISTENCIA!G94)","v":""},{"$f":"IF(+ASISTENCIA!H94=\"\",\"\",ASISTENCIA!H94)","v":""},null,{"$f":"ASISTENCIA!AQ94","v":0},null,{"$f":"ASISTENCIA!AR94","v":0},{"$f":"ASISTENCIA!AS94","v":0},{"$f":"ASISTENCIA!AU94","v":0},null,{"$f":"ASISTENCIA!AV94","v":0},null,{"$f":"ASISTENCIA!AT94","v":0},null,{"$f":"ASISTENCIA!AW94","v":0},null,null,null,null,null,null,null,null,null,null,null,null,null,null,null,null,""]
[{"$f":"IF(+ASISTENCIA!A95=\"\",\"\",ASISTENCIA!A95)","v":""},null,null,{"$f":"IF(+ASISTENCIA!D95=\"\",\"\",ASISTENCIA!D95)","v":""},{"$f":"IF(+ASISTENCIA!E95=\"\",\"\",ASISTENCIA!E95)","v":""},{"$f":"IF(+ASISTENCIA!F95=\"\",\"\",ASISTENCIA!F95)","v":""},{"$f":"IF(+ASISTENCIA!G95=\"\",\"\",ASISTENCIA!G95)","v":""},{"$f":"IF(+ASISTENCIA!H95=\"\",\"\",ASISTENCIA!H95)","v":""},null,{"$f":"ASISTENCIA!AQ95","v":0},null,{"$f":"ASISTENCIA!AR95","v":0},{"$f":"ASISTENCIA!AS95","v":0},{"$f":"ASISTENCIA!AU95","v":0},null,{"$f":"ASISTENCIA!AV95","v":0},null,{"$f":"ASISTENCIA!AT95","v":0},null,{"$f":"ASISTENCIA!AW95","v":0},null,null,null,null,null,null,null,null,null,null,null,null,null,null,null,null,""]
[{"$f":"IF(+ASISTENCIA!A96=\"\",\"\",ASISTENCIA!A96)","v":""},null,null,{"$f":"IF(+ASISTENCIA!D96=\"\",\"\",ASISTENCIA!D96)","v":""},{"$f":"IF(+ASISTENCIA!E96=\"\",\"\",ASISTENCIA!E96)","v":""},{"$f":"IF(+ASISTENCIA!F96=\"\",\"\",ASISTENCIA!F96)","v":""},{"$f":"IF(+ASISTENCIA!G96=\"\",\"\",ASISTENCIA!G96)","v":""},{"$f":"IF(+ASISTENCIA!H96=\"\",\"\",ASISTENCIA!H96)","v":""},null,{"$f":"ASISTENCIA!AQ96","v":0},null,{"$f":"ASISTENCIA!AR96","v":0},{"$f":"ASISTENCIA!AS96","v":0},{"$f":"ASISTENCIA!AU96","v":0},null,{"$f":"ASISTENCIA!AV96","v":0},null,{"$f":"ASISTENCIA!AT96","v":0},null,{"$f":"ASISTENCIA!AW96","v":0},null,null,null,null,null,null,null,null,null,null,null,null,null,null,null,null,""]
[{"$f":"IF(+ASISTENCIA!A97=\"\",\"\",ASISTENCIA!A97)","v":""},null,null,{"$f":"IF(+ASISTENCIA!D97=\"\",\"\",ASISTENCIA!D97)","v":""},{"$f":"IF(+ASISTENCIA!E97=\"\",\"\",ASISTENCIA!E97)","v":""},{"$f":"IF(+ASISTENCIA!F97=\"\",\"\",ASISTENCIA!F97)","v":""},{"$f":"IF(+ASISTENCIA!G97=\"\",\"\",ASISTENCIA!G97)","v":""},{"$f":"IF(+ASISTENCIA!H97=\"\",\"\",ASISTENCIA!H97)","v":""},null,{"$f":"ASISTENCIA!AQ97","v":0},null,{"$f":"ASISTENCIA!AR97","v":0},{"$f":"ASISTENCIA!AS97","v":0},{"$f":"ASISTENCIA!AU97","v":0},null,{"$f":"ASISTENCIA!AV97","v":0},null,{"$f":"ASISTENCIA!AT97","v":0},null,{"$f":"ASISTENCIA!AW97","v":0},null,null,null,null,null,null,null,null,null,null,null,null,null,null,null,null,""]
[{"$f":"IF(+ASISTENCIA!A98=\"\",\"\",ASISTENCIA!A98)","v":""},null,null,{"$f":"IF(+ASISTENCIA!D98=\"\",\"\",ASISTENCIA!D98)","v":""},{"$f":"IF(+ASISTENCIA!E98=\"\",\"\",ASISTENCIA!E98)","v":""},{"$f":"IF(+ASISTENCIA!F98=\"\",\"\",ASISTENCIA!F98)","v":""},{"$f":"IF(+ASISTENCIA!G98=\"\",\"\",ASISTENCIA!G98)","v":""},{"$f":"IF(+ASISTENCIA!H98=\"\",\"\",ASISTENCIA!H98)","v":""},null,{"$f":"ASISTENCIA!AQ98","v":0},null,{"$f":"ASISTENCIA!AR98","v":0},{"$f":"ASISTENCIA!AS98","v":0},{"$f":"ASISTENCIA!AU98","v":0},null,{"$f":"ASISTENCIA!AV98","v":0},null,{"$f":"ASISTENCIA!AT98","v":0},null,{"$f":"ASISTENCIA!AW98","v":0},null,null,null,null,null,null,null,null,null,null,null,null,null,null,null,null,""]
[{"$f":"IF(+ASISTENCIA!A99=\"\",\"\",ASISTENCIA!A99)","v":""},null,null,{"$f":"IF(+ASISTENCIA!D99=\"\",\"\",ASISTENCIA!D99)","v":""},{"$f":"IF(+ASISTENCIA!E99=\"\",\"\",ASISTENCIA!E99)","v":""},{"$f":"IF(+ASISTENCIA!F99=\"\",\"\",ASISTENCIA!F99)","v":""},{"$f":"IF(+ASISTENCIA!G99=\"\",\"\",ASISTENCIA!G99)","v":""},{"$f":"IF(+ASISTENCIA!H99=\"\",\"\",ASISTENCIA!H99)","v":""},null,{"$f":"ASISTENCIA!AQ99","v":0},null,{"$f":"ASISTENCIA!AR99","v":0},{"$f":"ASISTENCIA!AS99","v":0},{"$f":"ASISTENCIA!AU99","v":0},null,{"$f":"ASISTENCIA!AV99","v":0},null,{"$f":"ASISTENCIA!AT99","v":0},null,{"$f":"ASISTENCIA!AW99","v":0},null,null,null,null,null,null,null,null,null,null,null,null,null,null,null,null,""]
[{"$f":"IF(+ASISTENCIA!A100=\"\",\"\",ASISTENCIA!A100)","v":""},null,null,{"$f":"IF(+ASISTENCIA!D100=\"\",\"\",ASISTENCIA!D100)","v":""},{"$f":"IF(+ASISTENCIA!E100=\"\",\"\",ASISTENCIA!E100)","v":""},{"$f":"IF(+ASISTENCIA!F100=\"\",\"\",ASISTENCIA!F100)","v":""},{"$f":"IF(+ASISTENCIA!G100=\"\",\"\",ASISTENCIA!G100)","v":""},{"$f":"IF(+ASISTENCIA!H100=\"\",\"\",ASISTENCIA!H100)","v":""},null,{"$f":"ASISTENCIA!AQ100","v":0},null,{"$f":"ASISTENCIA!AR100","v":0},{"$f":"ASISTENCIA!AS100","v":0},{"$f":"ASISTENCIA!AU100","v":0},null,{"$f":"ASISTENCIA!AV100","v":0},null,{"$f":"ASISTENCIA!AT100","v":0},null,{"$f":"ASISTENCIA!AW100","v":0},null,null,null,null,null,null,null,null,null,null,null,null,null,null,null,null,""]
[{"$f":"IF(+ASISTENCIA!A101=\"\",\"\",ASISTENCIA!A101)","v":""},null,null,{"$f":"IF(+ASISTENCIA!D101=\"\",\"\",ASISTENCIA!D101)","v":""},{"$f":"IF(+ASISTENCIA!E101=\"\",\"\",ASISTENCIA!E101)","v":""},{"$f":"IF(+ASISTENCIA!F101=\"\",\"\",ASISTENCIA!F101)","v":""},{"$f":"IF(+ASISTENCIA!G101=\"\",\"\",ASISTENCIA!G101)","v":""},{"$f":"IF(+ASISTENCIA!H101=\"\",\"\",ASISTENCIA!H101)","v":""},null,{"$f":"ASISTENCIA!AQ101","v":0},null,{"$f":"ASISTENCIA!AR101","v":0},{"$f":"ASISTENCIA!AS101","v":0},{"$f":"ASISTENCIA!AU101","v":0},null,{"$f":"ASISTENCIA!AV101","v":0},null,{"$f":"ASISTENCIA!AT101","v":0},null,{"$f":"ASISTENCIA!AW101","v":0},null,null,null,null,null,null,null,null,null,null,null,null,null,null,null,null,""]
[{"$f":"IF(+ASISTENCIA!A102=\"\",\"\",ASISTENCIA!A102)","v":""},null,null,{"$f":"IF(+ASISTENCIA!D102=\"\",\"\",ASISTENCIA!D102)","v":""},{"$f":"IF(+ASISTENCIA!E102=\"\",\"\",ASISTENCIA!E102)","v":""},{"$f":"IF(+ASISTENCIA!F102=\"\",\"\",ASISTENCIA!F102)","v":""},{"$f":"IF(+ASISTENCIA!G102=\"\",\"\",ASISTENCIA!G102)","v":""},{"$f":"IF(+ASISTENCIA!H102=\"\",\"\",ASISTENCIA!H102)","v":""},null,{"$f":"ASISTENCIA!AQ102","v":0},null,{"$f":"ASISTENCIA!AR102","v":0},{"$f":"ASISTENCIA!AS102","v":0},{"$f":"ASISTENCIA!AU102","v":0},null,{"$f":"ASISTENCIA!AV102","v":0},null,{"$f":"ASISTENCIA!AT102","v":0},null,{"$f":"ASISTENCIA!AW102","v":0},null,null,null,null,null,null,null,null,null,null,null,null,null,null,null,null,""]
[{"$f":"IF(+ASISTENCIA!A103=\"\",\"\",ASISTENCIA!A103)","v":""},null,null,{"$f":"IF(+ASISTENCIA!D103=\"\",\"\",ASISTENCIA!D103)","v":""},{"$f":"IF(+ASISTENCIA!E103=\"\",\"\",ASISTENCIA!E103)","v":""},{"$f":"IF(+ASISTENCIA!F103=\"\",\"\",ASISTENCIA!F103)","v":""},{"$f":"IF(+ASISTENCIA!G103=\"\",\"\",ASISTENCIA!G103)","v":""},{"$f":"IF(+ASISTENCIA!H103=\"\",\"\",ASISTENCIA!H103)","v":""},null,{"$f":"ASISTENCIA!AQ103","v":0},null,{"$f":"ASISTENCIA!AR103","v":0},{"$f":"ASISTENCIA!AS103","v":0},{"$f":"ASISTENCIA!AU103","v":0},null,{"$f":"ASISTENCIA!AV103","v":0},null,{"$f":"ASISTENCIA!AT103","v":0},null,{"$f":"ASISTENCIA!AW103","v":0},null,null,null,null,null,null,null,null,null,null,null,null,null,null,null,null,""]
[{"$f":"IF(+ASISTENCIA!A104=\"\",\"\",ASISTENCIA!A104)","v":""},null,null,{"$f":"IF(+ASISTENCIA!D104=\"\",\"\",ASISTENCIA!D104)","v":""},{"$f":"IF(+ASISTENCIA!E104=\"\",\"\",ASISTENCIA!E104)","v":""},{"$f":"IF(+ASISTENCIA!F104=\"\",\"\",ASISTENCIA!F104)","v":""},{"$f":"IF(+ASISTENCIA!G104=\"\",\"\",ASISTENCIA!G104)","v":""},{"$f":"IF(+ASISTENCIA!H104=\"\",\"\",ASISTENCIA!H104)","v":""},null,{"$f":"ASISTENCIA!AQ104","v":0},null,{"$f":"ASISTENCIA!AR104","v":0},{"$f":"ASISTENCIA!AS104","v":0},{"$f":"ASISTENCIA!AU104","v":0},null,{"$f":"ASISTENCIA!AV104","v":0},null,{"$f":"ASISTENCIA!AT104","v":0},null,{"$f":"ASISTENCIA!AW104","v":0},null,null,null,null,null,null,null,null,null,null,null,null,null,null,null,null,""]
[{"$f":"IF(+ASISTENCIA!A105=\"\",\"\",ASISTENCIA!A105)","v":""},null,null,{"$f":"IF(+ASISTENCIA!D105=\"\",\"\",ASISTENCIA!D105)","v":""},{"$f":"IF(+ASISTENCIA!E105=\"\",\"\",ASISTENCIA!E105)","v":""},{"$f":"IF(+ASISTENCIA!F105=\"\",\"\",ASISTENCIA!F105)","v":""},{"$f":"IF(+ASISTENCIA!G105=\"\",\"\",ASISTENCIA!G105)","v":""},{"$f":"IF(+ASISTENCIA!H105=\"\",\"\",ASISTENCIA!H105)","v":""},null,{"$f":"ASISTENCIA!AQ105","v":0},null,{"$f":"ASISTENCIA!AR105","v":0},{"$f":"ASISTENCIA!AS105","v":0},{"$f":"ASISTENCIA!AU105","v":0},null,{"$f":"ASISTENCIA!AV105","v":0},null,{"$f":"ASISTENCIA!AT105","v":0},null,{"$f":"ASISTENCIA!AW105","v":0},null,null,null,null,null,null,null,null,null,null,null,null,null,null,null,null,""]
[{"$f":"IF(+ASISTENCIA!A106=\"\",\"\",ASISTENCIA!A106)","v":""},null,null,{"$f":"IF(+ASISTENCIA!D106=\"\",\"\",ASISTENCIA!D106)","v":""},{"$f":"IF(+ASISTENCIA!E106=\"\",\"\",ASISTENCIA!E106)","v":""},{"$f":"IF(+ASISTENCIA!F106=\"\",\"\",ASISTENCIA!F106)","v":""},{"$f":"IF(+ASISTENCIA!G106=\"\",\"\",ASISTENCIA!G106)","v":""},{"$f":"IF(+ASISTENCIA!H106=\"\",\"\",ASISTENCIA!H106)","v":""},null,{"$f":"ASISTENCIA!AQ106","v":0},null,{"$f":"ASISTENCIA!AR106","v":0},{"$f":"ASISTENCIA!AS106","v":0},{"$f":"ASISTENCIA!AU106","v":0},null,{"$f":"ASISTENCIA!AV106","v":0},null,{"$f":"ASISTENCIA!AT106","v":0},null,{"$f":"ASISTENCIA!AW106","v":0},null,null,null,null,null,null,null,null,null,null,null,null,null,null,null,null,""]
[{"$f":"IF(+ASISTENCIA!A107=\"\",\"\",ASISTENCIA!A107)","v":""},null,null,{"$f":"IF(+ASISTENCIA!D107=\"\",\"\",ASISTENCIA!D107)","v":""},{"$f":"IF(+ASISTENCIA!E107=\"\",\"\",ASISTENCIA!E107)","v":""},{"$f":"IF(+ASISTENCIA!F107=\"\",\"\",ASISTENCIA!F107)","v":""},{"$f":"IF(+ASISTENCIA!G107=\"\",\"\",ASISTENCIA!G107)","v":""},{"$f":"IF(+ASISTENCIA!H107=\"\",\"\",ASISTENCIA!H107)","v":""},null,{"$f":"ASISTENCIA!AQ107","v":0},null,{"$f":"ASISTENCIA!AR107","v":0},{"$f":"ASISTENCIA!AS107","v":0},{"$f":"ASISTENCIA!AU107","v":0},null,{"$f":"ASISTENCIA!AV107","v":0},null,{"$f":"ASISTENCIA!AT107","v":0},null,{"$f":"ASISTENCIA!AW107","v":0},null,null,null,null,null,null,null,null,null,null,null,null,null,null,null,null,""]
[{"$f":"IF(+ASISTENCIA!A108=\"\",\"\",ASISTENCIA!A108)","v":""},null,null,{"$f":"IF(+ASISTENCIA!D108=\"\",\"\",ASISTENCIA!D108)","v":""},{"$f":"IF(+ASISTENCIA!E108=\"\",\"\",ASISTENCIA!E108)","v":""},{"$f":"IF(+ASISTENCIA!F108=\"\",\"\",ASISTENCIA!F108)","v":""},{"$f":"IF(+ASISTENCIA!G108=\"\",\"\",ASISTENCIA!G108)","v":""},{"$f":"IF(+ASISTENCIA!H108=\"\",\"\",ASISTENCIA!H108)","v":""},null,{"$f":"ASISTENCIA!AQ108","v":0},null,{"$f":"ASISTENCIA!AR108","v":0},{"$f":"ASISTENCIA!AS108","v":0},{"$f":"ASISTENCIA!AU108","v":0},null,{"$f":"ASISTENCIA!AV108","v":0},null,{"$f":"ASISTENCIA!AT108","v":0},null,{"$f":"ASISTENCIA!AW108","v":0},null,null,null,null,null,null,null,null,null,null,null,null,null,null,null,null,""]
[{"$f":"IF(+ASISTENCIA!A109=\"\",\"\",ASISTENCIA!A109)","v":""},null,null,{"$f":"IF(+ASISTENCIA!D109=\"\",\"\",ASISTENCIA!D109)","v":""},{"$f":"IF(+ASISTENCIA!E109=\"\",\"\",ASISTENCIA!E109)","v":""},{"$f":"IF(+ASISTENCIA!F109=\"\",\"\",ASISTENCIA!F109)","v":""},{"$f":"IF(+ASISTENCIA!G109=\"\",\"\",ASISTENCIA!G109)","v":""},{"$f":"IF(+ASISTENCIA!H109=\"\",\"\",ASISTENCIA!H109)","v":""},null,{"$f":"ASISTENCIA!AQ109","v":0},null,{"$f":"ASISTENCIA!AR109","v":0},{"$f":"ASISTENCIA!AS109","v":0},{"$f":"ASISTENCIA!AU109","v":0},null,{"$f":"ASISTENCIA!AV109","v":0},null,{"$f":"ASISTENCIA!AT109","v":0},null,{"$f":"ASISTENCIA!AW109","v":0},null,null,null,null,null,null,null,null,null,null,null,null,null,null,null,null,""]
[{"$f":"IF(+ASISTENCIA!A110=\"\",\"\",ASISTENCIA!A110)","v":""},null,null,{"$f":"IF(+ASISTENCIA!D110=\"\",\"\",ASISTENCIA!D110)","v":""},{"$f":"IF(+ASISTENCIA!E110=\"\",\"\",ASISTENCIA!E110)","v":""},{"$f":"IF(+ASISTENCIA!F110=\"\",\"\",ASISTENCIA!F110)","v":""},{"$f":"IF(+ASISTENCIA!G110=\"\",\"\",ASISTENCIA!G110)","v":""},{"$f":"IF(+ASISTENCIA!H110=\"\",\"\",ASISTENCIA!H110)","v":""},null,{"$f":"ASISTENCIA!AQ110","v":0},null,{"$f":"ASISTENCIA!AR110","v":0},{"$f":"ASISTENCIA!AS110","v":0},{"$f":"ASISTENCIA!AU110","v":0},null,{"$f":"ASISTENCIA!AV110","v":0},null,{"$f":"ASISTENCIA!AT110","v":0},null,{"$f":"ASISTENCIA!AW110","v":0},null,null,null,null,null,null,null,null,null,null,null,null,null,null,null,null,""]
[{"$f":"IF(+ASISTENCIA!A111=\"\",\"\",ASISTENCIA!A111)","v":""},null,null,{"$f":"IF(+ASISTENCIA!D111=\"\",\"\",ASISTENCIA!D111)","v":""},{"$f":"IF(+ASISTENCIA!E111=\"\",\"\",ASISTENCIA!E111)","v":""},{"$f":"IF(+ASISTENCIA!F111=\"\",\"\",ASISTENCIA!F111)","v":""},{"$f":"IF(+ASISTENCIA!G111=\"\",\"\",ASISTENCIA!G111)","v":""},{"$f":"IF(+ASISTENCIA!H111=\"\",\"\",ASISTENCIA!H111)","v":""},null,{"$f":"ASISTENCIA!AQ111","v":0},null,{"$f":"ASISTENCIA!AR111","v":0},{"$f":"ASISTENCIA!AS111","v":0},{"$f":"ASISTENCIA!AU111","v":0},null,{"$f":"ASISTENCIA!AV111","v":0},null,{"$f":"ASISTENCIA!AT111","v":0},null,{"$f":"ASISTENCIA!AW111","v":0},null,null,null,null,null,null,null,null,null,null,null,null,null,null,null,null,""]
[{"$f":"IF(+ASISTENCIA!A112=\"\",\"\",ASISTENCIA!A112)","v":""},null,null,{"$f":"IF(+ASISTENCIA!D112=\"\",\"\",ASISTENCIA!D112)","v":""},{"$f":"IF(+ASISTENCIA!E112=\"\",\"\",ASISTENCIA!E112)","v":""},{"$f":"IF(+ASISTENCIA!F112=\"\",\"\",ASISTENCIA!F112)","v":""},{"$f":"IF(+ASISTENCIA!G112=\"\",\"\",ASISTENCIA!G112)","v":""},{"$f":"IF(+ASISTENCIA!H112=\"\",\"\",ASISTENCIA!H112)","v":""},null,{"$f":"ASISTENCIA!AQ112","v":0},null,{"$f":"ASISTENCIA!AR112","v":0},{"$f":"ASISTENCIA!AS112","v":0},{"$f":"ASISTENCIA!AU112","v":0},null,{"$f":"ASISTENCIA!AV112","v":0},null,{"$f":"ASISTENCIA!AT112","v":0},null,{"$f":"ASISTENCIA!AW112","v":0},null,null,null,null,null,null,null,null,null,null,null,null,null,null,null,null,""]
[{"$f":"IF(+ASISTENCIA!A113=\"\",\"\",ASISTENCIA!A113)","v":""},null,null,{"$f":"IF(+ASISTENCIA!D113=\"\",\"\",ASISTENCIA!D113)","v":""},{"$f":"IF(+ASISTENCIA!E113=\"\",\"\",ASISTENCIA!E113)","v":""},{"$f":"IF(+ASISTENCIA!F113=\"\",\"\",ASISTENCIA!F113)","v":""},{"$f":"IF(+ASISTENCIA!G113=\"\",\"\",ASISTENCIA!G113)","v":""},{"$f":"IF(+ASISTENCIA!H113=\"\",\"\",ASISTENCIA!H113)","v":""},null,{"$f":"ASISTENCIA!AQ113","v":0},null,{"$f":"ASISTENCIA!AR113","v":0},{"$f":"ASISTENCIA!AS113","v":0},{"$f":"ASISTENCIA!AU113","v":0},null,{"$f":"ASISTENCIA!AV113","v":0},null,{"$f":"ASISTENCIA!AT113","v":0},null,{"$f":"ASISTENCIA!AW113","v":0},null,null,null,null,null,null,null,null,null,null,null,null,null,null,null,null,""]
[{"$f":"IF(+ASISTENCIA!A114=\"\",\"\",ASISTENCIA!A114)","v":""},null,null,{"$f":"IF(+ASISTENCIA!D114=\"\",\"\",ASISTENCIA!D114)","v":""},{"$f":"IF(+ASISTENCIA!E114=\"\",\"\",ASISTENCIA!E114)","v":""},{"$f":"IF(+ASISTENCIA!F114=\"\",\"\",ASISTENCIA!F114)","v":""},{"$f":"IF(+ASISTENCIA!G114=\"\",\"\",ASISTENCIA!G114)","v":""},{"$f":"IF(+ASISTENCIA!H114=\"\",\"\",ASISTENCIA!H114)","v":""},null,{"$f":"ASISTENCIA!AQ114","v":0},null,{"$f":"ASISTENCIA!AR114","v":0},{"$f":"ASISTENCIA!AS114","v":0},{"$f":"ASISTENCIA!AU114","v":0},null,{"$f":"ASISTENCIA!AV114","v":0},null,{"$f":"ASISTENCIA!AT114","v":0},null,{"$f":"ASISTENCIA!AW114","v":0},null,null,null,null,null,null,null,null,null,null,null,null,null,null,null,null,""]
[{"$f":"IF(+ASISTENCIA!A115=\"\",\"\",ASISTENCIA!A115)","v":""},null,null,{"$f":"IF(+ASISTENCIA!D115=\"\",\"\",ASISTENCIA!D115)","v":""},{"$f":"IF(+ASISTENCIA!E115=\"\",\"\",ASISTENCIA!E115)","v":""},{"$f":"IF(+ASISTENCIA!F115=\"\",\"\",ASISTENCIA!F115)","v":""},{"$f":"IF(+ASISTENCIA!G115=\"\",\"\",ASISTENCIA!G115)","v":""},{"$f":"IF(+ASISTENCIA!H115=\"\",\"\",ASISTENCIA!H115)","v":""},null,{"$f":"ASISTENCIA!AQ115","v":0},null,{"$f":"ASISTENCIA!AR115","v":0},{"$f":"ASISTENCIA!AS115","v":0},{"$f":"ASISTENCIA!AU115","v":0},null,{"$f":"ASISTENCIA!AV115","v":0},null,{"$f":"ASISTENCIA!AT115","v":0},null,{"$f":"ASISTENCIA!AW115","v":0},null,null,null,null,null,null,null,null,null,null,null,null,null,null,null,null,""]
[{"$f":"IF(+ASISTENCIA!A116=\"\",\"\",ASISTENCIA!A116)","v":""},null,null,{"$f":"IF(+ASISTENCIA!D116=\"\",\"\",ASISTENCIA!D116)","v":""},{"$f":"IF(+ASISTENCIA!E116=\"\",\"\",ASISTENCIA!E116)","v":""},{"$f":"IF(+ASISTENCIA!F116=\"\",\"\",ASISTENCIA!F116)","v":""},{"$f":"IF(+ASISTENCIA!G116=\"\",\"\",ASISTENCIA!G116)","v":""},{"$f":"IF(+ASISTENCIA!H116=\"\",\"\",ASISTENCIA!H116)","v":""},null,{"$f":"ASISTENCIA!AQ116","v":0},null,{"$f":"ASISTENCIA!AR116","v":0},{"$f":"ASISTENCIA!AS116","v":0},{"$f":"ASISTENCIA!AU116","v":0},null,{"$f":"ASISTENCIA!AV116","v":0},null,{"$f":"ASISTENCIA!AT116","v":0},null,{"$f":"ASISTENCIA!AW116","v":0},null,null,null,null,null,null,null,null,null,null,null,null,null,null,null,null,""]
[{"$f":"IF(+ASISTENCIA!A117=\"\",\"\",ASISTENCIA!A117)","v":""},null,null,{"$f":"IF(+ASISTENCIA!D117=\"\",\"\",ASISTENCIA!D117)","v":""},{"$f":"IF(+ASISTENCIA!E117=\"\",\"\",ASISTENCIA!E117)","v":""},{"$f":"IF(+ASISTENCIA!F117=\"\",\"\",ASISTENCIA!F117)","v":""},{"$f":"IF(+ASISTENCIA!G117=\"\",\"\",ASISTENCIA!G117)","v":""},{"$f":"IF(+ASISTENCIA!H117=\"\",\"\",ASISTENCIA!H117)","v":""},null,{"$f":"ASISTENCIA!AQ117","v":0},null,{"$f":"ASISTENCIA!AR117","v":0},{"$f":"ASISTENCIA!AS117","v":0},{"$f":"ASISTENCIA!AU117","v":0},null,{"$f":"ASISTENCIA!AV117","v":0},null,{"$f":"ASISTENCIA!AT117","v":0},null,{"$f":"ASISTENCIA!AW117","v":0},null,null,null,null,null,null,null,null,null,null,null,null,null,null,null,null,""]
[{"$f":"IF(+ASISTENCIA!A118=\"\",\"\",ASISTENCIA!A118)","v":""},null,null,{"$f":"IF(+ASISTENCIA!D118=\"\",\"\",ASISTENCIA!D118)","v":""},{"$f":"IF(+ASISTENCIA!E118=\"\",\"\",ASISTENCIA!E118)","v":""},{"$f":"IF(+ASISTENCIA!F118=\"\",\"\",ASISTENCIA!F118)","v":""},{"$f":"IF(+ASISTENCIA!G118=\"\",\"\",ASISTENCIA!G118)","v":""},{"$f":"IF(+ASISTENCIA!H118=\"\",\"\",ASISTENCIA!H118)","v":""},null,{"$f":"ASISTENCIA!AQ118","v":0},null,{"$f":"ASISTENCIA!AR118","v":0},{"$f":"ASISTENCIA!AS118","v":0},{"$f":"ASISTENCIA!AU118","v":0},null,{"$f":"ASISTENCIA!AV118","v":0},null,{"$f":"ASISTENCIA!AT118","v":0},null,{"$f":"ASISTENCIA!AW118","v":0},null,null,null,null,null,null,null,null,null,null,null,null,null,null,null,null,""]
[{"$f":"IF(+ASISTENCIA!A119=\"\",\"\",ASISTENCIA!A119)","v":""},null,null,{"$f":"IF(+ASISTENCIA!D119=\"\",\"\",ASISTENCIA!D119)","v":""},{"$f":"IF(+ASISTENCIA!E119=\"\",\"\",ASISTENCIA!E119)","v":""},{"$f":"IF(+ASISTENCIA!F119=\"\",\"\",ASISTENCIA!F119)","v":""},{"$f":"IF(+ASISTENCIA!G119=\"\",\"\",ASISTENCIA!G119)","v":""},{"$f":"IF(+ASISTENCIA!H119=\"\",\"\",ASISTENCIA!H119)","v":""},null,{"$f":"ASISTENCIA!AQ119","v":0},null,{"$f":"ASISTENCIA!AR119","v":0},{"$f":"ASISTENCIA!AS119","v":0},{"$f":"ASISTENCIA!AU119","v":0},null,{"$f":"ASISTENCIA!AV119","v":0},null,{"$f":"ASISTENCIA!AT119","v":0},null,{"$f":"ASISTENCIA!AW119","v":0},null,null,null,null,null,null,null,null,null,null,null,null,null,null,null,null,""]
[{"$f":"IF(+ASISTENCIA!A120=\"\",\"\",ASISTENCIA!A120)","v":""},null,null,{"$f":"IF(+ASISTENCIA!D120=\"\",\"\",ASISTENCIA!D120)","v":""},{"$f":"IF(+ASISTENCIA!E120=\"\",\"\",ASISTENCIA!E120)","v":""},{"$f":"IF(+ASISTENCIA!F120=\"\",\"\",ASISTENCIA!F120)","v":""},{"$f":"IF(+ASISTENCIA!G120=\"\",\"\",ASISTENCIA!G120)","v":""},{"$f":"IF(+ASISTENCIA!H120=\"\",\"\",ASISTENCIA!H120)","v":""},null,{"$f":"ASISTENCIA!AQ120","v":0},null,{"$f":"ASISTENCIA!AR120","v":0},{"$f":"ASISTENCIA!AS120","v":0},{"$f":"ASISTENCIA!AU120","v":0},null,{"$f":"ASISTENCIA!AV120","v":0},null,{"$f":"ASISTENCIA!AT120","v":0},null,{"$f":"ASISTENCIA!AW120","v":0},null,null,null,null,null,null,null,null,null,null,null,null,null,null,null,null,""]
[{"$f":"IF(+ASISTENCIA!A121=\"\",\"\",ASISTENCIA!A121)","v":""},null,null,{"$f":"IF(+ASISTENCIA!D121=\"\",\"\",ASISTENCIA!D121)","v":""},{"$f":"IF(+ASISTENCIA!E121=\"\",\"\",ASISTENCIA!E121)","v":""},{"$f":"IF(+ASISTENCIA!F121=\"\",\"\",ASISTENCIA!F121)","v":""},{"$f":"IF(+ASISTENCIA!G121=\"\",\"\",ASISTENCIA!G121)","v":""},{"$f":"IF(+ASISTENCIA!H121=\"\",\"\",ASISTENCIA!H121)","v":""},null,{"$f":"ASISTENCIA!AQ121","v":0},null,{"$f":"ASISTENCIA!AR121","v":0},{"$f":"ASISTENCIA!AS121","v":0},{"$f":"ASISTENCIA!AU121","v":0},null,{"$f":"ASISTENCIA!AV121","v":0},null,{"$f":"ASISTENCIA!AT121","v":0},null,{"$f":"ASISTENCIA!AW121","v":0},null,null,null,null,null,null,null,null,null,null,null,null,null,null,null,null,""]
[{"$f":"IF(+ASISTENCIA!A122=\"\",\"\",ASISTENCIA!A122)","v":""},null,null,{"$f":"IF(+ASISTENCIA!D122=\"\",\"\",ASISTENCIA!D122)","v":""},{"$f":"IF(+ASISTENCIA!E122=\"\",\"\",ASISTENCIA!E122)","v":""},{"$f":"IF(+ASISTENCIA!F122=\"\",\"\",ASISTENCIA!F122)","v":""},{"$f":"IF(+ASISTENCIA!G122=\"\",\"\",ASISTENCIA!G122)","v":""},{"$f":"IF(+ASISTENCIA!H122=\"\",\"\",ASISTENCIA!H122)","v":""},null,{"$f":"ASISTENCIA!AQ122","v":0},null,{"$f":"ASISTENCIA!AR122","v":0},{"$f":"ASISTENCIA!AS122","v":0},{"$f":"ASISTENCIA!AU122","v":0},null,{"$f":"ASISTENCIA!AV122","v":0},null,{"$f":"ASISTENCIA!AT122","v":0},null,{"$f":"ASISTENCIA!AW122","v":0},null,null,null,null,null,null,null,null,null,null,null,null,null,null,null,null,""]
[{"$f":"IF(+ASISTENCIA!A123=\"\",\"\",ASISTENCIA!A123)","v":""},null,null,{"$f":"IF(+ASISTENCIA!D123=\"\",\"\",ASISTENCIA!D123)","v":""},{"$f":"IF(+ASISTENCIA!E123=\"\",\"\",ASISTENCIA!E123)","v":""},{"$f":"IF(+ASISTENCIA!F123=\"\",\"\",ASISTENCIA!F123)","v":""},{"$f":"IF(+ASISTENCIA!G123=\"\",\"\",ASISTENCIA!G123)","v":""},{"$f":"IF(+ASISTENCIA!H123=\"\",\"\",ASISTENCIA!H123)","v":""},null,{"$f":"ASISTENCIA!AQ123","v":0},null,{"$f":"ASISTENCIA!AR123","v":0},{"$f":"ASISTENCIA!AS123","v":0},{"$f":"ASISTENCIA!AU123","v":0},null,{"$f":"ASISTENCIA!AV123","v":0},null,{"$f":"ASISTENCIA!AT123","v":0},null,{"$f":"ASISTENCIA!AW123","v":0},null,null,null,null,null,null,null,null,null,null,null,null,null,null,null,null,""]
[{"$f":"IF(+ASISTENCIA!A124=\"\",\"\",ASISTENCIA!A124)","v":""},null,null,{"$f":"IF(+ASISTENCIA!D124=\"\",\"\",ASISTENCIA!D124)","v":""},{"$f":"IF(+ASISTENCIA!E124=\"\",\"\",ASISTENCIA!E124)","v":""},{"$f":"IF(+ASISTENCIA!F124=\"\",\"\",ASISTENCIA!F124)","v":""},{"$f":"IF(+ASISTENCIA!G124=\"\",\"\",ASISTENCIA!G124)","v":""},{"$f":"IF(+ASISTENCIA!H124=\"\",\"\",ASISTENCIA!H124)","v":""},null,{"$f":"ASISTENCIA!AQ124","v":0},null,{"$f":"ASISTENCIA!AR124","v":0},{"$f":"ASISTENCIA!AS124","v":0},{"$f":"ASISTENCIA!AU124","v":0},null,{"$f":"ASISTENCIA!AV124","v":0},null,{"$f":"ASISTENCIA!AT124","v":0},null,{"$f":"ASISTENCIA!AW124","v":0},null,null,null,null,null,null,null,null,null,null,null,null,null,null,null,null,""]
[{"$f":"IF(+ASISTENCIA!A125=\"\",\"\",ASISTENCIA!A125)","v":""},null,null,{"$f":"IF(+ASISTENCIA!D125=\"\",\"\",ASISTENCIA!D125)","v":""},{"$f":"IF(+ASISTENCIA!E125=\"\",\"\",ASISTENCIA!E125)","v":""},{"$f":"IF(+ASISTENCIA!F125=\"\",\"\",ASISTENCIA!F125)","v":""},{"$f":"IF(+ASISTENCIA!G125=\"\",\"\",ASISTENCIA!G125)","v":""},{"$f":"IF(+ASISTENCIA!H125=\"\",\"\",ASISTENCIA!H125)","v":""},null,{"$f":"ASISTENCIA!AQ125","v":0},null,{"$f":"ASISTENCIA!AR125","v":0},{"$f":"ASISTENCIA!AS125","v":0},{"$f":"ASISTENCIA!AU125","v":0},null,{"$f":"ASISTENCIA!AV125","v":0},null,{"$f":"ASISTENCIA!AT125","v":0},null,{"$f":"ASISTENCIA!AW125","v":0},null,null,null,null,null,null,null,null,null,null,null,null,null,null,null,null,""]
[{"$f":"IF(+ASISTENCIA!A126=\"\",\"\",ASISTENCIA!A126)","v":""},null,null,{"$f":"IF(+ASISTENCIA!D126=\"\",\"\",ASISTENCIA!D126)","v":""},{"$f":"IF(+ASISTENCIA!E126=\"\",\"\",ASISTENCIA!E126)","v":""},{"$f":"IF(+ASISTENCIA!F126=\"\",\"\",ASISTENCIA!F126)","v":""},{"$f":"IF(+ASISTENCIA!G126=\"\",\"\",ASISTENCIA!G126)","v":""},{"$f":"IF(+ASISTENCIA!H126=\"\",\"\",ASISTENCIA!H126)","v":""},null,{"$f":"ASISTENCIA!AQ126","v":0},null,{"$f":"ASISTENCIA!AR126","v":0},{"$f":"ASISTENCIA!AS126","v":0},{"$f":"ASISTENCIA!AU126","v":0},null,{"$f":"ASISTENCIA!AV126","v":0},null,{"$f":"ASISTENCIA!AT126","v":0},null,{"$f":"ASISTENCIA!AW126","v":0},null,null,null,null,null,null,null,null,null,null,null,null,null,null,null,null,""]
[{"$f":"IF(+ASISTENCIA!A127=\"\",\"\",ASISTENCIA!A127)","v":""},null,null,{"$f":"IF(+ASISTENCIA!D127=\"\",\"\",ASISTENCIA!D127)","v":""},{"$f":"IF(+ASISTENCIA!E127=\"\",\"\",ASISTENCIA!E127)","v":""},{"$f":"IF(+ASISTENCIA!F127=\"\",\"\",ASISTENCIA!F127)","v":""},{"$f":"IF(+ASISTENCIA!G127=\"\",\"\",ASISTENCIA!G127)","v":""},{"$f":"IF(+ASISTENCIA!H127=\"\",\"\",ASISTENCIA!H127)","v":""},null,{"$f":"ASISTENCIA!AQ127","v":0},null,{"$f":"ASISTENCIA!AR127","v":0},{"$f":"ASISTENCIA!AS127","v":0},{"$f":"ASISTENCIA!AU127","v":0},null,{"$f":"ASISTENCIA!AV127","v":0},null,{"$f":"ASISTENCIA!AT127","v":0},null,{"$f":"ASISTENCIA!AW127","v":0},null,null,null,null,null,null,null,null,null,null,null,null,null,null,null,null,""]
[{"$f":"IF(+ASISTENCIA!A128=\"\",\"\",ASISTENCIA!A128)","v":""},null,null,{"$f":"IF(+ASISTENCIA!D128=\"\",\"\",ASISTENCIA!D128)","v":""},{"$f":"IF(+ASISTENCIA!E128=\"\",\"\",ASISTENCIA!E128)","v":""},{"$f":"IF(+ASISTENCIA!F128=\"\",\"\",ASISTENCIA!F128)","v":""},{"$f":"IF(+ASISTENCIA!G128=\"\",\"\",ASISTENCIA!G128)","v":""},{"$f":"IF(+ASISTENCIA!H128=\"\",\"\",ASISTENCIA!H128)","v":""},null,{"$f":"ASISTENCIA!AQ128","v":0},null,{"$f":"ASISTENCIA!AR128","v":0},{"$f":"ASISTENCIA!AS128","v":0},{"$f":"ASISTENCIA!AU128","v":0},null,{"$f":"ASISTENCIA!AV128","v":0},null,{"$f":"ASISTENCIA!AT128","v":0},null,{"$f":"ASISTENCIA!AW128","v":0},null,null,null,null,null,null,null,null,null,null,null,null,null,null,null,null,""]
[{"$f":"IF(+ASISTENCIA!A129=\"\",\"\",ASISTENCIA!A129)","v":""},null,null,{"$f":"IF(+ASISTENCIA!D129=\"\",\"\",ASISTENCIA!D129)","v":""},{"$f":"IF(+ASISTENCIA!E129=\"\",\"\",ASISTENCIA!E129)","v":""},{"$f":"IF(+ASISTENCIA!F129=\"\",\"\",ASISTENCIA!F129)","v":""},{"$f":"IF(+ASISTENCIA!G129=\"\",\"\",ASISTENCIA!G129)","v":""},{"$f":"IF(+ASISTENCIA!H129=\"\",\"\",ASISTENCIA!H129)","v":""},null,{"$f":"ASISTENCIA!AQ129","v":0},null,{"$f":"ASISTENCIA!AR129","v":0},{"$f":"ASISTENCIA!AS129","v":0},{"$f":"ASISTENCIA!AU129","v":0},null,{"$f":"ASISTENCIA!AV129","v":0},null,{"$f":"ASISTENCIA!AT129","v":0},null,{"$f":"ASISTENCIA!AW129","v":0},null,null,null,null,null,null,null,null,null,null,null,null,null,null,null,null,""]
[{"$f":"IF(+ASISTENCIA!A130=\"\",\"\",ASISTENCIA!A130)","v":""},null,null,{"$f":"IF(+ASISTENCIA!D130=\"\",\"\",ASISTENCIA!D130)","v":""},{"$f":"IF(+ASISTENCIA!E130=\"\",\"\",ASISTENCIA!E130)","v":""},{"$f":"IF(+ASISTENCIA!F130=\"\",\"\",ASISTENCIA!F130)","v":""},{"$f":"IF(+ASISTENCIA!G130=\"\",\"\",ASISTENCIA!G130)","v":""},{"$f":"IF(+ASISTENCIA!H130=\"\",\"\",ASISTENCIA!H130)","v":""},null,{"$f":"ASISTENCIA!AQ130","v":0},null,{"$f":"ASISTENCIA!AR130","v":0},{"$f":"ASISTENCIA!AS130","v":0},{"$f":"ASISTENCIA!AU130","v":0},null,{"$f":"ASISTENCIA!AV130","v":0},null,{"$f":"ASISTENCIA!AT130","v":0},null,{"$f":"ASISTENCIA!AW130","v":0},null,null,null,null,null,null,null,null,null,null,null,null,null,null,null,null,""]
[{"$f":"IF(+ASISTENCIA!A131=\"\",\"\",ASISTENCIA!A131)","v":""},null,null,{"$f":"IF(+ASISTENCIA!D131=\"\",\"\",ASISTENCIA!D131)","v":""},{"$f":"IF(+ASISTENCIA!E131=\"\",\"\",ASISTENCIA!E131)","v":""},{"$f":"IF(+ASISTENCIA!F131=\"\",\"\",ASISTENCIA!F131)","v":""},{"$f":"IF(+ASISTENCIA!G131=\"\",\"\",ASISTENCIA!G131)","v":""},{"$f":"IF(+ASISTENCIA!H131=\"\",\"\",ASISTENCIA!H131)","v":""},null,{"$f":"ASISTENCIA!AQ131","v":0},null,{"$f":"ASISTENCIA!AR131","v":0},{"$f":"ASISTENCIA!AS131","v":0},{"$f":"ASISTENCIA!AU131","v":0},null,{"$f":"ASISTENCIA!AV131","v":0},null,{"$f":"ASISTENCIA!AT131","v":0},null,{"$f":"ASISTENCIA!AW131","v":0},null,null,null,null,null,null,null,null,null,null,null,null,null,null,null,null,""]
[{"$f":"IF(+ASISTENCIA!A132=\"\",\"\",ASISTENCIA!A132)","v":""},null,null,{"$f":"IF(+ASISTENCIA!D132=\"\",\"\",ASISTENCIA!D132)","v":""},{"$f":"IF(+ASISTENCIA!E132=\"\",\"\",ASISTENCIA!E132)","v":""},{"$f":"IF(+ASISTENCIA!F132=\"\",\"\",ASISTENCIA!F132)","v":""},{"$f":"IF(+ASISTENCIA!G132=\"\",\"\",ASISTENCIA!G132)","v":""},{"$f":"IF(+ASISTENCIA!H132=\"\",\"\",ASISTENCIA!H132)","v":""},null,{"$f":"ASISTENCIA!AQ132","v":0},null,{"$f":"ASISTENCIA!AR132","v":0},{"$f":"ASISTENCIA!AS132","v":0},{"$f":"ASISTENCIA!AU132","v":0},null,{"$f":"ASISTENCIA!AV132","v":0},null,{"$f":"ASISTENCIA!AT132","v":0},null,{"$f":"ASISTENCIA!AW132","v":0},null,null,null,null,null,null,null,null,null,null,null,null,null,null,null,null,""]
[{"$f":"IF(+ASISTENCIA!A133=\"\",\"\",ASISTENCIA!A133)","v":""},null,null,{"$f":"IF(+ASISTENCIA!D133=\"\",\"\",ASISTENCIA!D133)","v":""},{"$f":"IF(+ASISTENCIA!E133=\"\",\"\",ASISTENCIA!E133)","v":""},{"$f":"IF(+ASISTENCIA!F133=\"\",\"\",ASISTENCIA!F133)","v":""},{"$f":"IF(+ASISTENCIA!G133=\"\",\"\",ASISTENCIA!G133)","v":""},{"$f":"IF(+ASISTENCIA!H133=\"\",\"\",ASISTENCIA!H133)","v":""},null,{"$f":"ASISTENCIA!AQ133","v":0},null,{"$f":"ASISTENCIA!AR133","v":0},{"$f":"ASISTENCIA!AS133","v":0},{"$f":"ASISTENCIA!AU133","v":0},null,{"$f":"ASISTENCIA!AV133","v":0},null,{"$f":"ASISTENCIA!AT133","v":0},null,{"$f":"ASISTENCIA!AW133","v":0},null,null,null,null,null,null,null,null,null,null,null,null,null,null,null,null,""]
[{"$f":"IF(+ASISTENCIA!A134=\"\",\"\",ASISTENCIA!A134)","v":""},null,null,{"$f":"IF(+ASISTENCIA!D134=\"\",\"\",ASISTENCIA!D134)","v":""},{"$f":"IF(+ASISTENCIA!E134=\"\",\"\",ASISTENCIA!E134)","v":""},{"$f":"IF(+ASISTENCIA!F134=\"\",\"\",ASISTENCIA!F134)","v":""},{"$f":"IF(+ASISTENCIA!G134=\"\",\"\",ASISTENCIA!G134)","v":""},{"$f":"IF(+ASISTENCIA!H134=\"\",\"\",ASISTENCIA!H134)","v":""},null,{"$f":"ASISTENCIA!AQ134","v":0},null,{"$f":"ASISTENCIA!AR134","v":0},{"$f":"ASISTENCIA!AS134","v":0},{"$f":"ASISTENCIA!AU134","v":0},null,{"$f":"ASISTENCIA!AV134","v":0},null,{"$f":"ASISTENCIA!AT134","v":0},null,{"$f":"ASISTENCIA!AW134","v":0},null,null,null,null,null,null,null,null,null,null,null,null,null,null,null,null,""]
[{"$f":"IF(+ASISTENCIA!A135=\"\",\"\",ASISTENCIA!A135)","v":""},null,null,{"$f":"IF(+ASISTENCIA!D135=\"\",\"\",ASISTENCIA!D135)","v":""},{"$f":"IF(+ASISTENCIA!E135=\"\",\"\",ASISTENCIA!E135)","v":""},{"$f":"IF(+ASISTENCIA!F135=\"\",\"\",ASISTENCIA!F135)","v":""},{"$f":"IF(+ASISTENCIA!G135=\"\",\"\",ASISTENCIA!G135)","v":""},{"$f":"IF(+ASISTENCIA!H135=\"\",\"\",ASISTENCIA!H135)","v":""},null,{"$f":"ASISTENCIA!AQ135","v":0},null,{"$f":"ASISTENCIA!AR135","v":0},{"$f":"ASISTENCIA!AS135","v":0},{"$f":"ASISTENCIA!AU135","v":0},null,{"$f":"ASISTENCIA!AV135","v":0},null,{"$f":"ASISTENCIA!AT135","v":0},null,{"$f":"ASISTENCIA!AW135","v":0},null,null,null,null,null,null,null,null,null,null,null,null,null,null,null,null,""]
[{"$f":"IF(+ASISTENCIA!A136=\"\",\"\",ASISTENCIA!A136)","v":""},null,null,{"$f":"IF(+ASISTENCIA!D136=\"\",\"\",ASISTENCIA!D136)","v":""},{"$f":"IF(+ASISTENCIA!E136=\"\",\"\",ASISTENCIA!E136)","v":""},{"$f":"IF(+ASISTENCIA!F136=\"\",\"\",ASISTENCIA!F136)","v":""},{"$f":"IF(+ASISTENCIA!G136=\"\",\"\",ASISTENCIA!G136)","v":""},{"$f":"IF(+ASISTENCIA!H136=\"\",\"\",ASISTENCIA!H136)","v":""},null,{"$f":"ASISTENCIA!AQ136","v":0},null,{"$f":"ASISTENCIA!AR136","v":0},{"$f":"ASISTENCIA!AS136","v":0},{"$f":"ASISTENCIA!AU136","v":0},null,{"$f":"ASISTENCIA!AV136","v":0},null,{"$f":"ASISTENCIA!AT136","v":0},null,{"$f":"ASISTENCIA!AW136","v":0},null,null,null,null,null,null,null,null,null,null,null,null,null,null,null,null,""]
[{"$f":"IF(+ASISTENCIA!A137=\"\",\"\",ASISTENCIA!A137)","v":""},null,null,{"$f":"IF(+ASISTENCIA!D137=\"\",\"\",ASISTENCIA!D137)","v":""},{"$f":"IF(+ASISTENCIA!E137=\"\",\"\",ASISTENCIA!E137)","v":""},{"$f":"IF(+ASISTENCIA!F137=\"\",\"\",ASISTENCIA!F137)","v":""},{"$f":"IF(+ASISTENCIA!G137=\"\",\"\",ASISTENCIA!G137)","v":""},{"$f":"IF(+ASISTENCIA!H137=\"\",\"\",ASISTENCIA!H137)","v":""},null,{"$f":"ASISTENCIA!AQ137","v":0},null,{"$f":"ASISTENCIA!AR137","v":0},{"$f":"ASISTENCIA!AS137","v":0},{"$f":"ASISTENCIA!AU137","v":0},null,{"$f":"ASISTENCIA!AV137","v":0},null,{"$f":"ASISTENCIA!AT137","v":0},null,{"$f":"ASISTENCIA!AW137","v":0},null,null,null,null,null,null,null,null,null,null,null,null,null,null,null,null,""]
[{"$f":"IF(+ASISTENCIA!A138=\"\",\"\",ASISTENCIA!A138)","v":""},null,null,{"$f":"IF(+ASISTENCIA!D138=\"\",\"\",ASISTENCIA!D138)","v":""},{"$f":"IF(+ASISTENCIA!E138=\"\",\"\",ASISTENCIA!E138)","v":""},{"$f":"IF(+ASISTENCIA!F138=\"\",\"\",ASISTENCIA!F138)","v":""},{"$f":"IF(+ASISTENCIA!G138=\"\",\"\",ASISTENCIA!G138)","v":""},{"$f":"IF(+ASISTENCIA!H138=\"\",\"\",ASISTENCIA!H138)","v":""},null,{"$f":"ASISTENCIA!AQ138","v":0},null,{"$f":"ASISTENCIA!AR138","v":0},{"$f":"ASISTENCIA!AS138","v":0},{"$f":"ASISTENCIA!AU138","v":0},null,{"$f":"ASISTENCIA!AV138","v":0},null,{"$f":"ASISTENCIA!AT138","v":0},null,{"$f":"ASISTENCIA!AW138","v":0},null,null,null,null,null,null,null,null,null,null,null,null,null,null,null,null,""]
[{"$f":"IF(+ASISTENCIA!A139=\"\",\"\",ASISTENCIA!A139)","v":""},null,null,{"$f":"IF(+ASISTENCIA!D139=\"\",\"\",ASISTENCIA!D139)","v":""},{"$f":"IF(+ASISTENCIA!E139=\"\",\"\",ASISTENCIA!E139)","v":""},{"$f":"IF(+ASISTENCIA!F139=\"\",\"\",ASISTENCIA!F139)","v":""},{"$f":"IF(+ASISTENCIA!G139=\"\",\"\",ASISTENCIA!G139)","v":""},{"$f":"IF(+ASISTENCIA!H139=\"\",\"\",ASISTENCIA!H139)","v":""},null,{"$f":"ASISTENCIA!AQ139","v":0},null,{"$f":"ASISTENCIA!AR139","v":0},{"$f":"ASISTENCIA!AS139","v":0},{"$f":"ASISTENCIA!AU139","v":0},null,{"$f":"ASISTENCIA!AV139","v":0},null,{"$f":"ASISTENCIA!AT139","v":0},null,{"$f":"ASISTENCIA!AW139","v":0},null,null,null,null,null,null,null,null,null,null,null,null,null,null,null,null,""]
[{"$f":"IF(+ASISTENCIA!A140=\"\",\"\",ASISTENCIA!A140)","v":""},null,null,{"$f":"IF(+ASISTENCIA!D140=\"\",\"\",ASISTENCIA!D140)","v":""},{"$f":"IF(+ASISTENCIA!E140=\"\",\"\",ASISTENCIA!E140)","v":""},{"$f":"IF(+ASISTENCIA!F140=\"\",\"\",ASISTENCIA!F140)","v":""},{"$f":"IF(+ASISTENCIA!G140=\"\",\"\",ASISTENCIA!G140)","v":""},{"$f":"IF(+ASISTENCIA!H140=\"\",\"\",ASISTENCIA!H140)","v":""},null,{"$f":"ASISTENCIA!AQ140","v":0},null,{"$f":"ASISTENCIA!AR140","v":0},{"$f":"ASISTENCIA!AS140","v":0},{"$f":"ASISTENCIA!AU140","v":0},null,{"$f":"ASISTENCIA!AV140","v":0},null,{"$f":"ASISTENCIA!AT140","v":0},null,{"$f":"ASISTENCIA!AW140","v":0},null,null,null,null,null,null,null,null,null,null,null,null,null,null,null,null,""]
[{"$f":"IF(+ASISTENCIA!A141=\"\",\"\",ASISTENCIA!A141)","v":""},null,null,{"$f":"IF(+ASISTENCIA!D141=\"\",\"\",ASISTENCIA!D141)","v":""},{"$f":"IF(+ASISTENCIA!E141=\"\",\"\",ASISTENCIA!E141)","v":""},{"$f":"IF(+ASISTENCIA!F141=\"\",\"\",ASISTENCIA!F141)","v":""},{"$f":"IF(+ASISTENCIA!G141=\"\",\"\",ASISTENCIA!G141)","v":""},{"$f":"IF(+ASISTENCIA!H141=\"\",\"\",ASISTENCIA!H141)","v":""},null,{"$f":"ASISTENCIA!AQ141","v":0},null,{"$f":"ASISTENCIA!AR141","v":0},{"$f":"ASISTENCIA!AS141","v":0},{"$f":"ASISTENCIA!AU141","v":0},null,{"$f":"ASISTENCIA!AV141","v":0},null,{"$f":"ASISTENCIA!AT141","v":0},null,{"$f":"ASISTENCIA!AW141","v":0},null,null,null,null,null,null,null,null,null,null,null,null,null,null,null,null,{"$f":"IF(OR(COUNTIF($I140:$AJ140,\"X\")>0,COUNTIF($I140:$AJ140,\"L\")>0),COUNTIF($I140:$AJ140,\"X\")+COUNTIF($I140:$AJ140,\"L\"),\"\")","v":""}]
[{"$f":"IF(+ASISTENCIA!A142=\"\",\"\",ASISTENCIA!A142)","v":""},null,null,{"$f":"IF(+ASISTENCIA!D142=\"\",\"\",ASISTENCIA!D142)","v":""},{"$f":"IF(+ASISTENCIA!E142=\"\",\"\",ASISTENCIA!E142)","v":""},{"$f":"IF(+ASISTENCIA!F142=\"\",\"\",ASISTENCIA!F142)","v":""},{"$f":"IF(+ASISTENCIA!G142=\"\",\"\",ASISTENCIA!G142)","v":""},{"$f":"IF(+ASISTENCIA!H142=\"\",\"\",ASISTENCIA!H142)","v":""},null,{"$f":"ASISTENCIA!AQ142","v":0},null,{"$f":"ASISTENCIA!AR142","v":0},{"$f":"ASISTENCIA!AS142","v":0},{"$f":"ASISTENCIA!AU142","v":0},null,{"$f":"ASISTENCIA!AV142","v":0},null,{"$f":"ASISTENCIA!AT142","v":0},null,{"$f":"ASISTENCIA!AW142","v":0},null,null,null,null,null,null,null,null,null,null,null,null,null,null,null,null,""]
[{"$f":"IF(+ASISTENCIA!A143=\"\",\"\",ASISTENCIA!A143)","v":""},null,null,{"$f":"IF(+ASISTENCIA!D143=\"\",\"\",ASISTENCIA!D143)","v":""},{"$f":"IF(+ASISTENCIA!E143=\"\",\"\",ASISTENCIA!E143)","v":""},{"$f":"IF(+ASISTENCIA!F143=\"\",\"\",ASISTENCIA!F143)","v":""},{"$f":"IF(+ASISTENCIA!G143=\"\",\"\",ASISTENCIA!G143)","v":""},{"$f":"IF(+ASISTENCIA!H143=\"\",\"\",ASISTENCIA!H143)","v":""},null,{"$f":"ASISTENCIA!AQ143","v":0},null,{"$f":"ASISTENCIA!AR143","v":0},{"$f":"ASISTENCIA!AS143","v":0},{"$f":"ASISTENCIA!AU143","v":0},null,{"$f":"ASISTENCIA!AV143","v":0},null,{"$f":"ASISTENCIA!AT143","v":0},null,{"$f":"ASISTENCIA!AW143","v":0},null,null,null,null,null,null,null,null,null,null,null,null,null,null,null,null,""]
[{"$f":"IF(+ASISTENCIA!A144=\"\",\"\",ASISTENCIA!A144)","v":""},null,null,{"$f":"IF(+ASISTENCIA!D144=\"\",\"\",ASISTENCIA!D144)","v":""},{"$f":"IF(+ASISTENCIA!E144=\"\",\"\",ASISTENCIA!E144)","v":""},{"$f":"IF(+ASISTENCIA!F144=\"\",\"\",ASISTENCIA!F144)","v":""},{"$f":"IF(+ASISTENCIA!G144=\"\",\"\",ASISTENCIA!G144)","v":""},{"$f":"IF(+ASISTENCIA!H144=\"\",\"\",ASISTENCIA!H144)","v":""},null,{"$f":"ASISTENCIA!AQ144","v":0},null,{"$f":"ASISTENCIA!AR144","v":0},{"$f":"ASISTENCIA!AS144","v":0},{"$f":"ASISTENCIA!AU144","v":0},null,{"$f":"ASISTENCIA!AV144","v":0},null,{"$f":"ASISTENCIA!AT144","v":0},null,{"$f":"ASISTENCIA!AW144","v":0},null,null,null,null,null,null,null,null,null,null,null,null,null,null,null,null,""]
[{"$f":"IF(+ASISTENCIA!A145=\"\",\"\",ASISTENCIA!A145)","v":""},null,null,{"$f":"IF(+ASISTENCIA!D145=\"\",\"\",ASISTENCIA!D145)","v":""},{"$f":"IF(+ASISTENCIA!E145=\"\",\"\",ASISTENCIA!E145)","v":""},{"$f":"IF(+ASISTENCIA!F145=\"\",\"\",ASISTENCIA!F145)","v":""},{"$f":"IF(+ASISTENCIA!G145=\"\",\"\",ASISTENCIA!G145)","v":""},{"$f":"IF(+ASISTENCIA!H145=\"\",\"\",ASISTENCIA!H145)","v":""},null,{"$f":"ASISTENCIA!AQ145","v":0},null,{"$f":"ASISTENCIA!AR145","v":0},{"$f":"ASISTENCIA!AS145","v":0},{"$f":"ASISTENCIA!AU145","v":0},null,{"$f":"ASISTENCIA!AV145","v":0},null,{"$f":"ASISTENCIA!AT145","v":0},null,{"$f":"ASISTENCIA!AW145","v":0},null,null,null,null,null,null,null,null,null,null,null,null,null,null,null,null,""]
[{"$f":"IF(+ASISTENCIA!A146=\"\",\"\",ASISTENCIA!A146)","v":""},null,null,{"$f":"IF(+ASISTENCIA!D146=\"\",\"\",ASISTENCIA!D146)","v":""},{"$f":"IF(+ASISTENCIA!E146=\"\",\"\",ASISTENCIA!E146)","v":""},{"$f":"IF(+ASISTENCIA!F146=\"\",\"\",ASISTENCIA!F146)","v":""},{"$f":"IF(+ASISTENCIA!G146=\"\",\"\",ASISTENCIA!G146)","v":""},{"$f":"IF(+ASISTENCIA!H146=\"\",\"\",ASISTENCIA!H146)","v":""},null,{"$f":"ASISTENCIA!AQ146","v":0},null,{"$f":"ASISTENCIA!AR146","v":0},{"$f":"ASISTENCIA!AS146","v":0},{"$f":"ASISTENCIA!AU146","v":0},null,{"$f":"ASISTENCIA!AV146","v":0},null,{"$f":"ASISTENCIA!AT146","v":0},null,{"$f":"ASISTENCIA!AW146","v":0},null,null,null,null,null,null,null,null,null,null,null,null,null,null,null,null,""]
[{"$f":"IF(+ASISTENCIA!A147=\"\",\"\",ASISTENCIA!A147)","v":""},null,null,{"$f":"IF(+ASISTENCIA!D147=\"\",\"\",ASISTENCIA!D147)","v":""},{"$f":"IF(+ASISTENCIA!E147=\"\",\"\",ASISTENCIA!E147)","v":""},{"$f":"IF(+ASISTENCIA!F147=\"\",\"\",ASISTENCIA!F147)","v":""},{"$f":"IF(+ASISTENCIA!G147=\"\",\"\",ASISTENCIA!G147)","v":""},{"$f":"IF(+ASISTENCIA!H147=\"\",\"\",ASISTENCIA!H147)","v":""},null,{"$f":"ASISTENCIA!AQ147","v":0},null,{"$f":"ASISTENCIA!AR147","v":0},{"$f":"ASISTENCIA!AS147","v":0},{"$f":"ASISTENCIA!AU147","v":0},null,{"$f":"ASISTENCIA!AV147","v":0},null,{"$f":"ASISTENCIA!AT147","v":0},null,{"$f":"ASISTENCIA!AW147","v":0},null,null,null,null,null,null,null,null,null,null,null,null,null,null,null,null,""]
[{"$f":"IF(+ASISTENCIA!A148=\"\",\"\",ASISTENCIA!A148)","v":""},null,null,{"$f":"IF(+ASISTENCIA!D148=\"\",\"\",ASISTENCIA!D148)","v":""},{"$f":"IF(+ASISTENCIA!E148=\"\",\"\",ASISTENCIA!E148)","v":""},{"$f":"IF(+ASISTENCIA!F148=\"\",\"\",ASISTENCIA!F148)","v":""},{"$f":"IF(+ASISTENCIA!G148=\"\",\"\",ASISTENCIA!G148)","v":""},{"$f":"IF(+ASISTENCIA!H148=\"\",\"\",ASISTENCIA!H148)","v":""},null,{"$f":"ASISTENCIA!AQ148","v":0},null,{"$f":"ASISTENCIA!AR148","v":0},{"$f":"ASISTENCIA!AS148","v":0},{"$f":"ASISTENCIA!AU148","v":0},null,{"$f":"ASISTENCIA!AV148","v":0},null,{"$f":"ASISTENCIA!AT148","v":0},null,{"$f":"ASISTENCIA!AW148","v":0},null,null,null,null,null,null,null,null,null,null,null,null,null,null,null,null,""]
[{"$f":"IF(+ASISTENCIA!A149=\"\",\"\",ASISTENCIA!A149)","v":""},null,null,{"$f":"IF(+ASISTENCIA!D149=\"\",\"\",ASISTENCIA!D149)","v":""},{"$f":"IF(+ASISTENCIA!E149=\"\",\"\",ASISTENCIA!E149)","v":""},{"$f":"IF(+ASISTENCIA!F149=\"\",\"\",ASISTENCIA!F149)","v":""},{"$f":"IF(+ASISTENCIA!G149=\"\",\"\",ASISTENCIA!G149)","v":""},{"$f":"IF(+ASISTENCIA!H149=\"\",\"\",ASISTENCIA!H149)","v":""},null,{"$f":"ASISTENCIA!AQ149","v":0},null,{"$f":"ASISTENCIA!AR149","v":0},{"$f":"ASISTENCIA!AS149","v":0},{"$f":"ASISTENCIA!AU149","v":0},null,{"$f":"ASISTENCIA!AV149","v":0},null,{"$f":"ASISTENCIA!AT149","v":0},null,{"$f":"ASISTENCIA!AW149","v":0},null,null,null,null,null,null,null,null,null,null,null,null,null,null,null,null,""]
[{"$f":"IF(+ASISTENCIA!A150=\"\",\"\",ASISTENCIA!A150)","v":""},null,null,{"$f":"IF(+ASISTENCIA!D150=\"\",\"\",ASISTENCIA!D150)","v":""},{"$f":"IF(+ASISTENCIA!E150=\"\",\"\",ASISTENCIA!E150)","v":""},{"$f":"IF(+ASISTENCIA!F150=\"\",\"\",ASISTENCIA!F150)","v":""},{"$f":"IF(+ASISTENCIA!G150=\"\",\"\",ASISTENCIA!G150)","v":""},{"$f":"IF(+ASISTENCIA!H150=\"\",\"\",ASISTENCIA!H150)","v":""},null,{"$f":"ASISTENCIA!AQ150","v":0},null,{"$f":"ASISTENCIA!AR150","v":0},{"$f":"ASISTENCIA!AS150","v":0},{"$f":"ASISTENCIA!AU150","v":0},null,{"$f":"ASISTENCIA!AV150","v":0},null,{"$f":"ASISTENCIA!AT150","v":0},null,{"$f":"ASISTENCIA!AW150","v":0},null,null,null,null,null,null,null,null,null,null,null,null,null,null,null,null,""]
[{"$f":"IF(+ASISTENCIA!A151=\"\",\"\",ASISTENCIA!A151)","v":""},null,null,{"$f":"IF(+ASISTENCIA!D151=\"\",\"\",ASISTENCIA!D151)","v":""},{"$f":"IF(+ASISTENCIA!E151=\"\",\"\",ASISTENCIA!E151)","v":""},{"$f":"IF(+ASISTENCIA!F151=\"\",\"\",ASISTENCIA!F151)","v":""},{"$f":"IF(+ASISTENCIA!G151=\"\",\"\",ASISTENCIA!G151)","v":""},{"$f":"IF(+ASISTENCIA!H151=\"\",\"\",ASISTENCIA!H151)","v":""},null,{"$f":"ASISTENCIA!AQ151","v":0},null,{"$f":"ASISTENCIA!AR151","v":0},{"$f":"ASISTENCIA!AS151","v":0},{"$f":"ASISTENCIA!AU151","v":0},null,{"$f":"ASISTENCIA!AV151","v":0},null,{"$f":"ASISTENCIA!AT151","v":0},null,{"$f":"ASISTENCIA!AW151","v":0},null,null,null,null,null,null,null,null,null,null,null,null,null,null,null,null,""]
[{"$f":"IF(+ASISTENCIA!A152=\"\",\"\",ASISTENCIA!A152)","v":""},null,null,{"$f":"IF(+ASISTENCIA!D152=\"\",\"\",ASISTENCIA!D152)","v":""},{"$f":"IF(+ASISTENCIA!E152=\"\",\"\",ASISTENCIA!E152)","v":""},{"$f":"IF(+ASISTENCIA!F152=\"\",\"\",ASISTENCIA!F152)","v":""},{"$f":"IF(+ASISTENCIA!G152=\"\",\"\",ASISTENCIA!G152)","v":""},{"$f":"IF(+ASISTENCIA!H152=\"\",\"\",ASISTENCIA!H152)","v":""},null,{"$f":"ASISTENCIA!AQ152","v":0},null,{"$f":"ASISTENCIA!AR152","v":0},{"$f":"ASISTENCIA!AS152","v":0},{"$f":"ASISTENCIA!AU152","v":0},null,{"$f":"ASISTENCIA!AV152","v":0},null,{"$f":"ASISTENCIA!AT152","v":0},null,{"$f":"ASISTENCIA!AW152","v":0},null,null,null,null,null,null,null,null,null,null,null,null,null,null,null,null,""]
[{"$f":"IF(+ASISTENCIA!A153=\"\",\"\",ASISTENCIA!A153)","v":""},null,null,{"$f":"IF(+ASISTENCIA!D153=\"\",\"\",ASISTENCIA!D153)","v":""},{"$f":"IF(+ASISTENCIA!E153=\"\",\"\",ASISTENCIA!E153)","v":""},{"$f":"IF(+ASISTENCIA!F153=\"\",\"\",ASISTENCIA!F153)","v":""},{"$f":"IF(+ASISTENCIA!G153=\"\",\"\",ASISTENCIA!G153)","v":""},{"$f":"IF(+ASISTENCIA!H153=\"\",\"\",ASISTENCIA!H153)","v":""},null,{"$f":"ASISTENCIA!AQ153","v":0},null,{"$f":"ASISTENCIA!AR153","v":0},{"$f":"ASISTENCIA!AS153","v":0},{"$f":"ASISTENCIA!AU153","v":0},null,{"$f":"ASISTENCIA!AV153","v":0},null,{"$f":"ASISTENCIA!AT153","v":0},null,{"$f":"ASISTENCIA!AW153","v":0},null,null,null,null,null,null,null,null,null,null,null,null,null,null,null,null,""]
[{"$f":"IF(+ASISTENCIA!A154=\"\",\"\",ASISTENCIA!A154)","v":""},null,null,{"$f":"IF(+ASISTENCIA!D154=\"\",\"\",ASISTENCIA!D154)","v":""},{"$f":"IF(+ASISTENCIA!E154=\"\",\"\",ASISTENCIA!E154)","v":""},{"$f":"IF(+ASISTENCIA!F154=\"\",\"\",ASISTENCIA!F154)","v":""},{"$f":"IF(+ASISTENCIA!G154=\"\",\"\",ASISTENCIA!G154)","v":""},{"$f":"IF(+ASISTENCIA!H154=\"\",\"\",ASISTENCIA!H154)","v":""},null,{"$f":"ASISTENCIA!AQ154","v":0},null,{"$f":"ASISTENCIA!AR154","v":0},{"$f":"ASISTENCIA!AS154","v":0},{"$f":"ASISTENCIA!AU154","v":0},null,{"$f":"ASISTENCIA!AV154","v":0},null,{"$f":"ASISTENCIA!AT154","v":0},null,{"$f":"ASISTENCIA!AW154","v":0},null,null,null,null,null,null,null,null,null,null,null,null,null,null,null,null,""]
[{"$f":"IF(+ASISTENCIA!A155=\"\",\"\",ASISTENCIA!A155)","v":""},null,null,{"$f":"IF(+ASISTENCIA!D155=\"\",\"\",ASISTENCIA!D155)","v":""},{"$f":"IF(+ASISTENCIA!E155=\"\",\"\",ASISTENCIA!E155)","v":""},{"$f":"IF(+ASISTENCIA!F155=\"\",\"\",ASISTENCIA!F155)","v":""},{"$f":"IF(+ASISTENCIA!G155=\"\",\"\",ASISTENCIA!G155)","v":""},{"$f":"IF(+ASISTENCIA!H155=\"\",\"\",ASISTENCIA!H155)","v":""},null,{"$f":"ASISTENCIA!AQ155","v":0},null,{"$f":"ASISTENCIA!AR155","v":0},{"$f":"ASISTENCIA!AS155","v":0},{"$f":"ASISTENCIA!AU155","v":0},null,{"$f":"ASISTENCIA!AV155","v":0},null,{"$f":"ASISTENCIA!AT155","v":0},null,{"$f":"ASISTENCIA!AW155","v":0},null,null,null,null,null,null,null,null,null,null,null,null,null,null,null,null,""]
[{"$f":"IF(+ASISTENCIA!A156=\"\",\"\",ASISTENCIA!A156)","v":""},null,null,{"$f":"IF(+ASISTENCIA!D156=\"\",\"\",ASISTENCIA!D156)","v":""},{"$f":"IF(+ASISTENCIA!E156=\"\",\"\",ASISTENCIA!E156)","v":""},{"$f":"IF(+ASISTENCIA!F156=\"\",\"\",ASISTENCIA!F156)","v":""},{"$f":"IF(+ASISTENCIA!G156=\"\",\"\",ASISTENCIA!G156)","v":""},{"$f":"IF(+ASISTENCIA!H156=\"\",\"\",ASISTENCIA!H156)","v":""},null,{"$f":"ASISTENCIA!AQ156","v":0},null,{"$f":"ASISTENCIA!AR156","v":0},{"$f":"ASISTENCIA!AS156","v":0},{"$f":"ASISTENCIA!AU156","v":0},null,{"$f":"ASISTENCIA!AV156","v":0},null,{"$f":"ASISTENCIA!AT156","v":0},null,{"$f":"ASISTENCIA!AW156","v":0},null,null,null,null,null,null,null,null,null,null,null,null,null,null,null,null,""]
[{"$f":"IF(+ASISTENCIA!A157=\"\",\"\",ASISTENCIA!A157)","v":""},null,null,{"$f":"IF(+ASISTENCIA!D157=\"\",\"\",ASISTENCIA!D157)","v":""},{"$f":"IF(+ASISTENCIA!E157=\"\",\"\",ASISTENCIA!E157)","v":""},{"$f":"IF(+ASISTENCIA!F157=\"\",\"\",ASISTENCIA!F157)","v":""},{"$f":"IF(+ASISTENCIA!G157=\"\",\"\",ASISTENCIA!G157)","v":""},{"$f":"IF(+ASISTENCIA!H157=\"\",\"\",ASISTENCIA!H157)","v":""},null,{"$f":"ASISTENCIA!AQ157","v":0},null,{"$f":"ASISTENCIA!AR157","v":0},{"$f":"ASISTENCIA!AS157","v":0},{"$f":"ASISTENCIA!AU157","v":0},null,{"$f":"ASISTENCIA!AV157","v":0},null,{"$f":"ASISTENCIA!AT157","v":0},null,{"$f":"ASISTENCIA!AW157","v":0},null,null,null,null,null,null,null,null,null,null,null,null,null,null,null,null,""]
[{"$f":"IF(+ASISTENCIA!A158=\"\",\"\",ASISTENCIA!A158)","v":""},null,null,{"$f":"IF(+ASISTENCIA!D158=\"\",\"\",ASISTENCIA!D158)","v":""},{"$f":"IF(+ASISTENCIA!E158=\"\",\"\",ASISTENCIA!E158)","v":""},{"$f":"IF(+ASISTENCIA!F158=\"\",\"\",ASISTENCIA!F158)","v":""},{"$f":"IF(+ASISTENCIA!G158=\"\",\"\",ASISTENCIA!G158)","v":""},{"$f":"IF(+ASISTENCIA!H158=\"\",\"\",ASISTENCIA!H158)","v":""},null,{"$f":"ASISTENCIA!AQ158","v":0},null,{"$f":"ASISTENCIA!AR158","v":0},{"$f":"ASISTENCIA!AS158","v":0},{"$f":"ASISTENCIA!AU158","v":0},null,{"$f":"ASISTENCIA!AV158","v":0},null,{"$f":"ASISTENCIA!AT158","v":0},null,{"$f":"ASISTENCIA!AW158","v":0},null,null,null,null,null,null,null,null,null,null,null,null,null,null,null,null,""]
[{"$f":"IF(+ASISTENCIA!A159=\"\",\"\",ASISTENCIA!A159)","v":""},null,null,{"$f":"IF(+ASISTENCIA!D159=\"\",\"\",ASISTENCIA!D159)","v":""},{"$f":"IF(+ASISTENCIA!E159=\"\",\"\",ASISTENCIA!E159)","v":""},{"$f":"IF(+ASISTENCIA!F159=\"\",\"\",ASISTENCIA!F159)","v":""},{"$f":"IF(+ASISTENCIA!G159=\"\",\"\",ASISTENCIA!G159)","v":""},{"$f":"IF(+ASISTENCIA!H159=\"\",\"\",ASISTENCIA!H159)","v":""},null,{"$f":"ASISTENCIA!AQ159","v":0},null,{"$f":"ASISTENCIA!AR159","v":0},{"$f":"ASISTENCIA!AS159","v":0},{"$f":"ASISTENCIA!AU159","v":0},null,{"$f":"ASISTENCIA!AV159","v":0},null,{"$f":"ASISTENCIA!AT159","v":0},null,{"$f":"ASISTENCIA!AW159","v":0},null,null,null,null,null,null,null,null,null,null,null,null,null,null,null,null,""]
[{"$f":"IF(+ASISTENCIA!A160=\"\",\"\",ASISTENCIA!A160)","v":""},null,null,{"$f":"IF(+ASISTENCIA!D160=\"\",\"\",ASISTENCIA!D160)","v":""},{"$f":"IF(+ASISTENCIA!E160=\"\",\"\",ASISTENCIA!E160)","v":""},{"$f":"IF(+ASISTENCIA!F160=\"\",\"\",ASISTENCIA!F160)","v":""},{"$f":"IF(+ASISTENCIA!G160=\"\",\"\",ASISTENCIA!G160)","v":""},{"$f":"IF(+ASISTENCIA!H160=\"\",\"\",ASISTENCIA!H160)","v":""},null,{"$f":"ASISTENCIA!AQ160","v":0},null,{"$f":"ASISTENCIA!AR160","v":0},{"$f":"ASISTENCIA!AS160","v":0},{"$f":"ASISTENCIA!AU160","v":0},null,{"$f":"ASISTENCIA!AV160","v":0},null,{"$f":"ASISTENCIA!AT160","v":0},null,{"$f":"ASISTENCIA!AW160","v":0},null,null,null,null,null,null,null,null,null,null,null,null,null,null,null,null,""]
[{"$f":"IF(+ASISTENCIA!A161=\"\",\"\",ASISTENCIA!A161)","v":""},null,null,{"$f":"IF(+ASISTENCIA!D161=\"\",\"\",ASISTENCIA!D161)","v":""},{"$f":"IF(+ASISTENCIA!E161=\"\",\"\",ASISTENCIA!E161)","v":""},{"$f":"IF(+ASISTENCIA!F161=\"\",\"\",ASISTENCIA!F161)","v":""},{"$f":"IF(+ASISTENCIA!G161=\"\",\"\",ASISTENCIA!G161)","v":""},{"$f":"IF(+ASISTENCIA!H161=\"\",\"\",ASISTENCIA!H161)","v":""},null,{"$f":"ASISTENCIA!AQ161","v":0},null,{"$f":"ASISTENCIA!AR161","v":0},{"$f":"ASISTENCIA!AS161","v":0},{"$f":"ASISTENCIA!AU161","v":0},null,{"$f":"ASISTENCIA!AV161","v":0},null,{"$f":"ASISTENCIA!AT161","v":0},null,{"$f":"ASISTENCIA!AW161","v":0},null,null,null,null,null,null,null,null,null,null,null,null,null,null,null,null,""]
[{"$f":"IF(+ASISTENCIA!A162=\"\",\"\",ASISTENCIA!A162)","v":""},null,null,{"$f":"IF(+ASISTENCIA!D162=\"\",\"\",ASISTENCIA!D162)","v":""},{"$f":"IF(+ASISTENCIA!E162=\"\",\"\",ASISTENCIA!E162)","v":""},{"$f":"IF(+ASISTENCIA!F162=\"\",\"\",ASISTENCIA!F162)","v":""},{"$f":"IF(+ASISTENCIA!G162=\"\",\"\",ASISTENCIA!G162)","v":""},{"$f":"IF(+ASISTENCIA!H162=\"\",\"\",ASISTENCIA!H162)","v":""},null,{"$f":"ASISTENCIA!AQ162","v":0},null,{"$f":"ASISTENCIA!AR162","v":0},{"$f":"ASISTENCIA!AS162","v":0},{"$f":"ASISTENCIA!AU162","v":0},null,{"$f":"ASISTENCIA!AV162","v":0},null,{"$f":"ASISTENCIA!AT162","v":0},null,{"$f":"ASISTENCIA!AW162","v":0},null,null,null,null,null,null,null,null,null,null,null,null,null,null,null,null,""]
[{"$f":"IF(+ASISTENCIA!A163=\"\",\"\",ASISTENCIA!A163)","v":""},{"$f":"IF(LEN(C162)>0,VLOOKUP($F$6,DATA!$A:$S,2,FALSE),\"\")","v":""},"",{"$f":"IF(+ASISTENCIA!D163=\"\",\"\",ASISTENCIA!D163)","v":""},{"$f":"IF(+ASISTENCIA!E163=\"\",\"\",ASISTENCIA!E163)","v":""},{"$f":"IF(+ASISTENCIA!F163=\"\",\"\",ASISTENCIA!F163)","v":""},{"$f":"IF(+ASISTENCIA!G163=\"\",\"\",ASISTENCIA!G163)","v":""},{"$f":"IF(+ASISTENCIA!H163=\"\",\"\",ASISTENCIA!H163)","v":""},null,{"$f":"ASISTENCIA!AQ163","v":0},null,{"$f":"ASISTENCIA!AR163","v":0},{"$f":"ASISTENCIA!AS163","v":0},{"$f":"ASISTENCIA!AU163","v":0},null,{"$f":"ASISTENCIA!AV163","v":0},null,{"$f":"ASISTENCIA!AT163","v":0},null,{"$f":"ASISTENCIA!AW163","v":0},null,null,null,null,null,null,null,null,null,null,null,null,null,null,null,null,""]
["(*)Hora y minuto cronológico."]
["(**)Solo considerar las inasistencias que no han sido justificadas."]
[null,null,null,null,null,null,null,null,null,null,null,null,null,null,null,null,null,null,null,null,null,null,null,null,null,null,null,null,null,null,null,null,null,null,null,null,null,"NOMBRADO (A)"]
[null,null,null,null,null,null,null,null,null,null,null,null,null,null,null,null,null,null,null,null,null,null,null,null,null,null,null,null,null,null,null,null,null,null,null,null,null,"CONTRATADO (A)"]
[null,null,null,null,null,null,null,null,null,null,null,null,null,null,null,null,null,null,null,null,null,null,null,null,null,null,null,null,null,null,null,null,null,null,null,null,null,"DESTACADO (A)"]
[]
[null,null,null,null,null,null,null,null,null,null,null,null,null,null,null,null,null,null,null,null,null,null,null,"               REPRESENTANTE DE CONEI",null,null,null,"EL CONEI"]

{"sheet":"Norma","index":3,"n_rows":0,"n_cols":0,"rows_kept":0,"cut":false,"hidden":false,"merged":[]}

{"sheet":"HORAS EFECTIVAS","index":4,"n_rows":54,"n_cols":81,"rows_kept":54,"cut":false,"hidden":true,"merged":[[7,61,7,62],[52,68,52,77],[53,68,53,77],[7,26,7,27],[10,2,11,2],[52,33,52,42],[53,33,53,42],[9,11,12,11],[9,12,12,12],[9,13,12,13]]}
[null,null,null,null,null,null,null,null,null,null,null,null,"FORMATO 02"]
[null,null,null,null,"INFORME DE HORAS EFECTIVAS DE TRABAJO PEDAGÓGICO EN LAS INSTITUCIONES EDUCATIVAS PÚBLICAS"]
[null,null,null,null,null,null,null,"UNIDAD DE GESTIÓN EDUCATIVA LOCAL  HUANTA"]
[null,null,null,null,{"$f":"ASISTENCIA!#REF!","v":{"$error":"#REF!"}},null,null,null,null,null,null,null,null,null,{"$f":"ASISTENCIA!$F$6","v":"70358 DE CONCAHUI"},null,null,null,null,null,null,null,null,null,null,null,null,null,null,null,null,null,null,null,null,null,null,null,null,null,null,null,null,null,null,null,null,null,null,{"$f":"ASISTENCIA!$F$6","v":"70358 DE CONCAHUI"}]
[]
["LUGAR/DIREC.",null,null,{"$f":"CONCATENATE(VLOOKUP($O$4,DATA!$A$1:$S$1,6,FALSE))","v":{"$error":"#N/A"}},null,null,null,null,null,null,null,null,null,null,null,"REG/PROV/DIST.",null,null,null,null,null,null,null,{"$f":"VLOOKUP($O$4,DATA!$A$1:$S$1,9,FALSE)","v":{"$error":"#N/A"}},null,null,null,null,null,null,null,null,null,null,null,null,null,null,null,null,null,null,null,null,null,null,null,null,null,null,"REG/PROV/DIST.",null,null,null,null,null,null,null,{"$f":"VLOOKUP($O$4,DATA!$A$1:$S$1,9,FALSE)","v":{"$error":"#N/A"}}]
[]
[null,null,null,"NIVEL EDUCATIVO:",{"$f":"VLOOKUP($O$4,DATA!$A$1:$S$1,4,FALSE)","v":{"$error":"#N/A"}},null,null,null,null,null,"MODALIDAD:",null,null,{"$f":"ASISTENCIA!$F$8","v":"0306019"},null,null,null,null,null,null,null,null,null,null,"AÑO:",null,{"$f":"ASISTENCIA!S5","v":2024},null,null,null,null,null,"MES:",null,null,{"$f":"ASISTENCIA!G5","v":"JULIO"},null,null,null,null,null,null,null,null,null,null,null,null,null,null,null,null,null,null,null,null,null,null,null,"AÑO:",null,{"$f":"ASISTENCIA!S5","v":2024},null,null,null,null,null,"MES:",null,null,{"$f":"AJ8","v":"JULIO"}]
[]
[null,"COD.",null,null,null,"Matriz Horas",null,null,null,null,"JOR","EDAD A CARGO","SECCIÓN","HORAS PROGRAM. EN EL MES",null,null,null,null,"HORAS EFECTIVAS DE TRABAJO ESCOLAR - MES",null,null,null,null,null,null,null,null,null,null,null,null,null,null,null,null,null,null,null,null,null,null,null,null,null,null,"TOTAL DE ",null,null,null,null,null,null,null,"HORAS EFECTIVAS DE TRABAJO ESCOLAR - MES",null,null,null,null,null,null,null,null,null,null,null,null,null,null,null,null,null,null,null,null,null,null,null,null,null,null,"TOTAL DE "]
["N°","MOD.","MES","APELLIDOS Y NOMRES","DNI","     Semanal",null,null,null,null,"NADA",null,null,null,null,null,null,null,null,"DIAS EFECTIVAS DE TRABAJO ESCOLAR",null,null,null,null,null,null,null,null,null,null,null,null,null,null,null,null,null,null,null,null,null,null,null,null,null,"HORAS ",null,null,null,null,null,null,null,null,"DIAS EFECTIVAS DE TRABAJO ESCOLAR",null,null,null,null,null,null,null,null,null,null,null,null,null,null,null,null,null,null,null,null,null,null,null,null,null,"HORAS "]
[null,null,null,null,null,null,null,null,null,null,"LABO",null,null,null,1,2,3,4,5,6,7,8,9,10,11,12,13,14,15,16,17,18,19,20,21,22,23,24,25,26,27,28,29,30,31,"EFECTIVAS ",null,null,null,1,2,3,4,5,6,7,8,9,10,11,12,13,14,15,16,17,18,19,20,21,22,23,24,25,26,27,28,29,30,31,"EFECTIVAS "]
[null,null,null,null,null,"lu.","ma.","mi.","ju.","vi.","RAL",null,null,null,{"$f":"ASISTENCIA!I$12","v":"lu."},{"$f":"ASISTENCIA!J$12","v":"ma."},{"$f":"ASISTENCIA!K$12","v":"mi."},{"$f":"ASISTENCIA!L$12","v":"ju."},{"$f":"ASISTENCIA!M$12","v":"vi."},{"$f":"ASISTENCIA!N$12","v":"sá."},{"$f":"ASISTENCIA!O$12","v":"do."},{"$f":"ASISTENCIA!P$12","v":"lu."},{"$f":"ASISTENCIA!Q$12","v":"ma."},{"$f":"ASISTENCIA!R$12","v":"mi."},{"$f":"ASISTENCIA!S$12","v":"ma"},{"$f":"ASISTENCIA!T$12","v":"vi."},{"$f":"ASISTENCIA!U$12","v":"sá."},{"$f":"ASISTENCIA!V$12","v":"do."},{"$f":"ASISTENCIA!W$12","v":"lu."},{"$f":"ASISTENCIA!X$12","v":"ma."},{"$f":"ASISTENCIA!Y$12","v":"mi."},{"$f":"ASISTENCIA!Z$12","v":"ju."},{"$f":"ASISTENCIA!AA$12","v":"vi."},{"$f":"ASISTENCIA!AB$12","v":"sá."},{"$f":"ASISTENCIA!AC$12","v":"do."},{"$f":"ASISTENCIA!AD$12","v":"lu."},{"$f":"ASISTENCIA!AE$12","v":"ma."},{"$f":"ASISTENCIA!AF$12","v":"mi."},{"$f":"ASISTENCIA!AG$12","v":"ju."},{"$f":"ASISTENCIA!AH$12","v":"vi."},{"$f":"ASISTENCIA!AI$12","v":"sá."},{"$f":"ASISTENCIA!AJ$12","v":"do."},{"$f":"ASISTENCIA!AK$12","v":"lu."},{"$f":"ASISTENCIA!AL$12","v":"ma."},{"$f":"ASISTENCIA!AM$12","v":"mi."},"MENSUAL ",null,null,null,{"$f":"ASISTENCIA!I$12","v":"lu."},{"$f":"ASISTENCIA!J$12","v":"ma."},{"$f":"ASISTENCIA!K$12","v":"mi."},{"$f":"ASISTENCIA!L$12","v":"ju."},{"$f":"ASISTENCIA!M$12","v":"vi."},{"$f":"ASISTENCIA!N$12","v":"sá."},{"$f":"ASISTENCIA!O$12","v":"do."},{"$f":"ASISTENCIA!P$12","v":"lu."},{"$f":"ASISTENCIA!Q$12","v":"ma."},{"$f":"ASISTENCIA!R$12","v":"mi."},{"$f":"ASISTENCIA!S$12","v":"ma"},{"$f":"ASISTENCIA!T$12","v":"vi."},{"$f":"ASISTENCIA!U$12","v":"sá."},{"$f":"ASISTENCIA!V$12","v":"do."},{"$f":"ASISTENCIA!W$12","v":"lu."},{"$f":"ASISTENCIA!X$12","v":"ma."},{"$f":"ASISTENCIA!Y$12","v":"mi."},{"$f":"ASISTENCIA!Z$12","v":"ju."},{"$f":"ASISTENCIA!AA$12","v":"vi."},{"$f":"ASISTENCIA!AB$12","v":"sá."},{"$f":"ASISTENCIA!AC$12","v":"do."},{"$f":"ASISTENCIA!AD$12","v":"lu."},{"$f":"ASISTENCIA!AE$12","v":"ma."},{"$f":"ASISTENCIA!AF$12","v":"mi."},{"$f":"ASISTENCIA!AG$12","v":"ju."},{"$f":"ASISTENCIA!AH$12","v":"vi."},{"$f":"ASISTENCIA!AI$12","v":"sá."},{"$f":"ASISTENCIA!AJ$12","v":"do."},{"$f":"ASISTENCIA!AK$12","v":"lu."},{"$f":"ASISTENCIA!AL$12","v":"ma."},{"$f":"ASISTENCIA!AM$12","v":"mi."},"MENSUAL "]
[null,{"$f":"IF(LEN(C14)>0,VLOOKUP($O$4,DATA!$A$1:$S$1,2,FALSE),\"\")","v":""},{"$f":"IF(LEN(D14)>0,$AJ$8,\"\")","v":""},{"$f":"IF(LEN(ASISTENCIA!E13)>0,ASISTENCIA!E13,\"\")","v":""},{"$f":"IF(LEN(D14)>0,ASISTENCIA!F13,\"\")","v":""},null,null,null,null,null,{"$f":"IF(SUM(F14:J14)>0,SUM(F14:J14),\"\")","v":""},null,null,{"$f":"CC14","v":{"$error":"#REF!"}},{"$f":"IF(AND(LEN($D14)>0,SUMIF($F$13:$J$13,O$13,$F14:$J14)>0,ASISTENCIA!I13<>\"X\",ASISTENCIA!I13<>\"L\",ASISTENCIA!I13<>\"J\",ASISTENCIA!I13<>\"V\",ASISTENCIA!I13<>\"F\",ASISTENCIA!I13<>\"\"),SUMIF($F$13:$J$13,O$13,$F14:$J14),\"\")","v":""},{"$f":"IF(AND(LEN($D14)>0,SUMIF($F$13:$J$13,P$13,$F14:$J14)>0,ASISTENCIA!J13<>\"X\",ASISTENCIA!J13<>\"L\",ASISTENCIA!J13<>\"J\",ASISTENCIA!J13<>\"V\",ASISTENCIA!J13<>\"F\",ASISTENCIA!J13<>\"\"),SUMIF($F$13:$J$13,P$13,$F14:$J14),\"\")","v":""},{"$f":"IF(AND(LEN($D14)>0,SUMIF($F$13:$J$13,Q$13,$F14:$J14)>0,ASISTENCIA!K13<>\"X\",ASISTENCIA!K13<>\"L\",ASISTENCIA!K13<>\"J\",ASISTENCIA!K13<>\"V\",ASISTENCIA!K13<>\"F\",ASISTENCIA!K13<>\"\"),SUMIF($F$13:$J$13,Q$13,$F14:$J14),\"\")","v":""},{"$f":"IF(AND(LEN($D14)>0,SUMIF($F$13:$J$13,R$13,$F14:$J14)>0,ASISTENCIA!L13<>\"X\",ASISTENCIA!L13<>\"L\",ASISTENCIA!L13<>\"J\",ASISTENCIA!L13<>\"V\",ASISTENCIA!L13<>\"F\",ASISTENCIA!L13<>\"\"),SUMIF($F$13:$J$13,R$13,$F14:$J14),\"\")","v":""},{"$f":"IF(AND(LEN($D14)>0,SUMIF($F$13:$J$13,S$13,$F14:$J14)>0,ASISTENCIA!M13<>\"X\",ASISTENCIA!M13<>\"L\",ASISTENCIA!M13<>\"J\",ASISTENCIA!M13<>\"V\",ASISTENCIA!M13<>\"F\",ASISTENCIA!M13<>\"\"),SUMIF($F$13:$J$13,S$13,$F14:$J14),\"\")","v":""},{"$f":"IF(AND(LEN($D14)>0,SUMIF($F$13:$J$13,T$13,$F14:$J14)>0,ASISTENCIA!N13<>\"X\",ASISTENCIA!N13<>\"L\",ASISTENCIA!N13<>\"J\",ASISTENCIA!N13<>\"V\",ASISTENCIA!N13<>\"F\",ASISTENCIA!N13<>\"\"),SUMIF($F$13:$J$13,T$13,$F14:$J14),\"\")","v":""},{"$f":"IF(AND(LEN($D14)>0,SUMIF($F$13:$J$13,U$13,$F14:$J14)>0,ASISTENCIA!O13<>\"X\",ASISTENCIA!O13<>\"L\",ASISTENCIA!O13<>\"J\",ASISTENCIA!O13<>\"V\",ASISTENCIA!O13<>\"F\",ASISTENCIA!O13<>\"\"),SUMIF($F$13:$J$13,U$13,$F14:$J14),\"\")","v":""},{"$f":"IF(AND(LEN($D14)>0,SUMIF($F$13:$J$13,V$13,$F14:$J14)>0,ASISTENCIA!P13<>\"X\",ASISTENCIA!P13<>\"L\",ASISTENCIA!P13<>\"J\",ASISTENCIA!P13<>\"V\",ASISTENCIA!P13<>\"F\",ASISTENCIA!P13<>\"\"),SUMIF($F$13:$J$13,V$13,$F14:$J14),\"\")","v":""},{"$f":"IF(AND(LEN($D14)>0,SUMIF($F$13:$J$13,W$13,$F14:$J14)>0,ASISTENCIA!Q13<>\"X\",ASISTENCIA!Q13<>\"L\",ASISTENCIA!Q13<>\"J\",ASISTENCIA!Q13<>\"V\",ASISTENCIA!Q13<>\"F\",ASISTENCIA!Q13<>\"\"),SUMIF($F$13:$J$13,W$13,$F14:$J14),\"\")","v":""},{"$f":"IF(AND(LEN($D14)>0,SUMIF($F$13:$J$13,X$13,$F14:$J14)>0,ASISTENCIA!R13<>\"X\",ASISTENCIA!R13<>\"L\",ASISTENCIA!R13<>\"J\",ASISTENCIA!R13<>\"V\",ASISTENCIA!R13<>\"F\",ASISTENCIA!R13<>\"\"),SUMIF($F$13:$J$13,X$13,$F14:$J14),\"\")","v":""},{"$f":"IF(AND(LEN($D14)>0,SUMIF($F$13:$J$13,Y$13,$F14:$J14)>0,ASISTENCIA!S13<>\"X\",ASISTENCIA!S13<>\"L\",ASISTENCIA!S13<>\"J\",ASISTENCIA!S13<>\"V\",ASISTENCIA!S13<>\"F\",ASISTENCIA!S13<>\"\"),SUMIF($F$13:$J$13,Y$13,$F14:$J14),\"\")","v":""},{"$f":"IF(AND(LEN($D14)>0,SUMIF($F$13:$J$13,Z$13,$F14:$J14)>0,ASISTENCIA!T13<>\"X\",ASISTENCIA!T13<>\"L\",ASISTENCIA!T13<>\"J\",ASISTENCIA!T13<>\"V\",ASISTENCIA!T13<>\"F\",ASISTENCIA!T13<>\"\"),SUMIF($F$13:$J$13,Z$13,$F14:$J14),\"\")","v":""},{"$f":"IF(AND(LEN($D14)>0,SUMIF($F$13:$J$13,AA$13,$F14:$J14)>0,ASISTENCIA!U13<>\"X\",ASISTENCIA!U13<>\"L\",ASISTENCIA!U13<>\"J\",ASISTENCIA!U13<>\"V\",ASISTENCIA!U13<>\"F\",ASISTENCIA!U13<>\"\"),SUMIF($F$13:$J$13,AA$13,$F14:$J14),\"\")","v":""},{"$f":"IF(AND(LEN($D14)>0,SUMIF($F$13:$J$13,AB$13,$F14:$J14)>0,ASISTENCIA!V13<>\"X\",ASISTENCIA!V13<>\"L\",ASISTENCIA!V13<>\"J\",ASISTENCIA!V13<>\"V\",ASISTENCIA!V13<>\"F\",ASISTENCIA!V13<>\"\"),SUMIF($F$13:$J$13,AB$13,$F14:$J14),\"\")","v":""},{"$f":"IF(AND(LEN($D14)>0,SUMIF($F$13:$J$13,AC$13,$F14:$J14)>0,ASISTENCIA!W13<>\"X\",ASISTENCIA!W13<>\"L\",ASISTENCIA!W13<>\"J\",ASISTENCIA!W13<>\"V\",ASISTENCIA!W13<>\"F\",ASISTENCIA!W13<>\"\"),SUMIF($F$13:$J$13,AC$13,$F14:$J14),\"\")","v":""},{"$f":"IF(AND(LEN($D14)>0,SUMIF($F$13:$J$13,AD$13,$F14:$J14)>0,ASISTENCIA!X13<>\"X\",ASISTENCIA!X13<>\"L\",ASISTENCIA!X13<>\"J\",ASISTENCIA!X13<>\"V\",ASISTENCIA!X13<>\"F\",ASISTENCIA!X13<>\"\"),SUMIF($F$13:$J$13,AD$13,$F14:$J14),\"\")","v":""},{"$f":"IF(AND(LEN($D14)>0,SUMIF($F$13:$J$13,AE$13,$F14:$J14)>0,ASISTENCIA!Y13<>\"X\",ASISTENCIA!Y13<>\"L\",ASISTENCIA!Y13<>\"J\",ASISTENCIA!Y13<>\"V\",ASISTENCIA!Y13<>\"F\",ASISTENCIA!Y13<>\"\"),SUMIF($F$13:$J$13,AE$13,$F14:$J14),\"\")","v":""},{"$f":"IF(AND(LEN($D14)>0,SUMIF($F$13:$J$13,AF$13,$F14:$J14)>0,ASISTENCIA!Z13<>\"X\",ASISTENCIA!Z13<>\"L\",ASISTENCIA!Z13<>\"J\",ASISTENCIA!Z13<>\"V\",ASISTENCIA!Z13<>\"F\",ASISTENCIA!Z13<>\"\"),SUMIF($F$13:$J$13,AF$13,$F14:$J14),\"\")","v":""},{"$f":"IF(AND(LEN($D14)>0,SUMIF($F$13:$J$13,AG$13,$F14:$J14)>0,ASISTENCIA!AA13<>\"X\",ASISTENCIA!AA13<>\"L\",ASISTENCIA!AA13<>\"J\",ASISTENCIA!AA13<>\"V\",ASISTENCIA!AA13<>\"F\",ASISTENCIA!AA13<>\"\"),SUMIF($F$13:$J$13,AG$13,$F14:$J14),\"\")","v":""},{"$f":"IF(AND(LEN($D14)>0,SUMIF($F$13:$J$13,AH$13,$F14:$J14)>0,ASISTENCIA!AB13<>\"X\",ASISTENCIA!AB13<>\"L\",ASISTENCIA!AB13<>\"J\",ASISTENCIA!AB13<>\"V\",ASISTENCIA!AB13<>\"F\",ASISTENCIA!AB13<>\"\"),SUMIF($F$13:$J$13,AH$13,$F14:$J14),\"\")","v":""},{"$f":"IF(AND(LEN($D14)>0,SUMIF($F$13:$J$13,AI$13,$F14:$J14)>0,ASISTENCIA!AC13<>\"X\",ASISTENCIA!AC13<>\"L\",ASISTENCIA!AC13<>\"J\",ASISTENCIA!AC13<>\"V\",ASISTENCIA!AC13<>\"F\",ASISTENCIA!AC13<>\"\"),SUMIF($F$13:$J$13,AI$13,$F14:$J14),\"\")","v":""},{"$f":"IF(AND(LEN($D14)>0,SUMIF($F$13:$J$13,AJ$13,$F14:$J14)>0,ASISTENCIA!AD13<>\"X\",ASISTENCIA!AD13<>\"L\",ASISTENCIA!AD13<>\"J\",ASISTENCIA!AD13<>\"V\",ASISTENCIA!AD13<>\"F\",ASISTENCIA!AD13<>\"\"),SUMIF($F$13:$J$13,AJ$13,$F14:$J14),\"\")","v":""},{"$f":"IF(AND(LEN($D14)>0,SUMIF($F$13:$J$13,AK$13,$F14:$J14)>0,ASISTENCIA!AE13<>\"X\",ASISTENCIA!AE13<>\"L\",ASISTENCIA!AE13<>\"J\",ASISTENCIA!AE13<>\"V\",ASISTENCIA!AE13<>\"F\",ASISTENCIA!AE13<>\"\"),SUMIF($F$13:$J$13,AK$13,$F14:$J14),\"\")","v":""},{"$f":"IF(AND(LEN($D14)>0,SUMIF($F$13:$J$13,AL$13,$F14:$J14)>0,ASISTENCIA!AF13<>\"X\",ASISTENCIA!AF13<>\"L\",ASISTENCIA!AF13<>\"J\",ASISTENCIA!AF13<>\"V\",ASISTENCIA!AF13<>\"F\",ASISTENCIA!AF13<>\"\"),SUMIF($F$13:$J$13,AL$13,$F14:$J14),\"\")","v":""},{"$f":"IF(AND(LEN($D14)>0,SUMIF($F$13:$J$13,AM$13,$F14:$J14)>0,ASISTENCIA!AG13<>\"X\",ASISTENCIA!AG13<>\"L\",ASISTENCIA!AG13<>\"J\",ASISTENCIA!AG13<>\"V\",ASISTENCIA!AG13<>\"F\",ASISTENCIA!AG13<>\"\"),SUMIF($F$13:$J$13,AM$13,$F14:$J14),\"\")","v":""},{"$f":"IF(AND(LEN($D14)>0,SUMIF($F$13:$J$13,AN$13,$F14:$J14)>0,ASISTENCIA!AH13<>\"X\",ASISTENCIA!AH13<>\"L\",ASISTENCIA!AH13<>\"J\",ASISTENCIA!AH13<>\"V\",ASISTENCIA!AH13<>\"F\",ASISTENCIA!AH13<>\"\"),SUMIF($F$13:$J$13,AN$13,$F14:$J14),\"\")","v":""},{"$f":"IF(AND(LEN($D14)>0,SUMIF($F$13:$J$13,AO$13,$F14:$J14)>0,ASISTENCIA!AI13<>\"X\",ASISTENCIA!AI13<>\"L\",ASISTENCIA!AI13<>\"J\",ASISTENCIA!AI13<>\"V\",ASISTENCIA!AI13<>\"F\",ASISTENCIA!AI13<>\"\"),SUMIF($F$13:$J$13,AO$13,$F14:$J14),\"\")","v":""},{"$f":"IF(AND(LEN($D14)>0,SUMIF($F$13:$J$13,AP$13,$F14:$J14)>0,ASISTENCIA!AJ13<>\"X\",ASISTENCIA!AJ13<>\"L\",ASISTENCIA!AJ13<>\"J\",ASISTENCIA!AJ13<>\"V\",ASISTENCIA!AJ13<>\"F\",ASISTENCIA!AJ13<>\"\"),SUMIF($F$13:$J$13,AP$13,$F14:$J14),\"\")","v":""},{"$f":"IF(AND(LEN($D14)>0,SUMIF($F$13:$J$13,AQ$13,$F14:$J14)>0,ASISTENCIA!AK13<>\"X\",ASISTENCIA!AK13<>\"L\",ASISTENCIA!AK13<>\"J\",ASISTENCIA!AK13<>\"V\",ASISTENCIA!AK13<>\"F\",ASISTENCIA!AK13<>\"\"),SUMIF($F$13:$J$13,AQ$13,$F14:$J14),\"\")","v":""},{"$f":"IF(AND(LEN($D14)>0,SUMIF($F$13:$J$13,AR$13,$F14:$J14)>0,ASISTENCIA!AL13<>\"X\",ASISTENCIA!AL13<>\"L\",ASISTENCIA!AL13<>\"J\",ASISTENCIA!AL13<>\"V\",ASISTENCIA!AL13<>\"F\",ASISTENCIA!AL13<>\"\"),SUMIF($F$13:$J$13,AR$13,$F14:$J14),\"\")","v":""},{"$f":"IF(AND(LEN($D14)>0,SUMIF($F$13:$J$13,AS$13,$F14:$J14)>0,ASISTENCIA!AM13<>\"X\",ASISTENCIA!AM13<>\"L\",ASISTENCIA!AM13<>\"J\",ASISTENCIA!AM13<>\"V\",ASISTENCIA!AM13<>\"F\",ASISTENCIA!AM13<>\"\"),SUMIF($F$13:$J$13,AS$13,$F14:$J14),\"\")","v":""},{"$f":"IF(SUM(O14:AS14)>0,SUM(O14:AS14),\"\")","v":""},null,null,null,{"$f":"IF(AND(LEN($D14)>0,SUMIF($F$13:$J$13,AX$13,$F14:$J14)>0,ASISTENCIA!AU13<>\"X\",ASISTENCIA!AU13<>\"L\",ASISTENCIA!AU13<>\"J\",ASISTENCIA!AU13<>\"F\"),SUMIF($F$13:$J$13,AX$13,$F14:$J14),\"\")","v":""},{"$f":"IF(AND(LEN($D14)>0,SUMIF($F$13:$J$13,AY$13,$F14:$J14)>0,ASISTENCIA!#REF!<>\"X\",ASISTENCIA!#REF!<>\"L\",ASISTENCIA!#REF!<>\"J\",ASISTENCIA!#REF!<>\"F\"),SUMIF($F$13:$J$13,AY$13,$F14:$J14),\"\")","v":{"$error":"#REF!"}},{"$f":"IF(AND(LEN($D14)>0,SUMIF($F$13:$J$13,AZ$13,$F14:$J14)>0,ASISTENCIA!BF13<>\"X\",ASISTENCIA!BF13<>\"L\",ASISTENCIA!BF13<>\"J\",ASISTENCIA!BF13<>\"F\"),SUMIF($F$13:$J$13,AZ$13,$F14:$J14),\"\")","v":""},{"$f":"IF(AND(LEN($D14)>0,SUMIF($F$13:$J$13,BA$13,$F14:$J14)>0,ASISTENCIA!BG13<>\"X\",ASISTENCIA!BG13<>\"L\",ASISTENCIA!BG13<>\"J\",ASISTENCIA!BG13<>\"F\"),SUMIF($F$13:$J$13,BA$13,$F14:$J14),\"\")","v":""},{"$f":"IF(AND(LEN($D14)>0,SUMIF($F$13:$J$13,BB$13,$F14:$J14)>0,ASISTENCIA!BH13<>\"X\",ASISTENCIA!BH13<>\"L\",ASISTENCIA!BH13<>\"J\",ASISTENCIA!BH13<>\"F\"),SUMIF($F$13:$J$13,BB$13,$F14:$J14),\"\")","v":""},{"$f":"IF(AND(LEN($D14)>0,SUMIF($F$13:$J$13,BC$13,$F14:$J14)>0,ASISTENCIA!AZ13<>\"X\",ASISTENCIA!AZ13<>\"L\",ASISTENCIA!AZ13<>\"J\",ASISTENCIA!AZ13<>\"F\"),SUMIF($F$13:$J$13,BC$13,$F14:$J14),\"\")","v":""},{"$f":"IF(AND(LEN($D14)>0,SUMIF($F$13:$J$13,BD$13,$F14:$J14)>0,ASISTENCIA!BA13<>\"X\",ASISTENCIA!BA13<>\"L\",ASISTENCIA!BA13<>\"J\",ASISTENCIA!BA13<>\"F\"),SUMIF($F$13:$J$13,BD$13,$F14:$J14),\"\")","v":""},{"$f":"IF(AND(LEN($D14)>0,SUMIF($F$13:$J$13,BE$13,$F14:$J14)>0,ASISTENCIA!BB13<>\"X\",ASISTENCIA!BB13<>\"L\",ASISTENCIA!BB13<>\"J\",ASISTENCIA!BB13<>\"F\"),SUMIF($F$13:$J$13,BE$13,$F14:$J14),\"\")","v":""},{"$f":"IF(AND(LEN($D14)>0,SUMIF($F$13:$J$13,BF$13,$F14:$J14)>0,ASISTENCIA!BC13<>\"X\",ASISTENCIA!BC13<>\"L\",ASISTENCIA!BC13<>\"J\",ASISTENCIA!BC13<>\"F\"),SUMIF($F$13:$J$13,BF$13,$F14:$J14),\"\")","v":""},{"$f":"IF(AND(LEN($D14)>0,SUMIF($F$13:$J$13,BG$13,$F14:$J14)>0,ASISTENCIA!BD13<>\"X\",ASISTENCIA!BD13<>\"L\",ASISTENCIA!BD13<>\"J\",ASISTENCIA!BD13<>\"F\"),SUMIF($F$13:$J$13,BG$13,$F14:$J14),\"\")","v":""},{"$f":"IF(AND(LEN($D14)>0,SUMIF($F$13:$J$13,BH$13,$F14:$J14)>0,ASISTENCIA!#REF!<>\"X\",ASISTENCIA!#REF!<>\"L\",ASISTENCIA!#REF!<>\"J\",ASISTENCIA!#REF!<>\"F\"),SUMIF($F$13:$J$13,BH$13,$F14:$J14),\"\")","v":{"$error":"#REF!"}},{"$f":"IF(AND(LEN($D14)>0,SUMIF($F$13:$J$13,BI$13,$F14:$J14)>0,ASISTENCIA!#REF!<>\"X\",ASISTENCIA!#REF!<>\"L\",ASISTENCIA!#REF!<>\"J\",ASISTENCIA!#REF!<>\"F\"),SUMIF($F$13:$J$13,BI$13,$F14:$J14),\"\")","v":{"$error":"#REF!"}},{"$f":"IF(AND(LEN($D14)>0,SUMIF($F$13:$J$13,BJ$13,$F14:$J14)>0,ASISTENCIA!#REF!<>\"X\",ASISTENCIA!#REF!<>\"L\",ASISTENCIA!#REF!<>\"J\",ASISTENCIA!#REF!<>\"F\"),SUMIF($F$13:$J$13,BJ$13,$F14:$J14),\"\")","v":{"$error":"#REF!"}},{"$f":"IF(AND(LEN($D14)>0,SUMIF($F$13:$J$13,BK$13,$F14:$J14)>0,ASISTENCIA!#REF!<>\"X\",ASISTENCIA!#REF!<>\"L\",ASISTENCIA!#REF!<>\"J\",ASISTENCIA!#REF!<>\"F\"),SUMIF($F$13:$J$13,BK$13,$F14:$J14),\"\")","v":{"$error":"#REF!"}},{"$f":"IF(AND(LEN($D14)>0,SUMIF($F$13:$J$13,BL$13,$F14:$J14)>0,ASISTENCIA!BI13<>\"X\",ASISTENCIA!BI13<>\"L\",ASISTENCIA!BI13<>\"J\",ASISTENCIA!BI13<>\"F\"),SUMIF($F$13:$J$13,BL$13,$F14:$J14),\"\")","v":""},{"$f":"IF(AND(LEN($D14)>0,SUMIF($F$13:$J$13,BM$13,$F14:$J14)>0,ASISTENCIA!BJ13<>\"X\",ASISTENCIA!BJ13<>\"L\",ASISTENCIA!BJ13<>\"J\",ASISTENCIA!BJ13<>\"F\"),SUMIF($F$13:$J$13,BM$13,$F14:$J14),\"\")","v":""},{"$f":"IF(AND(LEN($D14)>0,SUMIF($F$13:$J$13,BN$13,$F14:$J14)>0,ASISTENCIA!BK13<>\"X\",ASISTENCIA!BK13<>\"L\",ASISTENCIA!BK13<>\"J\",ASISTENCIA!BK13<>\"F\"),SUMIF($F$13:$J$13,BN$13,$F14:$J14),\"\")","v":""},{"$f":"IF(AND(LEN($D14)>0,SUMIF($F$13:$J$13,BO$13,$F14:$J14)>0,ASISTENCIA!BL13<>\"X\",ASISTENCIA!BL13<>\"L\",ASISTENCIA!BL13<>\"J\",ASISTENCIA!BL13<>\"F\"),SUMIF($F$13:$J$13,BO$13,$F14:$J14),\"\")","v":""},{"$f":"IF(AND(LEN($D14)>0,SUMIF($F$13:$J$13,BP$13,$F14:$J14)>0,ASISTENCIA!BM13<>\"X\",ASISTENCIA!BM13<>\"L\",ASISTENCIA!BM13<>\"J\",ASISTENCIA!BM13<>\"F\"),SUMIF($F$13:$J$13,BP$13,$F14:$J14),\"\")","v":""},{"$f":"IF(AND(LEN($D14)>0,SUMIF($F$13:$J$13,BQ$13,$F14:$J14)>0,ASISTENCIA!BN13<>\"X\",ASISTENCIA!BN13<>\"L\",ASISTENCIA!BN13<>\"J\",ASISTENCIA!BN13<>\"F\"),SUMIF($F$13:$J$13,BQ$13,$F14:$J14),\"\")","v":""},{"$f":"IF(AND(LEN($D14)>0,SUMIF($F$13:$J$13,BR$13,$F14:$J14)>0,ASISTENCIA!BO13<>\"X\",ASISTENCIA!BO13<>\"L\",ASISTENCIA!BO13<>\"J\",ASISTENCIA!BO13<>\"F\"),SUMIF($F$13:$J$13,BR$13,$F14:$J14),\"\")","v":""},{"$f":"IF(AND(LEN($D14)>0,SUMIF($F$13:$J$13,BS$13,$F14:$J14)>0,ASISTENCIA!BP13<>\"X\",ASISTENCIA!BP13<>\"L\",ASISTENCIA!BP13<>\"J\",ASISTENCIA!BP13<>\"F\"),SUMIF($F$13:$J$13,BS$13,$F14:$J14),\"\")","v":""},{"$f":"IF(AND(LEN($D14)>0,SUMIF($F$13:$J$13,BT$13,$F14:$J14)>0,ASISTENCIA!BQ13<>\"X\",ASISTENCIA!BQ13<>\"L\",ASISTENCIA!BQ13<>\"J\",ASISTENCIA!BQ13<>\"F\"),SUMIF($F$13:$J$13,BT$13,$F14:$J14),\"\")","v":""},{"$f":"IF(AND(LEN($D14)>0,SUMIF($F$13:$J$13,BU$13,$F14:$J14)>0,ASISTENCIA!BR13<>\"X\",ASISTENCIA!BR13<>\"L\",ASISTENCIA!BR13<>\"J\",ASISTENCIA!BR13<>\"F\"),SUMIF($F$13:$J$13,BU$13,$F14:$J14),\"\")","v":""},{"$f":"IF(AND(LEN($D14)>0,SUMIF($F$13:$J$13,BV$13,$F14:$J14)>0,ASISTENCIA!BS13<>\"X\",ASISTENCIA!BS13<>\"L\",ASISTENCIA!BS13<>\"J\",ASISTENCIA!BS13<>\"F\"),SUMIF($F$13:$J$13,BV$13,$F14:$J14),\"\")","v":""},{"$f":"IF(AND(LEN($D14)>0,SUMIF($F$13:$J$13,BW$13,$F14:$J14)>0,ASISTENCIA!BT13<>\"X\",ASISTENCIA!BT13<>\"L\",ASISTENCIA!BT13<>\"J\",ASISTENCIA!BT13<>\"F\"),SUMIF($F$13:$J$13,BW$13,$F14:$J14),\"\")","v":""},{"$f":"IF(AND(LEN($D14)>0,SUMIF($F$13:$J$13,BX$13,$F14:$J14)>0,ASISTENCIA!BU13<>\"X\",ASISTENCIA!BU13<>\"L\",ASISTENCIA!BU13<>\"J\",ASISTENCIA!BU13<>\"F\"),SUMIF($F$13:$J$13,BX$13,$F14:$J14),\"\")","v":""},{"$f":"IF(AND(LEN($D14)>0,SUMIF($F$13:$J$13,BY$13,$F14:$J14)>0,ASISTENCIA!BV13<>\"X\",ASISTENCIA!BV13<>\"L\",ASISTENCIA!BV13<>\"J\",ASISTENCIA!BV13<>\"F\"),SUMIF($F$13:$J$13,BY$13,$F14:$J14),\"\")","v":""},{"$f":"IF(AND(LEN($D14)>0,SUMIF($F$13:$J$13,BZ$13,$F14:$J14)>0,ASISTENCIA!BW13<>\"X\",ASISTENCIA!BW13<>\"L\",ASISTENCIA!BW13<>\"J\",ASISTENCIA!BW13<>\"F\"),SUMIF($F$13:$J$13,BZ$13,$F14:$J14),\"\")","v":""},{"$f":"IF(AND(LEN($D14)>0,SUMIF($F$13:$J$13,CA$13,$F14:$J14)>0,ASISTENCIA!BX13<>\"X\",ASISTENCIA!BX13<>\"L\",ASISTENCIA!BX13<>\"J\",ASISTENCIA!BX13<>\"F\"),SUMIF($F$13:$J$13,CA$13,$F14:$J14),\"\")","v":""},{"$f":"IF(AND(LEN($D14)>0,SUMIF($F$13:$J$13,CB$13,$F14:$J14)>0,ASISTENCIA!BY13<>\"X\",ASISTENCIA!BY13<>\"L\",ASISTENCIA!BY13<>\"J\",ASISTENCIA!BY13<>\"F\"),SUMIF($F$13:$J$13,CB$13,$F14:$J14),\"\")","v":""},{"$f":"IF(SUM(AX14:CB14)>0,SUM(AX14:CB14),\"\")","v":{"$error":"#REF!"}}]
[{"$f":"IF(LEN(B15)>0,1+A14,\"\")","v":{"$error":"#N/A"}},{"$f":"IF(LEN(C15)>0,VLOOKUP($O$4,DATA!$A$1:$S$1,2,FALSE),\"\")","v":{"$error":"#N/A"}},{"$f":"IF(LEN(D15)>0,$AJ$8,\"\")","v":"JULIO"},{"$f":"IF(LEN(ASISTENCIA!E14)>0,ASISTENCIA!E14,\"\")","v":"AROCUTIPA PARI, Irma"},{"$f":"IF(LEN(D15)>0,ASISTENCIA!F14,\"\")","v":"Director(e)"},null,null,null,null,null,"",null,null,{"$f":"CC15","v":{"$error":"#REF!"}},{"$f":"IF(AND(LEN($D15)>0,SUMIF($F$13:$J$13,O$13,$F15:$J15)>0,ASISTENCIA!I14<>\"X\",ASISTENCIA!I14<>\"L\",ASISTENCIA!I14<>\"J\",ASISTENCIA!I14<>\"V\",ASISTENCIA!I14<>\"F\",ASISTENCIA!I14<>\"\"),SUMIF($F$13:$J$13,O$13,$F15:$J15),\"\")","v":""},{"$f":"IF(AND(LEN($D15)>0,SUMIF($F$13:$J$13,P$13,$F15:$J15)>0,ASISTENCIA!J14<>\"X\",ASISTENCIA!J14<>\"L\",ASISTENCIA!J14<>\"J\",ASISTENCIA!J14<>\"V\",ASISTENCIA!J14<>\"F\",ASISTENCIA!J14<>\"\"),SUMIF($F$13:$J$13,P$13,$F15:$J15),\"\")","v":""},{"$f":"IF(AND(LEN($D15)>0,SUMIF($F$13:$J$13,Q$13,$F15:$J15)>0,ASISTENCIA!K14<>\"X\",ASISTENCIA!K14<>\"L\",ASISTENCIA!K14<>\"J\",ASISTENCIA!K14<>\"V\",ASISTENCIA!K14<>\"F\",ASISTENCIA!K14<>\"\"),SUMIF($F$13:$J$13,Q$13,$F15:$J15),\"\")","v":""},{"$f":"IF(AND(LEN($D15)>0,SUMIF($F$13:$J$13,R$13,$F15:$J15)>0,ASISTENCIA!L14<>\"X\",ASISTENCIA!L14<>\"L\",ASISTENCIA!L14<>\"J\",ASISTENCIA!L14<>\"V\",ASISTENCIA!L14<>\"F\",ASISTENCIA!L14<>\"\"),SUMIF($F$13:$J$13,R$13,$F15:$J15),\"\")","v":""},{"$f":"IF(AND(LEN($D15)>0,SUMIF($F$13:$J$13,S$13,$F15:$J15)>0,ASISTENCIA!M14<>\"X\",ASISTENCIA!M14<>\"L\",ASISTENCIA!M14<>\"J\",ASISTENCIA!M14<>\"V\",ASISTENCIA!M14<>\"F\",ASISTENCIA!M14<>\"\"),SUMIF($F$13:$J$13,S$13,$F15:$J15),\"\")","v":""},{"$f":"IF(AND(LEN($D15)>0,SUMIF($F$13:$J$13,T$13,$F15:$J15)>0,ASISTENCIA!N14<>\"X\",ASISTENCIA!N14<>\"L\",ASISTENCIA!N14<>\"J\",ASISTENCIA!N14<>\"V\",ASISTENCIA!N14<>\"F\",ASISTENCIA!N14<>\"\"),SUMIF($F$13:$J$13,T$13,$F15:$J15),\"\")","v":""},{"$f":"IF(AND(LEN($D15)>0,SUMIF($F$13:$J$13,U$13,$F15:$J15)>0,ASISTENCIA!O14<>\"X\",ASISTENCIA!O14<>\"L\",ASISTENCIA!O14<>\"J\",ASISTENCIA!O14<>\"V\",ASISTENCIA!O14<>\"F\",ASISTENCIA!O14<>\"\"),SUMIF($F$13:$J$13,U$13,$F15:$J15),\"\")","v":""},{"$f":"IF(AND(LEN($D15)>0,SUMIF($F$13:$J$13,V$13,$F15:$J15)>0,ASISTENCIA!P14<>\"X\",ASISTENCIA!P14<>\"L\",ASISTENCIA!P14<>\"J\",ASISTENCIA!P14<>\"V\",ASISTENCIA!P14<>\"F\",ASISTENCIA!P14<>\"\"),SUMIF($F$13:$J$13,V$13,$F15:$J15),\"\")","v":""},{"$f":"IF(AND(LEN($D15)>0,SUMIF($F$13:$J$13,W$13,$F15:$J15)>0,ASISTENCIA!Q14<>\"X\",ASISTENCIA!Q14<>\"L\",ASISTENCIA!Q14<>\"J\",ASISTENCIA!Q14<>\"V\",ASISTENCIA!Q14<>\"F\",ASISTENCIA!Q14<>\"\"),SUMIF($F$13:$J$13,W$13,$F15:$J15),\"\")","v":""},{"$f":"IF(AND(LEN($D15)>0,SUMIF($F$13:$J$13,X$13,$F15:$J15)>0,ASISTENCIA!R14<>\"X\",ASISTENCIA!R14<>\"L\",ASISTENCIA!R14<>\"J\",ASISTENCIA!R14<>\"V\",ASISTENCIA!R14<>\"F\",ASISTENCIA!R14<>\"\"),SUMIF($F$13:$J$13,X$13,$F15:$J15),\"\")","v":""},{"$f":"IF(AND(LEN($D15)>0,SUMIF($F$13:$J$13,Y$13,$F15:$J15)>0,ASISTENCIA!S14<>\"X\",ASISTENCIA!S14<>\"L\",ASISTENCIA!S14<>\"J\",ASISTENCIA!S14<>\"V\",ASISTENCIA!S14<>\"F\",ASISTENCIA!S14<>\"\"),SUMIF($F$13:$J$13,Y$13,$F15:$J15),\"\")","v":""},{"$f":"IF(AND(LEN($D15)>0,SUMIF($F$13:$J$13,Z$13,$F15:$J15)>0,ASISTENCIA!T14<>\"X\",ASISTENCIA!T14<>\"L\",ASISTENCIA!T14<>\"J\",ASISTENCIA!T14<>\"V\",ASISTENCIA!T14<>\"F\",ASISTENCIA!T14<>\"\"),SUMIF($F$13:$J$13,Z$13,$F15:$J15),\"\")","v":""},{"$f":"IF(AND(LEN($D15)>0,SUMIF($F$13:$J$13,AA$13,$F15:$J15)>0,ASISTENCIA!U14<>\"X\",ASISTENCIA!U14<>\"L\",ASISTENCIA!U14<>\"J\",ASISTENCIA!U14<>\"V\",ASISTENCIA!U14<>\"F\",ASISTENCIA!U14<>\"\"),SUMIF($F$13:$J$13,AA$13,$F15:$J15),\"\")","v":""},{"$f":"IF(AND(LEN($D15)>0,SUMIF($F$13:$J$13,AB$13,$F15:$J15)>0,ASISTENCIA!V14<>\"X\",ASISTENCIA!V14<>\"L\",ASISTENCIA!V14<>\"J\",ASISTENCIA!V14<>\"V\",ASISTENCIA!V14<>\"F\",ASISTENCIA!V14<>\"\"),SUMIF($F$13:$J$13,AB$13,$F15:$J15),\"\")","v":""},{"$f":"IF(AND(LEN($D15)>0,SUMIF($F$13:$J$13,AC$13,$F15:$J15)>0,ASISTENCIA!W14<>\"X\",ASISTENCIA!W14<>\"L\",ASISTENCIA!W14<>\"J\",ASISTENCIA!W14<>\"V\",ASISTENCIA!W14<>\"F\",ASISTENCIA!W14<>\"\"),SUMIF($F$13:$J$13,AC$13,$F15:$J15),\"\")","v":""},{"$f":"IF(AND(LEN($D15)>0,SUMIF($F$13:$J$13,AD$13,$F15:$J15)>0,ASISTENCIA!X14<>\"X\",ASISTENCIA!X14<>\"L\",ASISTENCIA!X14<>\"J\",ASISTENCIA!X14<>\"V\",ASISTENCIA!X14<>\"F\",ASISTENCIA!X14<>\"\"),SUMIF($F$13:$J$13,AD$13,$F15:$J15),\"\")","v":""},{"$f":"IF(AND(LEN($D15)>0,SUMIF($F$13:$J$13,AE$13,$F15:$J15)>0,ASISTENCIA!Y14<>\"X\",ASISTENCIA!Y14<>\"L\",ASISTENCIA!Y14<>\"J\",ASISTENCIA!Y14<>\"V\",ASISTENCIA!Y14<>\"F\",ASISTENCIA!Y14<>\"\"),SUMIF($F$13:$J$13,AE$13,$F15:$J15),\"\")","v":""},{"$f":"IF(AND(LEN($D15)>0,SUMIF($F$13:$J$13,AF$13,$F15:$J15)>0,ASISTENCIA!Z14<>\"X\",ASISTENCIA!Z14<>\"L\",ASISTENCIA!Z14<>\"J\",ASISTENCIA!Z14<>\"V\",ASISTENCIA!Z14<>\"F\",ASISTENCIA!Z14<>\"\"),SUMIF($F$13:$J$13,AF$13,$F15:$J15),\"\")","v":""},{"$f":"IF(AND(LEN($D15)>0,SUMIF($F$13:$J$13,AG$13,$F15:$J15)>0,ASISTENCIA!AA14<>\"X\",ASISTENCIA!AA14<>\"L\",ASISTENCIA!AA14<>\"J\",ASISTENCIA!AA14<>\"V\",ASISTENCIA!AA14<>\"F\",ASISTENCIA!AA14<>\"\"),SUMIF($F$13:$J$13,AG$13,$F15:$J15),\"\")","v":""},{"$f":"IF(AND(LEN($D15)>0,SUMIF($F$13:$J$13,AH$13,$F15:$J15)>0,ASISTENCIA!AB14<>\"X\",ASISTENCIA!AB14<>\"L\",ASISTENCIA!AB14<>\"J\",ASISTENCIA!AB14<>\"V\",ASISTENCIA!AB14<>\"F\",ASISTENCIA!AB14<>\"\"),SUMIF($F$13:$J$13,AH$13,$F15:$J15),\"\")","v":""},{"$f":"IF(AND(LEN($D15)>0,SUMIF($F$13:$J$13,AI$13,$F15:$J15)>0,ASISTENCIA!AC14<>\"X\",ASISTENCIA!AC14<>\"L\",ASISTENCIA!AC14<>\"J\",ASISTENCIA!AC14<>\"V\",ASISTENCIA!AC14<>\"F\",ASISTENCIA!AC14<>\"\"),SUMIF($F$13:$J$13,AI$13,$F15:$J15),\"\")","v":""},{"$f":"IF(AND(LEN($D15)>0,SUMIF($F$13:$J$13,AJ$13,$F15:$J15)>0,ASISTENCIA!AD14<>\"X\",ASISTENCIA!AD14<>\"L\",ASISTENCIA!AD14<>\"J\",ASISTENCIA!AD14<>\"V\",ASISTENCIA!AD14<>\"F\",ASISTENCIA!AD14<>\"\"),SUMIF($F$13:$J$13,AJ$13,$F15:$J15),\"\")","v":""},{"$f":"IF(AND(LEN($D15)>0,SUMIF($F$13:$J$13,AK$13,$F15:$J15)>0,ASISTENCIA!AE14<>\"X\",ASISTENCIA!AE14<>\"L\",ASISTENCIA!AE14<>\"J\",ASISTENCIA!AE14<>\"V\",ASISTENCIA!AE14<>\"F\",ASISTENCIA!AE14<>\"\"),SUMIF($F$13:$J$13,AK$13,$F15:$J15),\"\")","v":""},{"$f":"IF(AND(LEN($D15)>0,SUMIF($F$13:$J$13,AL$13,$F15:$J15)>0,ASISTENCIA!AF14<>\"X\",ASISTENCIA!AF14<>\"L\",ASISTENCIA!AF14<>\"J\",ASISTENCIA!AF14<>\"V\",ASISTENCIA!AF14<>\"F\",ASISTENCIA!AF14<>\"\"),SUMIF($F$13:$J$13,AL$13,$F15:$J15),\"\")","v":""},{"$f":"IF(AND(LEN($D15)>0,SUMIF($F$13:$J$13,AM$13,$F15:$J15)>0,ASISTENCIA!AG14<>\"X\",ASISTENCIA!AG14<>\"L\",ASISTENCIA!AG14<>\"J\",ASISTENCIA!AG14<>\"V\",ASISTENCIA!AG14<>\"F\",ASISTENCIA!AG14<>\"\"),SUMIF($F$13:$J$13,AM$13,$F15:$J15),\"\")","v":""},{"$f":"IF(AND(LEN($D15)>0,SUMIF($F$13:$J$13,AN$13,$F15:$J15)>0,ASISTENCIA!AH14<>\"X\",ASISTENCIA!AH14<>\"L\",ASISTENCIA!AH14<>\"J\",ASISTENCIA!AH14<>\"V\",ASISTENCIA!AH14<>\"F\",ASISTENCIA!AH14<>\"\"),SUMIF($F$13:$J$13,AN$13,$F15:$J15),\"\")","v":""},{"$f":"IF(AND(LEN($D15)>0,SUMIF($F$13:$J$13,AO$13,$F15:$J15)>0,ASISTENCIA!AI14<>\"X\",ASISTENCIA!AI14<>\"L\",ASISTENCIA!AI14<>\"J\",ASISTENCIA!AI14<>\"V\",ASISTENCIA!AI14<>\"F\",ASISTENCIA!AI14<>\"\"),SUMIF($F$13:$J$13,AO$13,$F15:$J15),\"\")","v":""},{"$f":"IF(AND(LEN($D15)>0,SUMIF($F$13:$J$13,AP$13,$F15:$J15)>0,ASISTENCIA!AJ14<>\"X\",ASISTENCIA!AJ14<>\"L\",ASISTENCIA!AJ14<>\"J\",ASISTENCIA!AJ14<>\"V\",ASISTENCIA!AJ14<>\"F\",ASISTENCIA!AJ14<>\"\"),SUMIF($F$13:$J$13,AP$13,$F15:$J15),\"\")","v":""},{"$f":"IF(AND(LEN($D15)>0,SUMIF($F$13:$J$13,AQ$13,$F15:$J15)>0,ASISTENCIA!AK14<>\"X\",ASISTENCIA!AK14<>\"L\",ASISTENCIA!AK14<>\"J\",ASISTENCIA!AK14<>\"V\",ASISTENCIA!AK14<>\"F\",ASISTENCIA!AK14<>\"\"),SUMIF($F$13:$J$13,AQ$13,$F15:$J15),\"\")","v":""},{"$f":"IF(AND(LEN($D15)>0,SUMIF($F$13:$J$13,AR$13,$F15:$J15)>0,ASISTENCIA!AL14<>\"X\",ASISTENCIA!AL14<>\"L\",ASISTENCIA!AL14<>\"J\",ASISTENCIA!AL14<>\"V\",ASISTENCIA!AL14<>\"F\",ASISTENCIA!AL14<>\"\"),SUMIF($F$13:$J$13,AR$13,$F15:$J15),\"\")","v":""},{"$f":"IF(AND(LEN($D15)>0,SUMIF($F$13:$J$13,AS$13,$F15:$J15)>0,ASISTENCIA!AM14<>\"X\",ASISTENCIA!AM14<>\"L\",ASISTENCIA!AM14<>\"J\",ASISTENCIA!AM14<>\"V\",ASISTENCIA!AM14<>\"F\",ASISTENCIA!AM14<>\"\"),SUMIF($F$13:$J$13,AS$13,$F15:$J15),\"\")","v":""},{"$f":"IF(SUM(O15:AS15)>0,SUM(O15:AS15),\"\")","v":""},null,null,null,{"$f":"IF(AND(LEN($D15)>0,SUMIF($F$13:$J$13,AX$13,$F15:$J15)>0,ASISTENCIA!AU14<>\"X\",ASISTENCIA!AU14<>\"L\",ASISTENCIA!AU14<>\"J\",ASISTENCIA!AU14<>\"F\"),SUMIF($F$13:$J$13,AX$13,$F15:$J15),\"\")","v":""},{"$f":"IF(AND(LEN($D15)>0,SUMIF($F$13:$J$13,AY$13,$F15:$J15)>0,ASISTENCIA!BE17<>\"X\",ASISTENCIA!BE17<>\"L\",ASISTENCIA!BE17<>\"J\",ASISTENCIA!BE17<>\"F\"),SUMIF($F$13:$J$13,AY$13,$F15:$J15),\"\")","v":""},{"$f":"IF(AND(LEN($D15)>0,SUMIF($F$13:$J$13,AZ$13,$F15:$J15)>0,ASISTENCIA!BF14<>\"X\",ASISTENCIA!BF14<>\"L\",ASISTENCIA!BF14<>\"J\",ASISTENCIA!BF14<>\"F\"),SUMIF($F$13:$J$13,AZ$13,$F15:$J15),\"\")","v":""},{"$f":"IF(AND(LEN($D15)>0,SUMIF($F$13:$J$13,BA$13,$F15:$J15)>0,ASISTENCIA!BG14<>\"X\",ASISTENCIA!BG14<>\"L\",ASISTENCIA!BG14<>\"J\",ASISTENCIA!BG14<>\"F\"),SUMIF($F$13:$J$13,BA$13,$F15:$J15),\"\")","v":""},{"$f":"IF(AND(LEN($D15)>0,SUMIF($F$13:$J$13,BB$13,$F15:$J15)>0,ASISTENCIA!BH14<>\"X\",ASISTENCIA!BH14<>\"L\",ASISTENCIA!BH14<>\"J\",ASISTENCIA!BH14<>\"F\"),SUMIF($F$13:$J$13,BB$13,$F15:$J15),\"\")","v":""},{"$f":"IF(AND(LEN($D15)>0,SUMIF($F$13:$J$13,BC$13,$F15:$J15)>0,ASISTENCIA!AZ14<>\"X\",ASISTENCIA!AZ14<>\"L\",ASISTENCIA!AZ14<>\"J\",ASISTENCIA!AZ14<>\"F\"),SUMIF($F$13:$J$13,BC$13,$F15:$J15),\"\")","v":""},{"$f":"IF(AND(LEN($D15)>0,SUMIF($F$13:$J$13,BD$13,$F15:$J15)>0,ASISTENCIA!BA14<>\"X\",ASISTENCIA!BA14<>\"L\",ASISTENCIA!BA14<>\"J\",ASISTENCIA!BA14<>\"F\"),SUMIF($F$13:$J$13,BD$13,$F15:$J15),\"\")","v":""},{"$f":"IF(AND(LEN($D15)>0,SUMIF($F$13:$J$13,BE$13,$F15:$J15)>0,ASISTENCIA!BB14<>\"X\",ASISTENCIA!BB14<>\"L\",ASISTENCIA!BB14<>\"J\",ASISTENCIA!BB14<>\"F\"),SUMIF($F$13:$J$13,BE$13,$F15:$J15),\"\")","v":""},{"$f":"IF(AND(LEN($D15)>0,SUMIF($F$13:$J$13,BF$13,$F15:$J15)>0,ASISTENCIA!#REF!<>\"X\",ASISTENCIA!#REF!<>\"L\",ASISTENCIA!#REF!<>\"J\",ASISTENCIA!#REF!<>\"F\"),SUMIF($F$13:$J$13,BF$13,$F15:$J15),\"\")","v":{"$error":"#REF!"}},{"$f":"IF(AND(LEN($D15)>0,SUMIF($F$13:$J$13,BG$13,$F15:$J15)>0,ASISTENCIA!#REF!<>\"X\",ASISTENCIA!#REF!<>\"L\",ASISTENCIA!#REF!<>\"J\",ASISTENCIA!#REF!<>\"F\"),SUMIF($F$13:$J$13,BG$13,$F15:$J15),\"\")","v":{"$error":"#REF!"}},{"$f":"IF(AND(LEN($D15)>0,SUMIF($F$13:$J$13,BH$13,$F15:$J15)>0,ASISTENCIA!#REF!<>\"X\",ASISTENCIA!#REF!<>\"L\",ASISTENCIA!#REF!<>\"J\",ASISTENCIA!#REF!<>\"F\"),SUMIF($F$13:$J$13,BH$13,$F15:$J15),\"\")","v":{"$error":"#REF!"}},{"$f":"IF(AND(LEN($D15)>0,SUMIF($F$13:$J$13,BI$13,$F15:$J15)>0,ASISTENCIA!#REF!<>\"X\",ASISTENCIA!#REF!<>\"L\",ASISTENCIA!#REF!<>\"J\",ASISTENCIA!#REF!<>\"F\"),SUMIF($F$13:$J$13,BI$13,$F15:$J15),\"\")","v":{"$error":"#REF!"}},{"$f":"IF(AND(LEN($D15)>0,SUMIF($F$13:$J$13,BJ$13,$F15:$J15)>0,ASISTENCIA!#REF!<>\"X\",ASISTENCIA!#REF!<>\"L\",ASISTENCIA!#REF!<>\"J\",ASISTENCIA!#REF!<>\"F\"),SUMIF($F$13:$J$13,BJ$13,$F15:$J15),\"\")","v":{"$error":"#REF!"}},{"$f":"IF(AND(LEN($D15)>0,SUMIF($F$13:$J$13,BK$13,$F15:$J15)>0,ASISTENCIA!#REF!<>\"X\",ASISTENCIA!#REF!<>\"L\",ASISTENCIA!#REF!<>\"J\",ASISTENCIA!#REF!<>\"F\"),SUMIF($F$13:$J$13,BK$13,$F15:$J15),\"\")","v":{"$error":"#REF!"}},{"$f":"IF(AND(LEN($D15)>0,SUMIF($F$13:$J$13,BL$13,$F15:$J15)>0,ASISTENCIA!BI14<>\"X\",ASISTENCIA!BI14<>\"L\",ASISTENCIA!BI14<>\"J\",ASISTENCIA!BI14<>\"F\"),SUMIF($F$13:$J$13,BL$13,$F15:$J15),\"\")","v":""},{"$f":"IF(AND(LEN($D15)>0,SUMIF($F$13:$J$13,BM$13,$F15:$J15)>0,ASISTENCIA!BJ14<>\"X\",ASISTENCIA!BJ14<>\"L\",ASISTENCIA!BJ14<>\"J\",ASISTENCIA!BJ14<>\"F\"),SUMIF($F$13:$J$13,BM$13,$F15:$J15),\"\")","v":""},{"$f":"IF(AND(LEN($D15)>0,SUMIF($F$13:$J$13,BN$13,$F15:$J15)>0,ASISTENCIA!BK14<>\"X\",ASISTENCIA!BK14<>\"L\",ASISTENCIA!BK14<>\"J\",ASISTENCIA!BK14<>\"F\"),SUMIF($F$13:$J$13,BN$13,$F15:$J15),\"\")","v":""},{"$f":"IF(AND(LEN($D15)>0,SUMIF($F$13:$J$13,BO$13,$F15:$J15)>0,ASISTENCIA!BL14<>\"X\",ASISTENCIA!BL14<>\"L\",ASISTENCIA!BL14<>\"J\",ASISTENCIA!BL14<>\"F\"),SUMIF($F$13:$J$13,BO$13,$F15:$J15),\"\")","v":""},{"$f":"IF(AND(LEN($D15)>0,SUMIF($F$13:$J$13,BP$13,$F15:$J15)>0,ASISTENCIA!BM14<>\"X\",ASISTENCIA!BM14<>\"L\",ASISTENCIA!BM14<>\"J\",ASISTENCIA!BM14<>\"F\"),SUMIF($F$13:$J$13,BP$13,$F15:$J15),\"\")","v":""},{"$f":"IF(AND(LEN($D15)>0,SUMIF($F$13:$J$13,BQ$13,$F15:$J15)>0,ASISTENCIA!BN14<>\"X\",ASISTENCIA!BN14<>\"L\",ASISTENCIA!BN14<>\"J\",ASISTENCIA!BN14<>\"F\"),SUMIF($F$13:$J$13,BQ$13,$F15:$J15),\"\")","v":""},{"$f":"IF(AND(LEN($D15)>0,SUMIF($F$13:$J$13,BR$13,$F15:$J15)>0,ASISTENCIA!BO14<>\"X\",ASISTENCIA!BO14<>\"L\",ASISTENCIA!BO14<>\"J\",ASISTENCIA!BO14<>\"F\"),SUMIF($F$13:$J$13,BR$13,$F15:$J15),\"\")","v":""},{"$f":"IF(AND(LEN($D15)>0,SUMIF($F$13:$J$13,BS$13,$F15:$J15)>0,ASISTENCIA!BP14<>\"X\",ASISTENCIA!BP14<>\"L\",ASISTENCIA!BP14<>\"J\",ASISTENCIA!BP14<>\"F\"),SUMIF($F$13:$J$13,BS$13,$F15:$J15),\"\")","v":""},{"$f":"IF(AND(LEN($D15)>0,SUMIF($F$13:$J$13,BT$13,$F15:$J15)>0,ASISTENCIA!BQ14<>\"X\",ASISTENCIA!BQ14<>\"L\",ASISTENCIA!BQ14<>\"J\",ASISTENCIA!BQ14<>\"F\"),SUMIF($F$13:$J$13,BT$13,$F15:$J15),\"\")","v":""},{"$f":"IF(AND(LEN($D15)>0,SUMIF($F$13:$J$13,BU$13,$F15:$J15)>0,ASISTENCIA!BR14<>\"X\",ASISTENCIA!BR14<>\"L\",ASISTENCIA!BR14<>\"J\",ASISTENCIA!BR14<>\"F\"),SUMIF($F$13:$J$13,BU$13,$F15:$J15),\"\")","v":""},{"$f":"IF(AND(LEN($D15)>0,SUMIF($F$13:$J$13,BV$13,$F15:$J15)>0,ASISTENCIA!BS14<>\"X\",ASISTENCIA!BS14<>\"L\",ASISTENCIA!BS14<>\"J\",ASISTENCIA!BS14<>\"F\"),SUMIF($F$13:$J$13,BV$13,$F15:$J15),\"\")","v":""},{"$f":"IF(AND(LEN($D15)>0,SUMIF($F$13:$J$13,BW$13,$F15:$J15)>0,ASISTENCIA!BT14<>\"X\",ASISTENCIA!BT14<>\"L\",ASISTENCIA!BT14<>\"J\",ASISTENCIA!BT14<>\"F\"),SUMIF($F$13:$J$13,BW$13,$F15:$J15),\"\")","v":""},{"$f":"IF(AND(LEN($D15)>0,SUMIF($F$13:$J$13,BX$13,$F15:$J15)>0,ASISTENCIA!BU14<>\"X\",ASISTENCIA!BU14<>\"L\",ASISTENCIA!BU14<>\"J\",ASISTENCIA!BU14<>\"F\"),SUMIF($F$13:$J$13,BX$13,$F15:$J15),\"\")","v":""},{"$f":"IF(AND(LEN($D15)>0,SUMIF($F$13:$J$13,BY$13,$F15:$J15)>0,ASISTENCIA!BV14<>\"X\",ASISTENCIA!BV14<>\"L\",ASISTENCIA!BV14<>\"J\",ASISTENCIA!BV14<>\"F\"),SUMIF($F$13:$J$13,BY$13,$F15:$J15),\"\")","v":""},{"$f":"IF(AND(LEN($D15)>0,SUMIF($F$13:$J$13,BZ$13,$F15:$J15)>0,ASISTENCIA!BW14<>\"X\",ASISTENCIA!BW14<>\"L\",ASISTENCIA!BW14<>\"J\",ASISTENCIA!BW14<>\"F\"),SUMIF($F$13:$J$13,BZ$13,$F15:$J15),\"\")","v":""},{"$f":"IF(AND(LEN($D15)>0,SUMIF($F$13:$J$13,CA$13,$F15:$J15)>0,ASISTENCIA!BX14<>\"X\",ASISTENCIA!BX14<>\"L\",ASISTENCIA!BX14<>\"J\",ASISTENCIA!BX14<>\"F\"),SUMIF($F$13:$J$13,CA$13,$F15:$J15),\"\")","v":""},{"$f":"IF(AND(LEN($D15)>0,SUMIF($F$13:$J$13,CB$13,$F15:$J15)>0,ASISTENCIA!BY14<>\"X\",ASISTENCIA!BY14<>\"L\",ASISTENCIA!BY14<>\"J\",ASISTENCIA!BY14<>\"F\"),SUMIF($F$13:$J$13,CB$13,$F15:$J15),\"\")","v":""},{"$f":"IF(SUM(AX15:CB15)>0,SUM(AX15:CB15),\"\")","v":{"$error":"#REF!"}}]
[{"$f":"IF(LEN(B16)>0,1+A15,\"\")","v":{"$error":"#N/A"}},{"$f":"IF(LEN(C16)>0,VLOOKUP($O$4,DATA!$A$1:$S$1,2,FALSE),\"\")","v":{"$error":"#N/A"}},"JULIO",{"$f":"IF(LEN(ASISTENCIA!E15)>0,ASISTENCIA!E15,\"\")","v":"SALCEDO MRNDIZABAL, Maria Elena"},{"$f":"IF(LEN(D16)>0,ASISTENCIA!F15,\"\")","v":"Profesor"},null,null,null,null,null,"",null,null,{"$f":"CC16","v":{"$error":"#REF!"}},{"$f":"IF(AND(LEN($D16)>0,SUMIF($F$13:$J$13,O$13,$F16:$J16)>0,ASISTENCIA!I15<>\"X\",ASISTENCIA!I15<>\"L\",ASISTENCIA!I15<>\"J\",ASISTENCIA!I15<>\"V\",ASISTENCIA!I15<>\"F\",ASISTENCIA!I15<>\"\"),SUMIF($F$13:$J$13,O$13,$F16:$J16),\"\")","v":""},{"$f":"IF(AND(LEN($D16)>0,SUMIF($F$13:$J$13,P$13,$F16:$J16)>0,ASISTENCIA!J15<>\"X\",ASISTENCIA!J15<>\"L\",ASISTENCIA!J15<>\"J\",ASISTENCIA!J15<>\"V\",ASISTENCIA!J15<>\"F\",ASISTENCIA!J15<>\"\"),SUMIF($F$13:$J$13,P$13,$F16:$J16),\"\")","v":""},{"$f":"IF(AND(LEN($D16)>0,SUMIF($F$13:$J$13,Q$13,$F16:$J16)>0,ASISTENCIA!K15<>\"X\",ASISTENCIA!K15<>\"L\",ASISTENCIA!K15<>\"J\",ASISTENCIA!K15<>\"V\",ASISTENCIA!K15<>\"F\",ASISTENCIA!K15<>\"\"),SUMIF($F$13:$J$13,Q$13,$F16:$J16),\"\")","v":""},{"$f":"IF(AND(LEN($D16)>0,SUMIF($F$13:$J$13,R$13,$F16:$J16)>0,ASISTENCIA!L15<>\"X\",ASISTENCIA!L15<>\"L\",ASISTENCIA!L15<>\"J\",ASISTENCIA!L15<>\"V\",ASISTENCIA!L15<>\"F\",ASISTENCIA!L15<>\"\"),SUMIF($F$13:$J$13,R$13,$F16:$J16),\"\")","v":""},{"$f":"IF(AND(LEN($D16)>0,SUMIF($F$13:$J$13,S$13,$F16:$J16)>0,ASISTENCIA!M15<>\"X\",ASISTENCIA!M15<>\"L\",ASISTENCIA!M15<>\"J\",ASISTENCIA!M15<>\"V\",ASISTENCIA!M15<>\"F\",ASISTENCIA!M15<>\"\"),SUMIF($F$13:$J$13,S$13,$F16:$J16),\"\")","v":""},{"$f":"IF(AND(LEN($D16)>0,SUMIF($F$13:$J$13,T$13,$F16:$J16)>0,ASISTENCIA!N15<>\"X\",ASISTENCIA!N15<>\"L\",ASISTENCIA!N15<>\"J\",ASISTENCIA!N15<>\"V\",ASISTENCIA!N15<>\"F\",ASISTENCIA!N15<>\"\"),SUMIF($F$13:$J$13,T$13,$F16:$J16),\"\")","v":""},{"$f":"IF(AND(LEN($D16)>0,SUMIF($F$13:$J$13,U$13,$F16:$J16)>0,ASISTENCIA!O15<>\"X\",ASISTENCIA!O15<>\"L\",ASISTENCIA!O15<>\"J\",ASISTENCIA!O15<>\"V\",ASISTENCIA!O15<>\"F\",ASISTENCIA!O15<>\"\"),SUMIF($F$13:$J$13,U$13,$F16:$J16),\"\")","v":""},{"$f":"IF(AND(LEN($D16)>0,SUMIF($F$13:$J$13,V$13,$F16:$J16)>0,ASISTENCIA!P15<>\"X\",ASISTENCIA!P15<>\"L\",ASISTENCIA!P15<>\"J\",ASISTENCIA!P15<>\"V\",ASISTENCIA!P15<>\"F\",ASISTENCIA!P15<>\"\"),SUMIF($F$13:$J$13,V$13,$F16:$J16),\"\")","v":""},{"$f":"IF(AND(LEN($D16)>0,SUMIF($F$13:$J$13,W$13,$F16:$J16)>0,ASISTENCIA!Q15<>\"X\",ASISTENCIA!Q15<>\"L\",ASISTENCIA!Q15<>\"J\",ASISTENCIA!Q15<>\"V\",ASISTENCIA!Q15<>\"F\",ASISTENCIA!Q15<>\"\"),SUMIF($F$13:$J$13,W$13,$F16:$J16),\"\")","v":""},{"$f":"IF(AND(LEN($D16)>0,SUMIF($F$13:$J$13,X$13,$F16:$J16)>0,ASISTENCIA!R15<>\"X\",ASISTENCIA!R15<>\"L\",ASISTENCIA!R15<>\"J\",ASISTENCIA!R15<>\"V\",ASISTENCIA!R15<>\"F\",ASISTENCIA!R15<>\"\"),SUMIF($F$13:$J$13,X$13,$F16:$J16),\"\")","v":""},{"$f":"IF(AND(LEN($D16)>0,SUMIF($F$13:$J$13,Y$13,$F16:$J16)>0,ASISTENCIA!S15<>\"X\",ASISTENCIA!S15<>\"L\",ASISTENCIA!S15<>\"J\",ASISTENCIA!S15<>\"V\",ASISTENCIA!S15<>\"F\",ASISTENCIA!S15<>\"\"),SUMIF($F$13:$J$13,Y$13,$F16:$J16),\"\")","v":""},{"$f":"IF(AND(LEN($D16)>0,SUMIF($F$13:$J$13,Z$13,$F16:$J16)>0,ASISTENCIA!T15<>\"X\",ASISTENCIA!T15<>\"L\",ASISTENCIA!T15<>\"J\",ASISTENCIA!T15<>\"V\",ASISTENCIA!T15<>\"F\",ASISTENCIA!T15<>\"\"),SUMIF($F$13:$J$13,Z$13,$F16:$J16),\"\")","v":""},{"$f":"IF(AND(LEN($D16)>0,SUMIF($F$13:$J$13,AA$13,$F16:$J16)>0,ASISTENCIA!U15<>\"X\",ASISTENCIA!U15<>\"L\",ASISTENCIA!U15<>\"J\",ASISTENCIA!U15<>\"V\",ASISTENCIA!U15<>\"F\",ASISTENCIA!U15<>\"\"),SUMIF($F$13:$J$13,AA$13,$F16:$J16),\"\")","v":""},{"$f":"IF(AND(LEN($D16)>0,SUMIF($F$13:$J$13,AB$13,$F16:$J16)>0,ASISTENCIA!V15<>\"X\",ASISTENCIA!V15<>\"L\",ASISTENCIA!V15<>\"J\",ASISTENCIA!V15<>\"V\",ASISTENCIA!V15<>\"F\",ASISTENCIA!V15<>\"\"),SUMIF($F$13:$J$13,AB$13,$F16:$J16),\"\")","v":""},{"$f":"IF(AND(LEN($D16)>0,SUMIF($F$13:$J$13,AC$13,$F16:$J16)>0,ASISTENCIA!W15<>\"X\",ASISTENCIA!W15<>\"L\",ASISTENCIA!W15<>\"J\",ASISTENCIA!W15<>\"V\",ASISTENCIA!W15<>\"F\",ASISTENCIA!W15<>\"\"),SUMIF($F$13:$J$13,AC$13,$F16:$J16),\"\")","v":""},{"$f":"IF(AND(LEN($D16)>0,SUMIF($F$13:$J$13,AD$13,$F16:$J16)>0,ASISTENCIA!X15<>\"X\",ASISTENCIA!X15<>\"L\",ASISTENCIA!X15<>\"J\",ASISTENCIA!X15<>\"V\",ASISTENCIA!X15<>\"F\",ASISTENCIA!X15<>\"\"),SUMIF($F$13:$J$13,AD$13,$F16:$J16),\"\")","v":""},{"$f":"IF(AND(LEN($D16)>0,SUMIF($F$13:$J$13,AE$13,$F16:$J16)>0,ASISTENCIA!Y15<>\"X\",ASISTENCIA!Y15<>\"L\",ASISTENCIA!Y15<>\"J\",ASISTENCIA!Y15<>\"V\",ASISTENCIA!Y15<>\"F\",ASISTENCIA!Y15<>\"\"),SUMIF($F$13:$J$13,AE$13,$F16:$J16),\"\")","v":""},{"$f":"IF(AND(LEN($D16)>0,SUMIF($F$13:$J$13,AF$13,$F16:$J16)>0,ASISTENCIA!Z15<>\"X\",ASISTENCIA!Z15<>\"L\",ASISTENCIA!Z15<>\"J\",ASISTENCIA!Z15<>\"V\",ASISTENCIA!Z15<>\"F\",ASISTENCIA!Z15<>\"\"),SUMIF($F$13:$J$13,AF$13,$F16:$J16),\"\")","v":""},{"$f":"IF(AND(LEN($D16)>0,SUMIF($F$13:$J$13,AG$13,$F16:$J16)>0,ASISTENCIA!AA15<>\"X\",ASISTENCIA!AA15<>\"L\",ASISTENCIA!AA15<>\"J\",ASISTENCIA!AA15<>\"V\",ASISTENCIA!AA15<>\"F\",ASISTENCIA!AA15<>\"\"),SUMIF($F$13:$J$13,AG$13,$F16:$J16),\"\")","v":""},{"$f":"IF(AND(LEN($D16)>0,SUMIF($F$13:$J$13,AH$13,$F16:$J16)>0,ASISTENCIA!AB15<>\"X\",ASISTENCIA!AB15<>\"L\",ASISTENCIA!AB15<>\"J\",ASISTENCIA!AB15<>\"V\",ASISTENCIA!AB15<>\"F\",ASISTENCIA!AB15<>\"\"),SUMIF($F$13:$J$13,AH$13,$F16:$J16),\"\")","v":""},{"$f":"IF(AND(LEN($D16)>0,SUMIF($F$13:$J$13,AI$13,$F16:$J16)>0,ASISTENCIA!AC15<>\"X\",ASISTENCIA!AC15<>\"L\",ASISTENCIA!AC15<>\"J\",ASISTENCIA!AC15<>\"V\",ASISTENCIA!AC15<>\"F\",ASISTENCIA!AC15<>\"\"),SUMIF($F$13:$J$13,AI$13,$F16:$J16),\"\")","v":""},{"$f":"IF(AND(LEN($D16)>0,SUMIF($F$13:$J$13,AJ$13,$F16:$J16)>0,ASISTENCIA!AD15<>\"X\",ASISTENCIA!AD15<>\"L\",ASISTENCIA!AD15<>\"J\",ASISTENCIA!AD15<>\"V\",ASISTENCIA!AD15<>\"F\",ASISTENCIA!AD15<>\"\"),SUMIF($F$13:$J$13,AJ$13,$F16:$J16),\"\")","v":""},{"$f":"IF(AND(LEN($D16)>0,SUMIF($F$13:$J$13,AK$13,$F16:$J16)>0,ASISTENCIA!AE15<>\"X\",ASISTENCIA!AE15<>\"L\",ASISTENCIA!AE15<>\"J\",ASISTENCIA!AE15<>\"V\",ASISTENCIA!AE15<>\"F\",ASISTENCIA!AE15<>\"\"),SUMIF($F$13:$J$13,AK$13,$F16:$J16),\"\")","v":""},{"$f":"IF(AND(LEN($D16)>0,SUMIF($F$13:$J$13,AL$13,$F16:$J16)>0,ASISTENCIA!AF15<>\"X\",ASISTENCIA!AF15<>\"L\",ASISTENCIA!AF15<>\"J\",ASISTENCIA!AF15<>\"V\",ASISTENCIA!AF15<>\"F\",ASISTENCIA!AF15<>\"\"),SUMIF($F$13:$J$13,AL$13,$F16:$J16),\"\")","v":""},{"$f":"IF(AND(LEN($D16)>0,SUMIF($F$13:$J$13,AM$13,$F16:$J16)>0,ASISTENCIA!AG15<>\"X\",ASISTENCIA!AG15<>\"L\",ASISTENCIA!AG15<>\"J\",ASISTENCIA!AG15<>\"V\",ASISTENCIA!AG15<>\"F\",ASISTENCIA!AG15<>\"\"),SUMIF($F$13:$J$13,AM$13,$F16:$J16),\"\")","v":""},{"$f":"IF(AND(LEN($D16)>0,SUMIF($F$13:$J$13,AN$13,$F16:$J16)>0,ASISTENCIA!AH15<>\"X\",ASISTENCIA!AH15<>\"L\",ASISTENCIA!AH15<>\"J\",ASISTENCIA!AH15<>\"V\",ASISTENCIA!AH15<>\"F\",ASISTENCIA!AH15<>\"\"),SUMIF($F$13:$J$13,AN$13,$F16:$J16),\"\")","v":""},{"$f":"IF(AND(LEN($D16)>0,SUMIF($F$13:$J$13,AO$13,$F16:$J16)>0,ASISTENCIA!AI15<>\"X\",ASISTENCIA!AI15<>\"L\",ASISTENCIA!AI15<>\"J\",ASISTENCIA!AI15<>\"V\",ASISTENCIA!AI15<>\"F\",ASISTENCIA!AI15<>\"\"),SUMIF($F$13:$J$13,AO$13,$F16:$J16),\"\")","v":""},{"$f":"IF(AND(LEN($D16)>0,SUMIF($F$13:$J$13,AP$13,$F16:$J16)>0,ASISTENCIA!AJ15<>\"X\",ASISTENCIA!AJ15<>\"L\",ASISTENCIA!AJ15<>\"J\",ASISTENCIA!AJ15<>\"V\",ASISTENCIA!AJ15<>\"F\",ASISTENCIA!AJ15<>\"\"),SUMIF($F$13:$J$13,AP$13,$F16:$J16),\"\")","v":""},{"$f":"IF(AND(LEN($D16)>0,SUMIF($F$13:$J$13,AQ$13,$F16:$J16)>0,ASISTENCIA!AK15<>\"X\",ASISTENCIA!AK15<>\"L\",ASISTENCIA!AK15<>\"J\",ASISTENCIA!AK15<>\"V\",ASISTENCIA!AK15<>\"F\",ASISTENCIA!AK15<>\"\"),SUMIF($F$13:$J$13,AQ$13,$F16:$J16),\"\")","v":""},{"$f":"IF(AND(LEN($D16)>0,SUMIF($F$13:$J$13,AR$13,$F16:$J16)>0,ASISTENCIA!AL15<>\"X\",ASISTENCIA!AL15<>\"L\",ASISTENCIA!AL15<>\"J\",ASISTENCIA!AL15<>\"V\",ASISTENCIA!AL15<>\"F\",ASISTENCIA!AL15<>\"\"),SUMIF($F$13:$J$13,AR$13,$F16:$J16),\"\")","v":""},{"$f":"IF(AND(LEN($D16)>0,SUMIF($F$13:$J$13,AS$13,$F16:$J16)>0,ASISTENCIA!AM15<>\"X\",ASISTENCIA!AM15<>\"L\",ASISTENCIA!AM15<>\"J\",ASISTENCIA!AM15<>\"V\",ASISTENCIA!AM15<>\"F\",ASISTENCIA!AM15<>\"\"),SUMIF($F$13:$J$13,AS$13,$F16:$J16),\"\")","v":""},"",null,null,null,{"$f":"IF(AND(LEN($D16)>0,SUMIF($F$13:$J$13,AX$13,$F16:$J16)>0,ASISTENCIA!AU15<>\"X\",ASISTENCIA!AU15<>\"L\",ASISTENCIA!AU15<>\"J\",ASISTENCIA!AU15<>\"F\"),SUMIF($F$13:$J$13,AX$13,$F16:$J16),\"\")","v":""},{"$f":"IF(AND(LEN($D16)>0,SUMIF($F$13:$J$13,AY$13,$F16:$J16)>0,ASISTENCIA!#REF!<>\"X\",ASISTENCIA!#REF!<>\"L\",ASISTENCIA!#REF!<>\"J\",ASISTENCIA!#REF!<>\"F\"),SUMIF($F$13:$J$13,AY$13,$F16:$J16),\"\")","v":{"$error":"#REF!"}},{"$f":"IF(AND(LEN($D16)>0,SUMIF($F$13:$J$13,AZ$13,$F16:$J16)>0,ASISTENCIA!BF15<>\"X\",ASISTENCIA!BF15<>\"L\",ASISTENCIA!BF15<>\"J\",ASISTENCIA!BF15<>\"F\"),SUMIF($F$13:$J$13,AZ$13,$F16:$J16),\"\")","v":""},{"$f":"IF(AND(LEN($D16)>0,SUMIF($F$13:$J$13,BA$13,$F16:$J16)>0,ASISTENCIA!BG15<>\"X\",ASISTENCIA!BG15<>\"L\",ASISTENCIA!BG15<>\"J\",ASISTENCIA!BG15<>\"F\"),SUMIF($F$13:$J$13,BA$13,$F16:$J16),\"\")","v":""},{"$f":"IF(AND(LEN($D16)>0,SUMIF($F$13:$J$13,BB$13,$F16:$J16)>0,ASISTENCIA!BH15<>\"X\",ASISTENCIA!BH15<>\"L\",ASISTENCIA!BH15<>\"J\",ASISTENCIA!BH15<>\"F\"),SUMIF($F$13:$J$13,BB$13,$F16:$J16),\"\")","v":""},{"$f":"IF(AND(LEN($D16)>0,SUMIF($F$13:$J$13,BC$13,$F16:$J16)>0,ASISTENCIA!AZ15<>\"X\",ASISTENCIA!AZ15<>\"L\",ASISTENCIA!AZ15<>\"J\",ASISTENCIA!AZ15<>\"F\"),SUMIF($F$13:$J$13,BC$13,$F16:$J16),\"\")","v":""},{"$f":"IF(AND(LEN($D16)>0,SUMIF($F$13:$J$13,BD$13,$F16:$J16)>0,ASISTENCIA!BA15<>\"X\",ASISTENCIA!BA15<>\"L\",ASISTENCIA!BA15<>\"J\",ASISTENCIA!BA15<>\"F\"),SUMIF($F$13:$J$13,BD$13,$F16:$J16),\"\")","v":""},{"$f":"IF(AND(LEN($D16)>0,SUMIF($F$13:$J$13,BE$13,$F16:$J16)>0,ASISTENCIA!BB15<>\"X\",ASISTENCIA!BB15<>\"L\",ASISTENCIA!BB15<>\"J\",ASISTENCIA!BB15<>\"F\"),SUMIF($F$13:$J$13,BE$13,$F16:$J16),\"\")","v":""},{"$f":"IF(AND(LEN($D16)>0,SUMIF($F$13:$J$13,BF$13,$F16:$J16)>0,ASISTENCIA!#REF!<>\"X\",ASISTENCIA!#REF!<>\"L\",ASISTENCIA!#REF!<>\"J\",ASISTENCIA!#REF!<>\"F\"),SUMIF($F$13:$J$13,BF$13,$F16:$J16),\"\")","v":{"$error":"#REF!"}},{"$f":"IF(AND(LEN($D16)>0,SUMIF($F$13:$J$13,BG$13,$F16:$J16)>0,ASISTENCIA!#REF!<>\"X\",ASISTENCIA!#REF!<>\"L\",ASISTENCIA!#REF!<>\"J\",ASISTENCIA!#REF!<>\"F\"),SUMIF($F$13:$J$13,BG$13,$F16:$J16),\"\")","v":{"$error":"#REF!"}},{"$f":"IF(AND(LEN($D16)>0,SUMIF($F$13:$J$13,BH$13,$F16:$J16)>0,ASISTENCIA!#REF!<>\"X\",ASISTENCIA!#REF!<>\"L\",ASISTENCIA!#REF!<>\"J\",ASISTENCIA!#REF!<>\"F\"),SUMIF($F$13:$J$13,BH$13,$F16:$J16),\"\")","v":{"$error":"#REF!"}},{"$f":"IF(AND(LEN($D16)>0,SUMIF($F$13:$J$13,BI$13,$F16:$J16)>0,ASISTENCIA!#REF!<>\"X\",ASISTENCIA!#REF!<>\"L\",ASISTENCIA!#REF!<>\"J\",ASISTENCIA!#REF!<>\"F\"),SUMIF($F$13:$J$13,BI$13,$F16:$J16),\"\")","v":{"$error":"#REF!"}},{"$f":"IF(AND(LEN($D16)>0,SUMIF($F$13:$J$13,BJ$13,$F16:$J16)>0,ASISTENCIA!#REF!<>\"X\",ASISTENCIA!#REF!<>\"L\",ASISTENCIA!#REF!<>\"J\",ASISTENCIA!#REF!<>\"F\"),SUMIF($F$13:$J$13,BJ$13,$F16:$J16),\"\")","v":{"$error":"#REF!"}},{"$f":"IF(AND(LEN($D16)>0,SUMIF($F$13:$J$13,BK$13,$F16:$J16)>0,ASISTENCIA!#REF!<>\"X\",ASISTENCIA!#REF!<>\"L\",ASISTENCIA!#REF!<>\"J\",ASISTENCIA!#REF!<>\"F\"),SUMIF($F$13:$J$13,BK$13,$F16:$J16),\"\")","v":{"$error":"#REF!"}},{"$f":"IF(AND(LEN($D16)>0,SUMIF($F$13:$J$13,BL$13,$F16:$J16)>0,ASISTENCIA!BI15<>\"X\",ASISTENCIA!BI15<>\"L\",ASISTENCIA!BI15<>\"J\",ASISTENCIA!BI15<>\"F\"),SUMIF($F$13:$J$13,BL$13,$F16:$J16),\"\")","v":""},{"$f":"IF(AND(LEN($D16)>0,SUMIF($F$13:$J$13,BM$13,$F16:$J16)>0,ASISTENCIA!BJ15<>\"X\",ASISTENCIA!BJ15<>\"L\",ASISTENCIA!BJ15<>\"J\",ASISTENCIA!BJ15<>\"F\"),SUMIF($F$13:$J$13,BM$13,$F16:$J16),\"\")","v":""},{"$f":"IF(AND(LEN($D16)>0,SUMIF($F$13:$J$13,BN$13,$F16:$J16)>0,ASISTENCIA!BK15<>\"X\",ASISTENCIA!BK15<>\"L\",ASISTENCIA!BK15<>\"J\",ASISTENCIA!BK15<>\"F\"),SUMIF($F$13:$J$13,BN$13,$F16:$J16),\"\")","v":""},{"$f":"IF(AND(LEN($D16)>0,SUMIF($F$13:$J$13,BO$13,$F16:$J16)>0,ASISTENCIA!BL15<>\"X\",ASISTENCIA!BL15<>\"L\",ASISTENCIA!BL15<>\"J\",ASISTENCIA!BL15<>\"F\"),SUMIF($F$13:$J$13,BO$13,$F16:$J16),\"\")","v":""},{"$f":"IF(AND(LEN($D16)>0,SUMIF($F$13:$J$13,BP$13,$F16:$J16)>0,ASISTENCIA!BM15<>\"X\",ASISTENCIA!BM15<>\"L\",ASISTENCIA!BM15<>\"J\",ASISTENCIA!BM15<>\"F\"),SUMIF($F$13:$J$13,BP$13,$F16:$J16),\"\")","v":""},{"$f":"IF(AND(LEN($D16)>0,SUMIF($F$13:$J$13,BQ$13,$F16:$J16)>0,ASISTENCIA!BN15<>\"X\",ASISTENCIA!BN15<>\"L\",ASISTENCIA!BN15<>\"J\",ASISTENCIA!BN15<>\"F\"),SUMIF($F$13:$J$13,BQ$13,$F16:$J16),\"\")","v":""},{"$f":"IF(AND(LEN($D16)>0,SUMIF($F$13:$J$13,BR$13,$F16:$J16)>0,ASISTENCIA!BO15<>\"X\",ASISTENCIA!BO15<>\"L\",ASISTENCIA!BO15<>\"J\",ASISTENCIA!BO15<>\"F\"),SUMIF($F$13:$J$13,BR$13,$F16:$J16),\"\")","v":""},{"$f":"IF(AND(LEN($D16)>0,SUMIF($F$13:$J$13,BS$13,$F16:$J16)>0,ASISTENCIA!BP15<>\"X\",ASISTENCIA!BP15<>\"L\",ASISTENCIA!BP15<>\"J\",ASISTENCIA!BP15<>\"F\"),SUMIF($F$13:$J$13,BS$13,$F16:$J16),\"\")","v":""},{"$f":"IF(AND(LEN($D16)>0,SUMIF($F$13:$J$13,BT$13,$F16:$J16)>0,ASISTENCIA!BQ15<>\"X\",ASISTENCIA!BQ15<>\"L\",ASISTENCIA!BQ15<>\"J\",ASISTENCIA!BQ15<>\"F\"),SUMIF($F$13:$J$13,BT$13,$F16:$J16),\"\")","v":""},{"$f":"IF(AND(LEN($D16)>0,SUMIF($F$13:$J$13,BU$13,$F16:$J16)>0,ASISTENCIA!BR15<>\"X\",ASISTENCIA!BR15<>\"L\",ASISTENCIA!BR15<>\"J\",ASISTENCIA!BR15<>\"F\"),SUMIF($F$13:$J$13,BU$13,$F16:$J16),\"\")","v":""},{"$f":"IF(AND(LEN($D16)>0,SUMIF($F$13:$J$13,BV$13,$F16:$J16)>0,ASISTENCIA!BS15<>\"X\",ASISTENCIA!BS15<>\"L\",ASISTENCIA!BS15<>\"J\",ASISTENCIA!BS15<>\"F\"),SUMIF($F$13:$J$13,BV$13,$F16:$J16),\"\")","v":""},{"$f":"IF(AND(LEN($D16)>0,SUMIF($F$13:$J$13,BW$13,$F16:$J16)>0,ASISTENCIA!BT15<>\"X\",ASISTENCIA!BT15<>\"L\",ASISTENCIA!BT15<>\"J\",ASISTENCIA!BT15<>\"F\"),SUMIF($F$13:$J$13,BW$13,$F16:$J16),\"\")","v":""},{"$f":"IF(AND(LEN($D16)>0,SUMIF($F$13:$J$13,BX$13,$F16:$J16)>0,ASISTENCIA!BU15<>\"X\",ASISTENCIA!BU15<>\"L\",ASISTENCIA!BU15<>\"J\",ASISTENCIA!BU15<>\"F\"),SUMIF($F$13:$J$13,BX$13,$F16:$J16),\"\")","v":""},{"$f":"IF(AND(LEN($D16)>0,SUMIF($F$13:$J$13,BY$13,$F16:$J16)>0,ASISTENCIA!BV15<>\"X\",ASISTENCIA!BV15<>\"L\",ASISTENCIA!BV15<>\"J\",ASISTENCIA!BV15<>\"F\"),SUMIF($F$13:$J$13,BY$13,$F16:$J16),\"\")","v":""},{"$f":"IF(AND(LEN($D16)>0,SUMIF($F$13:$J$13,BZ$13,$F16:$J16)>0,ASISTENCIA!BW15<>\"X\",ASISTENCIA!BW15<>\"L\",ASISTENCIA!BW15<>\"J\",ASISTENCIA!BW15<>\"F\"),SUMIF($F$13:$J$13,BZ$13,$F16:$J16),\"\")","v":""},{"$f":"IF(AND(LEN($D16)>0,SUMIF($F$13:$J$13,CA$13,$F16:$J16)>0,ASISTENCIA!BX15<>\"X\",ASISTENCIA!BX15<>\"L\",ASISTENCIA!BX15<>\"J\",ASISTENCIA!BX15<>\"F\"),SUMIF($F$13:$J$13,CA$13,$F16:$J16),\"\")","v":""},{"$f":"IF(AND(LEN($D16)>0,SUMIF($F$13:$J$13,CB$13,$F16:$J16)>0,ASISTENCIA!BY15<>\"X\",ASISTENCIA!BY15<>\"L\",ASISTENCIA!BY15<>\"J\",ASISTENCIA!BY15<>\"F\"),SUMIF($F$13:$J$13,CB$13,$F16:$J16),\"\")","v":""},{"$error":"#REF!"}]
[{"$error":"#N/A"},{"$f":"IF(LEN(C17)>0,VLOOKUP($O$4,DATA!$A$1:$S$1,2,FALSE),\"\")","v":{"$error":"#N/A"}},"JULIO",{"$f":"IF(LEN(ASISTENCIA!E16)>0,ASISTENCIA!E16,\"\")","v":"FLORES ORTEGA, Julia"},{"$f":"IF(LEN(D17)>0,ASISTENCIA!F16,\"\")","v":"Profesor"},null,null,null,null,null,"",null,null,{"$error":"#REF!"},{"$f":"IF(AND(LEN($D17)>0,SUMIF($F$13:$J$13,O$13,$F17:$J17)>0,ASISTENCIA!I16<>\"X\",ASISTENCIA!I16<>\"L\",ASISTENCIA!I16<>\"J\",ASISTENCIA!I16<>\"V\",ASISTENCIA!I16<>\"F\",ASISTENCIA!I16<>\"\"),SUMIF($F$13:$J$13,O$13,$F17:$J17),\"\")","v":""},{"$f":"IF(AND(LEN($D17)>0,SUMIF($F$13:$J$13,P$13,$F17:$J17)>0,ASISTENCIA!J16<>\"X\",ASISTENCIA!J16<>\"L\",ASISTENCIA!J16<>\"J\",ASISTENCIA!J16<>\"V\",ASISTENCIA!J16<>\"F\",ASISTENCIA!J16<>\"\"),SUMIF($F$13:$J$13,P$13,$F17:$J17),\"\")","v":""},{"$f":"IF(AND(LEN($D17)>0,SUMIF($F$13:$J$13,Q$13,$F17:$J17)>0,ASISTENCIA!K16<>\"X\",ASISTENCIA!K16<>\"L\",ASISTENCIA!K16<>\"J\",ASISTENCIA!K16<>\"V\",ASISTENCIA!K16<>\"F\",ASISTENCIA!K16<>\"\"),SUMIF($F$13:$J$13,Q$13,$F17:$J17),\"\")","v":""},{"$f":"IF(AND(LEN($D17)>0,SUMIF($F$13:$J$13,R$13,$F17:$J17)>0,ASISTENCIA!L16<>\"X\",ASISTENCIA!L16<>\"L\",ASISTENCIA!L16<>\"J\",ASISTENCIA!L16<>\"V\",ASISTENCIA!L16<>\"F\",ASISTENCIA!L16<>\"\"),SUMIF($F$13:$J$13,R$13,$F17:$J17),\"\")","v":""},{"$f":"IF(AND(LEN($D17)>0,SUMIF($F$13:$J$13,S$13,$F17:$J17)>0,ASISTENCIA!M16<>\"X\",ASISTENCIA!M16<>\"L\",ASISTENCIA!M16<>\"J\",ASISTENCIA!M16<>\"V\",ASISTENCIA!M16<>\"F\",ASISTENCIA!M16<>\"\"),SUMIF($F$13:$J$13,S$13,$F17:$J17),\"\")","v":""},{"$f":"IF(AND(LEN($D17)>0,SUMIF($F$13:$J$13,T$13,$F17:$J17)>0,ASISTENCIA!N16<>\"X\",ASISTENCIA!N16<>\"L\",ASISTENCIA!N16<>\"J\",ASISTENCIA!N16<>\"V\",ASISTENCIA!N16<>\"F\",ASISTENCIA!N16<>\"\"),SUMIF($F$13:$J$13,T$13,$F17:$J17),\"\")","v":""},{"$f":"IF(AND(LEN($D17)>0,SUMIF($F$13:$J$13,U$13,$F17:$J17)>0,ASISTENCIA!O16<>\"X\",ASISTENCIA!O16<>\"L\",ASISTENCIA!O16<>\"J\",ASISTENCIA!O16<>\"V\",ASISTENCIA!O16<>\"F\",ASISTENCIA!O16<>\"\"),SUMIF($F$13:$J$13,U$13,$F17:$J17),\"\")","v":""},{"$f":"IF(AND(LEN($D17)>0,SUMIF($F$13:$J$13,V$13,$F17:$J17)>0,ASISTENCIA!P16<>\"X\",ASISTENCIA!P16<>\"L\",ASISTENCIA!P16<>\"J\",ASISTENCIA!P16<>\"V\",ASISTENCIA!P16<>\"F\",ASISTENCIA!P16<>\"\"),SUMIF($F$13:$J$13,V$13,$F17:$J17),\"\")","v":""},{"$f":"IF(AND(LEN($D17)>0,SUMIF($F$13:$J$13,W$13,$F17:$J17)>0,ASISTENCIA!Q16<>\"X\",ASISTENCIA!Q16<>\"L\",ASISTENCIA!Q16<>\"J\",ASISTENCIA!Q16<>\"V\",ASISTENCIA!Q16<>\"F\",ASISTENCIA!Q16<>\"\"),SUMIF($F$13:$J$13,W$13,$F17:$J17),\"\")","v":""},{"$f":"IF(AND(LEN($D17)>0,SUMIF($F$13:$J$13,X$13,$F17:$J17)>0,ASISTENCIA!R16<>\"X\",ASISTENCIA!R16<>\"L\",ASISTENCIA!R16<>\"J\",ASISTENCIA!R16<>\"V\",ASISTENCIA!R16<>\"F\",ASISTENCIA!R16<>\"\"),SUMIF($F$13:$J$13,X$13,$F17:$J17),\"\")","v":""},{"$f":"IF(AND(LEN($D17)>0,SUMIF($F$13:$J$13,Y$13,$F17:$J17)>0,ASISTENCIA!S16<>\"X\",ASISTENCIA!S16<>\"L\",ASISTENCIA!S16<>\"J\",ASISTENCIA!S16<>\"V\",ASISTENCIA!S16<>\"F\",ASISTENCIA!S16<>\"\"),SUMIF($F$13:$J$13,Y$13,$F17:$J17),\"\")","v":""},{"$f":"IF(AND(LEN($D17)>0,SUMIF($F$13:$J$13,Z$13,$F17:$J17)>0,ASISTENCIA!T16<>\"X\",ASISTENCIA!T16<>\"L\",ASISTENCIA!T16<>\"J\",ASISTENCIA!T16<>\"V\",ASISTENCIA!T16<>\"F\",ASISTENCIA!T16<>\"\"),SUMIF($F$13:$J$13,Z$13,$F17:$J17),\"\")","v":""},{"$f":"IF(AND(LEN($D17)>0,SUMIF($F$13:$J$13,AA$13,$F17:$J17)>0,ASISTENCIA!U16<>\"X\",ASISTENCIA!U16<>\"L\",ASISTENCIA!U16<>\"J\",ASISTENCIA!U16<>\"V\",ASISTENCIA!U16<>\"F\",ASISTENCIA!U16<>\"\"),SUMIF($F$13:$J$13,AA$13,$F17:$J17),\"\")","v":""},{"$f":"IF(AND(LEN($D17)>0,SUMIF($F$13:$J$13,AB$13,$F17:$J17)>0,ASISTENCIA!V16<>\"X\",ASISTENCIA!V16<>\"L\",ASISTENCIA!V16<>\"J\",ASISTENCIA!V16<>\"V\",ASISTENCIA!V16<>\"F\",ASISTENCIA!V16<>\"\"),SUMIF($F$13:$J$13,AB$13,$F17:$J17),\"\")","v":""},{"$f":"IF(AND(LEN($D17)>0,SUMIF($F$13:$J$13,AC$13,$F17:$J17)>0,ASISTENCIA!W16<>\"X\",ASISTENCIA!W16<>\"L\",ASISTENCIA!W16<>\"J\",ASISTENCIA!W16<>\"V\",ASISTENCIA!W16<>\"F\",ASISTENCIA!W16<>\"\"),SUMIF($F$13:$J$13,AC$13,$F17:$J17),\"\")","v":""},{"$f":"IF(AND(LEN($D17)>0,SUMIF($F$13:$J$13,AD$13,$F17:$J17)>0,ASISTENCIA!X16<>\"X\",ASISTENCIA!X16<>\"L\",ASISTENCIA!X16<>\"J\",ASISTENCIA!X16<>\"V\",ASISTENCIA!X16<>\"F\",ASISTENCIA!X16<>\"\"),SUMIF($F$13:$J$13,AD$13,$F17:$J17),\"\")","v":""},{"$f":"IF(AND(LEN($D17)>0,SUMIF($F$13:$J$13,AE$13,$F17:$J17)>0,ASISTENCIA!Y16<>\"X\",ASISTENCIA!Y16<>\"L\",ASISTENCIA!Y16<>\"J\",ASISTENCIA!Y16<>\"V\",ASISTENCIA!Y16<>\"F\",ASISTENCIA!Y16<>\"\"),SUMIF($F$13:$J$13,AE$13,$F17:$J17),\"\")","v":""},{"$f":"IF(AND(LEN($D17)>0,SUMIF($F$13:$J$13,AF$13,$F17:$J17)>0,ASISTENCIA!Z16<>\"X\",ASISTENCIA!Z16<>\"L\",ASISTENCIA!Z16<>\"J\",ASISTENCIA!Z16<>\"V\",ASISTENCIA!Z16<>\"F\",ASISTENCIA!Z16<>\"\"),SUMIF($F$13:$J$13,AF$13,$F17:$J17),\"\")","v":""},{"$f":"IF(AND(LEN($D17)>0,SUMIF($F$13:$J$13,AG$13,$F17:$J17)>0,ASISTENCIA!AA16<>\"X\",ASISTENCIA!AA16<>\"L\",ASISTENCIA!AA16<>\"J\",ASISTENCIA!AA16<>\"V\",ASISTENCIA!AA16<>\"F\",ASISTENCIA!AA16<>\"\"),SUMIF($F$13:$J$13,AG$13,$F17:$J17),\"\")","v":""},{"$f":"IF(AND(LEN($D17)>0,SUMIF($F$13:$J$13,AH$13,$F17:$J17)>0,ASISTENCIA!AB16<>\"X\",ASISTENCIA!AB16<>\"L\",ASISTENCIA!AB16<>\"J\",ASISTENCIA!AB16<>\"V\",ASISTENCIA!AB16<>\"F\",ASISTENCIA!AB16<>\"\"),SUMIF($F$13:$J$13,AH$13,$F17:$J17),\"\")","v":""},{"$f":"IF(AND(LEN($D17)>0,SUMIF($F$13:$J$13,AI$13,$F17:$J17)>0,ASISTENCIA!AC16<>\"X\",ASISTENCIA!AC16<>\"L\",ASISTENCIA!AC16<>\"J\",ASISTENCIA!AC16<>\"V\",ASISTENCIA!AC16<>\"F\",ASISTENCIA!AC16<>\"\"),SUMIF($F$13:$J$13,AI$13,$F17:$J17),\"\")","v":""},{"$f":"IF(AND(LEN($D17)>0,SUMIF($F$13:$J$13,AJ$13,$F17:$J17)>0,ASISTENCIA!AD16<>\"X\",ASISTENCIA!AD16<>\"L\",ASISTENCIA!AD16<>\"J\",ASISTENCIA!AD16<>\"V\",ASISTENCIA!AD16<>\"F\",ASISTENCIA!AD16<>\"\"),SUMIF($F$13:$J$13,AJ$13,$F17:$J17),\"\")","v":""},{"$f":"IF(AND(LEN($D17)>0,SUMIF($F$13:$J$13,AK$13,$F17:$J17)>0,ASISTENCIA!AE16<>\"X\",ASISTENCIA!AE16<>\"L\",ASISTENCIA!AE16<>\"J\",ASISTENCIA!AE16<>\"V\",ASISTENCIA!AE16<>\"F\",ASISTENCIA!AE16<>\"\"),SUMIF($F$13:$J$13,AK$13,$F17:$J17),\"\")","v":""},{"$f":"IF(AND(LEN($D17)>0,SUMIF($F$13:$J$13,AL$13,$F17:$J17)>0,ASISTENCIA!AF16<>\"X\",ASISTENCIA!AF16<>\"L\",ASISTENCIA!AF16<>\"J\",ASISTENCIA!AF16<>\"V\",ASISTENCIA!AF16<>\"F\",ASISTENCIA!AF16<>\"\"),SUMIF($F$13:$J$13,AL$13,$F17:$J17),\"\")","v":""},{"$f":"IF(AND(LEN($D17)>0,SUMIF($F$13:$J$13,AM$13,$F17:$J17)>0,ASISTENCIA!AG16<>\"X\",ASISTENCIA!AG16<>\"L\",ASISTENCIA!AG16<>\"J\",ASISTENCIA!AG16<>\"V\",ASISTENCIA!AG16<>\"F\",ASISTENCIA!AG16<>\"\"),SUMIF($F$13:$J$13,AM$13,$F17:$J17),\"\")","v":""},{"$f":"IF(AND(LEN($D17)>0,SUMIF($F$13:$J$13,AN$13,$F17:$J17)>0,ASISTENCIA!AH16<>\"X\",ASISTENCIA!AH16<>\"L\",ASISTENCIA!AH16<>\"J\",ASISTENCIA!AH16<>\"V\",ASISTENCIA!AH16<>\"F\",ASISTENCIA!AH16<>\"\"),SUMIF($F$13:$J$13,AN$13,$F17:$J17),\"\")","v":""},{"$f":"IF(AND(LEN($D17)>0,SUMIF($F$13:$J$13,AO$13,$F17:$J17)>0,ASISTENCIA!AI16<>\"X\",ASISTENCIA!AI16<>\"L\",ASISTENCIA!AI16<>\"J\",ASISTENCIA!AI16<>\"V\",ASISTENCIA!AI16<>\"F\",ASISTENCIA!AI16<>\"\"),SUMIF($F$13:$J$13,AO$13,$F17:$J17),\"\")","v":""},{"$f":"IF(AND(LEN($D17)>0,SUMIF($F$13:$J$13,AP$13,$F17:$J17)>0,ASISTENCIA!AJ16<>\"X\",ASISTENCIA!AJ16<>\"L\",ASISTENCIA!AJ16<>\"J\",ASISTENCIA!AJ16<>\"V\",ASISTENCIA!AJ16<>\"F\",ASISTENCIA!AJ16<>\"\"),SUMIF($F$13:$J$13,AP$13,$F17:$J17),\"\")","v":""},{"$f":"IF(AND(LEN($D17)>0,SUMIF($F$13:$J$13,AQ$13,$F17:$J17)>0,ASISTENCIA!AK16<>\"X\",ASISTENCIA!AK16<>\"L\",ASISTENCIA!AK16<>\"J\",ASISTENCIA!AK16<>\"V\",ASISTENCIA!AK16<>\"F\",ASISTENCIA!AK16<>\"\"),SUMIF($F$13:$J$13,AQ$13,$F17:$J17),\"\")","v":""},{"$f":"IF(AND(LEN($D17)>0,SUMIF($F$13:$J$13,AR$13,$F17:$J17)>0,ASISTENCIA!AL16<>\"X\",ASISTENCIA!AL16<>\"L\",ASISTENCIA!AL16<>\"J\",ASISTENCIA!AL16<>\"V\",ASISTENCIA!AL16<>\"F\",ASISTENCIA!AL16<>\"\"),SUMIF($F$13:$J$13,AR$13,$F17:$J17),\"\")","v":""},{"$f":"IF(AND(LEN($D17)>0,SUMIF($F$13:$J$13,AS$13,$F17:$J17)>0,ASISTENCIA!AM16<>\"X\",ASISTENCIA!AM16<>\"L\",ASISTENCIA!AM16<>\"J\",ASISTENCIA!AM16<>\"V\",ASISTENCIA!AM16<>\"F\",ASISTENCIA!AM16<>\"\"),SUMIF($F$13:$J$13,AS$13,$F17:$J17),\"\")","v":""},"",null,null,null,{"$f":"IF(AND(LEN($D17)>0,SUMIF($F$13:$J$13,AX$13,$F17:$J17)>0,ASISTENCIA!AU16<>\"X\",ASISTENCIA!AU16<>\"L\",ASISTENCIA!AU16<>\"J\",ASISTENCIA!AU16<>\"F\"),SUMIF($F$13:$J$13,AX$13,$F17:$J17),\"\")","v":""},{"$f":"IF(AND(LEN($D17)>0,SUMIF($F$13:$J$13,AY$13,$F17:$J17)>0,ASISTENCIA!#REF!<>\"X\",ASISTENCIA!#REF!<>\"L\",ASISTENCIA!#REF!<>\"J\",ASISTENCIA!#REF!<>\"F\"),SUMIF($F$13:$J$13,AY$13,$F17:$J17),\"\")","v":{"$error":"#REF!"}},{"$f":"IF(AND(LEN($D17)>0,SUMIF($F$13:$J$13,AZ$13,$F17:$J17)>0,ASISTENCIA!BF16<>\"X\",ASISTENCIA!BF16<>\"L\",ASISTENCIA!BF16<>\"J\",ASISTENCIA!BF16<>\"F\"),SUMIF($F$13:$J$13,AZ$13,$F17:$J17),\"\")","v":""},{"$f":"IF(AND(LEN($D17)>0,SUMIF($F$13:$J$13,BA$13,$F17:$J17)>0,ASISTENCIA!BG16<>\"X\",ASISTENCIA!BG16<>\"L\",ASISTENCIA!BG16<>\"J\",ASISTENCIA!BG16<>\"F\"),SUMIF($F$13:$J$13,BA$13,$F17:$J17),\"\")","v":""},{"$f":"IF(AND(LEN($D17)>0,SUMIF($F$13:$J$13,BB$13,$F17:$J17)>0,ASISTENCIA!BH16<>\"X\",ASISTENCIA!BH16<>\"L\",ASISTENCIA!BH16<>\"J\",ASISTENCIA!BH16<>\"F\"),SUMIF($F$13:$J$13,BB$13,$F17:$J17),\"\")","v":""},{"$f":"IF(AND(LEN($D17)>0,SUMIF($F$13:$J$13,BC$13,$F17:$J17)>0,ASISTENCIA!AZ16<>\"X\",ASISTENCIA!AZ16<>\"L\",ASISTENCIA!AZ16<>\"J\",ASISTENCIA!AZ16<>\"F\"),SUMIF($F$13:$J$13,BC$13,$F17:$J17),\"\")","v":""},{"$f":"IF(AND(LEN($D17)>0,SUMIF($F$13:$J$13,BD$13,$F17:$J17)>0,ASISTENCIA!BA16<>\"X\",ASISTENCIA!BA16<>\"L\",ASISTENCIA!BA16<>\"J\",ASISTENCIA!BA16<>\"F\"),SUMIF($F$13:$J$13,BD$13,$F17:$J17),\"\")","v":""},{"$f":"IF(AND(LEN($D17)>0,SUMIF($F$13:$J$13,BE$13,$F17:$J17)>0,ASISTENCIA!BB16<>\"X\",ASISTENCIA!BB16<>\"L\",ASISTENCIA!BB16<>\"J\",ASISTENCIA!BB16<>\"F\"),SUMIF($F$13:$J$13,BE$13,$F17:$J17),\"\")","v":""},{"$f":"IF(AND(LEN($D17)>0,SUMIF($F$13:$J$13,BF$13,$F17:$J17)>0,ASISTENCIA!#REF!<>\"X\",ASISTENCIA!#REF!<>\"L\",ASISTENCIA!#REF!<>\"J\",ASISTENCIA!#REF!<>\"F\"),SUMIF($F$13:$J$13,BF$13,$F17:$J17),\"\")","v":{"$error":"#REF!"}},{"$f":"IF(AND(LEN($D17)>0,SUMIF($F$13:$J$13,BG$13,$F17:$J17)>0,ASISTENCIA!#REF!<>\"X\",ASISTENCIA!#REF!<>\"L\",ASISTENCIA!#REF!<>\"J\",ASISTENCIA!#REF!<>\"F\"),SUMIF($F$13:$J$13,BG$13,$F17:$J17),\"\")","v":{"$error":"#REF!"}},{"$f":"IF(AND(LEN($D17)>0,SUMIF($F$13:$J$13,BH$13,$F17:$J17)>0,ASISTENCIA!#REF!<>\"X\",ASISTENCIA!#REF!<>\"L\",ASISTENCIA!#REF!<>\"J\",ASISTENCIA!#REF!<>\"F\"),SUMIF($F$13:$J$13,BH$13,$F17:$J17),\"\")","v":{"$error":"#REF!"}},{"$f":"IF(AND(LEN($D17)>0,SUMIF($F$13:$J$13,BI$13,$F17:$J17)>0,ASISTENCIA!#REF!<>\"X\",ASISTENCIA!#REF!<>\"L\",ASISTENCIA!#REF!<>\"J\",ASISTENCIA!#REF!<>\"F\"),SUMIF($F$13:$J$13,BI$13,$F17:$J17),\"\")","v":{"$error":"#REF!"}},{"$f":"IF(AND(LEN($D17)>0,SUMIF($F$13:$J$13,BJ$13,$F17:$J17)>0,ASISTENCIA!#REF!<>\"X\",ASISTENCIA!#REF!<>\"L\",ASISTENCIA!#REF!<>\"J\",ASISTENCIA!#REF!<>\"F\"),SUMIF($F$13:$J$13,BJ$13,$F17:$J17),\"\")","v":{"$error":"#REF!"}},{"$f":"IF(AND(LEN($D17)>0,SUMIF($F$13:$J$13,BK$13,$F17:$J17)>0,ASISTENCIA!#REF!<>\"X\",ASISTENCIA!#REF!<>\"L\",ASISTENCIA!#REF!<>\"J\",ASISTENCIA!#REF!<>\"F\"),SUMIF($F$13:$J$13,BK$13,$F17:$J17),\"\")","v":{"$error":"#REF!"}},{"$f":"IF(AND(LEN($D17)>0,SUMIF($F$13:$J$13,BL$13,$F17:$J17)>0,ASISTENCIA!BI16<>\"X\",ASISTENCIA!BI16<>\"L\",ASISTENCIA!BI16<>\"J\",ASISTENCIA!BI16<>\"F\"),SUMIF($F$13:$J$13,BL$13,$F17:$J17),\"\")","v":""},{"$f":"IF(AND(LEN($D17)>0,SUMIF($F$13:$J$13,BM$13,$F17:$J17)>0,ASISTENCIA!BJ16<>\"X\",ASISTENCIA!BJ16<>\"L\",ASISTENCIA!BJ16<>\"J\",ASISTENCIA!BJ16<>\"F\"),SUMIF($F$13:$J$13,BM$13,$F17:$J17),\"\")","v":""},{"$f":"IF(AND(LEN($D17)>0,SUMIF($F$13:$J$13,BN$13,$F17:$J17)>0,ASISTENCIA!BK16<>\"X\",ASISTENCIA!BK16<>\"L\",ASISTENCIA!BK16<>\"J\",ASISTENCIA!BK16<>\"F\"),SUMIF($F$13:$J$13,BN$13,$F17:$J17),\"\")","v":""},{"$f":"IF(AND(LEN($D17)>0,SUMIF($F$13:$J$13,BO$13,$F17:$J17)>0,ASISTENCIA!BL16<>\"X\",ASISTENCIA!BL16<>\"L\",ASISTENCIA!BL16<>\"J\",ASISTENCIA!BL16<>\"F\"),SUMIF($F$13:$J$13,BO$13,$F17:$J17),\"\")","v":""},{"$f":"IF(AND(LEN($D17)>0,SUMIF($F$13:$J$13,BP$13,$F17:$J17)>0,ASISTENCIA!BM16<>\"X\",ASISTENCIA!BM16<>\"L\",ASISTENCIA!BM16<>\"J\",ASISTENCIA!BM16<>\"F\"),SUMIF($F$13:$J$13,BP$13,$F17:$J17),\"\")","v":""},{"$f":"IF(AND(LEN($D17)>0,SUMIF($F$13:$J$13,BQ$13,$F17:$J17)>0,ASISTENCIA!BN16<>\"X\",ASISTENCIA!BN16<>\"L\",ASISTENCIA!BN16<>\"J\",ASISTENCIA!BN16<>\"F\"),SUMIF($F$13:$J$13,BQ$13,$F17:$J17),\"\")","v":""},{"$f":"IF(AND(LEN($D17)>0,SUMIF($F$13:$J$13,BR$13,$F17:$J17)>0,ASISTENCIA!BO16<>\"X\",ASISTENCIA!BO16<>\"L\",ASISTENCIA!BO16<>\"J\",ASISTENCIA!BO16<>\"F\"),SUMIF($F$13:$J$13,BR$13,$F17:$J17),\"\")","v":""},{"$f":"IF(AND(LEN($D17)>0,SUMIF($F$13:$J$13,BS$13,$F17:$J17)>0,ASISTENCIA!BP16<>\"X\",ASISTENCIA!BP16<>\"L\",ASISTENCIA!BP16<>\"J\",ASISTENCIA!BP16<>\"F\"),SUMIF($F$13:$J$13,BS$13,$F17:$J17),\"\")","v":""},{"$f":"IF(AND(LEN($D17)>0,SUMIF($F$13:$J$13,BT$13,$F17:$J17)>0,ASISTENCIA!BQ16<>\"X\",ASISTENCIA!BQ16<>\"L\",ASISTENCIA!BQ16<>\"J\",ASISTENCIA!BQ16<>\"F\"),SUMIF($F$13:$J$13,BT$13,$F17:$J17),\"\")","v":""},{"$f":"IF(AND(LEN($D17)>0,SUMIF($F$13:$J$13,BU$13,$F17:$J17)>0,ASISTENCIA!BR16<>\"X\",ASISTENCIA!BR16<>\"L\",ASISTENCIA!BR16<>\"J\",ASISTENCIA!BR16<>\"F\"),SUMIF($F$13:$J$13,BU$13,$F17:$J17),\"\")","v":""},{"$f":"IF(AND(LEN($D17)>0,SUMIF($F$13:$J$13,BV$13,$F17:$J17)>0,ASISTENCIA!BS16<>\"X\",ASISTENCIA!BS16<>\"L\",ASISTENCIA!BS16<>\"J\",ASISTENCIA!BS16<>\"F\"),SUMIF($F$13:$J$13,BV$13,$F17:$J17),\"\")","v":""},{"$f":"IF(AND(LEN($D17)>0,SUMIF($F$13:$J$13,BW$13,$F17:$J17)>0,ASISTENCIA!BT16<>\"X\",ASISTENCIA!BT16<>\"L\",ASISTENCIA!BT16<>\"J\",ASISTENCIA!BT16<>\"F\"),SUMIF($F$13:$J$13,BW$13,$F17:$J17),\"\")","v":""},{"$f":"IF(AND(LEN($D17)>0,SUMIF($F$13:$J$13,BX$13,$F17:$J17)>0,ASISTENCIA!BU16<>\"X\",ASISTENCIA!BU16<>\"L\",ASISTENCIA!BU16<>\"J\",ASISTENCIA!BU16<>\"F\"),SUMIF($F$13:$J$13,BX$13,$F17:$J17),\"\")","v":""},{"$f":"IF(AND(LEN($D17)>0,SUMIF($F$13:$J$13,BY$13,$F17:$J17)>0,ASISTENCIA!BV16<>\"X\",ASISTENCIA!BV16<>\"L\",ASISTENCIA!BV16<>\"J\",ASISTENCIA!BV16<>\"F\"),SUMIF($F$13:$J$13,BY$13,$F17:$J17),\"\")","v":""},{"$f":"IF(AND(LEN($D17)>0,SUMIF($F$13:$J$13,BZ$13,$F17:$J17)>0,ASISTENCIA!BW16<>\"X\",ASISTENCIA!BW16<>\"L\",ASISTENCIA!BW16<>\"J\",ASISTENCIA!BW16<>\"F\"),SUMIF($F$13:$J$13,BZ$13,$F17:$J17),\"\")","v":""},{"$f":"IF(AND(LEN($D17)>0,SUMIF($F$13:$J$13,CA$13,$F17:$J17)>0,ASISTENCIA!BX16<>\"X\",ASISTENCIA!BX16<>\"L\",ASISTENCIA!BX16<>\"J\",ASISTENCIA!BX16<>\"F\"),SUMIF($F$13:$J$13,CA$13,$F17:$J17),\"\")","v":""},{"$f":"IF(AND(LEN($D17)>0,SUMIF($F$13:$J$13,CB$13,$F17:$J17)>0,ASISTENCIA!BY16<>\"X\",ASISTENCIA!BY16<>\"L\",ASISTENCIA!BY16<>\"J\",ASISTENCIA!BY16<>\"F\"),SUMIF($F$13:$J$13,CB$13,$F17:$J17),\"\")","v":""},{"$error":"#REF!"}]
[{"$error":"#N/A"},{"$f":"IF(LEN(C18)>0,VLOOKUP($O$4,DATA!$A$1:$S$1,2,FALSE),\"\")","v":{"$error":"#N/A"}},"JULIO",{"$f":"IF(LEN(ASISTENCIA!E17)>0,ASISTENCIA!E17,\"\")","v":"CONDORI PAUCAR, Mery Yeny"},{"$f":"IF(LEN(D18)>0,ASISTENCIA!F17,\"\")","v":"Profesor"},null,null,null,null,null,"",null,null,{"$error":"#REF!"},{"$f":"IF(AND(LEN($D18)>0,SUMIF($F$13:$J$13,O$13,$F18:$J18)>0,ASISTENCIA!I17<>\"X\",ASISTENCIA!I17<>\"L\",ASISTENCIA!I17<>\"J\",ASISTENCIA!I17<>\"V\",ASISTENCIA!I17<>\"F\",ASISTENCIA!I17<>\"\"),SUMIF($F$13:$J$13,O$13,$F18:$J18),\"\")","v":""},{"$f":"IF(AND(LEN($D18)>0,SUMIF($F$13:$J$13,P$13,$F18:$J18)>0,ASISTENCIA!J17<>\"X\",ASISTENCIA!J17<>\"L\",ASISTENCIA!J17<>\"J\",ASISTENCIA!J17<>\"V\",ASISTENCIA!J17<>\"F\",ASISTENCIA!J17<>\"\"),SUMIF($F$13:$J$13,P$13,$F18:$J18),\"\")","v":""},{"$f":"IF(AND(LEN($D18)>0,SUMIF($F$13:$J$13,Q$13,$F18:$J18)>0,ASISTENCIA!K17<>\"X\",ASISTENCIA!K17<>\"L\",ASISTENCIA!K17<>\"J\",ASISTENCIA!K17<>\"V\",ASISTENCIA!K17<>\"F\",ASISTENCIA!K17<>\"\"),SUMIF($F$13:$J$13,Q$13,$F18:$J18),\"\")","v":""},{"$f":"IF(AND(LEN($D18)>0,SUMIF($F$13:$J$13,R$13,$F18:$J18)>0,ASISTENCIA!L17<>\"X\",ASISTENCIA!L17<>\"L\",ASISTENCIA!L17<>\"J\",ASISTENCIA!L17<>\"V\",ASISTENCIA!L17<>\"F\",ASISTENCIA!L17<>\"\"),SUMIF($F$13:$J$13,R$13,$F18:$J18),\"\")","v":""},{"$f":"IF(AND(LEN($D18)>0,SUMIF($F$13:$J$13,S$13,$F18:$J18)>0,ASISTENCIA!M17<>\"X\",ASISTENCIA!M17<>\"L\",ASISTENCIA!M17<>\"J\",ASISTENCIA!M17<>\"V\",ASISTENCIA!M17<>\"F\",ASISTENCIA!M17<>\"\"),SUMIF($F$13:$J$13,S$13,$F18:$J18),\"\")","v":""},{"$f":"IF(AND(LEN($D18)>0,SUMIF($F$13:$J$13,T$13,$F18:$J18)>0,ASISTENCIA!N17<>\"X\",ASISTENCIA!N17<>\"L\",ASISTENCIA!N17<>\"J\",ASISTENCIA!N17<>\"V\",ASISTENCIA!N17<>\"F\",ASISTENCIA!N17<>\"\"),SUMIF($F$13:$J$13,T$13,$F18:$J18),\"\")","v":""},{"$f":"IF(AND(LEN($D18)>0,SUMIF($F$13:$J$13,U$13,$F18:$J18)>0,ASISTENCIA!O17<>\"X\",ASISTENCIA!O17<>\"L\",ASISTENCIA!O17<>\"J\",ASISTENCIA!O17<>\"V\",ASISTENCIA!O17<>\"F\",ASISTENCIA!O17<>\"\"),SUMIF($F$13:$J$13,U$13,$F18:$J18),\"\")","v":""},{"$f":"IF(AND(LEN($D18)>0,SUMIF($F$13:$J$13,V$13,$F18:$J18)>0,ASISTENCIA!P17<>\"X\",ASISTENCIA!P17<>\"L\",ASISTENCIA!P17<>\"J\",ASISTENCIA!P17<>\"V\",ASISTENCIA!P17<>\"F\",ASISTENCIA!P17<>\"\"),SUMIF($F$13:$J$13,V$13,$F18:$J18),\"\")","v":""},{"$f":"IF(AND(LEN($D18)>0,SUMIF($F$13:$J$13,W$13,$F18:$J18)>0,ASISTENCIA!Q17<>\"X\",ASISTENCIA!Q17<>\"L\",ASISTENCIA!Q17<>\"J\",ASISTENCIA!Q17<>\"V\",ASISTENCIA!Q17<>\"F\",ASISTENCIA!Q17<>\"\"),SUMIF($F$13:$J$13,W$13,$F18:$J18),\"\")","v":""},{"$f":"IF(AND(LEN($D18)>0,SUMIF($F$13:$J$13,X$13,$F18:$J18)>0,ASISTENCIA!R17<>\"X\",ASISTENCIA!R17<>\"L\",ASISTENCIA!R17<>\"J\",ASISTENCIA!R17<>\"V\",ASISTENCIA!R17<>\"F\",ASISTENCIA!R17<>\"\"),SUMIF($F$13:$J$13,X$13,$F18:$J18),\"\")","v":""},{"$f":"IF(AND(LEN($D18)>0,SUMIF($F$13:$J$13,Y$13,$F18:$J18)>0,ASISTENCIA!S17<>\"X\",ASISTENCIA!S17<>\"L\",ASISTENCIA!S17<>\"J\",ASISTENCIA!S17<>\"V\",ASISTENCIA!S17<>\"F\",ASISTENCIA!S17<>\"\"),SUMIF($F$13:$J$13,Y$13,$F18:$J18),\"\")","v":""},{"$f":"IF(AND(LEN($D18)>0,SUMIF($F$13:$J$13,Z$13,$F18:$J18)>0,ASISTENCIA!T17<>\"X\",ASISTENCIA!T17<>\"L\",ASISTENCIA!T17<>\"J\",ASISTENCIA!T17<>\"V\",ASISTENCIA!T17<>\"F\",ASISTENCIA!T17<>\"\"),SUMIF($F$13:$J$13,Z$13,$F18:$J18),\"\")","v":""},{"$f":"IF(AND(LEN($D18)>0,SUMIF($F$13:$J$13,AA$13,$F18:$J18)>0,ASISTENCIA!U17<>\"X\",ASISTENCIA!U17<>\"L\",ASISTENCIA!U17<>\"J\",ASISTENCIA!U17<>\"V\",ASISTENCIA!U17<>\"F\",ASISTENCIA!U17<>\"\"),SUMIF($F$13:$J$13,AA$13,$F18:$J18),\"\")","v":""},{"$f":"IF(AND(LEN($D18)>0,SUMIF($F$13:$J$13,AB$13,$F18:$J18)>0,ASISTENCIA!V17<>\"X\",ASISTENCIA!V17<>\"L\",ASISTENCIA!V17<>\"J\",ASISTENCIA!V17<>\"V\",ASISTENCIA!V17<>\"F\",ASISTENCIA!V17<>\"\"),SUMIF($F$13:$J$13,AB$13,$F18:$J18),\"\")","v":""},{"$f":"IF(AND(LEN($D18)>0,SUMIF($F$13:$J$13,AC$13,$F18:$J18)>0,ASISTENCIA!W17<>\"X\",ASISTENCIA!W17<>\"L\",ASISTENCIA!W17<>\"J\",ASISTENCIA!W17<>\"V\",ASISTENCIA!W17<>\"F\",ASISTENCIA!W17<>\"\"),SUMIF($F$13:$J$13,AC$13,$F18:$J18),\"\")","v":""},{"$f":"IF(AND(LEN($D18)>0,SUMIF($F$13:$J$13,AD$13,$F18:$J18)>0,ASISTENCIA!X17<>\"X\",ASISTENCIA!X17<>\"L\",ASISTENCIA!X17<>\"J\",ASISTENCIA!X17<>\"V\",ASISTENCIA!X17<>\"F\",ASISTENCIA!X17<>\"\"),SUMIF($F$13:$J$13,AD$13,$F18:$J18),\"\")","v":""},{"$f":"IF(AND(LEN($D18)>0,SUMIF($F$13:$J$13,AE$13,$F18:$J18)>0,ASISTENCIA!Y17<>\"X\",ASISTENCIA!Y17<>\"L\",ASISTENCIA!Y17<>\"J\",ASISTENCIA!Y17<>\"V\",ASISTENCIA!Y17<>\"F\",ASISTENCIA!Y17<>\"\"),SUMIF($F$13:$J$13,AE$13,$F18:$J18),\"\")","v":""},{"$f":"IF(AND(LEN($D18)>0,SUMIF($F$13:$J$13,AF$13,$F18:$J18)>0,ASISTENCIA!Z17<>\"X\",ASISTENCIA!Z17<>\"L\",ASISTENCIA!Z17<>\"J\",ASISTENCIA!Z17<>\"V\",ASISTENCIA!Z17<>\"F\",ASISTENCIA!Z17<>\"\"),SUMIF($F$13:$J$13,AF$13,$F18:$J18),\"\")","v":""},{"$f":"IF(AND(LEN($D18)>0,SUMIF($F$13:$J$13,AG$13,$F18:$J18)>0,ASISTENCIA!AA17<>\"X\",ASISTENCIA!AA17<>\"L\",ASISTENCIA!AA17<>\"J\",ASISTENCIA!AA17<>\"V\",ASISTENCIA!AA17<>\"F\",ASISTENCIA!AA17<>\"\"),SUMIF($F$13:$J$13,AG$13,$F18:$J18),\"\")","v":""},{"$f":"IF(AND(LEN($D18)>0,SUMIF($F$13:$J$13,AH$13,$F18:$J18)>0,ASISTENCIA!AB17<>\"X\",ASISTENCIA!AB17<>\"L\",ASISTENCIA!AB17<>\"J\",ASISTENCIA!AB17<>\"V\",ASISTENCIA!AB17<>\"F\",ASISTENCIA!AB17<>\"\"),SUMIF($F$13:$J$13,AH$13,$F18:$J18),\"\")","v":""},{"$f":"IF(AND(LEN($D18)>0,SUMIF($F$13:$J$13,AI$13,$F18:$J18)>0,ASISTENCIA!AC17<>\"X\",ASISTENCIA!AC17<>\"L\",ASISTENCIA!AC17<>\"J\",ASISTENCIA!AC17<>\"V\",ASISTENCIA!AC17<>\"F\",ASISTENCIA!AC17<>\"\"),SUMIF($F$13:$J$13,AI$13,$F18:$J18),\"\")","v":""},{"$f":"IF(AND(LEN($D18)>0,SUMIF($F$13:$J$13,AJ$13,$F18:$J18)>0,ASISTENCIA!AD17<>\"X\",ASISTENCIA!AD17<>\"L\",ASISTENCIA!AD17<>\"J\",ASISTENCIA!AD17<>\"V\",ASISTENCIA!AD17<>\"F\",ASISTENCIA!AD17<>\"\"),SUMIF($F$13:$J$13,AJ$13,$F18:$J18),\"\")","v":""},{"$f":"IF(AND(LEN($D18)>0,SUMIF($F$13:$J$13,AK$13,$F18:$J18)>0,ASISTENCIA!AE17<>\"X\",ASISTENCIA!AE17<>\"L\",ASISTENCIA!AE17<>\"J\",ASISTENCIA!AE17<>\"V\",ASISTENCIA!AE17<>\"F\",ASISTENCIA!AE17<>\"\"),SUMIF($F$13:$J$13,AK$13,$F18:$J18),\"\")","v":""},{"$f":"IF(AND(LEN($D18)>0,SUMIF($F$13:$J$13,AL$13,$F18:$J18)>0,ASISTENCIA!AF17<>\"X\",ASISTENCIA!AF17<>\"L\",ASISTENCIA!AF17<>\"J\",ASISTENCIA!AF17<>\"V\",ASISTENCIA!AF17<>\"F\",ASISTENCIA!AF17<>\"\"),SUMIF($F$13:$J$13,AL$13,$F18:$J18),\"\")","v":""},{"$f":"IF(AND(LEN($D18)>0,SUMIF($F$13:$J$13,AM$13,$F18:$J18)>0,ASISTENCIA!AG17<>\"X\",ASISTENCIA!AG17<>\"L\",ASISTENCIA!AG17<>\"J\",ASISTENCIA!AG17<>\"V\",ASISTENCIA!AG17<>\"F\",ASISTENCIA!AG17<>\"\"),SUMIF($F$13:$J$13,AM$13,$F18:$J18),\"\")","v":""},{"$f":"IF(AND(LEN($D18)>0,SUMIF($F$13:$J$13,AN$13,$F18:$J18)>0,ASISTENCIA!AH17<>\"X\",ASISTENCIA!AH17<>\"L\",ASISTENCIA!AH17<>\"J\",ASISTENCIA!AH17<>\"V\",ASISTENCIA!AH17<>\"F\",ASISTENCIA!AH17<>\"\"),SUMIF($F$13:$J$13,AN$13,$F18:$J18),\"\")","v":""},{"$f":"IF(AND(LEN($D18)>0,SUMIF($F$13:$J$13,AO$13,$F18:$J18)>0,ASISTENCIA!AI17<>\"X\",ASISTENCIA!AI17<>\"L\",ASISTENCIA!AI17<>\"J\",ASISTENCIA!AI17<>\"V\",ASISTENCIA!AI17<>\"F\",ASISTENCIA!AI17<>\"\"),SUMIF($F$13:$J$13,AO$13,$F18:$J18),\"\")","v":""},{"$f":"IF(AND(LEN($D18)>0,SUMIF($F$13:$J$13,AP$13,$F18:$J18)>0,ASISTENCIA!AJ17<>\"X\",ASISTENCIA!AJ17<>\"L\",ASISTENCIA!AJ17<>\"J\",ASISTENCIA!AJ17<>\"V\",ASISTENCIA!AJ17<>\"F\",ASISTENCIA!AJ17<>\"\"),SUMIF($F$13:$J$13,AP$13,$F18:$J18),\"\")","v":""},{"$f":"IF(AND(LEN($D18)>0,SUMIF($F$13:$J$13,AQ$13,$F18:$J18)>0,ASISTENCIA!AK17<>\"X\",ASISTENCIA!AK17<>\"L\",ASISTENCIA!AK17<>\"J\",ASISTENCIA!AK17<>\"V\",ASISTENCIA!AK17<>\"F\",ASISTENCIA!AK17<>\"\"),SUMIF($F$13:$J$13,AQ$13,$F18:$J18),\"\")","v":""},{"$f":"IF(AND(LEN($D18)>0,SUMIF($F$13:$J$13,AR$13,$F18:$J18)>0,ASISTENCIA!AL17<>\"X\",ASISTENCIA!AL17<>\"L\",ASISTENCIA!AL17<>\"J\",ASISTENCIA!AL17<>\"V\",ASISTENCIA!AL17<>\"F\",ASISTENCIA!AL17<>\"\"),SUMIF($F$13:$J$13,AR$13,$F18:$J18),\"\")","v":""},{"$f":"IF(AND(LEN($D18)>0,SUMIF($F$13:$J$13,AS$13,$F18:$J18)>0,ASISTENCIA!AM17<>\"X\",ASISTENCIA!AM17<>\"L\",ASISTENCIA!AM17<>\"J\",ASISTENCIA!AM17<>\"V\",ASISTENCIA!AM17<>\"F\",ASISTENCIA!AM17<>\"\"),SUMIF($F$13:$J$13,AS$13,$F18:$J18),\"\")","v":""},"",null,null,null,{"$f":"IF(AND(LEN($D18)>0,SUMIF($F$13:$J$13,AX$13,$F18:$J18)>0,ASISTENCIA!AU17<>\"X\",ASISTENCIA!AU17<>\"L\",ASISTENCIA!AU17<>\"J\",ASISTENCIA!AU17<>\"F\"),SUMIF($F$13:$J$13,AX$13,$F18:$J18),\"\")","v":""},{"$f":"IF(AND(LEN($D18)>0,SUMIF($F$13:$J$13,AY$13,$F18:$J18)>0,ASISTENCIA!AV17<>\"X\",ASISTENCIA!AV17<>\"L\",ASISTENCIA!AV17<>\"J\",ASISTENCIA!AV17<>\"F\"),SUMIF($F$13:$J$13,AY$13,$F18:$J18),\"\")","v":""},{"$f":"IF(AND(LEN($D18)>0,SUMIF($F$13:$J$13,AZ$13,$F18:$J18)>0,ASISTENCIA!AW17<>\"X\",ASISTENCIA!AW17<>\"L\",ASISTENCIA!AW17<>\"J\",ASISTENCIA!AW17<>\"F\"),SUMIF($F$13:$J$13,AZ$13,$F18:$J18),\"\")","v":""},{"$f":"IF(AND(LEN($D18)>0,SUMIF($F$13:$J$13,BA$13,$F18:$J18)>0,ASISTENCIA!AX17<>\"X\",ASISTENCIA!AX17<>\"L\",ASISTENCIA!AX17<>\"J\",ASISTENCIA!AX17<>\"F\"),SUMIF($F$13:$J$13,BA$13,$F18:$J18),\"\")","v":""},{"$f":"IF(AND(LEN($D18)>0,SUMIF($F$13:$J$13,BB$13,$F18:$J18)>0,ASISTENCIA!AY17<>\"X\",ASISTENCIA!AY17<>\"L\",ASISTENCIA!AY17<>\"J\",ASISTENCIA!AY17<>\"F\"),SUMIF($F$13:$J$13,BB$13,$F18:$J18),\"\")","v":""},{"$f":"IF(AND(LEN($D18)>0,SUMIF($F$13:$J$13,BC$13,$F18:$J18)>0,ASISTENCIA!AZ17<>\"X\",ASISTENCIA!AZ17<>\"L\",ASISTENCIA!AZ17<>\"J\",ASISTENCIA!AZ17<>\"F\"),SUMIF($F$13:$J$13,BC$13,$F18:$J18),\"\")","v":""},{"$f":"IF(AND(LEN($D18)>0,SUMIF($F$13:$J$13,BD$13,$F18:$J18)>0,ASISTENCIA!BA17<>\"X\",ASISTENCIA!BA17<>\"L\",ASISTENCIA!BA17<>\"J\",ASISTENCIA!BA17<>\"F\"),SUMIF($F$13:$J$13,BD$13,$F18:$J18),\"\")","v":""},{"$f":"IF(AND(LEN($D18)>0,SUMIF($F$13:$J$13,BE$13,$F18:$J18)>0,ASISTENCIA!BB17<>\"X\",ASISTENCIA!BB17<>\"L\",ASISTENCIA!BB17<>\"J\",ASISTENCIA!BB17<>\"F\"),SUMIF($F$13:$J$13,BE$13,$F18:$J18),\"\")","v":""},{"$f":"IF(AND(LEN($D18)>0,SUMIF($F$13:$J$13,BF$13,$F18:$J18)>0,ASISTENCIA!#REF!<>\"X\",ASISTENCIA!#REF!<>\"L\",ASISTENCIA!#REF!<>\"J\",ASISTENCIA!#REF!<>\"F\"),SUMIF($F$13:$J$13,BF$13,$F18:$J18),\"\")","v":{"$error":"#REF!"}},{"$f":"IF(AND(LEN($D18)>0,SUMIF($F$13:$J$13,BG$13,$F18:$J18)>0,ASISTENCIA!#REF!<>\"X\",ASISTENCIA!#REF!<>\"L\",ASISTENCIA!#REF!<>\"J\",ASISTENCIA!#REF!<>\"F\"),SUMIF($F$13:$J$13,BG$13,$F18:$J18),\"\")","v":{"$error":"#REF!"}},{"$f":"IF(AND(LEN($D18)>0,SUMIF($F$13:$J$13,BH$13,$F18:$J18)>0,ASISTENCIA!#REF!<>\"X\",ASISTENCIA!#REF!<>\"L\",ASISTENCIA!#REF!<>\"J\",ASISTENCIA!#REF!<>\"F\"),SUMIF($F$13:$J$13,BH$13,$F18:$J18),\"\")","v":{"$error":"#REF!"}},{"$f":"IF(AND(LEN($D18)>0,SUMIF($F$13:$J$13,BI$13,$F18:$J18)>0,ASISTENCIA!BF17<>\"X\",ASISTENCIA!BF17<>\"L\",ASISTENCIA!BF17<>\"J\",ASISTENCIA!BF17<>\"F\"),SUMIF($F$13:$J$13,BI$13,$F18:$J18),\"\")","v":""},{"$f":"IF(AND(LEN($D18)>0,SUMIF($F$13:$J$13,BJ$13,$F18:$J18)>0,ASISTENCIA!BG17<>\"X\",ASISTENCIA!BG17<>\"L\",ASISTENCIA!BG17<>\"J\",ASISTENCIA!BG17<>\"F\"),SUMIF($F$13:$J$13,BJ$13,$F18:$J18),\"\")","v":""},{"$f":"IF(AND(LEN($D18)>0,SUMIF($F$13:$J$13,BK$13,$F18:$J18)>0,ASISTENCIA!BH17<>\"X\",ASISTENCIA!BH17<>\"L\",ASISTENCIA!BH17<>\"J\",ASISTENCIA!BH17<>\"F\"),SUMIF($F$13:$J$13,BK$13,$F18:$J18),\"\")","v":""},{"$f":"IF(AND(LEN($D18)>0,SUMIF($F$13:$J$13,BL$13,$F18:$J18)>0,ASISTENCIA!BI17<>\"X\",ASISTENCIA!BI17<>\"L\",ASISTENCIA!BI17<>\"J\",ASISTENCIA!BI17<>\"F\"),SUMIF($F$13:$J$13,BL$13,$F18:$J18),\"\")","v":""},{"$f":"IF(AND(LEN($D18)>0,SUMIF($F$13:$J$13,BM$13,$F18:$J18)>0,ASISTENCIA!BJ17<>\"X\",ASISTENCIA!BJ17<>\"L\",ASISTENCIA!BJ17<>\"J\",ASISTENCIA!BJ17<>\"F\"),SUMIF($F$13:$J$13,BM$13,$F18:$J18),\"\")","v":""},{"$f":"IF(AND(LEN($D18)>0,SUMIF($F$13:$J$13,BN$13,$F18:$J18)>0,ASISTENCIA!BK17<>\"X\",ASISTENCIA!BK17<>\"L\",ASISTENCIA!BK17<>\"J\",ASISTENCIA!BK17<>\"F\"),SUMIF($F$13:$J$13,BN$13,$F18:$J18),\"\")","v":""},{"$f":"IF(AND(LEN($D18)>0,SUMIF($F$13:$J$13,BO$13,$F18:$J18)>0,ASISTENCIA!BL17<>\"X\",ASISTENCIA!BL17<>\"L\",ASISTENCIA!BL17<>\"J\",ASISTENCIA!BL17<>\"F\"),SUMIF($F$13:$J$13,BO$13,$F18:$J18),\"\")","v":""},{"$f":"IF(AND(LEN($D18)>0,SUMIF($F$13:$J$13,BP$13,$F18:$J18)>0,ASISTENCIA!BM17<>\"X\",ASISTENCIA!BM17<>\"L\",ASISTENCIA!BM17<>\"J\",ASISTENCIA!BM17<>\"F\"),SUMIF($F$13:$J$13,BP$13,$F18:$J18),\"\")","v":""},{"$f":"IF(AND(LEN($D18)>0,SUMIF($F$13:$J$13,BQ$13,$F18:$J18)>0,ASISTENCIA!BN17<>\"X\",ASISTENCIA!BN17<>\"L\",ASISTENCIA!BN17<>\"J\",ASISTENCIA!BN17<>\"F\"),SUMIF($F$13:$J$13,BQ$13,$F18:$J18),\"\")","v":""},{"$f":"IF(AND(LEN($D18)>0,SUMIF($F$13:$J$13,BR$13,$F18:$J18)>0,ASISTENCIA!BO17<>\"X\",ASISTENCIA!BO17<>\"L\",ASISTENCIA!BO17<>\"J\",ASISTENCIA!BO17<>\"F\"),SUMIF($F$13:$J$13,BR$13,$F18:$J18),\"\")","v":""},{"$f":"IF(AND(LEN($D18)>0,SUMIF($F$13:$J$13,BS$13,$F18:$J18)>0,ASISTENCIA!BP17<>\"X\",ASISTENCIA!BP17<>\"L\",ASISTENCIA!BP17<>\"J\",ASISTENCIA!BP17<>\"F\"),SUMIF($F$13:$J$13,BS$13,$F18:$J18),\"\")","v":""},{"$f":"IF(AND(LEN($D18)>0,SUMIF($F$13:$J$13,BT$13,$F18:$J18)>0,ASISTENCIA!BQ17<>\"X\",ASISTENCIA!BQ17<>\"L\",ASISTENCIA!BQ17<>\"J\",ASISTENCIA!BQ17<>\"F\"),SUMIF($F$13:$J$13,BT$13,$F18:$J18),\"\")","v":""},{"$f":"IF(AND(LEN($D18)>0,SUMIF($F$13:$J$13,BU$13,$F18:$J18)>0,ASISTENCIA!BR17<>\"X\",ASISTENCIA!BR17<>\"L\",ASISTENCIA!BR17<>\"J\",ASISTENCIA!BR17<>\"F\"),SUMIF($F$13:$J$13,BU$13,$F18:$J18),\"\")","v":""},{"$f":"IF(AND(LEN($D18)>0,SUMIF($F$13:$J$13,BV$13,$F18:$J18)>0,ASISTENCIA!BS17<>\"X\",ASISTENCIA!BS17<>\"L\",ASISTENCIA!BS17<>\"J\",ASISTENCIA!BS17<>\"F\"),SUMIF($F$13:$J$13,BV$13,$F18:$J18),\"\")","v":""},{"$f":"IF(AND(LEN($D18)>0,SUMIF($F$13:$J$13,BW$13,$F18:$J18)>0,ASISTENCIA!BT17<>\"X\",ASISTENCIA!BT17<>\"L\",ASISTENCIA!BT17<>\"J\",ASISTENCIA!BT17<>\"F\"),SUMIF($F$13:$J$13,BW$13,$F18:$J18),\"\")","v":""},{"$f":"IF(AND(LEN($D18)>0,SUMIF($F$13:$J$13,BX$13,$F18:$J18)>0,ASISTENCIA!BU17<>\"X\",ASISTENCIA!BU17<>\"L\",ASISTENCIA!BU17<>\"J\",ASISTENCIA!BU17<>\"F\"),SUMIF($F$13:$J$13,BX$13,$F18:$J18),\"\")","v":""},{"$f":"IF(AND(LEN($D18)>0,SUMIF($F$13:$J$13,BY$13,$F18:$J18)>0,ASISTENCIA!BV17<>\"X\",ASISTENCIA!BV17<>\"L\",ASISTENCIA!BV17<>\"J\",ASISTENCIA!BV17<>\"F\"),SUMIF($F$13:$J$13,BY$13,$F18:$J18),\"\")","v":""},{"$f":"IF(AND(LEN($D18)>0,SUMIF($F$13:$J$13,BZ$13,$F18:$J18)>0,ASISTENCIA!BW17<>\"X\",ASISTENCIA!BW17<>\"L\",ASISTENCIA!BW17<>\"J\",ASISTENCIA!BW17<>\"F\"),SUMIF($F$13:$J$13,BZ$13,$F18:$J18),\"\")","v":""},{"$f":"IF(AND(LEN($D18)>0,SUMIF($F$13:$J$13,CA$13,$F18:$J18)>0,ASISTENCIA!BX17<>\"X\",ASISTENCIA!BX17<>\"L\",ASISTENCIA!BX17<>\"J\",ASISTENCIA!BX17<>\"F\"),SUMIF($F$13:$J$13,CA$13,$F18:$J18),\"\")","v":""},{"$f":"IF(AND(LEN($D18)>0,SUMIF($F$13:$J$13,CB$13,$F18:$J18)>0,ASISTENCIA!BY17<>\"X\",ASISTENCIA!BY17<>\"L\",ASISTENCIA!BY17<>\"J\",ASISTENCIA!BY17<>\"F\"),SUMIF($F$13:$J$13,CB$13,$F18:$J18),\"\")","v":""},{"$error":"#REF!"}]
["",{"$f":"IF(LEN(C19)>0,VLOOKUP($O$4,DATA!$A$1:$S$1,2,FALSE),\"\")","v":""},"",{"$f":"IF(LEN(ASISTENCIA!E18)>0,ASISTENCIA!E18,\"\")","v":""},{"$f":"IF(LEN(D19)>0,ASISTENCIA!F18,\"\")","v":""},null,null,null,null,null,"",null,null,{"$error":"#REF!"},{"$f":"IF(AND(LEN($D19)>0,SUMIF($F$13:$J$13,O$13,$F19:$J19)>0,ASISTENCIA!I18<>\"X\",ASISTENCIA!I18<>\"L\",ASISTENCIA!I18<>\"J\",ASISTENCIA!I18<>\"V\",ASISTENCIA!I18<>\"F\",ASISTENCIA!I18<>\"\"),SUMIF($F$13:$J$13,O$13,$F19:$J19),\"\")","v":""},{"$f":"IF(AND(LEN($D19)>0,SUMIF($F$13:$J$13,P$13,$F19:$J19)>0,ASISTENCIA!J18<>\"X\",ASISTENCIA!J18<>\"L\",ASISTENCIA!J18<>\"J\",ASISTENCIA!J18<>\"V\",ASISTENCIA!J18<>\"F\",ASISTENCIA!J18<>\"\"),SUMIF($F$13:$J$13,P$13,$F19:$J19),\"\")","v":""},{"$f":"IF(AND(LEN($D19)>0,SUMIF($F$13:$J$13,Q$13,$F19:$J19)>0,ASISTENCIA!K18<>\"X\",ASISTENCIA!K18<>\"L\",ASISTENCIA!K18<>\"J\",ASISTENCIA!K18<>\"V\",ASISTENCIA!K18<>\"F\",ASISTENCIA!K18<>\"\"),SUMIF($F$13:$J$13,Q$13,$F19:$J19),\"\")","v":""},{"$f":"IF(AND(LEN($D19)>0,SUMIF($F$13:$J$13,R$13,$F19:$J19)>0,ASISTENCIA!L18<>\"X\",ASISTENCIA!L18<>\"L\",ASISTENCIA!L18<>\"J\",ASISTENCIA!L18<>\"V\",ASISTENCIA!L18<>\"F\",ASISTENCIA!L18<>\"\"),SUMIF($F$13:$J$13,R$13,$F19:$J19),\"\")","v":""},{"$f":"IF(AND(LEN($D19)>0,SUMIF($F$13:$J$13,S$13,$F19:$J19)>0,ASISTENCIA!M18<>\"X\",ASISTENCIA!M18<>\"L\",ASISTENCIA!M18<>\"J\",ASISTENCIA!M18<>\"V\",ASISTENCIA!M18<>\"F\",ASISTENCIA!M18<>\"\"),SUMIF($F$13:$J$13,S$13,$F19:$J19),\"\")","v":""},{"$f":"IF(AND(LEN($D19)>0,SUMIF($F$13:$J$13,T$13,$F19:$J19)>0,ASISTENCIA!N18<>\"X\",ASISTENCIA!N18<>\"L\",ASISTENCIA!N18<>\"J\",ASISTENCIA!N18<>\"V\",ASISTENCIA!N18<>\"F\",ASISTENCIA!N18<>\"\"),SUMIF($F$13:$J$13,T$13,$F19:$J19),\"\")","v":""},{"$f":"IF(AND(LEN($D19)>0,SUMIF($F$13:$J$13,U$13,$F19:$J19)>0,ASISTENCIA!O18<>\"X\",ASISTENCIA!O18<>\"L\",ASISTENCIA!O18<>\"J\",ASISTENCIA!O18<>\"V\",ASISTENCIA!O18<>\"F\",ASISTENCIA!O18<>\"\"),SUMIF($F$13:$J$13,U$13,$F19:$J19),\"\")","v":""},{"$f":"IF(AND(LEN($D19)>0,SUMIF($F$13:$J$13,V$13,$F19:$J19)>0,ASISTENCIA!P18<>\"X\",ASISTENCIA!P18<>\"L\",ASISTENCIA!P18<>\"J\",ASISTENCIA!P18<>\"V\",ASISTENCIA!P18<>\"F\",ASISTENCIA!P18<>\"\"),SUMIF($F$13:$J$13,V$13,$F19:$J19),\"\")","v":""},{"$f":"IF(AND(LEN($D19)>0,SUMIF($F$13:$J$13,W$13,$F19:$J19)>0,ASISTENCIA!Q18<>\"X\",ASISTENCIA!Q18<>\"L\",ASISTENCIA!Q18<>\"J\",ASISTENCIA!Q18<>\"V\",ASISTENCIA!Q18<>\"F\",ASISTENCIA!Q18<>\"\"),SUMIF($F$13:$J$13,W$13,$F19:$J19),\"\")","v":""},{"$f":"IF(AND(LEN($D19)>0,SUMIF($F$13:$J$13,X$13,$F19:$J19)>0,ASISTENCIA!R18<>\"X\",ASISTENCIA!R18<>\"L\",ASISTENCIA!R18<>\"J\",ASISTENCIA!R18<>\"V\",ASISTENCIA!R18<>\"F\",ASISTENCIA!R18<>\"\"),SUMIF($F$13:$J$13,X$13,$F19:$J19),\"\")","v":""},{"$f":"IF(AND(LEN($D19)>0,SUMIF($F$13:$J$13,Y$13,$F19:$J19)>0,ASISTENCIA!S18<>\"X\",ASISTENCIA!S18<>\"L\",ASISTENCIA!S18<>\"J\",ASISTENCIA!S18<>\"V\",ASISTENCIA!S18<>\"F\",ASISTENCIA!S18<>\"\"),SUMIF($F$13:$J$13,Y$13,$F19:$J19),\"\")","v":""},{"$f":"IF(AND(LEN($D19)>0,SUMIF($F$13:$J$13,Z$13,$F19:$J19)>0,ASISTENCIA!T18<>\"X\",ASISTENCIA!T18<>\"L\",ASISTENCIA!T18<>\"J\",ASISTENCIA!T18<>\"V\",ASISTENCIA!T18<>\"F\",ASISTENCIA!T18<>\"\"),SUMIF($F$13:$J$13,Z$13,$F19:$J19),\"\")","v":""},{"$f":"IF(AND(LEN($D19)>0,SUMIF($F$13:$J$13,AA$13,$F19:$J19)>0,ASISTENCIA!U18<>\"X\",ASISTENCIA!U18<>\"L\",ASISTENCIA!U18<>\"J\",ASISTENCIA!U18<>\"V\",ASISTENCIA!U18<>\"F\",ASISTENCIA!U18<>\"\"),SUMIF($F$13:$J$13,AA$13,$F19:$J19),\"\")","v":""},{"$f":"IF(AND(LEN($D19)>0,SUMIF($F$13:$J$13,AB$13,$F19:$J19)>0,ASISTENCIA!V18<>\"X\",ASISTENCIA!V18<>\"L\",ASISTENCIA!V18<>\"J\",ASISTENCIA!V18<>\"V\",ASISTENCIA!V18<>\"F\",ASISTENCIA!V18<>\"\"),SUMIF($F$13:$J$13,AB$13,$F19:$J19),\"\")","v":""},{"$f":"IF(AND(LEN($D19)>0,SUMIF($F$13:$J$13,AC$13,$F19:$J19)>0,ASISTENCIA!W18<>\"X\",ASISTENCIA!W18<>\"L\",ASISTENCIA!W18<>\"J\",ASISTENCIA!W18<>\"V\",ASISTENCIA!W18<>\"F\",ASISTENCIA!W18<>\"\"),SUMIF($F$13:$J$13,AC$13,$F19:$J19),\"\")","v":""},{"$f":"IF(AND(LEN($D19)>0,SUMIF($F$13:$J$13,AD$13,$F19:$J19)>0,ASISTENCIA!X18<>\"X\",ASISTENCIA!X18<>\"L\",ASISTENCIA!X18<>\"J\",ASISTENCIA!X18<>\"V\",ASISTENCIA!X18<>\"F\",ASISTENCIA!X18<>\"\"),SUMIF($F$13:$J$13,AD$13,$F19:$J19),\"\")","v":""},{"$f":"IF(AND(LEN($D19)>0,SUMIF($F$13:$J$13,AE$13,$F19:$J19)>0,ASISTENCIA!Y18<>\"X\",ASISTENCIA!Y18<>\"L\",ASISTENCIA!Y18<>\"J\",ASISTENCIA!Y18<>\"V\",ASISTENCIA!Y18<>\"F\",ASISTENCIA!Y18<>\"\"),SUMIF($F$13:$J$13,AE$13,$F19:$J19),\"\")","v":""},{"$f":"IF(AND(LEN($D19)>0,SUMIF($F$13:$J$13,AF$13,$F19:$J19)>0,ASISTENCIA!Z18<>\"X\",ASISTENCIA!Z18<>\"L\",ASISTENCIA!Z18<>\"J\",ASISTENCIA!Z18<>\"V\",ASISTENCIA!Z18<>\"F\",ASISTENCIA!Z18<>\"\"),SUMIF($F$13:$J$13,AF$13,$F19:$J19),\"\")","v":""},{"$f":"IF(AND(LEN($D19)>0,SUMIF($F$13:$J$13,AG$13,$F19:$J19)>0,ASISTENCIA!AA18<>\"X\",ASISTENCIA!AA18<>\"L\",ASISTENCIA!AA18<>\"J\",ASISTENCIA!AA18<>\"V\",ASISTENCIA!AA18<>\"F\",ASISTENCIA!AA18<>\"\"),SUMIF($F$13:$J$13,AG$13,$F19:$J19),\"\")","v":""},{"$f":"IF(AND(LEN($D19)>0,SUMIF($F$13:$J$13,AH$13,$F19:$J19)>0,ASISTENCIA!AB18<>\"X\",ASISTENCIA!AB18<>\"L\",ASISTENCIA!AB18<>\"J\",ASISTENCIA!AB18<>\"V\",ASISTENCIA!AB18<>\"F\",ASISTENCIA!AB18<>\"\"),SUMIF($F$13:$J$13,AH$13,$F19:$J19),\"\")","v":""},{"$f":"IF(AND(LEN($D19)>0,SUMIF($F$13:$J$13,AI$13,$F19:$J19)>0,ASISTENCIA!AC18<>\"X\",ASISTENCIA!AC18<>\"L\",ASISTENCIA!AC18<>\"J\",ASISTENCIA!AC18<>\"V\",ASISTENCIA!AC18<>\"F\",ASISTENCIA!AC18<>\"\"),SUMIF($F$13:$J$13,AI$13,$F19:$J19),\"\")","v":""},{"$f":"IF(AND(LEN($D19)>0,SUMIF($F$13:$J$13,AJ$13,$F19:$J19)>0,ASISTENCIA!AD18<>\"X\",ASISTENCIA!AD18<>\"L\",ASISTENCIA!AD18<>\"J\",ASISTENCIA!AD18<>\"V\",ASISTENCIA!AD18<>\"F\",ASISTENCIA!AD18<>\"\"),SUMIF($F$13:$J$13,AJ$13,$F19:$J19),\"\")","v":""},{"$f":"IF(AND(LEN($D19)>0,SUMIF($F$13:$J$13,AK$13,$F19:$J19)>0,ASISTENCIA!AE18<>\"X\",ASISTENCIA!AE18<>\"L\",ASISTENCIA!AE18<>\"J\",ASISTENCIA!AE18<>\"V\",ASISTENCIA!AE18<>\"F\",ASISTENCIA!AE18<>\"\"),SUMIF($F$13:$J$13,AK$13,$F19:$J19),\"\")","v":""},{"$f":"IF(AND(LEN($D19)>0,SUMIF($F$13:$J$13,AL$13,$F19:$J19)>0,ASISTENCIA!AF18<>\"X\",ASISTENCIA!AF18<>\"L\",ASISTENCIA!AF18<>\"J\",ASISTENCIA!AF18<>\"V\",ASISTENCIA!AF18<>\"F\",ASISTENCIA!AF18<>\"\"),SUMIF($F$13:$J$13,AL$13,$F19:$J19),\"\")","v":""},{"$f":"IF(AND(LEN($D19)>0,SUMIF($F$13:$J$13,AM$13,$F19:$J19)>0,ASISTENCIA!AG18<>\"X\",ASISTENCIA!AG18<>\"L\",ASISTENCIA!AG18<>\"J\",ASISTENCIA!AG18<>\"V\",ASISTENCIA!AG18<>\"F\",ASISTENCIA!AG18<>\"\"),SUMIF($F$13:$J$13,AM$13,$F19:$J19),\"\")","v":""},{"$f":"IF(AND(LEN($D19)>0,SUMIF($F$13:$J$13,AN$13,$F19:$J19)>0,ASISTENCIA!AH18<>\"X\",ASISTENCIA!AH18<>\"L\",ASISTENCIA!AH18<>\"J\",ASISTENCIA!AH18<>\"V\",ASISTENCIA!AH18<>\"F\",ASISTENCIA!AH18<>\"\"),SUMIF($F$13:$J$13,AN$13,$F19:$J19),\"\")","v":""},{"$f":"IF(AND(LEN($D19)>0,SUMIF($F$13:$J$13,AO$13,$F19:$J19)>0,ASISTENCIA!AI18<>\"X\",ASISTENCIA!AI18<>\"L\",ASISTENCIA!AI18<>\"J\",ASISTENCIA!AI18<>\"V\",ASISTENCIA!AI18<>\"F\",ASISTENCIA!AI18<>\"\"),SUMIF($F$13:$J$13,AO$13,$F19:$J19),\"\")","v":""},{"$f":"IF(AND(LEN($D19)>0,SUMIF($F$13:$J$13,AP$13,$F19:$J19)>0,ASISTENCIA!AJ18<>\"X\",ASISTENCIA!AJ18<>\"L\",ASISTENCIA!AJ18<>\"J\",ASISTENCIA!AJ18<>\"V\",ASISTENCIA!AJ18<>\"F\",ASISTENCIA!AJ18<>\"\"),SUMIF($F$13:$J$13,AP$13,$F19:$J19),\"\")","v":""},{"$f":"IF(AND(LEN($D19)>0,SUMIF($F$13:$J$13,AQ$13,$F19:$J19)>0,ASISTENCIA!AK18<>\"X\",ASISTENCIA!AK18<>\"L\",ASISTENCIA!AK18<>\"J\",ASISTENCIA!AK18<>\"V\",ASISTENCIA!AK18<>\"F\",ASISTENCIA!AK18<>\"\"),SUMIF($F$13:$J$13,AQ$13,$F19:$J19),\"\")","v":""},{"$f":"IF(AND(LEN($D19)>0,SUMIF($F$13:$J$13,AR$13,$F19:$J19)>0,ASISTENCIA!AL18<>\"X\",ASISTENCIA!AL18<>\"L\",ASISTENCIA!AL18<>\"J\",ASISTENCIA!AL18<>\"V\",ASISTENCIA!AL18<>\"F\",ASISTENCIA!AL18<>\"\"),SUMIF($F$13:$J$13,AR$13,$F19:$J19),\"\")","v":""},{"$f":"IF(AND(LEN($D19)>0,SUMIF($F$13:$J$13,AS$13,$F19:$J19)>0,ASISTENCIA!AM18<>\"X\",ASISTENCIA!AM18<>\"L\",ASISTENCIA!AM18<>\"J\",ASISTENCIA!AM18<>\"V\",ASISTENCIA!AM18<>\"F\",ASISTENCIA!AM18<>\"\"),SUMIF($F$13:$J$13,AS$13,$F19:$J19),\"\")","v":""},"",null,null,null,{"$f":"IF(AND(LEN($D19)>0,SUMIF($F$13:$J$13,AX$13,$F19:$J19)>0,ASISTENCIA!AU18<>\"X\",ASISTENCIA!AU18<>\"L\",ASISTENCIA!AU18<>\"J\",ASISTENCIA!AU18<>\"F\"),SUMIF($F$13:$J$13,AX$13,$F19:$J19),\"\")","v":""},{"$f":"IF(AND(LEN($D19)>0,SUMIF($F$13:$J$13,AY$13,$F19:$J19)>0,ASISTENCIA!AV18<>\"X\",ASISTENCIA!AV18<>\"L\",ASISTENCIA!AV18<>\"J\",ASISTENCIA!AV18<>\"F\"),SUMIF($F$13:$J$13,AY$13,$F19:$J19),\"\")","v":""},{"$f":"IF(AND(LEN($D19)>0,SUMIF($F$13:$J$13,AZ$13,$F19:$J19)>0,ASISTENCIA!AW18<>\"X\",ASISTENCIA!AW18<>\"L\",ASISTENCIA!AW18<>\"J\",ASISTENCIA!AW18<>\"F\"),SUMIF($F$13:$J$13,AZ$13,$F19:$J19),\"\")","v":""},{"$f":"IF(AND(LEN($D19)>0,SUMIF($F$13:$J$13,BA$13,$F19:$J19)>0,ASISTENCIA!AX18<>\"X\",ASISTENCIA!AX18<>\"L\",ASISTENCIA!AX18<>\"J\",ASISTENCIA!AX18<>\"F\"),SUMIF($F$13:$J$13,BA$13,$F19:$J19),\"\")","v":""},{"$f":"IF(AND(LEN($D19)>0,SUMIF($F$13:$J$13,BB$13,$F19:$J19)>0,ASISTENCIA!AY18<>\"X\",ASISTENCIA!AY18<>\"L\",ASISTENCIA!AY18<>\"J\",ASISTENCIA!AY18<>\"F\"),SUMIF($F$13:$J$13,BB$13,$F19:$J19),\"\")","v":""},{"$f":"IF(AND(LEN($D19)>0,SUMIF($F$13:$J$13,BC$13,$F19:$J19)>0,ASISTENCIA!AZ18<>\"X\",ASISTENCIA!AZ18<>\"L\",ASISTENCIA!AZ18<>\"J\",ASISTENCIA!AZ18<>\"F\"),SUMIF($F$13:$J$13,BC$13,$F19:$J19),\"\")","v":""},{"$f":"IF(AND(LEN($D19)>0,SUMIF($F$13:$J$13,BD$13,$F19:$J19)>0,ASISTENCIA!BA18<>\"X\",ASISTENCIA!BA18<>\"L\",ASISTENCIA!BA18<>\"J\",ASISTENCIA!BA18<>\"F\"),SUMIF($F$13:$J$13,BD$13,$F19:$J19),\"\")","v":""},{"$f":"IF(AND(LEN($D19)>0,SUMIF($F$13:$J$13,BE$13,$F19:$J19)>0,ASISTENCIA!BB18<>\"X\",ASISTENCIA!BB18<>\"L\",ASISTENCIA!BB18<>\"J\",ASISTENCIA!BB18<>\"F\"),SUMIF($F$13:$J$13,BE$13,$F19:$J19),\"\")","v":""},{"$f":"IF(AND(LEN($D19)>0,SUMIF($F$13:$J$13,BF$13,$F19:$J19)>0,ASISTENCIA!#REF!<>\"X\",ASISTENCIA!#REF!<>\"L\",ASISTENCIA!#REF!<>\"J\",ASISTENCIA!#REF!<>\"F\"),SUMIF($F$13:$J$13,BF$13,$F19:$J19),\"\")","v":{"$error":"#REF!"}},{"$f":"IF(AND(LEN($D19)>0,SUMIF($F$13:$J$13,BG$13,$F19:$J19)>0,ASISTENCIA!#REF!<>\"X\",ASISTENCIA!#REF!<>\"L\",ASISTENCIA!#REF!<>\"J\",ASISTENCIA!#REF!<>\"F\"),SUMIF($F$13:$J$13,BG$13,$F19:$J19),\"\")","v":{"$error":"#REF!"}},{"$f":"IF(AND(LEN($D19)>0,SUMIF($F$13:$J$13,BH$13,$F19:$J19)>0,ASISTENCIA!#REF!<>\"X\",ASISTENCIA!#REF!<>\"L\",ASISTENCIA!#REF!<>\"J\",ASISTENCIA!#REF!<>\"F\"),SUMIF($F$13:$J$13,BH$13,$F19:$J19),\"\")","v":{"$error":"#REF!"}},{"$f":"IF(AND(LEN($D19)>0,SUMIF($F$13:$J$13,BI$13,$F19:$J19)>0,ASISTENCIA!BF18<>\"X\",ASISTENCIA!BF18<>\"L\",ASISTENCIA!BF18<>\"J\",ASISTENCIA!BF18<>\"F\"),SUMIF($F$13:$J$13,BI$13,$F19:$J19),\"\")","v":""},{"$f":"IF(AND(LEN($D19)>0,SUMIF($F$13:$J$13,BJ$13,$F19:$J19)>0,ASISTENCIA!BG18<>\"X\",ASISTENCIA!BG18<>\"L\",ASISTENCIA!BG18<>\"J\",ASISTENCIA!BG18<>\"F\"),SUMIF($F$13:$J$13,BJ$13,$F19:$J19),\"\")","v":""},{"$f":"IF(AND(LEN($D19)>0,SUMIF($F$13:$J$13,BK$13,$F19:$J19)>0,ASISTENCIA!BH18<>\"X\",ASISTENCIA!BH18<>\"L\",ASISTENCIA!BH18<>\"J\",ASISTENCIA!BH18<>\"F\"),SUMIF($F$13:$J$13,BK$13,$F19:$J19),\"\")","v":""},{"$f":"IF(AND(LEN($D19)>0,SUMIF($F$13:$J$13,BL$13,$F19:$J19)>0,ASISTENCIA!BI18<>\"X\",ASISTENCIA!BI18<>\"L\",ASISTENCIA!BI18<>\"J\",ASISTENCIA!BI18<>\"F\"),SUMIF($F$13:$J$13,BL$13,$F19:$J19),\"\")","v":""},{"$f":"IF(AND(LEN($D19)>0,SUMIF($F$13:$J$13,BM$13,$F19:$J19)>0,ASISTENCIA!BJ18<>\"X\",ASISTENCIA!BJ18<>\"L\",ASISTENCIA!BJ18<>\"J\",ASISTENCIA!BJ18<>\"F\"),SUMIF($F$13:$J$13,BM$13,$F19:$J19),\"\")","v":""},{"$f":"IF(AND(LEN($D19)>0,SUMIF($F$13:$J$13,BN$13,$F19:$J19)>0,ASISTENCIA!BK18<>\"X\",ASISTENCIA!BK18<>\"L\",ASISTENCIA!BK18<>\"J\",ASISTENCIA!BK18<>\"F\"),SUMIF($F$13:$J$13,BN$13,$F19:$J19),\"\")","v":""},{"$f":"IF(AND(LEN($D19)>0,SUMIF($F$13:$J$13,BO$13,$F19:$J19)>0,ASISTENCIA!BL18<>\"X\",ASISTENCIA!BL18<>\"L\",ASISTENCIA!BL18<>\"J\",ASISTENCIA!BL18<>\"F\"),SUMIF($F$13:$J$13,BO$13,$F19:$J19),\"\")","v":""},{"$f":"IF(AND(LEN($D19)>0,SUMIF($F$13:$J$13,BP$13,$F19:$J19)>0,ASISTENCIA!BM18<>\"X\",ASISTENCIA!BM18<>\"L\",ASISTENCIA!BM18<>\"J\",ASISTENCIA!BM18<>\"F\"),SUMIF($F$13:$J$13,BP$13,$F19:$J19),\"\")","v":""},{"$f":"IF(AND(LEN($D19)>0,SUMIF($F$13:$J$13,BQ$13,$F19:$J19)>0,ASISTENCIA!BN18<>\"X\",ASISTENCIA!BN18<>\"L\",ASISTENCIA!BN18<>\"J\",ASISTENCIA!BN18<>\"F\"),SUMIF($F$13:$J$13,BQ$13,$F19:$J19),\"\")","v":""},{"$f":"IF(AND(LEN($D19)>0,SUMIF($F$13:$J$13,BR$13,$F19:$J19)>0,ASISTENCIA!BO18<>\"X\",ASISTENCIA!BO18<>\"L\",ASISTENCIA!BO18<>\"J\",ASISTENCIA!BO18<>\"F\"),SUMIF($F$13:$J$13,BR$13,$F19:$J19),\"\")","v":""},{"$f":"IF(AND(LEN($D19)>0,SUMIF($F$13:$J$13,BS$13,$F19:$J19)>0,ASISTENCIA!BP18<>\"X\",ASISTENCIA!BP18<>\"L\",ASISTENCIA!BP18<>\"J\",ASISTENCIA!BP18<>\"F\"),SUMIF($F$13:$J$13,BS$13,$F19:$J19),\"\")","v":""},{"$f":"IF(AND(LEN($D19)>0,SUMIF($F$13:$J$13,BT$13,$F19:$J19)>0,ASISTENCIA!BQ18<>\"X\",ASISTENCIA!BQ18<>\"L\",ASISTENCIA!BQ18<>\"J\",ASISTENCIA!BQ18<>\"F\"),SUMIF($F$13:$J$13,BT$13,$F19:$J19),\"\")","v":""},{"$f":"IF(AND(LEN($D19)>0,SUMIF($F$13:$J$13,BU$13,$F19:$J19)>0,ASISTENCIA!BR18<>\"X\",ASISTENCIA!BR18<>\"L\",ASISTENCIA!BR18<>\"J\",ASISTENCIA!BR18<>\"F\"),SUMIF($F$13:$J$13,BU$13,$F19:$J19),\"\")","v":""},{"$f":"IF(AND(LEN($D19)>0,SUMIF($F$13:$J$13,BV$13,$F19:$J19)>0,ASISTENCIA!BS18<>\"X\",ASISTENCIA!BS18<>\"L\",ASISTENCIA!BS18<>\"J\",ASISTENCIA!BS18<>\"F\"),SUMIF($F$13:$J$13,BV$13,$F19:$J19),\"\")","v":""},{"$f":"IF(AND(LEN($D19)>0,SUMIF($F$13:$J$13,BW$13,$F19:$J19)>0,ASISTENCIA!BT18<>\"X\",ASISTENCIA!BT18<>\"L\",ASISTENCIA!BT18<>\"J\",ASISTENCIA!BT18<>\"F\"),SUMIF($F$13:$J$13,BW$13,$F19:$J19),\"\")","v":""},{"$f":"IF(AND(LEN($D19)>0,SUMIF($F$13:$J$13,BX$13,$F19:$J19)>0,ASISTENCIA!BU18<>\"X\",ASISTENCIA!BU18<>\"L\",ASISTENCIA!BU18<>\"J\",ASISTENCIA!BU18<>\"F\"),SUMIF($F$13:$J$13,BX$13,$F19:$J19),\"\")","v":""},{"$f":"IF(AND(LEN($D19)>0,SUMIF($F$13:$J$13,BY$13,$F19:$J19)>0,ASISTENCIA!BV18<>\"X\",ASISTENCIA!BV18<>\"L\",ASISTENCIA!BV18<>\"J\",ASISTENCIA!BV18<>\"F\"),SUMIF($F$13:$J$13,BY$13,$F19:$J19),\"\")","v":""},{"$f":"IF(AND(LEN($D19)>0,SUMIF($F$13:$J$13,BZ$13,$F19:$J19)>0,ASISTENCIA!BW18<>\"X\",ASISTENCIA!BW18<>\"L\",ASISTENCIA!BW18<>\"J\",ASISTENCIA!BW18<>\"F\"),SUMIF($F$13:$J$13,BZ$13,$F19:$J19),\"\")","v":""},{"$f":"IF(AND(LEN($D19)>0,SUMIF($F$13:$J$13,CA$13,$F19:$J19)>0,ASISTENCIA!BX18<>\"X\",ASISTENCIA!BX18<>\"L\",ASISTENCIA!BX18<>\"J\",ASISTENCIA!BX18<>\"F\"),SUMIF($F$13:$J$13,CA$13,$F19:$J19),\"\")","v":""},{"$f":"IF(AND(LEN($D19)>0,SUMIF($F$13:$J$13,CB$13,$F19:$J19)>0,ASISTENCIA!BY18<>\"X\",ASISTENCIA!BY18<>\"L\",ASISTENCIA!BY18<>\"J\",ASISTENCIA!BY18<>\"F\"),SUMIF($F$13:$J$13,CB$13,$F19:$J19),\"\")","v":""},{"$error":"#REF!"}]
["",{"$f":"IF(LEN(C20)>0,VLOOKUP($O$4,DATA!$A$1:$S$1,2,FALSE),\"\")","v":""},"",{"$f":"IF(LEN(ASISTENCIA!E19)>0,ASISTENCIA!E19,\"\")","v":""},{"$f":"IF(LEN(D20)>0,ASISTENCIA!F19,\"\")","v":""},null,null,null,null,null,"",null,null,{"$error":"#REF!"},{"$f":"IF(AND(LEN($D20)>0,SUMIF($F$13:$J$13,O$13,$F20:$J20)>0,ASISTENCIA!I19<>\"X\",ASISTENCIA!I19<>\"L\",ASISTENCIA!I19<>\"J\",ASISTENCIA!I19<>\"V\",ASISTENCIA!I19<>\"F\",ASISTENCIA!I19<>\"\"),SUMIF($F$13:$J$13,O$13,$F20:$J20),\"\")","v":""},{"$f":"IF(AND(LEN($D20)>0,SUMIF($F$13:$J$13,P$13,$F20:$J20)>0,ASISTENCIA!J19<>\"X\",ASISTENCIA!J19<>\"L\",ASISTENCIA!J19<>\"J\",ASISTENCIA!J19<>\"V\",ASISTENCIA!J19<>\"F\",ASISTENCIA!J19<>\"\"),SUMIF($F$13:$J$13,P$13,$F20:$J20),\"\")","v":""},{"$f":"IF(AND(LEN($D20)>0,SUMIF($F$13:$J$13,Q$13,$F20:$J20)>0,ASISTENCIA!K19<>\"X\",ASISTENCIA!K19<>\"L\",ASISTENCIA!K19<>\"J\",ASISTENCIA!K19<>\"V\",ASISTENCIA!K19<>\"F\",ASISTENCIA!K19<>\"\"),SUMIF($F$13:$J$13,Q$13,$F20:$J20),\"\")","v":""},{"$f":"IF(AND(LEN($D20)>0,SUMIF($F$13:$J$13,R$13,$F20:$J20)>0,ASISTENCIA!L19<>\"X\",ASISTENCIA!L19<>\"L\",ASISTENCIA!L19<>\"J\",ASISTENCIA!L19<>\"V\",ASISTENCIA!L19<>\"F\",ASISTENCIA!L19<>\"\"),SUMIF($F$13:$J$13,R$13,$F20:$J20),\"\")","v":""},{"$f":"IF(AND(LEN($D20)>0,SUMIF($F$13:$J$13,S$13,$F20:$J20)>0,ASISTENCIA!M19<>\"X\",ASISTENCIA!M19<>\"L\",ASISTENCIA!M19<>\"J\",ASISTENCIA!M19<>\"V\",ASISTENCIA!M19<>\"F\",ASISTENCIA!M19<>\"\"),SUMIF($F$13:$J$13,S$13,$F20:$J20),\"\")","v":""},{"$f":"IF(AND(LEN($D20)>0,SUMIF($F$13:$J$13,T$13,$F20:$J20)>0,ASISTENCIA!N19<>\"X\",ASISTENCIA!N19<>\"L\",ASISTENCIA!N19<>\"J\",ASISTENCIA!N19<>\"V\",ASISTENCIA!N19<>\"F\",ASISTENCIA!N19<>\"\"),SUMIF($F$13:$J$13,T$13,$F20:$J20),\"\")","v":""},{"$f":"IF(AND(LEN($D20)>0,SUMIF($F$13:$J$13,U$13,$F20:$J20)>0,ASISTENCIA!O19<>\"X\",ASISTENCIA!O19<>\"L\",ASISTENCIA!O19<>\"J\",ASISTENCIA!O19<>\"V\",ASISTENCIA!O19<>\"F\",ASISTENCIA!O19<>\"\"),SUMIF($F$13:$J$13,U$13,$F20:$J20),\"\")","v":""},{"$f":"IF(AND(LEN($D20)>0,SUMIF($F$13:$J$13,V$13,$F20:$J20)>0,ASISTENCIA!P19<>\"X\",ASISTENCIA!P19<>\"L\",ASISTENCIA!P19<>\"J\",ASISTENCIA!P19<>\"V\",ASISTENCIA!P19<>\"F\",ASISTENCIA!P19<>\"\"),SUMIF($F$13:$J$13,V$13,$F20:$J20),\"\")","v":""},{"$f":"IF(AND(LEN($D20)>0,SUMIF($F$13:$J$13,W$13,$F20:$J20)>0,ASISTENCIA!Q19<>\"X\",ASISTENCIA!Q19<>\"L\",ASISTENCIA!Q19<>\"J\",ASISTENCIA!Q19<>\"V\",ASISTENCIA!Q19<>\"F\",ASISTENCIA!Q19<>\"\"),SUMIF($F$13:$J$13,W$13,$F20:$J20),\"\")","v":""},{"$f":"IF(AND(LEN($D20)>0,SUMIF($F$13:$J$13,X$13,$F20:$J20)>0,ASISTENCIA!R19<>\"X\",ASISTENCIA!R19<>\"L\",ASISTENCIA!R19<>\"J\",ASISTENCIA!R19<>\"V\",ASISTENCIA!R19<>\"F\",ASISTENCIA!R19<>\"\"),SUMIF($F$13:$J$13,X$13,$F20:$J20),\"\")","v":""},{"$f":"IF(AND(LEN($D20)>0,SUMIF($F$13:$J$13,Y$13,$F20:$J20)>0,ASISTENCIA!S19<>\"X\",ASISTENCIA!S19<>\"L\",ASISTENCIA!S19<>\"J\",ASISTENCIA!S19<>\"V\",ASISTENCIA!S19<>\"F\",ASISTENCIA!S19<>\"\"),SUMIF($F$13:$J$13,Y$13,$F20:$J20),\"\")","v":""},{"$f":"IF(AND(LEN($D20)>0,SUMIF($F$13:$J$13,Z$13,$F20:$J20)>0,ASISTENCIA!T19<>\"X\",ASISTENCIA!T19<>\"L\",ASISTENCIA!T19<>\"J\",ASISTENCIA!T19<>\"V\",ASISTENCIA!T19<>\"F\",ASISTENCIA!T19<>\"\"),SUMIF($F$13:$J$13,Z$13,$F20:$J20),\"\")","v":""},{"$f":"IF(AND(LEN($D20)>0,SUMIF($F$13:$J$13,AA$13,$F20:$J20)>0,ASISTENCIA!U19<>\"X\",ASISTENCIA!U19<>\"L\",ASISTENCIA!U19<>\"J\",ASISTENCIA!U19<>\"V\",ASISTENCIA!U19<>\"F\",ASISTENCIA!U19<>\"\"),SUMIF($F$13:$J$13,AA$13,$F20:$J20),\"\")","v":""},{"$f":"IF(AND(LEN($D20)>0,SUMIF($F$13:$J$13,AB$13,$F20:$J20)>0,ASISTENCIA!V19<>\"X\",ASISTENCIA!V19<>\"L\",ASISTENCIA!V19<>\"J\",ASISTENCIA!V19<>\"V\",ASISTENCIA!V19<>\"F\",ASISTENCIA!V19<>\"\"),SUMIF($F$13:$J$13,AB$13,$F20:$J20),\"\")","v":""},{"$f":"IF(AND(LEN($D20)>0,SUMIF($F$13:$J$13,AC$13,$F20:$J20)>0,ASISTENCIA!W19<>\"X\",ASISTENCIA!W19<>\"L\",ASISTENCIA!W19<>\"J\",ASISTENCIA!W19<>\"V\",ASISTENCIA!W19<>\"F\",ASISTENCIA!W19<>\"\"),SUMIF($F$13:$J$13,AC$13,$F20:$J20),\"\")","v":""},{"$f":"IF(AND(LEN($D20)>0,SUMIF($F$13:$J$13,AD$13,$F20:$J20)>0,ASISTENCIA!X19<>\"X\",ASISTENCIA!X19<>\"L\",ASISTENCIA!X19<>\"J\",ASISTENCIA!X19<>\"V\",ASISTENCIA!X19<>\"F\",ASISTENCIA!X19<>\"\"),SUMIF($F$13:$J$13,AD$13,$F20:$J20),\"\")","v":""},{"$f":"IF(AND(LEN($D20)>0,SUMIF($F$13:$J$13,AE$13,$F20:$J20)>0,ASISTENCIA!Y19<>\"X\",ASISTENCIA!Y19<>\"L\",ASISTENCIA!Y19<>\"J\",ASISTENCIA!Y19<>\"V\",ASISTENCIA!Y19<>\"F\",ASISTENCIA!Y19<>\"\"),SUMIF($F$13:$J$13,AE$13,$F20:$J20),\"\")","v":""},{"$f":"IF(AND(LEN($D20)>0,SUMIF($F$13:$J$13,AF$13,$F20:$J20)>0,ASISTENCIA!Z19<>\"X\",ASISTENCIA!Z19<>\"L\",ASISTENCIA!Z19<>\"J\",ASISTENCIA!Z19<>\"V\",ASISTENCIA!Z19<>\"F\",ASISTENCIA!Z19<>\"\"),SUMIF($F$13:$J$13,AF$13,$F20:$J20),\"\")","v":""},{"$f":"IF(AND(LEN($D20)>0,SUMIF($F$13:$J$13,AG$13,$F20:$J20)>0,ASISTENCIA!AA19<>\"X\",ASISTENCIA!AA19<>\"L\",ASISTENCIA!AA19<>\"J\",ASISTENCIA!AA19<>\"V\",ASISTENCIA!AA19<>\"F\",ASISTENCIA!AA19<>\"\"),SUMIF($F$13:$J$13,AG$13,$F20:$J20),\"\")","v":""},{"$f":"IF(AND(LEN($D20)>0,SUMIF($F$13:$J$13,AH$13,$F20:$J20)>0,ASISTENCIA!AB19<>\"X\",ASISTENCIA!AB19<>\"L\",ASISTENCIA!AB19<>\"J\",ASISTENCIA!AB19<>\"V\",ASISTENCIA!AB19<>\"F\",ASISTENCIA!AB19<>\"\"),SUMIF($F$13:$J$13,AH$13,$F20:$J20),\"\")","v":""},{"$f":"IF(AND(LEN($D20)>0,SUMIF($F$13:$J$13,AI$13,$F20:$J20)>0,ASISTENCIA!AC19<>\"X\",ASISTENCIA!AC19<>\"L\",ASISTENCIA!AC19<>\"J\",ASISTENCIA!AC19<>\"V\",ASISTENCIA!AC19<>\"F\",ASISTENCIA!AC19<>\"\"),SUMIF($F$13:$J$13,AI$13,$F20:$J20),\"\")","v":""},{"$f":"IF(AND(LEN($D20)>0,SUMIF($F$13:$J$13,AJ$13,$F20:$J20)>0,ASISTENCIA!AD19<>\"X\",ASISTENCIA!AD19<>\"L\",ASISTENCIA!AD19<>\"J\",ASISTENCIA!AD19<>\"V\",ASISTENCIA!AD19<>\"F\",ASISTENCIA!AD19<>\"\"),SUMIF($F$13:$J$13,AJ$13,$F20:$J20),\"\")","v":""},{"$f":"IF(AND(LEN($D20)>0,SUMIF($F$13:$J$13,AK$13,$F20:$J20)>0,ASISTENCIA!AE19<>\"X\",ASISTENCIA!AE19<>\"L\",ASISTENCIA!AE19<>\"J\",ASISTENCIA!AE19<>\"V\",ASISTENCIA!AE19<>\"F\",ASISTENCIA!AE19<>\"\"),SUMIF($F$13:$J$13,AK$13,$F20:$J20),\"\")","v":""},{"$f":"IF(AND(LEN($D20)>0,SUMIF($F$13:$J$13,AL$13,$F20:$J20)>0,ASISTENCIA!AF19<>\"X\",ASISTENCIA!AF19<>\"L\",ASISTENCIA!AF19<>\"J\",ASISTENCIA!AF19<>\"V\",ASISTENCIA!AF19<>\"F\",ASISTENCIA!AF19<>\"\"),SUMIF($F$13:$J$13,AL$13,$F20:$J20),\"\")","v":""},{"$f":"IF(AND(LEN($D20)>0,SUMIF($F$13:$J$13,AM$13,$F20:$J20)>0,ASISTENCIA!AG19<>\"X\",ASISTENCIA!AG19<>\"L\",ASISTENCIA!AG19<>\"J\",ASISTENCIA!AG19<>\"V\",ASISTENCIA!AG19<>\"F\",ASISTENCIA!AG19<>\"\"),SUMIF($F$13:$J$13,AM$13,$F20:$J20),\"\")","v":""},{"$f":"IF(AND(LEN($D20)>0,SUMIF($F$13:$J$13,AN$13,$F20:$J20)>0,ASISTENCIA!AH19<>\"X\",ASISTENCIA!AH19<>\"L\",ASISTENCIA!AH19<>\"J\",ASISTENCIA!AH19<>\"V\",ASISTENCIA!AH19<>\"F\",ASISTENCIA!AH19<>\"\"),SUMIF($F$13:$J$13,AN$13,$F20:$J20),\"\")","v":""},{"$f":"IF(AND(LEN($D20)>0,SUMIF($F$13:$J$13,AO$13,$F20:$J20)>0,ASISTENCIA!AI19<>\"X\",ASISTENCIA!AI19<>\"L\",ASISTENCIA!AI19<>\"J\",ASISTENCIA!AI19<>\"V\",ASISTENCIA!AI19<>\"F\",ASISTENCIA!AI19<>\"\"),SUMIF($F$13:$J$13,AO$13,$F20:$J20),\"\")","v":""},{"$f":"IF(AND(LEN($D20)>0,SUMIF($F$13:$J$13,AP$13,$F20:$J20)>0,ASISTENCIA!AJ19<>\"X\",ASISTENCIA!AJ19<>\"L\",ASISTENCIA!AJ19<>\"J\",ASISTENCIA!AJ19<>\"V\",ASISTENCIA!AJ19<>\"F\",ASISTENCIA!AJ19<>\"\"),SUMIF($F$13:$J$13,AP$13,$F20:$J20),\"\")","v":""},{"$f":"IF(AND(LEN($D20)>0,SUMIF($F$13:$J$13,AQ$13,$F20:$J20)>0,ASISTENCIA!AK19<>\"X\",ASISTENCIA!AK19<>\"L\",ASISTENCIA!AK19<>\"J\",ASISTENCIA!AK19<>\"V\",ASISTENCIA!AK19<>\"F\",ASISTENCIA!AK19<>\"\"),SUMIF($F$13:$J$13,AQ$13,$F20:$J20),\"\")","v":""},{"$f":"IF(AND(LEN($D20)>0,SUMIF($F$13:$J$13,AR$13,$F20:$J20)>0,ASISTENCIA!AL19<>\"X\",ASISTENCIA!AL19<>\"L\",ASISTENCIA!AL19<>\"J\",ASISTENCIA!AL19<>\"V\",ASISTENCIA!AL19<>\"F\",ASISTENCIA!AL19<>\"\"),SUMIF($F$13:$J$13,AR$13,$F20:$J20),\"\")","v":""},{"$f":"IF(AND(LEN($D20)>0,SUMIF($F$13:$J$13,AS$13,$F20:$J20)>0,ASISTENCIA!AM19<>\"X\",ASISTENCIA!AM19<>\"L\",ASISTENCIA!AM19<>\"J\",ASISTENCIA!AM19<>\"V\",ASISTENCIA!AM19<>\"F\",ASISTENCIA!AM19<>\"\"),SUMIF($F$13:$J$13,AS$13,$F20:$J20),\"\")","v":""},"",null,null,null,{"$f":"IF(AND(LEN($D20)>0,SUMIF($F$13:$J$13,AX$13,$F20:$J20)>0,ASISTENCIA!AU19<>\"X\",ASISTENCIA!AU19<>\"L\",ASISTENCIA!AU19<>\"J\",ASISTENCIA!AU19<>\"F\"),SUMIF($F$13:$J$13,AX$13,$F20:$J20),\"\")","v":""},{"$f":"IF(AND(LEN($D20)>0,SUMIF($F$13:$J$13,AY$13,$F20:$J20)>0,ASISTENCIA!AV19<>\"X\",ASISTENCIA!AV19<>\"L\",ASISTENCIA!AV19<>\"J\",ASISTENCIA!AV19<>\"F\"),SUMIF($F$13:$J$13,AY$13,$F20:$J20),\"\")","v":""},{"$f":"IF(AND(LEN($D20)>0,SUMIF($F$13:$J$13,AZ$13,$F20:$J20)>0,ASISTENCIA!AW19<>\"X\",ASISTENCIA!AW19<>\"L\",ASISTENCIA!AW19<>\"J\",ASISTENCIA!AW19<>\"F\"),SUMIF($F$13:$J$13,AZ$13,$F20:$J20),\"\")","v":""},{"$f":"IF(AND(LEN($D20)>0,SUMIF($F$13:$J$13,BA$13,$F20:$J20)>0,ASISTENCIA!AX19<>\"X\",ASISTENCIA!AX19<>\"L\",ASISTENCIA!AX19<>\"J\",ASISTENCIA!AX19<>\"F\"),SUMIF($F$13:$J$13,BA$13,$F20:$J20),\"\")","v":""},{"$f":"IF(AND(LEN($D20)>0,SUMIF($F$13:$J$13,BB$13,$F20:$J20)>0,ASISTENCIA!AY19<>\"X\",ASISTENCIA!AY19<>\"L\",ASISTENCIA!AY19<>\"J\",ASISTENCIA!AY19<>\"F\"),SUMIF($F$13:$J$13,BB$13,$F20:$J20),\"\")","v":""},{"$f":"IF(AND(LEN($D20)>0,SUMIF($F$13:$J$13,BC$13,$F20:$J20)>0,ASISTENCIA!AZ19<>\"X\",ASISTENCIA!AZ19<>\"L\",ASISTENCIA!AZ19<>\"J\",ASISTENCIA!AZ19<>\"F\"),SUMIF($F$13:$J$13,BC$13,$F20:$J20),\"\")","v":""},{"$f":"IF(AND(LEN($D20)>0,SUMIF($F$13:$J$13,BD$13,$F20:$J20)>0,ASISTENCIA!BA19<>\"X\",ASISTENCIA!BA19<>\"L\",ASISTENCIA!BA19<>\"J\",ASISTENCIA!BA19<>\"F\"),SUMIF($F$13:$J$13,BD$13,$F20:$J20),\"\")","v":""},{"$f":"IF(AND(LEN($D20)>0,SUMIF($F$13:$J$13,BE$13,$F20:$J20)>0,ASISTENCIA!BB19<>\"X\",ASISTENCIA!BB19<>\"L\",ASISTENCIA!BB19<>\"J\",ASISTENCIA!BB19<>\"F\"),SUMIF($F$13:$J$13,BE$13,$F20:$J20),\"\")","v":""},{"$f":"IF(AND(LEN($D20)>0,SUMIF($F$13:$J$13,BF$13,$F20:$J20)>0,ASISTENCIA!#REF!<>\"X\",ASISTENCIA!#REF!<>\"L\",ASISTENCIA!#REF!<>\"J\",ASISTENCIA!#REF!<>\"F\"),SUMIF($F$13:$J$13,BF$13,$F20:$J20),\"\")","v":{"$error":"#REF!"}},{"$f":"IF(AND(LEN($D20)>0,SUMIF($F$13:$J$13,BG$13,$F20:$J20)>0,ASISTENCIA!#REF!<>\"X\",ASISTENCIA!#REF!<>\"L\",ASISTENCIA!#REF!<>\"J\",ASISTENCIA!#REF!<>\"F\"),SUMIF($F$13:$J$13,BG$13,$F20:$J20),\"\")","v":{"$error":"#REF!"}},{"$f":"IF(AND(LEN($D20)>0,SUMIF($F$13:$J$13,BH$13,$F20:$J20)>0,ASISTENCIA!BE19<>\"X\",ASISTENCIA!BE19<>\"L\",ASISTENCIA!BE19<>\"J\",ASISTENCIA!BE19<>\"F\"),SUMIF($F$13:$J$13,BH$13,$F20:$J20),\"\")","v":""},{"$f":"IF(AND(LEN($D20)>0,SUMIF($F$13:$J$13,BI$13,$F20:$J20)>0,ASISTENCIA!BF19<>\"X\",ASISTENCIA!BF19<>\"L\",ASISTENCIA!BF19<>\"J\",ASISTENCIA!BF19<>\"F\"),SUMIF($F$13:$J$13,BI$13,$F20:$J20),\"\")","v":""},{"$f":"IF(AND(LEN($D20)>0,SUMIF($F$13:$J$13,BJ$13,$F20:$J20)>0,ASISTENCIA!BG19<>\"X\",ASISTENCIA!BG19<>\"L\",ASISTENCIA!BG19<>\"J\",ASISTENCIA!BG19<>\"F\"),SUMIF($F$13:$J$13,BJ$13,$F20:$J20),\"\")","v":""},{"$f":"IF(AND(LEN($D20)>0,SUMIF($F$13:$J$13,BK$13,$F20:$J20)>0,ASISTENCIA!BH19<>\"X\",ASISTENCIA!BH19<>\"L\",ASISTENCIA!BH19<>\"J\",ASISTENCIA!BH19<>\"F\"),SUMIF($F$13:$J$13,BK$13,$F20:$J20),\"\")","v":""},{"$f":"IF(AND(LEN($D20)>0,SUMIF($F$13:$J$13,BL$13,$F20:$J20)>0,ASISTENCIA!BI19<>\"X\",ASISTENCIA!BI19<>\"L\",ASISTENCIA!BI19<>\"J\",ASISTENCIA!BI19<>\"F\"),SUMIF($F$13:$J$13,BL$13,$F20:$J20),\"\")","v":""},{"$f":"IF(AND(LEN($D20)>0,SUMIF($F$13:$J$13,BM$13,$F20:$J20)>0,ASISTENCIA!BJ19<>\"X\",ASISTENCIA!BJ19<>\"L\",ASISTENCIA!BJ19<>\"J\",ASISTENCIA!BJ19<>\"F\"),SUMIF($F$13:$J$13,BM$13,$F20:$J20),\"\")","v":""},{"$f":"IF(AND(LEN($D20)>0,SUMIF($F$13:$J$13,BN$13,$F20:$J20)>0,ASISTENCIA!BK19<>\"X\",ASISTENCIA!BK19<>\"L\",ASISTENCIA!BK19<>\"J\",ASISTENCIA!BK19<>\"F\"),SUMIF($F$13:$J$13,BN$13,$F20:$J20),\"\")","v":""},{"$f":"IF(AND(LEN($D20)>0,SUMIF($F$13:$J$13,BO$13,$F20:$J20)>0,ASISTENCIA!BL19<>\"X\",ASISTENCIA!BL19<>\"L\",ASISTENCIA!BL19<>\"J\",ASISTENCIA!BL19<>\"F\"),SUMIF($F$13:$J$13,BO$13,$F20:$J20),\"\")","v":""},{"$f":"IF(AND(LEN($D20)>0,SUMIF($F$13:$J$13,BP$13,$F20:$J20)>0,ASISTENCIA!BM19<>\"X\",ASISTENCIA!BM19<>\"L\",ASISTENCIA!BM19<>\"J\",ASISTENCIA!BM19<>\"F\"),SUMIF($F$13:$J$13,BP$13,$F20:$J20),\"\")","v":""},{"$f":"IF(AND(LEN($D20)>0,SUMIF($F$13:$J$13,BQ$13,$F20:$J20)>0,ASISTENCIA!BN19<>\"X\",ASISTENCIA!BN19<>\"L\",ASISTENCIA!BN19<>\"J\",ASISTENCIA!BN19<>\"F\"),SUMIF($F$13:$J$13,BQ$13,$F20:$J20),\"\")","v":""},{"$f":"IF(AND(LEN($D20)>0,SUMIF($F$13:$J$13,BR$13,$F20:$J20)>0,ASISTENCIA!BO19<>\"X\",ASISTENCIA!BO19<>\"L\",ASISTENCIA!BO19<>\"J\",ASISTENCIA!BO19<>\"F\"),SUMIF($F$13:$J$13,BR$13,$F20:$J20),\"\")","v":""},{"$f":"IF(AND(LEN($D20)>0,SUMIF($F$13:$J$13,BS$13,$F20:$J20)>0,ASISTENCIA!BP19<>\"X\",ASISTENCIA!BP19<>\"L\",ASISTENCIA!BP19<>\"J\",ASISTENCIA!BP19<>\"F\"),SUMIF($F$13:$J$13,BS$13,$F20:$J20),\"\")","v":""},{"$f":"IF(AND(LEN($D20)>0,SUMIF($F$13:$J$13,BT$13,$F20:$J20)>0,ASISTENCIA!BQ19<>\"X\",ASISTENCIA!BQ19<>\"L\",ASISTENCIA!BQ19<>\"J\",ASISTENCIA!BQ19<>\"F\"),SUMIF($F$13:$J$13,BT$13,$F20:$J20),\"\")","v":""},{"$f":"IF(AND(LEN($D20)>0,SUMIF($F$13:$J$13,BU$13,$F20:$J20)>0,ASISTENCIA!BR19<>\"X\",ASISTENCIA!BR19<>\"L\",ASISTENCIA!BR19<>\"J\",ASISTENCIA!BR19<>\"F\"),SUMIF($F$13:$J$13,BU$13,$F20:$J20),\"\")","v":""},{"$f":"IF(AND(LEN($D20)>0,SUMIF($F$13:$J$13,BV$13,$F20:$J20)>0,ASISTENCIA!BS19<>\"X\",ASISTENCIA!BS19<>\"L\",ASISTENCIA!BS19<>\"J\",ASISTENCIA!BS19<>\"F\"),SUMIF($F$13:$J$13,BV$13,$F20:$J20),\"\")","v":""},{"$f":"IF(AND(LEN($D20)>0,SUMIF($F$13:$J$13,BW$13,$F20:$J20)>0,ASISTENCIA!BT19<>\"X\",ASISTENCIA!BT19<>\"L\",ASISTENCIA!BT19<>\"J\",ASISTENCIA!BT19<>\"F\"),SUMIF($F$13:$J$13,BW$13,$F20:$J20),\"\")","v":""},{"$f":"IF(AND(LEN($D20)>0,SUMIF($F$13:$J$13,BX$13,$F20:$J20)>0,ASISTENCIA!BU19<>\"X\",ASISTENCIA!BU19<>\"L\",ASISTENCIA!BU19<>\"J\",ASISTENCIA!BU19<>\"F\"),SUMIF($F$13:$J$13,BX$13,$F20:$J20),\"\")","v":""},{"$f":"IF(AND(LEN($D20)>0,SUMIF($F$13:$J$13,BY$13,$F20:$J20)>0,ASISTENCIA!BV19<>\"X\",ASISTENCIA!BV19<>\"L\",ASISTENCIA!BV19<>\"J\",ASISTENCIA!BV19<>\"F\"),SUMIF($F$13:$J$13,BY$13,$F20:$J20),\"\")","v":""},{"$f":"IF(AND(LEN($D20)>0,SUMIF($F$13:$J$13,BZ$13,$F20:$J20)>0,ASISTENCIA!BW19<>\"X\",ASISTENCIA!BW19<>\"L\",ASISTENCIA!BW19<>\"J\",ASISTENCIA!BW19<>\"F\"),SUMIF($F$13:$J$13,BZ$13,$F20:$J20),\"\")","v":""},{"$f":"IF(AND(LEN($D20)>0,SUMIF($F$13:$J$13,CA$13,$F20:$J20)>0,ASISTENCIA!BX19<>\"X\",ASISTENCIA!BX19<>\"L\",ASISTENCIA!BX19<>\"J\",ASISTENCIA!BX19<>\"F\"),SUMIF($F$13:$J$13,CA$13,$F20:$J20),\"\")","v":""},{"$f":"IF(AND(LEN($D20)>0,SUMIF($F$13:$J$13,CB$13,$F20:$J20)>0,ASISTENCIA!BY19<>\"X\",ASISTENCIA!BY19<>\"L\",ASISTENCIA!BY19<>\"J\",ASISTENCIA!BY19<>\"F\"),SUMIF($F$13:$J$13,CB$13,$F20:$J20),\"\")","v":""},{"$error":"#REF!"}]
["",{"$f":"IF(LEN(C21)>0,VLOOKUP($O$4,DATA!$A$1:$S$1,2,FALSE),\"\")","v":""},"",{"$f":"IF(LEN(ASISTENCIA!E20)>0,ASISTENCIA!E20,\"\")","v":""},{"$f":"IF(LEN(D21)>0,ASISTENCIA!F20,\"\")","v":""},null,null,null,null,null,"",null,null,{"$error":"#REF!"},{"$f":"IF(AND(LEN($D21)>0,SUMIF($F$13:$J$13,O$13,$F21:$J21)>0,ASISTENCIA!I20<>\"X\",ASISTENCIA!I20<>\"L\",ASISTENCIA!I20<>\"J\",ASISTENCIA!I20<>\"V\",ASISTENCIA!I20<>\"F\",ASISTENCIA!I20<>\"\"),SUMIF($F$13:$J$13,O$13,$F21:$J21),\"\")","v":""},{"$f":"IF(AND(LEN($D21)>0,SUMIF($F$13:$J$13,P$13,$F21:$J21)>0,ASISTENCIA!J20<>\"X\",ASISTENCIA!J20<>\"L\",ASISTENCIA!J20<>\"J\",ASISTENCIA!J20<>\"V\",ASISTENCIA!J20<>\"F\",ASISTENCIA!J20<>\"\"),SUMIF($F$13:$J$13,P$13,$F21:$J21),\"\")","v":""},{"$f":"IF(AND(LEN($D21)>0,SUMIF($F$13:$J$13,Q$13,$F21:$J21)>0,ASISTENCIA!K20<>\"X\",ASISTENCIA!K20<>\"L\",ASISTENCIA!K20<>\"J\",ASISTENCIA!K20<>\"V\",ASISTENCIA!K20<>\"F\",ASISTENCIA!K20<>\"\"),SUMIF($F$13:$J$13,Q$13,$F21:$J21),\"\")","v":""},{"$f":"IF(AND(LEN($D21)>0,SUMIF($F$13:$J$13,R$13,$F21:$J21)>0,ASISTENCIA!L20<>\"X\",ASISTENCIA!L20<>\"L\",ASISTENCIA!L20<>\"J\",ASISTENCIA!L20<>\"V\",ASISTENCIA!L20<>\"F\",ASISTENCIA!L20<>\"\"),SUMIF($F$13:$J$13,R$13,$F21:$J21),\"\")","v":""},{"$f":"IF(AND(LEN($D21)>0,SUMIF($F$13:$J$13,S$13,$F21:$J21)>0,ASISTENCIA!M20<>\"X\",ASISTENCIA!M20<>\"L\",ASISTENCIA!M20<>\"J\",ASISTENCIA!M20<>\"V\",ASISTENCIA!M20<>\"F\",ASISTENCIA!M20<>\"\"),SUMIF($F$13:$J$13,S$13,$F21:$J21),\"\")","v":""},{"$f":"IF(AND(LEN($D21)>0,SUMIF($F$13:$J$13,T$13,$F21:$J21)>0,ASISTENCIA!N20<>\"X\",ASISTENCIA!N20<>\"L\",ASISTENCIA!N20<>\"J\",ASISTENCIA!N20<>\"V\",ASISTENCIA!N20<>\"F\",ASISTENCIA!N20<>\"\"),SUMIF($F$13:$J$13,T$13,$F21:$J21),\"\")","v":""},{"$f":"IF(AND(LEN($D21)>0,SUMIF($F$13:$J$13,U$13,$F21:$J21)>0,ASISTENCIA!O20<>\"X\",ASISTENCIA!O20<>\"L\",ASISTENCIA!O20<>\"J\",ASISTENCIA!O20<>\"V\",ASISTENCIA!O20<>\"F\",ASISTENCIA!O20<>\"\"),SUMIF($F$13:$J$13,U$13,$F21:$J21),\"\")","v":""},{"$f":"IF(AND(LEN($D21)>0,SUMIF($F$13:$J$13,V$13,$F21:$J21)>0,ASISTENCIA!P20<>\"X\",ASISTENCIA!P20<>\"L\",ASISTENCIA!P20<>\"J\",ASISTENCIA!P20<>\"V\",ASISTENCIA!P20<>\"F\",ASISTENCIA!P20<>\"\"),SUMIF($F$13:$J$13,V$13,$F21:$J21),\"\")","v":""},{"$f":"IF(AND(LEN($D21)>0,SUMIF($F$13:$J$13,W$13,$F21:$J21)>0,ASISTENCIA!Q20<>\"X\",ASISTENCIA!Q20<>\"L\",ASISTENCIA!Q20<>\"J\",ASISTENCIA!Q20<>\"V\",ASISTENCIA!Q20<>\"F\",ASISTENCIA!Q20<>\"\"),SUMIF($F$13:$J$13,W$13,$F21:$J21),\"\")","v":""},{"$f":"IF(AND(LEN($D21)>0,SUMIF($F$13:$J$13,X$13,$F21:$J21)>0,ASISTENCIA!R20<>\"X\",ASISTENCIA!R20<>\"L\",ASISTENCIA!R20<>\"J\",ASISTENCIA!R20<>\"V\",ASISTENCIA!R20<>\"F\",ASISTENCIA!R20<>\"\"),SUMIF($F$13:$J$13,X$13,$F21:$J21),\"\")","v":""},{"$f":"IF(AND(LEN($D21)>0,SUMIF($F$13:$J$13,Y$13,$F21:$J21)>0,ASISTENCIA!S20<>\"X\",ASISTENCIA!S20<>\"L\",ASISTENCIA!S20<>\"J\",ASISTENCIA!S20<>\"V\",ASISTENCIA!S20<>\"F\",ASISTENCIA!S20<>\"\"),SUMIF($F$13:$J$13,Y$13,$F21:$J21),\"\")","v":""},{"$f":"IF(AND(LEN($D21)>0,SUMIF($F$13:$J$13,Z$13,$F21:$J21)>0,ASISTENCIA!T20<>\"X\",ASISTENCIA!T20<>\"L\",ASISTENCIA!T20<>\"J\",ASISTENCIA!T20<>\"V\",ASISTENCIA!T20<>\"F\",ASISTENCIA!T20<>\"\"),SUMIF($F$13:$J$13,Z$13,$F21:$J21),\"\")","v":""},{"$f":"IF(AND(LEN($D21)>0,SUMIF($F$13:$J$13,AA$13,$F21:$J21)>0,ASISTENCIA!U20<>\"X\",ASISTENCIA!U20<>\"L\",ASISTENCIA!U20<>\"J\",ASISTENCIA!U20<>\"V\",ASISTENCIA!U20<>\"F\",ASISTENCIA!U20<>\"\"),SUMIF($F$13:$J$13,AA$13,$F21:$J21),\"\")","v":""},{"$f":"IF(AND(LEN($D21)>0,SUMIF($F$13:$J$13,AB$13,$F21:$J21)>0,ASISTENCIA!V20<>\"X\",ASISTENCIA!V20<>\"L\",ASISTENCIA!V20<>\"J\",ASISTENCIA!V20<>\"V\",ASISTENCIA!V20<>\"F\",ASISTENCIA!V20<>\"\"),SUMIF($F$13:$J$13,AB$13,$F21:$J21),\"\")","v":""},{"$f":"IF(AND(LEN($D21)>0,SUMIF($F$13:$J$13,AC$13,$F21:$J21)>0,ASISTENCIA!W20<>\"X\",ASISTENCIA!W20<>\"L\",ASISTENCIA!W20<>\"J\",ASISTENCIA!W20<>\"V\",ASISTENCIA!W20<>\"F\",ASISTENCIA!W20<>\"\"),SUMIF($F$13:$J$13,AC$13,$F21:$J21),\"\")","v":""},{"$f":"IF(AND(LEN($D21)>0,SUMIF($F$13:$J$13,AD$13,$F21:$J21)>0,ASISTENCIA!X20<>\"X\",ASISTENCIA!X20<>\"L\",ASISTENCIA!X20<>\"J\",ASISTENCIA!X20<>\"V\",ASISTENCIA!X20<>\"F\",ASISTENCIA!X20<>\"\"),SUMIF($F$13:$J$13,AD$13,$F21:$J21),\"\")","v":""},{"$f":"IF(AND(LEN($D21)>0,SUMIF($F$13:$J$13,AE$13,$F21:$J21)>0,ASISTENCIA!Y20<>\"X\",ASISTENCIA!Y20<>\"L\",ASISTENCIA!Y20<>\"J\",ASISTENCIA!Y20<>\"V\",ASISTENCIA!Y20<>\"F\",ASISTENCIA!Y20<>\"\"),SUMIF($F$13:$J$13,AE$13,$F21:$J21),\"\")","v":""},{"$f":"IF(AND(LEN($D21)>0,SUMIF($F$13:$J$13,AF$13,$F21:$J21)>0,ASISTENCIA!Z20<>\"X\",ASISTENCIA!Z20<>\"L\",ASISTENCIA!Z20<>\"J\",ASISTENCIA!Z20<>\"V\",ASISTENCIA!Z20<>\"F\",ASISTENCIA!Z20<>\"\"),SUMIF($F$13:$J$13,AF$13,$F21:$J21),\"\")","v":""},{"$f":"IF(AND(LEN($D21)>0,SUMIF($F$13:$J$13,AG$13,$F21:$J21)>0,ASISTENCIA!AA20<>\"X\",ASISTENCIA!AA20<>\"L\",ASISTENCIA!AA20<>\"J\",ASISTENCIA!AA20<>\"V\",ASISTENCIA!AA20<>\"F\",ASISTENCIA!AA20<>\"\"),SUMIF($F$13:$J$13,AG$13,$F21:$J21),\"\")","v":""},{"$f":"IF(AND(LEN($D21)>0,SUMIF($F$13:$J$13,AH$13,$F21:$J21)>0,ASISTENCIA!AB20<>\"X\",ASISTENCIA!AB20<>\"L\",ASISTENCIA!AB20<>\"J\",ASISTENCIA!AB20<>\"V\",ASISTENCIA!AB20<>\"F\",ASISTENCIA!AB20<>\"\"),SUMIF($F$13:$J$13,AH$13,$F21:$J21),\"\")","v":""},{"$f":"IF(AND(LEN($D21)>0,SUMIF($F$13:$J$13,AI$13,$F21:$J21)>0,ASISTENCIA!AC20<>\"X\",ASISTENCIA!AC20<>\"L\",ASISTENCIA!AC20<>\"J\",ASISTENCIA!AC20<>\"V\",ASISTENCIA!AC20<>\"F\",ASISTENCIA!AC20<>\"\"),SUMIF($F$13:$J$13,AI$13,$F21:$J21),\"\")","v":""},{"$f":"IF(AND(LEN($D21)>0,SUMIF($F$13:$J$13,AJ$13,$F21:$J21)>0,ASISTENCIA!AD20<>\"X\",ASISTENCIA!AD20<>\"L\",ASISTENCIA!AD20<>\"J\",ASISTENCIA!AD20<>\"V\",ASISTENCIA!AD20<>\"F\",ASISTENCIA!AD20<>\"\"),SUMIF($F$13:$J$13,AJ$13,$F21:$J21),\"\")","v":""},{"$f":"IF(AND(LEN($D21)>0,SUMIF($F$13:$J$13,AK$13,$F21:$J21)>0,ASISTENCIA!AE20<>\"X\",ASISTENCIA!AE20<>\"L\",ASISTENCIA!AE20<>\"J\",ASISTENCIA!AE20<>\"V\",ASISTENCIA!AE20<>\"F\",ASISTENCIA!AE20<>\"\"),SUMIF($F$13:$J$13,AK$13,$F21:$J21),\"\")","v":""},{"$f":"IF(AND(LEN($D21)>0,SUMIF($F$13:$J$13,AL$13,$F21:$J21)>0,ASISTENCIA!AF20<>\"X\",ASISTENCIA!AF20<>\"L\",ASISTENCIA!AF20<>\"J\",ASISTENCIA!AF20<>\"V\",ASISTENCIA!AF20<>\"F\",ASISTENCIA!AF20<>\"\"),SUMIF($F$13:$J$13,AL$13,$F21:$J21),\"\")","v":""},{"$f":"IF(AND(LEN($D21)>0,SUMIF($F$13:$J$13,AM$13,$F21:$J21)>0,ASISTENCIA!AG20<>\"X\",ASISTENCIA!AG20<>\"L\",ASISTENCIA!AG20<>\"J\",ASISTENCIA!AG20<>\"V\",ASISTENCIA!AG20<>\"F\",ASISTENCIA!AG20<>\"\"),SUMIF($F$13:$J$13,AM$13,$F21:$J21),\"\")","v":""},{"$f":"IF(AND(LEN($D21)>0,SUMIF($F$13:$J$13,AN$13,$F21:$J21)>0,ASISTENCIA!AH20<>\"X\",ASISTENCIA!AH20<>\"L\",ASISTENCIA!AH20<>\"J\",ASISTENCIA!AH20<>\"V\",ASISTENCIA!AH20<>\"F\",ASISTENCIA!AH20<>\"\"),SUMIF($F$13:$J$13,AN$13,$F21:$J21),\"\")","v":""},{"$f":"IF(AND(LEN($D21)>0,SUMIF($F$13:$J$13,AO$13,$F21:$J21)>0,ASISTENCIA!AI20<>\"X\",ASISTENCIA!AI20<>\"L\",ASISTENCIA!AI20<>\"J\",ASISTENCIA!AI20<>\"V\",ASISTENCIA!AI20<>\"F\",ASISTENCIA!AI20<>\"\"),SUMIF($F$13:$J$13,AO$13,$F21:$J21),\"\")","v":""},{"$f":"IF(AND(LEN($D21)>0,SUMIF($F$13:$J$13,AP$13,$F21:$J21)>0,ASISTENCIA!AJ20<>\"X\",ASISTENCIA!AJ20<>\"L\",ASISTENCIA!AJ20<>\"J\",ASISTENCIA!AJ20<>\"V\",ASISTENCIA!AJ20<>\"F\",ASISTENCIA!AJ20<>\"\"),SUMIF($F$13:$J$13,AP$13,$F21:$J21),\"\")","v":""},{"$f":"IF(AND(LEN($D21)>0,SUMIF($F$13:$J$13,AQ$13,$F21:$J21)>0,ASISTENCIA!AK20<>\"X\",ASISTENCIA!AK20<>\"L\",ASISTENCIA!AK20<>\"J\",ASISTENCIA!AK20<>\"V\",ASISTENCIA!AK20<>\"F\",ASISTENCIA!AK20<>\"\"),SUMIF($F$13:$J$13,AQ$13,$F21:$J21),\"\")","v":""},{"$f":"IF(AND(LEN($D21)>0,SUMIF($F$13:$J$13,AR$13,$F21:$J21)>0,ASISTENCIA!AL20<>\"X\",ASISTENCIA!AL20<>\"L\",ASISTENCIA!AL20<>\"J\",ASISTENCIA!AL20<>\"V\",ASISTENCIA!AL20<>\"F\",ASISTENCIA!AL20<>\"\"),SUMIF($F$13:$J$13,AR$13,$F21:$J21),\"\")","v":""},{"$f":"IF(AND(LEN($D21)>0,SUMIF($F$13:$J$13,AS$13,$F21:$J21)>0,ASISTENCIA!AM20<>\"X\",ASISTENCIA!AM20<>\"L\",ASISTENCIA!AM20<>\"J\",ASISTENCIA!AM20<>\"V\",ASISTENCIA!AM20<>\"F\",ASISTENCIA!AM20<>\"\"),SUMIF($F$13:$J$13,AS$13,$F21:$J21),\"\")","v":""},"",null,null,null,{"$f":"IF(AND(LEN($D21)>0,SUMIF($F$13:$J$13,AX$13,$F21:$J21)>0,ASISTENCIA!AU20<>\"X\",ASISTENCIA!AU20<>\"L\",ASISTENCIA!AU20<>\"J\",ASISTENCIA!AU20<>\"F\"),SUMIF($F$13:$J$13,AX$13,$F21:$J21),\"\")","v":""},{"$f":"IF(AND(LEN($D21)>0,SUMIF($F$13:$J$13,AY$13,$F21:$J21)>0,ASISTENCIA!AV20<>\"X\",ASISTENCIA!AV20<>\"L\",ASISTENCIA!AV20<>\"J\",ASISTENCIA!AV20<>\"F\"),SUMIF($F$13:$J$13,AY$13,$F21:$J21),\"\")","v":""},{"$f":"IF(AND(LEN($D21)>0,SUMIF($F$13:$J$13,AZ$13,$F21:$J21)>0,ASISTENCIA!AW20<>\"X\",ASISTENCIA!AW20<>\"L\",ASISTENCIA!AW20<>\"J\",ASISTENCIA!AW20<>\"F\"),SUMIF($F$13:$J$13,AZ$13,$F21:$J21),\"\")","v":""},{"$f":"IF(AND(LEN($D21)>0,SUMIF($F$13:$J$13,BA$13,$F21:$J21)>0,ASISTENCIA!AX20<>\"X\",ASISTENCIA!AX20<>\"L\",ASISTENCIA!AX20<>\"J\",ASISTENCIA!AX20<>\"F\"),SUMIF($F$13:$J$13,BA$13,$F21:$J21),\"\")","v":""},{"$f":"IF(AND(LEN($D21)>0,SUMIF($F$13:$J$13,BB$13,$F21:$J21)>0,ASISTENCIA!AY20<>\"X\",ASISTENCIA!AY20<>\"L\",ASISTENCIA!AY20<>\"J\",ASISTENCIA!AY20<>\"F\"),SUMIF($F$13:$J$13,BB$13,$F21:$J21),\"\")","v":""},{"$f":"IF(AND(LEN($D21)>0,SUMIF($F$13:$J$13,BC$13,$F21:$J21)>0,ASISTENCIA!AZ20<>\"X\",ASISTENCIA!AZ20<>\"L\",ASISTENCIA!AZ20<>\"J\",ASISTENCIA!AZ20<>\"F\"),SUMIF($F$13:$J$13,BC$13,$F21:$J21),\"\")","v":""},{"$f":"IF(AND(LEN($D21)>0,SUMIF($F$13:$J$13,BD$13,$F21:$J21)>0,ASISTENCIA!BA20<>\"X\",ASISTENCIA!BA20<>\"L\",ASISTENCIA!BA20<>\"J\",ASISTENCIA!BA20<>\"F\"),SUMIF($F$13:$J$13,BD$13,$F21:$J21),\"\")","v":""},{"$f":"IF(AND(LEN($D21)>0,SUMIF($F$13:$J$13,BE$13,$F21:$J21)>0,ASISTENCIA!BB20<>\"X\",ASISTENCIA!BB20<>\"L\",ASISTENCIA!BB20<>\"J\",ASISTENCIA!BB20<>\"F\"),SUMIF($F$13:$J$13,BE$13,$F21:$J21),\"\")","v":""},{"$f":"IF(AND(LEN($D21)>0,SUMIF($F$13:$J$13,BF$13,$F21:$J21)>0,ASISTENCIA!#REF!<>\"X\",ASISTENCIA!#REF!<>\"L\",ASISTENCIA!#REF!<>\"J\",ASISTENCIA!#REF!<>\"F\"),SUMIF($F$13:$J$13,BF$13,$F21:$J21),\"\")","v":{"$error":"#REF!"}},{"$f":"IF(AND(LEN($D21)>0,SUMIF($F$13:$J$13,BG$13,$F21:$J21)>0,ASISTENCIA!#REF!<>\"X\",ASISTENCIA!#REF!<>\"L\",ASISTENCIA!#REF!<>\"J\",ASISTENCIA!#REF!<>\"F\"),SUMIF($F$13:$J$13,BG$13,$F21:$J21),\"\")","v":{"$error":"#REF!"}},{"$f":"IF(AND(LEN($D21)>0,SUMIF($F$13:$J$13,BH$13,$F21:$J21)>0,ASISTENCIA!BE20<>\"X\",ASISTENCIA!BE20<>\"L\",ASISTENCIA!BE20<>\"J\",ASISTENCIA!BE20<>\"F\"),SUMIF($F$13:$J$13,BH$13,$F21:$J21),\"\")","v":""},{"$f":"IF(AND(LEN($D21)>0,SUMIF($F$13:$J$13,BI$13,$F21:$J21)>0,ASISTENCIA!BF20<>\"X\",ASISTENCIA!BF20<>\"L\",ASISTENCIA!BF20<>\"J\",ASISTENCIA!BF20<>\"F\"),SUMIF($F$13:$J$13,BI$13,$F21:$J21),\"\")","v":""},{"$f":"IF(AND(LEN($D21)>0,SUMIF($F$13:$J$13,BJ$13,$F21:$J21)>0,ASISTENCIA!BG20<>\"X\",ASISTENCIA!BG20<>\"L\",ASISTENCIA!BG20<>\"J\",ASISTENCIA!BG20<>\"F\"),SUMIF($F$13:$J$13,BJ$13,$F21:$J21),\"\")","v":""},{"$f":"IF(AND(LEN($D21)>0,SUMIF($F$13:$J$13,BK$13,$F21:$J21)>0,ASISTENCIA!BH20<>\"X\",ASISTENCIA!BH20<>\"L\",ASISTENCIA!BH20<>\"J\",ASISTENCIA!BH20<>\"F\"),SUMIF($F$13:$J$13,BK$13,$F21:$J21),\"\")","v":""},{"$f":"IF(AND(LEN($D21)>0,SUMIF($F$13:$J$13,BL$13,$F21:$J21)>0,ASISTENCIA!BI20<>\"X\",ASISTENCIA!BI20<>\"L\",ASISTENCIA!BI20<>\"J\",ASISTENCIA!BI20<>\"F\"),SUMIF($F$13:$J$13,BL$13,$F21:$J21),\"\")","v":""},{"$f":"IF(AND(LEN($D21)>0,SUMIF($F$13:$J$13,BM$13,$F21:$J21)>0,ASISTENCIA!BJ20<>\"X\",ASISTENCIA!BJ20<>\"L\",ASISTENCIA!BJ20<>\"J\",ASISTENCIA!BJ20<>\"F\"),SUMIF($F$13:$J$13,BM$13,$F21:$J21),\"\")","v":""},{"$f":"IF(AND(LEN($D21)>0,SUMIF($F$13:$J$13,BN$13,$F21:$J21)>0,ASISTENCIA!BK20<>\"X\",ASISTENCIA!BK20<>\"L\",ASISTENCIA!BK20<>\"J\",ASISTENCIA!BK20<>\"F\"),SUMIF($F$13:$J$13,BN$13,$F21:$J21),\"\")","v":""},{"$f":"IF(AND(LEN($D21)>0,SUMIF($F$13:$J$13,BO$13,$F21:$J21)>0,ASISTENCIA!BL20<>\"X\",ASISTENCIA!BL20<>\"L\",ASISTENCIA!BL20<>\"J\",ASISTENCIA!BL20<>\"F\"),SUMIF($F$13:$J$13,BO$13,$F21:$J21),\"\")","v":""},{"$f":"IF(AND(LEN($D21)>0,SUMIF($F$13:$J$13,BP$13,$F21:$J21)>0,ASISTENCIA!BM20<>\"X\",ASISTENCIA!BM20<>\"L\",ASISTENCIA!BM20<>\"J\",ASISTENCIA!BM20<>\"F\"),SUMIF($F$13:$J$13,BP$13,$F21:$J21),\"\")","v":""},{"$f":"IF(AND(LEN($D21)>0,SUMIF($F$13:$J$13,BQ$13,$F21:$J21)>0,ASISTENCIA!BN20<>\"X\",ASISTENCIA!BN20<>\"L\",ASISTENCIA!BN20<>\"J\",ASISTENCIA!BN20<>\"F\"),SUMIF($F$13:$J$13,BQ$13,$F21:$J21),\"\")","v":""},{"$f":"IF(AND(LEN($D21)>0,SUMIF($F$13:$J$13,BR$13,$F21:$J21)>0,ASISTENCIA!BO20<>\"X\",ASISTENCIA!BO20<>\"L\",ASISTENCIA!BO20<>\"J\",ASISTENCIA!BO20<>\"F\"),SUMIF($F$13:$J$13,BR$13,$F21:$J21),\"\")","v":""},{"$f":"IF(AND(LEN($D21)>0,SUMIF($F$13:$J$13,BS$13,$F21:$J21)>0,ASISTENCIA!BP20<>\"X\",ASISTENCIA!BP20<>\"L\",ASISTENCIA!BP20<>\"J\",ASISTENCIA!BP20<>\"F\"),SUMIF($F$13:$J$13,BS$13,$F21:$J21),\"\")","v":""},{"$f":"IF(AND(LEN($D21)>0,SUMIF($F$13:$J$13,BT$13,$F21:$J21)>0,ASISTENCIA!BQ20<>\"X\",ASISTENCIA!BQ20<>\"L\",ASISTENCIA!BQ20<>\"J\",ASISTENCIA!BQ20<>\"F\"),SUMIF($F$13:$J$13,BT$13,$F21:$J21),\"\")","v":""},{"$f":"IF(AND(LEN($D21)>0,SUMIF($F$13:$J$13,BU$13,$F21:$J21)>0,ASISTENCIA!BR20<>\"X\",ASISTENCIA!BR20<>\"L\",ASISTENCIA!BR20<>\"J\",ASISTENCIA!BR20<>\"F\"),SUMIF($F$13:$J$13,BU$13,$F21:$J21),\"\")","v":""},{"$f":"IF(AND(LEN($D21)>0,SUMIF($F$13:$J$13,BV$13,$F21:$J21)>0,ASISTENCIA!BS20<>\"X\",ASISTENCIA!BS20<>\"L\",ASISTENCIA!BS20<>\"J\",ASISTENCIA!BS20<>\"F\"),SUMIF($F$13:$J$13,BV$13,$F21:$J21),\"\")","v":""},{"$f":"IF(AND(LEN($D21)>0,SUMIF($F$13:$J$13,BW$13,$F21:$J21)>0,ASISTENCIA!BT20<>\"X\",ASISTENCIA!BT20<>\"L\",ASISTENCIA!BT20<>\"J\",ASISTENCIA!BT20<>\"F\"),SUMIF($F$13:$J$13,BW$13,$F21:$J21),\"\")","v":""},{"$f":"IF(AND(LEN($D21)>0,SUMIF($F$13:$J$13,BX$13,$F21:$J21)>0,ASISTENCIA!BU20<>\"X\",ASISTENCIA!BU20<>\"L\",ASISTENCIA!BU20<>\"J\",ASISTENCIA!BU20<>\"F\"),SUMIF($F$13:$J$13,BX$13,$F21:$J21),\"\")","v":""},{"$f":"IF(AND(LEN($D21)>0,SUMIF($F$13:$J$13,BY$13,$F21:$J21)>0,ASISTENCIA!BV20<>\"X\",ASISTENCIA!BV20<>\"L\",ASISTENCIA!BV20<>\"J\",ASISTENCIA!BV20<>\"F\"),SUMIF($F$13:$J$13,BY$13,$F21:$J21),\"\")","v":""},{"$f":"IF(AND(LEN($D21)>0,SUMIF($F$13:$J$13,BZ$13,$F21:$J21)>0,ASISTENCIA!BW20<>\"X\",ASISTENCIA!BW20<>\"L\",ASISTENCIA!BW20<>\"J\",ASISTENCIA!BW20<>\"F\"),SUMIF($F$13:$J$13,BZ$13,$F21:$J21),\"\")","v":""},{"$f":"IF(AND(LEN($D21)>0,SUMIF($F$13:$J$13,CA$13,$F21:$J21)>0,ASISTENCIA!BX20<>\"X\",ASISTENCIA!BX20<>\"L\",ASISTENCIA!BX20<>\"J\",ASISTENCIA!BX20<>\"F\"),SUMIF($F$13:$J$13,CA$13,$F21:$J21),\"\")","v":""},{"$f":"IF(AND(LEN($D21)>0,SUMIF($F$13:$J$13,CB$13,$F21:$J21)>0,ASISTENCIA!BY20<>\"X\",ASISTENCIA!BY20<>\"L\",ASISTENCIA!BY20<>\"J\",ASISTENCIA!BY20<>\"F\"),SUMIF($F$13:$J$13,CB$13,$F21:$J21),\"\")","v":""},{"$error":"#REF!"}]
["",{"$f":"IF(LEN(C22)>0,VLOOKUP($O$4,DATA!$A$1:$S$1,2,FALSE),\"\")","v":""},"",{"$f":"IF(LEN(ASISTENCIA!E21)>0,ASISTENCIA!E21,\"\")","v":""},{"$f":"IF(LEN(D22)>0,ASISTENCIA!F21,\"\")","v":""},null,null,null,null,null,"",null,null,{"$error":"#REF!"},{"$f":"IF(AND(LEN($D22)>0,SUMIF($F$13:$J$13,O$13,$F22:$J22)>0,ASISTENCIA!I21<>\"X\",ASISTENCIA!I21<>\"L\",ASISTENCIA!I21<>\"J\",ASISTENCIA!I21<>\"V\",ASISTENCIA!I21<>\"F\",ASISTENCIA!I21<>\"\"),SUMIF($F$13:$J$13,O$13,$F22:$J22),\"\")","v":""},{"$f":"IF(AND(LEN($D22)>0,SUMIF($F$13:$J$13,P$13,$F22:$J22)>0,ASISTENCIA!J21<>\"X\",ASISTENCIA!J21<>\"L\",ASISTENCIA!J21<>\"J\",ASISTENCIA!J21<>\"V\",ASISTENCIA!J21<>\"F\",ASISTENCIA!J21<>\"\"),SUMIF($F$13:$J$13,P$13,$F22:$J22),\"\")","v":""},{"$f":"IF(AND(LEN($D22)>0,SUMIF($F$13:$J$13,Q$13,$F22:$J22)>0,ASISTENCIA!K21<>\"X\",ASISTENCIA!K21<>\"L\",ASISTENCIA!K21<>\"J\",ASISTENCIA!K21<>\"V\",ASISTENCIA!K21<>\"F\",ASISTENCIA!K21<>\"\"),SUMIF($F$13:$J$13,Q$13,$F22:$J22),\"\")","v":""},{"$f":"IF(AND(LEN($D22)>0,SUMIF($F$13:$J$13,R$13,$F22:$J22)>0,ASISTENCIA!L21<>\"X\",ASISTENCIA!L21<>\"L\",ASISTENCIA!L21<>\"J\",ASISTENCIA!L21<>\"V\",ASISTENCIA!L21<>\"F\",ASISTENCIA!L21<>\"\"),SUMIF($F$13:$J$13,R$13,$F22:$J22),\"\")","v":""},{"$f":"IF(AND(LEN($D22)>0,SUMIF($F$13:$J$13,S$13,$F22:$J22)>0,ASISTENCIA!M21<>\"X\",ASISTENCIA!M21<>\"L\",ASISTENCIA!M21<>\"J\",ASISTENCIA!M21<>\"V\",ASISTENCIA!M21<>\"F\",ASISTENCIA!M21<>\"\"),SUMIF($F$13:$J$13,S$13,$F22:$J22),\"\")","v":""},{"$f":"IF(AND(LEN($D22)>0,SUMIF($F$13:$J$13,T$13,$F22:$J22)>0,ASISTENCIA!N21<>\"X\",ASISTENCIA!N21<>\"L\",ASISTENCIA!N21<>\"J\",ASISTENCIA!N21<>\"V\",ASISTENCIA!N21<>\"F\",ASISTENCIA!N21<>\"\"),SUMIF($F$13:$J$13,T$13,$F22:$J22),\"\")","v":""},{"$f":"IF(AND(LEN($D22)>0,SUMIF($F$13:$J$13,U$13,$F22:$J22)>0,ASISTENCIA!O21<>\"X\",ASISTENCIA!O21<>\"L\",ASISTENCIA!O21<>\"J\",ASISTENCIA!O21<>\"V\",ASISTENCIA!O21<>\"F\",ASISTENCIA!O21<>\"\"),SUMIF($F$13:$J$13,U$13,$F22:$J22),\"\")","v":""},{"$f":"IF(AND(LEN($D22)>0,SUMIF($F$13:$J$13,V$13,$F22:$J22)>0,ASISTENCIA!P21<>\"X\",ASISTENCIA!P21<>\"L\",ASISTENCIA!P21<>\"J\",ASISTENCIA!P21<>\"V\",ASISTENCIA!P21<>\"F\",ASISTENCIA!P21<>\"\"),SUMIF($F$13:$J$13,V$13,$F22:$J22),\"\")","v":""},{"$f":"IF(AND(LEN($D22)>0,SUMIF($F$13:$J$13,W$13,$F22:$J22)>0,ASISTENCIA!Q21<>\"X\",ASISTENCIA!Q21<>\"L\",ASISTENCIA!Q21<>\"J\",ASISTENCIA!Q21<>\"V\",ASISTENCIA!Q21<>\"F\",ASISTENCIA!Q21<>\"\"),SUMIF($F$13:$J$13,W$13,$F22:$J22),\"\")","v":""},{"$f":"IF(AND(LEN($D22)>0,SUMIF($F$13:$J$13,X$13,$F22:$J22)>0,ASISTENCIA!R21<>\"X\",ASISTENCIA!R21<>\"L\",ASISTENCIA!R21<>\"J\",ASISTENCIA!R21<>\"V\",ASISTENCIA!R21<>\"F\",ASISTENCIA!R21<>\"\"),SUMIF($F$13:$J$13,X$13,$F22:$J22),\"\")","v":""},{"$f":"IF(AND(LEN($D22)>0,SUMIF($F$13:$J$13,Y$13,$F22:$J22)>0,ASISTENCIA!S21<>\"X\",ASISTENCIA!S21<>\"L\",ASISTENCIA!S21<>\"J\",ASISTENCIA!S21<>\"V\",ASISTENCIA!S21<>\"F\",ASISTENCIA!S21<>\"\"),SUMIF($F$13:$J$13,Y$13,$F22:$J22),\"\")","v":""},{"$f":"IF(AND(LEN($D22)>0,SUMIF($F$13:$J$13,Z$13,$F22:$J22)>0,ASISTENCIA!T21<>\"X\",ASISTENCIA!T21<>\"L\",ASISTENCIA!T21<>\"J\",ASISTENCIA!T21<>\"V\",ASISTENCIA!T21<>\"F\",ASISTENCIA!T21<>\"\"),SUMIF($F$13:$J$13,Z$13,$F22:$J22),\"\")","v":""},{"$f":"IF(AND(LEN($D22)>0,SUMIF($F$13:$J$13,AA$13,$F22:$J22)>0,ASISTENCIA!U21<>\"X\",ASISTENCIA!U21<>\"L\",ASISTENCIA!U21<>\"J\",ASISTENCIA!U21<>\"V\",ASISTENCIA!U21<>\"F\",ASISTENCIA!U21<>\"\"),SUMIF($F$13:$J$13,AA$13,$F22:$J22),\"\")","v":""},{"$f":"IF(AND(LEN($D22)>0,SUMIF($F$13:$J$13,AB$13,$F22:$J22)>0,ASISTENCIA!V21<>\"X\",ASISTENCIA!V21<>\"L\",ASISTENCIA!V21<>\"J\",ASISTENCIA!V21<>\"V\",ASISTENCIA!V21<>\"F\",ASISTENCIA!V21<>\"\"),SUMIF($F$13:$J$13,AB$13,$F22:$J22),\"\")","v":""},{"$f":"IF(AND(LEN($D22)>0,SUMIF($F$13:$J$13,AC$13,$F22:$J22)>0,ASISTENCIA!W21<>\"X\",ASISTENCIA!W21<>\"L\",ASISTENCIA!W21<>\"J\",ASISTENCIA!W21<>\"V\",ASISTENCIA!W21<>\"F\",ASISTENCIA!W21<>\"\"),SUMIF($F$13:$J$13,AC$13,$F22:$J22),\"\")","v":""},{"$f":"IF(AND(LEN($D22)>0,SUMIF($F$13:$J$13,AD$13,$F22:$J22)>0,ASISTENCIA!X21<>\"X\",ASISTENCIA!X21<>\"L\",ASISTENCIA!X21<>\"J\",ASISTENCIA!X21<>\"V\",ASISTENCIA!X21<>\"F\",ASISTENCIA!X21<>\"\"),SUMIF($F$13:$J$13,AD$13,$F22:$J22),\"\")","v":""},{"$f":"IF(AND(LEN($D22)>0,SUMIF($F$13:$J$13,AE$13,$F22:$J22)>0,ASISTENCIA!Y21<>\"X\",ASISTENCIA!Y21<>\"L\",ASISTENCIA!Y21<>\"J\",ASISTENCIA!Y21<>\"V\",ASISTENCIA!Y21<>\"F\",ASISTENCIA!Y21<>\"\"),SUMIF($F$13:$J$13,AE$13,$F22:$J22),\"\")","v":""},{"$f":"IF(AND(LEN($D22)>0,SUMIF($F$13:$J$13,AF$13,$F22:$J22)>0,ASISTENCIA!Z21<>\"X\",ASISTENCIA!Z21<>\"L\",ASISTENCIA!Z21<>\"J\",ASISTENCIA!Z21<>\"V\",ASISTENCIA!Z21<>\"F\",ASISTENCIA!Z21<>\"\"),SUMIF($F$13:$J$13,AF$13,$F22:$J22),\"\")","v":""},{"$f":"IF(AND(LEN($D22)>0,SUMIF($F$13:$J$13,AG$13,$F22:$J22)>0,ASISTENCIA!AA21<>\"X\",ASISTENCIA!AA21<>\"L\",ASISTENCIA!AA21<>\"J\",ASISTENCIA!AA21<>\"V\",ASISTENCIA!AA21<>\"F\",ASISTENCIA!AA21<>\"\"),SUMIF($F$13:$J$13,AG$13,$F22:$J22),\"\")","v":""},{"$f":"IF(AND(LEN($D22)>0,SUMIF($F$13:$J$13,AH$13,$F22:$J22)>0,ASISTENCIA!AB21<>\"X\",ASISTENCIA!AB21<>\"L\",ASISTENCIA!AB21<>\"J\",ASISTENCIA!AB21<>\"V\",ASISTENCIA!AB21<>\"F\",ASISTENCIA!AB21<>\"\"),SUMIF($F$13:$J$13,AH$13,$F22:$J22),\"\")","v":""},{"$f":"IF(AND(LEN($D22)>0,SUMIF($F$13:$J$13,AI$13,$F22:$J22)>0,ASISTENCIA!AC21<>\"X\",ASISTENCIA!AC21<>\"L\",ASISTENCIA!AC21<>\"J\",ASISTENCIA!AC21<>\"V\",ASISTENCIA!AC21<>\"F\",ASISTENCIA!AC21<>\"\"),SUMIF($F$13:$J$13,AI$13,$F22:$J22),\"\")","v":""},{"$f":"IF(AND(LEN($D22)>0,SUMIF($F$13:$J$13,AJ$13,$F22:$J22)>0,ASISTENCIA!AD21<>\"X\",ASISTENCIA!AD21<>\"L\",ASISTENCIA!AD21<>\"J\",ASISTENCIA!AD21<>\"V\",ASISTENCIA!AD21<>\"F\",ASISTENCIA!AD21<>\"\"),SUMIF($F$13:$J$13,AJ$13,$F22:$J22),\"\")","v":""},{"$f":"IF(AND(LEN($D22)>0,SUMIF($F$13:$J$13,AK$13,$F22:$J22)>0,ASISTENCIA!AE21<>\"X\",ASISTENCIA!AE21<>\"L\",ASISTENCIA!AE21<>\"J\",ASISTENCIA!AE21<>\"V\",ASISTENCIA!AE21<>\"F\",ASISTENCIA!AE21<>\"\"),SUMIF($F$13:$J$13,AK$13,$F22:$J22),\"\")","v":""},{"$f":"IF(AND(LEN($D22)>0,SUMIF($F$13:$J$13,AL$13,$F22:$J22)>0,ASISTENCIA!AF21<>\"X\",ASISTENCIA!AF21<>\"L\",ASISTENCIA!AF21<>\"J\",ASISTENCIA!AF21<>\"V\",ASISTENCIA!AF21<>\"F\",ASISTENCIA!AF21<>\"\"),SUMIF($F$13:$J$13,AL$13,$F22:$J22),\"\")","v":""},{"$f":"IF(AND(LEN($D22)>0,SUMIF($F$13:$J$13,AM$13,$F22:$J22)>0,ASISTENCIA!AG21<>\"X\",ASISTENCIA!AG21<>\"L\",ASISTENCIA!AG21<>\"J\",ASISTENCIA!AG21<>\"V\",ASISTENCIA!AG21<>\"F\",ASISTENCIA!AG21<>\"\"),SUMIF($F$13:$J$13,AM$13,$F22:$J22),\"\")","v":""},{"$f":"IF(AND(LEN($D22)>0,SUMIF($F$13:$J$13,AN$13,$F22:$J22)>0,ASISTENCIA!AH21<>\"X\",ASISTENCIA!AH21<>\"L\",ASISTENCIA!AH21<>\"J\",ASISTENCIA!AH21<>\"V\",ASISTENCIA!AH21<>\"F\",ASISTENCIA!AH21<>\"\"),SUMIF($F$13:$J$13,AN$13,$F22:$J22),\"\")","v":""},{"$f":"IF(AND(LEN($D22)>0,SUMIF($F$13:$J$13,AO$13,$F22:$J22)>0,ASISTENCIA!AI21<>\"X\",ASISTENCIA!AI21<>\"L\",ASISTENCIA!AI21<>\"J\",ASISTENCIA!AI21<>\"V\",ASISTENCIA!AI21<>\"F\",ASISTENCIA!AI21<>\"\"),SUMIF($F$13:$J$13,AO$13,$F22:$J22),\"\")","v":""},{"$f":"IF(AND(LEN($D22)>0,SUMIF($F$13:$J$13,AP$13,$F22:$J22)>0,ASISTENCIA!AJ21<>\"X\",ASISTENCIA!AJ21<>\"L\",ASISTENCIA!AJ21<>\"J\",ASISTENCIA!AJ21<>\"V\",ASISTENCIA!AJ21<>\"F\",ASISTENCIA!AJ21<>\"\"),SUMIF($F$13:$J$13,AP$13,$F22:$J22),\"\")","v":""},{"$f":"IF(AND(LEN($D22)>0,SUMIF($F$13:$J$13,AQ$13,$F22:$J22)>0,ASISTENCIA!AK21<>\"X\",ASISTENCIA!AK21<>\"L\",ASISTENCIA!AK21<>\"J\",ASISTENCIA!AK21<>\"V\",ASISTENCIA!AK21<>\"F\",ASISTENCIA!AK21<>\"\"),SUMIF($F$13:$J$13,AQ$13,$F22:$J22),\"\")","v":""},{"$f":"IF(AND(LEN($D22)>0,SUMIF($F$13:$J$13,AR$13,$F22:$J22)>0,ASISTENCIA!AL21<>\"X\",ASISTENCIA!AL21<>\"L\",ASISTENCIA!AL21<>\"J\",ASISTENCIA!AL21<>\"V\",ASISTENCIA!AL21<>\"F\",ASISTENCIA!AL21<>\"\"),SUMIF($F$13:$J$13,AR$13,$F22:$J22),\"\")","v":""},{"$f":"IF(AND(LEN($D22)>0,SUMIF($F$13:$J$13,AS$13,$F22:$J22)>0,ASISTENCIA!AM21<>\"X\",ASISTENCIA!AM21<>\"L\",ASISTENCIA!AM21<>\"J\",ASISTENCIA!AM21<>\"V\",ASISTENCIA!AM21<>\"F\",ASISTENCIA!AM21<>\"\"),SUMIF($F$13:$J$13,AS$13,$F22:$J22),\"\")","v":""},"",null,null,null,{"$f":"IF(AND(LEN($D22)>0,SUMIF($F$13:$J$13,AX$13,$F22:$J22)>0,ASISTENCIA!AU21<>\"X\",ASISTENCIA!AU21<>\"L\",ASISTENCIA!AU21<>\"J\",ASISTENCIA!AU21<>\"F\"),SUMIF($F$13:$J$13,AX$13,$F22:$J22),\"\")","v":""},{"$f":"IF(AND(LEN($D22)>0,SUMIF($F$13:$J$13,AY$13,$F22:$J22)>0,ASISTENCIA!AV21<>\"X\",ASISTENCIA!AV21<>\"L\",ASISTENCIA!AV21<>\"J\",ASISTENCIA!AV21<>\"F\"),SUMIF($F$13:$J$13,AY$13,$F22:$J22),\"\")","v":""},{"$f":"IF(AND(LEN($D22)>0,SUMIF($F$13:$J$13,AZ$13,$F22:$J22)>0,ASISTENCIA!AW21<>\"X\",ASISTENCIA!AW21<>\"L\",ASISTENCIA!AW21<>\"J\",ASISTENCIA!AW21<>\"F\"),SUMIF($F$13:$J$13,AZ$13,$F22:$J22),\"\")","v":""},{"$f":"IF(AND(LEN($D22)>0,SUMIF($F$13:$J$13,BA$13,$F22:$J22)>0,ASISTENCIA!AX21<>\"X\",ASISTENCIA!AX21<>\"L\",ASISTENCIA!AX21<>\"J\",ASISTENCIA!AX21<>\"F\"),SUMIF($F$13:$J$13,BA$13,$F22:$J22),\"\")","v":""},{"$f":"IF(AND(LEN($D22)>0,SUMIF($F$13:$J$13,BB$13,$F22:$J22)>0,ASISTENCIA!AY21<>\"X\",ASISTENCIA!AY21<>\"L\",ASISTENCIA!AY21<>\"J\",ASISTENCIA!AY21<>\"F\"),SUMIF($F$13:$J$13,BB$13,$F22:$J22),\"\")","v":""},{"$f":"IF(AND(LEN($D22)>0,SUMIF($F$13:$J$13,BC$13,$F22:$J22)>0,ASISTENCIA!AZ21<>\"X\",ASISTENCIA!AZ21<>\"L\",ASISTENCIA!AZ21<>\"J\",ASISTENCIA!AZ21<>\"F\"),SUMIF($F$13:$J$13,BC$13,$F22:$J22),\"\")","v":""},{"$f":"IF(AND(LEN($D22)>0,SUMIF($F$13:$J$13,BD$13,$F22:$J22)>0,ASISTENCIA!BA21<>\"X\",ASISTENCIA!BA21<>\"L\",ASISTENCIA!BA21<>\"J\",ASISTENCIA!BA21<>\"F\"),SUMIF($F$13:$J$13,BD$13,$F22:$J22),\"\")","v":""},{"$f":"IF(AND(LEN($D22)>0,SUMIF($F$13:$J$13,BE$13,$F22:$J22)>0,ASISTENCIA!BB21<>\"X\",ASISTENCIA!BB21<>\"L\",ASISTENCIA!BB21<>\"J\",ASISTENCIA!BB21<>\"F\"),SUMIF($F$13:$J$13,BE$13,$F22:$J22),\"\")","v":""},{"$f":"IF(AND(LEN($D22)>0,SUMIF($F$13:$J$13,BF$13,$F22:$J22)>0,ASISTENCIA!#REF!<>\"X\",ASISTENCIA!#REF!<>\"L\",ASISTENCIA!#REF!<>\"J\",ASISTENCIA!#REF!<>\"F\"),SUMIF($F$13:$J$13,BF$13,$F22:$J22),\"\")","v":{"$error":"#REF!"}},{"$f":"IF(AND(LEN($D22)>0,SUMIF($F$13:$J$13,BG$13,$F22:$J22)>0,ASISTENCIA!#REF!<>\"X\",ASISTENCIA!#REF!<>\"L\",ASISTENCIA!#REF!<>\"J\",ASISTENCIA!#REF!<>\"F\"),SUMIF($F$13:$J$13,BG$13,$F22:$J22),\"\")","v":{"$error":"#REF!"}},{"$f":"IF(AND(LEN($D22)>0,SUMIF($F$13:$J$13,BH$13,$F22:$J22)>0,ASISTENCIA!BE21<>\"X\",ASISTENCIA!BE21<>\"L\",ASISTENCIA!BE21<>\"J\",ASISTENCIA!BE21<>\"F\"),SUMIF($F$13:$J$13,BH$13,$F22:$J22),\"\")","v":""},{"$f":"IF(AND(LEN($D22)>0,SUMIF($F$13:$J$13,BI$13,$F22:$J22)>0,ASISTENCIA!BF21<>\"X\",ASISTENCIA!BF21<>\"L\",ASISTENCIA!BF21<>\"J\",ASISTENCIA!BF21<>\"F\"),SUMIF($F$13:$J$13,BI$13,$F22:$J22),\"\")","v":""},{"$f":"IF(AND(LEN($D22)>0,SUMIF($F$13:$J$13,BJ$13,$F22:$J22)>0,ASISTENCIA!BG21<>\"X\",ASISTENCIA!BG21<>\"L\",ASISTENCIA!BG21<>\"J\",ASISTENCIA!BG21<>\"F\"),SUMIF($F$13:$J$13,BJ$13,$F22:$J22),\"\")","v":""},{"$f":"IF(AND(LEN($D22)>0,SUMIF($F$13:$J$13,BK$13,$F22:$J22)>0,ASISTENCIA!BH21<>\"X\",ASISTENCIA!BH21<>\"L\",ASISTENCIA!BH21<>\"J\",ASISTENCIA!BH21<>\"F\"),SUMIF($F$13:$J$13,BK$13,$F22:$J22),\"\")","v":""},{"$f":"IF(AND(LEN($D22)>0,SUMIF($F$13:$J$13,BL$13,$F22:$J22)>0,ASISTENCIA!BI21<>\"X\",ASISTENCIA!BI21<>\"L\",ASISTENCIA!BI21<>\"J\",ASISTENCIA!BI21<>\"F\"),SUMIF($F$13:$J$13,BL$13,$F22:$J22),\"\")","v":""},{"$f":"IF(AND(LEN($D22)>0,SUMIF($F$13:$J$13,BM$13,$F22:$J22)>0,ASISTENCIA!BJ21<>\"X\",ASISTENCIA!BJ21<>\"L\",ASISTENCIA!BJ21<>\"J\",ASISTENCIA!BJ21<>\"F\"),SUMIF($F$13:$J$13,BM$13,$F22:$J22),\"\")","v":""},{"$f":"IF(AND(LEN($D22)>0,SUMIF($F$13:$J$13,BN$13,$F22:$J22)>0,ASISTENCIA!BK21<>\"X\",ASISTENCIA!BK21<>\"L\",ASISTENCIA!BK21<>\"J\",ASISTENCIA!BK21<>\"F\"),SUMIF($F$13:$J$13,BN$13,$F22:$J22),\"\")","v":""},{"$f":"IF(AND(LEN($D22)>0,SUMIF($F$13:$J$13,BO$13,$F22:$J22)>0,ASISTENCIA!BL21<>\"X\",ASISTENCIA!BL21<>\"L\",ASISTENCIA!BL21<>\"J\",ASISTENCIA!BL21<>\"F\"),SUMIF($F$13:$J$13,BO$13,$F22:$J22),\"\")","v":""},{"$f":"IF(AND(LEN($D22)>0,SUMIF($F$13:$J$13,BP$13,$F22:$J22)>0,ASISTENCIA!BM21<>\"X\",ASISTENCIA!BM21<>\"L\",ASISTENCIA!BM21<>\"J\",ASISTENCIA!BM21<>\"F\"),SUMIF($F$13:$J$13,BP$13,$F22:$J22),\"\")","v":""},{"$f":"IF(AND(LEN($D22)>0,SUMIF($F$13:$J$13,BQ$13,$F22:$J22)>0,ASISTENCIA!BN21<>\"X\",ASISTENCIA!BN21<>\"L\",ASISTENCIA!BN21<>\"J\",ASISTENCIA!BN21<>\"F\"),SUMIF($F$13:$J$13,BQ$13,$F22:$J22),\"\")","v":""},{"$f":"IF(AND(LEN($D22)>0,SUMIF($F$13:$J$13,BR$13,$F22:$J22)>0,ASISTENCIA!BO21<>\"X\",ASISTENCIA!BO21<>\"L\",ASISTENCIA!BO21<>\"J\",ASISTENCIA!BO21<>\"F\"),SUMIF($F$13:$J$13,BR$13,$F22:$J22),\"\")","v":""},{"$f":"IF(AND(LEN($D22)>0,SUMIF($F$13:$J$13,BS$13,$F22:$J22)>0,ASISTENCIA!BP21<>\"X\",ASISTENCIA!BP21<>\"L\",ASISTENCIA!BP21<>\"J\",ASISTENCIA!BP21<>\"F\"),SUMIF($F$13:$J$13,BS$13,$F22:$J22),\"\")","v":""},{"$f":"IF(AND(LEN($D22)>0,SUMIF($F$13:$J$13,BT$13,$F22:$J22)>0,ASISTENCIA!BQ21<>\"X\",ASISTENCIA!BQ21<>\"L\",ASISTENCIA!BQ21<>\"J\",ASISTENCIA!BQ21<>\"F\"),SUMIF($F$13:$J$13,BT$13,$F22:$J22),\"\")","v":""},{"$f":"IF(AND(LEN($D22)>0,SUMIF($F$13:$J$13,BU$13,$F22:$J22)>0,ASISTENCIA!BR21<>\"X\",ASISTENCIA!BR21<>\"L\",ASISTENCIA!BR21<>\"J\",ASISTENCIA!BR21<>\"F\"),SUMIF($F$13:$J$13,BU$13,$F22:$J22),\"\")","v":""},{"$f":"IF(AND(LEN($D22)>0,SUMIF($F$13:$J$13,BV$13,$F22:$J22)>0,ASISTENCIA!BS21<>\"X\",ASISTENCIA!BS21<>\"L\",ASISTENCIA!BS21<>\"J\",ASISTENCIA!BS21<>\"F\"),SUMIF($F$13:$J$13,BV$13,$F22:$J22),\"\")","v":""},{"$f":"IF(AND(LEN($D22)>0,SUMIF($F$13:$J$13,BW$13,$F22:$J22)>0,ASISTENCIA!BT21<>\"X\",ASISTENCIA!BT21<>\"L\",ASISTENCIA!BT21<>\"J\",ASISTENCIA!BT21<>\"F\"),SUMIF($F$13:$J$13,BW$13,$F22:$J22),\"\")","v":""},{"$f":"IF(AND(LEN($D22)>0,SUMIF($F$13:$J$13,BX$13,$F22:$J22)>0,ASISTENCIA!BU21<>\"X\",ASISTENCIA!BU21<>\"L\",ASISTENCIA!BU21<>\"J\",ASISTENCIA!BU21<>\"F\"),SUMIF($F$13:$J$13,BX$13,$F22:$J22),\"\")","v":""},{"$f":"IF(AND(LEN($D22)>0,SUMIF($F$13:$J$13,BY$13,$F22:$J22)>0,ASISTENCIA!BV21<>\"X\",ASISTENCIA!BV21<>\"L\",ASISTENCIA!BV21<>\"J\",ASISTENCIA!BV21<>\"F\"),SUMIF($F$13:$J$13,BY$13,$F22:$J22),\"\")","v":""},{"$f":"IF(AND(LEN($D22)>0,SUMIF($F$13:$J$13,BZ$13,$F22:$J22)>0,ASISTENCIA!BW21<>\"X\",ASISTENCIA!BW21<>\"L\",ASISTENCIA!BW21<>\"J\",ASISTENCIA!BW21<>\"F\"),SUMIF($F$13:$J$13,BZ$13,$F22:$J22),\"\")","v":""},{"$f":"IF(AND(LEN($D22)>0,SUMIF($F$13:$J$13,CA$13,$F22:$J22)>0,ASISTENCIA!BX21<>\"X\",ASISTENCIA!BX21<>\"L\",ASISTENCIA!BX21<>\"J\",ASISTENCIA!BX21<>\"F\"),SUMIF($F$13:$J$13,CA$13,$F22:$J22),\"\")","v":""},{"$f":"IF(AND(LEN($D22)>0,SUMIF($F$13:$J$13,CB$13,$F22:$J22)>0,ASISTENCIA!BY21<>\"X\",ASISTENCIA!BY21<>\"L\",ASISTENCIA!BY21<>\"J\",ASISTENCIA!BY21<>\"F\"),SUMIF($F$13:$J$13,CB$13,$F22:$J22),\"\")","v":""},{"$error":"#REF!"}]
["",{"$f":"IF(LEN(C23)>0,VLOOKUP($O$4,DATA!$A$1:$S$1,2,FALSE),\"\")","v":""},"",{"$f":"IF(LEN(ASISTENCIA!E22)>0,ASISTENCIA!E22,\"\")","v":""},{"$f":"IF(LEN(D23)>0,ASISTENCIA!F22,\"\")","v":""},null,null,null,null,null,"",null,null,{"$error":"#REF!"},{"$f":"IF(AND(LEN($D23)>0,SUMIF($F$13:$J$13,O$13,$F23:$J23)>0,ASISTENCIA!I22<>\"X\",ASISTENCIA!I22<>\"L\",ASISTENCIA!I22<>\"J\",ASISTENCIA!I22<>\"V\",ASISTENCIA!I22<>\"F\",ASISTENCIA!I22<>\"\"),SUMIF($F$13:$J$13,O$13,$F23:$J23),\"\")","v":""},{"$f":"IF(AND(LEN($D23)>0,SUMIF($F$13:$J$13,P$13,$F23:$J23)>0,ASISTENCIA!J22<>\"X\",ASISTENCIA!J22<>\"L\",ASISTENCIA!J22<>\"J\",ASISTENCIA!J22<>\"V\",ASISTENCIA!J22<>\"F\",ASISTENCIA!J22<>\"\"),SUMIF($F$13:$J$13,P$13,$F23:$J23),\"\")","v":""},{"$f":"IF(AND(LEN($D23)>0,SUMIF($F$13:$J$13,Q$13,$F23:$J23)>0,ASISTENCIA!K22<>\"X\",ASISTENCIA!K22<>\"L\",ASISTENCIA!K22<>\"J\",ASISTENCIA!K22<>\"V\",ASISTENCIA!K22<>\"F\",ASISTENCIA!K22<>\"\"),SUMIF($F$13:$J$13,Q$13,$F23:$J23),\"\")","v":""},{"$f":"IF(AND(LEN($D23)>0,SUMIF($F$13:$J$13,R$13,$F23:$J23)>0,ASISTENCIA!L22<>\"X\",ASISTENCIA!L22<>\"L\",ASISTENCIA!L22<>\"J\",ASISTENCIA!L22<>\"V\",ASISTENCIA!L22<>\"F\",ASISTENCIA!L22<>\"\"),SUMIF($F$13:$J$13,R$13,$F23:$J23),\"\")","v":""},{"$f":"IF(AND(LEN($D23)>0,SUMIF($F$13:$J$13,S$13,$F23:$J23)>0,ASISTENCIA!M22<>\"X\",ASISTENCIA!M22<>\"L\",ASISTENCIA!M22<>\"J\",ASISTENCIA!M22<>\"V\",ASISTENCIA!M22<>\"F\",ASISTENCIA!M22<>\"\"),SUMIF($F$13:$J$13,S$13,$F23:$J23),\"\")","v":""},{"$f":"IF(AND(LEN($D23)>0,SUMIF($F$13:$J$13,T$13,$F23:$J23)>0,ASISTENCIA!N22<>\"X\",ASISTENCIA!N22<>\"L\",ASISTENCIA!N22<>\"J\",ASISTENCIA!N22<>\"V\",ASISTENCIA!N22<>\"F\",ASISTENCIA!N22<>\"\"),SUMIF($F$13:$J$13,T$13,$F23:$J23),\"\")","v":""},{"$f":"IF(AND(LEN($D23)>0,SUMIF($F$13:$J$13,U$13,$F23:$J23)>0,ASISTENCIA!O22<>\"X\",ASISTENCIA!O22<>\"L\",ASISTENCIA!O22<>\"J\",ASISTENCIA!O22<>\"V\",ASISTENCIA!O22<>\"F\",ASISTENCIA!O22<>\"\"),SUMIF($F$13:$J$13,U$13,$F23:$J23),\"\")","v":""},{"$f":"IF(AND(LEN($D23)>0,SUMIF($F$13:$J$13,V$13,$F23:$J23)>0,ASISTENCIA!P22<>\"X\",ASISTENCIA!P22<>\"L\",ASISTENCIA!P22<>\"J\",ASISTENCIA!P22<>\"V\",ASISTENCIA!P22<>\"F\",ASISTENCIA!P22<>\"\"),SUMIF($F$13:$J$13,V$13,$F23:$J23),\"\")","v":""},{"$f":"IF(AND(LEN($D23)>0,SUMIF($F$13:$J$13,W$13,$F23:$J23)>0,ASISTENCIA!Q22<>\"X\",ASISTENCIA!Q22<>\"L\",ASISTENCIA!Q22<>\"J\",ASISTENCIA!Q22<>\"V\",ASISTENCIA!Q22<>\"F\",ASISTENCIA!Q22<>\"\"),SUMIF($F$13:$J$13,W$13,$F23:$J23),\"\")","v":""},{"$f":"IF(AND(LEN($D23)>0,SUMIF($F$13:$J$13,X$13,$F23:$J23)>0,ASISTENCIA!R22<>\"X\",ASISTENCIA!R22<>\"L\",ASISTENCIA!R22<>\"J\",ASISTENCIA!R22<>\"V\",ASISTENCIA!R22<>\"F\",ASISTENCIA!R22<>\"\"),SUMIF($F$13:$J$13,X$13,$F23:$J23),\"\")","v":""},{"$f":"IF(AND(LEN($D23)>0,SUMIF($F$13:$J$13,Y$13,$F23:$J23)>0,ASISTENCIA!S22<>\"X\",ASISTENCIA!S22<>\"L\",ASISTENCIA!S22<>\"J\",ASISTENCIA!S22<>\"V\",ASISTENCIA!S22<>\"F\",ASISTENCIA!S22<>\"\"),SUMIF($F$13:$J$13,Y$13,$F23:$J23),\"\")","v":""},{"$f":"IF(AND(LEN($D23)>0,SUMIF($F$13:$J$13,Z$13,$F23:$J23)>0,ASISTENCIA!T22<>\"X\",ASISTENCIA!T22<>\"L\",ASISTENCIA!T22<>\"J\",ASISTENCIA!T22<>\"V\",ASISTENCIA!T22<>\"F\",ASISTENCIA!T22<>\"\"),SUMIF($F$13:$J$13,Z$13,$F23:$J23),\"\")","v":""},{"$f":"IF(AND(LEN($D23)>0,SUMIF($F$13:$J$13,AA$13,$F23:$J23)>0,ASISTENCIA!U22<>\"X\",ASISTENCIA!U22<>\"L\",ASISTENCIA!U22<>\"J\",ASISTENCIA!U22<>\"V\",ASISTENCIA!U22<>\"F\",ASISTENCIA!U22<>\"\"),SUMIF($F$13:$J$13,AA$13,$F23:$J23),\"\")","v":""},{"$f":"IF(AND(LEN($D23)>0,SUMIF($F$13:$J$13,AB$13,$F23:$J23)>0,ASISTENCIA!V22<>\"X\",ASISTENCIA!V22<>\"L\",ASISTENCIA!V22<>\"J\",ASISTENCIA!V22<>\"V\",ASISTENCIA!V22<>\"F\",ASISTENCIA!V22<>\"\"),SUMIF($F$13:$J$13,AB$13,$F23:$J23),\"\")","v":""},{"$f":"IF(AND(LEN($D23)>0,SUMIF($F$13:$J$13,AC$13,$F23:$J23)>0,ASISTENCIA!W22<>\"X\",ASISTENCIA!W22<>\"L\",ASISTENCIA!W22<>\"J\",ASISTENCIA!W22<>\"V\",ASISTENCIA!W22<>\"F\",ASISTENCIA!W22<>\"\"),SUMIF($F$13:$J$13,AC$13,$F23:$J23),\"\")","v":""},{"$f":"IF(AND(LEN($D23)>0,SUMIF($F$13:$J$13,AD$13,$F23:$J23)>0,ASISTENCIA!X22<>\"X\",ASISTENCIA!X22<>\"L\",ASISTENCIA!X22<>\"J\",ASISTENCIA!X22<>\"V\",ASISTENCIA!X22<>\"F\",ASISTENCIA!X22<>\"\"),SUMIF($F$13:$J$13,AD$13,$F23:$J23),\"\")","v":""},{"$f":"IF(AND(LEN($D23)>0,SUMIF($F$13:$J$13,AE$13,$F23:$J23)>0,ASISTENCIA!Y22<>\"X\",ASISTENCIA!Y22<>\"L\",ASISTENCIA!Y22<>\"J\",ASISTENCIA!Y22<>\"V\",ASISTENCIA!Y22<>\"F\",ASISTENCIA!Y22<>\"\"),SUMIF($F$13:$J$13,AE$13,$F23:$J23),\"\")","v":""},{"$f":"IF(AND(LEN($D23)>0,SUMIF($F$13:$J$13,AF$13,$F23:$J23)>0,ASISTENCIA!Z22<>\"X\",ASISTENCIA!Z22<>\"L\",ASISTENCIA!Z22<>\"J\",ASISTENCIA!Z22<>\"V\",ASISTENCIA!Z22<>\"F\",ASISTENCIA!Z22<>\"\"),SUMIF($F$13:$J$13,AF$13,$F23:$J23),\"\")","v":""},{"$f":"IF(AND(LEN($D23)>0,SUMIF($F$13:$J$13,AG$13,$F23:$J23)>0,ASISTENCIA!AA22<>\"X\",ASISTENCIA!AA22<>\"L\",ASISTENCIA!AA22<>\"J\",ASISTENCIA!AA22<>\"V\",ASISTENCIA!AA22<>\"F\",ASISTENCIA!AA22<>\"\"),SUMIF($F$13:$J$13,AG$13,$F23:$J23),\"\")","v":""},{"$f":"IF(AND(LEN($D23)>0,SUMIF($F$13:$J$13,AH$13,$F23:$J23)>0,ASISTENCIA!AB22<>\"X\",ASISTENCIA!AB22<>\"L\",ASISTENCIA!AB22<>\"J\",ASISTENCIA!AB22<>\"V\",ASISTENCIA!AB22<>\"F\",ASISTENCIA!AB22<>\"\"),SUMIF($F$13:$J$13,AH$13,$F23:$J23),\"\")","v":""},{"$f":"IF(AND(LEN($D23)>0,SUMIF($F$13:$J$13,AI$13,$F23:$J23)>0,ASISTENCIA!AC22<>\"X\",ASISTENCIA!AC22<>\"L\",ASISTENCIA!AC22<>\"J\",ASISTENCIA!AC22<>\"V\",ASISTENCIA!AC22<>\"F\",ASISTENCIA!AC22<>\"\"),SUMIF($F$13:$J$13,AI$13,$F23:$J23),\"\")","v":""},{"$f":"IF(AND(LEN($D23)>0,SUMIF($F$13:$J$13,AJ$13,$F23:$J23)>0,ASISTENCIA!AD22<>\"X\",ASISTENCIA!AD22<>\"L\",ASISTENCIA!AD22<>\"J\",ASISTENCIA!AD22<>\"V\",ASISTENCIA!AD22<>\"F\",ASISTENCIA!AD22<>\"\"),SUMIF($F$13:$J$13,AJ$13,$F23:$J23),\"\")","v":""},{"$f":"IF(AND(LEN($D23)>0,SUMIF($F$13:$J$13,AK$13,$F23:$J23)>0,ASISTENCIA!AE22<>\"X\",ASISTENCIA!AE22<>\"L\",ASISTENCIA!AE22<>\"J\",ASISTENCIA!AE22<>\"V\",ASISTENCIA!AE22<>\"F\",ASISTENCIA!AE22<>\"\"),SUMIF($F$13:$J$13,AK$13,$F23:$J23),\"\")","v":""},{"$f":"IF(AND(LEN($D23)>0,SUMIF($F$13:$J$13,AL$13,$F23:$J23)>0,ASISTENCIA!AF22<>\"X\",ASISTENCIA!AF22<>\"L\",ASISTENCIA!AF22<>\"J\",ASISTENCIA!AF22<>\"V\",ASISTENCIA!AF22<>\"F\",ASISTENCIA!AF22<>\"\"),SUMIF($F$13:$J$13,AL$13,$F23:$J23),\"\")","v":""},{"$f":"IF(AND(LEN($D23)>0,SUMIF($F$13:$J$13,AM$13,$F23:$J23)>0,ASISTENCIA!AG22<>\"X\",ASISTENCIA!AG22<>\"L\",ASISTENCIA!AG22<>\"J\",ASISTENCIA!AG22<>\"V\",ASISTENCIA!AG22<>\"F\",ASISTENCIA!AG22<>\"\"),SUMIF($F$13:$J$13,AM$13,$F23:$J23),\"\")","v":""},{"$f":"IF(AND(LEN($D23)>0,SUMIF($F$13:$J$13,AN$13,$F23:$J23)>0,ASISTENCIA!AH22<>\"X\",ASISTENCIA!AH22<>\"L\",ASISTENCIA!AH22<>\"J\",ASISTENCIA!AH22<>\"V\",ASISTENCIA!AH22<>\"F\",ASISTENCIA!AH22<>\"\"),SUMIF($F$13:$J$13,AN$13,$F23:$J23),\"\")","v":""},{"$f":"IF(AND(LEN($D23)>0,SUMIF($F$13:$J$13,AO$13,$F23:$J23)>0,ASISTENCIA!AI22<>\"X\",ASISTENCIA!AI22<>\"L\",ASISTENCIA!AI22<>\"J\",ASISTENCIA!AI22<>\"V\",ASISTENCIA!AI22<>\"F\",ASISTENCIA!AI22<>\"\"),SUMIF($F$13:$J$13,AO$13,$F23:$J23),\"\")","v":""},{"$f":"IF(AND(LEN($D23)>0,SUMIF($F$13:$J$13,AP$13,$F23:$J23)>0,ASISTENCIA!AJ22<>\"X\",ASISTENCIA!AJ22<>\"L\",ASISTENCIA!AJ22<>\"J\",ASISTENCIA!AJ22<>\"V\",ASISTENCIA!AJ22<>\"F\",ASISTENCIA!AJ22<>\"\"),SUMIF($F$13:$J$13,AP$13,$F23:$J23),\"\")","v":""},{"$f":"IF(AND(LEN($D23)>0,SUMIF($F$13:$J$13,AQ$13,$F23:$J23)>0,ASISTENCIA!AK22<>\"X\",ASISTENCIA!AK22<>\"L\",ASISTENCIA!AK22<>\"J\",ASISTENCIA!AK22<>\"V\",ASISTENCIA!AK22<>\"F\",ASISTENCIA!AK22<>\"\"),SUMIF($F$13:$J$13,AQ$13,$F23:$J23),\"\")","v":""},{"$f":"IF(AND(LEN($D23)>0,SUMIF($F$13:$J$13,AR$13,$F23:$J23)>0,ASISTENCIA!AL22<>\"X\",ASISTENCIA!AL22<>\"L\",ASISTENCIA!AL22<>\"J\",ASISTENCIA!AL22<>\"V\",ASISTENCIA!AL22<>\"F\",ASISTENCIA!AL22<>\"\"),SUMIF($F$13:$J$13,AR$13,$F23:$J23),\"\")","v":""},{"$f":"IF(AND(LEN($D23)>0,SUMIF($F$13:$J$13,AS$13,$F23:$J23)>0,ASISTENCIA!AM22<>\"X\",ASISTENCIA!AM22<>\"L\",ASISTENCIA!AM22<>\"J\",ASISTENCIA!AM22<>\"V\",ASISTENCIA!AM22<>\"F\",ASISTENCIA!AM22<>\"\"),SUMIF($F$13:$J$13,AS$13,$F23:$J23),\"\")","v":""},"",null,null,null,{"$f":"IF(AND(LEN($D23)>0,SUMIF($F$13:$J$13,AX$13,$F23:$J23)>0,ASISTENCIA!AU22<>\"X\",ASISTENCIA!AU22<>\"L\",ASISTENCIA!AU22<>\"J\",ASISTENCIA!AU22<>\"F\"),SUMIF($F$13:$J$13,AX$13,$F23:$J23),\"\")","v":""},{"$f":"IF(AND(LEN($D23)>0,SUMIF($F$13:$J$13,AY$13,$F23:$J23)>0,ASISTENCIA!AV22<>\"X\",ASISTENCIA!AV22<>\"L\",ASISTENCIA!AV22<>\"J\",ASISTENCIA!AV22<>\"F\"),SUMIF($F$13:$J$13,AY$13,$F23:$J23),\"\")","v":""},{"$f":"IF(AND(LEN($D23)>0,SUMIF($F$13:$J$13,AZ$13,$F23:$J23)>0,ASISTENCIA!AW22<>\"X\",ASISTENCIA!AW22<>\"L\",ASISTENCIA!AW22<>\"J\",ASISTENCIA!AW22<>\"F\"),SUMIF($F$13:$J$13,AZ$13,$F23:$J23),\"\")","v":""},{"$f":"IF(AND(LEN($D23)>0,SUMIF($F$13:$J$13,BA$13,$F23:$J23)>0,ASISTENCIA!AX22<>\"X\",ASISTENCIA!AX22<>\"L\",ASISTENCIA!AX22<>\"J\",ASISTENCIA!AX22<>\"F\"),SUMIF($F$13:$J$13,BA$13,$F23:$J23),\"\")","v":""},{"$f":"IF(AND(LEN($D23)>0,SUMIF($F$13:$J$13,BB$13,$F23:$J23)>0,ASISTENCIA!AY22<>\"X\",ASISTENCIA!AY22<>\"L\",ASISTENCIA!AY22<>\"J\",ASISTENCIA!AY22<>\"F\"),SUMIF($F$13:$J$13,BB$13,$F23:$J23),\"\")","v":""},{"$f":"IF(AND(LEN($D23)>0,SUMIF($F$13:$J$13,BC$13,$F23:$J23)>0,ASISTENCIA!AZ22<>\"X\",ASISTENCIA!AZ22<>\"L\",ASISTENCIA!AZ22<>\"J\",ASISTENCIA!AZ22<>\"F\"),SUMIF($F$13:$J$13,BC$13,$F23:$J23),\"\")","v":""},{"$f":"IF(AND(LEN($D23)>0,SUMIF($F$13:$J$13,BD$13,$F23:$J23)>0,ASISTENCIA!BA22<>\"X\",ASISTENCIA!BA22<>\"L\",ASISTENCIA!BA22<>\"J\",ASISTENCIA!BA22<>\"F\"),SUMIF($F$13:$J$13,BD$13,$F23:$J23),\"\")","v":""},{"$f":"IF(AND(LEN($D23)>0,SUMIF($F$13:$J$13,BE$13,$F23:$J23)>0,ASISTENCIA!BB22<>\"X\",ASISTENCIA!BB22<>\"L\",ASISTENCIA!BB22<>\"J\",ASISTENCIA!BB22<>\"F\"),SUMIF($F$13:$J$13,BE$13,$F23:$J23),\"\")","v":""},{"$f":"IF(AND(LEN($D23)>0,SUMIF($F$13:$J$13,BF$13,$F23:$J23)>0,ASISTENCIA!#REF!<>\"X\",ASISTENCIA!#REF!<>\"L\",ASISTENCIA!#REF!<>\"J\",ASISTENCIA!#REF!<>\"F\"),SUMIF($F$13:$J$13,BF$13,$F23:$J23),\"\")","v":{"$error":"#REF!"}},{"$f":"IF(AND(LEN($D23)>0,SUMIF($F$13:$J$13,BG$13,$F23:$J23)>0,ASISTENCIA!#REF!<>\"X\",ASISTENCIA!#REF!<>\"L\",ASISTENCIA!#REF!<>\"J\",ASISTENCIA!#REF!<>\"F\"),SUMIF($F$13:$J$13,BG$13,$F23:$J23),\"\")","v":{"$error":"#REF!"}},{"$f":"IF(AND(LEN($D23)>0,SUMIF($F$13:$J$13,BH$13,$F23:$J23)>0,ASISTENCIA!BE22<>\"X\",ASISTENCIA!BE22<>\"L\",ASISTENCIA!BE22<>\"J\",ASISTENCIA!BE22<>\"F\"),SUMIF($F$13:$J$13,BH$13,$F23:$J23),\"\")","v":""},{"$f":"IF(AND(LEN($D23)>0,SUMIF($F$13:$J$13,BI$13,$F23:$J23)>0,ASISTENCIA!BF22<>\"X\",ASISTENCIA!BF22<>\"L\",ASISTENCIA!BF22<>\"J\",ASISTENCIA!BF22<>\"F\"),SUMIF($F$13:$J$13,BI$13,$F23:$J23),\"\")","v":""},{"$f":"IF(AND(LEN($D23)>0,SUMIF($F$13:$J$13,BJ$13,$F23:$J23)>0,ASISTENCIA!BG22<>\"X\",ASISTENCIA!BG22<>\"L\",ASISTENCIA!BG22<>\"J\",ASISTENCIA!BG22<>\"F\"),SUMIF($F$13:$J$13,BJ$13,$F23:$J23),\"\")","v":""},{"$f":"IF(AND(LEN($D23)>0,SUMIF($F$13:$J$13,BK$13,$F23:$J23)>0,ASISTENCIA!BH22<>\"X\",ASISTENCIA!BH22<>\"L\",ASISTENCIA!BH22<>\"J\",ASISTENCIA!BH22<>\"F\"),SUMIF($F$13:$J$13,BK$13,$F23:$J23),\"\")","v":""},{"$f":"IF(AND(LEN($D23)>0,SUMIF($F$13:$J$13,BL$13,$F23:$J23)>0,ASISTENCIA!BI22<>\"X\",ASISTENCIA!BI22<>\"L\",ASISTENCIA!BI22<>\"J\",ASISTENCIA!BI22<>\"F\"),SUMIF($F$13:$J$13,BL$13,$F23:$J23),\"\")","v":""},{"$f":"IF(AND(LEN($D23)>0,SUMIF($F$13:$J$13,BM$13,$F23:$J23)>0,ASISTENCIA!BJ22<>\"X\",ASISTENCIA!BJ22<>\"L\",ASISTENCIA!BJ22<>\"J\",ASISTENCIA!BJ22<>\"F\"),SUMIF($F$13:$J$13,BM$13,$F23:$J23),\"\")","v":""},{"$f":"IF(AND(LEN($D23)>0,SUMIF($F$13:$J$13,BN$13,$F23:$J23)>0,ASISTENCIA!BK22<>\"X\",ASISTENCIA!BK22<>\"L\",ASISTENCIA!BK22<>\"J\",ASISTENCIA!BK22<>\"F\"),SUMIF($F$13:$J$13,BN$13,$F23:$J23),\"\")","v":""},{"$f":"IF(AND(LEN($D23)>0,SUMIF($F$13:$J$13,BO$13,$F23:$J23)>0,ASISTENCIA!BL22<>\"X\",ASISTENCIA!BL22<>\"L\",ASISTENCIA!BL22<>\"J\",ASISTENCIA!BL22<>\"F\"),SUMIF($F$13:$J$13,BO$13,$F23:$J23),\"\")","v":""},{"$f":"IF(AND(LEN($D23)>0,SUMIF($F$13:$J$13,BP$13,$F23:$J23)>0,ASISTENCIA!BM22<>\"X\",ASISTENCIA!BM22<>\"L\",ASISTENCIA!BM22<>\"J\",ASISTENCIA!BM22<>\"F\"),SUMIF($F$13:$J$13,BP$13,$F23:$J23),\"\")","v":""},{"$f":"IF(AND(LEN($D23)>0,SUMIF($F$13:$J$13,BQ$13,$F23:$J23)>0,ASISTENCIA!BN22<>\"X\",ASISTENCIA!BN22<>\"L\",ASISTENCIA!BN22<>\"J\",ASISTENCIA!BN22<>\"F\"),SUMIF($F$13:$J$13,BQ$13,$F23:$J23),\"\")","v":""},{"$f":"IF(AND(LEN($D23)>0,SUMIF($F$13:$J$13,BR$13,$F23:$J23)>0,ASISTENCIA!BO22<>\"X\",ASISTENCIA!BO22<>\"L\",ASISTENCIA!BO22<>\"J\",ASISTENCIA!BO22<>\"F\"),SUMIF($F$13:$J$13,BR$13,$F23:$J23),\"\")","v":""},{"$f":"IF(AND(LEN($D23)>0,SUMIF($F$13:$J$13,BS$13,$F23:$J23)>0,ASISTENCIA!BP22<>\"X\",ASISTENCIA!BP22<>\"L\",ASISTENCIA!BP22<>\"J\",ASISTENCIA!BP22<>\"F\"),SUMIF($F$13:$J$13,BS$13,$F23:$J23),\"\")","v":""},{"$f":"IF(AND(LEN($D23)>0,SUMIF($F$13:$J$13,BT$13,$F23:$J23)>0,ASISTENCIA!BQ22<>\"X\",ASISTENCIA!BQ22<>\"L\",ASISTENCIA!BQ22<>\"J\",ASISTENCIA!BQ22<>\"F\"),SUMIF($F$13:$J$13,BT$13,$F23:$J23),\"\")","v":""},{"$f":"IF(AND(LEN($D23)>0,SUMIF($F$13:$J$13,BU$13,$F23:$J23)>0,ASISTENCIA!BR22<>\"X\",ASISTENCIA!BR22<>\"L\",ASISTENCIA!BR22<>\"J\",ASISTENCIA!BR22<>\"F\"),SUMIF($F$13:$J$13,BU$13,$F23:$J23),\"\")","v":""},{"$f":"IF(AND(LEN($D23)>0,SUMIF($F$13:$J$13,BV$13,$F23:$J23)>0,ASISTENCIA!BS22<>\"X\",ASISTENCIA!BS22<>\"L\",ASISTENCIA!BS22<>\"J\",ASISTENCIA!BS22<>\"F\"),SUMIF($F$13:$J$13,BV$13,$F23:$J23),\"\")","v":""},{"$f":"IF(AND(LEN($D23)>0,SUMIF($F$13:$J$13,BW$13,$F23:$J23)>0,ASISTENCIA!BT22<>\"X\",ASISTENCIA!BT22<>\"L\",ASISTENCIA!BT22<>\"J\",ASISTENCIA!BT22<>\"F\"),SUMIF($F$13:$J$13,BW$13,$F23:$J23),\"\")","v":""},{"$f":"IF(AND(LEN($D23)>0,SUMIF($F$13:$J$13,BX$13,$F23:$J23)>0,ASISTENCIA!BU22<>\"X\",ASISTENCIA!BU22<>\"L\",ASISTENCIA!BU22<>\"J\",ASISTENCIA!BU22<>\"F\"),SUMIF($F$13:$J$13,BX$13,$F23:$J23),\"\")","v":""},{"$f":"IF(AND(LEN($D23)>0,SUMIF($F$13:$J$13,BY$13,$F23:$J23)>0,ASISTENCIA!BV22<>\"X\",ASISTENCIA!BV22<>\"L\",ASISTENCIA!BV22<>\"J\",ASISTENCIA!BV22<>\"F\"),SUMIF($F$13:$J$13,BY$13,$F23:$J23),\"\")","v":""},{"$f":"IF(AND(LEN($D23)>0,SUMIF($F$13:$J$13,BZ$13,$F23:$J23)>0,ASISTENCIA!BW22<>\"X\",ASISTENCIA!BW22<>\"L\",ASISTENCIA!BW22<>\"J\",ASISTENCIA!BW22<>\"F\"),SUMIF($F$13:$J$13,BZ$13,$F23:$J23),\"\")","v":""},{"$f":"IF(AND(LEN($D23)>0,SUMIF($F$13:$J$13,CA$13,$F23:$J23)>0,ASISTENCIA!BX22<>\"X\",ASISTENCIA!BX22<>\"L\",ASISTENCIA!BX22<>\"J\",ASISTENCIA!BX22<>\"F\"),SUMIF($F$13:$J$13,CA$13,$F23:$J23),\"\")","v":""},{"$f":"IF(AND(LEN($D23)>0,SUMIF($F$13:$J$13,CB$13,$F23:$J23)>0,ASISTENCIA!BY22<>\"X\",ASISTENCIA!BY22<>\"L\",ASISTENCIA!BY22<>\"J\",ASISTENCIA!BY22<>\"F\"),SUMIF($F$13:$J$13,CB$13,$F23:$J23),\"\")","v":""},{"$error":"#REF!"}]
["",{"$f":"IF(LEN(C24)>0,VLOOKUP($O$4,DATA!$A$1:$S$1,2,FALSE),\"\")","v":""},"",{"$f":"IF(LEN(ASISTENCIA!E23)>0,ASISTENCIA!E23,\"\")","v":""},{"$f":"IF(LEN(D24)>0,ASISTENCIA!F23,\"\")","v":""},null,null,null,null,null,"",null,null,{"$error":"#REF!"},{"$f":"IF(AND(LEN($D24)>0,SUMIF($F$13:$J$13,O$13,$F24:$J24)>0,ASISTENCIA!I23<>\"X\",ASISTENCIA!I23<>\"L\",ASISTENCIA!I23<>\"J\",ASISTENCIA!I23<>\"V\",ASISTENCIA!I23<>\"F\",ASISTENCIA!I23<>\"\"),SUMIF($F$13:$J$13,O$13,$F24:$J24),\"\")","v":""},{"$f":"IF(AND(LEN($D24)>0,SUMIF($F$13:$J$13,P$13,$F24:$J24)>0,ASISTENCIA!J23<>\"X\",ASISTENCIA!J23<>\"L\",ASISTENCIA!J23<>\"J\",ASISTENCIA!J23<>\"V\",ASISTENCIA!J23<>\"F\",ASISTENCIA!J23<>\"\"),SUMIF($F$13:$J$13,P$13,$F24:$J24),\"\")","v":""},{"$f":"IF(AND(LEN($D24)>0,SUMIF($F$13:$J$13,Q$13,$F24:$J24)>0,ASISTENCIA!K23<>\"X\",ASISTENCIA!K23<>\"L\",ASISTENCIA!K23<>\"J\",ASISTENCIA!K23<>\"V\",ASISTENCIA!K23<>\"F\",ASISTENCIA!K23<>\"\"),SUMIF($F$13:$J$13,Q$13,$F24:$J24),\"\")","v":""},{"$f":"IF(AND(LEN($D24)>0,SUMIF($F$13:$J$13,R$13,$F24:$J24)>0,ASISTENCIA!L23<>\"X\",ASISTENCIA!L23<>\"L\",ASISTENCIA!L23<>\"J\",ASISTENCIA!L23<>\"V\",ASISTENCIA!L23<>\"F\",ASISTENCIA!L23<>\"\"),SUMIF($F$13:$J$13,R$13,$F24:$J24),\"\")","v":""},{"$f":"IF(AND(LEN($D24)>0,SUMIF($F$13:$J$13,S$13,$F24:$J24)>0,ASISTENCIA!M23<>\"X\",ASISTENCIA!M23<>\"L\",ASISTENCIA!M23<>\"J\",ASISTENCIA!M23<>\"V\",ASISTENCIA!M23<>\"F\",ASISTENCIA!M23<>\"\"),SUMIF($F$13:$J$13,S$13,$F24:$J24),\"\")","v":""},{"$f":"IF(AND(LEN($D24)>0,SUMIF($F$13:$J$13,T$13,$F24:$J24)>0,ASISTENCIA!N23<>\"X\",ASISTENCIA!N23<>\"L\",ASISTENCIA!N23<>\"J\",ASISTENCIA!N23<>\"V\",ASISTENCIA!N23<>\"F\",ASISTENCIA!N23<>\"\"),SUMIF($F$13:$J$13,T$13,$F24:$J24),\"\")","v":""},{"$f":"IF(AND(LEN($D24)>0,SUMIF($F$13:$J$13,U$13,$F24:$J24)>0,ASISTENCIA!O23<>\"X\",ASISTENCIA!O23<>\"L\",ASISTENCIA!O23<>\"J\",ASISTENCIA!O23<>\"V\",ASISTENCIA!O23<>\"F\",ASISTENCIA!O23<>\"\"),SUMIF($F$13:$J$13,U$13,$F24:$J24),\"\")","v":""},{"$f":"IF(AND(LEN($D24)>0,SUMIF($F$13:$J$13,V$13,$F24:$J24)>0,ASISTENCIA!P23<>\"X\",ASISTENCIA!P23<>\"L\",ASISTENCIA!P23<>\"J\",ASISTENCIA!P23<>\"V\",ASISTENCIA!P23<>\"F\",ASISTENCIA!P23<>\"\"),SUMIF($F$13:$J$13,V$13,$F24:$J24),\"\")","v":""},{"$f":"IF(AND(LEN($D24)>0,SUMIF($F$13:$J$13,W$13,$F24:$J24)>0,ASISTENCIA!Q23<>\"X\",ASISTENCIA!Q23<>\"L\",ASISTENCIA!Q23<>\"J\",ASISTENCIA!Q23<>\"V\",ASISTENCIA!Q23<>\"F\",ASISTENCIA!Q23<>\"\"),SUMIF($F$13:$J$13,W$13,$F24:$J24),\"\")","v":""},{"$f":"IF(AND(LEN($D24)>0,SUMIF($F$13:$J$13,X$13,$F24:$J24)>0,ASISTENCIA!R23<>\"X\",ASISTENCIA!R23<>\"L\",ASISTENCIA!R23<>\"J\",ASISTENCIA!R23<>\"V\",ASISTENCIA!R23<>\"F\",ASISTENCIA!R23<>\"\"),SUMIF($F$13:$J$13,X$13,$F24:$J24),\"\")","v":""},{"$f":"IF(AND(LEN($D24)>0,SUMIF($F$13:$J$13,Y$13,$F24:$J24)>0,ASISTENCIA!S23<>\"X\",ASISTENCIA!S23<>\"L\",ASISTENCIA!S23<>\"J\",ASISTENCIA!S23<>\"V\",ASISTENCIA!S23<>\"F\",ASISTENCIA!S23<>\"\"),SUMIF($F$13:$J$13,Y$13,$F24:$J24),\"\")","v":""},{"$f":"IF(AND(LEN($D24)>0,SUMIF($F$13:$J$13,Z$13,$F24:$J24)>0,ASISTENCIA!T23<>\"X\",ASISTENCIA!T23<>\"L\",ASISTENCIA!T23<>\"J\",ASISTENCIA!T23<>\"V\",ASISTENCIA!T23<>\"F\",ASISTENCIA!T23<>\"\"),SUMIF($F$13:$J$13,Z$13,$F24:$J24),\"\")","v":""},{"$f":"IF(AND(LEN($D24)>0,SUMIF($F$13:$J$13,AA$13,$F24:$J24)>0,ASISTENCIA!U23<>\"X\",ASISTENCIA!U23<>\"L\",ASISTENCIA!U23<>\"J\",ASISTENCIA!U23<>\"V\",ASISTENCIA!U23<>\"F\",ASISTENCIA!U23<>\"\"),SUMIF($F$13:$J$13,AA$13,$F24:$J24),\"\")","v":""},{"$f":"IF(AND(LEN($D24)>0,SUMIF($F$13:$J$13,AB$13,$F24:$J24)>0,ASISTENCIA!V23<>\"X\",ASISTENCIA!V23<>\"L\",ASISTENCIA!V23<>\"J\",ASISTENCIA!V23<>\"V\",ASISTENCIA!V23<>\"F\",ASISTENCIA!V23<>\"\"),SUMIF($F$13:$J$13,AB$13,$F24:$J24),\"\")","v":""},{"$f":"IF(AND(LEN($D24)>0,SUMIF($F$13:$J$13,AC$13,$F24:$J24)>0,ASISTENCIA!W23<>\"X\",ASISTENCIA!W23<>\"L\",ASISTENCIA!W23<>\"J\",ASISTENCIA!W23<>\"V\",ASISTENCIA!W23<>\"F\",ASISTENCIA!W23<>\"\"),SUMIF($F$13:$J$13,AC$13,$F24:$J24),\"\")","v":""},{"$f":"IF(AND(LEN($D24)>0,SUMIF($F$13:$J$13,AD$13,$F24:$J24)>0,ASISTENCIA!X23<>\"X\",ASISTENCIA!X23<>\"L\",ASISTENCIA!X23<>\"J\",ASISTENCIA!X23<>\"V\",ASISTENCIA!X23<>\"F\",ASISTENCIA!X23<>\"\"),SUMIF($F$13:$J$13,AD$13,$F24:$J24),\"\")","v":""},{"$f":"IF(AND(LEN($D24)>0,SUMIF($F$13:$J$13,AE$13,$F24:$J24)>0,ASISTENCIA!Y23<>\"X\",ASISTENCIA!Y23<>\"L\",ASISTENCIA!Y23<>\"J\",ASISTENCIA!Y23<>\"V\",ASISTENCIA!Y23<>\"F\",ASISTENCIA!Y23<>\"\"),SUMIF($F$13:$J$13,AE$13,$F24:$J24),\"\")","v":""},{"$f":"IF(AND(LEN($D24)>0,SUMIF($F$13:$J$13,AF$13,$F24:$J24)>0,ASISTENCIA!Z23<>\"X\",ASISTENCIA!Z23<>\"L\",ASISTENCIA!Z23<>\"J\",ASISTENCIA!Z23<>\"V\",ASISTENCIA!Z23<>\"F\",ASISTENCIA!Z23<>\"\"),SUMIF($F$13:$J$13,AF$13,$F24:$J24),\"\")","v":""},{"$f":"IF(AND(LEN($D24)>0,SUMIF($F$13:$J$13,AG$13,$F24:$J24)>0,ASISTENCIA!AA23<>\"X\",ASISTENCIA!AA23<>\"L\",ASISTENCIA!AA23<>\"J\",ASISTENCIA!AA23<>\"V\",ASISTENCIA!AA23<>\"F\",ASISTENCIA!AA23<>\"\"),SUMIF($F$13:$J$13,AG$13,$F24:$J24),\"\")","v":""},{"$f":"IF(AND(LEN($D24)>0,SUMIF($F$13:$J$13,AH$13,$F24:$J24)>0,ASISTENCIA!AB23<>\"X\",ASISTENCIA!AB23<>\"L\",ASISTENCIA!AB23<>\"J\",ASISTENCIA!AB23<>\"V\",ASISTENCIA!AB23<>\"F\",ASISTENCIA!AB23<>\"\"),SUMIF($F$13:$J$13,AH$13,$F24:$J24),\"\")","v":""},{"$f":"IF(AND(LEN($D24)>0,SUMIF($F$13:$J$13,AI$13,$F24:$J24)>0,ASISTENCIA!AC23<>\"X\",ASISTENCIA!AC23<>\"L\",ASISTENCIA!AC23<>\"J\",ASISTENCIA!AC23<>\"V\",ASISTENCIA!AC23<>\"F\",ASISTENCIA!AC23<>\"\"),SUMIF($F$13:$J$13,AI$13,$F24:$J24),\"\")","v":""},{"$f":"IF(AND(LEN($D24)>0,SUMIF($F$13:$J$13,AJ$13,$F24:$J24)>0,ASISTENCIA!AD23<>\"X\",ASISTENCIA!AD23<>\"L\",ASISTENCIA!AD23<>\"J\",ASISTENCIA!AD23<>\"V\",ASISTENCIA!AD23<>\"F\",ASISTENCIA!AD23<>\"\"),SUMIF($F$13:$J$13,AJ$13,$F24:$J24),\"\")","v":""},{"$f":"IF(AND(LEN($D24)>0,SUMIF($F$13:$J$13,AK$13,$F24:$J24)>0,ASISTENCIA!AE23<>\"X\",ASISTENCIA!AE23<>\"L\",ASISTENCIA!AE23<>\"J\",ASISTENCIA!AE23<>\"V\",ASISTENCIA!AE23<>\"F\",ASISTENCIA!AE23<>\"\"),SUMIF($F$13:$J$13,AK$13,$F24:$J24),\"\")","v":""},{"$f":"IF(AND(LEN($D24)>0,SUMIF($F$13:$J$13,AL$13,$F24:$J24)>0,ASISTENCIA!AF23<>\"X\",ASISTENCIA!AF23<>\"L\",ASISTENCIA!AF23<>\"J\",ASISTENCIA!AF23<>\"V\",ASISTENCIA!AF23<>\"F\",ASISTENCIA!AF23<>\"\"),SUMIF($F$13:$J$13,AL$13,$F24:$J24),\"\")","v":""},{"$f":"IF(AND(LEN($D24)>0,SUMIF($F$13:$J$13,AM$13,$F24:$J24)>0,ASISTENCIA!AG23<>\"X\",ASISTENCIA!AG23<>\"L\",ASISTENCIA!AG23<>\"J\",ASISTENCIA!AG23<>\"V\",ASISTENCIA!AG23<>\"F\",ASISTENCIA!AG23<>\"\"),SUMIF($F$13:$J$13,AM$13,$F24:$J24),\"\")","v":""},{"$f":"IF(AND(LEN($D24)>0,SUMIF($F$13:$J$13,AN$13,$F24:$J24)>0,ASISTENCIA!AH23<>\"X\",ASISTENCIA!AH23<>\"L\",ASISTENCIA!AH23<>\"J\",ASISTENCIA!AH23<>\"V\",ASISTENCIA!AH23<>\"F\",ASISTENCIA!AH23<>\"\"),SUMIF($F$13:$J$13,AN$13,$F24:$J24),\"\")","v":""},{"$f":"IF(AND(LEN($D24)>0,SUMIF($F$13:$J$13,AO$13,$F24:$J24)>0,ASISTENCIA!AI23<>\"X\",ASISTENCIA!AI23<>\"L\",ASISTENCIA!AI23<>\"J\",ASISTENCIA!AI23<>\"V\",ASISTENCIA!AI23<>\"F\",ASISTENCIA!AI23<>\"\"),SUMIF($F$13:$J$13,AO$13,$F24:$J24),\"\")","v":""},{"$f":"IF(AND(LEN($D24)>0,SUMIF($F$13:$J$13,AP$13,$F24:$J24)>0,ASISTENCIA!AJ23<>\"X\",ASISTENCIA!AJ23<>\"L\",ASISTENCIA!AJ23<>\"J\",ASISTENCIA!AJ23<>\"V\",ASISTENCIA!AJ23<>\"F\",ASISTENCIA!AJ23<>\"\"),SUMIF($F$13:$J$13,AP$13,$F24:$J24),\"\")","v":""},{"$f":"IF(AND(LEN($D24)>0,SUMIF($F$13:$J$13,AQ$13,$F24:$J24)>0,ASISTENCIA!AK23<>\"X\",ASISTENCIA!AK23<>\"L\",ASISTENCIA!AK23<>\"J\",ASISTENCIA!AK23<>\"V\",ASISTENCIA!AK23<>\"F\",ASISTENCIA!AK23<>\"\"),SUMIF($F$13:$J$13,AQ$13,$F24:$J24),\"\")","v":""},{"$f":"IF(AND(LEN($D24)>0,SUMIF($F$13:$J$13,AR$13,$F24:$J24)>0,ASISTENCIA!AL23<>\"X\",ASISTENCIA!AL23<>\"L\",ASISTENCIA!AL23<>\"J\",ASISTENCIA!AL23<>\"V\",ASISTENCIA!AL23<>\"F\",ASISTENCIA!AL23<>\"\"),SUMIF($F$13:$J$13,AR$13,$F24:$J24),\"\")","v":""},{"$f":"IF(AND(LEN($D24)>0,SUMIF($F$13:$J$13,AS$13,$F24:$J24)>0,ASISTENCIA!AM23<>\"X\",ASISTENCIA!AM23<>\"L\",ASISTENCIA!AM23<>\"J\",ASISTENCIA!AM23<>\"V\",ASISTENCIA!AM23<>\"F\",ASISTENCIA!AM23<>\"\"),SUMIF($F$13:$J$13,AS$13,$F24:$J24),\"\")","v":""},"",null,null,null,{"$f":"IF(AND(LEN($D24)>0,SUMIF($F$13:$J$13,AX$13,$F24:$J24)>0,ASISTENCIA!AU23<>\"X\",ASISTENCIA!AU23<>\"L\",ASISTENCIA!AU23<>\"J\",ASISTENCIA!AU23<>\"F\"),SUMIF($F$13:$J$13,AX$13,$F24:$J24),\"\")","v":""},{"$f":"IF(AND(LEN($D24)>0,SUMIF($F$13:$J$13,AY$13,$F24:$J24)>0,ASISTENCIA!AV23<>\"X\",ASISTENCIA!AV23<>\"L\",ASISTENCIA!AV23<>\"J\",ASISTENCIA!AV23<>\"F\"),SUMIF($F$13:$J$13,AY$13,$F24:$J24),\"\")","v":""},{"$f":"IF(AND(LEN($D24)>0,SUMIF($F$13:$J$13,AZ$13,$F24:$J24)>0,ASISTENCIA!AW23<>\"X\",ASISTENCIA!AW23<>\"L\",ASISTENCIA!AW23<>\"J\",ASISTENCIA!AW23<>\"F\"),SUMIF($F$13:$J$13,AZ$13,$F24:$J24),\"\")","v":""},{"$f":"IF(AND(LEN($D24)>0,SUMIF($F$13:$J$13,BA$13,$F24:$J24)>0,ASISTENCIA!AX23<>\"X\",ASISTENCIA!AX23<>\"L\",ASISTENCIA!AX23<>\"J\",ASISTENCIA!AX23<>\"F\"),SUMIF($F$13:$J$13,BA$13,$F24:$J24),\"\")","v":""},{"$f":"IF(AND(LEN($D24)>0,SUMIF($F$13:$J$13,BB$13,$F24:$J24)>0,ASISTENCIA!AY23<>\"X\",ASISTENCIA!AY23<>\"L\",ASISTENCIA!AY23<>\"J\",ASISTENCIA!AY23<>\"F\"),SUMIF($F$13:$J$13,BB$13,$F24:$J24),\"\")","v":""},{"$f":"IF(AND(LEN($D24)>0,SUMIF($F$13:$J$13,BC$13,$F24:$J24)>0,ASISTENCIA!AZ23<>\"X\",ASISTENCIA!AZ23<>\"L\",ASISTENCIA!AZ23<>\"J\",ASISTENCIA!AZ23<>\"F\"),SUMIF($F$13:$J$13,BC$13,$F24:$J24),\"\")","v":""},{"$f":"IF(AND(LEN($D24)>0,SUMIF($F$13:$J$13,BD$13,$F24:$J24)>0,ASISTENCIA!BA23<>\"X\",ASISTENCIA!BA23<>\"L\",ASISTENCIA!BA23<>\"J\",ASISTENCIA!BA23<>\"F\"),SUMIF($F$13:$J$13,BD$13,$F24:$J24),\"\")","v":""},{"$f":"IF(AND(LEN($D24)>0,SUMIF($F$13:$J$13,BE$13,$F24:$J24)>0,ASISTENCIA!BB23<>\"X\",ASISTENCIA!BB23<>\"L\",ASISTENCIA!BB23<>\"J\",ASISTENCIA!BB23<>\"F\"),SUMIF($F$13:$J$13,BE$13,$F24:$J24),\"\")","v":""},{"$f":"IF(AND(LEN($D24)>0,SUMIF($F$13:$J$13,BF$13,$F24:$J24)>0,ASISTENCIA!#REF!<>\"X\",ASISTENCIA!#REF!<>\"L\",ASISTENCIA!#REF!<>\"J\",ASISTENCIA!#REF!<>\"F\"),SUMIF($F$13:$J$13,BF$13,$F24:$J24),\"\")","v":{"$error":"#REF!"}},{"$f":"IF(AND(LEN($D24)>0,SUMIF($F$13:$J$13,BG$13,$F24:$J24)>0,ASISTENCIA!#REF!<>\"X\",ASISTENCIA!#REF!<>\"L\",ASISTENCIA!#REF!<>\"J\",ASISTENCIA!#REF!<>\"F\"),SUMIF($F$13:$J$13,BG$13,$F24:$J24),\"\")","v":{"$error":"#REF!"}},{"$f":"IF(AND(LEN($D24)>0,SUMIF($F$13:$J$13,BH$13,$F24:$J24)>0,ASISTENCIA!BE23<>\"X\",ASISTENCIA!BE23<>\"L\",ASISTENCIA!BE23<>\"J\",ASISTENCIA!BE23<>\"F\"),SUMIF($F$13:$J$13,BH$13,$F24:$J24),\"\")","v":""},{"$f":"IF(AND(LEN($D24)>0,SUMIF($F$13:$J$13,BI$13,$F24:$J24)>0,ASISTENCIA!BF23<>\"X\",ASISTENCIA!BF23<>\"L\",ASISTENCIA!BF23<>\"J\",ASISTENCIA!BF23<>\"F\"),SUMIF($F$13:$J$13,BI$13,$F24:$J24),\"\")","v":""},{"$f":"IF(AND(LEN($D24)>0,SUMIF($F$13:$J$13,BJ$13,$F24:$J24)>0,ASISTENCIA!BG23<>\"X\",ASISTENCIA!BG23<>\"L\",ASISTENCIA!BG23<>\"J\",ASISTENCIA!BG23<>\"F\"),SUMIF($F$13:$J$13,BJ$13,$F24:$J24),\"\")","v":""},{"$f":"IF(AND(LEN($D24)>0,SUMIF($F$13:$J$13,BK$13,$F24:$J24)>0,ASISTENCIA!BH23<>\"X\",ASISTENCIA!BH23<>\"L\",ASISTENCIA!BH23<>\"J\",ASISTENCIA!BH23<>\"F\"),SUMIF($F$13:$J$13,BK$13,$F24:$J24),\"\")","v":""},{"$f":"IF(AND(LEN($D24)>0,SUMIF($F$13:$J$13,BL$13,$F24:$J24)>0,ASISTENCIA!BI23<>\"X\",ASISTENCIA!BI23<>\"L\",ASISTENCIA!BI23<>\"J\",ASISTENCIA!BI23<>\"F\"),SUMIF($F$13:$J$13,BL$13,$F24:$J24),\"\")","v":""},{"$f":"IF(AND(LEN($D24)>0,SUMIF($F$13:$J$13,BM$13,$F24:$J24)>0,ASISTENCIA!BJ23<>\"X\",ASISTENCIA!BJ23<>\"L\",ASISTENCIA!BJ23<>\"J\",ASISTENCIA!BJ23<>\"F\"),SUMIF($F$13:$J$13,BM$13,$F24:$J24),\"\")","v":""},{"$f":"IF(AND(LEN($D24)>0,SUMIF($F$13:$J$13,BN$13,$F24:$J24)>0,ASISTENCIA!BK23<>\"X\",ASISTENCIA!BK23<>\"L\",ASISTENCIA!BK23<>\"J\",ASISTENCIA!BK23<>\"F\"),SUMIF($F$13:$J$13,BN$13,$F24:$J24),\"\")","v":""},{"$f":"IF(AND(LEN($D24)>0,SUMIF($F$13:$J$13,BO$13,$F24:$J24)>0,ASISTENCIA!BL23<>\"X\",ASISTENCIA!BL23<>\"L\",ASISTENCIA!BL23<>\"J\",ASISTENCIA!BL23<>\"F\"),SUMIF($F$13:$J$13,BO$13,$F24:$J24),\"\")","v":""},{"$f":"IF(AND(LEN($D24)>0,SUMIF($F$13:$J$13,BP$13,$F24:$J24)>0,ASISTENCIA!BM23<>\"X\",ASISTENCIA!BM23<>\"L\",ASISTENCIA!BM23<>\"J\",ASISTENCIA!BM23<>\"F\"),SUMIF($F$13:$J$13,BP$13,$F24:$J24),\"\")","v":""},{"$f":"IF(AND(LEN($D24)>0,SUMIF($F$13:$J$13,BQ$13,$F24:$J24)>0,ASISTENCIA!BN23<>\"X\",ASISTENCIA!BN23<>\"L\",ASISTENCIA!BN23<>\"J\",ASISTENCIA!BN23<>\"F\"),SUMIF($F$13:$J$13,BQ$13,$F24:$J24),\"\")","v":""},{"$f":"IF(AND(LEN($D24)>0,SUMIF($F$13:$J$13,BR$13,$F24:$J24)>0,ASISTENCIA!BO23<>\"X\",ASISTENCIA!BO23<>\"L\",ASISTENCIA!BO23<>\"J\",ASISTENCIA!BO23<>\"F\"),SUMIF($F$13:$J$13,BR$13,$F24:$J24),\"\")","v":""},{"$f":"IF(AND(LEN($D24)>0,SUMIF($F$13:$J$13,BS$13,$F24:$J24)>0,ASISTENCIA!BP23<>\"X\",ASISTENCIA!BP23<>\"L\",ASISTENCIA!BP23<>\"J\",ASISTENCIA!BP23<>\"F\"),SUMIF($F$13:$J$13,BS$13,$F24:$J24),\"\")","v":""},{"$f":"IF(AND(LEN($D24)>0,SUMIF($F$13:$J$13,BT$13,$F24:$J24)>0,ASISTENCIA!BQ23<>\"X\",ASISTENCIA!BQ23<>\"L\",ASISTENCIA!BQ23<>\"J\",ASISTENCIA!BQ23<>\"F\"),SUMIF($F$13:$J$13,BT$13,$F24:$J24),\"\")","v":""},{"$f":"IF(AND(LEN($D24)>0,SUMIF($F$13:$J$13,BU$13,$F24:$J24)>0,ASISTENCIA!BR23<>\"X\",ASISTENCIA!BR23<>\"L\",ASISTENCIA!BR23<>\"J\",ASISTENCIA!BR23<>\"F\"),SUMIF($F$13:$J$13,BU$13,$F24:$J24),\"\")","v":""},{"$f":"IF(AND(LEN($D24)>0,SUMIF($F$13:$J$13,BV$13,$F24:$J24)>0,ASISTENCIA!BS23<>\"X\",ASISTENCIA!BS23<>\"L\",ASISTENCIA!BS23<>\"J\",ASISTENCIA!BS23<>\"F\"),SUMIF($F$13:$J$13,BV$13,$F24:$J24),\"\")","v":""},{"$f":"IF(AND(LEN($D24)>0,SUMIF($F$13:$J$13,BW$13,$F24:$J24)>0,ASISTENCIA!BT23<>\"X\",ASISTENCIA!BT23<>\"L\",ASISTENCIA!BT23<>\"J\",ASISTENCIA!BT23<>\"F\"),SUMIF($F$13:$J$13,BW$13,$F24:$J24),\"\")","v":""},{"$f":"IF(AND(LEN($D24)>0,SUMIF($F$13:$J$13,BX$13,$F24:$J24)>0,ASISTENCIA!BU23<>\"X\",ASISTENCIA!BU23<>\"L\",ASISTENCIA!BU23<>\"J\",ASISTENCIA!BU23<>\"F\"),SUMIF($F$13:$J$13,BX$13,$F24:$J24),\"\")","v":""},{"$f":"IF(AND(LEN($D24)>0,SUMIF($F$13:$J$13,BY$13,$F24:$J24)>0,ASISTENCIA!BV23<>\"X\",ASISTENCIA!BV23<>\"L\",ASISTENCIA!BV23<>\"J\",ASISTENCIA!BV23<>\"F\"),SUMIF($F$13:$J$13,BY$13,$F24:$J24),\"\")","v":""},{"$f":"IF(AND(LEN($D24)>0,SUMIF($F$13:$J$13,BZ$13,$F24:$J24)>0,ASISTENCIA!BW23<>\"X\",ASISTENCIA!BW23<>\"L\",ASISTENCIA!BW23<>\"J\",ASISTENCIA!BW23<>\"F\"),SUMIF($F$13:$J$13,BZ$13,$F24:$J24),\"\")","v":""},{"$f":"IF(AND(LEN($D24)>0,SUMIF($F$13:$J$13,CA$13,$F24:$J24)>0,ASISTENCIA!BX23<>\"X\",ASISTENCIA!BX23<>\"L\",ASISTENCIA!BX23<>\"J\",ASISTENCIA!BX23<>\"F\"),SUMIF($F$13:$J$13,CA$13,$F24:$J24),\"\")","v":""},{"$f":"IF(AND(LEN($D24)>0,SUMIF($F$13:$J$13,CB$13,$F24:$J24)>0,ASISTENCIA!BY23<>\"X\",ASISTENCIA!BY23<>\"L\",ASISTENCIA!BY23<>\"J\",ASISTENCIA!BY23<>\"F\"),SUMIF($F$13:$J$13,CB$13,$F24:$J24),\"\")","v":""},{"$error":"#REF!"}]
["",{"$f":"IF(LEN(C25)>0,VLOOKUP($O$4,DATA!$A$1:$S$1,2,FALSE),\"\")","v":""},"",{"$f":"IF(LEN(ASISTENCIA!E24)>0,ASISTENCIA!E24,\"\")","v":""},{"$f":"IF(LEN(D25)>0,ASISTENCIA!F24,\"\")","v":""},null,null,null,null,null,"",null,null,{"$error":"#REF!"},{"$f":"IF(AND(LEN($D25)>0,SUMIF($F$13:$J$13,O$13,$F25:$J25)>0,ASISTENCIA!I24<>\"X\",ASISTENCIA!I24<>\"L\",ASISTENCIA!I24<>\"J\",ASISTENCIA!I24<>\"V\",ASISTENCIA!I24<>\"F\",ASISTENCIA!I24<>\"\"),SUMIF($F$13:$J$13,O$13,$F25:$J25),\"\")","v":""},{"$f":"IF(AND(LEN($D25)>0,SUMIF($F$13:$J$13,P$13,$F25:$J25)>0,ASISTENCIA!J24<>\"X\",ASISTENCIA!J24<>\"L\",ASISTENCIA!J24<>\"J\",ASISTENCIA!J24<>\"V\",ASISTENCIA!J24<>\"F\",ASISTENCIA!J24<>\"\"),SUMIF($F$13:$J$13,P$13,$F25:$J25),\"\")","v":""},{"$f":"IF(AND(LEN($D25)>0,SUMIF($F$13:$J$13,Q$13,$F25:$J25)>0,ASISTENCIA!K24<>\"X\",ASISTENCIA!K24<>\"L\",ASISTENCIA!K24<>\"J\",ASISTENCIA!K24<>\"V\",ASISTENCIA!K24<>\"F\",ASISTENCIA!K24<>\"\"),SUMIF($F$13:$J$13,Q$13,$F25:$J25),\"\")","v":""},{"$f":"IF(AND(LEN($D25)>0,SUMIF($F$13:$J$13,R$13,$F25:$J25)>0,ASISTENCIA!L24<>\"X\",ASISTENCIA!L24<>\"L\",ASISTENCIA!L24<>\"J\",ASISTENCIA!L24<>\"V\",ASISTENCIA!L24<>\"F\",ASISTENCIA!L24<>\"\"),SUMIF($F$13:$J$13,R$13,$F25:$J25),\"\")","v":""},{"$f":"IF(AND(LEN($D25)>0,SUMIF($F$13:$J$13,S$13,$F25:$J25)>0,ASISTENCIA!M24<>\"X\",ASISTENCIA!M24<>\"L\",ASISTENCIA!M24<>\"J\",ASISTENCIA!M24<>\"V\",ASISTENCIA!M24<>\"F\",ASISTENCIA!M24<>\"\"),SUMIF($F$13:$J$13,S$13,$F25:$J25),\"\")","v":""},{"$f":"IF(AND(LEN($D25)>0,SUMIF($F$13:$J$13,T$13,$F25:$J25)>0,ASISTENCIA!N24<>\"X\",ASISTENCIA!N24<>\"L\",ASISTENCIA!N24<>\"J\",ASISTENCIA!N24<>\"V\",ASISTENCIA!N24<>\"F\",ASISTENCIA!N24<>\"\"),SUMIF($F$13:$J$13,T$13,$F25:$J25),\"\")","v":""},{"$f":"IF(AND(LEN($D25)>0,SUMIF($F$13:$J$13,U$13,$F25:$J25)>0,ASISTENCIA!O24<>\"X\",ASISTENCIA!O24<>\"L\",ASISTENCIA!O24<>\"J\",ASISTENCIA!O24<>\"V\",ASISTENCIA!O24<>\"F\",ASISTENCIA!O24<>\"\"),SUMIF($F$13:$J$13,U$13,$F25:$J25),\"\")","v":""},{"$f":"IF(AND(LEN($D25)>0,SUMIF($F$13:$J$13,V$13,$F25:$J25)>0,ASISTENCIA!P24<>\"X\",ASISTENCIA!P24<>\"L\",ASISTENCIA!P24<>\"J\",ASISTENCIA!P24<>\"V\",ASISTENCIA!P24<>\"F\",ASISTENCIA!P24<>\"\"),SUMIF($F$13:$J$13,V$13,$F25:$J25),\"\")","v":""},{"$f":"IF(AND(LEN($D25)>0,SUMIF($F$13:$J$13,W$13,$F25:$J25)>0,ASISTENCIA!Q24<>\"X\",ASISTENCIA!Q24<>\"L\",ASISTENCIA!Q24<>\"J\",ASISTENCIA!Q24<>\"V\",ASISTENCIA!Q24<>\"F\",ASISTENCIA!Q24<>\"\"),SUMIF($F$13:$J$13,W$13,$F25:$J25),\"\")","v":""},{"$f":"IF(AND(LEN($D25)>0,SUMIF($F$13:$J$13,X$13,$F25:$J25)>0,ASISTENCIA!R24<>\"X\",ASISTENCIA!R24<>\"L\",ASISTENCIA!R24<>\"J\",ASISTENCIA!R24<>\"V\",ASISTENCIA!R24<>\"F\",ASISTENCIA!R24<>\"\"),SUMIF($F$13:$J$13,X$13,$F25:$J25),\"\")","v":""},{"$f":"IF(AND(LEN($D25)>0,SUMIF($F$13:$J$13,Y$13,$F25:$J25)>0,ASISTENCIA!S24<>\"X\",ASISTENCIA!S24<>\"L\",ASISTENCIA!S24<>\"J\",ASISTENCIA!S24<>\"V\",ASISTENCIA!S24<>\"F\",ASISTENCIA!S24<>\"\"),SUMIF($F$13:$J$13,Y$13,$F25:$J25),\"\")","v":""},{"$f":"IF(AND(LEN($D25)>0,SUMIF($F$13:$J$13,Z$13,$F25:$J25)>0,ASISTENCIA!T24<>\"X\",ASISTENCIA!T24<>\"L\",ASISTENCIA!T24<>\"J\",ASISTENCIA!T24<>\"V\",ASISTENCIA!T24<>\"F\",ASISTENCIA!T24<>\"\"),SUMIF($F$13:$J$13,Z$13,$F25:$J25),\"\")","v":""},{"$f":"IF(AND(LEN($D25)>0,SUMIF($F$13:$J$13,AA$13,$F25:$J25)>0,ASISTENCIA!U24<>\"X\",ASISTENCIA!U24<>\"L\",ASISTENCIA!U24<>\"J\",ASISTENCIA!U24<>\"V\",ASISTENCIA!U24<>\"F\",ASISTENCIA!U24<>\"\"),SUMIF($F$13:$J$13,AA$13,$F25:$J25),\"\")","v":""},{"$f":"IF(AND(LEN($D25)>0,SUMIF($F$13:$J$13,AB$13,$F25:$J25)>0,ASISTENCIA!V24<>\"X\",ASISTENCIA!V24<>\"L\",ASISTENCIA!V24<>\"J\",ASISTENCIA!V24<>\"V\",ASISTENCIA!V24<>\"F\",ASISTENCIA!V24<>\"\"),SUMIF($F$13:$J$13,AB$13,$F25:$J25),\"\")","v":""},{"$f":"IF(AND(LEN($D25)>0,SUMIF($F$13:$J$13,AC$13,$F25:$J25)>0,ASISTENCIA!W24<>\"X\",ASISTENCIA!W24<>\"L\",ASISTENCIA!W24<>\"J\",ASISTENCIA!W24<>\"V\",ASISTENCIA!W24<>\"F\",ASISTENCIA!W24<>\"\"),SUMIF($F$13:$J$13,AC$13,$F25:$J25),\"\")","v":""},{"$f":"IF(AND(LEN($D25)>0,SUMIF($F$13:$J$13,AD$13,$F25:$J25)>0,ASISTENCIA!X24<>\"X\",ASISTENCIA!X24<>\"L\",ASISTENCIA!X24<>\"J\",ASISTENCIA!X24<>\"V\",ASISTENCIA!X24<>\"F\",ASISTENCIA!X24<>\"\"),SUMIF($F$13:$J$13,AD$13,$F25:$J25),\"\")","v":""},{"$f":"IF(AND(LEN($D25)>0,SUMIF($F$13:$J$13,AE$13,$F25:$J25)>0,ASISTENCIA!Y24<>\"X\",ASISTENCIA!Y24<>\"L\",ASISTENCIA!Y24<>\"J\",ASISTENCIA!Y24<>\"V\",ASISTENCIA!Y24<>\"F\",ASISTENCIA!Y24<>\"\"),SUMIF($F$13:$J$13,AE$13,$F25:$J25),\"\")","v":""},{"$f":"IF(AND(LEN($D25)>0,SUMIF($F$13:$J$13,AF$13,$F25:$J25)>0,ASISTENCIA!Z24<>\"X\",ASISTENCIA!Z24<>\"L\",ASISTENCIA!Z24<>\"J\",ASISTENCIA!Z24<>\"V\",ASISTENCIA!Z24<>\"F\",ASISTENCIA!Z24<>\"\"),SUMIF($F$13:$J$13,AF$13,$F25:$J25),\"\")","v":""},{"$f":"IF(AND(LEN($D25)>0,SUMIF($F$13:$J$13,AG$13,$F25:$J25)>0,ASISTENCIA!AA24<>\"X\",ASISTENCIA!AA24<>\"L\",ASISTENCIA!AA24<>\"J\",ASISTENCIA!AA24<>\"V\",ASISTENCIA!AA24<>\"F\",ASISTENCIA!AA24<>\"\"),SUMIF($F$13:$J$13,AG$13,$F25:$J25),\"\")","v":""},{"$f":"IF(AND(LEN($D25)>0,SUMIF($F$13:$J$13,AH$13,$F25:$J25)>0,ASISTENCIA!AB24<>\"X\",ASISTENCIA!AB24<>\"L\",ASISTENCIA!AB24<>\"J\",ASISTENCIA!AB24<>\"V\",ASISTENCIA!AB24<>\"F\",ASISTENCIA!AB24<>\"\"),SUMIF($F$13:$J$13,AH$13,$F25:$J25),\"\")","v":""},{"$f":"IF(AND(LEN($D25)>0,SUMIF($F$13:$J$13,AI$13,$F25:$J25)>0,ASISTENCIA!AC24<>\"X\",ASISTENCIA!AC24<>\"L\",ASISTENCIA!AC24<>\"J\",ASISTENCIA!AC24<>\"V\",ASISTENCIA!AC24<>\"F\",ASISTENCIA!AC24<>\"\"),SUMIF($F$13:$J$13,AI$13,$F25:$J25),\"\")","v":""},{"$f":"IF(AND(LEN($D25)>0,SUMIF($F$13:$J$13,AJ$13,$F25:$J25)>0,ASISTENCIA!AD24<>\"X\",ASISTENCIA!AD24<>\"L\",ASISTENCIA!AD24<>\"J\",ASISTENCIA!AD24<>\"V\",ASISTENCIA!AD24<>\"F\",ASISTENCIA!AD24<>\"\"),SUMIF($F$13:$J$13,AJ$13,$F25:$J25),\"\")","v":""},{"$f":"IF(AND(LEN($D25)>0,SUMIF($F$13:$J$13,AK$13,$F25:$J25)>0,ASISTENCIA!AE24<>\"X\",ASISTENCIA!AE24<>\"L\",ASISTENCIA!AE24<>\"J\",ASISTENCIA!AE24<>\"V\",ASISTENCIA!AE24<>\"F\",ASISTENCIA!AE24<>\"\"),SUMIF($F$13:$J$13,AK$13,$F25:$J25),\"\")","v":""},{"$f":"IF(AND(LEN($D25)>0,SUMIF($F$13:$J$13,AL$13,$F25:$J25)>0,ASISTENCIA!AF24<>\"X\",ASISTENCIA!AF24<>\"L\",ASISTENCIA!AF24<>\"J\",ASISTENCIA!AF24<>\"V\",ASISTENCIA!AF24<>\"F\",ASISTENCIA!AF24<>\"\"),SUMIF($F$13:$J$13,AL$13,$F25:$J25),\"\")","v":""},{"$f":"IF(AND(LEN($D25)>0,SUMIF($F$13:$J$13,AM$13,$F25:$J25)>0,ASISTENCIA!AG24<>\"X\",ASISTENCIA!AG24<>\"L\",ASISTENCIA!AG24<>\"J\",ASISTENCIA!AG24<>\"V\",ASISTENCIA!AG24<>\"F\",ASISTENCIA!AG24<>\"\"),SUMIF($F$13:$J$13,AM$13,$F25:$J25),\"\")","v":""},{"$f":"IF(AND(LEN($D25)>0,SUMIF($F$13:$J$13,AN$13,$F25:$J25)>0,ASISTENCIA!AH24<>\"X\",ASISTENCIA!AH24<>\"L\",ASISTENCIA!AH24<>\"J\",ASISTENCIA!AH24<>\"V\",ASISTENCIA!AH24<>\"F\",ASISTENCIA!AH24<>\"\"),SUMIF($F$13:$J$13,AN$13,$F25:$J25),\"\")","v":""},{"$f":"IF(AND(LEN($D25)>0,SUMIF($F$13:$J$13,AO$13,$F25:$J25)>0,ASISTENCIA!AI24<>\"X\",ASISTENCIA!AI24<>\"L\",ASISTENCIA!AI24<>\"J\",ASISTENCIA!AI24<>\"V\",ASISTENCIA!AI24<>\"F\",ASISTENCIA!AI24<>\"\"),SUMIF($F$13:$J$13,AO$13,$F25:$J25),\"\")","v":""},{"$f":"IF(AND(LEN($D25)>0,SUMIF($F$13:$J$13,AP$13,$F25:$J25)>0,ASISTENCIA!AJ24<>\"X\",ASISTENCIA!AJ24<>\"L\",ASISTENCIA!AJ24<>\"J\",ASISTENCIA!AJ24<>\"V\",ASISTENCIA!AJ24<>\"F\",ASISTENCIA!AJ24<>\"\"),SUMIF($F$13:$J$13,AP$13,$F25:$J25),\"\")","v":""},{"$f":"IF(AND(LEN($D25)>0,SUMIF($F$13:$J$13,AQ$13,$F25:$J25)>0,ASISTENCIA!AK24<>\"X\",ASISTENCIA!AK24<>\"L\",ASISTENCIA!AK24<>\"J\",ASISTENCIA!AK24<>\"V\",ASISTENCIA!AK24<>\"F\",ASISTENCIA!AK24<>\"\"),SUMIF($F$13:$J$13,AQ$13,$F25:$J25),\"\")","v":""},{"$f":"IF(AND(LEN($D25)>0,SUMIF($F$13:$J$13,AR$13,$F25:$J25)>0,ASISTENCIA!AL24<>\"X\",ASISTENCIA!AL24<>\"L\",ASISTENCIA!AL24<>\"J\",ASISTENCIA!AL24<>\"V\",ASISTENCIA!AL24<>\"F\",ASISTENCIA!AL24<>\"\"),SUMIF($F$13:$J$13,AR$13,$F25:$J25),\"\")","v":""},{"$f":"IF(AND(LEN($D25)>0,SUMIF($F$13:$J$13,AS$13,$F25:$J25)>0,ASISTENCIA!AM24<>\"X\",ASISTENCIA!AM24<>\"L\",ASISTENCIA!AM24<>\"J\",ASISTENCIA!AM24<>\"V\",ASISTENCIA!AM24<>\"F\",ASISTENCIA!AM24<>\"\"),SUMIF($F$13:$J$13,AS$13,$F25:$J25),\"\")","v":""},"",null,null,null,{"$f":"IF(AND(LEN($D25)>0,SUMIF($F$13:$J$13,AX$13,$F25:$J25)>0,ASISTENCIA!AU24<>\"X\",ASISTENCIA!AU24<>\"L\",ASISTENCIA!AU24<>\"J\",ASISTENCIA!AU24<>\"F\"),SUMIF($F$13:$J$13,AX$13,$F25:$J25),\"\")","v":""},{"$f":"IF(AND(LEN($D25)>0,SUMIF($F$13:$J$13,AY$13,$F25:$J25)>0,ASISTENCIA!AV24<>\"X\",ASISTENCIA!AV24<>\"L\",ASISTENCIA!AV24<>\"J\",ASISTENCIA!AV24<>\"F\"),SUMIF($F$13:$J$13,AY$13,$F25:$J25),\"\")","v":""},{"$f":"IF(AND(LEN($D25)>0,SUMIF($F$13:$J$13,AZ$13,$F25:$J25)>0,ASISTENCIA!AW24<>\"X\",ASISTENCIA!AW24<>\"L\",ASISTENCIA!AW24<>\"J\",ASISTENCIA!AW24<>\"F\"),SUMIF($F$13:$J$13,AZ$13,$F25:$J25),\"\")","v":""},{"$f":"IF(AND(LEN($D25)>0,SUMIF($F$13:$J$13,BA$13,$F25:$J25)>0,ASISTENCIA!AX24<>\"X\",ASISTENCIA!AX24<>\"L\",ASISTENCIA!AX24<>\"J\",ASISTENCIA!AX24<>\"F\"),SUMIF($F$13:$J$13,BA$13,$F25:$J25),\"\")","v":""},{"$f":"IF(AND(LEN($D25)>0,SUMIF($F$13:$J$13,BB$13,$F25:$J25)>0,ASISTENCIA!AY24<>\"X\",ASISTENCIA!AY24<>\"L\",ASISTENCIA!AY24<>\"J\",ASISTENCIA!AY24<>\"F\"),SUMIF($F$13:$J$13,BB$13,$F25:$J25),\"\")","v":""},{"$f":"IF(AND(LEN($D25)>0,SUMIF($F$13:$J$13,BC$13,$F25:$J25)>0,ASISTENCIA!AZ24<>\"X\",ASISTENCIA!AZ24<>\"L\",ASISTENCIA!AZ24<>\"J\",ASISTENCIA!AZ24<>\"F\"),SUMIF($F$13:$J$13,BC$13,$F25:$J25),\"\")","v":""},{"$f":"IF(AND(LEN($D25)>0,SUMIF($F$13:$J$13,BD$13,$F25:$J25)>0,ASISTENCIA!BA24<>\"X\",ASISTENCIA!BA24<>\"L\",ASISTENCIA!BA24<>\"J\",ASISTENCIA!BA24<>\"F\"),SUMIF($F$13:$J$13,BD$13,$F25:$J25),\"\")","v":""},{"$f":"IF(AND(LEN($D25)>0,SUMIF($F$13:$J$13,BE$13,$F25:$J25)>0,ASISTENCIA!BB24<>\"X\",ASISTENCIA!BB24<>\"L\",ASISTENCIA!BB24<>\"J\",ASISTENCIA!BB24<>\"F\"),SUMIF($F$13:$J$13,BE$13,$F25:$J25),\"\")","v":""},{"$f":"IF(AND(LEN($D25)>0,SUMIF($F$13:$J$13,BF$13,$F25:$J25)>0,ASISTENCIA!#REF!<>\"X\",ASISTENCIA!#REF!<>\"L\",ASISTENCIA!#REF!<>\"J\",ASISTENCIA!#REF!<>\"F\"),SUMIF($F$13:$J$13,BF$13,$F25:$J25),\"\")","v":{"$error":"#REF!"}},{"$f":"IF(AND(LEN($D25)>0,SUMIF($F$13:$J$13,BG$13,$F25:$J25)>0,ASISTENCIA!#REF!<>\"X\",ASISTENCIA!#REF!<>\"L\",ASISTENCIA!#REF!<>\"J\",ASISTENCIA!#REF!<>\"F\"),SUMIF($F$13:$J$13,BG$13,$F25:$J25),\"\")","v":{"$error":"#REF!"}},{"$f":"IF(AND(LEN($D25)>0,SUMIF($F$13:$J$13,BH$13,$F25:$J25)>0,ASISTENCIA!BE24<>\"X\",ASISTENCIA!BE24<>\"L\",ASISTENCIA!BE24<>\"J\",ASISTENCIA!BE24<>\"F\"),SUMIF($F$13:$J$13,BH$13,$F25:$J25),\"\")","v":""},{"$f":"IF(AND(LEN($D25)>0,SUMIF($F$13:$J$13,BI$13,$F25:$J25)>0,ASISTENCIA!BF24<>\"X\",ASISTENCIA!BF24<>\"L\",ASISTENCIA!BF24<>\"J\",ASISTENCIA!BF24<>\"F\"),SUMIF($F$13:$J$13,BI$13,$F25:$J25),\"\")","v":""},{"$f":"IF(AND(LEN($D25)>0,SUMIF($F$13:$J$13,BJ$13,$F25:$J25)>0,ASISTENCIA!BG24<>\"X\",ASISTENCIA!BG24<>\"L\",ASISTENCIA!BG24<>\"J\",ASISTENCIA!BG24<>\"F\"),SUMIF($F$13:$J$13,BJ$13,$F25:$J25),\"\")","v":""},{"$f":"IF(AND(LEN($D25)>0,SUMIF($F$13:$J$13,BK$13,$F25:$J25)>0,ASISTENCIA!BH24<>\"X\",ASISTENCIA!BH24<>\"L\",ASISTENCIA!BH24<>\"J\",ASISTENCIA!BH24<>\"F\"),SUMIF($F$13:$J$13,BK$13,$F25:$J25),\"\")","v":""},{"$f":"IF(AND(LEN($D25)>0,SUMIF($F$13:$J$13,BL$13,$F25:$J25)>0,ASISTENCIA!BI24<>\"X\",ASISTENCIA!BI24<>\"L\",ASISTENCIA!BI24<>\"J\",ASISTENCIA!BI24<>\"F\"),SUMIF($F$13:$J$13,BL$13,$F25:$J25),\"\")","v":""},{"$f":"IF(AND(LEN($D25)>0,SUMIF($F$13:$J$13,BM$13,$F25:$J25)>0,ASISTENCIA!BJ24<>\"X\",ASISTENCIA!BJ24<>\"L\",ASISTENCIA!BJ24<>\"J\",ASISTENCIA!BJ24<>\"F\"),SUMIF($F$13:$J$13,BM$13,$F25:$J25),\"\")","v":""},{"$f":"IF(AND(LEN($D25)>0,SUMIF($F$13:$J$13,BN$13,$F25:$J25)>0,ASISTENCIA!BK24<>\"X\",ASISTENCIA!BK24<>\"L\",ASISTENCIA!BK24<>\"J\",ASISTENCIA!BK24<>\"F\"),SUMIF($F$13:$J$13,BN$13,$F25:$J25),\"\")","v":""},{"$f":"IF(AND(LEN($D25)>0,SUMIF($F$13:$J$13,BO$13,$F25:$J25)>0,ASISTENCIA!BL24<>\"X\",ASISTENCIA!BL24<>\"L\",ASISTENCIA!BL24<>\"J\",ASISTENCIA!BL24<>\"F\"),SUMIF($F$13:$J$13,BO$13,$F25:$J25),\"\")","v":""},{"$f":"IF(AND(LEN($D25)>0,SUMIF($F$13:$J$13,BP$13,$F25:$J25)>0,ASISTENCIA!BM24<>\"X\",ASISTENCIA!BM24<>\"L\",ASISTENCIA!BM24<>\"J\",ASISTENCIA!BM24<>\"F\"),SUMIF($F$13:$J$13,BP$13,$F25:$J25),\"\")","v":""},{"$f":"IF(AND(LEN($D25)>0,SUMIF($F$13:$J$13,BQ$13,$F25:$J25)>0,ASISTENCIA!BN24<>\"X\",ASISTENCIA!BN24<>\"L\",ASISTENCIA!BN24<>\"J\",ASISTENCIA!BN24<>\"F\"),SUMIF($F$13:$J$13,BQ$13,$F25:$J25),\"\")","v":""},{"$f":"IF(AND(LEN($D25)>0,SUMIF($F$13:$J$13,BR$13,$F25:$J25)>0,ASISTENCIA!BO24<>\"X\",ASISTENCIA!BO24<>\"L\",ASISTENCIA!BO24<>\"J\",ASISTENCIA!BO24<>\"F\"),SUMIF($F$13:$J$13,BR$13,$F25:$J25),\"\")","v":""},{"$f":"IF(AND(LEN($D25)>0,SUMIF($F$13:$J$13,BS$13,$F25:$J25)>0,ASISTENCIA!BP24<>\"X\",ASISTENCIA!BP24<>\"L\",ASISTENCIA!BP24<>\"J\",ASISTENCIA!BP24<>\"F\"),SUMIF($F$13:$J$13,BS$13,$F25:$J25),\"\")","v":""},{"$f":"IF(AND(LEN($D25)>0,SUMIF($F$13:$J$13,BT$13,$F25:$J25)>0,ASISTENCIA!BQ24<>\"X\",ASISTENCIA!BQ24<>\"L\",ASISTENCIA!BQ24<>\"J\",ASISTENCIA!BQ24<>\"F\"),SUMIF($F$13:$J$13,BT$13,$F25:$J25),\"\")","v":""},{"$f":"IF(AND(LEN($D25)>0,SUMIF($F$13:$J$13,BU$13,$F25:$J25)>0,ASISTENCIA!BR24<>\"X\",ASISTENCIA!BR24<>\"L\",ASISTENCIA!BR24<>\"J\",ASISTENCIA!BR24<>\"F\"),SUMIF($F$13:$J$13,BU$13,$F25:$J25),\"\")","v":""},{"$f":"IF(AND(LEN($D25)>0,SUMIF($F$13:$J$13,BV$13,$F25:$J25)>0,ASISTENCIA!BS24<>\"X\",ASISTENCIA!BS24<>\"L\",ASISTENCIA!BS24<>\"J\",ASISTENCIA!BS24<>\"F\"),SUMIF($F$13:$J$13,BV$13,$F25:$J25),\"\")","v":""},{"$f":"IF(AND(LEN($D25)>0,SUMIF($F$13:$J$13,BW$13,$F25:$J25)>0,ASISTENCIA!BT24<>\"X\",ASISTENCIA!BT24<>\"L\",ASISTENCIA!BT24<>\"J\",ASISTENCIA!BT24<>\"F\"),SUMIF($F$13:$J$13,BW$13,$F25:$J25),\"\")","v":""},{"$f":"IF(AND(LEN($D25)>0,SUMIF($F$13:$J$13,BX$13,$F25:$J25)>0,ASISTENCIA!BU24<>\"X\",ASISTENCIA!BU24<>\"L\",ASISTENCIA!BU24<>\"J\",ASISTENCIA!BU24<>\"F\"),SUMIF($F$13:$J$13,BX$13,$F25:$J25),\"\")","v":""},{"$f":"IF(AND(LEN($D25)>0,SUMIF($F$13:$J$13,BY$13,$F25:$J25)>0,ASISTENCIA!BV24<>\"X\",ASISTENCIA!BV24<>\"L\",ASISTENCIA!BV24<>\"J\",ASISTENCIA!BV24<>\"F\"),SUMIF($F$13:$J$13,BY$13,$F25:$J25),\"\")","v":""},{"$f":"IF(AND(LEN($D25)>0,SUMIF($F$13:$J$13,BZ$13,$F25:$J25)>0,ASISTENCIA!BW24<>\"X\",ASISTENCIA!BW24<>\"L\",ASISTENCIA!BW24<>\"J\",ASISTENCIA!BW24<>\"F\"),SUMIF($F$13:$J$13,BZ$13,$F25:$J25),\"\")","v":""},{"$f":"IF(AND(LEN($D25)>0,SUMIF($F$13:$J$13,CA$13,$F25:$J25)>0,ASISTENCIA!BX24<>\"X\",ASISTENCIA!BX24<>\"L\",ASISTENCIA!BX24<>\"J\",ASISTENCIA!BX24<>\"F\"),SUMIF($F$13:$J$13,CA$13,$F25:$J25),\"\")","v":""},{"$f":"IF(AND(LEN($D25)>0,SUMIF($F$13:$J$13,CB$13,$F25:$J25)>0,ASISTENCIA!BY24<>\"X\",ASISTENCIA!BY24<>\"L\",ASISTENCIA!BY24<>\"J\",ASISTENCIA!BY24<>\"F\"),SUMIF($F$13:$J$13,CB$13,$F25:$J25),\"\")","v":""},{"$error":"#REF!"}]
["",{"$f":"IF(LEN(C26)>0,VLOOKUP($O$4,DATA!$A$1:$S$1,2,FALSE),\"\")","v":""},"",{"$f":"IF(LEN(ASISTENCIA!E25)>0,ASISTENCIA!E25,\"\")","v":""},{"$f":"IF(LEN(D26)>0,ASISTENCIA!F25,\"\")","v":""},null,null,null,null,null,"",null,null,{"$error":"#REF!"},{"$f":"IF(AND(LEN($D26)>0,SUMIF($F$13:$J$13,O$13,$F26:$J26)>0,ASISTENCIA!I25<>\"X\",ASISTENCIA!I25<>\"L\",ASISTENCIA!I25<>\"J\",ASISTENCIA!I25<>\"V\",ASISTENCIA!I25<>\"F\",ASISTENCIA!I25<>\"\"),SUMIF($F$13:$J$13,O$13,$F26:$J26),\"\")","v":""},{"$f":"IF(AND(LEN($D26)>0,SUMIF($F$13:$J$13,P$13,$F26:$J26)>0,ASISTENCIA!J25<>\"X\",ASISTENCIA!J25<>\"L\",ASISTENCIA!J25<>\"J\",ASISTENCIA!J25<>\"V\",ASISTENCIA!J25<>\"F\",ASISTENCIA!J25<>\"\"),SUMIF($F$13:$J$13,P$13,$F26:$J26),\"\")","v":""},{"$f":"IF(AND(LEN($D26)>0,SUMIF($F$13:$J$13,Q$13,$F26:$J26)>0,ASISTENCIA!K25<>\"X\",ASISTENCIA!K25<>\"L\",ASISTENCIA!K25<>\"J\",ASISTENCIA!K25<>\"V\",ASISTENCIA!K25<>\"F\",ASISTENCIA!K25<>\"\"),SUMIF($F$13:$J$13,Q$13,$F26:$J26),\"\")","v":""},{"$f":"IF(AND(LEN($D26)>0,SUMIF($F$13:$J$13,R$13,$F26:$J26)>0,ASISTENCIA!L25<>\"X\",ASISTENCIA!L25<>\"L\",ASISTENCIA!L25<>\"J\",ASISTENCIA!L25<>\"V\",ASISTENCIA!L25<>\"F\",ASISTENCIA!L25<>\"\"),SUMIF($F$13:$J$13,R$13,$F26:$J26),\"\")","v":""},{"$f":"IF(AND(LEN($D26)>0,SUMIF($F$13:$J$13,S$13,$F26:$J26)>0,ASISTENCIA!M25<>\"X\",ASISTENCIA!M25<>\"L\",ASISTENCIA!M25<>\"J\",ASISTENCIA!M25<>\"V\",ASISTENCIA!M25<>\"F\",ASISTENCIA!M25<>\"\"),SUMIF($F$13:$J$13,S$13,$F26:$J26),\"\")","v":""},{"$f":"IF(AND(LEN($D26)>0,SUMIF($F$13:$J$13,T$13,$F26:$J26)>0,ASISTENCIA!N25<>\"X\",ASISTENCIA!N25<>\"L\",ASISTENCIA!N25<>\"J\",ASISTENCIA!N25<>\"V\",ASISTENCIA!N25<>\"F\",ASISTENCIA!N25<>\"\"),SUMIF($F$13:$J$13,T$13,$F26:$J26),\"\")","v":""},{"$f":"IF(AND(LEN($D26)>0,SUMIF($F$13:$J$13,U$13,$F26:$J26)>0,ASISTENCIA!O25<>\"X\",ASISTENCIA!O25<>\"L\",ASISTENCIA!O25<>\"J\",ASISTENCIA!O25<>\"V\",ASISTENCIA!O25<>\"F\",ASISTENCIA!O25<>\"\"),SUMIF($F$13:$J$13,U$13,$F26:$J26),\"\")","v":""},{"$f":"IF(AND(LEN($D26)>0,SUMIF($F$13:$J$13,V$13,$F26:$J26)>0,ASISTENCIA!P25<>\"X\",ASISTENCIA!P25<>\"L\",ASISTENCIA!P25<>\"J\",ASISTENCIA!P25<>\"V\",ASISTENCIA!P25<>\"F\",ASISTENCIA!P25<>\"\"),SUMIF($F$13:$J$13,V$13,$F26:$J26),\"\")","v":""},{"$f":"IF(AND(LEN($D26)>0,SUMIF($F$13:$J$13,W$13,$F26:$J26)>0,ASISTENCIA!Q25<>\"X\",ASISTENCIA!Q25<>\"L\",ASISTENCIA!Q25<>\"J\",ASISTENCIA!Q25<>\"V\",ASISTENCIA!Q25<>\"F\",ASISTENCIA!Q25<>\"\"),SUMIF($F$13:$J$13,W$13,$F26:$J26),\"\")","v":""},{"$f":"IF(AND(LEN($D26)>0,SUMIF($F$13:$J$13,X$13,$F26:$J26)>0,ASISTENCIA!R25<>\"X\",ASISTENCIA!R25<>\"L\",ASISTENCIA!R25<>\"J\",ASISTENCIA!R25<>\"V\",ASISTENCIA!R25<>\"F\",ASISTENCIA!R25<>\"\"),SUMIF($F$13:$J$13,X$13,$F26:$J26),\"\")","v":""},{"$f":"IF(AND(LEN($D26)>0,SUMIF($F$13:$J$13,Y$13,$F26:$J26)>0,ASISTENCIA!S25<>\"X\",ASISTENCIA!S25<>\"L\",ASISTENCIA!S25<>\"J\",ASISTENCIA!S25<>\"V\",ASISTENCIA!S25<>\"F\",ASISTENCIA!S25<>\"\"),SUMIF($F$13:$J$13,Y$13,$F26:$J26),\"\")","v":""},{"$f":"IF(AND(LEN($D26)>0,SUMIF($F$13:$J$13,Z$13,$F26:$J26)>0,ASISTENCIA!T25<>\"X\",ASISTENCIA!T25<>\"L\",ASISTENCIA!T25<>\"J\",ASISTENCIA!T25<>\"V\",ASISTENCIA!T25<>\"F\",ASISTENCIA!T25<>\"\"),SUMIF($F$13:$J$13,Z$13,$F26:$J26),\"\")","v":""},{"$f":"IF(AND(LEN($D26)>0,SUMIF($F$13:$J$13,AA$13,$F26:$J26)>0,ASISTENCIA!U25<>\"X\",ASISTENCIA!U25<>\"L\",ASISTENCIA!U25<>\"J\",ASISTENCIA!U25<>\"V\",ASISTENCIA!U25<>\"F\",ASISTENCIA!U25<>\"\"),SUMIF($F$13:$J$13,AA$13,$F26:$J26),\"\")","v":""},{"$f":"IF(AND(LEN($D26)>0,SUMIF($F$13:$J$13,AB$13,$F26:$J26)>0,ASISTENCIA!V25<>\"X\",ASISTENCIA!V25<>\"L\",ASISTENCIA!V25<>\"J\",ASISTENCIA!V25<>\"V\",ASISTENCIA!V25<>\"F\",ASISTENCIA!V25<>\"\"),SUMIF($F$13:$J$13,AB$13,$F26:$J26),\"\")","v":""},{"$f":"IF(AND(LEN($D26)>0,SUMIF($F$13:$J$13,AC$13,$F26:$J26)>0,ASISTENCIA!W25<>\"X\",ASISTENCIA!W25<>\"L\",ASISTENCIA!W25<>\"J\",ASISTENCIA!W25<>\"V\",ASISTENCIA!W25<>\"F\",ASISTENCIA!W25<>\"\"),SUMIF($F$13:$J$13,AC$13,$F26:$J26),\"\")","v":""},{"$f":"IF(AND(LEN($D26)>0,SUMIF($F$13:$J$13,AD$13,$F26:$J26)>0,ASISTENCIA!X25<>\"X\",ASISTENCIA!X25<>\"L\",ASISTENCIA!X25<>\"J\",ASISTENCIA!X25<>\"V\",ASISTENCIA!X25<>\"F\",ASISTENCIA!X25<>\"\"),SUMIF($F$13:$J$13,AD$13,$F26:$J26),\"\")","v":""},{"$f":"IF(AND(LEN($D26)>0,SUMIF($F$13:$J$13,AE$13,$F26:$J26)>0,ASISTENCIA!Y25<>\"X\",ASISTENCIA!Y25<>\"L\",ASISTENCIA!Y25<>\"J\",ASISTENCIA!Y25<>\"V\",ASISTENCIA!Y25<>\"F\",ASISTENCIA!Y25<>\"\"),SUMIF($F$13:$J$13,AE$13,$F26:$J26),\"\")","v":""},{"$f":"IF(AND(LEN($D26)>0,SUMIF($F$13:$J$13,AF$13,$F26:$J26)>0,ASISTENCIA!Z25<>\"X\",ASISTENCIA!Z25<>\"L\",ASISTENCIA!Z25<>\"J\",ASISTENCIA!Z25<>\"V\",ASISTENCIA!Z25<>\"F\",ASISTENCIA!Z25<>\"\"),SUMIF($F$13:$J$13,AF$13,$F26:$J26),\"\")","v":""},{"$f":"IF(AND(LEN($D26)>0,SUMIF($F$13:$J$13,AG$13,$F26:$J26)>0,ASISTENCIA!AA25<>\"X\",ASISTENCIA!AA25<>\"L\",ASISTENCIA!AA25<>\"J\",ASISTENCIA!AA25<>\"V\",ASISTENCIA!AA25<>\"F\",ASISTENCIA!AA25<>\"\"),SUMIF($F$13:$J$13,AG$13,$F26:$J26),\"\")","v":""},{"$f":"IF(AND(LEN($D26)>0,SUMIF($F$13:$J$13,AH$13,$F26:$J26)>0,ASISTENCIA!AB25<>\"X\",ASISTENCIA!AB25<>\"L\",ASISTENCIA!AB25<>\"J\",ASISTENCIA!AB25<>\"V\",ASISTENCIA!AB25<>\"F\",ASISTENCIA!AB25<>\"\"),SUMIF($F$13:$J$13,AH$13,$F26:$J26),\"\")","v":""},{"$f":"IF(AND(LEN($D26)>0,SUMIF($F$13:$J$13,AI$13,$F26:$J26)>0,ASISTENCIA!AC25<>\"X\",ASISTENCIA!AC25<>\"L\",ASISTENCIA!AC25<>\"J\",ASISTENCIA!AC25<>\"V\",ASISTENCIA!AC25<>\"F\",ASISTENCIA!AC25<>\"\"),SUMIF($F$13:$J$13,AI$13,$F26:$J26),\"\")","v":""},{"$f":"IF(AND(LEN($D26)>0,SUMIF($F$13:$J$13,AJ$13,$F26:$J26)>0,ASISTENCIA!AD25<>\"X\",ASISTENCIA!AD25<>\"L\",ASISTENCIA!AD25<>\"J\",ASISTENCIA!AD25<>\"V\",ASISTENCIA!AD25<>\"F\",ASISTENCIA!AD25<>\"\"),SUMIF($F$13:$J$13,AJ$13,$F26:$J26),\"\")","v":""},{"$f":"IF(AND(LEN($D26)>0,SUMIF($F$13:$J$13,AK$13,$F26:$J26)>0,ASISTENCIA!AE25<>\"X\",ASISTENCIA!AE25<>\"L\",ASISTENCIA!AE25<>\"J\",ASISTENCIA!AE25<>\"V\",ASISTENCIA!AE25<>\"F\",ASISTENCIA!AE25<>\"\"),SUMIF($F$13:$J$13,AK$13,$F26:$J26),\"\")","v":""},{"$f":"IF(AND(LEN($D26)>0,SUMIF($F$13:$J$13,AL$13,$F26:$J26)>0,ASISTENCIA!AF25<>\"X\",ASISTENCIA!AF25<>\"L\",ASISTENCIA!AF25<>\"J\",ASISTENCIA!AF25<>\"V\",ASISTENCIA!AF25<>\"F\",ASISTENCIA!AF25<>\"\"),SUMIF($F$13:$J$13,AL$13,$F26:$J26),\"\")","v":""},{"$f":"IF(AND(LEN($D26)>0,SUMIF($F$13:$J$13,AM$13,$F26:$J26)>0,ASISTENCIA!AG25<>\"X\",ASISTENCIA!AG25<>\"L\",ASISTENCIA!AG25<>\"J\",ASISTENCIA!AG25<>\"V\",ASISTENCIA!AG25<>\"F\",ASISTENCIA!AG25<>\"\"),SUMIF($F$13:$J$13,AM$13,$F26:$J26),\"\")","v":""},{"$f":"IF(AND(LEN($D26)>0,SUMIF($F$13:$J$13,AN$13,$F26:$J26)>0,ASISTENCIA!AH25<>\"X\",ASISTENCIA!AH25<>\"L\",ASISTENCIA!AH25<>\"J\",ASISTENCIA!AH25<>\"V\",ASISTENCIA!AH25<>\"F\",ASISTENCIA!AH25<>\"\"),SUMIF($F$13:$J$13,AN$13,$F26:$J26),\"\")","v":""},{"$f":"IF(AND(LEN($D26)>0,SUMIF($F$13:$J$13,AO$13,$F26:$J26)>0,ASISTENCIA!AI25<>\"X\",ASISTENCIA!AI25<>\"L\",ASISTENCIA!AI25<>\"J\",ASISTENCIA!AI25<>\"V\",ASISTENCIA!AI25<>\"F\",ASISTENCIA!AI25<>\"\"),SUMIF($F$13:$J$13,AO$13,$F26:$J26),\"\")","v":""},{"$f":"IF(AND(LEN($D26)>0,SUMIF($F$13:$J$13,AP$13,$F26:$J26)>0,ASISTENCIA!AJ25<>\"X\",ASISTENCIA!AJ25<>\"L\",ASISTENCIA!AJ25<>\"J\",ASISTENCIA!AJ25<>\"V\",ASISTENCIA!AJ25<>\"F\",ASISTENCIA!AJ25<>\"\"),SUMIF($F$13:$J$13,AP$13,$F26:$J26),\"\")","v":""},{"$f":"IF(AND(LEN($D26)>0,SUMIF($F$13:$J$13,AQ$13,$F26:$J26)>0,ASISTENCIA!AK25<>\"X\",ASISTENCIA!AK25<>\"L\",ASISTENCIA!AK25<>\"J\",ASISTENCIA!AK25<>\"V\",ASISTENCIA!AK25<>\"F\",ASISTENCIA!AK25<>\"\"),SUMIF($F$13:$J$13,AQ$13,$F26:$J26),\"\")","v":""},{"$f":"IF(AND(LEN($D26)>0,SUMIF($F$13:$J$13,AR$13,$F26:$J26)>0,ASISTENCIA!AL25<>\"X\",ASISTENCIA!AL25<>\"L\",ASISTENCIA!AL25<>\"J\",ASISTENCIA!AL25<>\"V\",ASISTENCIA!AL25<>\"F\",ASISTENCIA!AL25<>\"\"),SUMIF($F$13:$J$13,AR$13,$F26:$J26),\"\")","v":""},{"$f":"IF(AND(LEN($D26)>0,SUMIF($F$13:$J$13,AS$13,$F26:$J26)>0,ASISTENCIA!AM25<>\"X\",ASISTENCIA!AM25<>\"L\",ASISTENCIA!AM25<>\"J\",ASISTENCIA!AM25<>\"V\",ASISTENCIA!AM25<>\"F\",ASISTENCIA!AM25<>\"\"),SUMIF($F$13:$J$13,AS$13,$F26:$J26),\"\")","v":""},"",null,null,null,{"$f":"IF(AND(LEN($D26)>0,SUMIF($F$13:$J$13,AX$13,$F26:$J26)>0,ASISTENCIA!AU25<>\"X\",ASISTENCIA!AU25<>\"L\",ASISTENCIA!AU25<>\"J\",ASISTENCIA!AU25<>\"F\"),SUMIF($F$13:$J$13,AX$13,$F26:$J26),\"\")","v":""},{"$f":"IF(AND(LEN($D26)>0,SUMIF($F$13:$J$13,AY$13,$F26:$J26)>0,ASISTENCIA!AV25<>\"X\",ASISTENCIA!AV25<>\"L\",ASISTENCIA!AV25<>\"J\",ASISTENCIA!AV25<>\"F\"),SUMIF($F$13:$J$13,AY$13,$F26:$J26),\"\")","v":""},{"$f":"IF(AND(LEN($D26)>0,SUMIF($F$13:$J$13,AZ$13,$F26:$J26)>0,ASISTENCIA!AW25<>\"X\",ASISTENCIA!AW25<>\"L\",ASISTENCIA!AW25<>\"J\",ASISTENCIA!AW25<>\"F\"),SUMIF($F$13:$J$13,AZ$13,$F26:$J26),\"\")","v":""},{"$f":"IF(AND(LEN($D26)>0,SUMIF($F$13:$J$13,BA$13,$F26:$J26)>0,ASISTENCIA!AX25<>\"X\",ASISTENCIA!AX25<>\"L\",ASISTENCIA!AX25<>\"J\",ASISTENCIA!AX25<>\"F\"),SUMIF($F$13:$J$13,BA$13,$F26:$J26),\"\")","v":""},{"$f":"IF(AND(LEN($D26)>0,SUMIF($F$13:$J$13,BB$13,$F26:$J26)>0,ASISTENCIA!AY25<>\"X\",ASISTENCIA!AY25<>\"L\",ASISTENCIA!AY25<>\"J\",ASISTENCIA!AY25<>\"F\"),SUMIF($F$13:$J$13,BB$13,$F26:$J26),\"\")","v":""},{"$f":"IF(AND(LEN($D26)>0,SUMIF($F$13:$J$13,BC$13,$F26:$J26)>0,ASISTENCIA!AZ25<>\"X\",ASISTENCIA!AZ25<>\"L\",ASISTENCIA!AZ25<>\"J\",ASISTENCIA!AZ25<>\"F\"),SUMIF($F$13:$J$13,BC$13,$F26:$J26),\"\")","v":""},{"$f":"IF(AND(LEN($D26)>0,SUMIF($F$13:$J$13,BD$13,$F26:$J26)>0,ASISTENCIA!BA25<>\"X\",ASISTENCIA!BA25<>\"L\",ASISTENCIA!BA25<>\"J\",ASISTENCIA!BA25<>\"F\"),SUMIF($F$13:$J$13,BD$13,$F26:$J26),\"\")","v":""},{"$f":"IF(AND(LEN($D26)>0,SUMIF($F$13:$J$13,BE$13,$F26:$J26)>0,ASISTENCIA!BB25<>\"X\",ASISTENCIA!BB25<>\"L\",ASISTENCIA!BB25<>\"J\",ASISTENCIA!BB25<>\"F\"),SUMIF($F$13:$J$13,BE$13,$F26:$J26),\"\")","v":""},{"$f":"IF(AND(LEN($D26)>0,SUMIF($F$13:$J$13,BF$13,$F26:$J26)>0,ASISTENCIA!#REF!<>\"X\",ASISTENCIA!#REF!<>\"L\",ASISTENCIA!#REF!<>\"J\",ASISTENCIA!#REF!<>\"F\"),SUMIF($F$13:$J$13,BF$13,$F26:$J26),\"\")","v":{"$error":"#REF!"}},{"$f":"IF(AND(LEN($D26)>0,SUMIF($F$13:$J$13,BG$13,$F26:$J26)>0,ASISTENCIA!#REF!<>\"X\",ASISTENCIA!#REF!<>\"L\",ASISTENCIA!#REF!<>\"J\",ASISTENCIA!#REF!<>\"F\"),SUMIF($F$13:$J$13,BG$13,$F26:$J26),\"\")","v":{"$error":"#REF!"}},{"$f":"IF(AND(LEN($D26)>0,SUMIF($F$13:$J$13,BH$13,$F26:$J26)>0,ASISTENCIA!BE25<>\"X\",ASISTENCIA!BE25<>\"L\",ASISTENCIA!BE25<>\"J\",ASISTENCIA!BE25<>\"F\"),SUMIF($F$13:$J$13,BH$13,$F26:$J26),\"\")","v":""},{"$f":"IF(AND(LEN($D26)>0,SUMIF($F$13:$J$13,BI$13,$F26:$J26)>0,ASISTENCIA!BF25<>\"X\",ASISTENCIA!BF25<>\"L\",ASISTENCIA!BF25<>\"J\",ASISTENCIA!BF25<>\"F\"),SUMIF($F$13:$J$13,BI$13,$F26:$J26),\"\")","v":""},{"$f":"IF(AND(LEN($D26)>0,SUMIF($F$13:$J$13,BJ$13,$F26:$J26)>0,ASISTENCIA!BG25<>\"X\",ASISTENCIA!BG25<>\"L\",ASISTENCIA!BG25<>\"J\",ASISTENCIA!BG25<>\"F\"),SUMIF($F$13:$J$13,BJ$13,$F26:$J26),\"\")","v":""},{"$f":"IF(AND(LEN($D26)>0,SUMIF($F$13:$J$13,BK$13,$F26:$J26)>0,ASISTENCIA!BH25<>\"X\",ASISTENCIA!BH25<>\"L\",ASISTENCIA!BH25<>\"J\",ASISTENCIA!BH25<>\"F\"),SUMIF($F$13:$J$13,BK$13,$F26:$J26),\"\")","v":""},{"$f":"IF(AND(LEN($D26)>0,SUMIF($F$13:$J$13,BL$13,$F26:$J26)>0,ASISTENCIA!BI25<>\"X\",ASISTENCIA!BI25<>\"L\",ASISTENCIA!BI25<>\"J\",ASISTENCIA!BI25<>\"F\"),SUMIF($F$13:$J$13,BL$13,$F26:$J26),\"\")","v":""},{"$f":"IF(AND(LEN($D26)>0,SUMIF($F$13:$J$13,BM$13,$F26:$J26)>0,ASISTENCIA!BJ25<>\"X\",ASISTENCIA!BJ25<>\"L\",ASISTENCIA!BJ25<>\"J\",ASISTENCIA!BJ25<>\"F\"),SUMIF($F$13:$J$13,BM$13,$F26:$J26),\"\")","v":""},{"$f":"IF(AND(LEN($D26)>0,SUMIF($F$13:$J$13,BN$13,$F26:$J26)>0,ASISTENCIA!BK25<>\"X\",ASISTENCIA!BK25<>\"L\",ASISTENCIA!BK25<>\"J\",ASISTENCIA!BK25<>\"F\"),SUMIF($F$13:$J$13,BN$13,$F26:$J26),\"\")","v":""},{"$f":"IF(AND(LEN($D26)>0,SUMIF($F$13:$J$13,BO$13,$F26:$J26)>0,ASISTENCIA!BL25<>\"X\",ASISTENCIA!BL25<>\"L\",ASISTENCIA!BL25<>\"J\",ASISTENCIA!BL25<>\"F\"),SUMIF($F$13:$J$13,BO$13,$F26:$J26),\"\")","v":""},{"$f":"IF(AND(LEN($D26)>0,SUMIF($F$13:$J$13,BP$13,$F26:$J26)>0,ASISTENCIA!BM25<>\"X\",ASISTENCIA!BM25<>\"L\",ASISTENCIA!BM25<>\"J\",ASISTENCIA!BM25<>\"F\"),SUMIF($F$13:$J$13,BP$13,$F26:$J26),\"\")","v":""},{"$f":"IF(AND(LEN($D26)>0,SUMIF($F$13:$J$13,BQ$13,$F26:$J26)>0,ASISTENCIA!BN25<>\"X\",ASISTENCIA!BN25<>\"L\",ASISTENCIA!BN25<>\"J\",ASISTENCIA!BN25<>\"F\"),SUMIF($F$13:$J$13,BQ$13,$F26:$J26),\"\")","v":""},{"$f":"IF(AND(LEN($D26)>0,SUMIF($F$13:$J$13,BR$13,$F26:$J26)>0,ASISTENCIA!BO25<>\"X\",ASISTENCIA!BO25<>\"L\",ASISTENCIA!BO25<>\"J\",ASISTENCIA!BO25<>\"F\"),SUMIF($F$13:$J$13,BR$13,$F26:$J26),\"\")","v":""},{"$f":"IF(AND(LEN($D26)>0,SUMIF($F$13:$J$13,BS$13,$F26:$J26)>0,ASISTENCIA!BP25<>\"X\",ASISTENCIA!BP25<>\"L\",ASISTENCIA!BP25<>\"J\",ASISTENCIA!BP25<>\"F\"),SUMIF($F$13:$J$13,BS$13,$F26:$J26),\"\")","v":""},{"$f":"IF(AND(LEN($D26)>0,SUMIF($F$13:$J$13,BT$13,$F26:$J26)>0,ASISTENCIA!BQ25<>\"X\",ASISTENCIA!BQ25<>\"L\",ASISTENCIA!BQ25<>\"J\",ASISTENCIA!BQ25<>\"F\"),SUMIF($F$13:$J$13,BT$13,$F26:$J26),\"\")","v":""},{"$f":"IF(AND(LEN($D26)>0,SUMIF($F$13:$J$13,BU$13,$F26:$J26)>0,ASISTENCIA!BR25<>\"X\",ASISTENCIA!BR25<>\"L\",ASISTENCIA!BR25<>\"J\",ASISTENCIA!BR25<>\"F\"),SUMIF($F$13:$J$13,BU$13,$F26:$J26),\"\")","v":""},{"$f":"IF(AND(LEN($D26)>0,SUMIF($F$13:$J$13,BV$13,$F26:$J26)>0,ASISTENCIA!BS25<>\"X\",ASISTENCIA!BS25<>\"L\",ASISTENCIA!BS25<>\"J\",ASISTENCIA!BS25<>\"F\"),SUMIF($F$13:$J$13,BV$13,$F26:$J26),\"\")","v":""},{"$f":"IF(AND(LEN($D26)>0,SUMIF($F$13:$J$13,BW$13,$F26:$J26)>0,ASISTENCIA!BT25<>\"X\",ASISTENCIA!BT25<>\"L\",ASISTENCIA!BT25<>\"J\",ASISTENCIA!BT25<>\"F\"),SUMIF($F$13:$J$13,BW$13,$F26:$J26),\"\")","v":""},{"$f":"IF(AND(LEN($D26)>0,SUMIF($F$13:$J$13,BX$13,$F26:$J26)>0,ASISTENCIA!BU25<>\"X\",ASISTENCIA!BU25<>\"L\",ASISTENCIA!BU25<>\"J\",ASISTENCIA!BU25<>\"F\"),SUMIF($F$13:$J$13,BX$13,$F26:$J26),\"\")","v":""},{"$f":"IF(AND(LEN($D26)>0,SUMIF($F$13:$J$13,BY$13,$F26:$J26)>0,ASISTENCIA!BV25<>\"X\",ASISTENCIA!BV25<>\"L\",ASISTENCIA!BV25<>\"J\",ASISTENCIA!BV25<>\"F\"),SUMIF($F$13:$J$13,BY$13,$F26:$J26),\"\")","v":""},{"$f":"IF(AND(LEN($D26)>0,SUMIF($F$13:$J$13,BZ$13,$F26:$J26)>0,ASISTENCIA!BW25<>\"X\",ASISTENCIA!BW25<>\"L\",ASISTENCIA!BW25<>\"J\",ASISTENCIA!BW25<>\"F\"),SUMIF($F$13:$J$13,BZ$13,$F26:$J26),\"\")","v":""},{"$f":"IF(AND(LEN($D26)>0,SUMIF($F$13:$J$13,CA$13,$F26:$J26)>0,ASISTENCIA!BX25<>\"X\",ASISTENCIA!BX25<>\"L\",ASISTENCIA!BX25<>\"J\",ASISTENCIA!BX25<>\"F\"),SUMIF($F$13:$J$13,CA$13,$F26:$J26),\"\")","v":""},{"$f":"IF(AND(LEN($D26)>0,SUMIF($F$13:$J$13,CB$13,$F26:$J26)>0,ASISTENCIA!BY25<>\"X\",ASISTENCIA!BY25<>\"L\",ASISTENCIA!BY25<>\"J\",ASISTENCIA!BY25<>\"F\"),SUMIF($F$13:$J$13,CB$13,$F26:$J26),\"\")","v":""},{"$error":"#REF!"}]
["",{"$f":"IF(LEN(C27)>0,VLOOKUP($O$4,DATA!$A$1:$S$1,2,FALSE),\"\")","v":""},"",{"$f":"IF(LEN(ASISTENCIA!E26)>0,ASISTENCIA!E26,\"\")","v":""},{"$f":"IF(LEN(D27)>0,ASISTENCIA!F26,\"\")","v":""},null,null,null,null,null,"",null,null,{"$error":"#REF!"},{"$f":"IF(AND(LEN($D27)>0,SUMIF($F$13:$J$13,O$13,$F27:$J27)>0,ASISTENCIA!I26<>\"X\",ASISTENCIA!I26<>\"L\",ASISTENCIA!I26<>\"J\",ASISTENCIA!I26<>\"V\",ASISTENCIA!I26<>\"F\",ASISTENCIA!I26<>\"\"),SUMIF($F$13:$J$13,O$13,$F27:$J27),\"\")","v":""},{"$f":"IF(AND(LEN($D27)>0,SUMIF($F$13:$J$13,P$13,$F27:$J27)>0,ASISTENCIA!J26<>\"X\",ASISTENCIA!J26<>\"L\",ASISTENCIA!J26<>\"J\",ASISTENCIA!J26<>\"V\",ASISTENCIA!J26<>\"F\",ASISTENCIA!J26<>\"\"),SUMIF($F$13:$J$13,P$13,$F27:$J27),\"\")","v":""},{"$f":"IF(AND(LEN($D27)>0,SUMIF($F$13:$J$13,Q$13,$F27:$J27)>0,ASISTENCIA!K26<>\"X\",ASISTENCIA!K26<>\"L\",ASISTENCIA!K26<>\"J\",ASISTENCIA!K26<>\"V\",ASISTENCIA!K26<>\"F\",ASISTENCIA!K26<>\"\"),SUMIF($F$13:$J$13,Q$13,$F27:$J27),\"\")","v":""},{"$f":"IF(AND(LEN($D27)>0,SUMIF($F$13:$J$13,R$13,$F27:$J27)>0,ASISTENCIA!L26<>\"X\",ASISTENCIA!L26<>\"L\",ASISTENCIA!L26<>\"J\",ASISTENCIA!L26<>\"V\",ASISTENCIA!L26<>\"F\",ASISTENCIA!L26<>\"\"),SUMIF($F$13:$J$13,R$13,$F27:$J27),\"\")","v":""},{"$f":"IF(AND(LEN($D27)>0,SUMIF($F$13:$J$13,S$13,$F27:$J27)>0,ASISTENCIA!M26<>\"X\",ASISTENCIA!M26<>\"L\",ASISTENCIA!M26<>\"J\",ASISTENCIA!M26<>\"V\",ASISTENCIA!M26<>\"F\",ASISTENCIA!M26<>\"\"),SUMIF($F$13:$J$13,S$13,$F27:$J27),\"\")","v":""},{"$f":"IF(AND(LEN($D27)>0,SUMIF($F$13:$J$13,T$13,$F27:$J27)>0,ASISTENCIA!N26<>\"X\",ASISTENCIA!N26<>\"L\",ASISTENCIA!N26<>\"J\",ASISTENCIA!N26<>\"V\",ASISTENCIA!N26<>\"F\",ASISTENCIA!N26<>\"\"),SUMIF($F$13:$J$13,T$13,$F27:$J27),\"\")","v":""},{"$f":"IF(AND(LEN($D27)>0,SUMIF($F$13:$J$13,U$13,$F27:$J27)>0,ASISTENCIA!O26<>\"X\",ASISTENCIA!O26<>\"L\",ASISTENCIA!O26<>\"J\",ASISTENCIA!O26<>\"V\",ASISTENCIA!O26<>\"F\",ASISTENCIA!O26<>\"\"),SUMIF($F$13:$J$13,U$13,$F27:$J27),\"\")","v":""},{"$f":"IF(AND(LEN($D27)>0,SUMIF($F$13:$J$13,V$13,$F27:$J27)>0,ASISTENCIA!P26<>\"X\",ASISTENCIA!P26<>\"L\",ASISTENCIA!P26<>\"J\",ASISTENCIA!P26<>\"V\",ASISTENCIA!P26<>\"F\",ASISTENCIA!P26<>\"\"),SUMIF($F$13:$J$13,V$13,$F27:$J27),\"\")","v":""},{"$f":"IF(AND(LEN($D27)>0,SUMIF($F$13:$J$13,W$13,$F27:$J27)>0,ASISTENCIA!Q26<>\"X\",ASISTENCIA!Q26<>\"L\",ASISTENCIA!Q26<>\"J\",ASISTENCIA!Q26<>\"V\",ASISTENCIA!Q26<>\"F\",ASISTENCIA!Q26<>\"\"),SUMIF($F$13:$J$13,W$13,$F27:$J27),\"\")","v":""},{"$f":"IF(AND(LEN($D27)>0,SUMIF($F$13:$J$13,X$13,$F27:$J27)>0,ASISTENCIA!R26<>\"X\",ASISTENCIA!R26<>\"L\",ASISTENCIA!R26<>\"J\",ASISTENCIA!R26<>\"V\",ASISTENCIA!R26<>\"F\",ASISTENCIA!R26<>\"\"),SUMIF($F$13:$J$13,X$13,$F27:$J27),\"\")","v":""},{"$f":"IF(AND(LEN($D27)>0,SUMIF($F$13:$J$13,Y$13,$F27:$J27)>0,ASISTENCIA!S26<>\"X\",ASISTENCIA!S26<>\"L\",ASISTENCIA!S26<>\"J\",ASISTENCIA!S26<>\"V\",ASISTENCIA!S26<>\"F\",ASISTENCIA!S26<>\"\"),SUMIF($F$13:$J$13,Y$13,$F27:$J27),\"\")","v":""},{"$f":"IF(AND(LEN($D27)>0,SUMIF($F$13:$J$13,Z$13,$F27:$J27)>0,ASISTENCIA!T26<>\"X\",ASISTENCIA!T26<>\"L\",ASISTENCIA!T26<>\"J\",ASISTENCIA!T26<>\"V\",ASISTENCIA!T26<>\"F\",ASISTENCIA!T26<>\"\"),SUMIF($F$13:$J$13,Z$13,$F27:$J27),\"\")","v":""},{"$f":"IF(AND(LEN($D27)>0,SUMIF($F$13:$J$13,AA$13,$F27:$J27)>0,ASISTENCIA!U26<>\"X\",ASISTENCIA!U26<>\"L\",ASISTENCIA!U26<>\"J\",ASISTENCIA!U26<>\"V\",ASISTENCIA!U26<>\"F\",ASISTENCIA!U26<>\"\"),SUMIF($F$13:$J$13,AA$13,$F27:$J27),\"\")","v":""},{"$f":"IF(AND(LEN($D27)>0,SUMIF($F$13:$J$13,AB$13,$F27:$J27)>0,ASISTENCIA!V26<>\"X\",ASISTENCIA!V26<>\"L\",ASISTENCIA!V26<>\"J\",ASISTENCIA!V26<>\"V\",ASISTENCIA!V26<>\"F\",ASISTENCIA!V26<>\"\"),SUMIF($F$13:$J$13,AB$13,$F27:$J27),\"\")","v":""},{"$f":"IF(AND(LEN($D27)>0,SUMIF($F$13:$J$13,AC$13,$F27:$J27)>0,ASISTENCIA!W26<>\"X\",ASISTENCIA!W26<>\"L\",ASISTENCIA!W26<>\"J\",ASISTENCIA!W26<>\"V\",ASISTENCIA!W26<>\"F\",ASISTENCIA!W26<>\"\"),SUMIF($F$13:$J$13,AC$13,$F27:$J27),\"\")","v":""},{"$f":"IF(AND(LEN($D27)>0,SUMIF($F$13:$J$13,AD$13,$F27:$J27)>0,ASISTENCIA!X26<>\"X\",ASISTENCIA!X26<>\"L\",ASISTENCIA!X26<>\"J\",ASISTENCIA!X26<>\"V\",ASISTENCIA!X26<>\"F\",ASISTENCIA!X26<>\"\"),SUMIF($F$13:$J$13,AD$13,$F27:$J27),\"\")","v":""},{"$f":"IF(AND(LEN($D27)>0,SUMIF($F$13:$J$13,AE$13,$F27:$J27)>0,ASISTENCIA!Y26<>\"X\",ASISTENCIA!Y26<>\"L\",ASISTENCIA!Y26<>\"J\",ASISTENCIA!Y26<>\"V\",ASISTENCIA!Y26<>\"F\",ASISTENCIA!Y26<>\"\"),SUMIF($F$13:$J$13,AE$13,$F27:$J27),\"\")","v":""},{"$f":"IF(AND(LEN($D27)>0,SUMIF($F$13:$J$13,AF$13,$F27:$J27)>0,ASISTENCIA!Z26<>\"X\",ASISTENCIA!Z26<>\"L\",ASISTENCIA!Z26<>\"J\",ASISTENCIA!Z26<>\"V\",ASISTENCIA!Z26<>\"F\",ASISTENCIA!Z26<>\"\"),SUMIF($F$13:$J$13,AF$13,$F27:$J27),\"\")","v":""},{"$f":"IF(AND(LEN($D27)>0,SUMIF($F$13:$J$13,AG$13,$F27:$J27)>0,ASISTENCIA!AA26<>\"X\",ASISTENCIA!AA26<>\"L\",ASISTENCIA!AA26<>\"J\",ASISTENCIA!AA26<>\"V\",ASISTENCIA!AA26<>\"F\",ASISTENCIA!AA26<>\"\"),SUMIF($F$13:$J$13,AG$13,$F27:$J27),\"\")","v":""},{"$f":"IF(AND(LEN($D27)>0,SUMIF($F$13:$J$13,AH$13,$F27:$J27)>0,ASISTENCIA!AB26<>\"X\",ASISTENCIA!AB26<>\"L\",ASISTENCIA!AB26<>\"J\",ASISTENCIA!AB26<>\"V\",ASISTENCIA!AB26<>\"F\",ASISTENCIA!AB26<>\"\"),SUMIF($F$13:$J$13,AH$13,$F27:$J27),\"\")","v":""},{"$f":"IF(AND(LEN($D27)>0,SUMIF($F$13:$J$13,AI$13,$F27:$J27)>0,ASISTENCIA!AC26<>\"X\",ASISTENCIA!AC26<>\"L\",ASISTENCIA!AC26<>\"J\",ASISTENCIA!AC26<>\"V\",ASISTENCIA!AC26<>\"F\",ASISTENCIA!AC26<>\"\"),SUMIF($F$13:$J$13,AI$13,$F27:$J27),\"\")","v":""},{"$f":"IF(AND(LEN($D27)>0,SUMIF($F$13:$J$13,AJ$13,$F27:$J27)>0,ASISTENCIA!AD26<>\"X\",ASISTENCIA!AD26<>\"L\",ASISTENCIA!AD26<>\"J\",ASISTENCIA!AD26<>\"V\",ASISTENCIA!AD26<>\"F\",ASISTENCIA!AD26<>\"\"),SUMIF($F$13:$J$13,AJ$13,$F27:$J27),\"\")","v":""},{"$f":"IF(AND(LEN($D27)>0,SUMIF($F$13:$J$13,AK$13,$F27:$J27)>0,ASISTENCIA!AE26<>\"X\",ASISTENCIA!AE26<>\"L\",ASISTENCIA!AE26<>\"J\",ASISTENCIA!AE26<>\"V\",ASISTENCIA!AE26<>\"F\",ASISTENCIA!AE26<>\"\"),SUMIF($F$13:$J$13,AK$13,$F27:$J27),\"\")","v":""},{"$f":"IF(AND(LEN($D27)>0,SUMIF($F$13:$J$13,AL$13,$F27:$J27)>0,ASISTENCIA!AF26<>\"X\",ASISTENCIA!AF26<>\"L\",ASISTENCIA!AF26<>\"J\",ASISTENCIA!AF26<>\"V\",ASISTENCIA!AF26<>\"F\",ASISTENCIA!AF26<>\"\"),SUMIF($F$13:$J$13,AL$13,$F27:$J27),\"\")","v":""},{"$f":"IF(AND(LEN($D27)>0,SUMIF($F$13:$J$13,AM$13,$F27:$J27)>0,ASISTENCIA!AG26<>\"X\",ASISTENCIA!AG26<>\"L\",ASISTENCIA!AG26<>\"J\",ASISTENCIA!AG26<>\"V\",ASISTENCIA!AG26<>\"F\",ASISTENCIA!AG26<>\"\"),SUMIF($F$13:$J$13,AM$13,$F27:$J27),\"\")","v":""},{"$f":"IF(AND(LEN($D27)>0,SUMIF($F$13:$J$13,AN$13,$F27:$J27)>0,ASISTENCIA!AH26<>\"X\",ASISTENCIA!AH26<>\"L\",ASISTENCIA!AH26<>\"J\",ASISTENCIA!AH26<>\"V\",ASISTENCIA!AH26<>\"F\",ASISTENCIA!AH26<>\"\"),SUMIF($F$13:$J$13,AN$13,$F27:$J27),\"\")","v":""},{"$f":"IF(AND(LEN($D27)>0,SUMIF($F$13:$J$13,AO$13,$F27:$J27)>0,ASISTENCIA!AI26<>\"X\",ASISTENCIA!AI26<>\"L\",ASISTENCIA!AI26<>\"J\",ASISTENCIA!AI26<>\"V\",ASISTENCIA!AI26<>\"F\",ASISTENCIA!AI26<>\"\"),SUMIF($F$13:$J$13,AO$13,$F27:$J27),\"\")","v":""},{"$f":"IF(AND(LEN($D27)>0,SUMIF($F$13:$J$13,AP$13,$F27:$J27)>0,ASISTENCIA!AJ26<>\"X\",ASISTENCIA!AJ26<>\"L\",ASISTENCIA!AJ26<>\"J\",ASISTENCIA!AJ26<>\"V\",ASISTENCIA!AJ26<>\"F\",ASISTENCIA!AJ26<>\"\"),SUMIF($F$13:$J$13,AP$13,$F27:$J27),\"\")","v":""},{"$f":"IF(AND(LEN($D27)>0,SUMIF($F$13:$J$13,AQ$13,$F27:$J27)>0,ASISTENCIA!AK26<>\"X\",ASISTENCIA!AK26<>\"L\",ASISTENCIA!AK26<>\"J\",ASISTENCIA!AK26<>\"V\",ASISTENCIA!AK26<>\"F\",ASISTENCIA!AK26<>\"\"),SUMIF($F$13:$J$13,AQ$13,$F27:$J27),\"\")","v":""},{"$f":"IF(AND(LEN($D27)>0,SUMIF($F$13:$J$13,AR$13,$F27:$J27)>0,ASISTENCIA!AL26<>\"X\",ASISTENCIA!AL26<>\"L\",ASISTENCIA!AL26<>\"J\",ASISTENCIA!AL26<>\"V\",ASISTENCIA!AL26<>\"F\",ASISTENCIA!AL26<>\"\"),SUMIF($F$13:$J$13,AR$13,$F27:$J27),\"\")","v":""},{"$f":"IF(AND(LEN($D27)>0,SUMIF($F$13:$J$13,AS$13,$F27:$J27)>0,ASISTENCIA!AM26<>\"X\",ASISTENCIA!AM26<>\"L\",ASISTENCIA!AM26<>\"J\",ASISTENCIA!AM26<>\"V\",ASISTENCIA!AM26<>\"F\",ASISTENCIA!AM26<>\"\"),SUMIF($F$13:$J$13,AS$13,$F27:$J27),\"\")","v":""},"",null,null,null,{"$f":"IF(AND(LEN($D27)>0,SUMIF($F$13:$J$13,AX$13,$F27:$J27)>0,ASISTENCIA!AU26<>\"X\",ASISTENCIA!AU26<>\"L\",ASISTENCIA!AU26<>\"J\",ASISTENCIA!AU26<>\"F\"),SUMIF($F$13:$J$13,AX$13,$F27:$J27),\"\")","v":""},{"$f":"IF(AND(LEN($D27)>0,SUMIF($F$13:$J$13,AY$13,$F27:$J27)>0,ASISTENCIA!AV26<>\"X\",ASISTENCIA!AV26<>\"L\",ASISTENCIA!AV26<>\"J\",ASISTENCIA!AV26<>\"F\"),SUMIF($F$13:$J$13,AY$13,$F27:$J27),\"\")","v":""},{"$f":"IF(AND(LEN($D27)>0,SUMIF($F$13:$J$13,AZ$13,$F27:$J27)>0,ASISTENCIA!AW26<>\"X\",ASISTENCIA!AW26<>\"L\",ASISTENCIA!AW26<>\"J\",ASISTENCIA!AW26<>\"F\"),SUMIF($F$13:$J$13,AZ$13,$F27:$J27),\"\")","v":""},{"$f":"IF(AND(LEN($D27)>0,SUMIF($F$13:$J$13,BA$13,$F27:$J27)>0,ASISTENCIA!AX26<>\"X\",ASISTENCIA!AX26<>\"L\",ASISTENCIA!AX26<>\"J\",ASISTENCIA!AX26<>\"F\"),SUMIF($F$13:$J$13,BA$13,$F27:$J27),\"\")","v":""},{"$f":"IF(AND(LEN($D27)>0,SUMIF($F$13:$J$13,BB$13,$F27:$J27)>0,ASISTENCIA!AY26<>\"X\",ASISTENCIA!AY26<>\"L\",ASISTENCIA!AY26<>\"J\",ASISTENCIA!AY26<>\"F\"),SUMIF($F$13:$J$13,BB$13,$F27:$J27),\"\")","v":""},{"$f":"IF(AND(LEN($D27)>0,SUMIF($F$13:$J$13,BC$13,$F27:$J27)>0,ASISTENCIA!AZ26<>\"X\",ASISTENCIA!AZ26<>\"L\",ASISTENCIA!AZ26<>\"J\",ASISTENCIA!AZ26<>\"F\"),SUMIF($F$13:$J$13,BC$13,$F27:$J27),\"\")","v":""},{"$f":"IF(AND(LEN($D27)>0,SUMIF($F$13:$J$13,BD$13,$F27:$J27)>0,ASISTENCIA!BA26<>\"X\",ASISTENCIA!BA26<>\"L\",ASISTENCIA!BA26<>\"J\",ASISTENCIA!BA26<>\"F\"),SUMIF($F$13:$J$13,BD$13,$F27:$J27),\"\")","v":""},{"$f":"IF(AND(LEN($D27)>0,SUMIF($F$13:$J$13,BE$13,$F27:$J27)>0,ASISTENCIA!BB26<>\"X\",ASISTENCIA!BB26<>\"L\",ASISTENCIA!BB26<>\"J\",ASISTENCIA!BB26<>\"F\"),SUMIF($F$13:$J$13,BE$13,$F27:$J27),\"\")","v":""},{"$f":"IF(AND(LEN($D27)>0,SUMIF($F$13:$J$13,BF$13,$F27:$J27)>0,ASISTENCIA!#REF!<>\"X\",ASISTENCIA!#REF!<>\"L\",ASISTENCIA!#REF!<>\"J\",ASISTENCIA!#REF!<>\"F\"),SUMIF($F$13:$J$13,BF$13,$F27:$J27),\"\")","v":{"$error":"#REF!"}},{"$f":"IF(AND(LEN($D27)>0,SUMIF($F$13:$J$13,BG$13,$F27:$J27)>0,ASISTENCIA!#REF!<>\"X\",ASISTENCIA!#REF!<>\"L\",ASISTENCIA!#REF!<>\"J\",ASISTENCIA!#REF!<>\"F\"),SUMIF($F$13:$J$13,BG$13,$F27:$J27),\"\")","v":{"$error":"#REF!"}},{"$f":"IF(AND(LEN($D27)>0,SUMIF($F$13:$J$13,BH$13,$F27:$J27)>0,ASISTENCIA!BE26<>\"X\",ASISTENCIA!BE26<>\"L\",ASISTENCIA!BE26<>\"J\",ASISTENCIA!BE26<>\"F\"),SUMIF($F$13:$J$13,BH$13,$F27:$J27),\"\")","v":""},{"$f":"IF(AND(LEN($D27)>0,SUMIF($F$13:$J$13,BI$13,$F27:$J27)>0,ASISTENCIA!BF26<>\"X\",ASISTENCIA!BF26<>\"L\",ASISTENCIA!BF26<>\"J\",ASISTENCIA!BF26<>\"F\"),SUMIF($F$13:$J$13,BI$13,$F27:$J27),\"\")","v":""},{"$f":"IF(AND(LEN($D27)>0,SUMIF($F$13:$J$13,BJ$13,$F27:$J27)>0,ASISTENCIA!BG26<>\"X\",ASISTENCIA!BG26<>\"L\",ASISTENCIA!BG26<>\"J\",ASISTENCIA!BG26<>\"F\"),SUMIF($F$13:$J$13,BJ$13,$F27:$J27),\"\")","v":""},{"$f":"IF(AND(LEN($D27)>0,SUMIF($F$13:$J$13,BK$13,$F27:$J27)>0,ASISTENCIA!BH26<>\"X\",ASISTENCIA!BH26<>\"L\",ASISTENCIA!BH26<>\"J\",ASISTENCIA!BH26<>\"F\"),SUMIF($F$13:$J$13,BK$13,$F27:$J27),\"\")","v":""},{"$f":"IF(AND(LEN($D27)>0,SUMIF($F$13:$J$13,BL$13,$F27:$J27)>0,ASISTENCIA!BI26<>\"X\",ASISTENCIA!BI26<>\"L\",ASISTENCIA!BI26<>\"J\",ASISTENCIA!BI26<>\"F\"),SUMIF($F$13:$J$13,BL$13,$F27:$J27),\"\")","v":""},{"$f":"IF(AND(LEN($D27)>0,SUMIF($F$13:$J$13,BM$13,$F27:$J27)>0,ASISTENCIA!BJ26<>\"X\",ASISTENCIA!BJ26<>\"L\",ASISTENCIA!BJ26<>\"J\",ASISTENCIA!BJ26<>\"F\"),SUMIF($F$13:$J$13,BM$13,$F27:$J27),\"\")","v":""},{"$f":"IF(AND(LEN($D27)>0,SUMIF($F$13:$J$13,BN$13,$F27:$J27)>0,ASISTENCIA!BK26<>\"X\",ASISTENCIA!BK26<>\"L\",ASISTENCIA!BK26<>\"J\",ASISTENCIA!BK26<>\"F\"),SUMIF($F$13:$J$13,BN$13,$F27:$J27),\"\")","v":""},{"$f":"IF(AND(LEN($D27)>0,SUMIF($F$13:$J$13,BO$13,$F27:$J27)>0,ASISTENCIA!BL26<>\"X\",ASISTENCIA!BL26<>\"L\",ASISTENCIA!BL26<>\"J\",ASISTENCIA!BL26<>\"F\"),SUMIF($F$13:$J$13,BO$13,$F27:$J27),\"\")","v":""},{"$f":"IF(AND(LEN($D27)>0,SUMIF($F$13:$J$13,BP$13,$F27:$J27)>0,ASISTENCIA!BM26<>\"X\",ASISTENCIA!BM26<>\"L\",ASISTENCIA!BM26<>\"J\",ASISTENCIA!BM26<>\"F\"),SUMIF($F$13:$J$13,BP$13,$F27:$J27),\"\")","v":""},{"$f":"IF(AND(LEN($D27)>0,SUMIF($F$13:$J$13,BQ$13,$F27:$J27)>0,ASISTENCIA!BN26<>\"X\",ASISTENCIA!BN26<>\"L\",ASISTENCIA!BN26<>\"J\",ASISTENCIA!BN26<>\"F\"),SUMIF($F$13:$J$13,BQ$13,$F27:$J27),\"\")","v":""},{"$f":"IF(AND(LEN($D27)>0,SUMIF($F$13:$J$13,BR$13,$F27:$J27)>0,ASISTENCIA!BO26<>\"X\",ASISTENCIA!BO26<>\"L\",ASISTENCIA!BO26<>\"J\",ASISTENCIA!BO26<>\"F\"),SUMIF($F$13:$J$13,BR$13,$F27:$J27),\"\")","v":""},{"$f":"IF(AND(LEN($D27)>0,SUMIF($F$13:$J$13,BS$13,$F27:$J27)>0,ASISTENCIA!BP26<>\"X\",ASISTENCIA!BP26<>\"L\",ASISTENCIA!BP26<>\"J\",ASISTENCIA!BP26<>\"F\"),SUMIF($F$13:$J$13,BS$13,$F27:$J27),\"\")","v":""},{"$f":"IF(AND(LEN($D27)>0,SUMIF($F$13:$J$13,BT$13,$F27:$J27)>0,ASISTENCIA!BQ26<>\"X\",ASISTENCIA!BQ26<>\"L\",ASISTENCIA!BQ26<>\"J\",ASISTENCIA!BQ26<>\"F\"),SUMIF($F$13:$J$13,BT$13,$F27:$J27),\"\")","v":""},{"$f":"IF(AND(LEN($D27)>0,SUMIF($F$13:$J$13,BU$13,$F27:$J27)>0,ASISTENCIA!BR26<>\"X\",ASISTENCIA!BR26<>\"L\",ASISTENCIA!BR26<>\"J\",ASISTENCIA!BR26<>\"F\"),SUMIF($F$13:$J$13,BU$13,$F27:$J27),\"\")","v":""},{"$f":"IF(AND(LEN($D27)>0,SUMIF($F$13:$J$13,BV$13,$F27:$J27)>0,ASISTENCIA!BS26<>\"X\",ASISTENCIA!BS26<>\"L\",ASISTENCIA!BS26<>\"J\",ASISTENCIA!BS26<>\"F\"),SUMIF($F$13:$J$13,BV$13,$F27:$J27),\"\")","v":""},{"$f":"IF(AND(LEN($D27)>0,SUMIF($F$13:$J$13,BW$13,$F27:$J27)>0,ASISTENCIA!BT26<>\"X\",ASISTENCIA!BT26<>\"L\",ASISTENCIA!BT26<>\"J\",ASISTENCIA!BT26<>\"F\"),SUMIF($F$13:$J$13,BW$13,$F27:$J27),\"\")","v":""},{"$f":"IF(AND(LEN($D27)>0,SUMIF($F$13:$J$13,BX$13,$F27:$J27)>0,ASISTENCIA!BU26<>\"X\",ASISTENCIA!BU26<>\"L\",ASISTENCIA!BU26<>\"J\",ASISTENCIA!BU26<>\"F\"),SUMIF($F$13:$J$13,BX$13,$F27:$J27),\"\")","v":""},{"$f":"IF(AND(LEN($D27)>0,SUMIF($F$13:$J$13,BY$13,$F27:$J27)>0,ASISTENCIA!BV26<>\"X\",ASISTENCIA!BV26<>\"L\",ASISTENCIA!BV26<>\"J\",ASISTENCIA!BV26<>\"F\"),SUMIF($F$13:$J$13,BY$13,$F27:$J27),\"\")","v":""},{"$f":"IF(AND(LEN($D27)>0,SUMIF($F$13:$J$13,BZ$13,$F27:$J27)>0,ASISTENCIA!BW26<>\"X\",ASISTENCIA!BW26<>\"L\",ASISTENCIA!BW26<>\"J\",ASISTENCIA!BW26<>\"F\"),SUMIF($F$13:$J$13,BZ$13,$F27:$J27),\"\")","v":""},{"$f":"IF(AND(LEN($D27)>0,SUMIF($F$13:$J$13,CA$13,$F27:$J27)>0,ASISTENCIA!BX26<>\"X\",ASISTENCIA!BX26<>\"L\",ASISTENCIA!BX26<>\"J\",ASISTENCIA!BX26<>\"F\"),SUMIF($F$13:$J$13,CA$13,$F27:$J27),\"\")","v":""},{"$f":"IF(AND(LEN($D27)>0,SUMIF($F$13:$J$13,CB$13,$F27:$J27)>0,ASISTENCIA!BY26<>\"X\",ASISTENCIA!BY26<>\"L\",ASISTENCIA!BY26<>\"J\",ASISTENCIA!BY26<>\"F\"),SUMIF($F$13:$J$13,CB$13,$F27:$J27),\"\")","v":""},{"$error":"#REF!"}]
["",{"$f":"IF(LEN(C28)>0,VLOOKUP($O$4,DATA!$A$1:$S$1,2,FALSE),\"\")","v":""},"",{"$f":"IF(LEN(ASISTENCIA!E27)>0,ASISTENCIA!E27,\"\")","v":""},{"$f":"IF(LEN(D28)>0,ASISTENCIA!F27,\"\")","v":""},null,null,null,null,null,"",null,null,{"$error":"#REF!"},{"$f":"IF(AND(LEN($D28)>0,SUMIF($F$13:$J$13,O$13,$F28:$J28)>0,ASISTENCIA!I27<>\"X\",ASISTENCIA!I27<>\"L\",ASISTENCIA!I27<>\"J\",ASISTENCIA!I27<>\"V\",ASISTENCIA!I27<>\"F\",ASISTENCIA!I27<>\"\"),SUMIF($F$13:$J$13,O$13,$F28:$J28),\"\")","v":""},{"$f":"IF(AND(LEN($D28)>0,SUMIF($F$13:$J$13,P$13,$F28:$J28)>0,ASISTENCIA!J27<>\"X\",ASISTENCIA!J27<>\"L\",ASISTENCIA!J27<>\"J\",ASISTENCIA!J27<>\"V\",ASISTENCIA!J27<>\"F\",ASISTENCIA!J27<>\"\"),SUMIF($F$13:$J$13,P$13,$F28:$J28),\"\")","v":""},{"$f":"IF(AND(LEN($D28)>0,SUMIF($F$13:$J$13,Q$13,$F28:$J28)>0,ASISTENCIA!K27<>\"X\",ASISTENCIA!K27<>\"L\",ASISTENCIA!K27<>\"J\",ASISTENCIA!K27<>\"V\",ASISTENCIA!K27<>\"F\",ASISTENCIA!K27<>\"\"),SUMIF($F$13:$J$13,Q$13,$F28:$J28),\"\")","v":""},{"$f":"IF(AND(LEN($D28)>0,SUMIF($F$13:$J$13,R$13,$F28:$J28)>0,ASISTENCIA!L27<>\"X\",ASISTENCIA!L27<>\"L\",ASISTENCIA!L27<>\"J\",ASISTENCIA!L27<>\"V\",ASISTENCIA!L27<>\"F\",ASISTENCIA!L27<>\"\"),SUMIF($F$13:$J$13,R$13,$F28:$J28),\"\")","v":""},{"$f":"IF(AND(LEN($D28)>0,SUMIF($F$13:$J$13,S$13,$F28:$J28)>0,ASISTENCIA!M27<>\"X\",ASISTENCIA!M27<>\"L\",ASISTENCIA!M27<>\"J\",ASISTENCIA!M27<>\"V\",ASISTENCIA!M27<>\"F\",ASISTENCIA!M27<>\"\"),SUMIF($F$13:$J$13,S$13,$F28:$J28),\"\")","v":""},{"$f":"IF(AND(LEN($D28)>0,SUMIF($F$13:$J$13,T$13,$F28:$J28)>0,ASISTENCIA!N27<>\"X\",ASISTENCIA!N27<>\"L\",ASISTENCIA!N27<>\"J\",ASISTENCIA!N27<>\"V\",ASISTENCIA!N27<>\"F\",ASISTENCIA!N27<>\"\"),SUMIF($F$13:$J$13,T$13,$F28:$J28),\"\")","v":""},{"$f":"IF(AND(LEN($D28)>0,SUMIF($F$13:$J$13,U$13,$F28:$J28)>0,ASISTENCIA!O27<>\"X\",ASISTENCIA!O27<>\"L\",ASISTENCIA!O27<>\"J\",ASISTENCIA!O27<>\"V\",ASISTENCIA!O27<>\"F\",ASISTENCIA!O27<>\"\"),SUMIF($F$13:$J$13,U$13,$F28:$J28),\"\")","v":""},{"$f":"IF(AND(LEN($D28)>0,SUMIF($F$13:$J$13,V$13,$F28:$J28)>0,ASISTENCIA!P27<>\"X\",ASISTENCIA!P27<>\"L\",ASISTENCIA!P27<>\"J\",ASISTENCIA!P27<>\"V\",ASISTENCIA!P27<>\"F\",ASISTENCIA!P27<>\"\"),SUMIF($F$13:$J$13,V$13,$F28:$J28),\"\")","v":""},{"$f":"IF(AND(LEN($D28)>0,SUMIF($F$13:$J$13,W$13,$F28:$J28)>0,ASISTENCIA!Q27<>\"X\",ASISTENCIA!Q27<>\"L\",ASISTENCIA!Q27<>\"J\",ASISTENCIA!Q27<>\"V\",ASISTENCIA!Q27<>\"F\",ASISTENCIA!Q27<>\"\"),SUMIF($F$13:$J$13,W$13,$F28:$J28),\"\")","v":""},{"$f":"IF(AND(LEN($D28)>0,SUMIF($F$13:$J$13,X$13,$F28:$J28)>0,ASISTENCIA!R27<>\"X\",ASISTENCIA!R27<>\"L\",ASISTENCIA!R27<>\"J\",ASISTENCIA!R27<>\"V\",ASISTENCIA!R27<>\"F\",ASISTENCIA!R27<>\"\"),SUMIF($F$13:$J$13,X$13,$F28:$J28),\"\")","v":""},{"$f":"IF(AND(LEN($D28)>0,SUMIF($F$13:$J$13,Y$13,$F28:$J28)>0,ASISTENCIA!S27<>\"X\",ASISTENCIA!S27<>\"L\",ASISTENCIA!S27<>\"J\",ASISTENCIA!S27<>\"V\",ASISTENCIA!S27<>\"F\",ASISTENCIA!S27<>\"\"),SUMIF($F$13:$J$13,Y$13,$F28:$J28),\"\")","v":""},{"$f":"IF(AND(LEN($D28)>0,SUMIF($F$13:$J$13,Z$13,$F28:$J28)>0,ASISTENCIA!T27<>\"X\",ASISTENCIA!T27<>\"L\",ASISTENCIA!T27<>\"J\",ASISTENCIA!T27<>\"V\",ASISTENCIA!T27<>\"F\",ASISTENCIA!T27<>\"\"),SUMIF($F$13:$J$13,Z$13,$F28:$J28),\"\")","v":""},{"$f":"IF(AND(LEN($D28)>0,SUMIF($F$13:$J$13,AA$13,$F28:$J28)>0,ASISTENCIA!U27<>\"X\",ASISTENCIA!U27<>\"L\",ASISTENCIA!U27<>\"J\",ASISTENCIA!U27<>\"V\",ASISTENCIA!U27<>\"F\",ASISTENCIA!U27<>\"\"),SUMIF($F$13:$J$13,AA$13,$F28:$J28),\"\")","v":""},{"$f":"IF(AND(LEN($D28)>0,SUMIF($F$13:$J$13,AB$13,$F28:$J28)>0,ASISTENCIA!V27<>\"X\",ASISTENCIA!V27<>\"L\",ASISTENCIA!V27<>\"J\",ASISTENCIA!V27<>\"V\",ASISTENCIA!V27<>\"F\",ASISTENCIA!V27<>\"\"),SUMIF($F$13:$J$13,AB$13,$F28:$J28),\"\")","v":""},{"$f":"IF(AND(LEN($D28)>0,SUMIF($F$13:$J$13,AC$13,$F28:$J28)>0,ASISTENCIA!W27<>\"X\",ASISTENCIA!W27<>\"L\",ASISTENCIA!W27<>\"J\",ASISTENCIA!W27<>\"V\",ASISTENCIA!W27<>\"F\",ASISTENCIA!W27<>\"\"),SUMIF($F$13:$J$13,AC$13,$F28:$J28),\"\")","v":""},{"$f":"IF(AND(LEN($D28)>0,SUMIF($F$13:$J$13,AD$13,$F28:$J28)>0,ASISTENCIA!X27<>\"X\",ASISTENCIA!X27<>\"L\",ASISTENCIA!X27<>\"J\",ASISTENCIA!X27<>\"V\",ASISTENCIA!X27<>\"F\",ASISTENCIA!X27<>\"\"),SUMIF($F$13:$J$13,AD$13,$F28:$J28),\"\")","v":""},{"$f":"IF(AND(LEN($D28)>0,SUMIF($F$13:$J$13,AE$13,$F28:$J28)>0,ASISTENCIA!Y27<>\"X\",ASISTENCIA!Y27<>\"L\",ASISTENCIA!Y27<>\"J\",ASISTENCIA!Y27<>\"V\",ASISTENCIA!Y27<>\"F\",ASISTENCIA!Y27<>\"\"),SUMIF($F$13:$J$13,AE$13,$F28:$J28),\"\")","v":""},{"$f":"IF(AND(LEN($D28)>0,SUMIF($F$13:$J$13,AF$13,$F28:$J28)>0,ASISTENCIA!Z27<>\"X\",ASISTENCIA!Z27<>\"L\",ASISTENCIA!Z27<>\"J\",ASISTENCIA!Z27<>\"V\",ASISTENCIA!Z27<>\"F\",ASISTENCIA!Z27<>\"\"),SUMIF($F$13:$J$13,AF$13,$F28:$J28),\"\")","v":""},{"$f":"IF(AND(LEN($D28)>0,SUMIF($F$13:$J$13,AG$13,$F28:$J28)>0,ASISTENCIA!AA27<>\"X\",ASISTENCIA!AA27<>\"L\",ASISTENCIA!AA27<>\"J\",ASISTENCIA!AA27<>\"V\",ASISTENCIA!AA27<>\"F\",ASISTENCIA!AA27<>\"\"),SUMIF($F$13:$J$13,AG$13,$F28:$J28),\"\")","v":""},{"$f":"IF(AND(LEN($D28)>0,SUMIF($F$13:$J$13,AH$13,$F28:$J28)>0,ASISTENCIA!AB27<>\"X\",ASISTENCIA!AB27<>\"L\",ASISTENCIA!AB27<>\"J\",ASISTENCIA!AB27<>\"V\",ASISTENCIA!AB27<>\"F\",ASISTENCIA!AB27<>\"\"),SUMIF($F$13:$J$13,AH$13,$F28:$J28),\"\")","v":""},{"$f":"IF(AND(LEN($D28)>0,SUMIF($F$13:$J$13,AI$13,$F28:$J28)>0,ASISTENCIA!AC27<>\"X\",ASISTENCIA!AC27<>\"L\",ASISTENCIA!AC27<>\"J\",ASISTENCIA!AC27<>\"V\",ASISTENCIA!AC27<>\"F\",ASISTENCIA!AC27<>\"\"),SUMIF($F$13:$J$13,AI$13,$F28:$J28),\"\")","v":""},{"$f":"IF(AND(LEN($D28)>0,SUMIF($F$13:$J$13,AJ$13,$F28:$J28)>0,ASISTENCIA!AD27<>\"X\",ASISTENCIA!AD27<>\"L\",ASISTENCIA!AD27<>\"J\",ASISTENCIA!AD27<>\"V\",ASISTENCIA!AD27<>\"F\",ASISTENCIA!AD27<>\"\"),SUMIF($F$13:$J$13,AJ$13,$F28:$J28),\"\")","v":""},{"$f":"IF(AND(LEN($D28)>0,SUMIF($F$13:$J$13,AK$13,$F28:$J28)>0,ASISTENCIA!AE27<>\"X\",ASISTENCIA!AE27<>\"L\",ASISTENCIA!AE27<>\"J\",ASISTENCIA!AE27<>\"V\",ASISTENCIA!AE27<>\"F\",ASISTENCIA!AE27<>\"\"),SUMIF($F$13:$J$13,AK$13,$F28:$J28),\"\")","v":""},{"$f":"IF(AND(LEN($D28)>0,SUMIF($F$13:$J$13,AL$13,$F28:$J28)>0,ASISTENCIA!AF27<>\"X\",ASISTENCIA!AF27<>\"L\",ASISTENCIA!AF27<>\"J\",ASISTENCIA!AF27<>\"V\",ASISTENCIA!AF27<>\"F\",ASISTENCIA!AF27<>\"\"),SUMIF($F$13:$J$13,AL$13,$F28:$J28),\"\")","v":""},{"$f":"IF(AND(LEN($D28)>0,SUMIF($F$13:$J$13,AM$13,$F28:$J28)>0,ASISTENCIA!AG27<>\"X\",ASISTENCIA!AG27<>\"L\",ASISTENCIA!AG27<>\"J\",ASISTENCIA!AG27<>\"V\",ASISTENCIA!AG27<>\"F\",ASISTENCIA!AG27<>\"\"),SUMIF($F$13:$J$13,AM$13,$F28:$J28),\"\")","v":""},{"$f":"IF(AND(LEN($D28)>0,SUMIF($F$13:$J$13,AN$13,$F28:$J28)>0,ASISTENCIA!AH27<>\"X\",ASISTENCIA!AH27<>\"L\",ASISTENCIA!AH27<>\"J\",ASISTENCIA!AH27<>\"V\",ASISTENCIA!AH27<>\"F\",ASISTENCIA!AH27<>\"\"),SUMIF($F$13:$J$13,AN$13,$F28:$J28),\"\")","v":""},{"$f":"IF(AND(LEN($D28)>0,SUMIF($F$13:$J$13,AO$13,$F28:$J28)>0,ASISTENCIA!AI27<>\"X\",ASISTENCIA!AI27<>\"L\",ASISTENCIA!AI27<>\"J\",ASISTENCIA!AI27<>\"V\",ASISTENCIA!AI27<>\"F\",ASISTENCIA!AI27<>\"\"),SUMIF($F$13:$J$13,AO$13,$F28:$J28),\"\")","v":""},{"$f":"IF(AND(LEN($D28)>0,SUMIF($F$13:$J$13,AP$13,$F28:$J28)>0,ASISTENCIA!AJ27<>\"X\",ASISTENCIA!AJ27<>\"L\",ASISTENCIA!AJ27<>\"J\",ASISTENCIA!AJ27<>\"V\",ASISTENCIA!AJ27<>\"F\",ASISTENCIA!AJ27<>\"\"),SUMIF($F$13:$J$13,AP$13,$F28:$J28),\"\")","v":""},{"$f":"IF(AND(LEN($D28)>0,SUMIF($F$13:$J$13,AQ$13,$F28:$J28)>0,ASISTENCIA!AK27<>\"X\",ASISTENCIA!AK27<>\"L\",ASISTENCIA!AK27<>\"J\",ASISTENCIA!AK27<>\"V\",ASISTENCIA!AK27<>\"F\",ASISTENCIA!AK27<>\"\"),SUMIF($F$13:$J$13,AQ$13,$F28:$J28),\"\")","v":""},{"$f":"IF(AND(LEN($D28)>0,SUMIF($F$13:$J$13,AR$13,$F28:$J28)>0,ASISTENCIA!AL27<>\"X\",ASISTENCIA!AL27<>\"L\",ASISTENCIA!AL27<>\"J\",ASISTENCIA!AL27<>\"V\",ASISTENCIA!AL27<>\"F\",ASISTENCIA!AL27<>\"\"),SUMIF($F$13:$J$13,AR$13,$F28:$J28),\"\")","v":""},{"$f":"IF(AND(LEN($D28)>0,SUMIF($F$13:$J$13,AS$13,$F28:$J28)>0,ASISTENCIA!AM27<>\"X\",ASISTENCIA!AM27<>\"L\",ASISTENCIA!AM27<>\"J\",ASISTENCIA!AM27<>\"V\",ASISTENCIA!AM27<>\"F\",ASISTENCIA!AM27<>\"\"),SUMIF($F$13:$J$13,AS$13,$F28:$J28),\"\")","v":""},"",null,null,null,{"$f":"IF(AND(LEN($D28)>0,SUMIF($F$13:$J$13,AX$13,$F28:$J28)>0,ASISTENCIA!AU27<>\"X\",ASISTENCIA!AU27<>\"L\",ASISTENCIA!AU27<>\"J\",ASISTENCIA!AU27<>\"F\"),SUMIF($F$13:$J$13,AX$13,$F28:$J28),\"\")","v":""},{"$f":"IF(AND(LEN($D28)>0,SUMIF($F$13:$J$13,AY$13,$F28:$J28)>0,ASISTENCIA!AV27<>\"X\",ASISTENCIA!AV27<>\"L\",ASISTENCIA!AV27<>\"J\",ASISTENCIA!AV27<>\"F\"),SUMIF($F$13:$J$13,AY$13,$F28:$J28),\"\")","v":""},{"$f":"IF(AND(LEN($D28)>0,SUMIF($F$13:$J$13,AZ$13,$F28:$J28)>0,ASISTENCIA!AW27<>\"X\",ASISTENCIA!AW27<>\"L\",ASISTENCIA!AW27<>\"J\",ASISTENCIA!AW27<>\"F\"),SUMIF($F$13:$J$13,AZ$13,$F28:$J28),\"\")","v":""},{"$f":"IF(AND(LEN($D28)>0,SUMIF($F$13:$J$13,BA$13,$F28:$J28)>0,ASISTENCIA!AX27<>\"X\",ASISTENCIA!AX27<>\"L\",ASISTENCIA!AX27<>\"J\",ASISTENCIA!AX27<>\"F\"),SUMIF($F$13:$J$13,BA$13,$F28:$J28),\"\")","v":""},{"$f":"IF(AND(LEN($D28)>0,SUMIF($F$13:$J$13,BB$13,$F28:$J28)>0,ASISTENCIA!AY27<>\"X\",ASISTENCIA!AY27<>\"L\",ASISTENCIA!AY27<>\"J\",ASISTENCIA!AY27<>\"F\"),SUMIF($F$13:$J$13,BB$13,$F28:$J28),\"\")","v":""},{"$f":"IF(AND(LEN($D28)>0,SUMIF($F$13:$J$13,BC$13,$F28:$J28)>0,ASISTENCIA!AZ27<>\"X\",ASISTENCIA!AZ27<>\"L\",ASISTENCIA!AZ27<>\"J\",ASISTENCIA!AZ27<>\"F\"),SUMIF($F$13:$J$13,BC$13,$F28:$J28),\"\")","v":""},{"$f":"IF(AND(LEN($D28)>0,SUMIF($F$13:$J$13,BD$13,$F28:$J28)>0,ASISTENCIA!BA27<>\"X\",ASISTENCIA!BA27<>\"L\",ASISTENCIA!BA27<>\"J\",ASISTENCIA!BA27<>\"F\"),SUMIF($F$13:$J$13,BD$13,$F28:$J28),\"\")","v":""},{"$f":"IF(AND(LEN($D28)>0,SUMIF($F$13:$J$13,BE$13,$F28:$J28)>0,ASISTENCIA!BB27<>\"X\",ASISTENCIA!BB27<>\"L\",ASISTENCIA!BB27<>\"J\",ASISTENCIA!BB27<>\"F\"),SUMIF($F$13:$J$13,BE$13,$F28:$J28),\"\")","v":""},{"$f":"IF(AND(LEN($D28)>0,SUMIF($F$13:$J$13,BF$13,$F28:$J28)>0,ASISTENCIA!#REF!<>\"X\",ASISTENCIA!#REF!<>\"L\",ASISTENCIA!#REF!<>\"J\",ASISTENCIA!#REF!<>\"F\"),SUMIF($F$13:$J$13,BF$13,$F28:$J28),\"\")","v":{"$error":"#REF!"}},{"$f":"IF(AND(LEN($D28)>0,SUMIF($F$13:$J$13,BG$13,$F28:$J28)>0,ASISTENCIA!#REF!<>\"X\",ASISTENCIA!#REF!<>\"L\",ASISTENCIA!#REF!<>\"J\",ASISTENCIA!#REF!<>\"F\"),SUMIF($F$13:$J$13,BG$13,$F28:$J28),\"\")","v":{"$error":"#REF!"}},{"$f":"IF(AND(LEN($D28)>0,SUMIF($F$13:$J$13,BH$13,$F28:$J28)>0,ASISTENCIA!BE27<>\"X\",ASISTENCIA!BE27<>\"L\",ASISTENCIA!BE27<>\"J\",ASISTENCIA!BE27<>\"F\"),SUMIF($F$13:$J$13,BH$13,$F28:$J28),\"\")","v":""},{"$f":"IF(AND(LEN($D28)>0,SUMIF($F$13:$J$13,BI$13,$F28:$J28)>0,ASISTENCIA!BF27<>\"X\",ASISTENCIA!BF27<>\"L\",ASISTENCIA!BF27<>\"J\",ASISTENCIA!BF27<>\"F\"),SUMIF($F$13:$J$13,BI$13,$F28:$J28),\"\")","v":""},{"$f":"IF(AND(LEN($D28)>0,SUMIF($F$13:$J$13,BJ$13,$F28:$J28)>0,ASISTENCIA!BG27<>\"X\",ASISTENCIA!BG27<>\"L\",ASISTENCIA!BG27<>\"J\",ASISTENCIA!BG27<>\"F\"),SUMIF($F$13:$J$13,BJ$13,$F28:$J28),\"\")","v":""},{"$f":"IF(AND(LEN($D28)>0,SUMIF($F$13:$J$13,BK$13,$F28:$J28)>0,ASISTENCIA!BH27<>\"X\",ASISTENCIA!BH27<>\"L\",ASISTENCIA!BH27<>\"J\",ASISTENCIA!BH27<>\"F\"),SUMIF($F$13:$J$13,BK$13,$F28:$J28),\"\")","v":""},{"$f":"IF(AND(LEN($D28)>0,SUMIF($F$13:$J$13,BL$13,$F28:$J28)>0,ASISTENCIA!BI27<>\"X\",ASISTENCIA!BI27<>\"L\",ASISTENCIA!BI27<>\"J\",ASISTENCIA!BI27<>\"F\"),SUMIF($F$13:$J$13,BL$13,$F28:$J28),\"\")","v":""},{"$f":"IF(AND(LEN($D28)>0,SUMIF($F$13:$J$13,BM$13,$F28:$J28)>0,ASISTENCIA!BJ27<>\"X\",ASISTENCIA!BJ27<>\"L\",ASISTENCIA!BJ27<>\"J\",ASISTENCIA!BJ27<>\"F\"),SUMIF($F$13:$J$13,BM$13,$F28:$J28),\"\")","v":""},{"$f":"IF(AND(LEN($D28)>0,SUMIF($F$13:$J$13,BN$13,$F28:$J28)>0,ASISTENCIA!BK27<>\"X\",ASISTENCIA!BK27<>\"L\",ASISTENCIA!BK27<>\"J\",ASISTENCIA!BK27<>\"F\"),SUMIF($F$13:$J$13,BN$13,$F28:$J28),\"\")","v":""},{"$f":"IF(AND(LEN($D28)>0,SUMIF($F$13:$J$13,BO$13,$F28:$J28)>0,ASISTENCIA!BL27<>\"X\",ASISTENCIA!BL27<>\"L\",ASISTENCIA!BL27<>\"J\",ASISTENCIA!BL27<>\"F\"),SUMIF($F$13:$J$13,BO$13,$F28:$J28),\"\")","v":""},{"$f":"IF(AND(LEN($D28)>0,SUMIF($F$13:$J$13,BP$13,$F28:$J28)>0,ASISTENCIA!BM27<>\"X\",ASISTENCIA!BM27<>\"L\",ASISTENCIA!BM27<>\"J\",ASISTENCIA!BM27<>\"F\"),SUMIF($F$13:$J$13,BP$13,$F28:$J28),\"\")","v":""},{"$f":"IF(AND(LEN($D28)>0,SUMIF($F$13:$J$13,BQ$13,$F28:$J28)>0,ASISTENCIA!BN27<>\"X\",ASISTENCIA!BN27<>\"L\",ASISTENCIA!BN27<>\"J\",ASISTENCIA!BN27<>\"F\"),SUMIF($F$13:$J$13,BQ$13,$F28:$J28),\"\")","v":""},{"$f":"IF(AND(LEN($D28)>0,SUMIF($F$13:$J$13,BR$13,$F28:$J28)>0,ASISTENCIA!BO27<>\"X\",ASISTENCIA!BO27<>\"L\",ASISTENCIA!BO27<>\"J\",ASISTENCIA!BO27<>\"F\"),SUMIF($F$13:$J$13,BR$13,$F28:$J28),\"\")","v":""},{"$f":"IF(AND(LEN($D28)>0,SUMIF($F$13:$J$13,BS$13,$F28:$J28)>0,ASISTENCIA!BP27<>\"X\",ASISTENCIA!BP27<>\"L\",ASISTENCIA!BP27<>\"J\",ASISTENCIA!BP27<>\"F\"),SUMIF($F$13:$J$13,BS$13,$F28:$J28),\"\")","v":""},{"$f":"IF(AND(LEN($D28)>0,SUMIF($F$13:$J$13,BT$13,$F28:$J28)>0,ASISTENCIA!BQ27<>\"X\",ASISTENCIA!BQ27<>\"L\",ASISTENCIA!BQ27<>\"J\",ASISTENCIA!BQ27<>\"F\"),SUMIF($F$13:$J$13,BT$13,$F28:$J28),\"\")","v":""},{"$f":"IF(AND(LEN($D28)>0,SUMIF($F$13:$J$13,BU$13,$F28:$J28)>0,ASISTENCIA!BR27<>\"X\",ASISTENCIA!BR27<>\"L\",ASISTENCIA!BR27<>\"J\",ASISTENCIA!BR27<>\"F\"),SUMIF($F$13:$J$13,BU$13,$F28:$J28),\"\")","v":""},{"$f":"IF(AND(LEN($D28)>0,SUMIF($F$13:$J$13,BV$13,$F28:$J28)>0,ASISTENCIA!BS27<>\"X\",ASISTENCIA!BS27<>\"L\",ASISTENCIA!BS27<>\"J\",ASISTENCIA!BS27<>\"F\"),SUMIF($F$13:$J$13,BV$13,$F28:$J28),\"\")","v":""},{"$f":"IF(AND(LEN($D28)>0,SUMIF($F$13:$J$13,BW$13,$F28:$J28)>0,ASISTENCIA!BT27<>\"X\",ASISTENCIA!BT27<>\"L\",ASISTENCIA!BT27<>\"J\",ASISTENCIA!BT27<>\"F\"),SUMIF($F$13:$J$13,BW$13,$F28:$J28),\"\")","v":""},{"$f":"IF(AND(LEN($D28)>0,SUMIF($F$13:$J$13,BX$13,$F28:$J28)>0,ASISTENCIA!BU27<>\"X\",ASISTENCIA!BU27<>\"L\",ASISTENCIA!BU27<>\"J\",ASISTENCIA!BU27<>\"F\"),SUMIF($F$13:$J$13,BX$13,$F28:$J28),\"\")","v":""},{"$f":"IF(AND(LEN($D28)>0,SUMIF($F$13:$J$13,BY$13,$F28:$J28)>0,ASISTENCIA!BV27<>\"X\",ASISTENCIA!BV27<>\"L\",ASISTENCIA!BV27<>\"J\",ASISTENCIA!BV27<>\"F\"),SUMIF($F$13:$J$13,BY$13,$F28:$J28),\"\")","v":""},{"$f":"IF(AND(LEN($D28)>0,SUMIF($F$13:$J$13,BZ$13,$F28:$J28)>0,ASISTENCIA!BW27<>\"X\",ASISTENCIA!BW27<>\"L\",ASISTENCIA!BW27<>\"J\",ASISTENCIA!BW27<>\"F\"),SUMIF($F$13:$J$13,BZ$13,$F28:$J28),\"\")","v":""},{"$f":"IF(AND(LEN($D28)>0,SUMIF($F$13:$J$13,CA$13,$F28:$J28)>0,ASISTENCIA!BX27<>\"X\",ASISTENCIA!BX27<>\"L\",ASISTENCIA!BX27<>\"J\",ASISTENCIA!BX27<>\"F\"),SUMIF($F$13:$J$13,CA$13,$F28:$J28),\"\")","v":""},{"$f":"IF(AND(LEN($D28)>0,SUMIF($F$13:$J$13,CB$13,$F28:$J28)>0,ASISTENCIA!BY27<>\"X\",ASISTENCIA!BY27<>\"L\",ASISTENCIA!BY27<>\"J\",ASISTENCIA!BY27<>\"F\"),SUMIF($F$13:$J$13,CB$13,$F28:$J28),\"\")","v":""},{"$error":"#REF!"}]
["",{"$f":"IF(LEN(C29)>0,VLOOKUP($O$4,DATA!$A$1:$S$1,2,FALSE),\"\")","v":""},"",{"$f":"IF(LEN(ASISTENCIA!E28)>0,ASISTENCIA!E28,\"\")","v":""},{"$f":"IF(LEN(D29)>0,ASISTENCIA!F28,\"\")","v":""},null,null,null,null,null,"",null,null,{"$error":"#REF!"},{"$f":"IF(AND(LEN($D29)>0,SUMIF($F$13:$J$13,O$13,$F29:$J29)>0,ASISTENCIA!I28<>\"X\",ASISTENCIA!I28<>\"L\",ASISTENCIA!I28<>\"J\",ASISTENCIA!I28<>\"V\",ASISTENCIA!I28<>\"F\",ASISTENCIA!I28<>\"\"),SUMIF($F$13:$J$13,O$13,$F29:$J29),\"\")","v":""},{"$f":"IF(AND(LEN($D29)>0,SUMIF($F$13:$J$13,P$13,$F29:$J29)>0,ASISTENCIA!J28<>\"X\",ASISTENCIA!J28<>\"L\",ASISTENCIA!J28<>\"J\",ASISTENCIA!J28<>\"V\",ASISTENCIA!J28<>\"F\",ASISTENCIA!J28<>\"\"),SUMIF($F$13:$J$13,P$13,$F29:$J29),\"\")","v":""},{"$f":"IF(AND(LEN($D29)>0,SUMIF($F$13:$J$13,Q$13,$F29:$J29)>0,ASISTENCIA!K28<>\"X\",ASISTENCIA!K28<>\"L\",ASISTENCIA!K28<>\"J\",ASISTENCIA!K28<>\"V\",ASISTENCIA!K28<>\"F\",ASISTENCIA!K28<>\"\"),SUMIF($F$13:$J$13,Q$13,$F29:$J29),\"\")","v":""},{"$f":"IF(AND(LEN($D29)>0,SUMIF($F$13:$J$13,R$13,$F29:$J29)>0,ASISTENCIA!L28<>\"X\",ASISTENCIA!L28<>\"L\",ASISTENCIA!L28<>\"J\",ASISTENCIA!L28<>\"V\",ASISTENCIA!L28<>\"F\",ASISTENCIA!L28<>\"\"),SUMIF($F$13:$J$13,R$13,$F29:$J29),\"\")","v":""},{"$f":"IF(AND(LEN($D29)>0,SUMIF($F$13:$J$13,S$13,$F29:$J29)>0,ASISTENCIA!M28<>\"X\",ASISTENCIA!M28<>\"L\",ASISTENCIA!M28<>\"J\",ASISTENCIA!M28<>\"V\",ASISTENCIA!M28<>\"F\",ASISTENCIA!M28<>\"\"),SUMIF($F$13:$J$13,S$13,$F29:$J29),\"\")","v":""},{"$f":"IF(AND(LEN($D29)>0,SUMIF($F$13:$J$13,T$13,$F29:$J29)>0,ASISTENCIA!N28<>\"X\",ASISTENCIA!N28<>\"L\",ASISTENCIA!N28<>\"J\",ASISTENCIA!N28<>\"V\",ASISTENCIA!N28<>\"F\",ASISTENCIA!N28<>\"\"),SUMIF($F$13:$J$13,T$13,$F29:$J29),\"\")","v":""},{"$f":"IF(AND(LEN($D29)>0,SUMIF($F$13:$J$13,U$13,$F29:$J29)>0,ASISTENCIA!O28<>\"X\",ASISTENCIA!O28<>\"L\",ASISTENCIA!O28<>\"J\",ASISTENCIA!O28<>\"V\",ASISTENCIA!O28<>\"F\",ASISTENCIA!O28<>\"\"),SUMIF($F$13:$J$13,U$13,$F29:$J29),\"\")","v":""},{"$f":"IF(AND(LEN($D29)>0,SUMIF($F$13:$J$13,V$13,$F29:$J29)>0,ASISTENCIA!P28<>\"X\",ASISTENCIA!P28<>\"L\",ASISTENCIA!P28<>\"J\",ASISTENCIA!P28<>\"V\",ASISTENCIA!P28<>\"F\",ASISTENCIA!P28<>\"\"),SUMIF($F$13:$J$13,V$13,$F29:$J29),\"\")","v":""},{"$f":"IF(AND(LEN($D29)>0,SUMIF($F$13:$J$13,W$13,$F29:$J29)>0,ASISTENCIA!Q28<>\"X\",ASISTENCIA!Q28<>\"L\",ASISTENCIA!Q28<>\"J\",ASISTENCIA!Q28<>\"V\",ASISTENCIA!Q28<>\"F\",ASISTENCIA!Q28<>\"\"),SUMIF($F$13:$J$13,W$13,$F29:$J29),\"\")","v":""},{"$f":"IF(AND(LEN($D29)>0,SUMIF($F$13:$J$13,X$13,$F29:$J29)>0,ASISTENCIA!R28<>\"X\",ASISTENCIA!R28<>\"L\",ASISTENCIA!R28<>\"J\",ASISTENCIA!R28<>\"V\",ASISTENCIA!R28<>\"F\",ASISTENCIA!R28<>\"\"),SUMIF($F$13:$J$13,X$13,$F29:$J29),\"\")","v":""},{"$f":"IF(AND(LEN($D29)>0,SUMIF($F$13:$J$13,Y$13,$F29:$J29)>0,ASISTENCIA!S28<>\"X\",ASISTENCIA!S28<>\"L\",ASISTENCIA!S28<>\"J\",ASISTENCIA!S28<>\"V\",ASISTENCIA!S28<>\"F\",ASISTENCIA!S28<>\"\"),SUMIF($F$13:$J$13,Y$13,$F29:$J29),\"\")","v":""},{"$f":"IF(AND(LEN($D29)>0,SUMIF($F$13:$J$13,Z$13,$F29:$J29)>0,ASISTENCIA!T28<>\"X\",ASISTENCIA!T28<>\"L\",ASISTENCIA!T28<>\"J\",ASISTENCIA!T28<>\"V\",ASISTENCIA!T28<>\"F\",ASISTENCIA!T28<>\"\"),SUMIF($F$13:$J$13,Z$13,$F29:$J29),\"\")","v":""},{"$f":"IF(AND(LEN($D29)>0,SUMIF($F$13:$J$13,AA$13,$F29:$J29)>0,ASISTENCIA!U28<>\"X\",ASISTENCIA!U28<>\"L\",ASISTENCIA!U28<>\"J\",ASISTENCIA!U28<>\"V\",ASISTENCIA!U28<>\"F\",ASISTENCIA!U28<>\"\"),SUMIF($F$13:$J$13,AA$13,$F29:$J29),\"\")","v":""},{"$f":"IF(AND(LEN($D29)>0,SUMIF($F$13:$J$13,AB$13,$F29:$J29)>0,ASISTENCIA!V28<>\"X\",ASISTENCIA!V28<>\"L\",ASISTENCIA!V28<>\"J\",ASISTENCIA!V28<>\"V\",ASISTENCIA!V28<>\"F\",ASISTENCIA!V28<>\"\"),SUMIF($F$13:$J$13,AB$13,$F29:$J29),\"\")","v":""},{"$f":"IF(AND(LEN($D29)>0,SUMIF($F$13:$J$13,AC$13,$F29:$J29)>0,ASISTENCIA!W28<>\"X\",ASISTENCIA!W28<>\"L\",ASISTENCIA!W28<>\"J\",ASISTENCIA!W28<>\"V\",ASISTENCIA!W28<>\"F\",ASISTENCIA!W28<>\"\"),SUMIF($F$13:$J$13,AC$13,$F29:$J29),\"\")","v":""},{"$f":"IF(AND(LEN($D29)>0,SUMIF($F$13:$J$13,AD$13,$F29:$J29)>0,ASISTENCIA!X28<>\"X\",ASISTENCIA!X28<>\"L\",ASISTENCIA!X28<>\"J\",ASISTENCIA!X28<>\"V\",ASISTENCIA!X28<>\"F\",ASISTENCIA!X28<>\"\"),SUMIF($F$13:$J$13,AD$13,$F29:$J29),\"\")","v":""},{"$f":"IF(AND(LEN($D29)>0,SUMIF($F$13:$J$13,AE$13,$F29:$J29)>0,ASISTENCIA!Y28<>\"X\",ASISTENCIA!Y28<>\"L\",ASISTENCIA!Y28<>\"J\",ASISTENCIA!Y28<>\"V\",ASISTENCIA!Y28<>\"F\",ASISTENCIA!Y28<>\"\"),SUMIF($F$13:$J$13,AE$13,$F29:$J29),\"\")","v":""},{"$f":"IF(AND(LEN($D29)>0,SUMIF($F$13:$J$13,AF$13,$F29:$J29)>0,ASISTENCIA!Z28<>\"X\",ASISTENCIA!Z28<>\"L\",ASISTENCIA!Z28<>\"J\",ASISTENCIA!Z28<>\"V\",ASISTENCIA!Z28<>\"F\",ASISTENCIA!Z28<>\"\"),SUMIF($F$13:$J$13,AF$13,$F29:$J29),\"\")","v":""},{"$f":"IF(AND(LEN($D29)>0,SUMIF($F$13:$J$13,AG$13,$F29:$J29)>0,ASISTENCIA!AA28<>\"X\",ASISTENCIA!AA28<>\"L\",ASISTENCIA!AA28<>\"J\",ASISTENCIA!AA28<>\"V\",ASISTENCIA!AA28<>\"F\",ASISTENCIA!AA28<>\"\"),SUMIF($F$13:$J$13,AG$13,$F29:$J29),\"\")","v":""},{"$f":"IF(AND(LEN($D29)>0,SUMIF($F$13:$J$13,AH$13,$F29:$J29)>0,ASISTENCIA!AB28<>\"X\",ASISTENCIA!AB28<>\"L\",ASISTENCIA!AB28<>\"J\",ASISTENCIA!AB28<>\"V\",ASISTENCIA!AB28<>\"F\",ASISTENCIA!AB28<>\"\"),SUMIF($F$13:$J$13,AH$13,$F29:$J29),\"\")","v":""},{"$f":"IF(AND(LEN($D29)>0,SUMIF($F$13:$J$13,AI$13,$F29:$J29)>0,ASISTENCIA!AC28<>\"X\",ASISTENCIA!AC28<>\"L\",ASISTENCIA!AC28<>\"J\",ASISTENCIA!AC28<>\"V\",ASISTENCIA!AC28<>\"F\",ASISTENCIA!AC28<>\"\"),SUMIF($F$13:$J$13,AI$13,$F29:$J29),\"\")","v":""},{"$f":"IF(AND(LEN($D29)>0,SUMIF($F$13:$J$13,AJ$13,$F29:$J29)>0,ASISTENCIA!AD28<>\"X\",ASISTENCIA!AD28<>\"L\",ASISTENCIA!AD28<>\"J\",ASISTENCIA!AD28<>\"V\",ASISTENCIA!AD28<>\"F\",ASISTENCIA!AD28<>\"\"),SUMIF($F$13:$J$13,AJ$13,$F29:$J29),\"\")","v":""},{"$f":"IF(AND(LEN($D29)>0,SUMIF($F$13:$J$13,AK$13,$F29:$J29)>0,ASISTENCIA!AE28<>\"X\",ASISTENCIA!AE28<>\"L\",ASISTENCIA!AE28<>\"J\",ASISTENCIA!AE28<>\"V\",ASISTENCIA!AE28<>\"F\",ASISTENCIA!AE28<>\"\"),SUMIF($F$13:$J$13,AK$13,$F29:$J29),\"\")","v":""},{"$f":"IF(AND(LEN($D29)>0,SUMIF($F$13:$J$13,AL$13,$F29:$J29)>0,ASISTENCIA!AF28<>\"X\",ASISTENCIA!AF28<>\"L\",ASISTENCIA!AF28<>\"J\",ASISTENCIA!AF28<>\"V\",ASISTENCIA!AF28<>\"F\",ASISTENCIA!AF28<>\"\"),SUMIF($F$13:$J$13,AL$13,$F29:$J29),\"\")","v":""},{"$f":"IF(AND(LEN($D29)>0,SUMIF($F$13:$J$13,AM$13,$F29:$J29)>0,ASISTENCIA!AG28<>\"X\",ASISTENCIA!AG28<>\"L\",ASISTENCIA!AG28<>\"J\",ASISTENCIA!AG28<>\"V\",ASISTENCIA!AG28<>\"F\",ASISTENCIA!AG28<>\"\"),SUMIF($F$13:$J$13,AM$13,$F29:$J29),\"\")","v":""},{"$f":"IF(AND(LEN($D29)>0,SUMIF($F$13:$J$13,AN$13,$F29:$J29)>0,ASISTENCIA!AH28<>\"X\",ASISTENCIA!AH28<>\"L\",ASISTENCIA!AH28<>\"J\",ASISTENCIA!AH28<>\"V\",ASISTENCIA!AH28<>\"F\",ASISTENCIA!AH28<>\"\"),SUMIF($F$13:$J$13,AN$13,$F29:$J29),\"\")","v":""},{"$f":"IF(AND(LEN($D29)>0,SUMIF($F$13:$J$13,AO$13,$F29:$J29)>0,ASISTENCIA!AI28<>\"X\",ASISTENCIA!AI28<>\"L\",ASISTENCIA!AI28<>\"J\",ASISTENCIA!AI28<>\"V\",ASISTENCIA!AI28<>\"F\",ASISTENCIA!AI28<>\"\"),SUMIF($F$13:$J$13,AO$13,$F29:$J29),\"\")","v":""},{"$f":"IF(AND(LEN($D29)>0,SUMIF($F$13:$J$13,AP$13,$F29:$J29)>0,ASISTENCIA!AJ28<>\"X\",ASISTENCIA!AJ28<>\"L\",ASISTENCIA!AJ28<>\"J\",ASISTENCIA!AJ28<>\"V\",ASISTENCIA!AJ28<>\"F\",ASISTENCIA!AJ28<>\"\"),SUMIF($F$13:$J$13,AP$13,$F29:$J29),\"\")","v":""},{"$f":"IF(AND(LEN($D29)>0,SUMIF($F$13:$J$13,AQ$13,$F29:$J29)>0,ASISTENCIA!AK28<>\"X\",ASISTENCIA!AK28<>\"L\",ASISTENCIA!AK28<>\"J\",ASISTENCIA!AK28<>\"V\",ASISTENCIA!AK28<>\"F\",ASISTENCIA!AK28<>\"\"),SUMIF($F$13:$J$13,AQ$13,$F29:$J29),\"\")","v":""},{"$f":"IF(AND(LEN($D29)>0,SUMIF($F$13:$J$13,AR$13,$F29:$J29)>0,ASISTENCIA!AL28<>\"X\",ASISTENCIA!AL28<>\"L\",ASISTENCIA!AL28<>\"J\",ASISTENCIA!AL28<>\"V\",ASISTENCIA!AL28<>\"F\",ASISTENCIA!AL28<>\"\"),SUMIF($F$13:$J$13,AR$13,$F29:$J29),\"\")","v":""},{"$f":"IF(AND(LEN($D29)>0,SUMIF($F$13:$J$13,AS$13,$F29:$J29)>0,ASISTENCIA!AM28<>\"X\",ASISTENCIA!AM28<>\"L\",ASISTENCIA!AM28<>\"J\",ASISTENCIA!AM28<>\"V\",ASISTENCIA!AM28<>\"F\",ASISTENCIA!AM28<>\"\"),SUMIF($F$13:$J$13,AS$13,$F29:$J29),\"\")","v":""},"",null,null,null,{"$f":"IF(AND(LEN($D29)>0,SUMIF($F$13:$J$13,AX$13,$F29:$J29)>0,ASISTENCIA!AU28<>\"X\",ASISTENCIA!AU28<>\"L\",ASISTENCIA!AU28<>\"J\",ASISTENCIA!AU28<>\"F\"),SUMIF($F$13:$J$13,AX$13,$F29:$J29),\"\")","v":""},{"$f":"IF(AND(LEN($D29)>0,SUMIF($F$13:$J$13,AY$13,$F29:$J29)>0,ASISTENCIA!AV28<>\"X\",ASISTENCIA!AV28<>\"L\",ASISTENCIA!AV28<>\"J\",ASISTENCIA!AV28<>\"F\"),SUMIF($F$13:$J$13,AY$13,$F29:$J29),\"\")","v":""},{"$f":"IF(AND(LEN($D29)>0,SUMIF($F$13:$J$13,AZ$13,$F29:$J29)>0,ASISTENCIA!AW28<>\"X\",ASISTENCIA!AW28<>\"L\",ASISTENCIA!AW28<>\"J\",ASISTENCIA!AW28<>\"F\"),SUMIF($F$13:$J$13,AZ$13,$F29:$J29),\"\")","v":""},{"$f":"IF(AND(LEN($D29)>0,SUMIF($F$13:$J$13,BA$13,$F29:$J29)>0,ASISTENCIA!AX28<>\"X\",ASISTENCIA!AX28<>\"L\",ASISTENCIA!AX28<>\"J\",ASISTENCIA!AX28<>\"F\"),SUMIF($F$13:$J$13,BA$13,$F29:$J29),\"\")","v":""},{"$f":"IF(AND(LEN($D29)>0,SUMIF($F$13:$J$13,BB$13,$F29:$J29)>0,ASISTENCIA!AY28<>\"X\",ASISTENCIA!AY28<>\"L\",ASISTENCIA!AY28<>\"J\",ASISTENCIA!AY28<>\"F\"),SUMIF($F$13:$J$13,BB$13,$F29:$J29),\"\")","v":""},{"$f":"IF(AND(LEN($D29)>0,SUMIF($F$13:$J$13,BC$13,$F29:$J29)>0,ASISTENCIA!AZ28<>\"X\",ASISTENCIA!AZ28<>\"L\",ASISTENCIA!AZ28<>\"J\",ASISTENCIA!AZ28<>\"F\"),SUMIF($F$13:$J$13,BC$13,$F29:$J29),\"\")","v":""},{"$f":"IF(AND(LEN($D29)>0,SUMIF($F$13:$J$13,BD$13,$F29:$J29)>0,ASISTENCIA!BA28<>\"X\",ASISTENCIA!BA28<>\"L\",ASISTENCIA!BA28<>\"J\",ASISTENCIA!BA28<>\"F\"),SUMIF($F$13:$J$13,BD$13,$F29:$J29),\"\")","v":""},{"$f":"IF(AND(LEN($D29)>0,SUMIF($F$13:$J$13,BE$13,$F29:$J29)>0,ASISTENCIA!BB28<>\"X\",ASISTENCIA!BB28<>\"L\",ASISTENCIA!BB28<>\"J\",ASISTENCIA!BB28<>\"F\"),SUMIF($F$13:$J$13,BE$13,$F29:$J29),\"\")","v":""},{"$f":"IF(AND(LEN($D29)>0,SUMIF($F$13:$J$13,BF$13,$F29:$J29)>0,ASISTENCIA!#REF!<>\"X\",ASISTENCIA!#REF!<>\"L\",ASISTENCIA!#REF!<>\"J\",ASISTENCIA!#REF!<>\"F\"),SUMIF($F$13:$J$13,BF$13,$F29:$J29),\"\")","v":{"$error":"#REF!"}},{"$f":"IF(AND(LEN($D29)>0,SUMIF($F$13:$J$13,BG$13,$F29:$J29)>0,ASISTENCIA!#REF!<>\"X\",ASISTENCIA!#REF!<>\"L\",ASISTENCIA!#REF!<>\"J\",ASISTENCIA!#REF!<>\"F\"),SUMIF($F$13:$J$13,BG$13,$F29:$J29),\"\")","v":{"$error":"#REF!"}},{"$f":"IF(AND(LEN($D29)>0,SUMIF($F$13:$J$13,BH$13,$F29:$J29)>0,ASISTENCIA!BE28<>\"X\",ASISTENCIA!BE28<>\"L\",ASISTENCIA!BE28<>\"J\",ASISTENCIA!BE28<>\"F\"),SUMIF($F$13:$J$13,BH$13,$F29:$J29),\"\")","v":""},{"$f":"IF(AND(LEN($D29)>0,SUMIF($F$13:$J$13,BI$13,$F29:$J29)>0,ASISTENCIA!BF28<>\"X\",ASISTENCIA!BF28<>\"L\",ASISTENCIA!BF28<>\"J\",ASISTENCIA!BF28<>\"F\"),SUMIF($F$13:$J$13,BI$13,$F29:$J29),\"\")","v":""},{"$f":"IF(AND(LEN($D29)>0,SUMIF($F$13:$J$13,BJ$13,$F29:$J29)>0,ASISTENCIA!BG28<>\"X\",ASISTENCIA!BG28<>\"L\",ASISTENCIA!BG28<>\"J\",ASISTENCIA!BG28<>\"F\"),SUMIF($F$13:$J$13,BJ$13,$F29:$J29),\"\")","v":""},{"$f":"IF(AND(LEN($D29)>0,SUMIF($F$13:$J$13,BK$13,$F29:$J29)>0,ASISTENCIA!BH28<>\"X\",ASISTENCIA!BH28<>\"L\",ASISTENCIA!BH28<>\"J\",ASISTENCIA!BH28<>\"F\"),SUMIF($F$13:$J$13,BK$13,$F29:$J29),\"\")","v":""},{"$f":"IF(AND(LEN($D29)>0,SUMIF($F$13:$J$13,BL$13,$F29:$J29)>0,ASISTENCIA!BI28<>\"X\",ASISTENCIA!BI28<>\"L\",ASISTENCIA!BI28<>\"J\",ASISTENCIA!BI28<>\"F\"),SUMIF($F$13:$J$13,BL$13,$F29:$J29),\"\")","v":""},{"$f":"IF(AND(LEN($D29)>0,SUMIF($F$13:$J$13,BM$13,$F29:$J29)>0,ASISTENCIA!BJ28<>\"X\",ASISTENCIA!BJ28<>\"L\",ASISTENCIA!BJ28<>\"J\",ASISTENCIA!BJ28<>\"F\"),SUMIF($F$13:$J$13,BM$13,$F29:$J29),\"\")","v":""},{"$f":"IF(AND(LEN($D29)>0,SUMIF($F$13:$J$13,BN$13,$F29:$J29)>0,ASISTENCIA!BK28<>\"X\",ASISTENCIA!BK28<>\"L\",ASISTENCIA!BK28<>\"J\",ASISTENCIA!BK28<>\"F\"),SUMIF($F$13:$J$13,BN$13,$F29:$J29),\"\")","v":""},{"$f":"IF(AND(LEN($D29)>0,SUMIF($F$13:$J$13,BO$13,$F29:$J29)>0,ASISTENCIA!BL28<>\"X\",ASISTENCIA!BL28<>\"L\",ASISTENCIA!BL28<>\"J\",ASISTENCIA!BL28<>\"F\"),SUMIF($F$13:$J$13,BO$13,$F29:$J29),\"\")","v":""},{"$f":"IF(AND(LEN($D29)>0,SUMIF($F$13:$J$13,BP$13,$F29:$J29)>0,ASISTENCIA!BM28<>\"X\",ASISTENCIA!BM28<>\"L\",ASISTENCIA!BM28<>\"J\",ASISTENCIA!BM28<>\"F\"),SUMIF($F$13:$J$13,BP$13,$F29:$J29),\"\")","v":""},{"$f":"IF(AND(LEN($D29)>0,SUMIF($F$13:$J$13,BQ$13,$F29:$J29)>0,ASISTENCIA!BN28<>\"X\",ASISTENCIA!BN28<>\"L\",ASISTENCIA!BN28<>\"J\",ASISTENCIA!BN28<>\"F\"),SUMIF($F$13:$J$13,BQ$13,$F29:$J29),\"\")","v":""},{"$f":"IF(AND(LEN($D29)>0,SUMIF($F$13:$J$13,BR$13,$F29:$J29)>0,ASISTENCIA!BO28<>\"X\",ASISTENCIA!BO28<>\"L\",ASISTENCIA!BO28<>\"J\",ASISTENCIA!BO28<>\"F\"),SUMIF($F$13:$J$13,BR$13,$F29:$J29),\"\")","v":""},{"$f":"IF(AND(LEN($D29)>0,SUMIF($F$13:$J$13,BS$13,$F29:$J29)>0,ASISTENCIA!BP28<>\"X\",ASISTENCIA!BP28<>\"L\",ASISTENCIA!BP28<>\"J\",ASISTENCIA!BP28<>\"F\"),SUMIF($F$13:$J$13,BS$13,$F29:$J29),\"\")","v":""},{"$f":"IF(AND(LEN($D29)>0,SUMIF($F$13:$J$13,BT$13,$F29:$J29)>0,ASISTENCIA!BQ28<>\"X\",ASISTENCIA!BQ28<>\"L\",ASISTENCIA!BQ28<>\"J\",ASISTENCIA!BQ28<>\"F\"),SUMIF($F$13:$J$13,BT$13,$F29:$J29),\"\")","v":""},{"$f":"IF(AND(LEN($D29)>0,SUMIF($F$13:$J$13,BU$13,$F29:$J29)>0,ASISTENCIA!BR28<>\"X\",ASISTENCIA!BR28<>\"L\",ASISTENCIA!BR28<>\"J\",ASISTENCIA!BR28<>\"F\"),SUMIF($F$13:$J$13,BU$13,$F29:$J29),\"\")","v":""},{"$f":"IF(AND(LEN($D29)>0,SUMIF($F$13:$J$13,BV$13,$F29:$J29)>0,ASISTENCIA!BS28<>\"X\",ASISTENCIA!BS28<>\"L\",ASISTENCIA!BS28<>\"J\",ASISTENCIA!BS28<>\"F\"),SUMIF($F$13:$J$13,BV$13,$F29:$J29),\"\")","v":""},{"$f":"IF(AND(LEN($D29)>0,SUMIF($F$13:$J$13,BW$13,$F29:$J29)>0,ASISTENCIA!BT28<>\"X\",ASISTENCIA!BT28<>\"L\",ASISTENCIA!BT28<>\"J\",ASISTENCIA!BT28<>\"F\"),SUMIF($F$13:$J$13,BW$13,$F29:$J29),\"\")","v":""},{"$f":"IF(AND(LEN($D29)>0,SUMIF($F$13:$J$13,BX$13,$F29:$J29)>0,ASISTENCIA!BU28<>\"X\",ASISTENCIA!BU28<>\"L\",ASISTENCIA!BU28<>\"J\",ASISTENCIA!BU28<>\"F\"),SUMIF($F$13:$J$13,BX$13,$F29:$J29),\"\")","v":""},{"$f":"IF(AND(LEN($D29)>0,SUMIF($F$13:$J$13,BY$13,$F29:$J29)>0,ASISTENCIA!BV28<>\"X\",ASISTENCIA!BV28<>\"L\",ASISTENCIA!BV28<>\"J\",ASISTENCIA!BV28<>\"F\"),SUMIF($F$13:$J$13,BY$13,$F29:$J29),\"\")","v":""},{"$f":"IF(AND(LEN($D29)>0,SUMIF($F$13:$J$13,BZ$13,$F29:$J29)>0,ASISTENCIA!BW28<>\"X\",ASISTENCIA!BW28<>\"L\",ASISTENCIA!BW28<>\"J\",ASISTENCIA!BW28<>\"F\"),SUMIF($F$13:$J$13,BZ$13,$F29:$J29),\"\")","v":""},{"$f":"IF(AND(LEN($D29)>0,SUMIF($F$13:$J$13,CA$13,$F29:$J29)>0,ASISTENCIA!BX28<>\"X\",ASISTENCIA!BX28<>\"L\",ASISTENCIA!BX28<>\"J\",ASISTENCIA!BX28<>\"F\"),SUMIF($F$13:$J$13,CA$13,$F29:$J29),\"\")","v":""},{"$f":"IF(AND(LEN($D29)>0,SUMIF($F$13:$J$13,CB$13,$F29:$J29)>0,ASISTENCIA!BY28<>\"X\",ASISTENCIA!BY28<>\"L\",ASISTENCIA!BY28<>\"J\",ASISTENCIA!BY28<>\"F\"),SUMIF($F$13:$J$13,CB$13,$F29:$J29),\"\")","v":""},{"$error":"#REF!"}]
["",{"$f":"IF(LEN(C30)>0,VLOOKUP($O$4,DATA!$A$1:$S$1,2,FALSE),\"\")","v":""},"",{"$f":"IF(LEN(ASISTENCIA!E29)>0,ASISTENCIA!E29,\"\")","v":""},{"$f":"IF(LEN(D30)>0,ASISTENCIA!F29,\"\")","v":""},null,null,null,null,null,"",null,null,{"$error":"#REF!"},{"$f":"IF(AND(LEN($D30)>0,SUMIF($F$13:$J$13,O$13,$F30:$J30)>0,ASISTENCIA!I29<>\"X\",ASISTENCIA!I29<>\"L\",ASISTENCIA!I29<>\"J\",ASISTENCIA!I29<>\"V\",ASISTENCIA!I29<>\"F\",ASISTENCIA!I29<>\"\"),SUMIF($F$13:$J$13,O$13,$F30:$J30),\"\")","v":""},{"$f":"IF(AND(LEN($D30)>0,SUMIF($F$13:$J$13,P$13,$F30:$J30)>0,ASISTENCIA!J29<>\"X\",ASISTENCIA!J29<>\"L\",ASISTENCIA!J29<>\"J\",ASISTENCIA!J29<>\"V\",ASISTENCIA!J29<>\"F\",ASISTENCIA!J29<>\"\"),SUMIF($F$13:$J$13,P$13,$F30:$J30),\"\")","v":""},{"$f":"IF(AND(LEN($D30)>0,SUMIF($F$13:$J$13,Q$13,$F30:$J30)>0,ASISTENCIA!K29<>\"X\",ASISTENCIA!K29<>\"L\",ASISTENCIA!K29<>\"J\",ASISTENCIA!K29<>\"V\",ASISTENCIA!K29<>\"F\",ASISTENCIA!K29<>\"\"),SUMIF($F$13:$J$13,Q$13,$F30:$J30),\"\")","v":""},{"$f":"IF(AND(LEN($D30)>0,SUMIF($F$13:$J$13,R$13,$F30:$J30)>0,ASISTENCIA!L29<>\"X\",ASISTENCIA!L29<>\"L\",ASISTENCIA!L29<>\"J\",ASISTENCIA!L29<>\"V\",ASISTENCIA!L29<>\"F\",ASISTENCIA!L29<>\"\"),SUMIF($F$13:$J$13,R$13,$F30:$J30),\"\")","v":""},{"$f":"IF(AND(LEN($D30)>0,SUMIF($F$13:$J$13,S$13,$F30:$J30)>0,ASISTENCIA!M29<>\"X\",ASISTENCIA!M29<>\"L\",ASISTENCIA!M29<>\"J\",ASISTENCIA!M29<>\"V\",ASISTENCIA!M29<>\"F\",ASISTENCIA!M29<>\"\"),SUMIF($F$13:$J$13,S$13,$F30:$J30),\"\")","v":""},{"$f":"IF(AND(LEN($D30)>0,SUMIF($F$13:$J$13,T$13,$F30:$J30)>0,ASISTENCIA!N29<>\"X\",ASISTENCIA!N29<>\"L\",ASISTENCIA!N29<>\"J\",ASISTENCIA!N29<>\"V\",ASISTENCIA!N29<>\"F\",ASISTENCIA!N29<>\"\"),SUMIF($F$13:$J$13,T$13,$F30:$J30),\"\")","v":""},{"$f":"IF(AND(LEN($D30)>0,SUMIF($F$13:$J$13,U$13,$F30:$J30)>0,ASISTENCIA!O29<>\"X\",ASISTENCIA!O29<>\"L\",ASISTENCIA!O29<>\"J\",ASISTENCIA!O29<>\"V\",ASISTENCIA!O29<>\"F\",ASISTENCIA!O29<>\"\"),SUMIF($F$13:$J$13,U$13,$F30:$J30),\"\")","v":""},{"$f":"IF(AND(LEN($D30)>0,SUMIF($F$13:$J$13,V$13,$F30:$J30)>0,ASISTENCIA!P29<>\"X\",ASISTENCIA!P29<>\"L\",ASISTENCIA!P29<>\"J\",ASISTENCIA!P29<>\"V\",ASISTENCIA!P29<>\"F\",ASISTENCIA!P29<>\"\"),SUMIF($F$13:$J$13,V$13,$F30:$J30),\"\")","v":""},{"$f":"IF(AND(LEN($D30)>0,SUMIF($F$13:$J$13,W$13,$F30:$J30)>0,ASISTENCIA!Q29<>\"X\",ASISTENCIA!Q29<>\"L\",ASISTENCIA!Q29<>\"J\",ASISTENCIA!Q29<>\"V\",ASISTENCIA!Q29<>\"F\",ASISTENCIA!Q29<>\"\"),SUMIF($F$13:$J$13,W$13,$F30:$J30),\"\")","v":""},{"$f":"IF(AND(LEN($D30)>0,SUMIF($F$13:$J$13,X$13,$F30:$J30)>0,ASISTENCIA!R29<>\"X\",ASISTENCIA!R29<>\"L\",ASISTENCIA!R29<>\"J\",ASISTENCIA!R29<>\"V\",ASISTENCIA!R29<>\"F\",ASISTENCIA!R29<>\"\"),SUMIF($F$13:$J$13,X$13,$F30:$J30),\"\")","v":""},{"$f":"IF(AND(LEN($D30)>0,SUMIF($F$13:$J$13,Y$13,$F30:$J30)>0,ASISTENCIA!S29<>\"X\",ASISTENCIA!S29<>\"L\",ASISTENCIA!S29<>\"J\",ASISTENCIA!S29<>\"V\",ASISTENCIA!S29<>\"F\",ASISTENCIA!S29<>\"\"),SUMIF($F$13:$J$13,Y$13,$F30:$J30),\"\")","v":""},{"$f":"IF(AND(LEN($D30)>0,SUMIF($F$13:$J$13,Z$13,$F30:$J30)>0,ASISTENCIA!T29<>\"X\",ASISTENCIA!T29<>\"L\",ASISTENCIA!T29<>\"J\",ASISTENCIA!T29<>\"V\",ASISTENCIA!T29<>\"F\",ASISTENCIA!T29<>\"\"),SUMIF($F$13:$J$13,Z$13,$F30:$J30),\"\")","v":""},{"$f":"IF(AND(LEN($D30)>0,SUMIF($F$13:$J$13,AA$13,$F30:$J30)>0,ASISTENCIA!U29<>\"X\",ASISTENCIA!U29<>\"L\",ASISTENCIA!U29<>\"J\",ASISTENCIA!U29<>\"V\",ASISTENCIA!U29<>\"F\",ASISTENCIA!U29<>\"\"),SUMIF($F$13:$J$13,AA$13,$F30:$J30),\"\")","v":""},{"$f":"IF(AND(LEN($D30)>0,SUMIF($F$13:$J$13,AB$13,$F30:$J30)>0,ASISTENCIA!V29<>\"X\",ASISTENCIA!V29<>\"L\",ASISTENCIA!V29<>\"J\",ASISTENCIA!V29<>\"V\",ASISTENCIA!V29<>\"F\",ASISTENCIA!V29<>\"\"),SUMIF($F$13:$J$13,AB$13,$F30:$J30),\"\")","v":""},{"$f":"IF(AND(LEN($D30)>0,SUMIF($F$13:$J$13,AC$13,$F30:$J30)>0,ASISTENCIA!W29<>\"X\",ASISTENCIA!W29<>\"L\",ASISTENCIA!W29<>\"J\",ASISTENCIA!W29<>\"V\",ASISTENCIA!W29<>\"F\",ASISTENCIA!W29<>\"\"),SUMIF($F$13:$J$13,AC$13,$F30:$J30),\"\")","v":""},{"$f":"IF(AND(LEN($D30)>0,SUMIF($F$13:$J$13,AD$13,$F30:$J30)>0,ASISTENCIA!X29<>\"X\",ASISTENCIA!X29<>\"L\",ASISTENCIA!X29<>\"J\",ASISTENCIA!X29<>\"V\",ASISTENCIA!X29<>\"F\",ASISTENCIA!X29<>\"\"),SUMIF($F$13:$J$13,AD$13,$F30:$J30),\"\")","v":""},{"$f":"IF(AND(LEN($D30)>0,SUMIF($F$13:$J$13,AE$13,$F30:$J30)>0,ASISTENCIA!Y29<>\"X\",ASISTENCIA!Y29<>\"L\",ASISTENCIA!Y29<>\"J\",ASISTENCIA!Y29<>\"V\",ASISTENCIA!Y29<>\"F\",ASISTENCIA!Y29<>\"\"),SUMIF($F$13:$J$13,AE$13,$F30:$J30),\"\")","v":""},{"$f":"IF(AND(LEN($D30)>0,SUMIF($F$13:$J$13,AF$13,$F30:$J30)>0,ASISTENCIA!Z29<>\"X\",ASISTENCIA!Z29<>\"L\",ASISTENCIA!Z29<>\"J\",ASISTENCIA!Z29<>\"V\",ASISTENCIA!Z29<>\"F\",ASISTENCIA!Z29<>\"\"),SUMIF($F$13:$J$13,AF$13,$F30:$J30),\"\")","v":""},{"$f":"IF(AND(LEN($D30)>0,SUMIF($F$13:$J$13,AG$13,$F30:$J30)>0,ASISTENCIA!AA29<>\"X\",ASISTENCIA!AA29<>\"L\",ASISTENCIA!AA29<>\"J\",ASISTENCIA!AA29<>\"V\",ASISTENCIA!AA29<>\"F\",ASISTENCIA!AA29<>\"\"),SUMIF($F$13:$J$13,AG$13,$F30:$J30),\"\")","v":""},{"$f":"IF(AND(LEN($D30)>0,SUMIF($F$13:$J$13,AH$13,$F30:$J30)>0,ASISTENCIA!AB29<>\"X\",ASISTENCIA!AB29<>\"L\",ASISTENCIA!AB29<>\"J\",ASISTENCIA!AB29<>\"V\",ASISTENCIA!AB29<>\"F\",ASISTENCIA!AB29<>\"\"),SUMIF($F$13:$J$13,AH$13,$F30:$J30),\"\")","v":""},{"$f":"IF(AND(LEN($D30)>0,SUMIF($F$13:$J$13,AI$13,$F30:$J30)>0,ASISTENCIA!AC29<>\"X\",ASISTENCIA!AC29<>\"L\",ASISTENCIA!AC29<>\"J\",ASISTENCIA!AC29<>\"V\",ASISTENCIA!AC29<>\"F\",ASISTENCIA!AC29<>\"\"),SUMIF($F$13:$J$13,AI$13,$F30:$J30),\"\")","v":""},{"$f":"IF(AND(LEN($D30)>0,SUMIF($F$13:$J$13,AJ$13,$F30:$J30)>0,ASISTENCIA!AD29<>\"X\",ASISTENCIA!AD29<>\"L\",ASISTENCIA!AD29<>\"J\",ASISTENCIA!AD29<>\"V\",ASISTENCIA!AD29<>\"F\",ASISTENCIA!AD29<>\"\"),SUMIF($F$13:$J$13,AJ$13,$F30:$J30),\"\")","v":""},{"$f":"IF(AND(LEN($D30)>0,SUMIF($F$13:$J$13,AK$13,$F30:$J30)>0,ASISTENCIA!AE29<>\"X\",ASISTENCIA!AE29<>\"L\",ASISTENCIA!AE29<>\"J\",ASISTENCIA!AE29<>\"V\",ASISTENCIA!AE29<>\"F\",ASISTENCIA!AE29<>\"\"),SUMIF($F$13:$J$13,AK$13,$F30:$J30),\"\")","v":""},{"$f":"IF(AND(LEN($D30)>0,SUMIF($F$13:$J$13,AL$13,$F30:$J30)>0,ASISTENCIA!AF29<>\"X\",ASISTENCIA!AF29<>\"L\",ASISTENCIA!AF29<>\"J\",ASISTENCIA!AF29<>\"V\",ASISTENCIA!AF29<>\"F\",ASISTENCIA!AF29<>\"\"),SUMIF($F$13:$J$13,AL$13,$F30:$J30),\"\")","v":""},{"$f":"IF(AND(LEN($D30)>0,SUMIF($F$13:$J$13,AM$13,$F30:$J30)>0,ASISTENCIA!AG29<>\"X\",ASISTENCIA!AG29<>\"L\",ASISTENCIA!AG29<>\"J\",ASISTENCIA!AG29<>\"V\",ASISTENCIA!AG29<>\"F\",ASISTENCIA!AG29<>\"\"),SUMIF($F$13:$J$13,AM$13,$F30:$J30),\"\")","v":""},{"$f":"IF(AND(LEN($D30)>0,SUMIF($F$13:$J$13,AN$13,$F30:$J30)>0,ASISTENCIA!AH29<>\"X\",ASISTENCIA!AH29<>\"L\",ASISTENCIA!AH29<>\"J\",ASISTENCIA!AH29<>\"V\",ASISTENCIA!AH29<>\"F\",ASISTENCIA!AH29<>\"\"),SUMIF($F$13:$J$13,AN$13,$F30:$J30),\"\")","v":""},{"$f":"IF(AND(LEN($D30)>0,SUMIF($F$13:$J$13,AO$13,$F30:$J30)>0,ASISTENCIA!AI29<>\"X\",ASISTENCIA!AI29<>\"L\",ASISTENCIA!AI29<>\"J\",ASISTENCIA!AI29<>\"V\",ASISTENCIA!AI29<>\"F\",ASISTENCIA!AI29<>\"\"),SUMIF($F$13:$J$13,AO$13,$F30:$J30),\"\")","v":""},{"$f":"IF(AND(LEN($D30)>0,SUMIF($F$13:$J$13,AP$13,$F30:$J30)>0,ASISTENCIA!AJ29<>\"X\",ASISTENCIA!AJ29<>\"L\",ASISTENCIA!AJ29<>\"J\",ASISTENCIA!AJ29<>\"V\",ASISTENCIA!AJ29<>\"F\",ASISTENCIA!AJ29<>\"\"),SUMIF($F$13:$J$13,AP$13,$F30:$J30),\"\")","v":""},{"$f":"IF(AND(LEN($D30)>0,SUMIF($F$13:$J$13,AQ$13,$F30:$J30)>0,ASISTENCIA!AK29<>\"X\",ASISTENCIA!AK29<>\"L\",ASISTENCIA!AK29<>\"J\",ASISTENCIA!AK29<>\"V\",ASISTENCIA!AK29<>\"F\",ASISTENCIA!AK29<>\"\"),SUMIF($F$13:$J$13,AQ$13,$F30:$J30),\"\")","v":""},{"$f":"IF(AND(LEN($D30)>0,SUMIF($F$13:$J$13,AR$13,$F30:$J30)>0,ASISTENCIA!AL29<>\"X\",ASISTENCIA!AL29<>\"L\",ASISTENCIA!AL29<>\"J\",ASISTENCIA!AL29<>\"V\",ASISTENCIA!AL29<>\"F\",ASISTENCIA!AL29<>\"\"),SUMIF($F$13:$J$13,AR$13,$F30:$J30),\"\")","v":""},{"$f":"IF(AND(LEN($D30)>0,SUMIF($F$13:$J$13,AS$13,$F30:$J30)>0,ASISTENCIA!AM29<>\"X\",ASISTENCIA!AM29<>\"L\",ASISTENCIA!AM29<>\"J\",ASISTENCIA!AM29<>\"V\",ASISTENCIA!AM29<>\"F\",ASISTENCIA!AM29<>\"\"),SUMIF($F$13:$J$13,AS$13,$F30:$J30),\"\")","v":""},"",null,null,null,{"$f":"IF(AND(LEN($D30)>0,SUMIF($F$13:$J$13,AX$13,$F30:$J30)>0,ASISTENCIA!AU29<>\"X\",ASISTENCIA!AU29<>\"L\",ASISTENCIA!AU29<>\"J\",ASISTENCIA!AU29<>\"F\"),SUMIF($F$13:$J$13,AX$13,$F30:$J30),\"\")","v":""},{"$f":"IF(AND(LEN($D30)>0,SUMIF($F$13:$J$13,AY$13,$F30:$J30)>0,ASISTENCIA!AV29<>\"X\",ASISTENCIA!AV29<>\"L\",ASISTENCIA!AV29<>\"J\",ASISTENCIA!AV29<>\"F\"),SUMIF($F$13:$J$13,AY$13,$F30:$J30),\"\")","v":""},{"$f":"IF(AND(LEN($D30)>0,SUMIF($F$13:$J$13,AZ$13,$F30:$J30)>0,ASISTENCIA!AW29<>\"X\",ASISTENCIA!AW29<>\"L\",ASISTENCIA!AW29<>\"J\",ASISTENCIA!AW29<>\"F\"),SUMIF($F$13:$J$13,AZ$13,$F30:$J30),\"\")","v":""},{"$f":"IF(AND(LEN($D30)>0,SUMIF($F$13:$J$13,BA$13,$F30:$J30)>0,ASISTENCIA!AX29<>\"X\",ASISTENCIA!AX29<>\"L\",ASISTENCIA!AX29<>\"J\",ASISTENCIA!AX29<>\"F\"),SUMIF($F$13:$J$13,BA$13,$F30:$J30),\"\")","v":""},{"$f":"IF(AND(LEN($D30)>0,SUMIF($F$13:$J$13,BB$13,$F30:$J30)>0,ASISTENCIA!AY29<>\"X\",ASISTENCIA!AY29<>\"L\",ASISTENCIA!AY29<>\"J\",ASISTENCIA!AY29<>\"F\"),SUMIF($F$13:$J$13,BB$13,$F30:$J30),\"\")","v":""},{"$f":"IF(AND(LEN($D30)>0,SUMIF($F$13:$J$13,BC$13,$F30:$J30)>0,ASISTENCIA!AZ29<>\"X\",ASISTENCIA!AZ29<>\"L\",ASISTENCIA!AZ29<>\"J\",ASISTENCIA!AZ29<>\"F\"),SUMIF($F$13:$J$13,BC$13,$F30:$J30),\"\")","v":""},{"$f":"IF(AND(LEN($D30)>0,SUMIF($F$13:$J$13,BD$13,$F30:$J30)>0,ASISTENCIA!BA29<>\"X\",ASISTENCIA!BA29<>\"L\",ASISTENCIA!BA29<>\"J\",ASISTENCIA!BA29<>\"F\"),SUMIF($F$13:$J$13,BD$13,$F30:$J30),\"\")","v":""},{"$f":"IF(AND(LEN($D30)>0,SUMIF($F$13:$J$13,BE$13,$F30:$J30)>0,ASISTENCIA!BB29<>\"X\",ASISTENCIA!BB29<>\"L\",ASISTENCIA!BB29<>\"J\",ASISTENCIA!BB29<>\"F\"),SUMIF($F$13:$J$13,BE$13,$F30:$J30),\"\")","v":""},{"$f":"IF(AND(LEN($D30)>0,SUMIF($F$13:$J$13,BF$13,$F30:$J30)>0,ASISTENCIA!#REF!<>\"X\",ASISTENCIA!#REF!<>\"L\",ASISTENCIA!#REF!<>\"J\",ASISTENCIA!#REF!<>\"F\"),SUMIF($F$13:$J$13,BF$13,$F30:$J30),\"\")","v":{"$error":"#REF!"}},{"$f":"IF(AND(LEN($D30)>0,SUMIF($F$13:$J$13,BG$13,$F30:$J30)>0,ASISTENCIA!#REF!<>\"X\",ASISTENCIA!#REF!<>\"L\",ASISTENCIA!#REF!<>\"J\",ASISTENCIA!#REF!<>\"F\"),SUMIF($F$13:$J$13,BG$13,$F30:$J30),\"\")","v":{"$error":"#REF!"}},{"$f":"IF(AND(LEN($D30)>0,SUMIF($F$13:$J$13,BH$13,$F30:$J30)>0,ASISTENCIA!BE29<>\"X\",ASISTENCIA!BE29<>\"L\",ASISTENCIA!BE29<>\"J\",ASISTENCIA!BE29<>\"F\"),SUMIF($F$13:$J$13,BH$13,$F30:$J30),\"\")","v":""},{"$f":"IF(AND(LEN($D30)>0,SUMIF($F$13:$J$13,BI$13,$F30:$J30)>0,ASISTENCIA!BF29<>\"X\",ASISTENCIA!BF29<>\"L\",ASISTENCIA!BF29<>\"J\",ASISTENCIA!BF29<>\"F\"),SUMIF($F$13:$J$13,BI$13,$F30:$J30),\"\")","v":""},{"$f":"IF(AND(LEN($D30)>0,SUMIF($F$13:$J$13,BJ$13,$F30:$J30)>0,ASISTENCIA!BG29<>\"X\",ASISTENCIA!BG29<>\"L\",ASISTENCIA!BG29<>\"J\",ASISTENCIA!BG29<>\"F\"),SUMIF($F$13:$J$13,BJ$13,$F30:$J30),\"\")","v":""},{"$f":"IF(AND(LEN($D30)>0,SUMIF($F$13:$J$13,BK$13,$F30:$J30)>0,ASISTENCIA!BH29<>\"X\",ASISTENCIA!BH29<>\"L\",ASISTENCIA!BH29<>\"J\",ASISTENCIA!BH29<>\"F\"),SUMIF($F$13:$J$13,BK$13,$F30:$J30),\"\")","v":""},{"$f":"IF(AND(LEN($D30)>0,SUMIF($F$13:$J$13,BL$13,$F30:$J30)>0,ASISTENCIA!BI29<>\"X\",ASISTENCIA!BI29<>\"L\",ASISTENCIA!BI29<>\"J\",ASISTENCIA!BI29<>\"F\"),SUMIF($F$13:$J$13,BL$13,$F30:$J30),\"\")","v":""},{"$f":"IF(AND(LEN($D30)>0,SUMIF($F$13:$J$13,BM$13,$F30:$J30)>0,ASISTENCIA!BJ29<>\"X\",ASISTENCIA!BJ29<>\"L\",ASISTENCIA!BJ29<>\"J\",ASISTENCIA!BJ29<>\"F\"),SUMIF($F$13:$J$13,BM$13,$F30:$J30),\"\")","v":""},{"$f":"IF(AND(LEN($D30)>0,SUMIF($F$13:$J$13,BN$13,$F30:$J30)>0,ASISTENCIA!BK29<>\"X\",ASISTENCIA!BK29<>\"L\",ASISTENCIA!BK29<>\"J\",ASISTENCIA!BK29<>\"F\"),SUMIF($F$13:$J$13,BN$13,$F30:$J30),\"\")","v":""},{"$f":"IF(AND(LEN($D30)>0,SUMIF($F$13:$J$13,BO$13,$F30:$J30)>0,ASISTENCIA!BL29<>\"X\",ASISTENCIA!BL29<>\"L\",ASISTENCIA!BL29<>\"J\",ASISTENCIA!BL29<>\"F\"),SUMIF($F$13:$J$13,BO$13,$F30:$J30),\"\")","v":""},{"$f":"IF(AND(LEN($D30)>0,SUMIF($F$13:$J$13,BP$13,$F30:$J30)>0,ASISTENCIA!BM29<>\"X\",ASISTENCIA!BM29<>\"L\",ASISTENCIA!BM29<>\"J\",ASISTENCIA!BM29<>\"F\"),SUMIF($F$13:$J$13,BP$13,$F30:$J30),\"\")","v":""},{"$f":"IF(AND(LEN($D30)>0,SUMIF($F$13:$J$13,BQ$13,$F30:$J30)>0,ASISTENCIA!BN29<>\"X\",ASISTENCIA!BN29<>\"L\",ASISTENCIA!BN29<>\"J\",ASISTENCIA!BN29<>\"F\"),SUMIF($F$13:$J$13,BQ$13,$F30:$J30),\"\")","v":""},{"$f":"IF(AND(LEN($D30)>0,SUMIF($F$13:$J$13,BR$13,$F30:$J30)>0,ASISTENCIA!BO29<>\"X\",ASISTENCIA!BO29<>\"L\",ASISTENCIA!BO29<>\"J\",ASISTENCIA!BO29<>\"F\"),SUMIF($F$13:$J$13,BR$13,$F30:$J30),\"\")","v":""},{"$f":"IF(AND(LEN($D30)>0,SUMIF($F$13:$J$13,BS$13,$F30:$J30)>0,ASISTENCIA!BP29<>\"X\",ASISTENCIA!BP29<>\"L\",ASISTENCIA!BP29<>\"J\",ASISTENCIA!BP29<>\"F\"),SUMIF($F$13:$J$13,BS$13,$F30:$J30),\"\")","v":""},{"$f":"IF(AND(LEN($D30)>0,SUMIF($F$13:$J$13,BT$13,$F30:$J30)>0,ASISTENCIA!BQ29<>\"X\",ASISTENCIA!BQ29<>\"L\",ASISTENCIA!BQ29<>\"J\",ASISTENCIA!BQ29<>\"F\"),SUMIF($F$13:$J$13,BT$13,$F30:$J30),\"\")","v":""},{"$f":"IF(AND(LEN($D30)>0,SUMIF($F$13:$J$13,BU$13,$F30:$J30)>0,ASISTENCIA!BR29<>\"X\",ASISTENCIA!BR29<>\"L\",ASISTENCIA!BR29<>\"J\",ASISTENCIA!BR29<>\"F\"),SUMIF($F$13:$J$13,BU$13,$F30:$J30),\"\")","v":""},{"$f":"IF(AND(LEN($D30)>0,SUMIF($F$13:$J$13,BV$13,$F30:$J30)>0,ASISTENCIA!BS29<>\"X\",ASISTENCIA!BS29<>\"L\",ASISTENCIA!BS29<>\"J\",ASISTENCIA!BS29<>\"F\"),SUMIF($F$13:$J$13,BV$13,$F30:$J30),\"\")","v":""},{"$f":"IF(AND(LEN($D30)>0,SUMIF($F$13:$J$13,BW$13,$F30:$J30)>0,ASISTENCIA!BT29<>\"X\",ASISTENCIA!BT29<>\"L\",ASISTENCIA!BT29<>\"J\",ASISTENCIA!BT29<>\"F\"),SUMIF($F$13:$J$13,BW$13,$F30:$J30),\"\")","v":""},{"$f":"IF(AND(LEN($D30)>0,SUMIF($F$13:$J$13,BX$13,$F30:$J30)>0,ASISTENCIA!BU29<>\"X\",ASISTENCIA!BU29<>\"L\",ASISTENCIA!BU29<>\"J\",ASISTENCIA!BU29<>\"F\"),SUMIF($F$13:$J$13,BX$13,$F30:$J30),\"\")","v":""},{"$f":"IF(AND(LEN($D30)>0,SUMIF($F$13:$J$13,BY$13,$F30:$J30)>0,ASISTENCIA!BV29<>\"X\",ASISTENCIA!BV29<>\"L\",ASISTENCIA!BV29<>\"J\",ASISTENCIA!BV29<>\"F\"),SUMIF($F$13:$J$13,BY$13,$F30:$J30),\"\")","v":""},{"$f":"IF(AND(LEN($D30)>0,SUMIF($F$13:$J$13,BZ$13,$F30:$J30)>0,ASISTENCIA!BW29<>\"X\",ASISTENCIA!BW29<>\"L\",ASISTENCIA!BW29<>\"J\",ASISTENCIA!BW29<>\"F\"),SUMIF($F$13:$J$13,BZ$13,$F30:$J30),\"\")","v":""},{"$f":"IF(AND(LEN($D30)>0,SUMIF($F$13:$J$13,CA$13,$F30:$J30)>0,ASISTENCIA!BX29<>\"X\",ASISTENCIA!BX29<>\"L\",ASISTENCIA!BX29<>\"J\",ASISTENCIA!BX29<>\"F\"),SUMIF($F$13:$J$13,CA$13,$F30:$J30),\"\")","v":""},{"$f":"IF(AND(LEN($D30)>0,SUMIF($F$13:$J$13,CB$13,$F30:$J30)>0,ASISTENCIA!BY29<>\"X\",ASISTENCIA!BY29<>\"L\",ASISTENCIA!BY29<>\"J\",ASISTENCIA!BY29<>\"F\"),SUMIF($F$13:$J$13,CB$13,$F30:$J30),\"\")","v":""},{"$error":"#REF!"}]
["",{"$f":"IF(LEN(C31)>0,VLOOKUP($O$4,DATA!$A$1:$S$1,2,FALSE),\"\")","v":""},"",{"$f":"IF(LEN(ASISTENCIA!E30)>0,ASISTENCIA!E30,\"\")","v":""},{"$f":"IF(LEN(D31)>0,ASISTENCIA!F30,\"\")","v":""},null,null,null,null,null,"",null,null,{"$error":"#REF!"},{"$f":"IF(AND(LEN($D31)>0,SUMIF($F$13:$J$13,O$13,$F31:$J31)>0,ASISTENCIA!I30<>\"X\",ASISTENCIA!I30<>\"L\",ASISTENCIA!I30<>\"J\",ASISTENCIA!I30<>\"V\",ASISTENCIA!I30<>\"F\",ASISTENCIA!I30<>\"\"),SUMIF($F$13:$J$13,O$13,$F31:$J31),\"\")","v":""},{"$f":"IF(AND(LEN($D31)>0,SUMIF($F$13:$J$13,P$13,$F31:$J31)>0,ASISTENCIA!J30<>\"X\",ASISTENCIA!J30<>\"L\",ASISTENCIA!J30<>\"J\",ASISTENCIA!J30<>\"V\",ASISTENCIA!J30<>\"F\",ASISTENCIA!J30<>\"\"),SUMIF($F$13:$J$13,P$13,$F31:$J31),\"\")","v":""},{"$f":"IF(AND(LEN($D31)>0,SUMIF($F$13:$J$13,Q$13,$F31:$J31)>0,ASISTENCIA!K30<>\"X\",ASISTENCIA!K30<>\"L\",ASISTENCIA!K30<>\"J\",ASISTENCIA!K30<>\"V\",ASISTENCIA!K30<>\"F\",ASISTENCIA!K30<>\"\"),SUMIF($F$13:$J$13,Q$13,$F31:$J31),\"\")","v":""},{"$f":"IF(AND(LEN($D31)>0,SUMIF($F$13:$J$13,R$13,$F31:$J31)>0,ASISTENCIA!L30<>\"X\",ASISTENCIA!L30<>\"L\",ASISTENCIA!L30<>\"J\",ASISTENCIA!L30<>\"V\",ASISTENCIA!L30<>\"F\",ASISTENCIA!L30<>\"\"),SUMIF($F$13:$J$13,R$13,$F31:$J31),\"\")","v":""},{"$f":"IF(AND(LEN($D31)>0,SUMIF($F$13:$J$13,S$13,$F31:$J31)>0,ASISTENCIA!M30<>\"X\",ASISTENCIA!M30<>\"L\",ASISTENCIA!M30<>\"J\",ASISTENCIA!M30<>\"V\",ASISTENCIA!M30<>\"F\",ASISTENCIA!M30<>\"\"),SUMIF($F$13:$J$13,S$13,$F31:$J31),\"\")","v":""},{"$f":"IF(AND(LEN($D31)>0,SUMIF($F$13:$J$13,T$13,$F31:$J31)>0,ASISTENCIA!N30<>\"X\",ASISTENCIA!N30<>\"L\",ASISTENCIA!N30<>\"J\",ASISTENCIA!N30<>\"V\",ASISTENCIA!N30<>\"F\",ASISTENCIA!N30<>\"\"),SUMIF($F$13:$J$13,T$13,$F31:$J31),\"\")","v":""},{"$f":"IF(AND(LEN($D31)>0,SUMIF($F$13:$J$13,U$13,$F31:$J31)>0,ASISTENCIA!O30<>\"X\",ASISTENCIA!O30<>\"L\",ASISTENCIA!O30<>\"J\",ASISTENCIA!O30<>\"V\",ASISTENCIA!O30<>\"F\",ASISTENCIA!O30<>\"\"),SUMIF($F$13:$J$13,U$13,$F31:$J31),\"\")","v":""},{"$f":"IF(AND(LEN($D31)>0,SUMIF($F$13:$J$13,V$13,$F31:$J31)>0,ASISTENCIA!P30<>\"X\",ASISTENCIA!P30<>\"L\",ASISTENCIA!P30<>\"J\",ASISTENCIA!P30<>\"V\",ASISTENCIA!P30<>\"F\",ASISTENCIA!P30<>\"\"),SUMIF($F$13:$J$13,V$13,$F31:$J31),\"\")","v":""},{"$f":"IF(AND(LEN($D31)>0,SUMIF($F$13:$J$13,W$13,$F31:$J31)>0,ASISTENCIA!Q30<>\"X\",ASISTENCIA!Q30<>\"L\",ASISTENCIA!Q30<>\"J\",ASISTENCIA!Q30<>\"V\",ASISTENCIA!Q30<>\"F\",ASISTENCIA!Q30<>\"\"),SUMIF($F$13:$J$13,W$13,$F31:$J31),\"\")","v":""},{"$f":"IF(AND(LEN($D31)>0,SUMIF($F$13:$J$13,X$13,$F31:$J31)>0,ASISTENCIA!R30<>\"X\",ASISTENCIA!R30<>\"L\",ASISTENCIA!R30<>\"J\",ASISTENCIA!R30<>\"V\",ASISTENCIA!R30<>\"F\",ASISTENCIA!R30<>\"\"),SUMIF($F$13:$J$13,X$13,$F31:$J31),\"\")","v":""},{"$f":"IF(AND(LEN($D31)>0,SUMIF($F$13:$J$13,Y$13,$F31:$J31)>0,ASISTENCIA!S30<>\"X\",ASISTENCIA!S30<>\"L\",ASISTENCIA!S30<>\"J\",ASISTENCIA!S30<>\"V\",ASISTENCIA!S30<>\"F\",ASISTENCIA!S30<>\"\"),SUMIF($F$13:$J$13,Y$13,$F31:$J31),\"\")","v":""},{"$f":"IF(AND(LEN($D31)>0,SUMIF($F$13:$J$13,Z$13,$F31:$J31)>0,ASISTENCIA!T30<>\"X\",ASISTENCIA!T30<>\"L\",ASISTENCIA!T30<>\"J\",ASISTENCIA!T30<>\"V\",ASISTENCIA!T30<>\"F\",ASISTENCIA!T30<>\"\"),SUMIF($F$13:$J$13,Z$13,$F31:$J31),\"\")","v":""},{"$f":"IF(AND(LEN($D31)>0,SUMIF($F$13:$J$13,AA$13,$F31:$J31)>0,ASISTENCIA!U30<>\"X\",ASISTENCIA!U30<>\"L\",ASISTENCIA!U30<>\"J\",ASISTENCIA!U30<>\"V\",ASISTENCIA!U30<>\"F\",ASISTENCIA!U30<>\"\"),SUMIF($F$13:$J$13,AA$13,$F31:$J31),\"\")","v":""},{"$f":"IF(AND(LEN($D31)>0,SUMIF($F$13:$J$13,AB$13,$F31:$J31)>0,ASISTENCIA!V30<>\"X\",ASISTENCIA!V30<>\"L\",ASISTENCIA!V30<>\"J\",ASISTENCIA!V30<>\"V\",ASISTENCIA!V30<>\"F\",ASISTENCIA!V30<>\"\"),SUMIF($F$13:$J$13,AB$13,$F31:$J31),\"\")","v":""},{"$f":"IF(AND(LEN($D31)>0,SUMIF($F$13:$J$13,AC$13,$F31:$J31)>0,ASISTENCIA!W30<>\"X\",ASISTENCIA!W30<>\"L\",ASISTENCIA!W30<>\"J\",ASISTENCIA!W30<>\"V\",ASISTENCIA!W30<>\"F\",ASISTENCIA!W30<>\"\"),SUMIF($F$13:$J$13,AC$13,$F31:$J31),\"\")","v":""},{"$f":"IF(AND(LEN($D31)>0,SUMIF($F$13:$J$13,AD$13,$F31:$J31)>0,ASISTENCIA!X30<>\"X\",ASISTENCIA!X30<>\"L\",ASISTENCIA!X30<>\"J\",ASISTENCIA!X30<>\"V\",ASISTENCIA!X30<>\"F\",ASISTENCIA!X30<>\"\"),SUMIF($F$13:$J$13,AD$13,$F31:$J31),\"\")","v":""},{"$f":"IF(AND(LEN($D31)>0,SUMIF($F$13:$J$13,AE$13,$F31:$J31)>0,ASISTENCIA!Y30<>\"X\",ASISTENCIA!Y30<>\"L\",ASISTENCIA!Y30<>\"J\",ASISTENCIA!Y30<>\"V\",ASISTENCIA!Y30<>\"F\",ASISTENCIA!Y30<>\"\"),SUMIF($F$13:$J$13,AE$13,$F31:$J31),\"\")","v":""},{"$f":"IF(AND(LEN($D31)>0,SUMIF($F$13:$J$13,AF$13,$F31:$J31)>0,ASISTENCIA!Z30<>\"X\",ASISTENCIA!Z30<>\"L\",ASISTENCIA!Z30<>\"J\",ASISTENCIA!Z30<>\"V\",ASISTENCIA!Z30<>\"F\",ASISTENCIA!Z30<>\"\"),SUMIF($F$13:$J$13,AF$13,$F31:$J31),\"\")","v":""},{"$f":"IF(AND(LEN($D31)>0,SUMIF($F$13:$J$13,AG$13,$F31:$J31)>0,ASISTENCIA!AA30<>\"X\",ASISTENCIA!AA30<>\"L\",ASISTENCIA!AA30<>\"J\",ASISTENCIA!AA30<>\"V\",ASISTENCIA!AA30<>\"F\",ASISTENCIA!AA30<>\"\"),SUMIF($F$13:$J$13,AG$13,$F31:$J31),\"\")","v":""},{"$f":"IF(AND(LEN($D31)>0,SUMIF($F$13:$J$13,AH$13,$F31:$J31)>0,ASISTENCIA!AB30<>\"X\",ASISTENCIA!AB30<>\"L\",ASISTENCIA!AB30<>\"J\",ASISTENCIA!AB30<>\"V\",ASISTENCIA!AB30<>\"F\",ASISTENCIA!AB30<>\"\"),SUMIF($F$13:$J$13,AH$13,$F31:$J31),\"\")","v":""},{"$f":"IF(AND(LEN($D31)>0,SUMIF($F$13:$J$13,AI$13,$F31:$J31)>0,ASISTENCIA!AC30<>\"X\",ASISTENCIA!AC30<>\"L\",ASISTENCIA!AC30<>\"J\",ASISTENCIA!AC30<>\"V\",ASISTENCIA!AC30<>\"F\",ASISTENCIA!AC30<>\"\"),SUMIF($F$13:$J$13,AI$13,$F31:$J31),\"\")","v":""},{"$f":"IF(AND(LEN($D31)>0,SUMIF($F$13:$J$13,AJ$13,$F31:$J31)>0,ASISTENCIA!AD30<>\"X\",ASISTENCIA!AD30<>\"L\",ASISTENCIA!AD30<>\"J\",ASISTENCIA!AD30<>\"V\",ASISTENCIA!AD30<>\"F\",ASISTENCIA!AD30<>\"\"),SUMIF($F$13:$J$13,AJ$13,$F31:$J31),\"\")","v":""},{"$f":"IF(AND(LEN($D31)>0,SUMIF($F$13:$J$13,AK$13,$F31:$J31)>0,ASISTENCIA!AE30<>\"X\",ASISTENCIA!AE30<>\"L\",ASISTENCIA!AE30<>\"J\",ASISTENCIA!AE30<>\"V\",ASISTENCIA!AE30<>\"F\",ASISTENCIA!AE30<>\"\"),SUMIF($F$13:$J$13,AK$13,$F31:$J31),\"\")","v":""},{"$f":"IF(AND(LEN($D31)>0,SUMIF($F$13:$J$13,AL$13,$F31:$J31)>0,ASISTENCIA!AF30<>\"X\",ASISTENCIA!AF30<>\"L\",ASISTENCIA!AF30<>\"J\",ASISTENCIA!AF30<>\"V\",ASISTENCIA!AF30<>\"F\",ASISTENCIA!AF30<>\"\"),SUMIF($F$13:$J$13,AL$13,$F31:$J31),\"\")","v":""},{"$f":"IF(AND(LEN($D31)>0,SUMIF($F$13:$J$13,AM$13,$F31:$J31)>0,ASISTENCIA!AG30<>\"X\",ASISTENCIA!AG30<>\"L\",ASISTENCIA!AG30<>\"J\",ASISTENCIA!AG30<>\"V\",ASISTENCIA!AG30<>\"F\",ASISTENCIA!AG30<>\"\"),SUMIF($F$13:$J$13,AM$13,$F31:$J31),\"\")","v":""},{"$f":"IF(AND(LEN($D31)>0,SUMIF($F$13:$J$13,AN$13,$F31:$J31)>0,ASISTENCIA!AH30<>\"X\",ASISTENCIA!AH30<>\"L\",ASISTENCIA!AH30<>\"J\",ASISTENCIA!AH30<>\"V\",ASISTENCIA!AH30<>\"F\",ASISTENCIA!AH30<>\"\"),SUMIF($F$13:$J$13,AN$13,$F31:$J31),\"\")","v":""},{"$f":"IF(AND(LEN($D31)>0,SUMIF($F$13:$J$13,AO$13,$F31:$J31)>0,ASISTENCIA!AI30<>\"X\",ASISTENCIA!AI30<>\"L\",ASISTENCIA!AI30<>\"J\",ASISTENCIA!AI30<>\"V\",ASISTENCIA!AI30<>\"F\",ASISTENCIA!AI30<>\"\"),SUMIF($F$13:$J$13,AO$13,$F31:$J31),\"\")","v":""},{"$f":"IF(AND(LEN($D31)>0,SUMIF($F$13:$J$13,AP$13,$F31:$J31)>0,ASISTENCIA!AJ30<>\"X\",ASISTENCIA!AJ30<>\"L\",ASISTENCIA!AJ30<>\"J\",ASISTENCIA!AJ30<>\"V\",ASISTENCIA!AJ30<>\"F\",ASISTENCIA!AJ30<>\"\"),SUMIF($F$13:$J$13,AP$13,$F31:$J31),\"\")","v":""},{"$f":"IF(AND(LEN($D31)>0,SUMIF($F$13:$J$13,AQ$13,$F31:$J31)>0,ASISTENCIA!AK30<>\"X\",ASISTENCIA!AK30<>\"L\",ASISTENCIA!AK30<>\"J\",ASISTENCIA!AK30<>\"V\",ASISTENCIA!AK30<>\"F\",ASISTENCIA!AK30<>\"\"),SUMIF($F$13:$J$13,AQ$13,$F31:$J31),\"\")","v":""},{"$f":"IF(AND(LEN($D31)>0,SUMIF($F$13:$J$13,AR$13,$F31:$J31)>0,ASISTENCIA!AL30<>\"X\",ASISTENCIA!AL30<>\"L\",ASISTENCIA!AL30<>\"J\",ASISTENCIA!AL30<>\"V\",ASISTENCIA!AL30<>\"F\",ASISTENCIA!AL30<>\"\"),SUMIF($F$13:$J$13,AR$13,$F31:$J31),\"\")","v":""},{"$f":"IF(AND(LEN($D31)>0,SUMIF($F$13:$J$13,AS$13,$F31:$J31)>0,ASISTENCIA!AM30<>\"X\",ASISTENCIA!AM30<>\"L\",ASISTENCIA!AM30<>\"J\",ASISTENCIA!AM30<>\"V\",ASISTENCIA!AM30<>\"F\",ASISTENCIA!AM30<>\"\"),SUMIF($F$13:$J$13,AS$13,$F31:$J31),\"\")","v":""},"",null,null,null,{"$f":"IF(AND(LEN($D31)>0,SUMIF($F$13:$J$13,AX$13,$F31:$J31)>0,ASISTENCIA!AU30<>\"X\",ASISTENCIA!AU30<>\"L\",ASISTENCIA!AU30<>\"J\",ASISTENCIA!AU30<>\"F\"),SUMIF($F$13:$J$13,AX$13,$F31:$J31),\"\")","v":""},{"$f":"IF(AND(LEN($D31)>0,SUMIF($F$13:$J$13,AY$13,$F31:$J31)>0,ASISTENCIA!AV30<>\"X\",ASISTENCIA!AV30<>\"L\",ASISTENCIA!AV30<>\"J\",ASISTENCIA!AV30<>\"F\"),SUMIF($F$13:$J$13,AY$13,$F31:$J31),\"\")","v":""},{"$f":"IF(AND(LEN($D31)>0,SUMIF($F$13:$J$13,AZ$13,$F31:$J31)>0,ASISTENCIA!AW30<>\"X\",ASISTENCIA!AW30<>\"L\",ASISTENCIA!AW30<>\"J\",ASISTENCIA!AW30<>\"F\"),SUMIF($F$13:$J$13,AZ$13,$F31:$J31),\"\")","v":""},{"$f":"IF(AND(LEN($D31)>0,SUMIF($F$13:$J$13,BA$13,$F31:$J31)>0,ASISTENCIA!AX30<>\"X\",ASISTENCIA!AX30<>\"L\",ASISTENCIA!AX30<>\"J\",ASISTENCIA!AX30<>\"F\"),SUMIF($F$13:$J$13,BA$13,$F31:$J31),\"\")","v":""},{"$f":"IF(AND(LEN($D31)>0,SUMIF($F$13:$J$13,BB$13,$F31:$J31)>0,ASISTENCIA!AY30<>\"X\",ASISTENCIA!AY30<>\"L\",ASISTENCIA!AY30<>\"J\",ASISTENCIA!AY30<>\"F\"),SUMIF($F$13:$J$13,BB$13,$F31:$J31),\"\")","v":""},{"$f":"IF(AND(LEN($D31)>0,SUMIF($F$13:$J$13,BC$13,$F31:$J31)>0,ASISTENCIA!AZ30<>\"X\",ASISTENCIA!AZ30<>\"L\",ASISTENCIA!AZ30<>\"J\",ASISTENCIA!AZ30<>\"F\"),SUMIF($F$13:$J$13,BC$13,$F31:$J31),\"\")","v":""},{"$f":"IF(AND(LEN($D31)>0,SUMIF($F$13:$J$13,BD$13,$F31:$J31)>0,ASISTENCIA!BA30<>\"X\",ASISTENCIA!BA30<>\"L\",ASISTENCIA!BA30<>\"J\",ASISTENCIA!BA30<>\"F\"),SUMIF($F$13:$J$13,BD$13,$F31:$J31),\"\")","v":""},{"$f":"IF(AND(LEN($D31)>0,SUMIF($F$13:$J$13,BE$13,$F31:$J31)>0,ASISTENCIA!BB30<>\"X\",ASISTENCIA!BB30<>\"L\",ASISTENCIA!BB30<>\"J\",ASISTENCIA!BB30<>\"F\"),SUMIF($F$13:$J$13,BE$13,$F31:$J31),\"\")","v":""},{"$f":"IF(AND(LEN($D31)>0,SUMIF($F$13:$J$13,BF$13,$F31:$J31)>0,ASISTENCIA!#REF!<>\"X\",ASISTENCIA!#REF!<>\"L\",ASISTENCIA!#REF!<>\"J\",ASISTENCIA!#REF!<>\"F\"),SUMIF($F$13:$J$13,BF$13,$F31:$J31),\"\")","v":{"$error":"#REF!"}},{"$f":"IF(AND(LEN($D31)>0,SUMIF($F$13:$J$13,BG$13,$F31:$J31)>0,ASISTENCIA!#REF!<>\"X\",ASISTENCIA!#REF!<>\"L\",ASISTENCIA!#REF!<>\"J\",ASISTENCIA!#REF!<>\"F\"),SUMIF($F$13:$J$13,BG$13,$F31:$J31),\"\")","v":{"$error":"#REF!"}},{"$f":"IF(AND(LEN($D31)>0,SUMIF($F$13:$J$13,BH$13,$F31:$J31)>0,ASISTENCIA!BE30<>\"X\",ASISTENCIA!BE30<>\"L\",ASISTENCIA!BE30<>\"J\",ASISTENCIA!BE30<>\"F\"),SUMIF($F$13:$J$13,BH$13,$F31:$J31),\"\")","v":""},{"$f":"IF(AND(LEN($D31)>0,SUMIF($F$13:$J$13,BI$13,$F31:$J31)>0,ASISTENCIA!BF30<>\"X\",ASISTENCIA!BF30<>\"L\",ASISTENCIA!BF30<>\"J\",ASISTENCIA!BF30<>\"F\"),SUMIF($F$13:$J$13,BI$13,$F31:$J31),\"\")","v":""},{"$f":"IF(AND(LEN($D31)>0,SUMIF($F$13:$J$13,BJ$13,$F31:$J31)>0,ASISTENCIA!BG30<>\"X\",ASISTENCIA!BG30<>\"L\",ASISTENCIA!BG30<>\"J\",ASISTENCIA!BG30<>\"F\"),SUMIF($F$13:$J$13,BJ$13,$F31:$J31),\"\")","v":""},{"$f":"IF(AND(LEN($D31)>0,SUMIF($F$13:$J$13,BK$13,$F31:$J31)>0,ASISTENCIA!BH30<>\"X\",ASISTENCIA!BH30<>\"L\",ASISTENCIA!BH30<>\"J\",ASISTENCIA!BH30<>\"F\"),SUMIF($F$13:$J$13,BK$13,$F31:$J31),\"\")","v":""},{"$f":"IF(AND(LEN($D31)>0,SUMIF($F$13:$J$13,BL$13,$F31:$J31)>0,ASISTENCIA!BI30<>\"X\",ASISTENCIA!BI30<>\"L\",ASISTENCIA!BI30<>\"J\",ASISTENCIA!BI30<>\"F\"),SUMIF($F$13:$J$13,BL$13,$F31:$J31),\"\")","v":""},{"$f":"IF(AND(LEN($D31)>0,SUMIF($F$13:$J$13,BM$13,$F31:$J31)>0,ASISTENCIA!BJ30<>\"X\",ASISTENCIA!BJ30<>\"L\",ASISTENCIA!BJ30<>\"J\",ASISTENCIA!BJ30<>\"F\"),SUMIF($F$13:$J$13,BM$13,$F31:$J31),\"\")","v":""},{"$f":"IF(AND(LEN($D31)>0,SUMIF($F$13:$J$13,BN$13,$F31:$J31)>0,ASISTENCIA!BK30<>\"X\",ASISTENCIA!BK30<>\"L\",ASISTENCIA!BK30<>\"J\",ASISTENCIA!BK30<>\"F\"),SUMIF($F$13:$J$13,BN$13,$F31:$J31),\"\")","v":""},{"$f":"IF(AND(LEN($D31)>0,SUMIF($F$13:$J$13,BO$13,$F31:$J31)>0,ASISTENCIA!BL30<>\"X\",ASISTENCIA!BL30<>\"L\",ASISTENCIA!BL30<>\"J\",ASISTENCIA!BL30<>\"F\"),SUMIF($F$13:$J$13,BO$13,$F31:$J31),\"\")","v":""},{"$f":"IF(AND(LEN($D31)>0,SUMIF($F$13:$J$13,BP$13,$F31:$J31)>0,ASISTENCIA!BM30<>\"X\",ASISTENCIA!BM30<>\"L\",ASISTENCIA!BM30<>\"J\",ASISTENCIA!BM30<>\"F\"),SUMIF($F$13:$J$13,BP$13,$F31:$J31),\"\")","v":""},{"$f":"IF(AND(LEN($D31)>0,SUMIF($F$13:$J$13,BQ$13,$F31:$J31)>0,ASISTENCIA!BN30<>\"X\",ASISTENCIA!BN30<>\"L\",ASISTENCIA!BN30<>\"J\",ASISTENCIA!BN30<>\"F\"),SUMIF($F$13:$J$13,BQ$13,$F31:$J31),\"\")","v":""},{"$f":"IF(AND(LEN($D31)>0,SUMIF($F$13:$J$13,BR$13,$F31:$J31)>0,ASISTENCIA!BO30<>\"X\",ASISTENCIA!BO30<>\"L\",ASISTENCIA!BO30<>\"J\",ASISTENCIA!BO30<>\"F\"),SUMIF($F$13:$J$13,BR$13,$F31:$J31),\"\")","v":""},{"$f":"IF(AND(LEN($D31)>0,SUMIF($F$13:$J$13,BS$13,$F31:$J31)>0,ASISTENCIA!BP30<>\"X\",ASISTENCIA!BP30<>\"L\",ASISTENCIA!BP30<>\"J\",ASISTENCIA!BP30<>\"F\"),SUMIF($F$13:$J$13,BS$13,$F31:$J31),\"\")","v":""},{"$f":"IF(AND(LEN($D31)>0,SUMIF($F$13:$J$13,BT$13,$F31:$J31)>0,ASISTENCIA!BQ30<>\"X\",ASISTENCIA!BQ30<>\"L\",ASISTENCIA!BQ30<>\"J\",ASISTENCIA!BQ30<>\"F\"),SUMIF($F$13:$J$13,BT$13,$F31:$J31),\"\")","v":""},{"$f":"IF(AND(LEN($D31)>0,SUMIF($F$13:$J$13,BU$13,$F31:$J31)>0,ASISTENCIA!BR30<>\"X\",ASISTENCIA!BR30<>\"L\",ASISTENCIA!BR30<>\"J\",ASISTENCIA!BR30<>\"F\"),SUMIF($F$13:$J$13,BU$13,$F31:$J31),\"\")","v":""},{"$f":"IF(AND(LEN($D31)>0,SUMIF($F$13:$J$13,BV$13,$F31:$J31)>0,ASISTENCIA!BS30<>\"X\",ASISTENCIA!BS30<>\"L\",ASISTENCIA!BS30<>\"J\",ASISTENCIA!BS30<>\"F\"),SUMIF($F$13:$J$13,BV$13,$F31:$J31),\"\")","v":""},{"$f":"IF(AND(LEN($D31)>0,SUMIF($F$13:$J$13,BW$13,$F31:$J31)>0,ASISTENCIA!BT30<>\"X\",ASISTENCIA!BT30<>\"L\",ASISTENCIA!BT30<>\"J\",ASISTENCIA!BT30<>\"F\"),SUMIF($F$13:$J$13,BW$13,$F31:$J31),\"\")","v":""},{"$f":"IF(AND(LEN($D31)>0,SUMIF($F$13:$J$13,BX$13,$F31:$J31)>0,ASISTENCIA!BU30<>\"X\",ASISTENCIA!BU30<>\"L\",ASISTENCIA!BU30<>\"J\",ASISTENCIA!BU30<>\"F\"),SUMIF($F$13:$J$13,BX$13,$F31:$J31),\"\")","v":""},{"$f":"IF(AND(LEN($D31)>0,SUMIF($F$13:$J$13,BY$13,$F31:$J31)>0,ASISTENCIA!BV30<>\"X\",ASISTENCIA!BV30<>\"L\",ASISTENCIA!BV30<>\"J\",ASISTENCIA!BV30<>\"F\"),SUMIF($F$13:$J$13,BY$13,$F31:$J31),\"\")","v":""},{"$f":"IF(AND(LEN($D31)>0,SUMIF($F$13:$J$13,BZ$13,$F31:$J31)>0,ASISTENCIA!BW30<>\"X\",ASISTENCIA!BW30<>\"L\",ASISTENCIA!BW30<>\"J\",ASISTENCIA!BW30<>\"F\"),SUMIF($F$13:$J$13,BZ$13,$F31:$J31),\"\")","v":""},{"$f":"IF(AND(LEN($D31)>0,SUMIF($F$13:$J$13,CA$13,$F31:$J31)>0,ASISTENCIA!BX30<>\"X\",ASISTENCIA!BX30<>\"L\",ASISTENCIA!BX30<>\"J\",ASISTENCIA!BX30<>\"F\"),SUMIF($F$13:$J$13,CA$13,$F31:$J31),\"\")","v":""},{"$f":"IF(AND(LEN($D31)>0,SUMIF($F$13:$J$13,CB$13,$F31:$J31)>0,ASISTENCIA!BY30<>\"X\",ASISTENCIA!BY30<>\"L\",ASISTENCIA!BY30<>\"J\",ASISTENCIA!BY30<>\"F\"),SUMIF($F$13:$J$13,CB$13,$F31:$J31),\"\")","v":""},{"$error":"#REF!"}]
["",{"$f":"IF(LEN(C32)>0,VLOOKUP($O$4,DATA!$A$1:$S$1,2,FALSE),\"\")","v":""},"",{"$f":"IF(LEN(ASISTENCIA!E31)>0,ASISTENCIA!E31,\"\")","v":""},{"$f":"IF(LEN(D32)>0,ASISTENCIA!F31,\"\")","v":""},null,null,null,null,null,"",null,null,{"$error":"#REF!"},{"$f":"IF(AND(LEN($D32)>0,SUMIF($F$13:$J$13,O$13,$F32:$J32)>0,ASISTENCIA!I31<>\"X\",ASISTENCIA!I31<>\"L\",ASISTENCIA!I31<>\"J\",ASISTENCIA!I31<>\"V\",ASISTENCIA!I31<>\"F\",ASISTENCIA!I31<>\"\"),SUMIF($F$13:$J$13,O$13,$F32:$J32),\"\")","v":""},{"$f":"IF(AND(LEN($D32)>0,SUMIF($F$13:$J$13,P$13,$F32:$J32)>0,ASISTENCIA!J31<>\"X\",ASISTENCIA!J31<>\"L\",ASISTENCIA!J31<>\"J\",ASISTENCIA!J31<>\"V\",ASISTENCIA!J31<>\"F\",ASISTENCIA!J31<>\"\"),SUMIF($F$13:$J$13,P$13,$F32:$J32),\"\")","v":""},{"$f":"IF(AND(LEN($D32)>0,SUMIF($F$13:$J$13,Q$13,$F32:$J32)>0,ASISTENCIA!K31<>\"X\",ASISTENCIA!K31<>\"L\",ASISTENCIA!K31<>\"J\",ASISTENCIA!K31<>\"V\",ASISTENCIA!K31<>\"F\",ASISTENCIA!K31<>\"\"),SUMIF($F$13:$J$13,Q$13,$F32:$J32),\"\")","v":""},{"$f":"IF(AND(LEN($D32)>0,SUMIF($F$13:$J$13,R$13,$F32:$J32)>0,ASISTENCIA!L31<>\"X\",ASISTENCIA!L31<>\"L\",ASISTENCIA!L31<>\"J\",ASISTENCIA!L31<>\"V\",ASISTENCIA!L31<>\"F\",ASISTENCIA!L31<>\"\"),SUMIF($F$13:$J$13,R$13,$F32:$J32),\"\")","v":""},{"$f":"IF(AND(LEN($D32)>0,SUMIF($F$13:$J$13,S$13,$F32:$J32)>0,ASISTENCIA!M31<>\"X\",ASISTENCIA!M31<>\"L\",ASISTENCIA!M31<>\"J\",ASISTENCIA!M31<>\"V\",ASISTENCIA!M31<>\"F\",ASISTENCIA!M31<>\"\"),SUMIF($F$13:$J$13,S$13,$F32:$J32),\"\")","v":""},{"$f":"IF(AND(LEN($D32)>0,SUMIF($F$13:$J$13,T$13,$F32:$J32)>0,ASISTENCIA!N31<>\"X\",ASISTENCIA!N31<>\"L\",ASISTENCIA!N31<>\"J\",ASISTENCIA!N31<>\"V\",ASISTENCIA!N31<>\"F\",ASISTENCIA!N31<>\"\"),SUMIF($F$13:$J$13,T$13,$F32:$J32),\"\")","v":""},{"$f":"IF(AND(LEN($D32)>0,SUMIF($F$13:$J$13,U$13,$F32:$J32)>0,ASISTENCIA!O31<>\"X\",ASISTENCIA!O31<>\"L\",ASISTENCIA!O31<>\"J\",ASISTENCIA!O31<>\"V\",ASISTENCIA!O31<>\"F\",ASISTENCIA!O31<>\"\"),SUMIF($F$13:$J$13,U$13,$F32:$J32),\"\")","v":""},{"$f":"IF(AND(LEN($D32)>0,SUMIF($F$13:$J$13,V$13,$F32:$J32)>0,ASISTENCIA!P31<>\"X\",ASISTENCIA!P31<>\"L\",ASISTENCIA!P31<>\"J\",ASISTENCIA!P31<>\"V\",ASISTENCIA!P31<>\"F\",ASISTENCIA!P31<>\"\"),SUMIF($F$13:$J$13,V$13,$F32:$J32),\"\")","v":""},{"$f":"IF(AND(LEN($D32)>0,SUMIF($F$13:$J$13,W$13,$F32:$J32)>0,ASISTENCIA!Q31<>\"X\",ASISTENCIA!Q31<>\"L\",ASISTENCIA!Q31<>\"J\",ASISTENCIA!Q31<>\"V\",ASISTENCIA!Q31<>\"F\",ASISTENCIA!Q31<>\"\"),SUMIF($F$13:$J$13,W$13,$F32:$J32),\"\")","v":""},{"$f":"IF(AND(LEN($D32)>0,SUMIF($F$13:$J$13,X$13,$F32:$J32)>0,ASISTENCIA!R31<>\"X\",ASISTENCIA!R31<>\"L\",ASISTENCIA!R31<>\"J\",ASISTENCIA!R31<>\"V\",ASISTENCIA!R31<>\"F\",ASISTENCIA!R31<>\"\"),SUMIF($F$13:$J$13,X$13,$F32:$J32),\"\")","v":""},{"$f":"IF(AND(LEN($D32)>0,SUMIF($F$13:$J$13,Y$13,$F32:$J32)>0,ASISTENCIA!S31<>\"X\",ASISTENCIA!S31<>\"L\",ASISTENCIA!S31<>\"J\",ASISTENCIA!S31<>\"V\",ASISTENCIA!S31<>\"F\",ASISTENCIA!S31<>\"\"),SUMIF($F$13:$J$13,Y$13,$F32:$J32),\"\")","v":""},{"$f":"IF(AND(LEN($D32)>0,SUMIF($F$13:$J$13,Z$13,$F32:$J32)>0,ASISTENCIA!T31<>\"X\",ASISTENCIA!T31<>\"L\",ASISTENCIA!T31<>\"J\",ASISTENCIA!T31<>\"V\",ASISTENCIA!T31<>\"F\",ASISTENCIA!T31<>\"\"),SUMIF($F$13:$J$13,Z$13,$F32:$J32),\"\")","v":""},{"$f":"IF(AND(LEN($D32)>0,SUMIF($F$13:$J$13,AA$13,$F32:$J32)>0,ASISTENCIA!U31<>\"X\",ASISTENCIA!U31<>\"L\",ASISTENCIA!U31<>\"J\",ASISTENCIA!U31<>\"V\",ASISTENCIA!U31<>\"F\",ASISTENCIA!U31<>\"\"),SUMIF($F$13:$J$13,AA$13,$F32:$J32),\"\")","v":""},{"$f":"IF(AND(LEN($D32)>0,SUMIF($F$13:$J$13,AB$13,$F32:$J32)>0,ASISTENCIA!V31<>\"X\",ASISTENCIA!V31<>\"L\",ASISTENCIA!V31<>\"J\",ASISTENCIA!V31<>\"V\",ASISTENCIA!V31<>\"F\",ASISTENCIA!V31<>\"\"),SUMIF($F$13:$J$13,AB$13,$F32:$J32),\"\")","v":""},{"$f":"IF(AND(LEN($D32)>0,SUMIF($F$13:$J$13,AC$13,$F32:$J32)>0,ASISTENCIA!W31<>\"X\",ASISTENCIA!W31<>\"L\",ASISTENCIA!W31<>\"J\",ASISTENCIA!W31<>\"V\",ASISTENCIA!W31<>\"F\",ASISTENCIA!W31<>\"\"),SUMIF($F$13:$J$13,AC$13,$F32:$J32),\"\")","v":""},{"$f":"IF(AND(LEN($D32)>0,SUMIF($F$13:$J$13,AD$13,$F32:$J32)>0,ASISTENCIA!X31<>\"X\",ASISTENCIA!X31<>\"L\",ASISTENCIA!X31<>\"J\",ASISTENCIA!X31<>\"V\",ASISTENCIA!X31<>\"F\",ASISTENCIA!X31<>\"\"),SUMIF($F$13:$J$13,AD$13,$F32:$J32),\"\")","v":""},{"$f":"IF(AND(LEN($D32)>0,SUMIF($F$13:$J$13,AE$13,$F32:$J32)>0,ASISTENCIA!Y31<>\"X\",ASISTENCIA!Y31<>\"L\",ASISTENCIA!Y31<>\"J\",ASISTENCIA!Y31<>\"V\",ASISTENCIA!Y31<>\"F\",ASISTENCIA!Y31<>\"\"),SUMIF($F$13:$J$13,AE$13,$F32:$J32),\"\")","v":""},{"$f":"IF(AND(LEN($D32)>0,SUMIF($F$13:$J$13,AF$13,$F32:$J32)>0,ASISTENCIA!Z31<>\"X\",ASISTENCIA!Z31<>\"L\",ASISTENCIA!Z31<>\"J\",ASISTENCIA!Z31<>\"V\",ASISTENCIA!Z31<>\"F\",ASISTENCIA!Z31<>\"\"),SUMIF($F$13:$J$13,AF$13,$F32:$J32),\"\")","v":""},{"$f":"IF(AND(LEN($D32)>0,SUMIF($F$13:$J$13,AG$13,$F32:$J32)>0,ASISTENCIA!AA31<>\"X\",ASISTENCIA!AA31<>\"L\",ASISTENCIA!AA31<>\"J\",ASISTENCIA!AA31<>\"V\",ASISTENCIA!AA31<>\"F\",ASISTENCIA!AA31<>\"\"),SUMIF($F$13:$J$13,AG$13,$F32:$J32),\"\")","v":""},{"$f":"IF(AND(LEN($D32)>0,SUMIF($F$13:$J$13,AH$13,$F32:$J32)>0,ASISTENCIA!AB31<>\"X\",ASISTENCIA!AB31<>\"L\",ASISTENCIA!AB31<>\"J\",ASISTENCIA!AB31<>\"V\",ASISTENCIA!AB31<>\"F\",ASISTENCIA!AB31<>\"\"),SUMIF($F$13:$J$13,AH$13,$F32:$J32),\"\")","v":""},{"$f":"IF(AND(LEN($D32)>0,SUMIF($F$13:$J$13,AI$13,$F32:$J32)>0,ASISTENCIA!AC31<>\"X\",ASISTENCIA!AC31<>\"L\",ASISTENCIA!AC31<>\"J\",ASISTENCIA!AC31<>\"V\",ASISTENCIA!AC31<>\"F\",ASISTENCIA!AC31<>\"\"),SUMIF($F$13:$J$13,AI$13,$F32:$J32),\"\")","v":""},{"$f":"IF(AND(LEN($D32)>0,SUMIF($F$13:$J$13,AJ$13,$F32:$J32)>0,ASISTENCIA!AD31<>\"X\",ASISTENCIA!AD31<>\"L\",ASISTENCIA!AD31<>\"J\",ASISTENCIA!AD31<>\"V\",ASISTENCIA!AD31<>\"F\",ASISTENCIA!AD31<>\"\"),SUMIF($F$13:$J$13,AJ$13,$F32:$J32),\"\")","v":""},{"$f":"IF(AND(LEN($D32)>0,SUMIF($F$13:$J$13,AK$13,$F32:$J32)>0,ASISTENCIA!AE31<>\"X\",ASISTENCIA!AE31<>\"L\",ASISTENCIA!AE31<>\"J\",ASISTENCIA!AE31<>\"V\",ASISTENCIA!AE31<>\"F\",ASISTENCIA!AE31<>\"\"),SUMIF($F$13:$J$13,AK$13,$F32:$J32),\"\")","v":""},{"$f":"IF(AND(LEN($D32)>0,SUMIF($F$13:$J$13,AL$13,$F32:$J32)>0,ASISTENCIA!AF31<>\"X\",ASISTENCIA!AF31<>\"L\",ASISTENCIA!AF31<>\"J\",ASISTENCIA!AF31<>\"V\",ASISTENCIA!AF31<>\"F\",ASISTENCIA!AF31<>\"\"),SUMIF($F$13:$J$13,AL$13,$F32:$J32),\"\")","v":""},{"$f":"IF(AND(LEN($D32)>0,SUMIF($F$13:$J$13,AM$13,$F32:$J32)>0,ASISTENCIA!AG31<>\"X\",ASISTENCIA!AG31<>\"L\",ASISTENCIA!AG31<>\"J\",ASISTENCIA!AG31<>\"V\",ASISTENCIA!AG31<>\"F\",ASISTENCIA!AG31<>\"\"),SUMIF($F$13:$J$13,AM$13,$F32:$J32),\"\")","v":""},{"$f":"IF(AND(LEN($D32)>0,SUMIF($F$13:$J$13,AN$13,$F32:$J32)>0,ASISTENCIA!AH31<>\"X\",ASISTENCIA!AH31<>\"L\",ASISTENCIA!AH31<>\"J\",ASISTENCIA!AH31<>\"V\",ASISTENCIA!AH31<>\"F\",ASISTENCIA!AH31<>\"\"),SUMIF($F$13:$J$13,AN$13,$F32:$J32),\"\")","v":""},{"$f":"IF(AND(LEN($D32)>0,SUMIF($F$13:$J$13,AO$13,$F32:$J32)>0,ASISTENCIA!AI31<>\"X\",ASISTENCIA!AI31<>\"L\",ASISTENCIA!AI31<>\"J\",ASISTENCIA!AI31<>\"V\",ASISTENCIA!AI31<>\"F\",ASISTENCIA!AI31<>\"\"),SUMIF($F$13:$J$13,AO$13,$F32:$J32),\"\")","v":""},{"$f":"IF(AND(LEN($D32)>0,SUMIF($F$13:$J$13,AP$13,$F32:$J32)>0,ASISTENCIA!AJ31<>\"X\",ASISTENCIA!AJ31<>\"L\",ASISTENCIA!AJ31<>\"J\",ASISTENCIA!AJ31<>\"V\",ASISTENCIA!AJ31<>\"F\",ASISTENCIA!AJ31<>\"\"),SUMIF($F$13:$J$13,AP$13,$F32:$J32),\"\")","v":""},{"$f":"IF(AND(LEN($D32)>0,SUMIF($F$13:$J$13,AQ$13,$F32:$J32)>0,ASISTENCIA!AK31<>\"X\",ASISTENCIA!AK31<>\"L\",ASISTENCIA!AK31<>\"J\",ASISTENCIA!AK31<>\"V\",ASISTENCIA!AK31<>\"F\",ASISTENCIA!AK31<>\"\"),SUMIF($F$13:$J$13,AQ$13,$F32:$J32),\"\")","v":""},{"$f":"IF(AND(LEN($D32)>0,SUMIF($F$13:$J$13,AR$13,$F32:$J32)>0,ASISTENCIA!AL31<>\"X\",ASISTENCIA!AL31<>\"L\",ASISTENCIA!AL31<>\"J\",ASISTENCIA!AL31<>\"V\",ASISTENCIA!AL31<>\"F\",ASISTENCIA!AL31<>\"\"),SUMIF($F$13:$J$13,AR$13,$F32:$J32),\"\")","v":""},{"$f":"IF(AND(LEN($D32)>0,SUMIF($F$13:$J$13,AS$13,$F32:$J32)>0,ASISTENCIA!AM31<>\"X\",ASISTENCIA!AM31<>\"L\",ASISTENCIA!AM31<>\"J\",ASISTENCIA!AM31<>\"V\",ASISTENCIA!AM31<>\"F\",ASISTENCIA!AM31<>\"\"),SUMIF($F$13:$J$13,AS$13,$F32:$J32),\"\")","v":""},"",null,null,null,{"$f":"IF(AND(LEN($D32)>0,SUMIF($F$13:$J$13,AX$13,$F32:$J32)>0,ASISTENCIA!AU31<>\"X\",ASISTENCIA!AU31<>\"L\",ASISTENCIA!AU31<>\"J\",ASISTENCIA!AU31<>\"F\"),SUMIF($F$13:$J$13,AX$13,$F32:$J32),\"\")","v":""},{"$f":"IF(AND(LEN($D32)>0,SUMIF($F$13:$J$13,AY$13,$F32:$J32)>0,ASISTENCIA!AV31<>\"X\",ASISTENCIA!AV31<>\"L\",ASISTENCIA!AV31<>\"J\",ASISTENCIA!AV31<>\"F\"),SUMIF($F$13:$J$13,AY$13,$F32:$J32),\"\")","v":""},{"$f":"IF(AND(LEN($D32)>0,SUMIF($F$13:$J$13,AZ$13,$F32:$J32)>0,ASISTENCIA!AW31<>\"X\",ASISTENCIA!AW31<>\"L\",ASISTENCIA!AW31<>\"J\",ASISTENCIA!AW31<>\"F\"),SUMIF($F$13:$J$13,AZ$13,$F32:$J32),\"\")","v":""},{"$f":"IF(AND(LEN($D32)>0,SUMIF($F$13:$J$13,BA$13,$F32:$J32)>0,ASISTENCIA!AX31<>\"X\",ASISTENCIA!AX31<>\"L\",ASISTENCIA!AX31<>\"J\",ASISTENCIA!AX31<>\"F\"),SUMIF($F$13:$J$13,BA$13,$F32:$J32),\"\")","v":""},{"$f":"IF(AND(LEN($D32)>0,SUMIF($F$13:$J$13,BB$13,$F32:$J32)>0,ASISTENCIA!AY31<>\"X\",ASISTENCIA!AY31<>\"L\",ASISTENCIA!AY31<>\"J\",ASISTENCIA!AY31<>\"F\"),SUMIF($F$13:$J$13,BB$13,$F32:$J32),\"\")","v":""},{"$f":"IF(AND(LEN($D32)>0,SUMIF($F$13:$J$13,BC$13,$F32:$J32)>0,ASISTENCIA!AZ31<>\"X\",ASISTENCIA!AZ31<>\"L\",ASISTENCIA!AZ31<>\"J\",ASISTENCIA!AZ31<>\"F\"),SUMIF($F$13:$J$13,BC$13,$F32:$J32),\"\")","v":""},{"$f":"IF(AND(LEN($D32)>0,SUMIF($F$13:$J$13,BD$13,$F32:$J32)>0,ASISTENCIA!BA31<>\"X\",ASISTENCIA!BA31<>\"L\",ASISTENCIA!BA31<>\"J\",ASISTENCIA!BA31<>\"F\"),SUMIF($F$13:$J$13,BD$13,$F32:$J32),\"\")","v":""},{"$f":"IF(AND(LEN($D32)>0,SUMIF($F$13:$J$13,BE$13,$F32:$J32)>0,ASISTENCIA!BB31<>\"X\",ASISTENCIA!BB31<>\"L\",ASISTENCIA!BB31<>\"J\",ASISTENCIA!BB31<>\"F\"),SUMIF($F$13:$J$13,BE$13,$F32:$J32),\"\")","v":""},{"$f":"IF(AND(LEN($D32)>0,SUMIF($F$13:$J$13,BF$13,$F32:$J32)>0,ASISTENCIA!#REF!<>\"X\",ASISTENCIA!#REF!<>\"L\",ASISTENCIA!#REF!<>\"J\",ASISTENCIA!#REF!<>\"F\"),SUMIF($F$13:$J$13,BF$13,$F32:$J32),\"\")","v":{"$error":"#REF!"}},{"$f":"IF(AND(LEN($D32)>0,SUMIF($F$13:$J$13,BG$13,$F32:$J32)>0,ASISTENCIA!#REF!<>\"X\",ASISTENCIA!#REF!<>\"L\",ASISTENCIA!#REF!<>\"J\",ASISTENCIA!#REF!<>\"F\"),SUMIF($F$13:$J$13,BG$13,$F32:$J32),\"\")","v":{"$error":"#REF!"}},{"$f":"IF(AND(LEN($D32)>0,SUMIF($F$13:$J$13,BH$13,$F32:$J32)>0,ASISTENCIA!BE31<>\"X\",ASISTENCIA!BE31<>\"L\",ASISTENCIA!BE31<>\"J\",ASISTENCIA!BE31<>\"F\"),SUMIF($F$13:$J$13,BH$13,$F32:$J32),\"\")","v":""},{"$f":"IF(AND(LEN($D32)>0,SUMIF($F$13:$J$13,BI$13,$F32:$J32)>0,ASISTENCIA!BF31<>\"X\",ASISTENCIA!BF31<>\"L\",ASISTENCIA!BF31<>\"J\",ASISTENCIA!BF31<>\"F\"),SUMIF($F$13:$J$13,BI$13,$F32:$J32),\"\")","v":""},{"$f":"IF(AND(LEN($D32)>0,SUMIF($F$13:$J$13,BJ$13,$F32:$J32)>0,ASISTENCIA!BG31<>\"X\",ASISTENCIA!BG31<>\"L\",ASISTENCIA!BG31<>\"J\",ASISTENCIA!BG31<>\"F\"),SUMIF($F$13:$J$13,BJ$13,$F32:$J32),\"\")","v":""},{"$f":"IF(AND(LEN($D32)>0,SUMIF($F$13:$J$13,BK$13,$F32:$J32)>0,ASISTENCIA!BH31<>\"X\",ASISTENCIA!BH31<>\"L\",ASISTENCIA!BH31<>\"J\",ASISTENCIA!BH31<>\"F\"),SUMIF($F$13:$J$13,BK$13,$F32:$J32),\"\")","v":""},{"$f":"IF(AND(LEN($D32)>0,SUMIF($F$13:$J$13,BL$13,$F32:$J32)>0,ASISTENCIA!BI31<>\"X\",ASISTENCIA!BI31<>\"L\",ASISTENCIA!BI31<>\"J\",ASISTENCIA!BI31<>\"F\"),SUMIF($F$13:$J$13,BL$13,$F32:$J32),\"\")","v":""},{"$f":"IF(AND(LEN($D32)>0,SUMIF($F$13:$J$13,BM$13,$F32:$J32)>0,ASISTENCIA!BJ31<>\"X\",ASISTENCIA!BJ31<>\"L\",ASISTENCIA!BJ31<>\"J\",ASISTENCIA!BJ31<>\"F\"),SUMIF($F$13:$J$13,BM$13,$F32:$J32),\"\")","v":""},{"$f":"IF(AND(LEN($D32)>0,SUMIF($F$13:$J$13,BN$13,$F32:$J32)>0,ASISTENCIA!BK31<>\"X\",ASISTENCIA!BK31<>\"L\",ASISTENCIA!BK31<>\"J\",ASISTENCIA!BK31<>\"F\"),SUMIF($F$13:$J$13,BN$13,$F32:$J32),\"\")","v":""},{"$f":"IF(AND(LEN($D32)>0,SUMIF($F$13:$J$13,BO$13,$F32:$J32)>0,ASISTENCIA!BL31<>\"X\",ASISTENCIA!BL31<>\"L\",ASISTENCIA!BL31<>\"J\",ASISTENCIA!BL31<>\"F\"),SUMIF($F$13:$J$13,BO$13,$F32:$J32),\"\")","v":""},{"$f":"IF(AND(LEN($D32)>0,SUMIF($F$13:$J$13,BP$13,$F32:$J32)>0,ASISTENCIA!BM31<>\"X\",ASISTENCIA!BM31<>\"L\",ASISTENCIA!BM31<>\"J\",ASISTENCIA!BM31<>\"F\"),SUMIF($F$13:$J$13,BP$13,$F32:$J32),\"\")","v":""},{"$f":"IF(AND(LEN($D32)>0,SUMIF($F$13:$J$13,BQ$13,$F32:$J32)>0,ASISTENCIA!BN31<>\"X\",ASISTENCIA!BN31<>\"L\",ASISTENCIA!BN31<>\"J\",ASISTENCIA!BN31<>\"F\"),SUMIF($F$13:$J$13,BQ$13,$F32:$J32),\"\")","v":""},{"$f":"IF(AND(LEN($D32)>0,SUMIF($F$13:$J$13,BR$13,$F32:$J32)>0,ASISTENCIA!BO31<>\"X\",ASISTENCIA!BO31<>\"L\",ASISTENCIA!BO31<>\"J\",ASISTENCIA!BO31<>\"F\"),SUMIF($F$13:$J$13,BR$13,$F32:$J32),\"\")","v":""},{"$f":"IF(AND(LEN($D32)>0,SUMIF($F$13:$J$13,BS$13,$F32:$J32)>0,ASISTENCIA!BP31<>\"X\",ASISTENCIA!BP31<>\"L\",ASISTENCIA!BP31<>\"J\",ASISTENCIA!BP31<>\"F\"),SUMIF($F$13:$J$13,BS$13,$F32:$J32),\"\")","v":""},{"$f":"IF(AND(LEN($D32)>0,SUMIF($F$13:$J$13,BT$13,$F32:$J32)>0,ASISTENCIA!BQ31<>\"X\",ASISTENCIA!BQ31<>\"L\",ASISTENCIA!BQ31<>\"J\",ASISTENCIA!BQ31<>\"F\"),SUMIF($F$13:$J$13,BT$13,$F32:$J32),\"\")","v":""},{"$f":"IF(AND(LEN($D32)>0,SUMIF($F$13:$J$13,BU$13,$F32:$J32)>0,ASISTENCIA!BR31<>\"X\",ASISTENCIA!BR31<>\"L\",ASISTENCIA!BR31<>\"J\",ASISTENCIA!BR31<>\"F\"),SUMIF($F$13:$J$13,BU$13,$F32:$J32),\"\")","v":""},{"$f":"IF(AND(LEN($D32)>0,SUMIF($F$13:$J$13,BV$13,$F32:$J32)>0,ASISTENCIA!BS31<>\"X\",ASISTENCIA!BS31<>\"L\",ASISTENCIA!BS31<>\"J\",ASISTENCIA!BS31<>\"F\"),SUMIF($F$13:$J$13,BV$13,$F32:$J32),\"\")","v":""},{"$f":"IF(AND(LEN($D32)>0,SUMIF($F$13:$J$13,BW$13,$F32:$J32)>0,ASISTENCIA!BT31<>\"X\",ASISTENCIA!BT31<>\"L\",ASISTENCIA!BT31<>\"J\",ASISTENCIA!BT31<>\"F\"),SUMIF($F$13:$J$13,BW$13,$F32:$J32),\"\")","v":""},{"$f":"IF(AND(LEN($D32)>0,SUMIF($F$13:$J$13,BX$13,$F32:$J32)>0,ASISTENCIA!BU31<>\"X\",ASISTENCIA!BU31<>\"L\",ASISTENCIA!BU31<>\"J\",ASISTENCIA!BU31<>\"F\"),SUMIF($F$13:$J$13,BX$13,$F32:$J32),\"\")","v":""},{"$f":"IF(AND(LEN($D32)>0,SUMIF($F$13:$J$13,BY$13,$F32:$J32)>0,ASISTENCIA!BV31<>\"X\",ASISTENCIA!BV31<>\"L\",ASISTENCIA!BV31<>\"J\",ASISTENCIA!BV31<>\"F\"),SUMIF($F$13:$J$13,BY$13,$F32:$J32),\"\")","v":""},{"$f":"IF(AND(LEN($D32)>0,SUMIF($F$13:$J$13,BZ$13,$F32:$J32)>0,ASISTENCIA!BW31<>\"X\",ASISTENCIA!BW31<>\"L\",ASISTENCIA!BW31<>\"J\",ASISTENCIA!BW31<>\"F\"),SUMIF($F$13:$J$13,BZ$13,$F32:$J32),\"\")","v":""},{"$f":"IF(AND(LEN($D32)>0,SUMIF($F$13:$J$13,CA$13,$F32:$J32)>0,ASISTENCIA!BX31<>\"X\",ASISTENCIA!BX31<>\"L\",ASISTENCIA!BX31<>\"J\",ASISTENCIA!BX31<>\"F\"),SUMIF($F$13:$J$13,CA$13,$F32:$J32),\"\")","v":""},{"$f":"IF(AND(LEN($D32)>0,SUMIF($F$13:$J$13,CB$13,$F32:$J32)>0,ASISTENCIA!BY31<>\"X\",ASISTENCIA!BY31<>\"L\",ASISTENCIA!BY31<>\"J\",ASISTENCIA!BY31<>\"F\"),SUMIF($F$13:$J$13,CB$13,$F32:$J32),\"\")","v":""},{"$error":"#REF!"}]
["",{"$f":"IF(LEN(C33)>0,VLOOKUP($O$4,DATA!$A$1:$S$1,2,FALSE),\"\")","v":""},"",{"$f":"IF(LEN(ASISTENCIA!E32)>0,ASISTENCIA!E32,\"\")","v":""},{"$f":"IF(LEN(D33)>0,ASISTENCIA!F32,\"\")","v":""},null,null,null,null,null,"",null,null,{"$error":"#REF!"},{"$f":"IF(AND(LEN($D33)>0,SUMIF($F$13:$J$13,O$13,$F33:$J33)>0,ASISTENCIA!I32<>\"X\",ASISTENCIA!I32<>\"L\",ASISTENCIA!I32<>\"J\",ASISTENCIA!I32<>\"V\",ASISTENCIA!I32<>\"F\",ASISTENCIA!I32<>\"\"),SUMIF($F$13:$J$13,O$13,$F33:$J33),\"\")","v":""},{"$f":"IF(AND(LEN($D33)>0,SUMIF($F$13:$J$13,P$13,$F33:$J33)>0,ASISTENCIA!J32<>\"X\",ASISTENCIA!J32<>\"L\",ASISTENCIA!J32<>\"J\",ASISTENCIA!J32<>\"V\",ASISTENCIA!J32<>\"F\",ASISTENCIA!J32<>\"\"),SUMIF($F$13:$J$13,P$13,$F33:$J33),\"\")","v":""},{"$f":"IF(AND(LEN($D33)>0,SUMIF($F$13:$J$13,Q$13,$F33:$J33)>0,ASISTENCIA!K32<>\"X\",ASISTENCIA!K32<>\"L\",ASISTENCIA!K32<>\"J\",ASISTENCIA!K32<>\"V\",ASISTENCIA!K32<>\"F\",ASISTENCIA!K32<>\"\"),SUMIF($F$13:$J$13,Q$13,$F33:$J33),\"\")","v":""},{"$f":"IF(AND(LEN($D33)>0,SUMIF($F$13:$J$13,R$13,$F33:$J33)>0,ASISTENCIA!L32<>\"X\",ASISTENCIA!L32<>\"L\",ASISTENCIA!L32<>\"J\",ASISTENCIA!L32<>\"V\",ASISTENCIA!L32<>\"F\",ASISTENCIA!L32<>\"\"),SUMIF($F$13:$J$13,R$13,$F33:$J33),\"\")","v":""},{"$f":"IF(AND(LEN($D33)>0,SUMIF($F$13:$J$13,S$13,$F33:$J33)>0,ASISTENCIA!M32<>\"X\",ASISTENCIA!M32<>\"L\",ASISTENCIA!M32<>\"J\",ASISTENCIA!M32<>\"V\",ASISTENCIA!M32<>\"F\",ASISTENCIA!M32<>\"\"),SUMIF($F$13:$J$13,S$13,$F33:$J33),\"\")","v":""},{"$f":"IF(AND(LEN($D33)>0,SUMIF($F$13:$J$13,T$13,$F33:$J33)>0,ASISTENCIA!N32<>\"X\",ASISTENCIA!N32<>\"L\",ASISTENCIA!N32<>\"J\",ASISTENCIA!N32<>\"V\",ASISTENCIA!N32<>\"F\",ASISTENCIA!N32<>\"\"),SUMIF($F$13:$J$13,T$13,$F33:$J33),\"\")","v":""},{"$f":"IF(AND(LEN($D33)>0,SUMIF($F$13:$J$13,U$13,$F33:$J33)>0,ASISTENCIA!O32<>\"X\",ASISTENCIA!O32<>\"L\",ASISTENCIA!O32<>\"J\",ASISTENCIA!O32<>\"V\",ASISTENCIA!O32<>\"F\",ASISTENCIA!O32<>\"\"),SUMIF($F$13:$J$13,U$13,$F33:$J33),\"\")","v":""},{"$f":"IF(AND(LEN($D33)>0,SUMIF($F$13:$J$13,V$13,$F33:$J33)>0,ASISTENCIA!P32<>\"X\",ASISTENCIA!P32<>\"L\",ASISTENCIA!P32<>\"J\",ASISTENCIA!P32<>\"V\",ASISTENCIA!P32<>\"F\",ASISTENCIA!P32<>\"\"),SUMIF($F$13:$J$13,V$13,$F33:$J33),\"\")","v":""},{"$f":"IF(AND(LEN($D33)>0,SUMIF($F$13:$J$13,W$13,$F33:$J33)>0,ASISTENCIA!Q32<>\"X\",ASISTENCIA!Q32<>\"L\",ASISTENCIA!Q32<>\"J\",ASISTENCIA!Q32<>\"V\",ASISTENCIA!Q32<>\"F\",ASISTENCIA!Q32<>\"\"),SUMIF($F$13:$J$13,W$13,$F33:$J33),\"\")","v":""},{"$f":"IF(AND(LEN($D33)>0,SUMIF($F$13:$J$13,X$13,$F33:$J33)>0,ASISTENCIA!R32<>\"X\",ASISTENCIA!R32<>\"L\",ASISTENCIA!R32<>\"J\",ASISTENCIA!R32<>\"V\",ASISTENCIA!R32<>\"F\",ASISTENCIA!R32<>\"\"),SUMIF($F$13:$J$13,X$13,$F33:$J33),\"\")","v":""},{"$f":"IF(AND(LEN($D33)>0,SUMIF($F$13:$J$13,Y$13,$F33:$J33)>0,ASISTENCIA!S32<>\"X\",ASISTENCIA!S32<>\"L\",ASISTENCIA!S32<>\"J\",ASISTENCIA!S32<>\"V\",ASISTENCIA!S32<>\"F\",ASISTENCIA!S32<>\"\"),SUMIF($F$13:$J$13,Y$13,$F33:$J33),\"\")","v":""},{"$f":"IF(AND(LEN($D33)>0,SUMIF($F$13:$J$13,Z$13,$F33:$J33)>0,ASISTENCIA!T32<>\"X\",ASISTENCIA!T32<>\"L\",ASISTENCIA!T32<>\"J\",ASISTENCIA!T32<>\"V\",ASISTENCIA!T32<>\"F\",ASISTENCIA!T32<>\"\"),SUMIF($F$13:$J$13,Z$13,$F33:$J33),\"\")","v":""},{"$f":"IF(AND(LEN($D33)>0,SUMIF($F$13:$J$13,AA$13,$F33:$J33)>0,ASISTENCIA!U32<>\"X\",ASISTENCIA!U32<>\"L\",ASISTENCIA!U32<>\"J\",ASISTENCIA!U32<>\"V\",ASISTENCIA!U32<>\"F\",ASISTENCIA!U32<>\"\"),SUMIF($F$13:$J$13,AA$13,$F33:$J33),\"\")","v":""},{"$f":"IF(AND(LEN($D33)>0,SUMIF($F$13:$J$13,AB$13,$F33:$J33)>0,ASISTENCIA!V32<>\"X\",ASISTENCIA!V32<>\"L\",ASISTENCIA!V32<>\"J\",ASISTENCIA!V32<>\"V\",ASISTENCIA!V32<>\"F\",ASISTENCIA!V32<>\"\"),SUMIF($F$13:$J$13,AB$13,$F33:$J33),\"\")","v":""},{"$f":"IF(AND(LEN($D33)>0,SUMIF($F$13:$J$13,AC$13,$F33:$J33)>0,ASISTENCIA!W32<>\"X\",ASISTENCIA!W32<>\"L\",ASISTENCIA!W32<>\"J\",ASISTENCIA!W32<>\"V\",ASISTENCIA!W32<>\"F\",ASISTENCIA!W32<>\"\"),SUMIF($F$13:$J$13,AC$13,$F33:$J33),\"\")","v":""},{"$f":"IF(AND(LEN($D33)>0,SUMIF($F$13:$J$13,AD$13,$F33:$J33)>0,ASISTENCIA!X32<>\"X\",ASISTENCIA!X32<>\"L\",ASISTENCIA!X32<>\"J\",ASISTENCIA!X32<>\"V\",ASISTENCIA!X32<>\"F\",ASISTENCIA!X32<>\"\"),SUMIF($F$13:$J$13,AD$13,$F33:$J33),\"\")","v":""},{"$f":"IF(AND(LEN($D33)>0,SUMIF($F$13:$J$13,AE$13,$F33:$J33)>0,ASISTENCIA!Y32<>\"X\",ASISTENCIA!Y32<>\"L\",ASISTENCIA!Y32<>\"J\",ASISTENCIA!Y32<>\"V\",ASISTENCIA!Y32<>\"F\",ASISTENCIA!Y32<>\"\"),SUMIF($F$13:$J$13,AE$13,$F33:$J33),\"\")","v":""},{"$f":"IF(AND(LEN($D33)>0,SUMIF($F$13:$J$13,AF$13,$F33:$J33)>0,ASISTENCIA!Z32<>\"X\",ASISTENCIA!Z32<>\"L\",ASISTENCIA!Z32<>\"J\",ASISTENCIA!Z32<>\"V\",ASISTENCIA!Z32<>\"F\",ASISTENCIA!Z32<>\"\"),SUMIF($F$13:$J$13,AF$13,$F33:$J33),\"\")","v":""},{"$f":"IF(AND(LEN($D33)>0,SUMIF($F$13:$J$13,AG$13,$F33:$J33)>0,ASISTENCIA!AA32<>\"X\",ASISTENCIA!AA32<>\"L\",ASISTENCIA!AA32<>\"J\",ASISTENCIA!AA32<>\"V\",ASISTENCIA!AA32<>\"F\",ASISTENCIA!AA32<>\"\"),SUMIF($F$13:$J$13,AG$13,$F33:$J33),\"\")","v":""},{"$f":"IF(AND(LEN($D33)>0,SUMIF($F$13:$J$13,AH$13,$F33:$J33)>0,ASISTENCIA!AB32<>\"X\",ASISTENCIA!AB32<>\"L\",ASISTENCIA!AB32<>\"J\",ASISTENCIA!AB32<>\"V\",ASISTENCIA!AB32<>\"F\",ASISTENCIA!AB32<>\"\"),SUMIF($F$13:$J$13,AH$13,$F33:$J33),\"\")","v":""},{"$f":"IF(AND(LEN($D33)>0,SUMIF($F$13:$J$13,AI$13,$F33:$J33)>0,ASISTENCIA!AC32<>\"X\",ASISTENCIA!AC32<>\"L\",ASISTENCIA!AC32<>\"J\",ASISTENCIA!AC32<>\"V\",ASISTENCIA!AC32<>\"F\",ASISTENCIA!AC32<>\"\"),SUMIF($F$13:$J$13,AI$13,$F33:$J33),\"\")","v":""},{"$f":"IF(AND(LEN($D33)>0,SUMIF($F$13:$J$13,AJ$13,$F33:$J33)>0,ASISTENCIA!AD32<>\"X\",ASISTENCIA!AD32<>\"L\",ASISTENCIA!AD32<>\"J\",ASISTENCIA!AD32<>\"V\",ASISTENCIA!AD32<>\"F\",ASISTENCIA!AD32<>\"\"),SUMIF($F$13:$J$13,AJ$13,$F33:$J33),\"\")","v":""},{"$f":"IF(AND(LEN($D33)>0,SUMIF($F$13:$J$13,AK$13,$F33:$J33)>0,ASISTENCIA!AE32<>\"X\",ASISTENCIA!AE32<>\"L\",ASISTENCIA!AE32<>\"J\",ASISTENCIA!AE32<>\"V\",ASISTENCIA!AE32<>\"F\",ASISTENCIA!AE32<>\"\"),SUMIF($F$13:$J$13,AK$13,$F33:$J33),\"\")","v":""},{"$f":"IF(AND(LEN($D33)>0,SUMIF($F$13:$J$13,AL$13,$F33:$J33)>0,ASISTENCIA!AF32<>\"X\",ASISTENCIA!AF32<>\"L\",ASISTENCIA!AF32<>\"J\",ASISTENCIA!AF32<>\"V\",ASISTENCIA!AF32<>\"F\",ASISTENCIA!AF32<>\"\"),SUMIF($F$13:$J$13,AL$13,$F33:$J33),\"\")","v":""},{"$f":"IF(AND(LEN($D33)>0,SUMIF($F$13:$J$13,AM$13,$F33:$J33)>0,ASISTENCIA!AG32<>\"X\",ASISTENCIA!AG32<>\"L\",ASISTENCIA!AG32<>\"J\",ASISTENCIA!AG32<>\"V\",ASISTENCIA!AG32<>\"F\",ASISTENCIA!AG32<>\"\"),SUMIF($F$13:$J$13,AM$13,$F33:$J33),\"\")","v":""},{"$f":"IF(AND(LEN($D33)>0,SUMIF($F$13:$J$13,AN$13,$F33:$J33)>0,ASISTENCIA!AH32<>\"X\",ASISTENCIA!AH32<>\"L\",ASISTENCIA!AH32<>\"J\",ASISTENCIA!AH32<>\"V\",ASISTENCIA!AH32<>\"F\",ASISTENCIA!AH32<>\"\"),SUMIF($F$13:$J$13,AN$13,$F33:$J33),\"\")","v":""},{"$f":"IF(AND(LEN($D33)>0,SUMIF($F$13:$J$13,AO$13,$F33:$J33)>0,ASISTENCIA!AI32<>\"X\",ASISTENCIA!AI32<>\"L\",ASISTENCIA!AI32<>\"J\",ASISTENCIA!AI32<>\"V\",ASISTENCIA!AI32<>\"F\",ASISTENCIA!AI32<>\"\"),SUMIF($F$13:$J$13,AO$13,$F33:$J33),\"\")","v":""},{"$f":"IF(AND(LEN($D33)>0,SUMIF($F$13:$J$13,AP$13,$F33:$J33)>0,ASISTENCIA!AJ32<>\"X\",ASISTENCIA!AJ32<>\"L\",ASISTENCIA!AJ32<>\"J\",ASISTENCIA!AJ32<>\"V\",ASISTENCIA!AJ32<>\"F\",ASISTENCIA!AJ32<>\"\"),SUMIF($F$13:$J$13,AP$13,$F33:$J33),\"\")","v":""},{"$f":"IF(AND(LEN($D33)>0,SUMIF($F$13:$J$13,AQ$13,$F33:$J33)>0,ASISTENCIA!AK32<>\"X\",ASISTENCIA!AK32<>\"L\",ASISTENCIA!AK32<>\"J\",ASISTENCIA!AK32<>\"V\",ASISTENCIA!AK32<>\"F\",ASISTENCIA!AK32<>\"\"),SUMIF($F$13:$J$13,AQ$13,$F33:$J33),\"\")","v":""},{"$f":"IF(AND(LEN($D33)>0,SUMIF($F$13:$J$13,AR$13,$F33:$J33)>0,ASISTENCIA!AL32<>\"X\",ASISTENCIA!AL32<>\"L\",ASISTENCIA!AL32<>\"J\",ASISTENCIA!AL32<>\"V\",ASISTENCIA!AL32<>\"F\",ASISTENCIA!AL32<>\"\"),SUMIF($F$13:$J$13,AR$13,$F33:$J33),\"\")","v":""},{"$f":"IF(AND(LEN($D33)>0,SUMIF($F$13:$J$13,AS$13,$F33:$J33)>0,ASISTENCIA!AM32<>\"X\",ASISTENCIA!AM32<>\"L\",ASISTENCIA!AM32<>\"J\",ASISTENCIA!AM32<>\"V\",ASISTENCIA!AM32<>\"F\",ASISTENCIA!AM32<>\"\"),SUMIF($F$13:$J$13,AS$13,$F33:$J33),\"\")","v":""},"",null,null,null,{"$f":"IF(AND(LEN($D33)>0,SUMIF($F$13:$J$13,AX$13,$F33:$J33)>0,ASISTENCIA!AU32<>\"X\",ASISTENCIA!AU32<>\"L\",ASISTENCIA!AU32<>\"J\",ASISTENCIA!AU32<>\"F\"),SUMIF($F$13:$J$13,AX$13,$F33:$J33),\"\")","v":""},{"$f":"IF(AND(LEN($D33)>0,SUMIF($F$13:$J$13,AY$13,$F33:$J33)>0,ASISTENCIA!AV32<>\"X\",ASISTENCIA!AV32<>\"L\",ASISTENCIA!AV32<>\"J\",ASISTENCIA!AV32<>\"F\"),SUMIF($F$13:$J$13,AY$13,$F33:$J33),\"\")","v":""},{"$f":"IF(AND(LEN($D33)>0,SUMIF($F$13:$J$13,AZ$13,$F33:$J33)>0,ASISTENCIA!AW32<>\"X\",ASISTENCIA!AW32<>\"L\",ASISTENCIA!AW32<>\"J\",ASISTENCIA!AW32<>\"F\"),SUMIF($F$13:$J$13,AZ$13,$F33:$J33),\"\")","v":""},{"$f":"IF(AND(LEN($D33)>0,SUMIF($F$13:$J$13,BA$13,$F33:$J33)>0,ASISTENCIA!AX32<>\"X\",ASISTENCIA!AX32<>\"L\",ASISTENCIA!AX32<>\"J\",ASISTENCIA!AX32<>\"F\"),SUMIF($F$13:$J$13,BA$13,$F33:$J33),\"\")","v":""},{"$f":"IF(AND(LEN($D33)>0,SUMIF($F$13:$J$13,BB$13,$F33:$J33)>0,ASISTENCIA!AY32<>\"X\",ASISTENCIA!AY32<>\"L\",ASISTENCIA!AY32<>\"J\",ASISTENCIA!AY32<>\"F\"),SUMIF($F$13:$J$13,BB$13,$F33:$J33),\"\")","v":""},{"$f":"IF(AND(LEN($D33)>0,SUMIF($F$13:$J$13,BC$13,$F33:$J33)>0,ASISTENCIA!AZ32<>\"X\",ASISTENCIA!AZ32<>\"L\",ASISTENCIA!AZ32<>\"J\",ASISTENCIA!AZ32<>\"F\"),SUMIF($F$13:$J$13,BC$13,$F33:$J33),\"\")","v":""},{"$f":"IF(AND(LEN($D33)>0,SUMIF($F$13:$J$13,BD$13,$F33:$J33)>0,ASISTENCIA!BA32<>\"X\",ASISTENCIA!BA32<>\"L\",ASISTENCIA!BA32<>\"J\",ASISTENCIA!BA32<>\"F\"),SUMIF($F$13:$J$13,BD$13,$F33:$J33),\"\")","v":""},{"$f":"IF(AND(LEN($D33)>0,SUMIF($F$13:$J$13,BE$13,$F33:$J33)>0,ASISTENCIA!BB32<>\"X\",ASISTENCIA!BB32<>\"L\",ASISTENCIA!BB32<>\"J\",ASISTENCIA!BB32<>\"F\"),SUMIF($F$13:$J$13,BE$13,$F33:$J33),\"\")","v":""},{"$f":"IF(AND(LEN($D33)>0,SUMIF($F$13:$J$13,BF$13,$F33:$J33)>0,ASISTENCIA!#REF!<>\"X\",ASISTENCIA!#REF!<>\"L\",ASISTENCIA!#REF!<>\"J\",ASISTENCIA!#REF!<>\"F\"),SUMIF($F$13:$J$13,BF$13,$F33:$J33),\"\")","v":{"$error":"#REF!"}},{"$f":"IF(AND(LEN($D33)>0,SUMIF($F$13:$J$13,BG$13,$F33:$J33)>0,ASISTENCIA!#REF!<>\"X\",ASISTENCIA!#REF!<>\"L\",ASISTENCIA!#REF!<>\"J\",ASISTENCIA!#REF!<>\"F\"),SUMIF($F$13:$J$13,BG$13,$F33:$J33),\"\")","v":{"$error":"#REF!"}},{"$f":"IF(AND(LEN($D33)>0,SUMIF($F$13:$J$13,BH$13,$F33:$J33)>0,ASISTENCIA!BE32<>\"X\",ASISTENCIA!BE32<>\"L\",ASISTENCIA!BE32<>\"J\",ASISTENCIA!BE32<>\"F\"),SUMIF($F$13:$J$13,BH$13,$F33:$J33),\"\")","v":""},{"$f":"IF(AND(LEN($D33)>0,SUMIF($F$13:$J$13,BI$13,$F33:$J33)>0,ASISTENCIA!BF32<>\"X\",ASISTENCIA!BF32<>\"L\",ASISTENCIA!BF32<>\"J\",ASISTENCIA!BF32<>\"F\"),SUMIF($F$13:$J$13,BI$13,$F33:$J33),\"\")","v":""},{"$f":"IF(AND(LEN($D33)>0,SUMIF($F$13:$J$13,BJ$13,$F33:$J33)>0,ASISTENCIA!BG32<>\"X\",ASISTENCIA!BG32<>\"L\",ASISTENCIA!BG32<>\"J\",ASISTENCIA!BG32<>\"F\"),SUMIF($F$13:$J$13,BJ$13,$F33:$J33),\"\")","v":""},{"$f":"IF(AND(LEN($D33)>0,SUMIF($F$13:$J$13,BK$13,$F33:$J33)>0,ASISTENCIA!BH32<>\"X\",ASISTENCIA!BH32<>\"L\",ASISTENCIA!BH32<>\"J\",ASISTENCIA!BH32<>\"F\"),SUMIF($F$13:$J$13,BK$13,$F33:$J33),\"\")","v":""},{"$f":"IF(AND(LEN($D33)>0,SUMIF($F$13:$J$13,BL$13,$F33:$J33)>0,ASISTENCIA!BI32<>\"X\",ASISTENCIA!BI32<>\"L\",ASISTENCIA!BI32<>\"J\",ASISTENCIA!BI32<>\"F\"),SUMIF($F$13:$J$13,BL$13,$F33:$J33),\"\")","v":""},{"$f":"IF(AND(LEN($D33)>0,SUMIF($F$13:$J$13,BM$13,$F33:$J33)>0,ASISTENCIA!BJ32<>\"X\",ASISTENCIA!BJ32<>\"L\",ASISTENCIA!BJ32<>\"J\",ASISTENCIA!BJ32<>\"F\"),SUMIF($F$13:$J$13,BM$13,$F33:$J33),\"\")","v":""},{"$f":"IF(AND(LEN($D33)>0,SUMIF($F$13:$J$13,BN$13,$F33:$J33)>0,ASISTENCIA!BK32<>\"X\",ASISTENCIA!BK32<>\"L\",ASISTENCIA!BK32<>\"J\",ASISTENCIA!BK32<>\"F\"),SUMIF($F$13:$J$13,BN$13,$F33:$J33),\"\")","v":""},{"$f":"IF(AND(LEN($D33)>0,SUMIF($F$13:$J$13,BO$13,$F33:$J33)>0,ASISTENCIA!BL32<>\"X\",ASISTENCIA!BL32<>\"L\",ASISTENCIA!BL32<>\"J\",ASISTENCIA!BL32<>\"F\"),SUMIF($F$13:$J$13,BO$13,$F33:$J33),\"\")","v":""},{"$f":"IF(AND(LEN($D33)>0,SUMIF($F$13:$J$13,BP$13,$F33:$J33)>0,ASISTENCIA!BM32<>\"X\",ASISTENCIA!BM32<>\"L\",ASISTENCIA!BM32<>\"J\",ASISTENCIA!BM32<>\"F\"),SUMIF($F$13:$J$13,BP$13,$F33:$J33),\"\")","v":""},{"$f":"IF(AND(LEN($D33)>0,SUMIF($F$13:$J$13,BQ$13,$F33:$J33)>0,ASISTENCIA!BN32<>\"X\",ASISTENCIA!BN32<>\"L\",ASISTENCIA!BN32<>\"J\",ASISTENCIA!BN32<>\"F\"),SUMIF($F$13:$J$13,BQ$13,$F33:$J33),\"\")","v":""},{"$f":"IF(AND(LEN($D33)>0,SUMIF($F$13:$J$13,BR$13,$F33:$J33)>0,ASISTENCIA!BO32<>\"X\",ASISTENCIA!BO32<>\"L\",ASISTENCIA!BO32<>\"J\",ASISTENCIA!BO32<>\"F\"),SUMIF($F$13:$J$13,BR$13,$F33:$J33),\"\")","v":""},{"$f":"IF(AND(LEN($D33)>0,SUMIF($F$13:$J$13,BS$13,$F33:$J33)>0,ASISTENCIA!BP32<>\"X\",ASISTENCIA!BP32<>\"L\",ASISTENCIA!BP32<>\"J\",ASISTENCIA!BP32<>\"F\"),SUMIF($F$13:$J$13,BS$13,$F33:$J33),\"\")","v":""},{"$f":"IF(AND(LEN($D33)>0,SUMIF($F$13:$J$13,BT$13,$F33:$J33)>0,ASISTENCIA!BQ32<>\"X\",ASISTENCIA!BQ32<>\"L\",ASISTENCIA!BQ32<>\"J\",ASISTENCIA!BQ32<>\"F\"),SUMIF($F$13:$J$13,BT$13,$F33:$J33),\"\")","v":""},{"$f":"IF(AND(LEN($D33)>0,SUMIF($F$13:$J$13,BU$13,$F33:$J33)>0,ASISTENCIA!BR32<>\"X\",ASISTENCIA!BR32<>\"L\",ASISTENCIA!BR32<>\"J\",ASISTENCIA!BR32<>\"F\"),SUMIF($F$13:$J$13,BU$13,$F33:$J33),\"\")","v":""},{"$f":"IF(AND(LEN($D33)>0,SUMIF($F$13:$J$13,BV$13,$F33:$J33)>0,ASISTENCIA!BS32<>\"X\",ASISTENCIA!BS32<>\"L\",ASISTENCIA!BS32<>\"J\",ASISTENCIA!BS32<>\"F\"),SUMIF($F$13:$J$13,BV$13,$F33:$J33),\"\")","v":""},{"$f":"IF(AND(LEN($D33)>0,SUMIF($F$13:$J$13,BW$13,$F33:$J33)>0,ASISTENCIA!BT32<>\"X\",ASISTENCIA!BT32<>\"L\",ASISTENCIA!BT32<>\"J\",ASISTENCIA!BT32<>\"F\"),SUMIF($F$13:$J$13,BW$13,$F33:$J33),\"\")","v":""},{"$f":"IF(AND(LEN($D33)>0,SUMIF($F$13:$J$13,BX$13,$F33:$J33)>0,ASISTENCIA!BU32<>\"X\",ASISTENCIA!BU32<>\"L\",ASISTENCIA!BU32<>\"J\",ASISTENCIA!BU32<>\"F\"),SUMIF($F$13:$J$13,BX$13,$F33:$J33),\"\")","v":""},{"$f":"IF(AND(LEN($D33)>0,SUMIF($F$13:$J$13,BY$13,$F33:$J33)>0,ASISTENCIA!BV32<>\"X\",ASISTENCIA!BV32<>\"L\",ASISTENCIA!BV32<>\"J\",ASISTENCIA!BV32<>\"F\"),SUMIF($F$13:$J$13,BY$13,$F33:$J33),\"\")","v":""},{"$f":"IF(AND(LEN($D33)>0,SUMIF($F$13:$J$13,BZ$13,$F33:$J33)>0,ASISTENCIA!BW32<>\"X\",ASISTENCIA!BW32<>\"L\",ASISTENCIA!BW32<>\"J\",ASISTENCIA!BW32<>\"F\"),SUMIF($F$13:$J$13,BZ$13,$F33:$J33),\"\")","v":""},{"$f":"IF(AND(LEN($D33)>0,SUMIF($F$13:$J$13,CA$13,$F33:$J33)>0,ASISTENCIA!BX32<>\"X\",ASISTENCIA!BX32<>\"L\",ASISTENCIA!BX32<>\"J\",ASISTENCIA!BX32<>\"F\"),SUMIF($F$13:$J$13,CA$13,$F33:$J33),\"\")","v":""},{"$f":"IF(AND(LEN($D33)>0,SUMIF($F$13:$J$13,CB$13,$F33:$J33)>0,ASISTENCIA!BY32<>\"X\",ASISTENCIA!BY32<>\"L\",ASISTENCIA!BY32<>\"J\",ASISTENCIA!BY32<>\"F\"),SUMIF($F$13:$J$13,CB$13,$F33:$J33),\"\")","v":""},{"$error":"#REF!"}]
["",{"$f":"IF(LEN(C34)>0,VLOOKUP($O$4,DATA!$A$1:$S$1,2,FALSE),\"\")","v":""},"",{"$f":"IF(LEN(ASISTENCIA!E33)>0,ASISTENCIA!E33,\"\")","v":""},{"$f":"IF(LEN(D34)>0,ASISTENCIA!F33,\"\")","v":""},null,null,null,null,null,"",null,null,{"$error":"#REF!"},{"$f":"IF(AND(LEN($D34)>0,SUMIF($F$13:$J$13,O$13,$F34:$J34)>0,ASISTENCIA!I33<>\"X\",ASISTENCIA!I33<>\"L\",ASISTENCIA!I33<>\"J\",ASISTENCIA!I33<>\"V\",ASISTENCIA!I33<>\"F\",ASISTENCIA!I33<>\"\"),SUMIF($F$13:$J$13,O$13,$F34:$J34),\"\")","v":""},{"$f":"IF(AND(LEN($D34)>0,SUMIF($F$13:$J$13,P$13,$F34:$J34)>0,ASISTENCIA!J33<>\"X\",ASISTENCIA!J33<>\"L\",ASISTENCIA!J33<>\"J\",ASISTENCIA!J33<>\"V\",ASISTENCIA!J33<>\"F\",ASISTENCIA!J33<>\"\"),SUMIF($F$13:$J$13,P$13,$F34:$J34),\"\")","v":""},{"$f":"IF(AND(LEN($D34)>0,SUMIF($F$13:$J$13,Q$13,$F34:$J34)>0,ASISTENCIA!K33<>\"X\",ASISTENCIA!K33<>\"L\",ASISTENCIA!K33<>\"J\",ASISTENCIA!K33<>\"V\",ASISTENCIA!K33<>\"F\",ASISTENCIA!K33<>\"\"),SUMIF($F$13:$J$13,Q$13,$F34:$J34),\"\")","v":""},{"$f":"IF(AND(LEN($D34)>0,SUMIF($F$13:$J$13,R$13,$F34:$J34)>0,ASISTENCIA!L33<>\"X\",ASISTENCIA!L33<>\"L\",ASISTENCIA!L33<>\"J\",ASISTENCIA!L33<>\"V\",ASISTENCIA!L33<>\"F\",ASISTENCIA!L33<>\"\"),SUMIF($F$13:$J$13,R$13,$F34:$J34),\"\")","v":""},{"$f":"IF(AND(LEN($D34)>0,SUMIF($F$13:$J$13,S$13,$F34:$J34)>0,ASISTENCIA!M33<>\"X\",ASISTENCIA!M33<>\"L\",ASISTENCIA!M33<>\"J\",ASISTENCIA!M33<>\"V\",ASISTENCIA!M33<>\"F\",ASISTENCIA!M33<>\"\"),SUMIF($F$13:$J$13,S$13,$F34:$J34),\"\")","v":""},{"$f":"IF(AND(LEN($D34)>0,SUMIF($F$13:$J$13,T$13,$F34:$J34)>0,ASISTENCIA!N33<>\"X\",ASISTENCIA!N33<>\"L\",ASISTENCIA!N33<>\"J\",ASISTENCIA!N33<>\"V\",ASISTENCIA!N33<>\"F\",ASISTENCIA!N33<>\"\"),SUMIF($F$13:$J$13,T$13,$F34:$J34),\"\")","v":""},{"$f":"IF(AND(LEN($D34)>0,SUMIF($F$13:$J$13,U$13,$F34:$J34)>0,ASISTENCIA!O33<>\"X\",ASISTENCIA!O33<>\"L\",ASISTENCIA!O33<>\"J\",ASISTENCIA!O33<>\"V\",ASISTENCIA!O33<>\"F\",ASISTENCIA!O33<>\"\"),SUMIF($F$13:$J$13,U$13,$F34:$J34),\"\")","v":""},{"$f":"IF(AND(LEN($D34)>0,SUMIF($F$13:$J$13,V$13,$F34:$J34)>0,ASISTENCIA!P33<>\"X\",ASISTENCIA!P33<>\"L\",ASISTENCIA!P33<>\"J\",ASISTENCIA!P33<>\"V\",ASISTENCIA!P33<>\"F\",ASISTENCIA!P33<>\"\"),SUMIF($F$13:$J$13,V$13,$F34:$J34),\"\")","v":""},{"$f":"IF(AND(LEN($D34)>0,SUMIF($F$13:$J$13,W$13,$F34:$J34)>0,ASISTENCIA!Q33<>\"X\",ASISTENCIA!Q33<>\"L\",ASISTENCIA!Q33<>\"J\",ASISTENCIA!Q33<>\"V\",ASISTENCIA!Q33<>\"F\",ASISTENCIA!Q33<>\"\"),SUMIF($F$13:$J$13,W$13,$F34:$J34),\"\")","v":""},{"$f":"IF(AND(LEN($D34)>0,SUMIF($F$13:$J$13,X$13,$F34:$J34)>0,ASISTENCIA!R33<>\"X\",ASISTENCIA!R33<>\"L\",ASISTENCIA!R33<>\"J\",ASISTENCIA!R33<>\"V\",ASISTENCIA!R33<>\"F\",ASISTENCIA!R33<>\"\"),SUMIF($F$13:$J$13,X$13,$F34:$J34),\"\")","v":""},{"$f":"IF(AND(LEN($D34)>0,SUMIF($F$13:$J$13,Y$13,$F34:$J34)>0,ASISTENCIA!S33<>\"X\",ASISTENCIA!S33<>\"L\",ASISTENCIA!S33<>\"J\",ASISTENCIA!S33<>\"V\",ASISTENCIA!S33<>\"F\",ASISTENCIA!S33<>\"\"),SUMIF($F$13:$J$13,Y$13,$F34:$J34),\"\")","v":""},{"$f":"IF(AND(LEN($D34)>0,SUMIF($F$13:$J$13,Z$13,$F34:$J34)>0,ASISTENCIA!T33<>\"X\",ASISTENCIA!T33<>\"L\",ASISTENCIA!T33<>\"J\",ASISTENCIA!T33<>\"V\",ASISTENCIA!T33<>\"F\",ASISTENCIA!T33<>\"\"),SUMIF($F$13:$J$13,Z$13,$F34:$J34),\"\")","v":""},{"$f":"IF(AND(LEN($D34)>0,SUMIF($F$13:$J$13,AA$13,$F34:$J34)>0,ASISTENCIA!U33<>\"X\",ASISTENCIA!U33<>\"L\",ASISTENCIA!U33<>\"J\",ASISTENCIA!U33<>\"V\",ASISTENCIA!U33<>\"F\",ASISTENCIA!U33<>\"\"),SUMIF($F$13:$J$13,AA$13,$F34:$J34),\"\")","v":""},{"$f":"IF(AND(LEN($D34)>0,SUMIF($F$13:$J$13,AB$13,$F34:$J34)>0,ASISTENCIA!V33<>\"X\",ASISTENCIA!V33<>\"L\",ASISTENCIA!V33<>\"J\",ASISTENCIA!V33<>\"V\",ASISTENCIA!V33<>\"F\",ASISTENCIA!V33<>\"\"),SUMIF($F$13:$J$13,AB$13,$F34:$J34),\"\")","v":""},{"$f":"IF(AND(LEN($D34)>0,SUMIF($F$13:$J$13,AC$13,$F34:$J34)>0,ASISTENCIA!W33<>\"X\",ASISTENCIA!W33<>\"L\",ASISTENCIA!W33<>\"J\",ASISTENCIA!W33<>\"V\",ASISTENCIA!W33<>\"F\",ASISTENCIA!W33<>\"\"),SUMIF($F$13:$J$13,AC$13,$F34:$J34),\"\")","v":""},{"$f":"IF(AND(LEN($D34)>0,SUMIF($F$13:$J$13,AD$13,$F34:$J34)>0,ASISTENCIA!X33<>\"X\",ASISTENCIA!X33<>\"L\",ASISTENCIA!X33<>\"J\",ASISTENCIA!X33<>\"V\",ASISTENCIA!X33<>\"F\",ASISTENCIA!X33<>\"\"),SUMIF($F$13:$J$13,AD$13,$F34:$J34),\"\")","v":""},{"$f":"IF(AND(LEN($D34)>0,SUMIF($F$13:$J$13,AE$13,$F34:$J34)>0,ASISTENCIA!Y33<>\"X\",ASISTENCIA!Y33<>\"L\",ASISTENCIA!Y33<>\"J\",ASISTENCIA!Y33<>\"V\",ASISTENCIA!Y33<>\"F\",ASISTENCIA!Y33<>\"\"),SUMIF($F$13:$J$13,AE$13,$F34:$J34),\"\")","v":""},{"$f":"IF(AND(LEN($D34)>0,SUMIF($F$13:$J$13,AF$13,$F34:$J34)>0,ASISTENCIA!Z33<>\"X\",ASISTENCIA!Z33<>\"L\",ASISTENCIA!Z33<>\"J\",ASISTENCIA!Z33<>\"V\",ASISTENCIA!Z33<>\"F\",ASISTENCIA!Z33<>\"\"),SUMIF($F$13:$J$13,AF$13,$F34:$J34),\"\")","v":""},{"$f":"IF(AND(LEN($D34)>0,SUMIF($F$13:$J$13,AG$13,$F34:$J34)>0,ASISTENCIA!AA33<>\"X\",ASISTENCIA!AA33<>\"L\",ASISTENCIA!AA33<>\"J\",ASISTENCIA!AA33<>\"V\",ASISTENCIA!AA33<>\"F\",ASISTENCIA!AA33<>\"\"),SUMIF($F$13:$J$13,AG$13,$F34:$J34),\"\")","v":""},{"$f":"IF(AND(LEN($D34)>0,SUMIF($F$13:$J$13,AH$13,$F34:$J34)>0,ASISTENCIA!AB33<>\"X\",ASISTENCIA!AB33<>\"L\",ASISTENCIA!AB33<>\"J\",ASISTENCIA!AB33<>\"V\",ASISTENCIA!AB33<>\"F\",ASISTENCIA!AB33<>\"\"),SUMIF($F$13:$J$13,AH$13,$F34:$J34),\"\")","v":""},{"$f":"IF(AND(LEN($D34)>0,SUMIF($F$13:$J$13,AI$13,$F34:$J34)>0,ASISTENCIA!AC33<>\"X\",ASISTENCIA!AC33<>\"L\",ASISTENCIA!AC33<>\"J\",ASISTENCIA!AC33<>\"V\",ASISTENCIA!AC33<>\"F\",ASISTENCIA!AC33<>\"\"),SUMIF($F$13:$J$13,AI$13,$F34:$J34),\"\")","v":""},{"$f":"IF(AND(LEN($D34)>0,SUMIF($F$13:$J$13,AJ$13,$F34:$J34)>0,ASISTENCIA!AD33<>\"X\",ASISTENCIA!AD33<>\"L\",ASISTENCIA!AD33<>\"J\",ASISTENCIA!AD33<>\"V\",ASISTENCIA!AD33<>\"F\",ASISTENCIA!AD33<>\"\"),SUMIF($F$13:$J$13,AJ$13,$F34:$J34),\"\")","v":""},{"$f":"IF(AND(LEN($D34)>0,SUMIF($F$13:$J$13,AK$13,$F34:$J34)>0,ASISTENCIA!AE33<>\"X\",ASISTENCIA!AE33<>\"L\",ASISTENCIA!AE33<>\"J\",ASISTENCIA!AE33<>\"V\",ASISTENCIA!AE33<>\"F\",ASISTENCIA!AE33<>\"\"),SUMIF($F$13:$J$13,AK$13,$F34:$J34),\"\")","v":""},{"$f":"IF(AND(LEN($D34)>0,SUMIF($F$13:$J$13,AL$13,$F34:$J34)>0,ASISTENCIA!AF33<>\"X\",ASISTENCIA!AF33<>\"L\",ASISTENCIA!AF33<>\"J\",ASISTENCIA!AF33<>\"V\",ASISTENCIA!AF33<>\"F\",ASISTENCIA!AF33<>\"\"),SUMIF($F$13:$J$13,AL$13,$F34:$J34),\"\")","v":""},{"$f":"IF(AND(LEN($D34)>0,SUMIF($F$13:$J$13,AM$13,$F34:$J34)>0,ASISTENCIA!AG33<>\"X\",ASISTENCIA!AG33<>\"L\",ASISTENCIA!AG33<>\"J\",ASISTENCIA!AG33<>\"V\",ASISTENCIA!AG33<>\"F\",ASISTENCIA!AG33<>\"\"),SUMIF($F$13:$J$13,AM$13,$F34:$J34),\"\")","v":""},{"$f":"IF(AND(LEN($D34)>0,SUMIF($F$13:$J$13,AN$13,$F34:$J34)>0,ASISTENCIA!AH33<>\"X\",ASISTENCIA!AH33<>\"L\",ASISTENCIA!AH33<>\"J\",ASISTENCIA!AH33<>\"V\",ASISTENCIA!AH33<>\"F\",ASISTENCIA!AH33<>\"\"),SUMIF($F$13:$J$13,AN$13,$F34:$J34),\"\")","v":""},{"$f":"IF(AND(LEN($D34)>0,SUMIF($F$13:$J$13,AO$13,$F34:$J34)>0,ASISTENCIA!AI33<>\"X\",ASISTENCIA!AI33<>\"L\",ASISTENCIA!AI33<>\"J\",ASISTENCIA!AI33<>\"V\",ASISTENCIA!AI33<>\"F\",ASISTENCIA!AI33<>\"\"),SUMIF($F$13:$J$13,AO$13,$F34:$J34),\"\")","v":""},{"$f":"IF(AND(LEN($D34)>0,SUMIF($F$13:$J$13,AP$13,$F34:$J34)>0,ASISTENCIA!AJ33<>\"X\",ASISTENCIA!AJ33<>\"L\",ASISTENCIA!AJ33<>\"J\",ASISTENCIA!AJ33<>\"V\",ASISTENCIA!AJ33<>\"F\",ASISTENCIA!AJ33<>\"\"),SUMIF($F$13:$J$13,AP$13,$F34:$J34),\"\")","v":""},{"$f":"IF(AND(LEN($D34)>0,SUMIF($F$13:$J$13,AQ$13,$F34:$J34)>0,ASISTENCIA!AK33<>\"X\",ASISTENCIA!AK33<>\"L\",ASISTENCIA!AK33<>\"J\",ASISTENCIA!AK33<>\"V\",ASISTENCIA!AK33<>\"F\",ASISTENCIA!AK33<>\"\"),SUMIF($F$13:$J$13,AQ$13,$F34:$J34),\"\")","v":""},{"$f":"IF(AND(LEN($D34)>0,SUMIF($F$13:$J$13,AR$13,$F34:$J34)>0,ASISTENCIA!AL33<>\"X\",ASISTENCIA!AL33<>\"L\",ASISTENCIA!AL33<>\"J\",ASISTENCIA!AL33<>\"V\",ASISTENCIA!AL33<>\"F\",ASISTENCIA!AL33<>\"\"),SUMIF($F$13:$J$13,AR$13,$F34:$J34),\"\")","v":""},{"$f":"IF(AND(LEN($D34)>0,SUMIF($F$13:$J$13,AS$13,$F34:$J34)>0,ASISTENCIA!AM33<>\"X\",ASISTENCIA!AM33<>\"L\",ASISTENCIA!AM33<>\"J\",ASISTENCIA!AM33<>\"V\",ASISTENCIA!AM33<>\"F\",ASISTENCIA!AM33<>\"\"),SUMIF($F$13:$J$13,AS$13,$F34:$J34),\"\")","v":""},"",null,null,null,{"$f":"IF(AND(LEN($D34)>0,SUMIF($F$13:$J$13,AX$13,$F34:$J34)>0,ASISTENCIA!AU33<>\"X\",ASISTENCIA!AU33<>\"L\",ASISTENCIA!AU33<>\"J\",ASISTENCIA!AU33<>\"F\"),SUMIF($F$13:$J$13,AX$13,$F34:$J34),\"\")","v":""},{"$f":"IF(AND(LEN($D34)>0,SUMIF($F$13:$J$13,AY$13,$F34:$J34)>0,ASISTENCIA!AV33<>\"X\",ASISTENCIA!AV33<>\"L\",ASISTENCIA!AV33<>\"J\",ASISTENCIA!AV33<>\"F\"),SUMIF($F$13:$J$13,AY$13,$F34:$J34),\"\")","v":""},{"$f":"IF(AND(LEN($D34)>0,SUMIF($F$13:$J$13,AZ$13,$F34:$J34)>0,ASISTENCIA!AW33<>\"X\",ASISTENCIA!AW33<>\"L\",ASISTENCIA!AW33<>\"J\",ASISTENCIA!AW33<>\"F\"),SUMIF($F$13:$J$13,AZ$13,$F34:$J34),\"\")","v":""},{"$f":"IF(AND(LEN($D34)>0,SUMIF($F$13:$J$13,BA$13,$F34:$J34)>0,ASISTENCIA!AX33<>\"X\",ASISTENCIA!AX33<>\"L\",ASISTENCIA!AX33<>\"J\",ASISTENCIA!AX33<>\"F\"),SUMIF($F$13:$J$13,BA$13,$F34:$J34),\"\")","v":""},{"$f":"IF(AND(LEN($D34)>0,SUMIF($F$13:$J$13,BB$13,$F34:$J34)>0,ASISTENCIA!AY33<>\"X\",ASISTENCIA!AY33<>\"L\",ASISTENCIA!AY33<>\"J\",ASISTENCIA!AY33<>\"F\"),SUMIF($F$13:$J$13,BB$13,$F34:$J34),\"\")","v":""},{"$f":"IF(AND(LEN($D34)>0,SUMIF($F$13:$J$13,BC$13,$F34:$J34)>0,ASISTENCIA!AZ33<>\"X\",ASISTENCIA!AZ33<>\"L\",ASISTENCIA!AZ33<>\"J\",ASISTENCIA!AZ33<>\"F\"),SUMIF($F$13:$J$13,BC$13,$F34:$J34),\"\")","v":""},{"$f":"IF(AND(LEN($D34)>0,SUMIF($F$13:$J$13,BD$13,$F34:$J34)>0,ASISTENCIA!BA33<>\"X\",ASISTENCIA!BA33<>\"L\",ASISTENCIA!BA33<>\"J\",ASISTENCIA!BA33<>\"F\"),SUMIF($F$13:$J$13,BD$13,$F34:$J34),\"\")","v":""},{"$f":"IF(AND(LEN($D34)>0,SUMIF($F$13:$J$13,BE$13,$F34:$J34)>0,ASISTENCIA!BB33<>\"X\",ASISTENCIA!BB33<>\"L\",ASISTENCIA!BB33<>\"J\",ASISTENCIA!BB33<>\"F\"),SUMIF($F$13:$J$13,BE$13,$F34:$J34),\"\")","v":""},{"$f":"IF(AND(LEN($D34)>0,SUMIF($F$13:$J$13,BF$13,$F34:$J34)>0,ASISTENCIA!#REF!<>\"X\",ASISTENCIA!#REF!<>\"L\",ASISTENCIA!#REF!<>\"J\",ASISTENCIA!#REF!<>\"F\"),SUMIF($F$13:$J$13,BF$13,$F34:$J34),\"\")","v":{"$error":"#REF!"}},{"$f":"IF(AND(LEN($D34)>0,SUMIF($F$13:$J$13,BG$13,$F34:$J34)>0,ASISTENCIA!#REF!<>\"X\",ASISTENCIA!#REF!<>\"L\",ASISTENCIA!#REF!<>\"J\",ASISTENCIA!#REF!<>\"F\"),SUMIF($F$13:$J$13,BG$13,$F34:$J34),\"\")","v":{"$error":"#REF!"}},{"$f":"IF(AND(LEN($D34)>0,SUMIF($F$13:$J$13,BH$13,$F34:$J34)>0,ASISTENCIA!BE33<>\"X\",ASISTENCIA!BE33<>\"L\",ASISTENCIA!BE33<>\"J\",ASISTENCIA!BE33<>\"F\"),SUMIF($F$13:$J$13,BH$13,$F34:$J34),\"\")","v":""},{"$f":"IF(AND(LEN($D34)>0,SUMIF($F$13:$J$13,BI$13,$F34:$J34)>0,ASISTENCIA!BF33<>\"X\",ASISTENCIA!BF33<>\"L\",ASISTENCIA!BF33<>\"J\",ASISTENCIA!BF33<>\"F\"),SUMIF($F$13:$J$13,BI$13,$F34:$J34),\"\")","v":""},{"$f":"IF(AND(LEN($D34)>0,SUMIF($F$13:$J$13,BJ$13,$F34:$J34)>0,ASISTENCIA!BG33<>\"X\",ASISTENCIA!BG33<>\"L\",ASISTENCIA!BG33<>\"J\",ASISTENCIA!BG33<>\"F\"),SUMIF($F$13:$J$13,BJ$13,$F34:$J34),\"\")","v":""},{"$f":"IF(AND(LEN($D34)>0,SUMIF($F$13:$J$13,BK$13,$F34:$J34)>0,ASISTENCIA!BH33<>\"X\",ASISTENCIA!BH33<>\"L\",ASISTENCIA!BH33<>\"J\",ASISTENCIA!BH33<>\"F\"),SUMIF($F$13:$J$13,BK$13,$F34:$J34),\"\")","v":""},{"$f":"IF(AND(LEN($D34)>0,SUMIF($F$13:$J$13,BL$13,$F34:$J34)>0,ASISTENCIA!BI33<>\"X\",ASISTENCIA!BI33<>\"L\",ASISTENCIA!BI33<>\"J\",ASISTENCIA!BI33<>\"F\"),SUMIF($F$13:$J$13,BL$13,$F34:$J34),\"\")","v":""},{"$f":"IF(AND(LEN($D34)>0,SUMIF($F$13:$J$13,BM$13,$F34:$J34)>0,ASISTENCIA!BJ33<>\"X\",ASISTENCIA!BJ33<>\"L\",ASISTENCIA!BJ33<>\"J\",ASISTENCIA!BJ33<>\"F\"),SUMIF($F$13:$J$13,BM$13,$F34:$J34),\"\")","v":""},{"$f":"IF(AND(LEN($D34)>0,SUMIF($F$13:$J$13,BN$13,$F34:$J34)>0,ASISTENCIA!BK33<>\"X\",ASISTENCIA!BK33<>\"L\",ASISTENCIA!BK33<>\"J\",ASISTENCIA!BK33<>\"F\"),SUMIF($F$13:$J$13,BN$13,$F34:$J34),\"\")","v":""},{"$f":"IF(AND(LEN($D34)>0,SUMIF($F$13:$J$13,BO$13,$F34:$J34)>0,ASISTENCIA!BL33<>\"X\",ASISTENCIA!BL33<>\"L\",ASISTENCIA!BL33<>\"J\",ASISTENCIA!BL33<>\"F\"),SUMIF($F$13:$J$13,BO$13,$F34:$J34),\"\")","v":""},{"$f":"IF(AND(LEN($D34)>0,SUMIF($F$13:$J$13,BP$13,$F34:$J34)>0,ASISTENCIA!BM33<>\"X\",ASISTENCIA!BM33<>\"L\",ASISTENCIA!BM33<>\"J\",ASISTENCIA!BM33<>\"F\"),SUMIF($F$13:$J$13,BP$13,$F34:$J34),\"\")","v":""},{"$f":"IF(AND(LEN($D34)>0,SUMIF($F$13:$J$13,BQ$13,$F34:$J34)>0,ASISTENCIA!BN33<>\"X\",ASISTENCIA!BN33<>\"L\",ASISTENCIA!BN33<>\"J\",ASISTENCIA!BN33<>\"F\"),SUMIF($F$13:$J$13,BQ$13,$F34:$J34),\"\")","v":""},{"$f":"IF(AND(LEN($D34)>0,SUMIF($F$13:$J$13,BR$13,$F34:$J34)>0,ASISTENCIA!BO33<>\"X\",ASISTENCIA!BO33<>\"L\",ASISTENCIA!BO33<>\"J\",ASISTENCIA!BO33<>\"F\"),SUMIF($F$13:$J$13,BR$13,$F34:$J34),\"\")","v":""},{"$f":"IF(AND(LEN($D34)>0,SUMIF($F$13:$J$13,BS$13,$F34:$J34)>0,ASISTENCIA!BP33<>\"X\",ASISTENCIA!BP33<>\"L\",ASISTENCIA!BP33<>\"J\",ASISTENCIA!BP33<>\"F\"),SUMIF($F$13:$J$13,BS$13,$F34:$J34),\"\")","v":""},{"$f":"IF(AND(LEN($D34)>0,SUMIF($F$13:$J$13,BT$13,$F34:$J34)>0,ASISTENCIA!BQ33<>\"X\",ASISTENCIA!BQ33<>\"L\",ASISTENCIA!BQ33<>\"J\",ASISTENCIA!BQ33<>\"F\"),SUMIF($F$13:$J$13,BT$13,$F34:$J34),\"\")","v":""},{"$f":"IF(AND(LEN($D34)>0,SUMIF($F$13:$J$13,BU$13,$F34:$J34)>0,ASISTENCIA!BR33<>\"X\",ASISTENCIA!BR33<>\"L\",ASISTENCIA!BR33<>\"J\",ASISTENCIA!BR33<>\"F\"),SUMIF($F$13:$J$13,BU$13,$F34:$J34),\"\")","v":""},{"$f":"IF(AND(LEN($D34)>0,SUMIF($F$13:$J$13,BV$13,$F34:$J34)>0,ASISTENCIA!BS33<>\"X\",ASISTENCIA!BS33<>\"L\",ASISTENCIA!BS33<>\"J\",ASISTENCIA!BS33<>\"F\"),SUMIF($F$13:$J$13,BV$13,$F34:$J34),\"\")","v":""},{"$f":"IF(AND(LEN($D34)>0,SUMIF($F$13:$J$13,BW$13,$F34:$J34)>0,ASISTENCIA!BT33<>\"X\",ASISTENCIA!BT33<>\"L\",ASISTENCIA!BT33<>\"J\",ASISTENCIA!BT33<>\"F\"),SUMIF($F$13:$J$13,BW$13,$F34:$J34),\"\")","v":""},{"$f":"IF(AND(LEN($D34)>0,SUMIF($F$13:$J$13,BX$13,$F34:$J34)>0,ASISTENCIA!BU33<>\"X\",ASISTENCIA!BU33<>\"L\",ASISTENCIA!BU33<>\"J\",ASISTENCIA!BU33<>\"F\"),SUMIF($F$13:$J$13,BX$13,$F34:$J34),\"\")","v":""},{"$f":"IF(AND(LEN($D34)>0,SUMIF($F$13:$J$13,BY$13,$F34:$J34)>0,ASISTENCIA!BV33<>\"X\",ASISTENCIA!BV33<>\"L\",ASISTENCIA!BV33<>\"J\",ASISTENCIA!BV33<>\"F\"),SUMIF($F$13:$J$13,BY$13,$F34:$J34),\"\")","v":""},{"$f":"IF(AND(LEN($D34)>0,SUMIF($F$13:$J$13,BZ$13,$F34:$J34)>0,ASISTENCIA!BW33<>\"X\",ASISTENCIA!BW33<>\"L\",ASISTENCIA!BW33<>\"J\",ASISTENCIA!BW33<>\"F\"),SUMIF($F$13:$J$13,BZ$13,$F34:$J34),\"\")","v":""},{"$f":"IF(AND(LEN($D34)>0,SUMIF($F$13:$J$13,CA$13,$F34:$J34)>0,ASISTENCIA!BX33<>\"X\",ASISTENCIA!BX33<>\"L\",ASISTENCIA!BX33<>\"J\",ASISTENCIA!BX33<>\"F\"),SUMIF($F$13:$J$13,CA$13,$F34:$J34),\"\")","v":""},{"$f":"IF(AND(LEN($D34)>0,SUMIF($F$13:$J$13,CB$13,$F34:$J34)>0,ASISTENCIA!BY33<>\"X\",ASISTENCIA!BY33<>\"L\",ASISTENCIA!BY33<>\"J\",ASISTENCIA!BY33<>\"F\"),SUMIF($F$13:$J$13,CB$13,$F34:$J34),\"\")","v":""},{"$error":"#REF!"}]
["",{"$f":"IF(LEN(C35)>0,VLOOKUP($O$4,DATA!$A$1:$S$1,2,FALSE),\"\")","v":""},"",{"$f":"IF(LEN(ASISTENCIA!E34)>0,ASISTENCIA!E34,\"\")","v":""},{"$f":"IF(LEN(D35)>0,ASISTENCIA!F34,\"\")","v":""},null,null,null,null,null,"",null,null,{"$error":"#REF!"},{"$f":"IF(AND(LEN($D35)>0,SUMIF($F$13:$J$13,O$13,$F35:$J35)>0,ASISTENCIA!I34<>\"X\",ASISTENCIA!I34<>\"L\",ASISTENCIA!I34<>\"J\",ASISTENCIA!I34<>\"V\",ASISTENCIA!I34<>\"F\",ASISTENCIA!I34<>\"\"),SUMIF($F$13:$J$13,O$13,$F35:$J35),\"\")","v":""},{"$f":"IF(AND(LEN($D35)>0,SUMIF($F$13:$J$13,P$13,$F35:$J35)>0,ASISTENCIA!J34<>\"X\",ASISTENCIA!J34<>\"L\",ASISTENCIA!J34<>\"J\",ASISTENCIA!J34<>\"V\",ASISTENCIA!J34<>\"F\",ASISTENCIA!J34<>\"\"),SUMIF($F$13:$J$13,P$13,$F35:$J35),\"\")","v":""},{"$f":"IF(AND(LEN($D35)>0,SUMIF($F$13:$J$13,Q$13,$F35:$J35)>0,ASISTENCIA!K34<>\"X\",ASISTENCIA!K34<>\"L\",ASISTENCIA!K34<>\"J\",ASISTENCIA!K34<>\"V\",ASISTENCIA!K34<>\"F\",ASISTENCIA!K34<>\"\"),SUMIF($F$13:$J$13,Q$13,$F35:$J35),\"\")","v":""},{"$f":"IF(AND(LEN($D35)>0,SUMIF($F$13:$J$13,R$13,$F35:$J35)>0,ASISTENCIA!L34<>\"X\",ASISTENCIA!L34<>\"L\",ASISTENCIA!L34<>\"J\",ASISTENCIA!L34<>\"V\",ASISTENCIA!L34<>\"F\",ASISTENCIA!L34<>\"\"),SUMIF($F$13:$J$13,R$13,$F35:$J35),\"\")","v":""},{"$f":"IF(AND(LEN($D35)>0,SUMIF($F$13:$J$13,S$13,$F35:$J35)>0,ASISTENCIA!M34<>\"X\",ASISTENCIA!M34<>\"L\",ASISTENCIA!M34<>\"J\",ASISTENCIA!M34<>\"V\",ASISTENCIA!M34<>\"F\",ASISTENCIA!M34<>\"\"),SUMIF($F$13:$J$13,S$13,$F35:$J35),\"\")","v":""},{"$f":"IF(AND(LEN($D35)>0,SUMIF($F$13:$J$13,T$13,$F35:$J35)>0,ASISTENCIA!N34<>\"X\",ASISTENCIA!N34<>\"L\",ASISTENCIA!N34<>\"J\",ASISTENCIA!N34<>\"V\",ASISTENCIA!N34<>\"F\",ASISTENCIA!N34<>\"\"),SUMIF($F$13:$J$13,T$13,$F35:$J35),\"\")","v":""},{"$f":"IF(AND(LEN($D35)>0,SUMIF($F$13:$J$13,U$13,$F35:$J35)>0,ASISTENCIA!O34<>\"X\",ASISTENCIA!O34<>\"L\",ASISTENCIA!O34<>\"J\",ASISTENCIA!O34<>\"V\",ASISTENCIA!O34<>\"F\",ASISTENCIA!O34<>\"\"),SUMIF($F$13:$J$13,U$13,$F35:$J35),\"\")","v":""},{"$f":"IF(AND(LEN($D35)>0,SUMIF($F$13:$J$13,V$13,$F35:$J35)>0,ASISTENCIA!P34<>\"X\",ASISTENCIA!P34<>\"L\",ASISTENCIA!P34<>\"J\",ASISTENCIA!P34<>\"V\",ASISTENCIA!P34<>\"F\",ASISTENCIA!P34<>\"\"),SUMIF($F$13:$J$13,V$13,$F35:$J35),\"\")","v":""},{"$f":"IF(AND(LEN($D35)>0,SUMIF($F$13:$J$13,W$13,$F35:$J35)>0,ASISTENCIA!Q34<>\"X\",ASISTENCIA!Q34<>\"L\",ASISTENCIA!Q34<>\"J\",ASISTENCIA!Q34<>\"V\",ASISTENCIA!Q34<>\"F\",ASISTENCIA!Q34<>\"\"),SUMIF($F$13:$J$13,W$13,$F35:$J35),\"\")","v":""},{"$f":"IF(AND(LEN($D35)>0,SUMIF($F$13:$J$13,X$13,$F35:$J35)>0,ASISTENCIA!R34<>\"X\",ASISTENCIA!R34<>\"L\",ASISTENCIA!R34<>\"J\",ASISTENCIA!R34<>\"V\",ASISTENCIA!R34<>\"F\",ASISTENCIA!R34<>\"\"),SUMIF($F$13:$J$13,X$13,$F35:$J35),\"\")","v":""},{"$f":"IF(AND(LEN($D35)>0,SUMIF($F$13:$J$13,Y$13,$F35:$J35)>0,ASISTENCIA!S34<>\"X\",ASISTENCIA!S34<>\"L\",ASISTENCIA!S34<>\"J\",ASISTENCIA!S34<>\"V\",ASISTENCIA!S34<>\"F\",ASISTENCIA!S34<>\"\"),SUMIF($F$13:$J$13,Y$13,$F35:$J35),\"\")","v":""},{"$f":"IF(AND(LEN($D35)>0,SUMIF($F$13:$J$13,Z$13,$F35:$J35)>0,ASISTENCIA!T34<>\"X\",ASISTENCIA!T34<>\"L\",ASISTENCIA!T34<>\"J\",ASISTENCIA!T34<>\"V\",ASISTENCIA!T34<>\"F\",ASISTENCIA!T34<>\"\"),SUMIF($F$13:$J$13,Z$13,$F35:$J35),\"\")","v":""},{"$f":"IF(AND(LEN($D35)>0,SUMIF($F$13:$J$13,AA$13,$F35:$J35)>0,ASISTENCIA!U34<>\"X\",ASISTENCIA!U34<>\"L\",ASISTENCIA!U34<>\"J\",ASISTENCIA!U34<>\"V\",ASISTENCIA!U34<>\"F\",ASISTENCIA!U34<>\"\"),SUMIF($F$13:$J$13,AA$13,$F35:$J35),\"\")","v":""},{"$f":"IF(AND(LEN($D35)>0,SUMIF($F$13:$J$13,AB$13,$F35:$J35)>0,ASISTENCIA!V34<>\"X\",ASISTENCIA!V34<>\"L\",ASISTENCIA!V34<>\"J\",ASISTENCIA!V34<>\"V\",ASISTENCIA!V34<>\"F\",ASISTENCIA!V34<>\"\"),SUMIF($F$13:$J$13,AB$13,$F35:$J35),\"\")","v":""},{"$f":"IF(AND(LEN($D35)>0,SUMIF($F$13:$J$13,AC$13,$F35:$J35)>0,ASISTENCIA!W34<>\"X\",ASISTENCIA!W34<>\"L\",ASISTENCIA!W34<>\"J\",ASISTENCIA!W34<>\"V\",ASISTENCIA!W34<>\"F\",ASISTENCIA!W34<>\"\"),SUMIF($F$13:$J$13,AC$13,$F35:$J35),\"\")","v":""},{"$f":"IF(AND(LEN($D35)>0,SUMIF($F$13:$J$13,AD$13,$F35:$J35)>0,ASISTENCIA!X34<>\"X\",ASISTENCIA!X34<>\"L\",ASISTENCIA!X34<>\"J\",ASISTENCIA!X34<>\"V\",ASISTENCIA!X34<>\"F\",ASISTENCIA!X34<>\"\"),SUMIF($F$13:$J$13,AD$13,$F35:$J35),\"\")","v":""},{"$f":"IF(AND(LEN($D35)>0,SUMIF($F$13:$J$13,AE$13,$F35:$J35)>0,ASISTENCIA!Y34<>\"X\",ASISTENCIA!Y34<>\"L\",ASISTENCIA!Y34<>\"J\",ASISTENCIA!Y34<>\"V\",ASISTENCIA!Y34<>\"F\",ASISTENCIA!Y34<>\"\"),SUMIF($F$13:$J$13,AE$13,$F35:$J35),\"\")","v":""},{"$f":"IF(AND(LEN($D35)>0,SUMIF($F$13:$J$13,AF$13,$F35:$J35)>0,ASISTENCIA!Z34<>\"X\",ASISTENCIA!Z34<>\"L\",ASISTENCIA!Z34<>\"J\",ASISTENCIA!Z34<>\"V\",ASISTENCIA!Z34<>\"F\",ASISTENCIA!Z34<>\"\"),SUMIF($F$13:$J$13,AF$13,$F35:$J35),\"\")","v":""},{"$f":"IF(AND(LEN($D35)>0,SUMIF($F$13:$J$13,AG$13,$F35:$J35)>0,ASISTENCIA!AA34<>\"X\",ASISTENCIA!AA34<>\"L\",ASISTENCIA!AA34<>\"J\",ASISTENCIA!AA34<>\"V\",ASISTENCIA!AA34<>\"F\",ASISTENCIA!AA34<>\"\"),SUMIF($F$13:$J$13,AG$13,$F35:$J35),\"\")","v":""},{"$f":"IF(AND(LEN($D35)>0,SUMIF($F$13:$J$13,AH$13,$F35:$J35)>0,ASISTENCIA!AB34<>\"X\",ASISTENCIA!AB34<>\"L\",ASISTENCIA!AB34<>\"J\",ASISTENCIA!AB34<>\"V\",ASISTENCIA!AB34<>\"F\",ASISTENCIA!AB34<>\"\"),SUMIF($F$13:$J$13,AH$13,$F35:$J35),\"\")","v":""},{"$f":"IF(AND(LEN($D35)>0,SUMIF($F$13:$J$13,AI$13,$F35:$J35)>0,ASISTENCIA!AC34<>\"X\",ASISTENCIA!AC34<>\"L\",ASISTENCIA!AC34<>\"J\",ASISTENCIA!AC34<>\"V\",ASISTENCIA!AC34<>\"F\",ASISTENCIA!AC34<>\"\"),SUMIF($F$13:$J$13,AI$13,$F35:$J35),\"\")","v":""},{"$f":"IF(AND(LEN($D35)>0,SUMIF($F$13:$J$13,AJ$13,$F35:$J35)>0,ASISTENCIA!AD34<>\"X\",ASISTENCIA!AD34<>\"L\",ASISTENCIA!AD34<>\"J\",ASISTENCIA!AD34<>\"V\",ASISTENCIA!AD34<>\"F\",ASISTENCIA!AD34<>\"\"),SUMIF($F$13:$J$13,AJ$13,$F35:$J35),\"\")","v":""},{"$f":"IF(AND(LEN($D35)>0,SUMIF($F$13:$J$13,AK$13,$F35:$J35)>0,ASISTENCIA!AE34<>\"X\",ASISTENCIA!AE34<>\"L\",ASISTENCIA!AE34<>\"J\",ASISTENCIA!AE34<>\"V\",ASISTENCIA!AE34<>\"F\",ASISTENCIA!AE34<>\"\"),SUMIF($F$13:$J$13,AK$13,$F35:$J35),\"\")","v":""},{"$f":"IF(AND(LEN($D35)>0,SUMIF($F$13:$J$13,AL$13,$F35:$J35)>0,ASISTENCIA!AF34<>\"X\",ASISTENCIA!AF34<>\"L\",ASISTENCIA!AF34<>\"J\",ASISTENCIA!AF34<>\"V\",ASISTENCIA!AF34<>\"F\",ASISTENCIA!AF34<>\"\"),SUMIF($F$13:$J$13,AL$13,$F35:$J35),\"\")","v":""},{"$f":"IF(AND(LEN($D35)>0,SUMIF($F$13:$J$13,AM$13,$F35:$J35)>0,ASISTENCIA!AG34<>\"X\",ASISTENCIA!AG34<>\"L\",ASISTENCIA!AG34<>\"J\",ASISTENCIA!AG34<>\"V\",ASISTENCIA!AG34<>\"F\",ASISTENCIA!AG34<>\"\"),SUMIF($F$13:$J$13,AM$13,$F35:$J35),\"\")","v":""},{"$f":"IF(AND(LEN($D35)>0,SUMIF($F$13:$J$13,AN$13,$F35:$J35)>0,ASISTENCIA!AH34<>\"X\",ASISTENCIA!AH34<>\"L\",ASISTENCIA!AH34<>\"J\",ASISTENCIA!AH34<>\"V\",ASISTENCIA!AH34<>\"F\",ASISTENCIA!AH34<>\"\"),SUMIF($F$13:$J$13,AN$13,$F35:$J35),\"\")","v":""},{"$f":"IF(AND(LEN($D35)>0,SUMIF($F$13:$J$13,AO$13,$F35:$J35)>0,ASISTENCIA!AI34<>\"X\",ASISTENCIA!AI34<>\"L\",ASISTENCIA!AI34<>\"J\",ASISTENCIA!AI34<>\"V\",ASISTENCIA!AI34<>\"F\",ASISTENCIA!AI34<>\"\"),SUMIF($F$13:$J$13,AO$13,$F35:$J35),\"\")","v":""},{"$f":"IF(AND(LEN($D35)>0,SUMIF($F$13:$J$13,AP$13,$F35:$J35)>0,ASISTENCIA!AJ34<>\"X\",ASISTENCIA!AJ34<>\"L\",ASISTENCIA!AJ34<>\"J\",ASISTENCIA!AJ34<>\"V\",ASISTENCIA!AJ34<>\"F\",ASISTENCIA!AJ34<>\"\"),SUMIF($F$13:$J$13,AP$13,$F35:$J35),\"\")","v":""},{"$f":"IF(AND(LEN($D35)>0,SUMIF($F$13:$J$13,AQ$13,$F35:$J35)>0,ASISTENCIA!AK34<>\"X\",ASISTENCIA!AK34<>\"L\",ASISTENCIA!AK34<>\"J\",ASISTENCIA!AK34<>\"V\",ASISTENCIA!AK34<>\"F\",ASISTENCIA!AK34<>\"\"),SUMIF($F$13:$J$13,AQ$13,$F35:$J35),\"\")","v":""},{"$f":"IF(AND(LEN($D35)>0,SUMIF($F$13:$J$13,AR$13,$F35:$J35)>0,ASISTENCIA!AL34<>\"X\",ASISTENCIA!AL34<>\"L\",ASISTENCIA!AL34<>\"J\",ASISTENCIA!AL34<>\"V\",ASISTENCIA!AL34<>\"F\",ASISTENCIA!AL34<>\"\"),SUMIF($F$13:$J$13,AR$13,$F35:$J35),\"\")","v":""},{"$f":"IF(AND(LEN($D35)>0,SUMIF($F$13:$J$13,AS$13,$F35:$J35)>0,ASISTENCIA!AM34<>\"X\",ASISTENCIA!AM34<>\"L\",ASISTENCIA!AM34<>\"J\",ASISTENCIA!AM34<>\"V\",ASISTENCIA!AM34<>\"F\",ASISTENCIA!AM34<>\"\"),SUMIF($F$13:$J$13,AS$13,$F35:$J35),\"\")","v":""},"",null,null,null,{"$f":"IF(AND(LEN($D35)>0,SUMIF($F$13:$J$13,AX$13,$F35:$J35)>0,ASISTENCIA!AU34<>\"X\",ASISTENCIA!AU34<>\"L\",ASISTENCIA!AU34<>\"J\",ASISTENCIA!AU34<>\"F\"),SUMIF($F$13:$J$13,AX$13,$F35:$J35),\"\")","v":""},{"$f":"IF(AND(LEN($D35)>0,SUMIF($F$13:$J$13,AY$13,$F35:$J35)>0,ASISTENCIA!AV34<>\"X\",ASISTENCIA!AV34<>\"L\",ASISTENCIA!AV34<>\"J\",ASISTENCIA!AV34<>\"F\"),SUMIF($F$13:$J$13,AY$13,$F35:$J35),\"\")","v":""},{"$f":"IF(AND(LEN($D35)>0,SUMIF($F$13:$J$13,AZ$13,$F35:$J35)>0,ASISTENCIA!AW34<>\"X\",ASISTENCIA!AW34<>\"L\",ASISTENCIA!AW34<>\"J\",ASISTENCIA!AW34<>\"F\"),SUMIF($F$13:$J$13,AZ$13,$F35:$J35),\"\")","v":""},{"$f":"IF(AND(LEN($D35)>0,SUMIF($F$13:$J$13,BA$13,$F35:$J35)>0,ASISTENCIA!AX34<>\"X\",ASISTENCIA!AX34<>\"L\",ASISTENCIA!AX34<>\"J\",ASISTENCIA!AX34<>\"F\"),SUMIF($F$13:$J$13,BA$13,$F35:$J35),\"\")","v":""},{"$f":"IF(AND(LEN($D35)>0,SUMIF($F$13:$J$13,BB$13,$F35:$J35)>0,ASISTENCIA!AY34<>\"X\",ASISTENCIA!AY34<>\"L\",ASISTENCIA!AY34<>\"J\",ASISTENCIA!AY34<>\"F\"),SUMIF($F$13:$J$13,BB$13,$F35:$J35),\"\")","v":""},{"$f":"IF(AND(LEN($D35)>0,SUMIF($F$13:$J$13,BC$13,$F35:$J35)>0,ASISTENCIA!AZ34<>\"X\",ASISTENCIA!AZ34<>\"L\",ASISTENCIA!AZ34<>\"J\",ASISTENCIA!AZ34<>\"F\"),SUMIF($F$13:$J$13,BC$13,$F35:$J35),\"\")","v":""},{"$f":"IF(AND(LEN($D35)>0,SUMIF($F$13:$J$13,BD$13,$F35:$J35)>0,ASISTENCIA!BA34<>\"X\",ASISTENCIA!BA34<>\"L\",ASISTENCIA!BA34<>\"J\",ASISTENCIA!BA34<>\"F\"),SUMIF($F$13:$J$13,BD$13,$F35:$J35),\"\")","v":""},{"$f":"IF(AND(LEN($D35)>0,SUMIF($F$13:$J$13,BE$13,$F35:$J35)>0,ASISTENCIA!BB34<>\"X\",ASISTENCIA!BB34<>\"L\",ASISTENCIA!BB34<>\"J\",ASISTENCIA!BB34<>\"F\"),SUMIF($F$13:$J$13,BE$13,$F35:$J35),\"\")","v":""},{"$f":"IF(AND(LEN($D35)>0,SUMIF($F$13:$J$13,BF$13,$F35:$J35)>0,ASISTENCIA!#REF!<>\"X\",ASISTENCIA!#REF!<>\"L\",ASISTENCIA!#REF!<>\"J\",ASISTENCIA!#REF!<>\"F\"),SUMIF($F$13:$J$13,BF$13,$F35:$J35),\"\")","v":{"$error":"#REF!"}},{"$f":"IF(AND(LEN($D35)>0,SUMIF($F$13:$J$13,BG$13,$F35:$J35)>0,ASISTENCIA!#REF!<>\"X\",ASISTENCIA!#REF!<>\"L\",ASISTENCIA!#REF!<>\"J\",ASISTENCIA!#REF!<>\"F\"),SUMIF($F$13:$J$13,BG$13,$F35:$J35),\"\")","v":{"$error":"#REF!"}},{"$f":"IF(AND(LEN($D35)>0,SUMIF($F$13:$J$13,BH$13,$F35:$J35)>0,ASISTENCIA!BE34<>\"X\",ASISTENCIA!BE34<>\"L\",ASISTENCIA!BE34<>\"J\",ASISTENCIA!BE34<>\"F\"),SUMIF($F$13:$J$13,BH$13,$F35:$J35),\"\")","v":""},{"$f":"IF(AND(LEN($D35)>0,SUMIF($F$13:$J$13,BI$13,$F35:$J35)>0,ASISTENCIA!BF34<>\"X\",ASISTENCIA!BF34<>\"L\",ASISTENCIA!BF34<>\"J\",ASISTENCIA!BF34<>\"F\"),SUMIF($F$13:$J$13,BI$13,$F35:$J35),\"\")","v":""},{"$f":"IF(AND(LEN($D35)>0,SUMIF($F$13:$J$13,BJ$13,$F35:$J35)>0,ASISTENCIA!BG34<>\"X\",ASISTENCIA!BG34<>\"L\",ASISTENCIA!BG34<>\"J\",ASISTENCIA!BG34<>\"F\"),SUMIF($F$13:$J$13,BJ$13,$F35:$J35),\"\")","v":""},{"$f":"IF(AND(LEN($D35)>0,SUMIF($F$13:$J$13,BK$13,$F35:$J35)>0,ASISTENCIA!BH34<>\"X\",ASISTENCIA!BH34<>\"L\",ASISTENCIA!BH34<>\"J\",ASISTENCIA!BH34<>\"F\"),SUMIF($F$13:$J$13,BK$13,$F35:$J35),\"\")","v":""},{"$f":"IF(AND(LEN($D35)>0,SUMIF($F$13:$J$13,BL$13,$F35:$J35)>0,ASISTENCIA!BI34<>\"X\",ASISTENCIA!BI34<>\"L\",ASISTENCIA!BI34<>\"J\",ASISTENCIA!BI34<>\"F\"),SUMIF($F$13:$J$13,BL$13,$F35:$J35),\"\")","v":""},{"$f":"IF(AND(LEN($D35)>0,SUMIF($F$13:$J$13,BM$13,$F35:$J35)>0,ASISTENCIA!BJ34<>\"X\",ASISTENCIA!BJ34<>\"L\",ASISTENCIA!BJ34<>\"J\",ASISTENCIA!BJ34<>\"F\"),SUMIF($F$13:$J$13,BM$13,$F35:$J35),\"\")","v":""},{"$f":"IF(AND(LEN($D35)>0,SUMIF($F$13:$J$13,BN$13,$F35:$J35)>0,ASISTENCIA!BK34<>\"X\",ASISTENCIA!BK34<>\"L\",ASISTENCIA!BK34<>\"J\",ASISTENCIA!BK34<>\"F\"),SUMIF($F$13:$J$13,BN$13,$F35:$J35),\"\")","v":""},{"$f":"IF(AND(LEN($D35)>0,SUMIF($F$13:$J$13,BO$13,$F35:$J35)>0,ASISTENCIA!BL34<>\"X\",ASISTENCIA!BL34<>\"L\",ASISTENCIA!BL34<>\"J\",ASISTENCIA!BL34<>\"F\"),SUMIF($F$13:$J$13,BO$13,$F35:$J35),\"\")","v":""},{"$f":"IF(AND(LEN($D35)>0,SUMIF($F$13:$J$13,BP$13,$F35:$J35)>0,ASISTENCIA!BM34<>\"X\",ASISTENCIA!BM34<>\"L\",ASISTENCIA!BM34<>\"J\",ASISTENCIA!BM34<>\"F\"),SUMIF($F$13:$J$13,BP$13,$F35:$J35),\"\")","v":""},{"$f":"IF(AND(LEN($D35)>0,SUMIF($F$13:$J$13,BQ$13,$F35:$J35)>0,ASISTENCIA!BN34<>\"X\",ASISTENCIA!BN34<>\"L\",ASISTENCIA!BN34<>\"J\",ASISTENCIA!BN34<>\"F\"),SUMIF($F$13:$J$13,BQ$13,$F35:$J35),\"\")","v":""},{"$f":"IF(AND(LEN($D35)>0,SUMIF($F$13:$J$13,BR$13,$F35:$J35)>0,ASISTENCIA!BO34<>\"X\",ASISTENCIA!BO34<>\"L\",ASISTENCIA!BO34<>\"J\",ASISTENCIA!BO34<>\"F\"),SUMIF($F$13:$J$13,BR$13,$F35:$J35),\"\")","v":""},{"$f":"IF(AND(LEN($D35)>0,SUMIF($F$13:$J$13,BS$13,$F35:$J35)>0,ASISTENCIA!BP34<>\"X\",ASISTENCIA!BP34<>\"L\",ASISTENCIA!BP34<>\"J\",ASISTENCIA!BP34<>\"F\"),SUMIF($F$13:$J$13,BS$13,$F35:$J35),\"\")","v":""},{"$f":"IF(AND(LEN($D35)>0,SUMIF($F$13:$J$13,BT$13,$F35:$J35)>0,ASISTENCIA!BQ34<>\"X\",ASISTENCIA!BQ34<>\"L\",ASISTENCIA!BQ34<>\"J\",ASISTENCIA!BQ34<>\"F\"),SUMIF($F$13:$J$13,BT$13,$F35:$J35),\"\")","v":""},{"$f":"IF(AND(LEN($D35)>0,SUMIF($F$13:$J$13,BU$13,$F35:$J35)>0,ASISTENCIA!BR34<>\"X\",ASISTENCIA!BR34<>\"L\",ASISTENCIA!BR34<>\"J\",ASISTENCIA!BR34<>\"F\"),SUMIF($F$13:$J$13,BU$13,$F35:$J35),\"\")","v":""},{"$f":"IF(AND(LEN($D35)>0,SUMIF($F$13:$J$13,BV$13,$F35:$J35)>0,ASISTENCIA!BS34<>\"X\",ASISTENCIA!BS34<>\"L\",ASISTENCIA!BS34<>\"J\",ASISTENCIA!BS34<>\"F\"),SUMIF($F$13:$J$13,BV$13,$F35:$J35),\"\")","v":""},{"$f":"IF(AND(LEN($D35)>0,SUMIF($F$13:$J$13,BW$13,$F35:$J35)>0,ASISTENCIA!BT34<>\"X\",ASISTENCIA!BT34<>\"L\",ASISTENCIA!BT34<>\"J\",ASISTENCIA!BT34<>\"F\"),SUMIF($F$13:$J$13,BW$13,$F35:$J35),\"\")","v":""},{"$f":"IF(AND(LEN($D35)>0,SUMIF($F$13:$J$13,BX$13,$F35:$J35)>0,ASISTENCIA!BU34<>\"X\",ASISTENCIA!BU34<>\"L\",ASISTENCIA!BU34<>\"J\",ASISTENCIA!BU34<>\"F\"),SUMIF($F$13:$J$13,BX$13,$F35:$J35),\"\")","v":""},{"$f":"IF(AND(LEN($D35)>0,SUMIF($F$13:$J$13,BY$13,$F35:$J35)>0,ASISTENCIA!BV34<>\"X\",ASISTENCIA!BV34<>\"L\",ASISTENCIA!BV34<>\"J\",ASISTENCIA!BV34<>\"F\"),SUMIF($F$13:$J$13,BY$13,$F35:$J35),\"\")","v":""},{"$f":"IF(AND(LEN($D35)>0,SUMIF($F$13:$J$13,BZ$13,$F35:$J35)>0,ASISTENCIA!BW34<>\"X\",ASISTENCIA!BW34<>\"L\",ASISTENCIA!BW34<>\"J\",ASISTENCIA!BW34<>\"F\"),SUMIF($F$13:$J$13,BZ$13,$F35:$J35),\"\")","v":""},{"$f":"IF(AND(LEN($D35)>0,SUMIF($F$13:$J$13,CA$13,$F35:$J35)>0,ASISTENCIA!BX34<>\"X\",ASISTENCIA!BX34<>\"L\",ASISTENCIA!BX34<>\"J\",ASISTENCIA!BX34<>\"F\"),SUMIF($F$13:$J$13,CA$13,$F35:$J35),\"\")","v":""},{"$f":"IF(AND(LEN($D35)>0,SUMIF($F$13:$J$13,CB$13,$F35:$J35)>0,ASISTENCIA!BY34<>\"X\",ASISTENCIA!BY34<>\"L\",ASISTENCIA!BY34<>\"J\",ASISTENCIA!BY34<>\"F\"),SUMIF($F$13:$J$13,CB$13,$F35:$J35),\"\")","v":""},{"$error":"#REF!"}]
["",{"$f":"IF(LEN(C36)>0,VLOOKUP($O$4,DATA!$A$1:$S$1,2,FALSE),\"\")","v":""},"",{"$f":"IF(LEN(ASISTENCIA!E35)>0,ASISTENCIA!E35,\"\")","v":""},{"$f":"IF(LEN(D36)>0,ASISTENCIA!F35,\"\")","v":""},null,null,null,null,null,"",null,null,{"$error":"#REF!"},{"$f":"IF(AND(LEN($D36)>0,SUMIF($F$13:$J$13,O$13,$F36:$J36)>0,ASISTENCIA!I35<>\"X\",ASISTENCIA!I35<>\"L\",ASISTENCIA!I35<>\"J\",ASISTENCIA!I35<>\"V\",ASISTENCIA!I35<>\"F\",ASISTENCIA!I35<>\"\"),SUMIF($F$13:$J$13,O$13,$F36:$J36),\"\")","v":""},{"$f":"IF(AND(LEN($D36)>0,SUMIF($F$13:$J$13,P$13,$F36:$J36)>0,ASISTENCIA!J35<>\"X\",ASISTENCIA!J35<>\"L\",ASISTENCIA!J35<>\"J\",ASISTENCIA!J35<>\"V\",ASISTENCIA!J35<>\"F\",ASISTENCIA!J35<>\"\"),SUMIF($F$13:$J$13,P$13,$F36:$J36),\"\")","v":""},{"$f":"IF(AND(LEN($D36)>0,SUMIF($F$13:$J$13,Q$13,$F36:$J36)>0,ASISTENCIA!K35<>\"X\",ASISTENCIA!K35<>\"L\",ASISTENCIA!K35<>\"J\",ASISTENCIA!K35<>\"V\",ASISTENCIA!K35<>\"F\",ASISTENCIA!K35<>\"\"),SUMIF($F$13:$J$13,Q$13,$F36:$J36),\"\")","v":""},{"$f":"IF(AND(LEN($D36)>0,SUMIF($F$13:$J$13,R$13,$F36:$J36)>0,ASISTENCIA!L35<>\"X\",ASISTENCIA!L35<>\"L\",ASISTENCIA!L35<>\"J\",ASISTENCIA!L35<>\"V\",ASISTENCIA!L35<>\"F\",ASISTENCIA!L35<>\"\"),SUMIF($F$13:$J$13,R$13,$F36:$J36),\"\")","v":""},{"$f":"IF(AND(LEN($D36)>0,SUMIF($F$13:$J$13,S$13,$F36:$J36)>0,ASISTENCIA!M35<>\"X\",ASISTENCIA!M35<>\"L\",ASISTENCIA!M35<>\"J\",ASISTENCIA!M35<>\"V\",ASISTENCIA!M35<>\"F\",ASISTENCIA!M35<>\"\"),SUMIF($F$13:$J$13,S$13,$F36:$J36),\"\")","v":""},{"$f":"IF(AND(LEN($D36)>0,SUMIF($F$13:$J$13,T$13,$F36:$J36)>0,ASISTENCIA!N35<>\"X\",ASISTENCIA!N35<>\"L\",ASISTENCIA!N35<>\"J\",ASISTENCIA!N35<>\"V\",ASISTENCIA!N35<>\"F\",ASISTENCIA!N35<>\"\"),SUMIF($F$13:$J$13,T$13,$F36:$J36),\"\")","v":""},{"$f":"IF(AND(LEN($D36)>0,SUMIF($F$13:$J$13,U$13,$F36:$J36)>0,ASISTENCIA!O35<>\"X\",ASISTENCIA!O35<>\"L\",ASISTENCIA!O35<>\"J\",ASISTENCIA!O35<>\"V\",ASISTENCIA!O35<>\"F\",ASISTENCIA!O35<>\"\"),SUMIF($F$13:$J$13,U$13,$F36:$J36),\"\")","v":""},{"$f":"IF(AND(LEN($D36)>0,SUMIF($F$13:$J$13,V$13,$F36:$J36)>0,ASISTENCIA!P35<>\"X\",ASISTENCIA!P35<>\"L\",ASISTENCIA!P35<>\"J\",ASISTENCIA!P35<>\"V\",ASISTENCIA!P35<>\"F\",ASISTENCIA!P35<>\"\"),SUMIF($F$13:$J$13,V$13,$F36:$J36),\"\")","v":""},{"$f":"IF(AND(LEN($D36)>0,SUMIF($F$13:$J$13,W$13,$F36:$J36)>0,ASISTENCIA!Q35<>\"X\",ASISTENCIA!Q35<>\"L\",ASISTENCIA!Q35<>\"J\",ASISTENCIA!Q35<>\"V\",ASISTENCIA!Q35<>\"F\",ASISTENCIA!Q35<>\"\"),SUMIF($F$13:$J$13,W$13,$F36:$J36),\"\")","v":""},{"$f":"IF(AND(LEN($D36)>0,SUMIF($F$13:$J$13,X$13,$F36:$J36)>0,ASISTENCIA!R35<>\"X\",ASISTENCIA!R35<>\"L\",ASISTENCIA!R35<>\"J\",ASISTENCIA!R35<>\"V\",ASISTENCIA!R35<>\"F\",ASISTENCIA!R35<>\"\"),SUMIF($F$13:$J$13,X$13,$F36:$J36),\"\")","v":""},{"$f":"IF(AND(LEN($D36)>0,SUMIF($F$13:$J$13,Y$13,$F36:$J36)>0,ASISTENCIA!S35<>\"X\",ASISTENCIA!S35<>\"L\",ASISTENCIA!S35<>\"J\",ASISTENCIA!S35<>\"V\",ASISTENCIA!S35<>\"F\",ASISTENCIA!S35<>\"\"),SUMIF($F$13:$J$13,Y$13,$F36:$J36),\"\")","v":""},{"$f":"IF(AND(LEN($D36)>0,SUMIF($F$13:$J$13,Z$13,$F36:$J36)>0,ASISTENCIA!T35<>\"X\",ASISTENCIA!T35<>\"L\",ASISTENCIA!T35<>\"J\",ASISTENCIA!T35<>\"V\",ASISTENCIA!T35<>\"F\",ASISTENCIA!T35<>\"\"),SUMIF($F$13:$J$13,Z$13,$F36:$J36),\"\")","v":""},{"$f":"IF(AND(LEN($D36)>0,SUMIF($F$13:$J$13,AA$13,$F36:$J36)>0,ASISTENCIA!U35<>\"X\",ASISTENCIA!U35<>\"L\",ASISTENCIA!U35<>\"J\",ASISTENCIA!U35<>\"V\",ASISTENCIA!U35<>\"F\",ASISTENCIA!U35<>\"\"),SUMIF($F$13:$J$13,AA$13,$F36:$J36),\"\")","v":""},{"$f":"IF(AND(LEN($D36)>0,SUMIF($F$13:$J$13,AB$13,$F36:$J36)>0,ASISTENCIA!V35<>\"X\",ASISTENCIA!V35<>\"L\",ASISTENCIA!V35<>\"J\",ASISTENCIA!V35<>\"V\",ASISTENCIA!V35<>\"F\",ASISTENCIA!V35<>\"\"),SUMIF($F$13:$J$13,AB$13,$F36:$J36),\"\")","v":""},{"$f":"IF(AND(LEN($D36)>0,SUMIF($F$13:$J$13,AC$13,$F36:$J36)>0,ASISTENCIA!W35<>\"X\",ASISTENCIA!W35<>\"L\",ASISTENCIA!W35<>\"J\",ASISTENCIA!W35<>\"V\",ASISTENCIA!W35<>\"F\",ASISTENCIA!W35<>\"\"),SUMIF($F$13:$J$13,AC$13,$F36:$J36),\"\")","v":""},{"$f":"IF(AND(LEN($D36)>0,SUMIF($F$13:$J$13,AD$13,$F36:$J36)>0,ASISTENCIA!X35<>\"X\",ASISTENCIA!X35<>\"L\",ASISTENCIA!X35<>\"J\",ASISTENCIA!X35<>\"V\",ASISTENCIA!X35<>\"F\",ASISTENCIA!X35<>\"\"),SUMIF($F$13:$J$13,AD$13,$F36:$J36),\"\")","v":""},{"$f":"IF(AND(LEN($D36)>0,SUMIF($F$13:$J$13,AE$13,$F36:$J36)>0,ASISTENCIA!Y35<>\"X\",ASISTENCIA!Y35<>\"L\",ASISTENCIA!Y35<>\"J\",ASISTENCIA!Y35<>\"V\",ASISTENCIA!Y35<>\"F\",ASISTENCIA!Y35<>\"\"),SUMIF($F$13:$J$13,AE$13,$F36:$J36),\"\")","v":""},{"$f":"IF(AND(LEN($D36)>0,SUMIF($F$13:$J$13,AF$13,$F36:$J36)>0,ASISTENCIA!Z35<>\"X\",ASISTENCIA!Z35<>\"L\",ASISTENCIA!Z35<>\"J\",ASISTENCIA!Z35<>\"V\",ASISTENCIA!Z35<>\"F\",ASISTENCIA!Z35<>\"\"),SUMIF($F$13:$J$13,AF$13,$F36:$J36),\"\")","v":""},{"$f":"IF(AND(LEN($D36)>0,SUMIF($F$13:$J$13,AG$13,$F36:$J36)>0,ASISTENCIA!AA35<>\"X\",ASISTENCIA!AA35<>\"L\",ASISTENCIA!AA35<>\"J\",ASISTENCIA!AA35<>\"V\",ASISTENCIA!AA35<>\"F\",ASISTENCIA!AA35<>\"\"),SUMIF($F$13:$J$13,AG$13,$F36:$J36),\"\")","v":""},{"$f":"IF(AND(LEN($D36)>0,SUMIF($F$13:$J$13,AH$13,$F36:$J36)>0,ASISTENCIA!AB35<>\"X\",ASISTENCIA!AB35<>\"L\",ASISTENCIA!AB35<>\"J\",ASISTENCIA!AB35<>\"V\",ASISTENCIA!AB35<>\"F\",ASISTENCIA!AB35<>\"\"),SUMIF($F$13:$J$13,AH$13,$F36:$J36),\"\")","v":""},{"$f":"IF(AND(LEN($D36)>0,SUMIF($F$13:$J$13,AI$13,$F36:$J36)>0,ASISTENCIA!AC35<>\"X\",ASISTENCIA!AC35<>\"L\",ASISTENCIA!AC35<>\"J\",ASISTENCIA!AC35<>\"V\",ASISTENCIA!AC35<>\"F\",ASISTENCIA!AC35<>\"\"),SUMIF($F$13:$J$13,AI$13,$F36:$J36),\"\")","v":""},{"$f":"IF(AND(LEN($D36)>0,SUMIF($F$13:$J$13,AJ$13,$F36:$J36)>0,ASISTENCIA!AD35<>\"X\",ASISTENCIA!AD35<>\"L\",ASISTENCIA!AD35<>\"J\",ASISTENCIA!AD35<>\"V\",ASISTENCIA!AD35<>\"F\",ASISTENCIA!AD35<>\"\"),SUMIF($F$13:$J$13,AJ$13,$F36:$J36),\"\")","v":""},{"$f":"IF(AND(LEN($D36)>0,SUMIF($F$13:$J$13,AK$13,$F36:$J36)>0,ASISTENCIA!AE35<>\"X\",ASISTENCIA!AE35<>\"L\",ASISTENCIA!AE35<>\"J\",ASISTENCIA!AE35<>\"V\",ASISTENCIA!AE35<>\"F\",ASISTENCIA!AE35<>\"\"),SUMIF($F$13:$J$13,AK$13,$F36:$J36),\"\")","v":""},{"$f":"IF(AND(LEN($D36)>0,SUMIF($F$13:$J$13,AL$13,$F36:$J36)>0,ASISTENCIA!AF35<>\"X\",ASISTENCIA!AF35<>\"L\",ASISTENCIA!AF35<>\"J\",ASISTENCIA!AF35<>\"V\",ASISTENCIA!AF35<>\"F\",ASISTENCIA!AF35<>\"\"),SUMIF($F$13:$J$13,AL$13,$F36:$J36),\"\")","v":""},{"$f":"IF(AND(LEN($D36)>0,SUMIF($F$13:$J$13,AM$13,$F36:$J36)>0,ASISTENCIA!AG35<>\"X\",ASISTENCIA!AG35<>\"L\",ASISTENCIA!AG35<>\"J\",ASISTENCIA!AG35<>\"V\",ASISTENCIA!AG35<>\"F\",ASISTENCIA!AG35<>\"\"),SUMIF($F$13:$J$13,AM$13,$F36:$J36),\"\")","v":""},{"$f":"IF(AND(LEN($D36)>0,SUMIF($F$13:$J$13,AN$13,$F36:$J36)>0,ASISTENCIA!AH35<>\"X\",ASISTENCIA!AH35<>\"L\",ASISTENCIA!AH35<>\"J\",ASISTENCIA!AH35<>\"V\",ASISTENCIA!AH35<>\"F\",ASISTENCIA!AH35<>\"\"),SUMIF($F$13:$J$13,AN$13,$F36:$J36),\"\")","v":""},{"$f":"IF(AND(LEN($D36)>0,SUMIF($F$13:$J$13,AO$13,$F36:$J36)>0,ASISTENCIA!AI35<>\"X\",ASISTENCIA!AI35<>\"L\",ASISTENCIA!AI35<>\"J\",ASISTENCIA!AI35<>\"V\",ASISTENCIA!AI35<>\"F\",ASISTENCIA!AI35<>\"\"),SUMIF($F$13:$J$13,AO$13,$F36:$J36),\"\")","v":""},{"$f":"IF(AND(LEN($D36)>0,SUMIF($F$13:$J$13,AP$13,$F36:$J36)>0,ASISTENCIA!AJ35<>\"X\",ASISTENCIA!AJ35<>\"L\",ASISTENCIA!AJ35<>\"J\",ASISTENCIA!AJ35<>\"V\",ASISTENCIA!AJ35<>\"F\",ASISTENCIA!AJ35<>\"\"),SUMIF($F$13:$J$13,AP$13,$F36:$J36),\"\")","v":""},{"$f":"IF(AND(LEN($D36)>0,SUMIF($F$13:$J$13,AQ$13,$F36:$J36)>0,ASISTENCIA!AK35<>\"X\",ASISTENCIA!AK35<>\"L\",ASISTENCIA!AK35<>\"J\",ASISTENCIA!AK35<>\"V\",ASISTENCIA!AK35<>\"F\",ASISTENCIA!AK35<>\"\"),SUMIF($F$13:$J$13,AQ$13,$F36:$J36),\"\")","v":""},{"$f":"IF(AND(LEN($D36)>0,SUMIF($F$13:$J$13,AR$13,$F36:$J36)>0,ASISTENCIA!AL35<>\"X\",ASISTENCIA!AL35<>\"L\",ASISTENCIA!AL35<>\"J\",ASISTENCIA!AL35<>\"V\",ASISTENCIA!AL35<>\"F\",ASISTENCIA!AL35<>\"\"),SUMIF($F$13:$J$13,AR$13,$F36:$J36),\"\")","v":""},{"$f":"IF(AND(LEN($D36)>0,SUMIF($F$13:$J$13,AS$13,$F36:$J36)>0,ASISTENCIA!AM35<>\"X\",ASISTENCIA!AM35<>\"L\",ASISTENCIA!AM35<>\"J\",ASISTENCIA!AM35<>\"V\",ASISTENCIA!AM35<>\"F\",ASISTENCIA!AM35<>\"\"),SUMIF($F$13:$J$13,AS$13,$F36:$J36),\"\")","v":""},"",null,null,null,{"$f":"IF(AND(LEN($D36)>0,SUMIF($F$13:$J$13,AX$13,$F36:$J36)>0,ASISTENCIA!AU35<>\"X\",ASISTENCIA!AU35<>\"L\",ASISTENCIA!AU35<>\"J\",ASISTENCIA!AU35<>\"F\"),SUMIF($F$13:$J$13,AX$13,$F36:$J36),\"\")","v":""},{"$f":"IF(AND(LEN($D36)>0,SUMIF($F$13:$J$13,AY$13,$F36:$J36)>0,ASISTENCIA!AV35<>\"X\",ASISTENCIA!AV35<>\"L\",ASISTENCIA!AV35<>\"J\",ASISTENCIA!AV35<>\"F\"),SUMIF($F$13:$J$13,AY$13,$F36:$J36),\"\")","v":""},{"$f":"IF(AND(LEN($D36)>0,SUMIF($F$13:$J$13,AZ$13,$F36:$J36)>0,ASISTENCIA!AW35<>\"X\",ASISTENCIA!AW35<>\"L\",ASISTENCIA!AW35<>\"J\",ASISTENCIA!AW35<>\"F\"),SUMIF($F$13:$J$13,AZ$13,$F36:$J36),\"\")","v":""},{"$f":"IF(AND(LEN($D36)>0,SUMIF($F$13:$J$13,BA$13,$F36:$J36)>0,ASISTENCIA!AX35<>\"X\",ASISTENCIA!AX35<>\"L\",ASISTENCIA!AX35<>\"J\",ASISTENCIA!AX35<>\"F\"),SUMIF($F$13:$J$13,BA$13,$F36:$J36),\"\")","v":""},{"$f":"IF(AND(LEN($D36)>0,SUMIF($F$13:$J$13,BB$13,$F36:$J36)>0,ASISTENCIA!AY35<>\"X\",ASISTENCIA!AY35<>\"L\",ASISTENCIA!AY35<>\"J\",ASISTENCIA!AY35<>\"F\"),SUMIF($F$13:$J$13,BB$13,$F36:$J36),\"\")","v":""},{"$f":"IF(AND(LEN($D36)>0,SUMIF($F$13:$J$13,BC$13,$F36:$J36)>0,ASISTENCIA!AZ35<>\"X\",ASISTENCIA!AZ35<>\"L\",ASISTENCIA!AZ35<>\"J\",ASISTENCIA!AZ35<>\"F\"),SUMIF($F$13:$J$13,BC$13,$F36:$J36),\"\")","v":""},{"$f":"IF(AND(LEN($D36)>0,SUMIF($F$13:$J$13,BD$13,$F36:$J36)>0,ASISTENCIA!BA35<>\"X\",ASISTENCIA!BA35<>\"L\",ASISTENCIA!BA35<>\"J\",ASISTENCIA!BA35<>\"F\"),SUMIF($F$13:$J$13,BD$13,$F36:$J36),\"\")","v":""},{"$f":"IF(AND(LEN($D36)>0,SUMIF($F$13:$J$13,BE$13,$F36:$J36)>0,ASISTENCIA!BB35<>\"X\",ASISTENCIA!BB35<>\"L\",ASISTENCIA!BB35<>\"J\",ASISTENCIA!BB35<>\"F\"),SUMIF($F$13:$J$13,BE$13,$F36:$J36),\"\")","v":""},{"$f":"IF(AND(LEN($D36)>0,SUMIF($F$13:$J$13,BF$13,$F36:$J36)>0,ASISTENCIA!#REF!<>\"X\",ASISTENCIA!#REF!<>\"L\",ASISTENCIA!#REF!<>\"J\",ASISTENCIA!#REF!<>\"F\"),SUMIF($F$13:$J$13,BF$13,$F36:$J36),\"\")","v":{"$error":"#REF!"}},{"$f":"IF(AND(LEN($D36)>0,SUMIF($F$13:$J$13,BG$13,$F36:$J36)>0,ASISTENCIA!#REF!<>\"X\",ASISTENCIA!#REF!<>\"L\",ASISTENCIA!#REF!<>\"J\",ASISTENCIA!#REF!<>\"F\"),SUMIF($F$13:$J$13,BG$13,$F36:$J36),\"\")","v":{"$error":"#REF!"}},{"$f":"IF(AND(LEN($D36)>0,SUMIF($F$13:$J$13,BH$13,$F36:$J36)>0,ASISTENCIA!BE35<>\"X\",ASISTENCIA!BE35<>\"L\",ASISTENCIA!BE35<>\"J\",ASISTENCIA!BE35<>\"F\"),SUMIF($F$13:$J$13,BH$13,$F36:$J36),\"\")","v":""},{"$f":"IF(AND(LEN($D36)>0,SUMIF($F$13:$J$13,BI$13,$F36:$J36)>0,ASISTENCIA!BF35<>\"X\",ASISTENCIA!BF35<>\"L\",ASISTENCIA!BF35<>\"J\",ASISTENCIA!BF35<>\"F\"),SUMIF($F$13:$J$13,BI$13,$F36:$J36),\"\")","v":""},{"$f":"IF(AND(LEN($D36)>0,SUMIF($F$13:$J$13,BJ$13,$F36:$J36)>0,ASISTENCIA!BG35<>\"X\",ASISTENCIA!BG35<>\"L\",ASISTENCIA!BG35<>\"J\",ASISTENCIA!BG35<>\"F\"),SUMIF($F$13:$J$13,BJ$13,$F36:$J36),\"\")","v":""},{"$f":"IF(AND(LEN($D36)>0,SUMIF($F$13:$J$13,BK$13,$F36:$J36)>0,ASISTENCIA!BH35<>\"X\",ASISTENCIA!BH35<>\"L\",ASISTENCIA!BH35<>\"J\",ASISTENCIA!BH35<>\"F\"),SUMIF($F$13:$J$13,BK$13,$F36:$J36),\"\")","v":""},{"$f":"IF(AND(LEN($D36)>0,SUMIF($F$13:$J$13,BL$13,$F36:$J36)>0,ASISTENCIA!BI35<>\"X\",ASISTENCIA!BI35<>\"L\",ASISTENCIA!BI35<>\"J\",ASISTENCIA!BI35<>\"F\"),SUMIF($F$13:$J$13,BL$13,$F36:$J36),\"\")","v":""},{"$f":"IF(AND(LEN($D36)>0,SUMIF($F$13:$J$13,BM$13,$F36:$J36)>0,ASISTENCIA!BJ35<>\"X\",ASISTENCIA!BJ35<>\"L\",ASISTENCIA!BJ35<>\"J\",ASISTENCIA!BJ35<>\"F\"),SUMIF($F$13:$J$13,BM$13,$F36:$J36),\"\")","v":""},{"$f":"IF(AND(LEN($D36)>0,SUMIF($F$13:$J$13,BN$13,$F36:$J36)>0,ASISTENCIA!BK35<>\"X\",ASISTENCIA!BK35<>\"L\",ASISTENCIA!BK35<>\"J\",ASISTENCIA!BK35<>\"F\"),SUMIF($F$13:$J$13,BN$13,$F36:$J36),\"\")","v":""},{"$f":"IF(AND(LEN($D36)>0,SUMIF($F$13:$J$13,BO$13,$F36:$J36)>0,ASISTENCIA!BL35<>\"X\",ASISTENCIA!BL35<>\"L\",ASISTENCIA!BL35<>\"J\",ASISTENCIA!BL35<>\"F\"),SUMIF($F$13:$J$13,BO$13,$F36:$J36),\"\")","v":""},{"$f":"IF(AND(LEN($D36)>0,SUMIF($F$13:$J$13,BP$13,$F36:$J36)>0,ASISTENCIA!BM35<>\"X\",ASISTENCIA!BM35<>\"L\",ASISTENCIA!BM35<>\"J\",ASISTENCIA!BM35<>\"F\"),SUMIF($F$13:$J$13,BP$13,$F36:$J36),\"\")","v":""},{"$f":"IF(AND(LEN($D36)>0,SUMIF($F$13:$J$13,BQ$13,$F36:$J36)>0,ASISTENCIA!BN35<>\"X\",ASISTENCIA!BN35<>\"L\",ASISTENCIA!BN35<>\"J\",ASISTENCIA!BN35<>\"F\"),SUMIF($F$13:$J$13,BQ$13,$F36:$J36),\"\")","v":""},{"$f":"IF(AND(LEN($D36)>0,SUMIF($F$13:$J$13,BR$13,$F36:$J36)>0,ASISTENCIA!BO35<>\"X\",ASISTENCIA!BO35<>\"L\",ASISTENCIA!BO35<>\"J\",ASISTENCIA!BO35<>\"F\"),SUMIF($F$13:$J$13,BR$13,$F36:$J36),\"\")","v":""},{"$f":"IF(AND(LEN($D36)>0,SUMIF($F$13:$J$13,BS$13,$F36:$J36)>0,ASISTENCIA!BP35<>\"X\",ASISTENCIA!BP35<>\"L\",ASISTENCIA!BP35<>\"J\",ASISTENCIA!BP35<>\"F\"),SUMIF($F$13:$J$13,BS$13,$F36:$J36),\"\")","v":""},{"$f":"IF(AND(LEN($D36)>0,SUMIF($F$13:$J$13,BT$13,$F36:$J36)>0,ASISTENCIA!BQ35<>\"X\",ASISTENCIA!BQ35<>\"L\",ASISTENCIA!BQ35<>\"J\",ASISTENCIA!BQ35<>\"F\"),SUMIF($F$13:$J$13,BT$13,$F36:$J36),\"\")","v":""},{"$f":"IF(AND(LEN($D36)>0,SUMIF($F$13:$J$13,BU$13,$F36:$J36)>0,ASISTENCIA!BR35<>\"X\",ASISTENCIA!BR35<>\"L\",ASISTENCIA!BR35<>\"J\",ASISTENCIA!BR35<>\"F\"),SUMIF($F$13:$J$13,BU$13,$F36:$J36),\"\")","v":""},{"$f":"IF(AND(LEN($D36)>0,SUMIF($F$13:$J$13,BV$13,$F36:$J36)>0,ASISTENCIA!BS35<>\"X\",ASISTENCIA!BS35<>\"L\",ASISTENCIA!BS35<>\"J\",ASISTENCIA!BS35<>\"F\"),SUMIF($F$13:$J$13,BV$13,$F36:$J36),\"\")","v":""},{"$f":"IF(AND(LEN($D36)>0,SUMIF($F$13:$J$13,BW$13,$F36:$J36)>0,ASISTENCIA!BT35<>\"X\",ASISTENCIA!BT35<>\"L\",ASISTENCIA!BT35<>\"J\",ASISTENCIA!BT35<>\"F\"),SUMIF($F$13:$J$13,BW$13,$F36:$J36),\"\")","v":""},{"$f":"IF(AND(LEN($D36)>0,SUMIF($F$13:$J$13,BX$13,$F36:$J36)>0,ASISTENCIA!BU35<>\"X\",ASISTENCIA!BU35<>\"L\",ASISTENCIA!BU35<>\"J\",ASISTENCIA!BU35<>\"F\"),SUMIF($F$13:$J$13,BX$13,$F36:$J36),\"\")","v":""},{"$f":"IF(AND(LEN($D36)>0,SUMIF($F$13:$J$13,BY$13,$F36:$J36)>0,ASISTENCIA!BV35<>\"X\",ASISTENCIA!BV35<>\"L\",ASISTENCIA!BV35<>\"J\",ASISTENCIA!BV35<>\"F\"),SUMIF($F$13:$J$13,BY$13,$F36:$J36),\"\")","v":""},{"$f":"IF(AND(LEN($D36)>0,SUMIF($F$13:$J$13,BZ$13,$F36:$J36)>0,ASISTENCIA!BW35<>\"X\",ASISTENCIA!BW35<>\"L\",ASISTENCIA!BW35<>\"J\",ASISTENCIA!BW35<>\"F\"),SUMIF($F$13:$J$13,BZ$13,$F36:$J36),\"\")","v":""},{"$f":"IF(AND(LEN($D36)>0,SUMIF($F$13:$J$13,CA$13,$F36:$J36)>0,ASISTENCIA!BX35<>\"X\",ASISTENCIA!BX35<>\"L\",ASISTENCIA!BX35<>\"J\",ASISTENCIA!BX35<>\"F\"),SUMIF($F$13:$J$13,CA$13,$F36:$J36),\"\")","v":""},{"$f":"IF(AND(LEN($D36)>0,SUMIF($F$13:$J$13,CB$13,$F36:$J36)>0,ASISTENCIA!BY35<>\"X\",ASISTENCIA!BY35<>\"L\",ASISTENCIA!BY35<>\"J\",ASISTENCIA!BY35<>\"F\"),SUMIF($F$13:$J$13,CB$13,$F36:$J36),\"\")","v":""},{"$error":"#REF!"}]
["",{"$f":"IF(LEN(C37)>0,VLOOKUP($O$4,DATA!$A$1:$S$1,2,FALSE),\"\")","v":""},"",{"$f":"IF(LEN(ASISTENCIA!E36)>0,ASISTENCIA!E36,\"\")","v":""},{"$f":"IF(LEN(D37)>0,ASISTENCIA!F36,\"\")","v":""},null,null,null,null,null,"",null,null,{"$error":"#REF!"},{"$f":"IF(AND(LEN($D37)>0,SUMIF($F$13:$J$13,O$13,$F37:$J37)>0,ASISTENCIA!I36<>\"X\",ASISTENCIA!I36<>\"L\",ASISTENCIA!I36<>\"J\",ASISTENCIA!I36<>\"V\",ASISTENCIA!I36<>\"F\",ASISTENCIA!I36<>\"\"),SUMIF($F$13:$J$13,O$13,$F37:$J37),\"\")","v":""},{"$f":"IF(AND(LEN($D37)>0,SUMIF($F$13:$J$13,P$13,$F37:$J37)>0,ASISTENCIA!J36<>\"X\",ASISTENCIA!J36<>\"L\",ASISTENCIA!J36<>\"J\",ASISTENCIA!J36<>\"V\",ASISTENCIA!J36<>\"F\",ASISTENCIA!J36<>\"\"),SUMIF($F$13:$J$13,P$13,$F37:$J37),\"\")","v":""},{"$f":"IF(AND(LEN($D37)>0,SUMIF($F$13:$J$13,Q$13,$F37:$J37)>0,ASISTENCIA!K36<>\"X\",ASISTENCIA!K36<>\"L\",ASISTENCIA!K36<>\"J\",ASISTENCIA!K36<>\"V\",ASISTENCIA!K36<>\"F\",ASISTENCIA!K36<>\"\"),SUMIF($F$13:$J$13,Q$13,$F37:$J37),\"\")","v":""},{"$f":"IF(AND(LEN($D37)>0,SUMIF($F$13:$J$13,R$13,$F37:$J37)>0,ASISTENCIA!L36<>\"X\",ASISTENCIA!L36<>\"L\",ASISTENCIA!L36<>\"J\",ASISTENCIA!L36<>\"V\",ASISTENCIA!L36<>\"F\",ASISTENCIA!L36<>\"\"),SUMIF($F$13:$J$13,R$13,$F37:$J37),\"\")","v":""},{"$f":"IF(AND(LEN($D37)>0,SUMIF($F$13:$J$13,S$13,$F37:$J37)>0,ASISTENCIA!M36<>\"X\",ASISTENCIA!M36<>\"L\",ASISTENCIA!M36<>\"J\",ASISTENCIA!M36<>\"V\",ASISTENCIA!M36<>\"F\",ASISTENCIA!M36<>\"\"),SUMIF($F$13:$J$13,S$13,$F37:$J37),\"\")","v":""},{"$f":"IF(AND(LEN($D37)>0,SUMIF($F$13:$J$13,T$13,$F37:$J37)>0,ASISTENCIA!N36<>\"X\",ASISTENCIA!N36<>\"L\",ASISTENCIA!N36<>\"J\",ASISTENCIA!N36<>\"V\",ASISTENCIA!N36<>\"F\",ASISTENCIA!N36<>\"\"),SUMIF($F$13:$J$13,T$13,$F37:$J37),\"\")","v":""},{"$f":"IF(AND(LEN($D37)>0,SUMIF($F$13:$J$13,U$13,$F37:$J37)>0,ASISTENCIA!O36<>\"X\",ASISTENCIA!O36<>\"L\",ASISTENCIA!O36<>\"J\",ASISTENCIA!O36<>\"V\",ASISTENCIA!O36<>\"F\",ASISTENCIA!O36<>\"\"),SUMIF($F$13:$J$13,U$13,$F37:$J37),\"\")","v":""},{"$f":"IF(AND(LEN($D37)>0,SUMIF($F$13:$J$13,V$13,$F37:$J37)>0,ASISTENCIA!P36<>\"X\",ASISTENCIA!P36<>\"L\",ASISTENCIA!P36<>\"J\",ASISTENCIA!P36<>\"V\",ASISTENCIA!P36<>\"F\",ASISTENCIA!P36<>\"\"),SUMIF($F$13:$J$13,V$13,$F37:$J37),\"\")","v":""},{"$f":"IF(AND(LEN($D37)>0,SUMIF($F$13:$J$13,W$13,$F37:$J37)>0,ASISTENCIA!Q36<>\"X\",ASISTENCIA!Q36<>\"L\",ASISTENCIA!Q36<>\"J\",ASISTENCIA!Q36<>\"V\",ASISTENCIA!Q36<>\"F\",ASISTENCIA!Q36<>\"\"),SUMIF($F$13:$J$13,W$13,$F37:$J37),\"\")","v":""},{"$f":"IF(AND(LEN($D37)>0,SUMIF($F$13:$J$13,X$13,$F37:$J37)>0,ASISTENCIA!R36<>\"X\",ASISTENCIA!R36<>\"L\",ASISTENCIA!R36<>\"J\",ASISTENCIA!R36<>\"V\",ASISTENCIA!R36<>\"F\",ASISTENCIA!R36<>\"\"),SUMIF($F$13:$J$13,X$13,$F37:$J37),\"\")","v":""},{"$f":"IF(AND(LEN($D37)>0,SUMIF($F$13:$J$13,Y$13,$F37:$J37)>0,ASISTENCIA!S36<>\"X\",ASISTENCIA!S36<>\"L\",ASISTENCIA!S36<>\"J\",ASISTENCIA!S36<>\"V\",ASISTENCIA!S36<>\"F\",ASISTENCIA!S36<>\"\"),SUMIF($F$13:$J$13,Y$13,$F37:$J37),\"\")","v":""},{"$f":"IF(AND(LEN($D37)>0,SUMIF($F$13:$J$13,Z$13,$F37:$J37)>0,ASISTENCIA!T36<>\"X\",ASISTENCIA!T36<>\"L\",ASISTENCIA!T36<>\"J\",ASISTENCIA!T36<>\"V\",ASISTENCIA!T36<>\"F\",ASISTENCIA!T36<>\"\"),SUMIF($F$13:$J$13,Z$13,$F37:$J37),\"\")","v":""},{"$f":"IF(AND(LEN($D37)>0,SUMIF($F$13:$J$13,AA$13,$F37:$J37)>0,ASISTENCIA!U36<>\"X\",ASISTENCIA!U36<>\"L\",ASISTENCIA!U36<>\"J\",ASISTENCIA!U36<>\"V\",ASISTENCIA!U36<>\"F\",ASISTENCIA!U36<>\"\"),SUMIF($F$13:$J$13,AA$13,$F37:$J37),\"\")","v":""},{"$f":"IF(AND(LEN($D37)>0,SUMIF($F$13:$J$13,AB$13,$F37:$J37)>0,ASISTENCIA!V36<>\"X\",ASISTENCIA!V36<>\"L\",ASISTENCIA!V36<>\"J\",ASISTENCIA!V36<>\"V\",ASISTENCIA!V36<>\"F\",ASISTENCIA!V36<>\"\"),SUMIF($F$13:$J$13,AB$13,$F37:$J37),\"\")","v":""},{"$f":"IF(AND(LEN($D37)>0,SUMIF($F$13:$J$13,AC$13,$F37:$J37)>0,ASISTENCIA!W36<>\"X\",ASISTENCIA!W36<>\"L\",ASISTENCIA!W36<>\"J\",ASISTENCIA!W36<>\"V\",ASISTENCIA!W36<>\"F\",ASISTENCIA!W36<>\"\"),SUMIF($F$13:$J$13,AC$13,$F37:$J37),\"\")","v":""},{"$f":"IF(AND(LEN($D37)>0,SUMIF($F$13:$J$13,AD$13,$F37:$J37)>0,ASISTENCIA!X36<>\"X\",ASISTENCIA!X36<>\"L\",ASISTENCIA!X36<>\"J\",ASISTENCIA!X36<>\"V\",ASISTENCIA!X36<>\"F\",ASISTENCIA!X36<>\"\"),SUMIF($F$13:$J$13,AD$13,$F37:$J37),\"\")","v":""},{"$f":"IF(AND(LEN($D37)>0,SUMIF($F$13:$J$13,AE$13,$F37:$J37)>0,ASISTENCIA!Y36<>\"X\",ASISTENCIA!Y36<>\"L\",ASISTENCIA!Y36<>\"J\",ASISTENCIA!Y36<>\"V\",ASISTENCIA!Y36<>\"F\",ASISTENCIA!Y36<>\"\"),SUMIF($F$13:$J$13,AE$13,$F37:$J37),\"\")","v":""},{"$f":"IF(AND(LEN($D37)>0,SUMIF($F$13:$J$13,AF$13,$F37:$J37)>0,ASISTENCIA!Z36<>\"X\",ASISTENCIA!Z36<>\"L\",ASISTENCIA!Z36<>\"J\",ASISTENCIA!Z36<>\"V\",ASISTENCIA!Z36<>\"F\",ASISTENCIA!Z36<>\"\"),SUMIF($F$13:$J$13,AF$13,$F37:$J37),\"\")","v":""},{"$f":"IF(AND(LEN($D37)>0,SUMIF($F$13:$J$13,AG$13,$F37:$J37)>0,ASISTENCIA!AA36<>\"X\",ASISTENCIA!AA36<>\"L\",ASISTENCIA!AA36<>\"J\",ASISTENCIA!AA36<>\"V\",ASISTENCIA!AA36<>\"F\",ASISTENCIA!AA36<>\"\"),SUMIF($F$13:$J$13,AG$13,$F37:$J37),\"\")","v":""},{"$f":"IF(AND(LEN($D37)>0,SUMIF($F$13:$J$13,AH$13,$F37:$J37)>0,ASISTENCIA!AB36<>\"X\",ASISTENCIA!AB36<>\"L\",ASISTENCIA!AB36<>\"J\",ASISTENCIA!AB36<>\"V\",ASISTENCIA!AB36<>\"F\",ASISTENCIA!AB36<>\"\"),SUMIF($F$13:$J$13,AH$13,$F37:$J37),\"\")","v":""},{"$f":"IF(AND(LEN($D37)>0,SUMIF($F$13:$J$13,AI$13,$F37:$J37)>0,ASISTENCIA!AC36<>\"X\",ASISTENCIA!AC36<>\"L\",ASISTENCIA!AC36<>\"J\",ASISTENCIA!AC36<>\"V\",ASISTENCIA!AC36<>\"F\",ASISTENCIA!AC36<>\"\"),SUMIF($F$13:$J$13,AI$13,$F37:$J37),\"\")","v":""},{"$f":"IF(AND(LEN($D37)>0,SUMIF($F$13:$J$13,AJ$13,$F37:$J37)>0,ASISTENCIA!AD36<>\"X\",ASISTENCIA!AD36<>\"L\",ASISTENCIA!AD36<>\"J\",ASISTENCIA!AD36<>\"V\",ASISTENCIA!AD36<>\"F\",ASISTENCIA!AD36<>\"\"),SUMIF($F$13:$J$13,AJ$13,$F37:$J37),\"\")","v":""},{"$f":"IF(AND(LEN($D37)>0,SUMIF($F$13:$J$13,AK$13,$F37:$J37)>0,ASISTENCIA!AE36<>\"X\",ASISTENCIA!AE36<>\"L\",ASISTENCIA!AE36<>\"J\",ASISTENCIA!AE36<>\"V\",ASISTENCIA!AE36<>\"F\",ASISTENCIA!AE36<>\"\"),SUMIF($F$13:$J$13,AK$13,$F37:$J37),\"\")","v":""},{"$f":"IF(AND(LEN($D37)>0,SUMIF($F$13:$J$13,AL$13,$F37:$J37)>0,ASISTENCIA!AF36<>\"X\",ASISTENCIA!AF36<>\"L\",ASISTENCIA!AF36<>\"J\",ASISTENCIA!AF36<>\"V\",ASISTENCIA!AF36<>\"F\",ASISTENCIA!AF36<>\"\"),SUMIF($F$13:$J$13,AL$13,$F37:$J37),\"\")","v":""},{"$f":"IF(AND(LEN($D37)>0,SUMIF($F$13:$J$13,AM$13,$F37:$J37)>0,ASISTENCIA!AG36<>\"X\",ASISTENCIA!AG36<>\"L\",ASISTENCIA!AG36<>\"J\",ASISTENCIA!AG36<>\"V\",ASISTENCIA!AG36<>\"F\",ASISTENCIA!AG36<>\"\"),SUMIF($F$13:$J$13,AM$13,$F37:$J37),\"\")","v":""},{"$f":"IF(AND(LEN($D37)>0,SUMIF($F$13:$J$13,AN$13,$F37:$J37)>0,ASISTENCIA!AH36<>\"X\",ASISTENCIA!AH36<>\"L\",ASISTENCIA!AH36<>\"J\",ASISTENCIA!AH36<>\"V\",ASISTENCIA!AH36<>\"F\",ASISTENCIA!AH36<>\"\"),SUMIF($F$13:$J$13,AN$13,$F37:$J37),\"\")","v":""},{"$f":"IF(AND(LEN($D37)>0,SUMIF($F$13:$J$13,AO$13,$F37:$J37)>0,ASISTENCIA!AI36<>\"X\",ASISTENCIA!AI36<>\"L\",ASISTENCIA!AI36<>\"J\",ASISTENCIA!AI36<>\"V\",ASISTENCIA!AI36<>\"F\",ASISTENCIA!AI36<>\"\"),SUMIF($F$13:$J$13,AO$13,$F37:$J37),\"\")","v":""},{"$f":"IF(AND(LEN($D37)>0,SUMIF($F$13:$J$13,AP$13,$F37:$J37)>0,ASISTENCIA!AJ36<>\"X\",ASISTENCIA!AJ36<>\"L\",ASISTENCIA!AJ36<>\"J\",ASISTENCIA!AJ36<>\"V\",ASISTENCIA!AJ36<>\"F\",ASISTENCIA!AJ36<>\"\"),SUMIF($F$13:$J$13,AP$13,$F37:$J37),\"\")","v":""},{"$f":"IF(AND(LEN($D37)>0,SUMIF($F$13:$J$13,AQ$13,$F37:$J37)>0,ASISTENCIA!AK36<>\"X\",ASISTENCIA!AK36<>\"L\",ASISTENCIA!AK36<>\"J\",ASISTENCIA!AK36<>\"V\",ASISTENCIA!AK36<>\"F\",ASISTENCIA!AK36<>\"\"),SUMIF($F$13:$J$13,AQ$13,$F37:$J37),\"\")","v":""},{"$f":"IF(AND(LEN($D37)>0,SUMIF($F$13:$J$13,AR$13,$F37:$J37)>0,ASISTENCIA!AL36<>\"X\",ASISTENCIA!AL36<>\"L\",ASISTENCIA!AL36<>\"J\",ASISTENCIA!AL36<>\"V\",ASISTENCIA!AL36<>\"F\",ASISTENCIA!AL36<>\"\"),SUMIF($F$13:$J$13,AR$13,$F37:$J37),\"\")","v":""},{"$f":"IF(AND(LEN($D37)>0,SUMIF($F$13:$J$13,AS$13,$F37:$J37)>0,ASISTENCIA!AM36<>\"X\",ASISTENCIA!AM36<>\"L\",ASISTENCIA!AM36<>\"J\",ASISTENCIA!AM36<>\"V\",ASISTENCIA!AM36<>\"F\",ASISTENCIA!AM36<>\"\"),SUMIF($F$13:$J$13,AS$13,$F37:$J37),\"\")","v":""},"",null,null,null,{"$f":"IF(AND(LEN($D37)>0,SUMIF($F$13:$J$13,AX$13,$F37:$J37)>0,ASISTENCIA!AU36<>\"X\",ASISTENCIA!AU36<>\"L\",ASISTENCIA!AU36<>\"J\",ASISTENCIA!AU36<>\"F\"),SUMIF($F$13:$J$13,AX$13,$F37:$J37),\"\")","v":""},{"$f":"IF(AND(LEN($D37)>0,SUMIF($F$13:$J$13,AY$13,$F37:$J37)>0,ASISTENCIA!AV36<>\"X\",ASISTENCIA!AV36<>\"L\",ASISTENCIA!AV36<>\"J\",ASISTENCIA!AV36<>\"F\"),SUMIF($F$13:$J$13,AY$13,$F37:$J37),\"\")","v":""},{"$f":"IF(AND(LEN($D37)>0,SUMIF($F$13:$J$13,AZ$13,$F37:$J37)>0,ASISTENCIA!AW36<>\"X\",ASISTENCIA!AW36<>\"L\",ASISTENCIA!AW36<>\"J\",ASISTENCIA!AW36<>\"F\"),SUMIF($F$13:$J$13,AZ$13,$F37:$J37),\"\")","v":""},{"$f":"IF(AND(LEN($D37)>0,SUMIF($F$13:$J$13,BA$13,$F37:$J37)>0,ASISTENCIA!AX36<>\"X\",ASISTENCIA!AX36<>\"L\",ASISTENCIA!AX36<>\"J\",ASISTENCIA!AX36<>\"F\"),SUMIF($F$13:$J$13,BA$13,$F37:$J37),\"\")","v":""},{"$f":"IF(AND(LEN($D37)>0,SUMIF($F$13:$J$13,BB$13,$F37:$J37)>0,ASISTENCIA!AY36<>\"X\",ASISTENCIA!AY36<>\"L\",ASISTENCIA!AY36<>\"J\",ASISTENCIA!AY36<>\"F\"),SUMIF($F$13:$J$13,BB$13,$F37:$J37),\"\")","v":""},{"$f":"IF(AND(LEN($D37)>0,SUMIF($F$13:$J$13,BC$13,$F37:$J37)>0,ASISTENCIA!AZ36<>\"X\",ASISTENCIA!AZ36<>\"L\",ASISTENCIA!AZ36<>\"J\",ASISTENCIA!AZ36<>\"F\"),SUMIF($F$13:$J$13,BC$13,$F37:$J37),\"\")","v":""},{"$f":"IF(AND(LEN($D37)>0,SUMIF($F$13:$J$13,BD$13,$F37:$J37)>0,ASISTENCIA!BA36<>\"X\",ASISTENCIA!BA36<>\"L\",ASISTENCIA!BA36<>\"J\",ASISTENCIA!BA36<>\"F\"),SUMIF($F$13:$J$13,BD$13,$F37:$J37),\"\")","v":""},{"$f":"IF(AND(LEN($D37)>0,SUMIF($F$13:$J$13,BE$13,$F37:$J37)>0,ASISTENCIA!BB36<>\"X\",ASISTENCIA!BB36<>\"L\",ASISTENCIA!BB36<>\"J\",ASISTENCIA!BB36<>\"F\"),SUMIF($F$13:$J$13,BE$13,$F37:$J37),\"\")","v":""},{"$f":"IF(AND(LEN($D37)>0,SUMIF($F$13:$J$13,BF$13,$F37:$J37)>0,ASISTENCIA!#REF!<>\"X\",ASISTENCIA!#REF!<>\"L\",ASISTENCIA!#REF!<>\"J\",ASISTENCIA!#REF!<>\"F\"),SUMIF($F$13:$J$13,BF$13,$F37:$J37),\"\")","v":{"$error":"#REF!"}},{"$f":"IF(AND(LEN($D37)>0,SUMIF($F$13:$J$13,BG$13,$F37:$J37)>0,ASISTENCIA!#REF!<>\"X\",ASISTENCIA!#REF!<>\"L\",ASISTENCIA!#REF!<>\"J\",ASISTENCIA!#REF!<>\"F\"),SUMIF($F$13:$J$13,BG$13,$F37:$J37),\"\")","v":{"$error":"#REF!"}},{"$f":"IF(AND(LEN($D37)>0,SUMIF($F$13:$J$13,BH$13,$F37:$J37)>0,ASISTENCIA!BE36<>\"X\",ASISTENCIA!BE36<>\"L\",ASISTENCIA!BE36<>\"J\",ASISTENCIA!BE36<>\"F\"),SUMIF($F$13:$J$13,BH$13,$F37:$J37),\"\")","v":""},{"$f":"IF(AND(LEN($D37)>0,SUMIF($F$13:$J$13,BI$13,$F37:$J37)>0,ASISTENCIA!BF36<>\"X\",ASISTENCIA!BF36<>\"L\",ASISTENCIA!BF36<>\"J\",ASISTENCIA!BF36<>\"F\"),SUMIF($F$13:$J$13,BI$13,$F37:$J37),\"\")","v":""},{"$f":"IF(AND(LEN($D37)>0,SUMIF($F$13:$J$13,BJ$13,$F37:$J37)>0,ASISTENCIA!BG36<>\"X\",ASISTENCIA!BG36<>\"L\",ASISTENCIA!BG36<>\"J\",ASISTENCIA!BG36<>\"F\"),SUMIF($F$13:$J$13,BJ$13,$F37:$J37),\"\")","v":""},{"$f":"IF(AND(LEN($D37)>0,SUMIF($F$13:$J$13,BK$13,$F37:$J37)>0,ASISTENCIA!BH36<>\"X\",ASISTENCIA!BH36<>\"L\",ASISTENCIA!BH36<>\"J\",ASISTENCIA!BH36<>\"F\"),SUMIF($F$13:$J$13,BK$13,$F37:$J37),\"\")","v":""},{"$f":"IF(AND(LEN($D37)>0,SUMIF($F$13:$J$13,BL$13,$F37:$J37)>0,ASISTENCIA!BI36<>\"X\",ASISTENCIA!BI36<>\"L\",ASISTENCIA!BI36<>\"J\",ASISTENCIA!BI36<>\"F\"),SUMIF($F$13:$J$13,BL$13,$F37:$J37),\"\")","v":""},{"$f":"IF(AND(LEN($D37)>0,SUMIF($F$13:$J$13,BM$13,$F37:$J37)>0,ASISTENCIA!BJ36<>\"X\",ASISTENCIA!BJ36<>\"L\",ASISTENCIA!BJ36<>\"J\",ASISTENCIA!BJ36<>\"F\"),SUMIF($F$13:$J$13,BM$13,$F37:$J37),\"\")","v":""},{"$f":"IF(AND(LEN($D37)>0,SUMIF($F$13:$J$13,BN$13,$F37:$J37)>0,ASISTENCIA!BK36<>\"X\",ASISTENCIA!BK36<>\"L\",ASISTENCIA!BK36<>\"J\",ASISTENCIA!BK36<>\"F\"),SUMIF($F$13:$J$13,BN$13,$F37:$J37),\"\")","v":""},{"$f":"IF(AND(LEN($D37)>0,SUMIF($F$13:$J$13,BO$13,$F37:$J37)>0,ASISTENCIA!BL36<>\"X\",ASISTENCIA!BL36<>\"L\",ASISTENCIA!BL36<>\"J\",ASISTENCIA!BL36<>\"F\"),SUMIF($F$13:$J$13,BO$13,$F37:$J37),\"\")","v":""},{"$f":"IF(AND(LEN($D37)>0,SUMIF($F$13:$J$13,BP$13,$F37:$J37)>0,ASISTENCIA!BM36<>\"X\",ASISTENCIA!BM36<>\"L\",ASISTENCIA!BM36<>\"J\",ASISTENCIA!BM36<>\"F\"),SUMIF($F$13:$J$13,BP$13,$F37:$J37),\"\")","v":""},{"$f":"IF(AND(LEN($D37)>0,SUMIF($F$13:$J$13,BQ$13,$F37:$J37)>0,ASISTENCIA!BN36<>\"X\",ASISTENCIA!BN36<>\"L\",ASISTENCIA!BN36<>\"J\",ASISTENCIA!BN36<>\"F\"),SUMIF($F$13:$J$13,BQ$13,$F37:$J37),\"\")","v":""},{"$f":"IF(AND(LEN($D37)>0,SUMIF($F$13:$J$13,BR$13,$F37:$J37)>0,ASISTENCIA!BO36<>\"X\",ASISTENCIA!BO36<>\"L\",ASISTENCIA!BO36<>\"J\",ASISTENCIA!BO36<>\"F\"),SUMIF($F$13:$J$13,BR$13,$F37:$J37),\"\")","v":""},{"$f":"IF(AND(LEN($D37)>0,SUMIF($F$13:$J$13,BS$13,$F37:$J37)>0,ASISTENCIA!BP36<>\"X\",ASISTENCIA!BP36<>\"L\",ASISTENCIA!BP36<>\"J\",ASISTENCIA!BP36<>\"F\"),SUMIF($F$13:$J$13,BS$13,$F37:$J37),\"\")","v":""},{"$f":"IF(AND(LEN($D37)>0,SUMIF($F$13:$J$13,BT$13,$F37:$J37)>0,ASISTENCIA!BQ36<>\"X\",ASISTENCIA!BQ36<>\"L\",ASISTENCIA!BQ36<>\"J\",ASISTENCIA!BQ36<>\"F\"),SUMIF($F$13:$J$13,BT$13,$F37:$J37),\"\")","v":""},{"$f":"IF(AND(LEN($D37)>0,SUMIF($F$13:$J$13,BU$13,$F37:$J37)>0,ASISTENCIA!BR36<>\"X\",ASISTENCIA!BR36<>\"L\",ASISTENCIA!BR36<>\"J\",ASISTENCIA!BR36<>\"F\"),SUMIF($F$13:$J$13,BU$13,$F37:$J37),\"\")","v":""},{"$f":"IF(AND(LEN($D37)>0,SUMIF($F$13:$J$13,BV$13,$F37:$J37)>0,ASISTENCIA!BS36<>\"X\",ASISTENCIA!BS36<>\"L\",ASISTENCIA!BS36<>\"J\",ASISTENCIA!BS36<>\"F\"),SUMIF($F$13:$J$13,BV$13,$F37:$J37),\"\")","v":""},{"$f":"IF(AND(LEN($D37)>0,SUMIF($F$13:$J$13,BW$13,$F37:$J37)>0,ASISTENCIA!BT36<>\"X\",ASISTENCIA!BT36<>\"L\",ASISTENCIA!BT36<>\"J\",ASISTENCIA!BT36<>\"F\"),SUMIF($F$13:$J$13,BW$13,$F37:$J37),\"\")","v":""},{"$f":"IF(AND(LEN($D37)>0,SUMIF($F$13:$J$13,BX$13,$F37:$J37)>0,ASISTENCIA!BU36<>\"X\",ASISTENCIA!BU36<>\"L\",ASISTENCIA!BU36<>\"J\",ASISTENCIA!BU36<>\"F\"),SUMIF($F$13:$J$13,BX$13,$F37:$J37),\"\")","v":""},{"$f":"IF(AND(LEN($D37)>0,SUMIF($F$13:$J$13,BY$13,$F37:$J37)>0,ASISTENCIA!BV36<>\"X\",ASISTENCIA!BV36<>\"L\",ASISTENCIA!BV36<>\"J\",ASISTENCIA!BV36<>\"F\"),SUMIF($F$13:$J$13,BY$13,$F37:$J37),\"\")","v":""},{"$f":"IF(AND(LEN($D37)>0,SUMIF($F$13:$J$13,BZ$13,$F37:$J37)>0,ASISTENCIA!BW36<>\"X\",ASISTENCIA!BW36<>\"L\",ASISTENCIA!BW36<>\"J\",ASISTENCIA!BW36<>\"F\"),SUMIF($F$13:$J$13,BZ$13,$F37:$J37),\"\")","v":""},{"$f":"IF(AND(LEN($D37)>0,SUMIF($F$13:$J$13,CA$13,$F37:$J37)>0,ASISTENCIA!BX36<>\"X\",ASISTENCIA!BX36<>\"L\",ASISTENCIA!BX36<>\"J\",ASISTENCIA!BX36<>\"F\"),SUMIF($F$13:$J$13,CA$13,$F37:$J37),\"\")","v":""},{"$f":"IF(AND(LEN($D37)>0,SUMIF($F$13:$J$13,CB$13,$F37:$J37)>0,ASISTENCIA!BY36<>\"X\",ASISTENCIA!BY36<>\"L\",ASISTENCIA!BY36<>\"J\",ASISTENCIA!BY36<>\"F\"),SUMIF($F$13:$J$13,CB$13,$F37:$J37),\"\")","v":""},{"$error":"#REF!"}]
["",{"$f":"IF(LEN(C38)>0,VLOOKUP($O$4,DATA!$A$1:$S$1,2,FALSE),\"\")","v":""},"",{"$f":"IF(LEN(ASISTENCIA!E37)>0,ASISTENCIA!E37,\"\")","v":""},{"$f":"IF(LEN(D38)>0,ASISTENCIA!F37,\"\")","v":""},null,null,null,null,null,"",null,null,{"$error":"#REF!"},{"$f":"IF(AND(LEN($D38)>0,SUMIF($F$13:$J$13,O$13,$F38:$J38)>0,ASISTENCIA!I37<>\"X\",ASISTENCIA!I37<>\"L\",ASISTENCIA!I37<>\"J\",ASISTENCIA!I37<>\"V\",ASISTENCIA!I37<>\"F\",ASISTENCIA!I37<>\"\"),SUMIF($F$13:$J$13,O$13,$F38:$J38),\"\")","v":""},{"$f":"IF(AND(LEN($D38)>0,SUMIF($F$13:$J$13,P$13,$F38:$J38)>0,ASISTENCIA!J37<>\"X\",ASISTENCIA!J37<>\"L\",ASISTENCIA!J37<>\"J\",ASISTENCIA!J37<>\"V\",ASISTENCIA!J37<>\"F\",ASISTENCIA!J37<>\"\"),SUMIF($F$13:$J$13,P$13,$F38:$J38),\"\")","v":""},{"$f":"IF(AND(LEN($D38)>0,SUMIF($F$13:$J$13,Q$13,$F38:$J38)>0,ASISTENCIA!K37<>\"X\",ASISTENCIA!K37<>\"L\",ASISTENCIA!K37<>\"J\",ASISTENCIA!K37<>\"V\",ASISTENCIA!K37<>\"F\",ASISTENCIA!K37<>\"\"),SUMIF($F$13:$J$13,Q$13,$F38:$J38),\"\")","v":""},{"$f":"IF(AND(LEN($D38)>0,SUMIF($F$13:$J$13,R$13,$F38:$J38)>0,ASISTENCIA!L37<>\"X\",ASISTENCIA!L37<>\"L\",ASISTENCIA!L37<>\"J\",ASISTENCIA!L37<>\"V\",ASISTENCIA!L37<>\"F\",ASISTENCIA!L37<>\"\"),SUMIF($F$13:$J$13,R$13,$F38:$J38),\"\")","v":""},{"$f":"IF(AND(LEN($D38)>0,SUMIF($F$13:$J$13,S$13,$F38:$J38)>0,ASISTENCIA!M37<>\"X\",ASISTENCIA!M37<>\"L\",ASISTENCIA!M37<>\"J\",ASISTENCIA!M37<>\"V\",ASISTENCIA!M37<>\"F\",ASISTENCIA!M37<>\"\"),SUMIF($F$13:$J$13,S$13,$F38:$J38),\"\")","v":""},{"$f":"IF(AND(LEN($D38)>0,SUMIF($F$13:$J$13,T$13,$F38:$J38)>0,ASISTENCIA!N37<>\"X\",ASISTENCIA!N37<>\"L\",ASISTENCIA!N37<>\"J\",ASISTENCIA!N37<>\"V\",ASISTENCIA!N37<>\"F\",ASISTENCIA!N37<>\"\"),SUMIF($F$13:$J$13,T$13,$F38:$J38),\"\")","v":""},{"$f":"IF(AND(LEN($D38)>0,SUMIF($F$13:$J$13,U$13,$F38:$J38)>0,ASISTENCIA!O37<>\"X\",ASISTENCIA!O37<>\"L\",ASISTENCIA!O37<>\"J\",ASISTENCIA!O37<>\"V\",ASISTENCIA!O37<>\"F\",ASISTENCIA!O37<>\"\"),SUMIF($F$13:$J$13,U$13,$F38:$J38),\"\")","v":""},{"$f":"IF(AND(LEN($D38)>0,SUMIF($F$13:$J$13,V$13,$F38:$J38)>0,ASISTENCIA!P37<>\"X\",ASISTENCIA!P37<>\"L\",ASISTENCIA!P37<>\"J\",ASISTENCIA!P37<>\"V\",ASISTENCIA!P37<>\"F\",ASISTENCIA!P37<>\"\"),SUMIF($F$13:$J$13,V$13,$F38:$J38),\"\")","v":""},{"$f":"IF(AND(LEN($D38)>0,SUMIF($F$13:$J$13,W$13,$F38:$J38)>0,ASISTENCIA!Q37<>\"X\",ASISTENCIA!Q37<>\"L\",ASISTENCIA!Q37<>\"J\",ASISTENCIA!Q37<>\"V\",ASISTENCIA!Q37<>\"F\",ASISTENCIA!Q37<>\"\"),SUMIF($F$13:$J$13,W$13,$F38:$J38),\"\")","v":""},{"$f":"IF(AND(LEN($D38)>0,SUMIF($F$13:$J$13,X$13,$F38:$J38)>0,ASISTENCIA!R37<>\"X\",ASISTENCIA!R37<>\"L\",ASISTENCIA!R37<>\"J\",ASISTENCIA!R37<>\"V\",ASISTENCIA!R37<>\"F\",ASISTENCIA!R37<>\"\"),SUMIF($F$13:$J$13,X$13,$F38:$J38),\"\")","v":""},{"$f":"IF(AND(LEN($D38)>0,SUMIF($F$13:$J$13,Y$13,$F38:$J38)>0,ASISTENCIA!S37<>\"X\",ASISTENCIA!S37<>\"L\",ASISTENCIA!S37<>\"J\",ASISTENCIA!S37<>\"V\",ASISTENCIA!S37<>\"F\",ASISTENCIA!S37<>\"\"),SUMIF($F$13:$J$13,Y$13,$F38:$J38),\"\")","v":""},{"$f":"IF(AND(LEN($D38)>0,SUMIF($F$13:$J$13,Z$13,$F38:$J38)>0,ASISTENCIA!T37<>\"X\",ASISTENCIA!T37<>\"L\",ASISTENCIA!T37<>\"J\",ASISTENCIA!T37<>\"V\",ASISTENCIA!T37<>\"F\",ASISTENCIA!T37<>\"\"),SUMIF($F$13:$J$13,Z$13,$F38:$J38),\"\")","v":""},{"$f":"IF(AND(LEN($D38)>0,SUMIF($F$13:$J$13,AA$13,$F38:$J38)>0,ASISTENCIA!U37<>\"X\",ASISTENCIA!U37<>\"L\",ASISTENCIA!U37<>\"J\",ASISTENCIA!U37<>\"V\",ASISTENCIA!U37<>\"F\",ASISTENCIA!U37<>\"\"),SUMIF($F$13:$J$13,AA$13,$F38:$J38),\"\")","v":""},{"$f":"IF(AND(LEN($D38)>0,SUMIF($F$13:$J$13,AB$13,$F38:$J38)>0,ASISTENCIA!V37<>\"X\",ASISTENCIA!V37<>\"L\",ASISTENCIA!V37<>\"J\",ASISTENCIA!V37<>\"V\",ASISTENCIA!V37<>\"F\",ASISTENCIA!V37<>\"\"),SUMIF($F$13:$J$13,AB$13,$F38:$J38),\"\")","v":""},{"$f":"IF(AND(LEN($D38)>0,SUMIF($F$13:$J$13,AC$13,$F38:$J38)>0,ASISTENCIA!W37<>\"X\",ASISTENCIA!W37<>\"L\",ASISTENCIA!W37<>\"J\",ASISTENCIA!W37<>\"V\",ASISTENCIA!W37<>\"F\",ASISTENCIA!W37<>\"\"),SUMIF($F$13:$J$13,AC$13,$F38:$J38),\"\")","v":""},{"$f":"IF(AND(LEN($D38)>0,SUMIF($F$13:$J$13,AD$13,$F38:$J38)>0,ASISTENCIA!X37<>\"X\",ASISTENCIA!X37<>\"L\",ASISTENCIA!X37<>\"J\",ASISTENCIA!X37<>\"V\",ASISTENCIA!X37<>\"F\",ASISTENCIA!X37<>\"\"),SUMIF($F$13:$J$13,AD$13,$F38:$J38),\"\")","v":""},{"$f":"IF(AND(LEN($D38)>0,SUMIF($F$13:$J$13,AE$13,$F38:$J38)>0,ASISTENCIA!Y37<>\"X\",ASISTENCIA!Y37<>\"L\",ASISTENCIA!Y37<>\"J\",ASISTENCIA!Y37<>\"V\",ASISTENCIA!Y37<>\"F\",ASISTENCIA!Y37<>\"\"),SUMIF($F$13:$J$13,AE$13,$F38:$J38),\"\")","v":""},{"$f":"IF(AND(LEN($D38)>0,SUMIF($F$13:$J$13,AF$13,$F38:$J38)>0,ASISTENCIA!Z37<>\"X\",ASISTENCIA!Z37<>\"L\",ASISTENCIA!Z37<>\"J\",ASISTENCIA!Z37<>\"V\",ASISTENCIA!Z37<>\"F\",ASISTENCIA!Z37<>\"\"),SUMIF($F$13:$J$13,AF$13,$F38:$J38),\"\")","v":""},{"$f":"IF(AND(LEN($D38)>0,SUMIF($F$13:$J$13,AG$13,$F38:$J38)>0,ASISTENCIA!AA37<>\"X\",ASISTENCIA!AA37<>\"L\",ASISTENCIA!AA37<>\"J\",ASISTENCIA!AA37<>\"V\",ASISTENCIA!AA37<>\"F\",ASISTENCIA!AA37<>\"\"),SUMIF($F$13:$J$13,AG$13,$F38:$J38),\"\")","v":""},{"$f":"IF(AND(LEN($D38)>0,SUMIF($F$13:$J$13,AH$13,$F38:$J38)>0,ASISTENCIA!AB37<>\"X\",ASISTENCIA!AB37<>\"L\",ASISTENCIA!AB37<>\"J\",ASISTENCIA!AB37<>\"V\",ASISTENCIA!AB37<>\"F\",ASISTENCIA!AB37<>\"\"),SUMIF($F$13:$J$13,AH$13,$F38:$J38),\"\")","v":""},{"$f":"IF(AND(LEN($D38)>0,SUMIF($F$13:$J$13,AI$13,$F38:$J38)>0,ASISTENCIA!AC37<>\"X\",ASISTENCIA!AC37<>\"L\",ASISTENCIA!AC37<>\"J\",ASISTENCIA!AC37<>\"V\",ASISTENCIA!AC37<>\"F\",ASISTENCIA!AC37<>\"\"),SUMIF($F$13:$J$13,AI$13,$F38:$J38),\"\")","v":""},{"$f":"IF(AND(LEN($D38)>0,SUMIF($F$13:$J$13,AJ$13,$F38:$J38)>0,ASISTENCIA!AD37<>\"X\",ASISTENCIA!AD37<>\"L\",ASISTENCIA!AD37<>\"J\",ASISTENCIA!AD37<>\"V\",ASISTENCIA!AD37<>\"F\",ASISTENCIA!AD37<>\"\"),SUMIF($F$13:$J$13,AJ$13,$F38:$J38),\"\")","v":""},{"$f":"IF(AND(LEN($D38)>0,SUMIF($F$13:$J$13,AK$13,$F38:$J38)>0,ASISTENCIA!AE37<>\"X\",ASISTENCIA!AE37<>\"L\",ASISTENCIA!AE37<>\"J\",ASISTENCIA!AE37<>\"V\",ASISTENCIA!AE37<>\"F\",ASISTENCIA!AE37<>\"\"),SUMIF($F$13:$J$13,AK$13,$F38:$J38),\"\")","v":""},{"$f":"IF(AND(LEN($D38)>0,SUMIF($F$13:$J$13,AL$13,$F38:$J38)>0,ASISTENCIA!AF37<>\"X\",ASISTENCIA!AF37<>\"L\",ASISTENCIA!AF37<>\"J\",ASISTENCIA!AF37<>\"V\",ASISTENCIA!AF37<>\"F\",ASISTENCIA!AF37<>\"\"),SUMIF($F$13:$J$13,AL$13,$F38:$J38),\"\")","v":""},{"$f":"IF(AND(LEN($D38)>0,SUMIF($F$13:$J$13,AM$13,$F38:$J38)>0,ASISTENCIA!AG37<>\"X\",ASISTENCIA!AG37<>\"L\",ASISTENCIA!AG37<>\"J\",ASISTENCIA!AG37<>\"V\",ASISTENCIA!AG37<>\"F\",ASISTENCIA!AG37<>\"\"),SUMIF($F$13:$J$13,AM$13,$F38:$J38),\"\")","v":""},{"$f":"IF(AND(LEN($D38)>0,SUMIF($F$13:$J$13,AN$13,$F38:$J38)>0,ASISTENCIA!AH37<>\"X\",ASISTENCIA!AH37<>\"L\",ASISTENCIA!AH37<>\"J\",ASISTENCIA!AH37<>\"V\",ASISTENCIA!AH37<>\"F\",ASISTENCIA!AH37<>\"\"),SUMIF($F$13:$J$13,AN$13,$F38:$J38),\"\")","v":""},{"$f":"IF(AND(LEN($D38)>0,SUMIF($F$13:$J$13,AO$13,$F38:$J38)>0,ASISTENCIA!AI37<>\"X\",ASISTENCIA!AI37<>\"L\",ASISTENCIA!AI37<>\"J\",ASISTENCIA!AI37<>\"V\",ASISTENCIA!AI37<>\"F\",ASISTENCIA!AI37<>\"\"),SUMIF($F$13:$J$13,AO$13,$F38:$J38),\"\")","v":""},{"$f":"IF(AND(LEN($D38)>0,SUMIF($F$13:$J$13,AP$13,$F38:$J38)>0,ASISTENCIA!AJ37<>\"X\",ASISTENCIA!AJ37<>\"L\",ASISTENCIA!AJ37<>\"J\",ASISTENCIA!AJ37<>\"V\",ASISTENCIA!AJ37<>\"F\",ASISTENCIA!AJ37<>\"\"),SUMIF($F$13:$J$13,AP$13,$F38:$J38),\"\")","v":""},{"$f":"IF(AND(LEN($D38)>0,SUMIF($F$13:$J$13,AQ$13,$F38:$J38)>0,ASISTENCIA!AK37<>\"X\",ASISTENCIA!AK37<>\"L\",ASISTENCIA!AK37<>\"J\",ASISTENCIA!AK37<>\"V\",ASISTENCIA!AK37<>\"F\",ASISTENCIA!AK37<>\"\"),SUMIF($F$13:$J$13,AQ$13,$F38:$J38),\"\")","v":""},{"$f":"IF(AND(LEN($D38)>0,SUMIF($F$13:$J$13,AR$13,$F38:$J38)>0,ASISTENCIA!AL37<>\"X\",ASISTENCIA!AL37<>\"L\",ASISTENCIA!AL37<>\"J\",ASISTENCIA!AL37<>\"V\",ASISTENCIA!AL37<>\"F\",ASISTENCIA!AL37<>\"\"),SUMIF($F$13:$J$13,AR$13,$F38:$J38),\"\")","v":""},{"$f":"IF(AND(LEN($D38)>0,SUMIF($F$13:$J$13,AS$13,$F38:$J38)>0,ASISTENCIA!AM37<>\"X\",ASISTENCIA!AM37<>\"L\",ASISTENCIA!AM37<>\"J\",ASISTENCIA!AM37<>\"V\",ASISTENCIA!AM37<>\"F\",ASISTENCIA!AM37<>\"\"),SUMIF($F$13:$J$13,AS$13,$F38:$J38),\"\")","v":""},"",null,null,null,{"$f":"IF(AND(LEN($D38)>0,SUMIF($F$13:$J$13,AX$13,$F38:$J38)>0,ASISTENCIA!AU37<>\"X\",ASISTENCIA!AU37<>\"L\",ASISTENCIA!AU37<>\"J\",ASISTENCIA!AU37<>\"F\"),SUMIF($F$13:$J$13,AX$13,$F38:$J38),\"\")","v":""},{"$f":"IF(AND(LEN($D38)>0,SUMIF($F$13:$J$13,AY$13,$F38:$J38)>0,ASISTENCIA!AV37<>\"X\",ASISTENCIA!AV37<>\"L\",ASISTENCIA!AV37<>\"J\",ASISTENCIA!AV37<>\"F\"),SUMIF($F$13:$J$13,AY$13,$F38:$J38),\"\")","v":""},{"$f":"IF(AND(LEN($D38)>0,SUMIF($F$13:$J$13,AZ$13,$F38:$J38)>0,ASISTENCIA!AW37<>\"X\",ASISTENCIA!AW37<>\"L\",ASISTENCIA!AW37<>\"J\",ASISTENCIA!AW37<>\"F\"),SUMIF($F$13:$J$13,AZ$13,$F38:$J38),\"\")","v":""},{"$f":"IF(AND(LEN($D38)>0,SUMIF($F$13:$J$13,BA$13,$F38:$J38)>0,ASISTENCIA!AX37<>\"X\",ASISTENCIA!AX37<>\"L\",ASISTENCIA!AX37<>\"J\",ASISTENCIA!AX37<>\"F\"),SUMIF($F$13:$J$13,BA$13,$F38:$J38),\"\")","v":""},{"$f":"IF(AND(LEN($D38)>0,SUMIF($F$13:$J$13,BB$13,$F38:$J38)>0,ASISTENCIA!AY37<>\"X\",ASISTENCIA!AY37<>\"L\",ASISTENCIA!AY37<>\"J\",ASISTENCIA!AY37<>\"F\"),SUMIF($F$13:$J$13,BB$13,$F38:$J38),\"\")","v":""},{"$f":"IF(AND(LEN($D38)>0,SUMIF($F$13:$J$13,BC$13,$F38:$J38)>0,ASISTENCIA!AZ37<>\"X\",ASISTENCIA!AZ37<>\"L\",ASISTENCIA!AZ37<>\"J\",ASISTENCIA!AZ37<>\"F\"),SUMIF($F$13:$J$13,BC$13,$F38:$J38),\"\")","v":""},{"$f":"IF(AND(LEN($D38)>0,SUMIF($F$13:$J$13,BD$13,$F38:$J38)>0,ASISTENCIA!BA37<>\"X\",ASISTENCIA!BA37<>\"L\",ASISTENCIA!BA37<>\"J\",ASISTENCIA!BA37<>\"F\"),SUMIF($F$13:$J$13,BD$13,$F38:$J38),\"\")","v":""},{"$f":"IF(AND(LEN($D38)>0,SUMIF($F$13:$J$13,BE$13,$F38:$J38)>0,ASISTENCIA!BB37<>\"X\",ASISTENCIA!BB37<>\"L\",ASISTENCIA!BB37<>\"J\",ASISTENCIA!BB37<>\"F\"),SUMIF($F$13:$J$13,BE$13,$F38:$J38),\"\")","v":""},{"$f":"IF(AND(LEN($D38)>0,SUMIF($F$13:$J$13,BF$13,$F38:$J38)>0,ASISTENCIA!#REF!<>\"X\",ASISTENCIA!#REF!<>\"L\",ASISTENCIA!#REF!<>\"J\",ASISTENCIA!#REF!<>\"F\"),SUMIF($F$13:$J$13,BF$13,$F38:$J38),\"\")","v":{"$error":"#REF!"}},{"$f":"IF(AND(LEN($D38)>0,SUMIF($F$13:$J$13,BG$13,$F38:$J38)>0,ASISTENCIA!#REF!<>\"X\",ASISTENCIA!#REF!<>\"L\",ASISTENCIA!#REF!<>\"J\",ASISTENCIA!#REF!<>\"F\"),SUMIF($F$13:$J$13,BG$13,$F38:$J38),\"\")","v":{"$error":"#REF!"}},{"$f":"IF(AND(LEN($D38)>0,SUMIF($F$13:$J$13,BH$13,$F38:$J38)>0,ASISTENCIA!BE37<>\"X\",ASISTENCIA!BE37<>\"L\",ASISTENCIA!BE37<>\"J\",ASISTENCIA!BE37<>\"F\"),SUMIF($F$13:$J$13,BH$13,$F38:$J38),\"\")","v":""},{"$f":"IF(AND(LEN($D38)>0,SUMIF($F$13:$J$13,BI$13,$F38:$J38)>0,ASISTENCIA!BF37<>\"X\",ASISTENCIA!BF37<>\"L\",ASISTENCIA!BF37<>\"J\",ASISTENCIA!BF37<>\"F\"),SUMIF($F$13:$J$13,BI$13,$F38:$J38),\"\")","v":""},{"$f":"IF(AND(LEN($D38)>0,SUMIF($F$13:$J$13,BJ$13,$F38:$J38)>0,ASISTENCIA!BG37<>\"X\",ASISTENCIA!BG37<>\"L\",ASISTENCIA!BG37<>\"J\",ASISTENCIA!BG37<>\"F\"),SUMIF($F$13:$J$13,BJ$13,$F38:$J38),\"\")","v":""},{"$f":"IF(AND(LEN($D38)>0,SUMIF($F$13:$J$13,BK$13,$F38:$J38)>0,ASISTENCIA!BH37<>\"X\",ASISTENCIA!BH37<>\"L\",ASISTENCIA!BH37<>\"J\",ASISTENCIA!BH37<>\"F\"),SUMIF($F$13:$J$13,BK$13,$F38:$J38),\"\")","v":""},{"$f":"IF(AND(LEN($D38)>0,SUMIF($F$13:$J$13,BL$13,$F38:$J38)>0,ASISTENCIA!BI37<>\"X\",ASISTENCIA!BI37<>\"L\",ASISTENCIA!BI37<>\"J\",ASISTENCIA!BI37<>\"F\"),SUMIF($F$13:$J$13,BL$13,$F38:$J38),\"\")","v":""},{"$f":"IF(AND(LEN($D38)>0,SUMIF($F$13:$J$13,BM$13,$F38:$J38)>0,ASISTENCIA!BJ37<>\"X\",ASISTENCIA!BJ37<>\"L\",ASISTENCIA!BJ37<>\"J\",ASISTENCIA!BJ37<>\"F\"),SUMIF($F$13:$J$13,BM$13,$F38:$J38),\"\")","v":""},{"$f":"IF(AND(LEN($D38)>0,SUMIF($F$13:$J$13,BN$13,$F38:$J38)>0,ASISTENCIA!BK37<>\"X\",ASISTENCIA!BK37<>\"L\",ASISTENCIA!BK37<>\"J\",ASISTENCIA!BK37<>\"F\"),SUMIF($F$13:$J$13,BN$13,$F38:$J38),\"\")","v":""},{"$f":"IF(AND(LEN($D38)>0,SUMIF($F$13:$J$13,BO$13,$F38:$J38)>0,ASISTENCIA!BL37<>\"X\",ASISTENCIA!BL37<>\"L\",ASISTENCIA!BL37<>\"J\",ASISTENCIA!BL37<>\"F\"),SUMIF($F$13:$J$13,BO$13,$F38:$J38),\"\")","v":""},{"$f":"IF(AND(LEN($D38)>0,SUMIF($F$13:$J$13,BP$13,$F38:$J38)>0,ASISTENCIA!BM37<>\"X\",ASISTENCIA!BM37<>\"L\",ASISTENCIA!BM37<>\"J\",ASISTENCIA!BM37<>\"F\"),SUMIF($F$13:$J$13,BP$13,$F38:$J38),\"\")","v":""},{"$f":"IF(AND(LEN($D38)>0,SUMIF($F$13:$J$13,BQ$13,$F38:$J38)>0,ASISTENCIA!BN37<>\"X\",ASISTENCIA!BN37<>\"L\",ASISTENCIA!BN37<>\"J\",ASISTENCIA!BN37<>\"F\"),SUMIF($F$13:$J$13,BQ$13,$F38:$J38),\"\")","v":""},{"$f":"IF(AND(LEN($D38)>0,SUMIF($F$13:$J$13,BR$13,$F38:$J38)>0,ASISTENCIA!BO37<>\"X\",ASISTENCIA!BO37<>\"L\",ASISTENCIA!BO37<>\"J\",ASISTENCIA!BO37<>\"F\"),SUMIF($F$13:$J$13,BR$13,$F38:$J38),\"\")","v":""},{"$f":"IF(AND(LEN($D38)>0,SUMIF($F$13:$J$13,BS$13,$F38:$J38)>0,ASISTENCIA!BP37<>\"X\",ASISTENCIA!BP37<>\"L\",ASISTENCIA!BP37<>\"J\",ASISTENCIA!BP37<>\"F\"),SUMIF($F$13:$J$13,BS$13,$F38:$J38),\"\")","v":""},{"$f":"IF(AND(LEN($D38)>0,SUMIF($F$13:$J$13,BT$13,$F38:$J38)>0,ASISTENCIA!BQ37<>\"X\",ASISTENCIA!BQ37<>\"L\",ASISTENCIA!BQ37<>\"J\",ASISTENCIA!BQ37<>\"F\"),SUMIF($F$13:$J$13,BT$13,$F38:$J38),\"\")","v":""},{"$f":"IF(AND(LEN($D38)>0,SUMIF($F$13:$J$13,BU$13,$F38:$J38)>0,ASISTENCIA!BR37<>\"X\",ASISTENCIA!BR37<>\"L\",ASISTENCIA!BR37<>\"J\",ASISTENCIA!BR37<>\"F\"),SUMIF($F$13:$J$13,BU$13,$F38:$J38),\"\")","v":""},{"$f":"IF(AND(LEN($D38)>0,SUMIF($F$13:$J$13,BV$13,$F38:$J38)>0,ASISTENCIA!BS37<>\"X\",ASISTENCIA!BS37<>\"L\",ASISTENCIA!BS37<>\"J\",ASISTENCIA!BS37<>\"F\"),SUMIF($F$13:$J$13,BV$13,$F38:$J38),\"\")","v":""},{"$f":"IF(AND(LEN($D38)>0,SUMIF($F$13:$J$13,BW$13,$F38:$J38)>0,ASISTENCIA!BT37<>\"X\",ASISTENCIA!BT37<>\"L\",ASISTENCIA!BT37<>\"J\",ASISTENCIA!BT37<>\"F\"),SUMIF($F$13:$J$13,BW$13,$F38:$J38),\"\")","v":""},{"$f":"IF(AND(LEN($D38)>0,SUMIF($F$13:$J$13,BX$13,$F38:$J38)>0,ASISTENCIA!BU37<>\"X\",ASISTENCIA!BU37<>\"L\",ASISTENCIA!BU37<>\"J\",ASISTENCIA!BU37<>\"F\"),SUMIF($F$13:$J$13,BX$13,$F38:$J38),\"\")","v":""},{"$f":"IF(AND(LEN($D38)>0,SUMIF($F$13:$J$13,BY$13,$F38:$J38)>0,ASISTENCIA!BV37<>\"X\",ASISTENCIA!BV37<>\"L\",ASISTENCIA!BV37<>\"J\",ASISTENCIA!BV37<>\"F\"),SUMIF($F$13:$J$13,BY$13,$F38:$J38),\"\")","v":""},{"$f":"IF(AND(LEN($D38)>0,SUMIF($F$13:$J$13,BZ$13,$F38:$J38)>0,ASISTENCIA!BW37<>\"X\",ASISTENCIA!BW37<>\"L\",ASISTENCIA!BW37<>\"J\",ASISTENCIA!BW37<>\"F\"),SUMIF($F$13:$J$13,BZ$13,$F38:$J38),\"\")","v":""},{"$f":"IF(AND(LEN($D38)>0,SUMIF($F$13:$J$13,CA$13,$F38:$J38)>0,ASISTENCIA!BX37<>\"X\",ASISTENCIA!BX37<>\"L\",ASISTENCIA!BX37<>\"J\",ASISTENCIA!BX37<>\"F\"),SUMIF($F$13:$J$13,CA$13,$F38:$J38),\"\")","v":""},{"$f":"IF(AND(LEN($D38)>0,SUMIF($F$13:$J$13,CB$13,$F38:$J38)>0,ASISTENCIA!BY37<>\"X\",ASISTENCIA!BY37<>\"L\",ASISTENCIA!BY37<>\"J\",ASISTENCIA!BY37<>\"F\"),SUMIF($F$13:$J$13,CB$13,$F38:$J38),\"\")","v":""},{"$error":"#REF!"}]
["",{"$f":"IF(LEN(C39)>0,VLOOKUP($O$4,DATA!$A$1:$S$1,2,FALSE),\"\")","v":""},"",{"$f":"IF(LEN(ASISTENCIA!E38)>0,ASISTENCIA!E38,\"\")","v":""},{"$f":"IF(LEN(D39)>0,ASISTENCIA!F38,\"\")","v":""},null,null,null,null,null,"",null,null,{"$error":"#REF!"},{"$f":"IF(AND(LEN($D39)>0,SUMIF($F$13:$J$13,O$13,$F39:$J39)>0,ASISTENCIA!I38<>\"X\",ASISTENCIA!I38<>\"L\",ASISTENCIA!I38<>\"J\",ASISTENCIA!I38<>\"V\",ASISTENCIA!I38<>\"F\",ASISTENCIA!I38<>\"\"),SUMIF($F$13:$J$13,O$13,$F39:$J39),\"\")","v":""},{"$f":"IF(AND(LEN($D39)>0,SUMIF($F$13:$J$13,P$13,$F39:$J39)>0,ASISTENCIA!J38<>\"X\",ASISTENCIA!J38<>\"L\",ASISTENCIA!J38<>\"J\",ASISTENCIA!J38<>\"V\",ASISTENCIA!J38<>\"F\",ASISTENCIA!J38<>\"\"),SUMIF($F$13:$J$13,P$13,$F39:$J39),\"\")","v":""},{"$f":"IF(AND(LEN($D39)>0,SUMIF($F$13:$J$13,Q$13,$F39:$J39)>0,ASISTENCIA!K38<>\"X\",ASISTENCIA!K38<>\"L\",ASISTENCIA!K38<>\"J\",ASISTENCIA!K38<>\"V\",ASISTENCIA!K38<>\"F\",ASISTENCIA!K38<>\"\"),SUMIF($F$13:$J$13,Q$13,$F39:$J39),\"\")","v":""},{"$f":"IF(AND(LEN($D39)>0,SUMIF($F$13:$J$13,R$13,$F39:$J39)>0,ASISTENCIA!L38<>\"X\",ASISTENCIA!L38<>\"L\",ASISTENCIA!L38<>\"J\",ASISTENCIA!L38<>\"V\",ASISTENCIA!L38<>\"F\",ASISTENCIA!L38<>\"\"),SUMIF($F$13:$J$13,R$13,$F39:$J39),\"\")","v":""},{"$f":"IF(AND(LEN($D39)>0,SUMIF($F$13:$J$13,S$13,$F39:$J39)>0,ASISTENCIA!M38<>\"X\",ASISTENCIA!M38<>\"L\",ASISTENCIA!M38<>\"J\",ASISTENCIA!M38<>\"V\",ASISTENCIA!M38<>\"F\",ASISTENCIA!M38<>\"\"),SUMIF($F$13:$J$13,S$13,$F39:$J39),\"\")","v":""},{"$f":"IF(AND(LEN($D39)>0,SUMIF($F$13:$J$13,T$13,$F39:$J39)>0,ASISTENCIA!N38<>\"X\",ASISTENCIA!N38<>\"L\",ASISTENCIA!N38<>\"J\",ASISTENCIA!N38<>\"V\",ASISTENCIA!N38<>\"F\",ASISTENCIA!N38<>\"\"),SUMIF($F$13:$J$13,T$13,$F39:$J39),\"\")","v":""},{"$f":"IF(AND(LEN($D39)>0,SUMIF($F$13:$J$13,U$13,$F39:$J39)>0,ASISTENCIA!O38<>\"X\",ASISTENCIA!O38<>\"L\",ASISTENCIA!O38<>\"J\",ASISTENCIA!O38<>\"V\",ASISTENCIA!O38<>\"F\",ASISTENCIA!O38<>\"\"),SUMIF($F$13:$J$13,U$13,$F39:$J39),\"\")","v":""},{"$f":"IF(AND(LEN($D39)>0,SUMIF($F$13:$J$13,V$13,$F39:$J39)>0,ASISTENCIA!P38<>\"X\",ASISTENCIA!P38<>\"L\",ASISTENCIA!P38<>\"J\",ASISTENCIA!P38<>\"V\",ASISTENCIA!P38<>\"F\",ASISTENCIA!P38<>\"\"),SUMIF($F$13:$J$13,V$13,$F39:$J39),\"\")","v":""},{"$f":"IF(AND(LEN($D39)>0,SUMIF($F$13:$J$13,W$13,$F39:$J39)>0,ASISTENCIA!Q38<>\"X\",ASISTENCIA!Q38<>\"L\",ASISTENCIA!Q38<>\"J\",ASISTENCIA!Q38<>\"V\",ASISTENCIA!Q38<>\"F\",ASISTENCIA!Q38<>\"\"),SUMIF($F$13:$J$13,W$13,$F39:$J39),\"\")","v":""},{"$f":"IF(AND(LEN($D39)>0,SUMIF($F$13:$J$13,X$13,$F39:$J39)>0,ASISTENCIA!R38<>\"X\",ASISTENCIA!R38<>\"L\",ASISTENCIA!R38<>\"J\",ASISTENCIA!R38<>\"V\",ASISTENCIA!R38<>\"F\",ASISTENCIA!R38<>\"\"),SUMIF($F$13:$J$13,X$13,$F39:$J39),\"\")","v":""},{"$f":"IF(AND(LEN($D39)>0,SUMIF($F$13:$J$13,Y$13,$F39:$J39)>0,ASISTENCIA!S38<>\"X\",ASISTENCIA!S38<>\"L\",ASISTENCIA!S38<>\"J\",ASISTENCIA!S38<>\"V\",ASISTENCIA!S38<>\"F\",ASISTENCIA!S38<>\"\"),SUMIF($F$13:$J$13,Y$13,$F39:$J39),\"\")","v":""},{"$f":"IF(AND(LEN($D39)>0,SUMIF($F$13:$J$13,Z$13,$F39:$J39)>0,ASISTENCIA!T38<>\"X\",ASISTENCIA!T38<>\"L\",ASISTENCIA!T38<>\"J\",ASISTENCIA!T38<>\"V\",ASISTENCIA!T38<>\"F\",ASISTENCIA!T38<>\"\"),SUMIF($F$13:$J$13,Z$13,$F39:$J39),\"\")","v":""},{"$f":"IF(AND(LEN($D39)>0,SUMIF($F$13:$J$13,AA$13,$F39:$J39)>0,ASISTENCIA!U38<>\"X\",ASISTENCIA!U38<>\"L\",ASISTENCIA!U38<>\"J\",ASISTENCIA!U38<>\"V\",ASISTENCIA!U38<>\"F\",ASISTENCIA!U38<>\"\"),SUMIF($F$13:$J$13,AA$13,$F39:$J39),\"\")","v":""},{"$f":"IF(AND(LEN($D39)>0,SUMIF($F$13:$J$13,AB$13,$F39:$J39)>0,ASISTENCIA!V38<>\"X\",ASISTENCIA!V38<>\"L\",ASISTENCIA!V38<>\"J\",ASISTENCIA!V38<>\"V\",ASISTENCIA!V38<>\"F\",ASISTENCIA!V38<>\"\"),SUMIF($F$13:$J$13,AB$13,$F39:$J39),\"\")","v":""},{"$f":"IF(AND(LEN($D39)>0,SUMIF($F$13:$J$13,AC$13,$F39:$J39)>0,ASISTENCIA!W38<>\"X\",ASISTENCIA!W38<>\"L\",ASISTENCIA!W38<>\"J\",ASISTENCIA!W38<>\"V\",ASISTENCIA!W38<>\"F\",ASISTENCIA!W38<>\"\"),SUMIF($F$13:$J$13,AC$13,$F39:$J39),\"\")","v":""},{"$f":"IF(AND(LEN($D39)>0,SUMIF($F$13:$J$13,AD$13,$F39:$J39)>0,ASISTENCIA!X38<>\"X\",ASISTENCIA!X38<>\"L\",ASISTENCIA!X38<>\"J\",ASISTENCIA!X38<>\"V\",ASISTENCIA!X38<>\"F\",ASISTENCIA!X38<>\"\"),SUMIF($F$13:$J$13,AD$13,$F39:$J39),\"\")","v":""},{"$f":"IF(AND(LEN($D39)>0,SUMIF($F$13:$J$13,AE$13,$F39:$J39)>0,ASISTENCIA!Y38<>\"X\",ASISTENCIA!Y38<>\"L\",ASISTENCIA!Y38<>\"J\",ASISTENCIA!Y38<>\"V\",ASISTENCIA!Y38<>\"F\",ASISTENCIA!Y38<>\"\"),SUMIF($F$13:$J$13,AE$13,$F39:$J39),\"\")","v":""},{"$f":"IF(AND(LEN($D39)>0,SUMIF($F$13:$J$13,AF$13,$F39:$J39)>0,ASISTENCIA!Z38<>\"X\",ASISTENCIA!Z38<>\"L\",ASISTENCIA!Z38<>\"J\",ASISTENCIA!Z38<>\"V\",ASISTENCIA!Z38<>\"F\",ASISTENCIA!Z38<>\"\"),SUMIF($F$13:$J$13,AF$13,$F39:$J39),\"\")","v":""},{"$f":"IF(AND(LEN($D39)>0,SUMIF($F$13:$J$13,AG$13,$F39:$J39)>0,ASISTENCIA!AA38<>\"X\",ASISTENCIA!AA38<>\"L\",ASISTENCIA!AA38<>\"J\",ASISTENCIA!AA38<>\"V\",ASISTENCIA!AA38<>\"F\",ASISTENCIA!AA38<>\"\"),SUMIF($F$13:$J$13,AG$13,$F39:$J39),\"\")","v":""},{"$f":"IF(AND(LEN($D39)>0,SUMIF($F$13:$J$13,AH$13,$F39:$J39)>0,ASISTENCIA!AB38<>\"X\",ASISTENCIA!AB38<>\"L\",ASISTENCIA!AB38<>\"J\",ASISTENCIA!AB38<>\"V\",ASISTENCIA!AB38<>\"F\",ASISTENCIA!AB38<>\"\"),SUMIF($F$13:$J$13,AH$13,$F39:$J39),\"\")","v":""},{"$f":"IF(AND(LEN($D39)>0,SUMIF($F$13:$J$13,AI$13,$F39:$J39)>0,ASISTENCIA!AC38<>\"X\",ASISTENCIA!AC38<>\"L\",ASISTENCIA!AC38<>\"J\",ASISTENCIA!AC38<>\"V\",ASISTENCIA!AC38<>\"F\",ASISTENCIA!AC38<>\"\"),SUMIF($F$13:$J$13,AI$13,$F39:$J39),\"\")","v":""},{"$f":"IF(AND(LEN($D39)>0,SUMIF($F$13:$J$13,AJ$13,$F39:$J39)>0,ASISTENCIA!AD38<>\"X\",ASISTENCIA!AD38<>\"L\",ASISTENCIA!AD38<>\"J\",ASISTENCIA!AD38<>\"V\",ASISTENCIA!AD38<>\"F\",ASISTENCIA!AD38<>\"\"),SUMIF($F$13:$J$13,AJ$13,$F39:$J39),\"\")","v":""},{"$f":"IF(AND(LEN($D39)>0,SUMIF($F$13:$J$13,AK$13,$F39:$J39)>0,ASISTENCIA!AE38<>\"X\",ASISTENCIA!AE38<>\"L\",ASISTENCIA!AE38<>\"J\",ASISTENCIA!AE38<>\"V\",ASISTENCIA!AE38<>\"F\",ASISTENCIA!AE38<>\"\"),SUMIF($F$13:$J$13,AK$13,$F39:$J39),\"\")","v":""},{"$f":"IF(AND(LEN($D39)>0,SUMIF($F$13:$J$13,AL$13,$F39:$J39)>0,ASISTENCIA!AF38<>\"X\",ASISTENCIA!AF38<>\"L\",ASISTENCIA!AF38<>\"J\",ASISTENCIA!AF38<>\"V\",ASISTENCIA!AF38<>\"F\",ASISTENCIA!AF38<>\"\"),SUMIF($F$13:$J$13,AL$13,$F39:$J39),\"\")","v":""},{"$f":"IF(AND(LEN($D39)>0,SUMIF($F$13:$J$13,AM$13,$F39:$J39)>0,ASISTENCIA!AG38<>\"X\",ASISTENCIA!AG38<>\"L\",ASISTENCIA!AG38<>\"J\",ASISTENCIA!AG38<>\"V\",ASISTENCIA!AG38<>\"F\",ASISTENCIA!AG38<>\"\"),SUMIF($F$13:$J$13,AM$13,$F39:$J39),\"\")","v":""},{"$f":"IF(AND(LEN($D39)>0,SUMIF($F$13:$J$13,AN$13,$F39:$J39)>0,ASISTENCIA!AH38<>\"X\",ASISTENCIA!AH38<>\"L\",ASISTENCIA!AH38<>\"J\",ASISTENCIA!AH38<>\"V\",ASISTENCIA!AH38<>\"F\",ASISTENCIA!AH38<>\"\"),SUMIF($F$13:$J$13,AN$13,$F39:$J39),\"\")","v":""},{"$f":"IF(AND(LEN($D39)>0,SUMIF($F$13:$J$13,AO$13,$F39:$J39)>0,ASISTENCIA!AI38<>\"X\",ASISTENCIA!AI38<>\"L\",ASISTENCIA!AI38<>\"J\",ASISTENCIA!AI38<>\"V\",ASISTENCIA!AI38<>\"F\",ASISTENCIA!AI38<>\"\"),SUMIF($F$13:$J$13,AO$13,$F39:$J39),\"\")","v":""},{"$f":"IF(AND(LEN($D39)>0,SUMIF($F$13:$J$13,AP$13,$F39:$J39)>0,ASISTENCIA!AJ38<>\"X\",ASISTENCIA!AJ38<>\"L\",ASISTENCIA!AJ38<>\"J\",ASISTENCIA!AJ38<>\"V\",ASISTENCIA!AJ38<>\"F\",ASISTENCIA!AJ38<>\"\"),SUMIF($F$13:$J$13,AP$13,$F39:$J39),\"\")","v":""},{"$f":"IF(AND(LEN($D39)>0,SUMIF($F$13:$J$13,AQ$13,$F39:$J39)>0,ASISTENCIA!AK38<>\"X\",ASISTENCIA!AK38<>\"L\",ASISTENCIA!AK38<>\"J\",ASISTENCIA!AK38<>\"V\",ASISTENCIA!AK38<>\"F\",ASISTENCIA!AK38<>\"\"),SUMIF($F$13:$J$13,AQ$13,$F39:$J39),\"\")","v":""},{"$f":"IF(AND(LEN($D39)>0,SUMIF($F$13:$J$13,AR$13,$F39:$J39)>0,ASISTENCIA!AL38<>\"X\",ASISTENCIA!AL38<>\"L\",ASISTENCIA!AL38<>\"J\",ASISTENCIA!AL38<>\"V\",ASISTENCIA!AL38<>\"F\",ASISTENCIA!AL38<>\"\"),SUMIF($F$13:$J$13,AR$13,$F39:$J39),\"\")","v":""},{"$f":"IF(AND(LEN($D39)>0,SUMIF($F$13:$J$13,AS$13,$F39:$J39)>0,ASISTENCIA!AM38<>\"X\",ASISTENCIA!AM38<>\"L\",ASISTENCIA!AM38<>\"J\",ASISTENCIA!AM38<>\"V\",ASISTENCIA!AM38<>\"F\",ASISTENCIA!AM38<>\"\"),SUMIF($F$13:$J$13,AS$13,$F39:$J39),\"\")","v":""},"",null,null,null,{"$f":"IF(AND(LEN($D39)>0,SUMIF($F$13:$J$13,AX$13,$F39:$J39)>0,ASISTENCIA!AU38<>\"X\",ASISTENCIA!AU38<>\"L\",ASISTENCIA!AU38<>\"J\",ASISTENCIA!AU38<>\"F\"),SUMIF($F$13:$J$13,AX$13,$F39:$J39),\"\")","v":""},{"$f":"IF(AND(LEN($D39)>0,SUMIF($F$13:$J$13,AY$13,$F39:$J39)>0,ASISTENCIA!AV38<>\"X\",ASISTENCIA!AV38<>\"L\",ASISTENCIA!AV38<>\"J\",ASISTENCIA!AV38<>\"F\"),SUMIF($F$13:$J$13,AY$13,$F39:$J39),\"\")","v":""},{"$f":"IF(AND(LEN($D39)>0,SUMIF($F$13:$J$13,AZ$13,$F39:$J39)>0,ASISTENCIA!AW38<>\"X\",ASISTENCIA!AW38<>\"L\",ASISTENCIA!AW38<>\"J\",ASISTENCIA!AW38<>\"F\"),SUMIF($F$13:$J$13,AZ$13,$F39:$J39),\"\")","v":""},{"$f":"IF(AND(LEN($D39)>0,SUMIF($F$13:$J$13,BA$13,$F39:$J39)>0,ASISTENCIA!AX38<>\"X\",ASISTENCIA!AX38<>\"L\",ASISTENCIA!AX38<>\"J\",ASISTENCIA!AX38<>\"F\"),SUMIF($F$13:$J$13,BA$13,$F39:$J39),\"\")","v":""},{"$f":"IF(AND(LEN($D39)>0,SUMIF($F$13:$J$13,BB$13,$F39:$J39)>0,ASISTENCIA!AY38<>\"X\",ASISTENCIA!AY38<>\"L\",ASISTENCIA!AY38<>\"J\",ASISTENCIA!AY38<>\"F\"),SUMIF($F$13:$J$13,BB$13,$F39:$J39),\"\")","v":""},{"$f":"IF(AND(LEN($D39)>0,SUMIF($F$13:$J$13,BC$13,$F39:$J39)>0,ASISTENCIA!AZ38<>\"X\",ASISTENCIA!AZ38<>\"L\",ASISTENCIA!AZ38<>\"J\",ASISTENCIA!AZ38<>\"F\"),SUMIF($F$13:$J$13,BC$13,$F39:$J39),\"\")","v":""},{"$f":"IF(AND(LEN($D39)>0,SUMIF($F$13:$J$13,BD$13,$F39:$J39)>0,ASISTENCIA!BA38<>\"X\",ASISTENCIA!BA38<>\"L\",ASISTENCIA!BA38<>\"J\",ASISTENCIA!BA38<>\"F\"),SUMIF($F$13:$J$13,BD$13,$F39:$J39),\"\")","v":""},{"$f":"IF(AND(LEN($D39)>0,SUMIF($F$13:$J$13,BE$13,$F39:$J39)>0,ASISTENCIA!BB38<>\"X\",ASISTENCIA!BB38<>\"L\",ASISTENCIA!BB38<>\"J\",ASISTENCIA!BB38<>\"F\"),SUMIF($F$13:$J$13,BE$13,$F39:$J39),\"\")","v":""},{"$f":"IF(AND(LEN($D39)>0,SUMIF($F$13:$J$13,BF$13,$F39:$J39)>0,ASISTENCIA!#REF!<>\"X\",ASISTENCIA!#REF!<>\"L\",ASISTENCIA!#REF!<>\"J\",ASISTENCIA!#REF!<>\"F\"),SUMIF($F$13:$J$13,BF$13,$F39:$J39),\"\")","v":{"$error":"#REF!"}},{"$f":"IF(AND(LEN($D39)>0,SUMIF($F$13:$J$13,BG$13,$F39:$J39)>0,ASISTENCIA!#REF!<>\"X\",ASISTENCIA!#REF!<>\"L\",ASISTENCIA!#REF!<>\"J\",ASISTENCIA!#REF!<>\"F\"),SUMIF($F$13:$J$13,BG$13,$F39:$J39),\"\")","v":{"$error":"#REF!"}},{"$f":"IF(AND(LEN($D39)>0,SUMIF($F$13:$J$13,BH$13,$F39:$J39)>0,ASISTENCIA!BE38<>\"X\",ASISTENCIA!BE38<>\"L\",ASISTENCIA!BE38<>\"J\",ASISTENCIA!BE38<>\"F\"),SUMIF($F$13:$J$13,BH$13,$F39:$J39),\"\")","v":""},{"$f":"IF(AND(LEN($D39)>0,SUMIF($F$13:$J$13,BI$13,$F39:$J39)>0,ASISTENCIA!BF38<>\"X\",ASISTENCIA!BF38<>\"L\",ASISTENCIA!BF38<>\"J\",ASISTENCIA!BF38<>\"F\"),SUMIF($F$13:$J$13,BI$13,$F39:$J39),\"\")","v":""},{"$f":"IF(AND(LEN($D39)>0,SUMIF($F$13:$J$13,BJ$13,$F39:$J39)>0,ASISTENCIA!BG38<>\"X\",ASISTENCIA!BG38<>\"L\",ASISTENCIA!BG38<>\"J\",ASISTENCIA!BG38<>\"F\"),SUMIF($F$13:$J$13,BJ$13,$F39:$J39),\"\")","v":""},{"$f":"IF(AND(LEN($D39)>0,SUMIF($F$13:$J$13,BK$13,$F39:$J39)>0,ASISTENCIA!BH38<>\"X\",ASISTENCIA!BH38<>\"L\",ASISTENCIA!BH38<>\"J\",ASISTENCIA!BH38<>\"F\"),SUMIF($F$13:$J$13,BK$13,$F39:$J39),\"\")","v":""},{"$f":"IF(AND(LEN($D39)>0,SUMIF($F$13:$J$13,BL$13,$F39:$J39)>0,ASISTENCIA!BI38<>\"X\",ASISTENCIA!BI38<>\"L\",ASISTENCIA!BI38<>\"J\",ASISTENCIA!BI38<>\"F\"),SUMIF($F$13:$J$13,BL$13,$F39:$J39),\"\")","v":""},{"$f":"IF(AND(LEN($D39)>0,SUMIF($F$13:$J$13,BM$13,$F39:$J39)>0,ASISTENCIA!BJ38<>\"X\",ASISTENCIA!BJ38<>\"L\",ASISTENCIA!BJ38<>\"J\",ASISTENCIA!BJ38<>\"F\"),SUMIF($F$13:$J$13,BM$13,$F39:$J39),\"\")","v":""},{"$f":"IF(AND(LEN($D39)>0,SUMIF($F$13:$J$13,BN$13,$F39:$J39)>0,ASISTENCIA!BK38<>\"X\",ASISTENCIA!BK38<>\"L\",ASISTENCIA!BK38<>\"J\",ASISTENCIA!BK38<>\"F\"),SUMIF($F$13:$J$13,BN$13,$F39:$J39),\"\")","v":""},{"$f":"IF(AND(LEN($D39)>0,SUMIF($F$13:$J$13,BO$13,$F39:$J39)>0,ASISTENCIA!BL38<>\"X\",ASISTENCIA!BL38<>\"L\",ASISTENCIA!BL38<>\"J\",ASISTENCIA!BL38<>\"F\"),SUMIF($F$13:$J$13,BO$13,$F39:$J39),\"\")","v":""},{"$f":"IF(AND(LEN($D39)>0,SUMIF($F$13:$J$13,BP$13,$F39:$J39)>0,ASISTENCIA!BM38<>\"X\",ASISTENCIA!BM38<>\"L\",ASISTENCIA!BM38<>\"J\",ASISTENCIA!BM38<>\"F\"),SUMIF($F$13:$J$13,BP$13,$F39:$J39),\"\")","v":""},{"$f":"IF(AND(LEN($D39)>0,SUMIF($F$13:$J$13,BQ$13,$F39:$J39)>0,ASISTENCIA!BN38<>\"X\",ASISTENCIA!BN38<>\"L\",ASISTENCIA!BN38<>\"J\",ASISTENCIA!BN38<>\"F\"),SUMIF($F$13:$J$13,BQ$13,$F39:$J39),\"\")","v":""},{"$f":"IF(AND(LEN($D39)>0,SUMIF($F$13:$J$13,BR$13,$F39:$J39)>0,ASISTENCIA!BO38<>\"X\",ASISTENCIA!BO38<>\"L\",ASISTENCIA!BO38<>\"J\",ASISTENCIA!BO38<>\"F\"),SUMIF($F$13:$J$13,BR$13,$F39:$J39),\"\")","v":""},{"$f":"IF(AND(LEN($D39)>0,SUMIF($F$13:$J$13,BS$13,$F39:$J39)>0,ASISTENCIA!BP38<>\"X\",ASISTENCIA!BP38<>\"L\",ASISTENCIA!BP38<>\"J\",ASISTENCIA!BP38<>\"F\"),SUMIF($F$13:$J$13,BS$13,$F39:$J39),\"\")","v":""},{"$f":"IF(AND(LEN($D39)>0,SUMIF($F$13:$J$13,BT$13,$F39:$J39)>0,ASISTENCIA!BQ38<>\"X\",ASISTENCIA!BQ38<>\"L\",ASISTENCIA!BQ38<>\"J\",ASISTENCIA!BQ38<>\"F\"),SUMIF($F$13:$J$13,BT$13,$F39:$J39),\"\")","v":""},{"$f":"IF(AND(LEN($D39)>0,SUMIF($F$13:$J$13,BU$13,$F39:$J39)>0,ASISTENCIA!BR38<>\"X\",ASISTENCIA!BR38<>\"L\",ASISTENCIA!BR38<>\"J\",ASISTENCIA!BR38<>\"F\"),SUMIF($F$13:$J$13,BU$13,$F39:$J39),\"\")","v":""},{"$f":"IF(AND(LEN($D39)>0,SUMIF($F$13:$J$13,BV$13,$F39:$J39)>0,ASISTENCIA!BS38<>\"X\",ASISTENCIA!BS38<>\"L\",ASISTENCIA!BS38<>\"J\",ASISTENCIA!BS38<>\"F\"),SUMIF($F$13:$J$13,BV$13,$F39:$J39),\"\")","v":""},{"$f":"IF(AND(LEN($D39)>0,SUMIF($F$13:$J$13,BW$13,$F39:$J39)>0,ASISTENCIA!BT38<>\"X\",ASISTENCIA!BT38<>\"L\",ASISTENCIA!BT38<>\"J\",ASISTENCIA!BT38<>\"F\"),SUMIF($F$13:$J$13,BW$13,$F39:$J39),\"\")","v":""},{"$f":"IF(AND(LEN($D39)>0,SUMIF($F$13:$J$13,BX$13,$F39:$J39)>0,ASISTENCIA!BU38<>\"X\",ASISTENCIA!BU38<>\"L\",ASISTENCIA!BU38<>\"J\",ASISTENCIA!BU38<>\"F\"),SUMIF($F$13:$J$13,BX$13,$F39:$J39),\"\")","v":""},{"$f":"IF(AND(LEN($D39)>0,SUMIF($F$13:$J$13,BY$13,$F39:$J39)>0,ASISTENCIA!BV38<>\"X\",ASISTENCIA!BV38<>\"L\",ASISTENCIA!BV38<>\"J\",ASISTENCIA!BV38<>\"F\"),SUMIF($F$13:$J$13,BY$13,$F39:$J39),\"\")","v":""},{"$f":"IF(AND(LEN($D39)>0,SUMIF($F$13:$J$13,BZ$13,$F39:$J39)>0,ASISTENCIA!BW38<>\"X\",ASISTENCIA!BW38<>\"L\",ASISTENCIA!BW38<>\"J\",ASISTENCIA!BW38<>\"F\"),SUMIF($F$13:$J$13,BZ$13,$F39:$J39),\"\")","v":""},{"$f":"IF(AND(LEN($D39)>0,SUMIF($F$13:$J$13,CA$13,$F39:$J39)>0,ASISTENCIA!BX38<>\"X\",ASISTENCIA!BX38<>\"L\",ASISTENCIA!BX38<>\"J\",ASISTENCIA!BX38<>\"F\"),SUMIF($F$13:$J$13,CA$13,$F39:$J39),\"\")","v":""},{"$f":"IF(AND(LEN($D39)>0,SUMIF($F$13:$J$13,CB$13,$F39:$J39)>0,ASISTENCIA!BY38<>\"X\",ASISTENCIA!BY38<>\"L\",ASISTENCIA!BY38<>\"J\",ASISTENCIA!BY38<>\"F\"),SUMIF($F$13:$J$13,CB$13,$F39:$J39),\"\")","v":""},{"$error":"#REF!"}]
["",{"$f":"IF(LEN(C40)>0,VLOOKUP($O$4,DATA!$A$1:$S$1,2,FALSE),\"\")","v":""},"",{"$f":"IF(LEN(ASISTENCIA!E39)>0,ASISTENCIA!E39,\"\")","v":""},{"$f":"IF(LEN(D40)>0,ASISTENCIA!F39,\"\")","v":""},null,null,null,null,null,"",null,null,{"$error":"#REF!"},{"$f":"IF(AND(LEN($D40)>0,SUMIF($F$13:$J$13,O$13,$F40:$J40)>0,ASISTENCIA!I39<>\"X\",ASISTENCIA!I39<>\"L\",ASISTENCIA!I39<>\"J\",ASISTENCIA!I39<>\"V\",ASISTENCIA!I39<>\"F\",ASISTENCIA!I39<>\"\"),SUMIF($F$13:$J$13,O$13,$F40:$J40),\"\")","v":""},{"$f":"IF(AND(LEN($D40)>0,SUMIF($F$13:$J$13,P$13,$F40:$J40)>0,ASISTENCIA!J39<>\"X\",ASISTENCIA!J39<>\"L\",ASISTENCIA!J39<>\"J\",ASISTENCIA!J39<>\"V\",ASISTENCIA!J39<>\"F\",ASISTENCIA!J39<>\"\"),SUMIF($F$13:$J$13,P$13,$F40:$J40),\"\")","v":""},{"$f":"IF(AND(LEN($D40)>0,SUMIF($F$13:$J$13,Q$13,$F40:$J40)>0,ASISTENCIA!K39<>\"X\",ASISTENCIA!K39<>\"L\",ASISTENCIA!K39<>\"J\",ASISTENCIA!K39<>\"V\",ASISTENCIA!K39<>\"F\",ASISTENCIA!K39<>\"\"),SUMIF($F$13:$J$13,Q$13,$F40:$J40),\"\")","v":""},{"$f":"IF(AND(LEN($D40)>0,SUMIF($F$13:$J$13,R$13,$F40:$J40)>0,ASISTENCIA!L39<>\"X\",ASISTENCIA!L39<>\"L\",ASISTENCIA!L39<>\"J\",ASISTENCIA!L39<>\"V\",ASISTENCIA!L39<>\"F\",ASISTENCIA!L39<>\"\"),SUMIF($F$13:$J$13,R$13,$F40:$J40),\"\")","v":""},{"$f":"IF(AND(LEN($D40)>0,SUMIF($F$13:$J$13,S$13,$F40:$J40)>0,ASISTENCIA!M39<>\"X\",ASISTENCIA!M39<>\"L\",ASISTENCIA!M39<>\"J\",ASISTENCIA!M39<>\"V\",ASISTENCIA!M39<>\"F\",ASISTENCIA!M39<>\"\"),SUMIF($F$13:$J$13,S$13,$F40:$J40),\"\")","v":""},{"$f":"IF(AND(LEN($D40)>0,SUMIF($F$13:$J$13,T$13,$F40:$J40)>0,ASISTENCIA!N39<>\"X\",ASISTENCIA!N39<>\"L\",ASISTENCIA!N39<>\"J\",ASISTENCIA!N39<>\"V\",ASISTENCIA!N39<>\"F\",ASISTENCIA!N39<>\"\"),SUMIF($F$13:$J$13,T$13,$F40:$J40),\"\")","v":""},{"$f":"IF(AND(LEN($D40)>0,SUMIF($F$13:$J$13,U$13,$F40:$J40)>0,ASISTENCIA!O39<>\"X\",ASISTENCIA!O39<>\"L\",ASISTENCIA!O39<>\"J\",ASISTENCIA!O39<>\"V\",ASISTENCIA!O39<>\"F\",ASISTENCIA!O39<>\"\"),SUMIF($F$13:$J$13,U$13,$F40:$J40),\"\")","v":""},{"$f":"IF(AND(LEN($D40)>0,SUMIF($F$13:$J$13,V$13,$F40:$J40)>0,ASISTENCIA!P39<>\"X\",ASISTENCIA!P39<>\"L\",ASISTENCIA!P39<>\"J\",ASISTENCIA!P39<>\"V\",ASISTENCIA!P39<>\"F\",ASISTENCIA!P39<>\"\"),SUMIF($F$13:$J$13,V$13,$F40:$J40),\"\")","v":""},{"$f":"IF(AND(LEN($D40)>0,SUMIF($F$13:$J$13,W$13,$F40:$J40)>0,ASISTENCIA!Q39<>\"X\",ASISTENCIA!Q39<>\"L\",ASISTENCIA!Q39<>\"J\",ASISTENCIA!Q39<>\"V\",ASISTENCIA!Q39<>\"F\",ASISTENCIA!Q39<>\"\"),SUMIF($F$13:$J$13,W$13,$F40:$J40),\"\")","v":""},{"$f":"IF(AND(LEN($D40)>0,SUMIF($F$13:$J$13,X$13,$F40:$J40)>0,ASISTENCIA!R39<>\"X\",ASISTENCIA!R39<>\"L\",ASISTENCIA!R39<>\"J\",ASISTENCIA!R39<>\"V\",ASISTENCIA!R39<>\"F\",ASISTENCIA!R39<>\"\"),SUMIF($F$13:$J$13,X$13,$F40:$J40),\"\")","v":""},{"$f":"IF(AND(LEN($D40)>0,SUMIF($F$13:$J$13,Y$13,$F40:$J40)>0,ASISTENCIA!S39<>\"X\",ASISTENCIA!S39<>\"L\",ASISTENCIA!S39<>\"J\",ASISTENCIA!S39<>\"V\",ASISTENCIA!S39<>\"F\",ASISTENCIA!S39<>\"\"),SUMIF($F$13:$J$13,Y$13,$F40:$J40),\"\")","v":""},{"$f":"IF(AND(LEN($D40)>0,SUMIF($F$13:$J$13,Z$13,$F40:$J40)>0,ASISTENCIA!T39<>\"X\",ASISTENCIA!T39<>\"L\",ASISTENCIA!T39<>\"J\",ASISTENCIA!T39<>\"V\",ASISTENCIA!T39<>\"F\",ASISTENCIA!T39<>\"\"),SUMIF($F$13:$J$13,Z$13,$F40:$J40),\"\")","v":""},{"$f":"IF(AND(LEN($D40)>0,SUMIF($F$13:$J$13,AA$13,$F40:$J40)>0,ASISTENCIA!U39<>\"X\",ASISTENCIA!U39<>\"L\",ASISTENCIA!U39<>\"J\",ASISTENCIA!U39<>\"V\",ASISTENCIA!U39<>\"F\",ASISTENCIA!U39<>\"\"),SUMIF($F$13:$J$13,AA$13,$F40:$J40),\"\")","v":""},{"$f":"IF(AND(LEN($D40)>0,SUMIF($F$13:$J$13,AB$13,$F40:$J40)>0,ASISTENCIA!V39<>\"X\",ASISTENCIA!V39<>\"L\",ASISTENCIA!V39<>\"J\",ASISTENCIA!V39<>\"V\",ASISTENCIA!V39<>\"F\",ASISTENCIA!V39<>\"\"),SUMIF($F$13:$J$13,AB$13,$F40:$J40),\"\")","v":""},{"$f":"IF(AND(LEN($D40)>0,SUMIF($F$13:$J$13,AC$13,$F40:$J40)>0,ASISTENCIA!W39<>\"X\",ASISTENCIA!W39<>\"L\",ASISTENCIA!W39<>\"J\",ASISTENCIA!W39<>\"V\",ASISTENCIA!W39<>\"F\",ASISTENCIA!W39<>\"\"),SUMIF($F$13:$J$13,AC$13,$F40:$J40),\"\")","v":""},{"$f":"IF(AND(LEN($D40)>0,SUMIF($F$13:$J$13,AD$13,$F40:$J40)>0,ASISTENCIA!X39<>\"X\",ASISTENCIA!X39<>\"L\",ASISTENCIA!X39<>\"J\",ASISTENCIA!X39<>\"V\",ASISTENCIA!X39<>\"F\",ASISTENCIA!X39<>\"\"),SUMIF($F$13:$J$13,AD$13,$F40:$J40),\"\")","v":""},{"$f":"IF(AND(LEN($D40)>0,SUMIF($F$13:$J$13,AE$13,$F40:$J40)>0,ASISTENCIA!Y39<>\"X\",ASISTENCIA!Y39<>\"L\",ASISTENCIA!Y39<>\"J\",ASISTENCIA!Y39<>\"V\",ASISTENCIA!Y39<>\"F\",ASISTENCIA!Y39<>\"\"),SUMIF($F$13:$J$13,AE$13,$F40:$J40),\"\")","v":""},{"$f":"IF(AND(LEN($D40)>0,SUMIF($F$13:$J$13,AF$13,$F40:$J40)>0,ASISTENCIA!Z39<>\"X\",ASISTENCIA!Z39<>\"L\",ASISTENCIA!Z39<>\"J\",ASISTENCIA!Z39<>\"V\",ASISTENCIA!Z39<>\"F\",ASISTENCIA!Z39<>\"\"),SUMIF($F$13:$J$13,AF$13,$F40:$J40),\"\")","v":""},{"$f":"IF(AND(LEN($D40)>0,SUMIF($F$13:$J$13,AG$13,$F40:$J40)>0,ASISTENCIA!AA39<>\"X\",ASISTENCIA!AA39<>\"L\",ASISTENCIA!AA39<>\"J\",ASISTENCIA!AA39<>\"V\",ASISTENCIA!AA39<>\"F\",ASISTENCIA!AA39<>\"\"),SUMIF($F$13:$J$13,AG$13,$F40:$J40),\"\")","v":""},{"$f":"IF(AND(LEN($D40)>0,SUMIF($F$13:$J$13,AH$13,$F40:$J40)>0,ASISTENCIA!AB39<>\"X\",ASISTENCIA!AB39<>\"L\",ASISTENCIA!AB39<>\"J\",ASISTENCIA!AB39<>\"V\",ASISTENCIA!AB39<>\"F\",ASISTENCIA!AB39<>\"\"),SUMIF($F$13:$J$13,AH$13,$F40:$J40),\"\")","v":""},{"$f":"IF(AND(LEN($D40)>0,SUMIF($F$13:$J$13,AI$13,$F40:$J40)>0,ASISTENCIA!AC39<>\"X\",ASISTENCIA!AC39<>\"L\",ASISTENCIA!AC39<>\"J\",ASISTENCIA!AC39<>\"V\",ASISTENCIA!AC39<>\"F\",ASISTENCIA!AC39<>\"\"),SUMIF($F$13:$J$13,AI$13,$F40:$J40),\"\")","v":""},{"$f":"IF(AND(LEN($D40)>0,SUMIF($F$13:$J$13,AJ$13,$F40:$J40)>0,ASISTENCIA!AD39<>\"X\",ASISTENCIA!AD39<>\"L\",ASISTENCIA!AD39<>\"J\",ASISTENCIA!AD39<>\"V\",ASISTENCIA!AD39<>\"F\",ASISTENCIA!AD39<>\"\"),SUMIF($F$13:$J$13,AJ$13,$F40:$J40),\"\")","v":""},{"$f":"IF(AND(LEN($D40)>0,SUMIF($F$13:$J$13,AK$13,$F40:$J40)>0,ASISTENCIA!AE39<>\"X\",ASISTENCIA!AE39<>\"L\",ASISTENCIA!AE39<>\"J\",ASISTENCIA!AE39<>\"V\",ASISTENCIA!AE39<>\"F\",ASISTENCIA!AE39<>\"\"),SUMIF($F$13:$J$13,AK$13,$F40:$J40),\"\")","v":""},{"$f":"IF(AND(LEN($D40)>0,SUMIF($F$13:$J$13,AL$13,$F40:$J40)>0,ASISTENCIA!AF39<>\"X\",ASISTENCIA!AF39<>\"L\",ASISTENCIA!AF39<>\"J\",ASISTENCIA!AF39<>\"V\",ASISTENCIA!AF39<>\"F\",ASISTENCIA!AF39<>\"\"),SUMIF($F$13:$J$13,AL$13,$F40:$J40),\"\")","v":""},{"$f":"IF(AND(LEN($D40)>0,SUMIF($F$13:$J$13,AM$13,$F40:$J40)>0,ASISTENCIA!AG39<>\"X\",ASISTENCIA!AG39<>\"L\",ASISTENCIA!AG39<>\"J\",ASISTENCIA!AG39<>\"V\",ASISTENCIA!AG39<>\"F\",ASISTENCIA!AG39<>\"\"),SUMIF($F$13:$J$13,AM$13,$F40:$J40),\"\")","v":""},{"$f":"IF(AND(LEN($D40)>0,SUMIF($F$13:$J$13,AN$13,$F40:$J40)>0,ASISTENCIA!AH39<>\"X\",ASISTENCIA!AH39<>\"L\",ASISTENCIA!AH39<>\"J\",ASISTENCIA!AH39<>\"V\",ASISTENCIA!AH39<>\"F\",ASISTENCIA!AH39<>\"\"),SUMIF($F$13:$J$13,AN$13,$F40:$J40),\"\")","v":""},{"$f":"IF(AND(LEN($D40)>0,SUMIF($F$13:$J$13,AO$13,$F40:$J40)>0,ASISTENCIA!AI39<>\"X\",ASISTENCIA!AI39<>\"L\",ASISTENCIA!AI39<>\"J\",ASISTENCIA!AI39<>\"V\",ASISTENCIA!AI39<>\"F\",ASISTENCIA!AI39<>\"\"),SUMIF($F$13:$J$13,AO$13,$F40:$J40),\"\")","v":""},{"$f":"IF(AND(LEN($D40)>0,SUMIF($F$13:$J$13,AP$13,$F40:$J40)>0,ASISTENCIA!AJ39<>\"X\",ASISTENCIA!AJ39<>\"L\",ASISTENCIA!AJ39<>\"J\",ASISTENCIA!AJ39<>\"V\",ASISTENCIA!AJ39<>\"F\",ASISTENCIA!AJ39<>\"\"),SUMIF($F$13:$J$13,AP$13,$F40:$J40),\"\")","v":""},{"$f":"IF(AND(LEN($D40)>0,SUMIF($F$13:$J$13,AQ$13,$F40:$J40)>0,ASISTENCIA!AK39<>\"X\",ASISTENCIA!AK39<>\"L\",ASISTENCIA!AK39<>\"J\",ASISTENCIA!AK39<>\"V\",ASISTENCIA!AK39<>\"F\",ASISTENCIA!AK39<>\"\"),SUMIF($F$13:$J$13,AQ$13,$F40:$J40),\"\")","v":""},{"$f":"IF(AND(LEN($D40)>0,SUMIF($F$13:$J$13,AR$13,$F40:$J40)>0,ASISTENCIA!AL39<>\"X\",ASISTENCIA!AL39<>\"L\",ASISTENCIA!AL39<>\"J\",ASISTENCIA!AL39<>\"V\",ASISTENCIA!AL39<>\"F\",ASISTENCIA!AL39<>\"\"),SUMIF($F$13:$J$13,AR$13,$F40:$J40),\"\")","v":""},{"$f":"IF(AND(LEN($D40)>0,SUMIF($F$13:$J$13,AS$13,$F40:$J40)>0,ASISTENCIA!AM39<>\"X\",ASISTENCIA!AM39<>\"L\",ASISTENCIA!AM39<>\"J\",ASISTENCIA!AM39<>\"V\",ASISTENCIA!AM39<>\"F\",ASISTENCIA!AM39<>\"\"),SUMIF($F$13:$J$13,AS$13,$F40:$J40),\"\")","v":""},"",null,null,null,{"$f":"IF(AND(LEN($D40)>0,SUMIF($F$13:$J$13,AX$13,$F40:$J40)>0,ASISTENCIA!AU39<>\"X\",ASISTENCIA!AU39<>\"L\",ASISTENCIA!AU39<>\"J\",ASISTENCIA!AU39<>\"F\"),SUMIF($F$13:$J$13,AX$13,$F40:$J40),\"\")","v":""},{"$f":"IF(AND(LEN($D40)>0,SUMIF($F$13:$J$13,AY$13,$F40:$J40)>0,ASISTENCIA!AV39<>\"X\",ASISTENCIA!AV39<>\"L\",ASISTENCIA!AV39<>\"J\",ASISTENCIA!AV39<>\"F\"),SUMIF($F$13:$J$13,AY$13,$F40:$J40),\"\")","v":""},{"$f":"IF(AND(LEN($D40)>0,SUMIF($F$13:$J$13,AZ$13,$F40:$J40)>0,ASISTENCIA!AW39<>\"X\",ASISTENCIA!AW39<>\"L\",ASISTENCIA!AW39<>\"J\",ASISTENCIA!AW39<>\"F\"),SUMIF($F$13:$J$13,AZ$13,$F40:$J40),\"\")","v":""},{"$f":"IF(AND(LEN($D40)>0,SUMIF($F$13:$J$13,BA$13,$F40:$J40)>0,ASISTENCIA!AX39<>\"X\",ASISTENCIA!AX39<>\"L\",ASISTENCIA!AX39<>\"J\",ASISTENCIA!AX39<>\"F\"),SUMIF($F$13:$J$13,BA$13,$F40:$J40),\"\")","v":""},{"$f":"IF(AND(LEN($D40)>0,SUMIF($F$13:$J$13,BB$13,$F40:$J40)>0,ASISTENCIA!AY39<>\"X\",ASISTENCIA!AY39<>\"L\",ASISTENCIA!AY39<>\"J\",ASISTENCIA!AY39<>\"F\"),SUMIF($F$13:$J$13,BB$13,$F40:$J40),\"\")","v":""},{"$f":"IF(AND(LEN($D40)>0,SUMIF($F$13:$J$13,BC$13,$F40:$J40)>0,ASISTENCIA!AZ39<>\"X\",ASISTENCIA!AZ39<>\"L\",ASISTENCIA!AZ39<>\"J\",ASISTENCIA!AZ39<>\"F\"),SUMIF($F$13:$J$13,BC$13,$F40:$J40),\"\")","v":""},{"$f":"IF(AND(LEN($D40)>0,SUMIF($F$13:$J$13,BD$13,$F40:$J40)>0,ASISTENCIA!BA39<>\"X\",ASISTENCIA!BA39<>\"L\",ASISTENCIA!BA39<>\"J\",ASISTENCIA!BA39<>\"F\"),SUMIF($F$13:$J$13,BD$13,$F40:$J40),\"\")","v":""},{"$f":"IF(AND(LEN($D40)>0,SUMIF($F$13:$J$13,BE$13,$F40:$J40)>0,ASISTENCIA!BB39<>\"X\",ASISTENCIA!BB39<>\"L\",ASISTENCIA!BB39<>\"J\",ASISTENCIA!BB39<>\"F\"),SUMIF($F$13:$J$13,BE$13,$F40:$J40),\"\")","v":""},{"$f":"IF(AND(LEN($D40)>0,SUMIF($F$13:$J$13,BF$13,$F40:$J40)>0,ASISTENCIA!#REF!<>\"X\",ASISTENCIA!#REF!<>\"L\",ASISTENCIA!#REF!<>\"J\",ASISTENCIA!#REF!<>\"F\"),SUMIF($F$13:$J$13,BF$13,$F40:$J40),\"\")","v":{"$error":"#REF!"}},{"$f":"IF(AND(LEN($D40)>0,SUMIF($F$13:$J$13,BG$13,$F40:$J40)>0,ASISTENCIA!#REF!<>\"X\",ASISTENCIA!#REF!<>\"L\",ASISTENCIA!#REF!<>\"J\",ASISTENCIA!#REF!<>\"F\"),SUMIF($F$13:$J$13,BG$13,$F40:$J40),\"\")","v":{"$error":"#REF!"}},{"$f":"IF(AND(LEN($D40)>0,SUMIF($F$13:$J$13,BH$13,$F40:$J40)>0,ASISTENCIA!BE39<>\"X\",ASISTENCIA!BE39<>\"L\",ASISTENCIA!BE39<>\"J\",ASISTENCIA!BE39<>\"F\"),SUMIF($F$13:$J$13,BH$13,$F40:$J40),\"\")","v":""},{"$f":"IF(AND(LEN($D40)>0,SUMIF($F$13:$J$13,BI$13,$F40:$J40)>0,ASISTENCIA!BF39<>\"X\",ASISTENCIA!BF39<>\"L\",ASISTENCIA!BF39<>\"J\",ASISTENCIA!BF39<>\"F\"),SUMIF($F$13:$J$13,BI$13,$F40:$J40),\"\")","v":""},{"$f":"IF(AND(LEN($D40)>0,SUMIF($F$13:$J$13,BJ$13,$F40:$J40)>0,ASISTENCIA!BG39<>\"X\",ASISTENCIA!BG39<>\"L\",ASISTENCIA!BG39<>\"J\",ASISTENCIA!BG39<>\"F\"),SUMIF($F$13:$J$13,BJ$13,$F40:$J40),\"\")","v":""},{"$f":"IF(AND(LEN($D40)>0,SUMIF($F$13:$J$13,BK$13,$F40:$J40)>0,ASISTENCIA!BH39<>\"X\",ASISTENCIA!BH39<>\"L\",ASISTENCIA!BH39<>\"J\",ASISTENCIA!BH39<>\"F\"),SUMIF($F$13:$J$13,BK$13,$F40:$J40),\"\")","v":""},{"$f":"IF(AND(LEN($D40)>0,SUMIF($F$13:$J$13,BL$13,$F40:$J40)>0,ASISTENCIA!BI39<>\"X\",ASISTENCIA!BI39<>\"L\",ASISTENCIA!BI39<>\"J\",ASISTENCIA!BI39<>\"F\"),SUMIF($F$13:$J$13,BL$13,$F40:$J40),\"\")","v":""},{"$f":"IF(AND(LEN($D40)>0,SUMIF($F$13:$J$13,BM$13,$F40:$J40)>0,ASISTENCIA!BJ39<>\"X\",ASISTENCIA!BJ39<>\"L\",ASISTENCIA!BJ39<>\"J\",ASISTENCIA!BJ39<>\"F\"),SUMIF($F$13:$J$13,BM$13,$F40:$J40),\"\")","v":""},{"$f":"IF(AND(LEN($D40)>0,SUMIF($F$13:$J$13,BN$13,$F40:$J40)>0,ASISTENCIA!BK39<>\"X\",ASISTENCIA!BK39<>\"L\",ASISTENCIA!BK39<>\"J\",ASISTENCIA!BK39<>\"F\"),SUMIF($F$13:$J$13,BN$13,$F40:$J40),\"\")","v":""},{"$f":"IF(AND(LEN($D40)>0,SUMIF($F$13:$J$13,BO$13,$F40:$J40)>0,ASISTENCIA!BL39<>\"X\",ASISTENCIA!BL39<>\"L\",ASISTENCIA!BL39<>\"J\",ASISTENCIA!BL39<>\"F\"),SUMIF($F$13:$J$13,BO$13,$F40:$J40),\"\")","v":""},{"$f":"IF(AND(LEN($D40)>0,SUMIF($F$13:$J$13,BP$13,$F40:$J40)>0,ASISTENCIA!BM39<>\"X\",ASISTENCIA!BM39<>\"L\",ASISTENCIA!BM39<>\"J\",ASISTENCIA!BM39<>\"F\"),SUMIF($F$13:$J$13,BP$13,$F40:$J40),\"\")","v":""},{"$f":"IF(AND(LEN($D40)>0,SUMIF($F$13:$J$13,BQ$13,$F40:$J40)>0,ASISTENCIA!BN39<>\"X\",ASISTENCIA!BN39<>\"L\",ASISTENCIA!BN39<>\"J\",ASISTENCIA!BN39<>\"F\"),SUMIF($F$13:$J$13,BQ$13,$F40:$J40),\"\")","v":""},{"$f":"IF(AND(LEN($D40)>0,SUMIF($F$13:$J$13,BR$13,$F40:$J40)>0,ASISTENCIA!BO39<>\"X\",ASISTENCIA!BO39<>\"L\",ASISTENCIA!BO39<>\"J\",ASISTENCIA!BO39<>\"F\"),SUMIF($F$13:$J$13,BR$13,$F40:$J40),\"\")","v":""},{"$f":"IF(AND(LEN($D40)>0,SUMIF($F$13:$J$13,BS$13,$F40:$J40)>0,ASISTENCIA!BP39<>\"X\",ASISTENCIA!BP39<>\"L\",ASISTENCIA!BP39<>\"J\",ASISTENCIA!BP39<>\"F\"),SUMIF($F$13:$J$13,BS$13,$F40:$J40),\"\")","v":""},{"$f":"IF(AND(LEN($D40)>0,SUMIF($F$13:$J$13,BT$13,$F40:$J40)>0,ASISTENCIA!BQ39<>\"X\",ASISTENCIA!BQ39<>\"L\",ASISTENCIA!BQ39<>\"J\",ASISTENCIA!BQ39<>\"F\"),SUMIF($F$13:$J$13,BT$13,$F40:$J40),\"\")","v":""},{"$f":"IF(AND(LEN($D40)>0,SUMIF($F$13:$J$13,BU$13,$F40:$J40)>0,ASISTENCIA!BR39<>\"X\",ASISTENCIA!BR39<>\"L\",ASISTENCIA!BR39<>\"J\",ASISTENCIA!BR39<>\"F\"),SUMIF($F$13:$J$13,BU$13,$F40:$J40),\"\")","v":""},{"$f":"IF(AND(LEN($D40)>0,SUMIF($F$13:$J$13,BV$13,$F40:$J40)>0,ASISTENCIA!BS39<>\"X\",ASISTENCIA!BS39<>\"L\",ASISTENCIA!BS39<>\"J\",ASISTENCIA!BS39<>\"F\"),SUMIF($F$13:$J$13,BV$13,$F40:$J40),\"\")","v":""},{"$f":"IF(AND(LEN($D40)>0,SUMIF($F$13:$J$13,BW$13,$F40:$J40)>0,ASISTENCIA!BT39<>\"X\",ASISTENCIA!BT39<>\"L\",ASISTENCIA!BT39<>\"J\",ASISTENCIA!BT39<>\"F\"),SUMIF($F$13:$J$13,BW$13,$F40:$J40),\"\")","v":""},{"$f":"IF(AND(LEN($D40)>0,SUMIF($F$13:$J$13,BX$13,$F40:$J40)>0,ASISTENCIA!BU39<>\"X\",ASISTENCIA!BU39<>\"L\",ASISTENCIA!BU39<>\"J\",ASISTENCIA!BU39<>\"F\"),SUMIF($F$13:$J$13,BX$13,$F40:$J40),\"\")","v":""},{"$f":"IF(AND(LEN($D40)>0,SUMIF($F$13:$J$13,BY$13,$F40:$J40)>0,ASISTENCIA!BV39<>\"X\",ASISTENCIA!BV39<>\"L\",ASISTENCIA!BV39<>\"J\",ASISTENCIA!BV39<>\"F\"),SUMIF($F$13:$J$13,BY$13,$F40:$J40),\"\")","v":""},{"$f":"IF(AND(LEN($D40)>0,SUMIF($F$13:$J$13,BZ$13,$F40:$J40)>0,ASISTENCIA!BW39<>\"X\",ASISTENCIA!BW39<>\"L\",ASISTENCIA!BW39<>\"J\",ASISTENCIA!BW39<>\"F\"),SUMIF($F$13:$J$13,BZ$13,$F40:$J40),\"\")","v":""},{"$f":"IF(AND(LEN($D40)>0,SUMIF($F$13:$J$13,CA$13,$F40:$J40)>0,ASISTENCIA!BX39<>\"X\",ASISTENCIA!BX39<>\"L\",ASISTENCIA!BX39<>\"J\",ASISTENCIA!BX39<>\"F\"),SUMIF($F$13:$J$13,CA$13,$F40:$J40),\"\")","v":""},{"$f":"IF(AND(LEN($D40)>0,SUMIF($F$13:$J$13,CB$13,$F40:$J40)>0,ASISTENCIA!BY39<>\"X\",ASISTENCIA!BY39<>\"L\",ASISTENCIA!BY39<>\"J\",ASISTENCIA!BY39<>\"F\"),SUMIF($F$13:$J$13,CB$13,$F40:$J40),\"\")","v":""},{"$error":"#REF!"}]
["",{"$f":"IF(LEN(C41)>0,VLOOKUP($O$4,DATA!$A$1:$S$1,2,FALSE),\"\")","v":""},"",{"$f":"IF(LEN(ASISTENCIA!E40)>0,ASISTENCIA!E40,\"\")","v":""},{"$f":"IF(LEN(D41)>0,ASISTENCIA!F40,\"\")","v":""},null,null,null,null,null,"",null,null,{"$error":"#REF!"},{"$f":"IF(AND(LEN($D41)>0,SUMIF($F$13:$J$13,O$13,$F41:$J41)>0,ASISTENCIA!I40<>\"X\",ASISTENCIA!I40<>\"L\",ASISTENCIA!I40<>\"J\",ASISTENCIA!I40<>\"V\",ASISTENCIA!I40<>\"F\",ASISTENCIA!I40<>\"\"),SUMIF($F$13:$J$13,O$13,$F41:$J41),\"\")","v":""},{"$f":"IF(AND(LEN($D41)>0,SUMIF($F$13:$J$13,P$13,$F41:$J41)>0,ASISTENCIA!J40<>\"X\",ASISTENCIA!J40<>\"L\",ASISTENCIA!J40<>\"J\",ASISTENCIA!J40<>\"V\",ASISTENCIA!J40<>\"F\",ASISTENCIA!J40<>\"\"),SUMIF($F$13:$J$13,P$13,$F41:$J41),\"\")","v":""},{"$f":"IF(AND(LEN($D41)>0,SUMIF($F$13:$J$13,Q$13,$F41:$J41)>0,ASISTENCIA!K40<>\"X\",ASISTENCIA!K40<>\"L\",ASISTENCIA!K40<>\"J\",ASISTENCIA!K40<>\"V\",ASISTENCIA!K40<>\"F\",ASISTENCIA!K40<>\"\"),SUMIF($F$13:$J$13,Q$13,$F41:$J41),\"\")","v":""},{"$f":"IF(AND(LEN($D41)>0,SUMIF($F$13:$J$13,R$13,$F41:$J41)>0,ASISTENCIA!L40<>\"X\",ASISTENCIA!L40<>\"L\",ASISTENCIA!L40<>\"J\",ASISTENCIA!L40<>\"V\",ASISTENCIA!L40<>\"F\",ASISTENCIA!L40<>\"\"),SUMIF($F$13:$J$13,R$13,$F41:$J41),\"\")","v":""},{"$f":"IF(AND(LEN($D41)>0,SUMIF($F$13:$J$13,S$13,$F41:$J41)>0,ASISTENCIA!M40<>\"X\",ASISTENCIA!M40<>\"L\",ASISTENCIA!M40<>\"J\",ASISTENCIA!M40<>\"V\",ASISTENCIA!M40<>\"F\",ASISTENCIA!M40<>\"\"),SUMIF($F$13:$J$13,S$13,$F41:$J41),\"\")","v":""},{"$f":"IF(AND(LEN($D41)>0,SUMIF($F$13:$J$13,T$13,$F41:$J41)>0,ASISTENCIA!N40<>\"X\",ASISTENCIA!N40<>\"L\",ASISTENCIA!N40<>\"J\",ASISTENCIA!N40<>\"V\",ASISTENCIA!N40<>\"F\",ASISTENCIA!N40<>\"\"),SUMIF($F$13:$J$13,T$13,$F41:$J41),\"\")","v":""},{"$f":"IF(AND(LEN($D41)>0,SUMIF($F$13:$J$13,U$13,$F41:$J41)>0,ASISTENCIA!O40<>\"X\",ASISTENCIA!O40<>\"L\",ASISTENCIA!O40<>\"J\",ASISTENCIA!O40<>\"V\",ASISTENCIA!O40<>\"F\",ASISTENCIA!O40<>\"\"),SUMIF($F$13:$J$13,U$13,$F41:$J41),\"\")","v":""},{"$f":"IF(AND(LEN($D41)>0,SUMIF($F$13:$J$13,V$13,$F41:$J41)>0,ASISTENCIA!P40<>\"X\",ASISTENCIA!P40<>\"L\",ASISTENCIA!P40<>\"J\",ASISTENCIA!P40<>\"V\",ASISTENCIA!P40<>\"F\",ASISTENCIA!P40<>\"\"),SUMIF($F$13:$J$13,V$13,$F41:$J41),\"\")","v":""},{"$f":"IF(AND(LEN($D41)>0,SUMIF($F$13:$J$13,W$13,$F41:$J41)>0,ASISTENCIA!Q40<>\"X\",ASISTENCIA!Q40<>\"L\",ASISTENCIA!Q40<>\"J\",ASISTENCIA!Q40<>\"V\",ASISTENCIA!Q40<>\"F\",ASISTENCIA!Q40<>\"\"),SUMIF($F$13:$J$13,W$13,$F41:$J41),\"\")","v":""},{"$f":"IF(AND(LEN($D41)>0,SUMIF($F$13:$J$13,X$13,$F41:$J41)>0,ASISTENCIA!R40<>\"X\",ASISTENCIA!R40<>\"L\",ASISTENCIA!R40<>\"J\",ASISTENCIA!R40<>\"V\",ASISTENCIA!R40<>\"F\",ASISTENCIA!R40<>\"\"),SUMIF($F$13:$J$13,X$13,$F41:$J41),\"\")","v":""},{"$f":"IF(AND(LEN($D41)>0,SUMIF($F$13:$J$13,Y$13,$F41:$J41)>0,ASISTENCIA!S40<>\"X\",ASISTENCIA!S40<>\"L\",ASISTENCIA!S40<>\"J\",ASISTENCIA!S40<>\"V\",ASISTENCIA!S40<>\"F\",ASISTENCIA!S40<>\"\"),SUMIF($F$13:$J$13,Y$13,$F41:$J41),\"\")","v":""},{"$f":"IF(AND(LEN($D41)>0,SUMIF($F$13:$J$13,Z$13,$F41:$J41)>0,ASISTENCIA!T40<>\"X\",ASISTENCIA!T40<>\"L\",ASISTENCIA!T40<>\"J\",ASISTENCIA!T40<>\"V\",ASISTENCIA!T40<>\"F\",ASISTENCIA!T40<>\"\"),SUMIF($F$13:$J$13,Z$13,$F41:$J41),\"\")","v":""},{"$f":"IF(AND(LEN($D41)>0,SUMIF($F$13:$J$13,AA$13,$F41:$J41)>0,ASISTENCIA!U40<>\"X\",ASISTENCIA!U40<>\"L\",ASISTENCIA!U40<>\"J\",ASISTENCIA!U40<>\"V\",ASISTENCIA!U40<>\"F\",ASISTENCIA!U40<>\"\"),SUMIF($F$13:$J$13,AA$13,$F41:$J41),\"\")","v":""},{"$f":"IF(AND(LEN($D41)>0,SUMIF($F$13:$J$13,AB$13,$F41:$J41)>0,ASISTENCIA!V40<>\"X\",ASISTENCIA!V40<>\"L\",ASISTENCIA!V40<>\"J\",ASISTENCIA!V40<>\"V\",ASISTENCIA!V40<>\"F\",ASISTENCIA!V40<>\"\"),SUMIF($F$13:$J$13,AB$13,$F41:$J41),\"\")","v":""},{"$f":"IF(AND(LEN($D41)>0,SUMIF($F$13:$J$13,AC$13,$F41:$J41)>0,ASISTENCIA!W40<>\"X\",ASISTENCIA!W40<>\"L\",ASISTENCIA!W40<>\"J\",ASISTENCIA!W40<>\"V\",ASISTENCIA!W40<>\"F\",ASISTENCIA!W40<>\"\"),SUMIF($F$13:$J$13,AC$13,$F41:$J41),\"\")","v":""},{"$f":"IF(AND(LEN($D41)>0,SUMIF($F$13:$J$13,AD$13,$F41:$J41)>0,ASISTENCIA!X40<>\"X\",ASISTENCIA!X40<>\"L\",ASISTENCIA!X40<>\"J\",ASISTENCIA!X40<>\"V\",ASISTENCIA!X40<>\"F\",ASISTENCIA!X40<>\"\"),SUMIF($F$13:$J$13,AD$13,$F41:$J41),\"\")","v":""},{"$f":"IF(AND(LEN($D41)>0,SUMIF($F$13:$J$13,AE$13,$F41:$J41)>0,ASISTENCIA!Y40<>\"X\",ASISTENCIA!Y40<>\"L\",ASISTENCIA!Y40<>\"J\",ASISTENCIA!Y40<>\"V\",ASISTENCIA!Y40<>\"F\",ASISTENCIA!Y40<>\"\"),SUMIF($F$13:$J$13,AE$13,$F41:$J41),\"\")","v":""},{"$f":"IF(AND(LEN($D41)>0,SUMIF($F$13:$J$13,AF$13,$F41:$J41)>0,ASISTENCIA!Z40<>\"X\",ASISTENCIA!Z40<>\"L\",ASISTENCIA!Z40<>\"J\",ASISTENCIA!Z40<>\"V\",ASISTENCIA!Z40<>\"F\",ASISTENCIA!Z40<>\"\"),SUMIF($F$13:$J$13,AF$13,$F41:$J41),\"\")","v":""},{"$f":"IF(AND(LEN($D41)>0,SUMIF($F$13:$J$13,AG$13,$F41:$J41)>0,ASISTENCIA!AA40<>\"X\",ASISTENCIA!AA40<>\"L\",ASISTENCIA!AA40<>\"J\",ASISTENCIA!AA40<>\"V\",ASISTENCIA!AA40<>\"F\",ASISTENCIA!AA40<>\"\"),SUMIF($F$13:$J$13,AG$13,$F41:$J41),\"\")","v":""},{"$f":"IF(AND(LEN($D41)>0,SUMIF($F$13:$J$13,AH$13,$F41:$J41)>0,ASISTENCIA!AB40<>\"X\",ASISTENCIA!AB40<>\"L\",ASISTENCIA!AB40<>\"J\",ASISTENCIA!AB40<>\"V\",ASISTENCIA!AB40<>\"F\",ASISTENCIA!AB40<>\"\"),SUMIF($F$13:$J$13,AH$13,$F41:$J41),\"\")","v":""},{"$f":"IF(AND(LEN($D41)>0,SUMIF($F$13:$J$13,AI$13,$F41:$J41)>0,ASISTENCIA!AC40<>\"X\",ASISTENCIA!AC40<>\"L\",ASISTENCIA!AC40<>\"J\",ASISTENCIA!AC40<>\"V\",ASISTENCIA!AC40<>\"F\",ASISTENCIA!AC40<>\"\"),SUMIF($F$13:$J$13,AI$13,$F41:$J41),\"\")","v":""},{"$f":"IF(AND(LEN($D41)>0,SUMIF($F$13:$J$13,AJ$13,$F41:$J41)>0,ASISTENCIA!AD40<>\"X\",ASISTENCIA!AD40<>\"L\",ASISTENCIA!AD40<>\"J\",ASISTENCIA!AD40<>\"V\",ASISTENCIA!AD40<>\"F\",ASISTENCIA!AD40<>\"\"),SUMIF($F$13:$J$13,AJ$13,$F41:$J41),\"\")","v":""},{"$f":"IF(AND(LEN($D41)>0,SUMIF($F$13:$J$13,AK$13,$F41:$J41)>0,ASISTENCIA!AE40<>\"X\",ASISTENCIA!AE40<>\"L\",ASISTENCIA!AE40<>\"J\",ASISTENCIA!AE40<>\"V\",ASISTENCIA!AE40<>\"F\",ASISTENCIA!AE40<>\"\"),SUMIF($F$13:$J$13,AK$13,$F41:$J41),\"\")","v":""},{"$f":"IF(AND(LEN($D41)>0,SUMIF($F$13:$J$13,AL$13,$F41:$J41)>0,ASISTENCIA!AF40<>\"X\",ASISTENCIA!AF40<>\"L\",ASISTENCIA!AF40<>\"J\",ASISTENCIA!AF40<>\"V\",ASISTENCIA!AF40<>\"F\",ASISTENCIA!AF40<>\"\"),SUMIF($F$13:$J$13,AL$13,$F41:$J41),\"\")","v":""},{"$f":"IF(AND(LEN($D41)>0,SUMIF($F$13:$J$13,AM$13,$F41:$J41)>0,ASISTENCIA!AG40<>\"X\",ASISTENCIA!AG40<>\"L\",ASISTENCIA!AG40<>\"J\",ASISTENCIA!AG40<>\"V\",ASISTENCIA!AG40<>\"F\",ASISTENCIA!AG40<>\"\"),SUMIF($F$13:$J$13,AM$13,$F41:$J41),\"\")","v":""},{"$f":"IF(AND(LEN($D41)>0,SUMIF($F$13:$J$13,AN$13,$F41:$J41)>0,ASISTENCIA!AH40<>\"X\",ASISTENCIA!AH40<>\"L\",ASISTENCIA!AH40<>\"J\",ASISTENCIA!AH40<>\"V\",ASISTENCIA!AH40<>\"F\",ASISTENCIA!AH40<>\"\"),SUMIF($F$13:$J$13,AN$13,$F41:$J41),\"\")","v":""},{"$f":"IF(AND(LEN($D41)>0,SUMIF($F$13:$J$13,AO$13,$F41:$J41)>0,ASISTENCIA!AI40<>\"X\",ASISTENCIA!AI40<>\"L\",ASISTENCIA!AI40<>\"J\",ASISTENCIA!AI40<>\"V\",ASISTENCIA!AI40<>\"F\",ASISTENCIA!AI40<>\"\"),SUMIF($F$13:$J$13,AO$13,$F41:$J41),\"\")","v":""},{"$f":"IF(AND(LEN($D41)>0,SUMIF($F$13:$J$13,AP$13,$F41:$J41)>0,ASISTENCIA!AJ40<>\"X\",ASISTENCIA!AJ40<>\"L\",ASISTENCIA!AJ40<>\"J\",ASISTENCIA!AJ40<>\"V\",ASISTENCIA!AJ40<>\"F\",ASISTENCIA!AJ40<>\"\"),SUMIF($F$13:$J$13,AP$13,$F41:$J41),\"\")","v":""},{"$f":"IF(AND(LEN($D41)>0,SUMIF($F$13:$J$13,AQ$13,$F41:$J41)>0,ASISTENCIA!AK40<>\"X\",ASISTENCIA!AK40<>\"L\",ASISTENCIA!AK40<>\"J\",ASISTENCIA!AK40<>\"V\",ASISTENCIA!AK40<>\"F\",ASISTENCIA!AK40<>\"\"),SUMIF($F$13:$J$13,AQ$13,$F41:$J41),\"\")","v":""},{"$f":"IF(AND(LEN($D41)>0,SUMIF($F$13:$J$13,AR$13,$F41:$J41)>0,ASISTENCIA!AL40<>\"X\",ASISTENCIA!AL40<>\"L\",ASISTENCIA!AL40<>\"J\",ASISTENCIA!AL40<>\"V\",ASISTENCIA!AL40<>\"F\",ASISTENCIA!AL40<>\"\"),SUMIF($F$13:$J$13,AR$13,$F41:$J41),\"\")","v":""},{"$f":"IF(AND(LEN($D41)>0,SUMIF($F$13:$J$13,AS$13,$F41:$J41)>0,ASISTENCIA!AM40<>\"X\",ASISTENCIA!AM40<>\"L\",ASISTENCIA!AM40<>\"J\",ASISTENCIA!AM40<>\"V\",ASISTENCIA!AM40<>\"F\",ASISTENCIA!AM40<>\"\"),SUMIF($F$13:$J$13,AS$13,$F41:$J41),\"\")","v":""},"",null,null,null,{"$f":"IF(AND(LEN($D41)>0,SUMIF($F$13:$J$13,AX$13,$F41:$J41)>0,ASISTENCIA!AU40<>\"X\",ASISTENCIA!AU40<>\"L\",ASISTENCIA!AU40<>\"J\",ASISTENCIA!AU40<>\"F\"),SUMIF($F$13:$J$13,AX$13,$F41:$J41),\"\")","v":""},{"$f":"IF(AND(LEN($D41)>0,SUMIF($F$13:$J$13,AY$13,$F41:$J41)>0,ASISTENCIA!AV40<>\"X\",ASISTENCIA!AV40<>\"L\",ASISTENCIA!AV40<>\"J\",ASISTENCIA!AV40<>\"F\"),SUMIF($F$13:$J$13,AY$13,$F41:$J41),\"\")","v":""},{"$f":"IF(AND(LEN($D41)>0,SUMIF($F$13:$J$13,AZ$13,$F41:$J41)>0,ASISTENCIA!AW40<>\"X\",ASISTENCIA!AW40<>\"L\",ASISTENCIA!AW40<>\"J\",ASISTENCIA!AW40<>\"F\"),SUMIF($F$13:$J$13,AZ$13,$F41:$J41),\"\")","v":""},{"$f":"IF(AND(LEN($D41)>0,SUMIF($F$13:$J$13,BA$13,$F41:$J41)>0,ASISTENCIA!AX40<>\"X\",ASISTENCIA!AX40<>\"L\",ASISTENCIA!AX40<>\"J\",ASISTENCIA!AX40<>\"F\"),SUMIF($F$13:$J$13,BA$13,$F41:$J41),\"\")","v":""},{"$f":"IF(AND(LEN($D41)>0,SUMIF($F$13:$J$13,BB$13,$F41:$J41)>0,ASISTENCIA!AY40<>\"X\",ASISTENCIA!AY40<>\"L\",ASISTENCIA!AY40<>\"J\",ASISTENCIA!AY40<>\"F\"),SUMIF($F$13:$J$13,BB$13,$F41:$J41),\"\")","v":""},{"$f":"IF(AND(LEN($D41)>0,SUMIF($F$13:$J$13,BC$13,$F41:$J41)>0,ASISTENCIA!AZ40<>\"X\",ASISTENCIA!AZ40<>\"L\",ASISTENCIA!AZ40<>\"J\",ASISTENCIA!AZ40<>\"F\"),SUMIF($F$13:$J$13,BC$13,$F41:$J41),\"\")","v":""},{"$f":"IF(AND(LEN($D41)>0,SUMIF($F$13:$J$13,BD$13,$F41:$J41)>0,ASISTENCIA!BA40<>\"X\",ASISTENCIA!BA40<>\"L\",ASISTENCIA!BA40<>\"J\",ASISTENCIA!BA40<>\"F\"),SUMIF($F$13:$J$13,BD$13,$F41:$J41),\"\")","v":""},{"$f":"IF(AND(LEN($D41)>0,SUMIF($F$13:$J$13,BE$13,$F41:$J41)>0,ASISTENCIA!BB40<>\"X\",ASISTENCIA!BB40<>\"L\",ASISTENCIA!BB40<>\"J\",ASISTENCIA!BB40<>\"F\"),SUMIF($F$13:$J$13,BE$13,$F41:$J41),\"\")","v":""},{"$f":"IF(AND(LEN($D41)>0,SUMIF($F$13:$J$13,BF$13,$F41:$J41)>0,ASISTENCIA!#REF!<>\"X\",ASISTENCIA!#REF!<>\"L\",ASISTENCIA!#REF!<>\"J\",ASISTENCIA!#REF!<>\"F\"),SUMIF($F$13:$J$13,BF$13,$F41:$J41),\"\")","v":{"$error":"#REF!"}},{"$f":"IF(AND(LEN($D41)>0,SUMIF($F$13:$J$13,BG$13,$F41:$J41)>0,ASISTENCIA!#REF!<>\"X\",ASISTENCIA!#REF!<>\"L\",ASISTENCIA!#REF!<>\"J\",ASISTENCIA!#REF!<>\"F\"),SUMIF($F$13:$J$13,BG$13,$F41:$J41),\"\")","v":{"$error":"#REF!"}},{"$f":"IF(AND(LEN($D41)>0,SUMIF($F$13:$J$13,BH$13,$F41:$J41)>0,ASISTENCIA!BE40<>\"X\",ASISTENCIA!BE40<>\"L\",ASISTENCIA!BE40<>\"J\",ASISTENCIA!BE40<>\"F\"),SUMIF($F$13:$J$13,BH$13,$F41:$J41),\"\")","v":""},{"$f":"IF(AND(LEN($D41)>0,SUMIF($F$13:$J$13,BI$13,$F41:$J41)>0,ASISTENCIA!BF40<>\"X\",ASISTENCIA!BF40<>\"L\",ASISTENCIA!BF40<>\"J\",ASISTENCIA!BF40<>\"F\"),SUMIF($F$13:$J$13,BI$13,$F41:$J41),\"\")","v":""},{"$f":"IF(AND(LEN($D41)>0,SUMIF($F$13:$J$13,BJ$13,$F41:$J41)>0,ASISTENCIA!BG40<>\"X\",ASISTENCIA!BG40<>\"L\",ASISTENCIA!BG40<>\"J\",ASISTENCIA!BG40<>\"F\"),SUMIF($F$13:$J$13,BJ$13,$F41:$J41),\"\")","v":""},{"$f":"IF(AND(LEN($D41)>0,SUMIF($F$13:$J$13,BK$13,$F41:$J41)>0,ASISTENCIA!BH40<>\"X\",ASISTENCIA!BH40<>\"L\",ASISTENCIA!BH40<>\"J\",ASISTENCIA!BH40<>\"F\"),SUMIF($F$13:$J$13,BK$13,$F41:$J41),\"\")","v":""},{"$f":"IF(AND(LEN($D41)>0,SUMIF($F$13:$J$13,BL$13,$F41:$J41)>0,ASISTENCIA!BI40<>\"X\",ASISTENCIA!BI40<>\"L\",ASISTENCIA!BI40<>\"J\",ASISTENCIA!BI40<>\"F\"),SUMIF($F$13:$J$13,BL$13,$F41:$J41),\"\")","v":""},{"$f":"IF(AND(LEN($D41)>0,SUMIF($F$13:$J$13,BM$13,$F41:$J41)>0,ASISTENCIA!BJ40<>\"X\",ASISTENCIA!BJ40<>\"L\",ASISTENCIA!BJ40<>\"J\",ASISTENCIA!BJ40<>\"F\"),SUMIF($F$13:$J$13,BM$13,$F41:$J41),\"\")","v":""},{"$f":"IF(AND(LEN($D41)>0,SUMIF($F$13:$J$13,BN$13,$F41:$J41)>0,ASISTENCIA!BK40<>\"X\",ASISTENCIA!BK40<>\"L\",ASISTENCIA!BK40<>\"J\",ASISTENCIA!BK40<>\"F\"),SUMIF($F$13:$J$13,BN$13,$F41:$J41),\"\")","v":""},{"$f":"IF(AND(LEN($D41)>0,SUMIF($F$13:$J$13,BO$13,$F41:$J41)>0,ASISTENCIA!BL40<>\"X\",ASISTENCIA!BL40<>\"L\",ASISTENCIA!BL40<>\"J\",ASISTENCIA!BL40<>\"F\"),SUMIF($F$13:$J$13,BO$13,$F41:$J41),\"\")","v":""},{"$f":"IF(AND(LEN($D41)>0,SUMIF($F$13:$J$13,BP$13,$F41:$J41)>0,ASISTENCIA!BM40<>\"X\",ASISTENCIA!BM40<>\"L\",ASISTENCIA!BM40<>\"J\",ASISTENCIA!BM40<>\"F\"),SUMIF($F$13:$J$13,BP$13,$F41:$J41),\"\")","v":""},{"$f":"IF(AND(LEN($D41)>0,SUMIF($F$13:$J$13,BQ$13,$F41:$J41)>0,ASISTENCIA!BN40<>\"X\",ASISTENCIA!BN40<>\"L\",ASISTENCIA!BN40<>\"J\",ASISTENCIA!BN40<>\"F\"),SUMIF($F$13:$J$13,BQ$13,$F41:$J41),\"\")","v":""},{"$f":"IF(AND(LEN($D41)>0,SUMIF($F$13:$J$13,BR$13,$F41:$J41)>0,ASISTENCIA!BO40<>\"X\",ASISTENCIA!BO40<>\"L\",ASISTENCIA!BO40<>\"J\",ASISTENCIA!BO40<>\"F\"),SUMIF($F$13:$J$13,BR$13,$F41:$J41),\"\")","v":""},{"$f":"IF(AND(LEN($D41)>0,SUMIF($F$13:$J$13,BS$13,$F41:$J41)>0,ASISTENCIA!BP40<>\"X\",ASISTENCIA!BP40<>\"L\",ASISTENCIA!BP40<>\"J\",ASISTENCIA!BP40<>\"F\"),SUMIF($F$13:$J$13,BS$13,$F41:$J41),\"\")","v":""},{"$f":"IF(AND(LEN($D41)>0,SUMIF($F$13:$J$13,BT$13,$F41:$J41)>0,ASISTENCIA!BQ40<>\"X\",ASISTENCIA!BQ40<>\"L\",ASISTENCIA!BQ40<>\"J\",ASISTENCIA!BQ40<>\"F\"),SUMIF($F$13:$J$13,BT$13,$F41:$J41),\"\")","v":""},{"$f":"IF(AND(LEN($D41)>0,SUMIF($F$13:$J$13,BU$13,$F41:$J41)>0,ASISTENCIA!BR40<>\"X\",ASISTENCIA!BR40<>\"L\",ASISTENCIA!BR40<>\"J\",ASISTENCIA!BR40<>\"F\"),SUMIF($F$13:$J$13,BU$13,$F41:$J41),\"\")","v":""},{"$f":"IF(AND(LEN($D41)>0,SUMIF($F$13:$J$13,BV$13,$F41:$J41)>0,ASISTENCIA!BS40<>\"X\",ASISTENCIA!BS40<>\"L\",ASISTENCIA!BS40<>\"J\",ASISTENCIA!BS40<>\"F\"),SUMIF($F$13:$J$13,BV$13,$F41:$J41),\"\")","v":""},{"$f":"IF(AND(LEN($D41)>0,SUMIF($F$13:$J$13,BW$13,$F41:$J41)>0,ASISTENCIA!BT40<>\"X\",ASISTENCIA!BT40<>\"L\",ASISTENCIA!BT40<>\"J\",ASISTENCIA!BT40<>\"F\"),SUMIF($F$13:$J$13,BW$13,$F41:$J41),\"\")","v":""},{"$f":"IF(AND(LEN($D41)>0,SUMIF($F$13:$J$13,BX$13,$F41:$J41)>0,ASISTENCIA!BU40<>\"X\",ASISTENCIA!BU40<>\"L\",ASISTENCIA!BU40<>\"J\",ASISTENCIA!BU40<>\"F\"),SUMIF($F$13:$J$13,BX$13,$F41:$J41),\"\")","v":""},{"$f":"IF(AND(LEN($D41)>0,SUMIF($F$13:$J$13,BY$13,$F41:$J41)>0,ASISTENCIA!BV40<>\"X\",ASISTENCIA!BV40<>\"L\",ASISTENCIA!BV40<>\"J\",ASISTENCIA!BV40<>\"F\"),SUMIF($F$13:$J$13,BY$13,$F41:$J41),\"\")","v":""},{"$f":"IF(AND(LEN($D41)>0,SUMIF($F$13:$J$13,BZ$13,$F41:$J41)>0,ASISTENCIA!BW40<>\"X\",ASISTENCIA!BW40<>\"L\",ASISTENCIA!BW40<>\"J\",ASISTENCIA!BW40<>\"F\"),SUMIF($F$13:$J$13,BZ$13,$F41:$J41),\"\")","v":""},{"$f":"IF(AND(LEN($D41)>0,SUMIF($F$13:$J$13,CA$13,$F41:$J41)>0,ASISTENCIA!BX40<>\"X\",ASISTENCIA!BX40<>\"L\",ASISTENCIA!BX40<>\"J\",ASISTENCIA!BX40<>\"F\"),SUMIF($F$13:$J$13,CA$13,$F41:$J41),\"\")","v":""},{"$f":"IF(AND(LEN($D41)>0,SUMIF($F$13:$J$13,CB$13,$F41:$J41)>0,ASISTENCIA!BY40<>\"X\",ASISTENCIA!BY40<>\"L\",ASISTENCIA!BY40<>\"J\",ASISTENCIA!BY40<>\"F\"),SUMIF($F$13:$J$13,CB$13,$F41:$J41),\"\")","v":""},{"$error":"#REF!"}]
["",{"$f":"IF(LEN(C42)>0,VLOOKUP($O$4,DATA!$A$1:$S$1,2,FALSE),\"\")","v":""},"",{"$f":"IF(LEN(ASISTENCIA!E41)>0,ASISTENCIA!E41,\"\")","v":""},{"$f":"IF(LEN(D42)>0,ASISTENCIA!F41,\"\")","v":""},null,null,null,null,null,"",null,null,{"$error":"#REF!"},{"$f":"IF(AND(LEN($D42)>0,SUMIF($F$13:$J$13,O$13,$F42:$J42)>0,ASISTENCIA!I41<>\"X\",ASISTENCIA!I41<>\"L\",ASISTENCIA!I41<>\"J\",ASISTENCIA!I41<>\"V\",ASISTENCIA!I41<>\"F\",ASISTENCIA!I41<>\"\"),SUMIF($F$13:$J$13,O$13,$F42:$J42),\"\")","v":""},{"$f":"IF(AND(LEN($D42)>0,SUMIF($F$13:$J$13,P$13,$F42:$J42)>0,ASISTENCIA!J41<>\"X\",ASISTENCIA!J41<>\"L\",ASISTENCIA!J41<>\"J\",ASISTENCIA!J41<>\"V\",ASISTENCIA!J41<>\"F\",ASISTENCIA!J41<>\"\"),SUMIF($F$13:$J$13,P$13,$F42:$J42),\"\")","v":""},{"$f":"IF(AND(LEN($D42)>0,SUMIF($F$13:$J$13,Q$13,$F42:$J42)>0,ASISTENCIA!K41<>\"X\",ASISTENCIA!K41<>\"L\",ASISTENCIA!K41<>\"J\",ASISTENCIA!K41<>\"V\",ASISTENCIA!K41<>\"F\",ASISTENCIA!K41<>\"\"),SUMIF($F$13:$J$13,Q$13,$F42:$J42),\"\")","v":""},{"$f":"IF(AND(LEN($D42)>0,SUMIF($F$13:$J$13,R$13,$F42:$J42)>0,ASISTENCIA!L41<>\"X\",ASISTENCIA!L41<>\"L\",ASISTENCIA!L41<>\"J\",ASISTENCIA!L41<>\"V\",ASISTENCIA!L41<>\"F\",ASISTENCIA!L41<>\"\"),SUMIF($F$13:$J$13,R$13,$F42:$J42),\"\")","v":""},{"$f":"IF(AND(LEN($D42)>0,SUMIF($F$13:$J$13,S$13,$F42:$J42)>0,ASISTENCIA!M41<>\"X\",ASISTENCIA!M41<>\"L\",ASISTENCIA!M41<>\"J\",ASISTENCIA!M41<>\"V\",ASISTENCIA!M41<>\"F\",ASISTENCIA!M41<>\"\"),SUMIF($F$13:$J$13,S$13,$F42:$J42),\"\")","v":""},{"$f":"IF(AND(LEN($D42)>0,SUMIF($F$13:$J$13,T$13,$F42:$J42)>0,ASISTENCIA!N41<>\"X\",ASISTENCIA!N41<>\"L\",ASISTENCIA!N41<>\"J\",ASISTENCIA!N41<>\"V\",ASISTENCIA!N41<>\"F\",ASISTENCIA!N41<>\"\"),SUMIF($F$13:$J$13,T$13,$F42:$J42),\"\")","v":""},{"$f":"IF(AND(LEN($D42)>0,SUMIF($F$13:$J$13,U$13,$F42:$J42)>0,ASISTENCIA!O41<>\"X\",ASISTENCIA!O41<>\"L\",ASISTENCIA!O41<>\"J\",ASISTENCIA!O41<>\"V\",ASISTENCIA!O41<>\"F\",ASISTENCIA!O41<>\"\"),SUMIF($F$13:$J$13,U$13,$F42:$J42),\"\")","v":""},{"$f":"IF(AND(LEN($D42)>0,SUMIF($F$13:$J$13,V$13,$F42:$J42)>0,ASISTENCIA!P41<>\"X\",ASISTENCIA!P41<>\"L\",ASISTENCIA!P41<>\"J\",ASISTENCIA!P41<>\"V\",ASISTENCIA!P41<>\"F\",ASISTENCIA!P41<>\"\"),SUMIF($F$13:$J$13,V$13,$F42:$J42),\"\")","v":""},{"$f":"IF(AND(LEN($D42)>0,SUMIF($F$13:$J$13,W$13,$F42:$J42)>0,ASISTENCIA!Q41<>\"X\",ASISTENCIA!Q41<>\"L\",ASISTENCIA!Q41<>\"J\",ASISTENCIA!Q41<>\"V\",ASISTENCIA!Q41<>\"F\",ASISTENCIA!Q41<>\"\"),SUMIF($F$13:$J$13,W$13,$F42:$J42),\"\")","v":""},{"$f":"IF(AND(LEN($D42)>0,SUMIF($F$13:$J$13,X$13,$F42:$J42)>0,ASISTENCIA!R41<>\"X\",ASISTENCIA!R41<>\"L\",ASISTENCIA!R41<>\"J\",ASISTENCIA!R41<>\"V\",ASISTENCIA!R41<>\"F\",ASISTENCIA!R41<>\"\"),SUMIF($F$13:$J$13,X$13,$F42:$J42),\"\")","v":""},{"$f":"IF(AND(LEN($D42)>0,SUMIF($F$13:$J$13,Y$13,$F42:$J42)>0,ASISTENCIA!S41<>\"X\",ASISTENCIA!S41<>\"L\",ASISTENCIA!S41<>\"J\",ASISTENCIA!S41<>\"V\",ASISTENCIA!S41<>\"F\",ASISTENCIA!S41<>\"\"),SUMIF($F$13:$J$13,Y$13,$F42:$J42),\"\")","v":""},{"$f":"IF(AND(LEN($D42)>0,SUMIF($F$13:$J$13,Z$13,$F42:$J42)>0,ASISTENCIA!T41<>\"X\",ASISTENCIA!T41<>\"L\",ASISTENCIA!T41<>\"J\",ASISTENCIA!T41<>\"V\",ASISTENCIA!T41<>\"F\",ASISTENCIA!T41<>\"\"),SUMIF($F$13:$J$13,Z$13,$F42:$J42),\"\")","v":""},{"$f":"IF(AND(LEN($D42)>0,SUMIF($F$13:$J$13,AA$13,$F42:$J42)>0,ASISTENCIA!U41<>\"X\",ASISTENCIA!U41<>\"L\",ASISTENCIA!U41<>\"J\",ASISTENCIA!U41<>\"V\",ASISTENCIA!U41<>\"F\",ASISTENCIA!U41<>\"\"),SUMIF($F$13:$J$13,AA$13,$F42:$J42),\"\")","v":""},{"$f":"IF(AND(LEN($D42)>0,SUMIF($F$13:$J$13,AB$13,$F42:$J42)>0,ASISTENCIA!V41<>\"X\",ASISTENCIA!V41<>\"L\",ASISTENCIA!V41<>\"J\",ASISTENCIA!V41<>\"V\",ASISTENCIA!V41<>\"F\",ASISTENCIA!V41<>\"\"),SUMIF($F$13:$J$13,AB$13,$F42:$J42),\"\")","v":""},{"$f":"IF(AND(LEN($D42)>0,SUMIF($F$13:$J$13,AC$13,$F42:$J42)>0,ASISTENCIA!W41<>\"X\",ASISTENCIA!W41<>\"L\",ASISTENCIA!W41<>\"J\",ASISTENCIA!W41<>\"V\",ASISTENCIA!W41<>\"F\",ASISTENCIA!W41<>\"\"),SUMIF($F$13:$J$13,AC$13,$F42:$J42),\"\")","v":""},{"$f":"IF(AND(LEN($D42)>0,SUMIF($F$13:$J$13,AD$13,$F42:$J42)>0,ASISTENCIA!X41<>\"X\",ASISTENCIA!X41<>\"L\",ASISTENCIA!X41<>\"J\",ASISTENCIA!X41<>\"V\",ASISTENCIA!X41<>\"F\",ASISTENCIA!X41<>\"\"),SUMIF($F$13:$J$13,AD$13,$F42:$J42),\"\")","v":""},{"$f":"IF(AND(LEN($D42)>0,SUMIF($F$13:$J$13,AE$13,$F42:$J42)>0,ASISTENCIA!Y41<>\"X\",ASISTENCIA!Y41<>\"L\",ASISTENCIA!Y41<>\"J\",ASISTENCIA!Y41<>\"V\",ASISTENCIA!Y41<>\"F\",ASISTENCIA!Y41<>\"\"),SUMIF($F$13:$J$13,AE$13,$F42:$J42),\"\")","v":""},{"$f":"IF(AND(LEN($D42)>0,SUMIF($F$13:$J$13,AF$13,$F42:$J42)>0,ASISTENCIA!Z41<>\"X\",ASISTENCIA!Z41<>\"L\",ASISTENCIA!Z41<>\"J\",ASISTENCIA!Z41<>\"V\",ASISTENCIA!Z41<>\"F\",ASISTENCIA!Z41<>\"\"),SUMIF($F$13:$J$13,AF$13,$F42:$J42),\"\")","v":""},{"$f":"IF(AND(LEN($D42)>0,SUMIF($F$13:$J$13,AG$13,$F42:$J42)>0,ASISTENCIA!AA41<>\"X\",ASISTENCIA!AA41<>\"L\",ASISTENCIA!AA41<>\"J\",ASISTENCIA!AA41<>\"V\",ASISTENCIA!AA41<>\"F\",ASISTENCIA!AA41<>\"\"),SUMIF($F$13:$J$13,AG$13,$F42:$J42),\"\")","v":""},{"$f":"IF(AND(LEN($D42)>0,SUMIF($F$13:$J$13,AH$13,$F42:$J42)>0,ASISTENCIA!AB41<>\"X\",ASISTENCIA!AB41<>\"L\",ASISTENCIA!AB41<>\"J\",ASISTENCIA!AB41<>\"V\",ASISTENCIA!AB41<>\"F\",ASISTENCIA!AB41<>\"\"),SUMIF($F$13:$J$13,AH$13,$F42:$J42),\"\")","v":""},{"$f":"IF(AND(LEN($D42)>0,SUMIF($F$13:$J$13,AI$13,$F42:$J42)>0,ASISTENCIA!AC41<>\"X\",ASISTENCIA!AC41<>\"L\",ASISTENCIA!AC41<>\"J\",ASISTENCIA!AC41<>\"V\",ASISTENCIA!AC41<>\"F\",ASISTENCIA!AC41<>\"\"),SUMIF($F$13:$J$13,AI$13,$F42:$J42),\"\")","v":""},{"$f":"IF(AND(LEN($D42)>0,SUMIF($F$13:$J$13,AJ$13,$F42:$J42)>0,ASISTENCIA!AD41<>\"X\",ASISTENCIA!AD41<>\"L\",ASISTENCIA!AD41<>\"J\",ASISTENCIA!AD41<>\"V\",ASISTENCIA!AD41<>\"F\",ASISTENCIA!AD41<>\"\"),SUMIF($F$13:$J$13,AJ$13,$F42:$J42),\"\")","v":""},{"$f":"IF(AND(LEN($D42)>0,SUMIF($F$13:$J$13,AK$13,$F42:$J42)>0,ASISTENCIA!AE41<>\"X\",ASISTENCIA!AE41<>\"L\",ASISTENCIA!AE41<>\"J\",ASISTENCIA!AE41<>\"V\",ASISTENCIA!AE41<>\"F\",ASISTENCIA!AE41<>\"\"),SUMIF($F$13:$J$13,AK$13,$F42:$J42),\"\")","v":""},{"$f":"IF(AND(LEN($D42)>0,SUMIF($F$13:$J$13,AL$13,$F42:$J42)>0,ASISTENCIA!AF41<>\"X\",ASISTENCIA!AF41<>\"L\",ASISTENCIA!AF41<>\"J\",ASISTENCIA!AF41<>\"V\",ASISTENCIA!AF41<>\"F\",ASISTENCIA!AF41<>\"\"),SUMIF($F$13:$J$13,AL$13,$F42:$J42),\"\")","v":""},{"$f":"IF(AND(LEN($D42)>0,SUMIF($F$13:$J$13,AM$13,$F42:$J42)>0,ASISTENCIA!AG41<>\"X\",ASISTENCIA!AG41<>\"L\",ASISTENCIA!AG41<>\"J\",ASISTENCIA!AG41<>\"V\",ASISTENCIA!AG41<>\"F\",ASISTENCIA!AG41<>\"\"),SUMIF($F$13:$J$13,AM$13,$F42:$J42),\"\")","v":""},{"$f":"IF(AND(LEN($D42)>0,SUMIF($F$13:$J$13,AN$13,$F42:$J42)>0,ASISTENCIA!AH41<>\"X\",ASISTENCIA!AH41<>\"L\",ASISTENCIA!AH41<>\"J\",ASISTENCIA!AH41<>\"V\",ASISTENCIA!AH41<>\"F\",ASISTENCIA!AH41<>\"\"),SUMIF($F$13:$J$13,AN$13,$F42:$J42),\"\")","v":""},{"$f":"IF(AND(LEN($D42)>0,SUMIF($F$13:$J$13,AO$13,$F42:$J42)>0,ASISTENCIA!AI41<>\"X\",ASISTENCIA!AI41<>\"L\",ASISTENCIA!AI41<>\"J\",ASISTENCIA!AI41<>\"V\",ASISTENCIA!AI41<>\"F\",ASISTENCIA!AI41<>\"\"),SUMIF($F$13:$J$13,AO$13,$F42:$J42),\"\")","v":""},{"$f":"IF(AND(LEN($D42)>0,SUMIF($F$13:$J$13,AP$13,$F42:$J42)>0,ASISTENCIA!AJ41<>\"X\",ASISTENCIA!AJ41<>\"L\",ASISTENCIA!AJ41<>\"J\",ASISTENCIA!AJ41<>\"V\",ASISTENCIA!AJ41<>\"F\",ASISTENCIA!AJ41<>\"\"),SUMIF($F$13:$J$13,AP$13,$F42:$J42),\"\")","v":""},{"$f":"IF(AND(LEN($D42)>0,SUMIF($F$13:$J$13,AQ$13,$F42:$J42)>0,ASISTENCIA!AK41<>\"X\",ASISTENCIA!AK41<>\"L\",ASISTENCIA!AK41<>\"J\",ASISTENCIA!AK41<>\"V\",ASISTENCIA!AK41<>\"F\",ASISTENCIA!AK41<>\"\"),SUMIF($F$13:$J$13,AQ$13,$F42:$J42),\"\")","v":""},{"$f":"IF(AND(LEN($D42)>0,SUMIF($F$13:$J$13,AR$13,$F42:$J42)>0,ASISTENCIA!AL41<>\"X\",ASISTENCIA!AL41<>\"L\",ASISTENCIA!AL41<>\"J\",ASISTENCIA!AL41<>\"V\",ASISTENCIA!AL41<>\"F\",ASISTENCIA!AL41<>\"\"),SUMIF($F$13:$J$13,AR$13,$F42:$J42),\"\")","v":""},{"$f":"IF(AND(LEN($D42)>0,SUMIF($F$13:$J$13,AS$13,$F42:$J42)>0,ASISTENCIA!AM41<>\"X\",ASISTENCIA!AM41<>\"L\",ASISTENCIA!AM41<>\"J\",ASISTENCIA!AM41<>\"V\",ASISTENCIA!AM41<>\"F\",ASISTENCIA!AM41<>\"\"),SUMIF($F$13:$J$13,AS$13,$F42:$J42),\"\")","v":""},"",null,null,null,{"$f":"IF(AND(LEN($D42)>0,SUMIF($F$13:$J$13,AX$13,$F42:$J42)>0,ASISTENCIA!AU41<>\"X\",ASISTENCIA!AU41<>\"L\",ASISTENCIA!AU41<>\"J\",ASISTENCIA!AU41<>\"F\"),SUMIF($F$13:$J$13,AX$13,$F42:$J42),\"\")","v":""},{"$f":"IF(AND(LEN($D42)>0,SUMIF($F$13:$J$13,AY$13,$F42:$J42)>0,ASISTENCIA!AV41<>\"X\",ASISTENCIA!AV41<>\"L\",ASISTENCIA!AV41<>\"J\",ASISTENCIA!AV41<>\"F\"),SUMIF($F$13:$J$13,AY$13,$F42:$J42),\"\")","v":""},{"$f":"IF(AND(LEN($D42)>0,SUMIF($F$13:$J$13,AZ$13,$F42:$J42)>0,ASISTENCIA!AW41<>\"X\",ASISTENCIA!AW41<>\"L\",ASISTENCIA!AW41<>\"J\",ASISTENCIA!AW41<>\"F\"),SUMIF($F$13:$J$13,AZ$13,$F42:$J42),\"\")","v":""},{"$f":"IF(AND(LEN($D42)>0,SUMIF($F$13:$J$13,BA$13,$F42:$J42)>0,ASISTENCIA!AX41<>\"X\",ASISTENCIA!AX41<>\"L\",ASISTENCIA!AX41<>\"J\",ASISTENCIA!AX41<>\"F\"),SUMIF($F$13:$J$13,BA$13,$F42:$J42),\"\")","v":""},{"$f":"IF(AND(LEN($D42)>0,SUMIF($F$13:$J$13,BB$13,$F42:$J42)>0,ASISTENCIA!AY41<>\"X\",ASISTENCIA!AY41<>\"L\",ASISTENCIA!AY41<>\"J\",ASISTENCIA!AY41<>\"F\"),SUMIF($F$13:$J$13,BB$13,$F42:$J42),\"\")","v":""},{"$f":"IF(AND(LEN($D42)>0,SUMIF($F$13:$J$13,BC$13,$F42:$J42)>0,ASISTENCIA!AZ41<>\"X\",ASISTENCIA!AZ41<>\"L\",ASISTENCIA!AZ41<>\"J\",ASISTENCIA!AZ41<>\"F\"),SUMIF($F$13:$J$13,BC$13,$F42:$J42),\"\")","v":""},{"$f":"IF(AND(LEN($D42)>0,SUMIF($F$13:$J$13,BD$13,$F42:$J42)>0,ASISTENCIA!BA41<>\"X\",ASISTENCIA!BA41<>\"L\",ASISTENCIA!BA41<>\"J\",ASISTENCIA!BA41<>\"F\"),SUMIF($F$13:$J$13,BD$13,$F42:$J42),\"\")","v":""},{"$f":"IF(AND(LEN($D42)>0,SUMIF($F$13:$J$13,BE$13,$F42:$J42)>0,ASISTENCIA!BB41<>\"X\",ASISTENCIA!BB41<>\"L\",ASISTENCIA!BB41<>\"J\",ASISTENCIA!BB41<>\"F\"),SUMIF($F$13:$J$13,BE$13,$F42:$J42),\"\")","v":""},{"$f":"IF(AND(LEN($D42)>0,SUMIF($F$13:$J$13,BF$13,$F42:$J42)>0,ASISTENCIA!#REF!<>\"X\",ASISTENCIA!#REF!<>\"L\",ASISTENCIA!#REF!<>\"J\",ASISTENCIA!#REF!<>\"F\"),SUMIF($F$13:$J$13,BF$13,$F42:$J42),\"\")","v":{"$error":"#REF!"}},{"$f":"IF(AND(LEN($D42)>0,SUMIF($F$13:$J$13,BG$13,$F42:$J42)>0,ASISTENCIA!#REF!<>\"X\",ASISTENCIA!#REF!<>\"L\",ASISTENCIA!#REF!<>\"J\",ASISTENCIA!#REF!<>\"F\"),SUMIF($F$13:$J$13,BG$13,$F42:$J42),\"\")","v":{"$error":"#REF!"}},{"$f":"IF(AND(LEN($D42)>0,SUMIF($F$13:$J$13,BH$13,$F42:$J42)>0,ASISTENCIA!BE41<>\"X\",ASISTENCIA!BE41<>\"L\",ASISTENCIA!BE41<>\"J\",ASISTENCIA!BE41<>\"F\"),SUMIF($F$13:$J$13,BH$13,$F42:$J42),\"\")","v":""},{"$f":"IF(AND(LEN($D42)>0,SUMIF($F$13:$J$13,BI$13,$F42:$J42)>0,ASISTENCIA!BF41<>\"X\",ASISTENCIA!BF41<>\"L\",ASISTENCIA!BF41<>\"J\",ASISTENCIA!BF41<>\"F\"),SUMIF($F$13:$J$13,BI$13,$F42:$J42),\"\")","v":""},{"$f":"IF(AND(LEN($D42)>0,SUMIF($F$13:$J$13,BJ$13,$F42:$J42)>0,ASISTENCIA!BG41<>\"X\",ASISTENCIA!BG41<>\"L\",ASISTENCIA!BG41<>\"J\",ASISTENCIA!BG41<>\"F\"),SUMIF($F$13:$J$13,BJ$13,$F42:$J42),\"\")","v":""},{"$f":"IF(AND(LEN($D42)>0,SUMIF($F$13:$J$13,BK$13,$F42:$J42)>0,ASISTENCIA!BH41<>\"X\",ASISTENCIA!BH41<>\"L\",ASISTENCIA!BH41<>\"J\",ASISTENCIA!BH41<>\"F\"),SUMIF($F$13:$J$13,BK$13,$F42:$J42),\"\")","v":""},{"$f":"IF(AND(LEN($D42)>0,SUMIF($F$13:$J$13,BL$13,$F42:$J42)>0,ASISTENCIA!BI41<>\"X\",ASISTENCIA!BI41<>\"L\",ASISTENCIA!BI41<>\"J\",ASISTENCIA!BI41<>\"F\"),SUMIF($F$13:$J$13,BL$13,$F42:$J42),\"\")","v":""},{"$f":"IF(AND(LEN($D42)>0,SUMIF($F$13:$J$13,BM$13,$F42:$J42)>0,ASISTENCIA!BJ41<>\"X\",ASISTENCIA!BJ41<>\"L\",ASISTENCIA!BJ41<>\"J\",ASISTENCIA!BJ41<>\"F\"),SUMIF($F$13:$J$13,BM$13,$F42:$J42),\"\")","v":""},{"$f":"IF(AND(LEN($D42)>0,SUMIF($F$13:$J$13,BN$13,$F42:$J42)>0,ASISTENCIA!BK41<>\"X\",ASISTENCIA!BK41<>\"L\",ASISTENCIA!BK41<>\"J\",ASISTENCIA!BK41<>\"F\"),SUMIF($F$13:$J$13,BN$13,$F42:$J42),\"\")","v":""},{"$f":"IF(AND(LEN($D42)>0,SUMIF($F$13:$J$13,BO$13,$F42:$J42)>0,ASISTENCIA!BL41<>\"X\",ASISTENCIA!BL41<>\"L\",ASISTENCIA!BL41<>\"J\",ASISTENCIA!BL41<>\"F\"),SUMIF($F$13:$J$13,BO$13,$F42:$J42),\"\")","v":""},{"$f":"IF(AND(LEN($D42)>0,SUMIF($F$13:$J$13,BP$13,$F42:$J42)>0,ASISTENCIA!BM41<>\"X\",ASISTENCIA!BM41<>\"L\",ASISTENCIA!BM41<>\"J\",ASISTENCIA!BM41<>\"F\"),SUMIF($F$13:$J$13,BP$13,$F42:$J42),\"\")","v":""},{"$f":"IF(AND(LEN($D42)>0,SUMIF($F$13:$J$13,BQ$13,$F42:$J42)>0,ASISTENCIA!BN41<>\"X\",ASISTENCIA!BN41<>\"L\",ASISTENCIA!BN41<>\"J\",ASISTENCIA!BN41<>\"F\"),SUMIF($F$13:$J$13,BQ$13,$F42:$J42),\"\")","v":""},{"$f":"IF(AND(LEN($D42)>0,SUMIF($F$13:$J$13,BR$13,$F42:$J42)>0,ASISTENCIA!BO41<>\"X\",ASISTENCIA!BO41<>\"L\",ASISTENCIA!BO41<>\"J\",ASISTENCIA!BO41<>\"F\"),SUMIF($F$13:$J$13,BR$13,$F42:$J42),\"\")","v":""},{"$f":"IF(AND(LEN($D42)>0,SUMIF($F$13:$J$13,BS$13,$F42:$J42)>0,ASISTENCIA!BP41<>\"X\",ASISTENCIA!BP41<>\"L\",ASISTENCIA!BP41<>\"J\",ASISTENCIA!BP41<>\"F\"),SUMIF($F$13:$J$13,BS$13,$F42:$J42),\"\")","v":""},{"$f":"IF(AND(LEN($D42)>0,SUMIF($F$13:$J$13,BT$13,$F42:$J42)>0,ASISTENCIA!BQ41<>\"X\",ASISTENCIA!BQ41<>\"L\",ASISTENCIA!BQ41<>\"J\",ASISTENCIA!BQ41<>\"F\"),SUMIF($F$13:$J$13,BT$13,$F42:$J42),\"\")","v":""},{"$f":"IF(AND(LEN($D42)>0,SUMIF($F$13:$J$13,BU$13,$F42:$J42)>0,ASISTENCIA!BR41<>\"X\",ASISTENCIA!BR41<>\"L\",ASISTENCIA!BR41<>\"J\",ASISTENCIA!BR41<>\"F\"),SUMIF($F$13:$J$13,BU$13,$F42:$J42),\"\")","v":""},{"$f":"IF(AND(LEN($D42)>0,SUMIF($F$13:$J$13,BV$13,$F42:$J42)>0,ASISTENCIA!BS41<>\"X\",ASISTENCIA!BS41<>\"L\",ASISTENCIA!BS41<>\"J\",ASISTENCIA!BS41<>\"F\"),SUMIF($F$13:$J$13,BV$13,$F42:$J42),\"\")","v":""},{"$f":"IF(AND(LEN($D42)>0,SUMIF($F$13:$J$13,BW$13,$F42:$J42)>0,ASISTENCIA!BT41<>\"X\",ASISTENCIA!BT41<>\"L\",ASISTENCIA!BT41<>\"J\",ASISTENCIA!BT41<>\"F\"),SUMIF($F$13:$J$13,BW$13,$F42:$J42),\"\")","v":""},{"$f":"IF(AND(LEN($D42)>0,SUMIF($F$13:$J$13,BX$13,$F42:$J42)>0,ASISTENCIA!BU41<>\"X\",ASISTENCIA!BU41<>\"L\",ASISTENCIA!BU41<>\"J\",ASISTENCIA!BU41<>\"F\"),SUMIF($F$13:$J$13,BX$13,$F42:$J42),\"\")","v":""},{"$f":"IF(AND(LEN($D42)>0,SUMIF($F$13:$J$13,BY$13,$F42:$J42)>0,ASISTENCIA!BV41<>\"X\",ASISTENCIA!BV41<>\"L\",ASISTENCIA!BV41<>\"J\",ASISTENCIA!BV41<>\"F\"),SUMIF($F$13:$J$13,BY$13,$F42:$J42),\"\")","v":""},{"$f":"IF(AND(LEN($D42)>0,SUMIF($F$13:$J$13,BZ$13,$F42:$J42)>0,ASISTENCIA!BW41<>\"X\",ASISTENCIA!BW41<>\"L\",ASISTENCIA!BW41<>\"J\",ASISTENCIA!BW41<>\"F\"),SUMIF($F$13:$J$13,BZ$13,$F42:$J42),\"\")","v":""},{"$f":"IF(AND(LEN($D42)>0,SUMIF($F$13:$J$13,CA$13,$F42:$J42)>0,ASISTENCIA!BX41<>\"X\",ASISTENCIA!BX41<>\"L\",ASISTENCIA!BX41<>\"J\",ASISTENCIA!BX41<>\"F\"),SUMIF($F$13:$J$13,CA$13,$F42:$J42),\"\")","v":""},{"$f":"IF(AND(LEN($D42)>0,SUMIF($F$13:$J$13,CB$13,$F42:$J42)>0,ASISTENCIA!BY41<>\"X\",ASISTENCIA!BY41<>\"L\",ASISTENCIA!BY41<>\"J\",ASISTENCIA!BY41<>\"F\"),SUMIF($F$13:$J$13,CB$13,$F42:$J42),\"\")","v":""},{"$error":"#REF!"}]
[{"$error":"#REF!"},{"$f":"IF(LEN(C43)>0,VLOOKUP($O$4,DATA!$A$1:$S$1,2,FALSE),\"\")","v":{"$error":"#REF!"}},{"$error":"#REF!"},{"$f":"IF(LEN(ASISTENCIA!#REF!)>0,ASISTENCIA!#REF!,\"\")","v":{"$error":"#REF!"}},{"$f":"IF(LEN(D43)>0,ASISTENCIA!#REF!,\"\")","v":{"$error":"#REF!"}},null,null,null,null,null,"",null,null,{"$error":"#REF!"},{"$f":"IF(AND(LEN($D43)>0,SUMIF($F$13:$J$13,O$13,$F43:$J43)>0,ASISTENCIA!#REF!<>\"X\",ASISTENCIA!#REF!<>\"L\",ASISTENCIA!#REF!<>\"J\",ASISTENCIA!#REF!<>\"V\",ASISTENCIA!#REF!<>\"F\",ASISTENCIA!#REF!<>\"\"),SUMIF($F$13:$J$13,O$13,$F43:$J43),\"\")","v":{"$error":"#REF!"}},{"$f":"IF(AND(LEN($D43)>0,SUMIF($F$13:$J$13,P$13,$F43:$J43)>0,ASISTENCIA!#REF!<>\"X\",ASISTENCIA!#REF!<>\"L\",ASISTENCIA!#REF!<>\"J\",ASISTENCIA!#REF!<>\"V\",ASISTENCIA!#REF!<>\"F\",ASISTENCIA!#REF!<>\"\"),SUMIF($F$13:$J$13,P$13,$F43:$J43),\"\")","v":{"$error":"#REF!"}},{"$f":"IF(AND(LEN($D43)>0,SUMIF($F$13:$J$13,Q$13,$F43:$J43)>0,ASISTENCIA!#REF!<>\"X\",ASISTENCIA!#REF!<>\"L\",ASISTENCIA!#REF!<>\"J\",ASISTENCIA!#REF!<>\"V\",ASISTENCIA!#REF!<>\"F\",ASISTENCIA!#REF!<>\"\"),SUMIF($F$13:$J$13,Q$13,$F43:$J43),\"\")","v":{"$error":"#REF!"}},{"$f":"IF(AND(LEN($D43)>0,SUMIF($F$13:$J$13,R$13,$F43:$J43)>0,ASISTENCIA!#REF!<>\"X\",ASISTENCIA!#REF!<>\"L\",ASISTENCIA!#REF!<>\"J\",ASISTENCIA!#REF!<>\"V\",ASISTENCIA!#REF!<>\"F\",ASISTENCIA!#REF!<>\"\"),SUMIF($F$13:$J$13,R$13,$F43:$J43),\"\")","v":{"$error":"#REF!"}},{"$f":"IF(AND(LEN($D43)>0,SUMIF($F$13:$J$13,S$13,$F43:$J43)>0,ASISTENCIA!#REF!<>\"X\",ASISTENCIA!#REF!<>\"L\",ASISTENCIA!#REF!<>\"J\",ASISTENCIA!#REF!<>\"V\",ASISTENCIA!#REF!<>\"F\",ASISTENCIA!#REF!<>\"\"),SUMIF($F$13:$J$13,S$13,$F43:$J43),\"\")","v":{"$error":"#REF!"}},{"$f":"IF(AND(LEN($D43)>0,SUMIF($F$13:$J$13,T$13,$F43:$J43)>0,ASISTENCIA!#REF!<>\"X\",ASISTENCIA!#REF!<>\"L\",ASISTENCIA!#REF!<>\"J\",ASISTENCIA!#REF!<>\"V\",ASISTENCIA!#REF!<>\"F\",ASISTENCIA!#REF!<>\"\"),SUMIF($F$13:$J$13,T$13,$F43:$J43),\"\")","v":{"$error":"#REF!"}},{"$f":"IF(AND(LEN($D43)>0,SUMIF($F$13:$J$13,U$13,$F43:$J43)>0,ASISTENCIA!#REF!<>\"X\",ASISTENCIA!#REF!<>\"L\",ASISTENCIA!#REF!<>\"J\",ASISTENCIA!#REF!<>\"V\",ASISTENCIA!#REF!<>\"F\",ASISTENCIA!#REF!<>\"\"),SUMIF($F$13:$J$13,U$13,$F43:$J43),\"\")","v":{"$error":"#REF!"}},{"$f":"IF(AND(LEN($D43)>0,SUMIF($F$13:$J$13,V$13,$F43:$J43)>0,ASISTENCIA!#REF!<>\"X\",ASISTENCIA!#REF!<>\"L\",ASISTENCIA!#REF!<>\"J\",ASISTENCIA!#REF!<>\"V\",ASISTENCIA!#REF!<>\"F\",ASISTENCIA!#REF!<>\"\"),SUMIF($F$13:$J$13,V$13,$F43:$J43),\"\")","v":{"$error":"#REF!"}},{"$f":"IF(AND(LEN($D43)>0,SUMIF($F$13:$J$13,W$13,$F43:$J43)>0,ASISTENCIA!#REF!<>\"X\",ASISTENCIA!#REF!<>\"L\",ASISTENCIA!#REF!<>\"J\",ASISTENCIA!#REF!<>\"V\",ASISTENCIA!#REF!<>\"F\",ASISTENCIA!#REF!<>\"\"),SUMIF($F$13:$J$13,W$13,$F43:$J43),\"\")","v":{"$error":"#REF!"}},{"$f":"IF(AND(LEN($D43)>0,SUMIF($F$13:$J$13,X$13,$F43:$J43)>0,ASISTENCIA!#REF!<>\"X\",ASISTENCIA!#REF!<>\"L\",ASISTENCIA!#REF!<>\"J\",ASISTENCIA!#REF!<>\"V\",ASISTENCIA!#REF!<>\"F\",ASISTENCIA!#REF!<>\"\"),SUMIF($F$13:$J$13,X$13,$F43:$J43),\"\")","v":{"$error":"#REF!"}},{"$f":"IF(AND(LEN($D43)>0,SUMIF($F$13:$J$13,Y$13,$F43:$J43)>0,ASISTENCIA!#REF!<>\"X\",ASISTENCIA!#REF!<>\"L\",ASISTENCIA!#REF!<>\"J\",ASISTENCIA!#REF!<>\"V\",ASISTENCIA!#REF!<>\"F\",ASISTENCIA!#REF!<>\"\"),SUMIF($F$13:$J$13,Y$13,$F43:$J43),\"\")","v":{"$error":"#REF!"}},{"$f":"IF(AND(LEN($D43)>0,SUMIF($F$13:$J$13,Z$13,$F43:$J43)>0,ASISTENCIA!#REF!<>\"X\",ASISTENCIA!#REF!<>\"L\",ASISTENCIA!#REF!<>\"J\",ASISTENCIA!#REF!<>\"V\",ASISTENCIA!#REF!<>\"F\",ASISTENCIA!#REF!<>\"\"),SUMIF($F$13:$J$13,Z$13,$F43:$J43),\"\")","v":{"$error":"#REF!"}},{"$f":"IF(AND(LEN($D43)>0,SUMIF($F$13:$J$13,AA$13,$F43:$J43)>0,ASISTENCIA!#REF!<>\"X\",ASISTENCIA!#REF!<>\"L\",ASISTENCIA!#REF!<>\"J\",ASISTENCIA!#REF!<>\"V\",ASISTENCIA!#REF!<>\"F\",ASISTENCIA!#REF!<>\"\"),SUMIF($F$13:$J$13,AA$13,$F43:$J43),\"\")","v":{"$error":"#REF!"}},{"$f":"IF(AND(LEN($D43)>0,SUMIF($F$13:$J$13,AB$13,$F43:$J43)>0,ASISTENCIA!#REF!<>\"X\",ASISTENCIA!#REF!<>\"L\",ASISTENCIA!#REF!<>\"J\",ASISTENCIA!#REF!<>\"V\",ASISTENCIA!#REF!<>\"F\",ASISTENCIA!#REF!<>\"\"),SUMIF($F$13:$J$13,AB$13,$F43:$J43),\"\")","v":{"$error":"#REF!"}},{"$f":"IF(AND(LEN($D43)>0,SUMIF($F$13:$J$13,AC$13,$F43:$J43)>0,ASISTENCIA!#REF!<>\"X\",ASISTENCIA!#REF!<>\"L\",ASISTENCIA!#REF!<>\"J\",ASISTENCIA!#REF!<>\"V\",ASISTENCIA!#REF!<>\"F\",ASISTENCIA!#REF!<>\"\"),SUMIF($F$13:$J$13,AC$13,$F43:$J43),\"\")","v":{"$error":"#REF!"}},{"$f":"IF(AND(LEN($D43)>0,SUMIF($F$13:$J$13,AD$13,$F43:$J43)>0,ASISTENCIA!#REF!<>\"X\",ASISTENCIA!#REF!<>\"L\",ASISTENCIA!#REF!<>\"J\",ASISTENCIA!#REF!<>\"V\",ASISTENCIA!#REF!<>\"F\",ASISTENCIA!#REF!<>\"\"),SUMIF($F$13:$J$13,AD$13,$F43:$J43),\"\")","v":{"$error":"#REF!"}},{"$f":"IF(AND(LEN($D43)>0,SUMIF($F$13:$J$13,AE$13,$F43:$J43)>0,ASISTENCIA!#REF!<>\"X\",ASISTENCIA!#REF!<>\"L\",ASISTENCIA!#REF!<>\"J\",ASISTENCIA!#REF!<>\"V\",ASISTENCIA!#REF!<>\"F\",ASISTENCIA!#REF!<>\"\"),SUMIF($F$13:$J$13,AE$13,$F43:$J43),\"\")","v":{"$error":"#REF!"}},{"$f":"IF(AND(LEN($D43)>0,SUMIF($F$13:$J$13,AF$13,$F43:$J43)>0,ASISTENCIA!#REF!<>\"X\",ASISTENCIA!#REF!<>\"L\",ASISTENCIA!#REF!<>\"J\",ASISTENCIA!#REF!<>\"V\",ASISTENCIA!#REF!<>\"F\",ASISTENCIA!#REF!<>\"\"),SUMIF($F$13:$J$13,AF$13,$F43:$J43),\"\")","v":{"$error":"#REF!"}},{"$f":"IF(AND(LEN($D43)>0,SUMIF($F$13:$J$13,AG$13,$F43:$J43)>0,ASISTENCIA!#REF!<>\"X\",ASISTENCIA!#REF!<>\"L\",ASISTENCIA!#REF!<>\"J\",ASISTENCIA!#REF!<>\"V\",ASISTENCIA!#REF!<>\"F\",ASISTENCIA!#REF!<>\"\"),SUMIF($F$13:$J$13,AG$13,$F43:$J43),\"\")","v":{"$error":"#REF!"}},{"$f":"IF(AND(LEN($D43)>0,SUMIF($F$13:$J$13,AH$13,$F43:$J43)>0,ASISTENCIA!#REF!<>\"X\",ASISTENCIA!#REF!<>\"L\",ASISTENCIA!#REF!<>\"J\",ASISTENCIA!#REF!<>\"V\",ASISTENCIA!#REF!<>\"F\",ASISTENCIA!#REF!<>\"\"),SUMIF($F$13:$J$13,AH$13,$F43:$J43),\"\")","v":{"$error":"#REF!"}},{"$f":"IF(AND(LEN($D43)>0,SUMIF($F$13:$J$13,AI$13,$F43:$J43)>0,ASISTENCIA!#REF!<>\"X\",ASISTENCIA!#REF!<>\"L\",ASISTENCIA!#REF!<>\"J\",ASISTENCIA!#REF!<>\"V\",ASISTENCIA!#REF!<>\"F\",ASISTENCIA!#REF!<>\"\"),SUMIF($F$13:$J$13,AI$13,$F43:$J43),\"\")","v":{"$error":"#REF!"}},{"$f":"IF(AND(LEN($D43)>0,SUMIF($F$13:$J$13,AJ$13,$F43:$J43)>0,ASISTENCIA!#REF!<>\"X\",ASISTENCIA!#REF!<>\"L\",ASISTENCIA!#REF!<>\"J\",ASISTENCIA!#REF!<>\"V\",ASISTENCIA!#REF!<>\"F\",ASISTENCIA!#REF!<>\"\"),SUMIF($F$13:$J$13,AJ$13,$F43:$J43),\"\")","v":{"$error":"#REF!"}},{"$f":"IF(AND(LEN($D43)>0,SUMIF($F$13:$J$13,AK$13,$F43:$J43)>0,ASISTENCIA!#REF!<>\"X\",ASISTENCIA!#REF!<>\"L\",ASISTENCIA!#REF!<>\"J\",ASISTENCIA!#REF!<>\"V\",ASISTENCIA!#REF!<>\"F\",ASISTENCIA!#REF!<>\"\"),SUMIF($F$13:$J$13,AK$13,$F43:$J43),\"\")","v":{"$error":"#REF!"}},{"$f":"IF(AND(LEN($D43)>0,SUMIF($F$13:$J$13,AL$13,$F43:$J43)>0,ASISTENCIA!#REF!<>\"X\",ASISTENCIA!#REF!<>\"L\",ASISTENCIA!#REF!<>\"J\",ASISTENCIA!#REF!<>\"V\",ASISTENCIA!#REF!<>\"F\",ASISTENCIA!#REF!<>\"\"),SUMIF($F$13:$J$13,AL$13,$F43:$J43),\"\")","v":{"$error":"#REF!"}},{"$f":"IF(AND(LEN($D43)>0,SUMIF($F$13:$J$13,AM$13,$F43:$J43)>0,ASISTENCIA!#REF!<>\"X\",ASISTENCIA!#REF!<>\"L\",ASISTENCIA!#REF!<>\"J\",ASISTENCIA!#REF!<>\"V\",ASISTENCIA!#REF!<>\"F\",ASISTENCIA!#REF!<>\"\"),SUMIF($F$13:$J$13,AM$13,$F43:$J43),\"\")","v":{"$error":"#REF!"}},{"$f":"IF(AND(LEN($D43)>0,SUMIF($F$13:$J$13,AN$13,$F43:$J43)>0,ASISTENCIA!#REF!<>\"X\",ASISTENCIA!#REF!<>\"L\",ASISTENCIA!#REF!<>\"J\",ASISTENCIA!#REF!<>\"V\",ASISTENCIA!#REF!<>\"F\",ASISTENCIA!#REF!<>\"\"),SUMIF($F$13:$J$13,AN$13,$F43:$J43),\"\")","v":{"$error":"#REF!"}},{"$f":"IF(AND(LEN($D43)>0,SUMIF($F$13:$J$13,AO$13,$F43:$J43)>0,ASISTENCIA!#REF!<>\"X\",ASISTENCIA!#REF!<>\"L\",ASISTENCIA!#REF!<>\"J\",ASISTENCIA!#REF!<>\"V\",ASISTENCIA!#REF!<>\"F\",ASISTENCIA!#REF!<>\"\"),SUMIF($F$13:$J$13,AO$13,$F43:$J43),\"\")","v":{"$error":"#REF!"}},{"$f":"IF(AND(LEN($D43)>0,SUMIF($F$13:$J$13,AP$13,$F43:$J43)>0,ASISTENCIA!#REF!<>\"X\",ASISTENCIA!#REF!<>\"L\",ASISTENCIA!#REF!<>\"J\",ASISTENCIA!#REF!<>\"V\",ASISTENCIA!#REF!<>\"F\",ASISTENCIA!#REF!<>\"\"),SUMIF($F$13:$J$13,AP$13,$F43:$J43),\"\")","v":{"$error":"#REF!"}},{"$f":"IF(AND(LEN($D43)>0,SUMIF($F$13:$J$13,AQ$13,$F43:$J43)>0,ASISTENCIA!#REF!<>\"X\",ASISTENCIA!#REF!<>\"L\",ASISTENCIA!#REF!<>\"J\",ASISTENCIA!#REF!<>\"V\",ASISTENCIA!#REF!<>\"F\",ASISTENCIA!#REF!<>\"\"),SUMIF($F$13:$J$13,AQ$13,$F43:$J43),\"\")","v":{"$error":"#REF!"}},{"$f":"IF(AND(LEN($D43)>0,SUMIF($F$13:$J$13,AR$13,$F43:$J43)>0,ASISTENCIA!#REF!<>\"X\",ASISTENCIA!#REF!<>\"L\",ASISTENCIA!#REF!<>\"J\",ASISTENCIA!#REF!<>\"V\",ASISTENCIA!#REF!<>\"F\",ASISTENCIA!#REF!<>\"\"),SUMIF($F$13:$J$13,AR$13,$F43:$J43),\"\")","v":{"$error":"#REF!"}},{"$f":"IF(AND(LEN($D43)>0,SUMIF($F$13:$J$13,AS$13,$F43:$J43)>0,ASISTENCIA!#REF!<>\"X\",ASISTENCIA!#REF!<>\"L\",ASISTENCIA!#REF!<>\"J\",ASISTENCIA!#REF!<>\"V\",ASISTENCIA!#REF!<>\"F\",ASISTENCIA!#REF!<>\"\"),SUMIF($F$13:$J$13,AS$13,$F43:$J43),\"\")","v":{"$error":"#REF!"}},{"$error":"#REF!"},null,null,null,{"$f":"IF(AND(LEN($D43)>0,SUMIF($F$13:$J$13,AX$13,$F43:$J43)>0,ASISTENCIA!#REF!<>\"X\",ASISTENCIA!#REF!<>\"L\",ASISTENCIA!#REF!<>\"J\",ASISTENCIA!#REF!<>\"F\"),SUMIF($F$13:$J$13,AX$13,$F43:$J43),\"\")","v":{"$error":"#REF!"}},{"$f":"IF(AND(LEN($D43)>0,SUMIF($F$13:$J$13,AY$13,$F43:$J43)>0,ASISTENCIA!#REF!<>\"X\",ASISTENCIA!#REF!<>\"L\",ASISTENCIA!#REF!<>\"J\",ASISTENCIA!#REF!<>\"F\"),SUMIF($F$13:$J$13,AY$13,$F43:$J43),\"\")","v":{"$error":"#REF!"}},{"$f":"IF(AND(LEN($D43)>0,SUMIF($F$13:$J$13,AZ$13,$F43:$J43)>0,ASISTENCIA!#REF!<>\"X\",ASISTENCIA!#REF!<>\"L\",ASISTENCIA!#REF!<>\"J\",ASISTENCIA!#REF!<>\"F\"),SUMIF($F$13:$J$13,AZ$13,$F43:$J43),\"\")","v":{"$error":"#REF!"}},{"$f":"IF(AND(LEN($D43)>0,SUMIF($F$13:$J$13,BA$13,$F43:$J43)>0,ASISTENCIA!#REF!<>\"X\",ASISTENCIA!#REF!<>\"L\",ASISTENCIA!#REF!<>\"J\",ASISTENCIA!#REF!<>\"F\"),SUMIF($F$13:$J$13,BA$13,$F43:$J43),\"\")","v":{"$error":"#REF!"}},{"$f":"IF(AND(LEN($D43)>0,SUMIF($F$13:$J$13,BB$13,$F43:$J43)>0,ASISTENCIA!#REF!<>\"X\",ASISTENCIA!#REF!<>\"L\",ASISTENCIA!#REF!<>\"J\",ASISTENCIA!#REF!<>\"F\"),SUMIF($F$13:$J$13,BB$13,$F43:$J43),\"\")","v":{"$error":"#REF!"}},{"$f":"IF(AND(LEN($D43)>0,SUMIF($F$13:$J$13,BC$13,$F43:$J43)>0,ASISTENCIA!#REF!<>\"X\",ASISTENCIA!#REF!<>\"L\",ASISTENCIA!#REF!<>\"J\",ASISTENCIA!#REF!<>\"F\"),SUMIF($F$13:$J$13,BC$13,$F43:$J43),\"\")","v":{"$error":"#REF!"}},{"$f":"IF(AND(LEN($D43)>0,SUMIF($F$13:$J$13,BD$13,$F43:$J43)>0,ASISTENCIA!#REF!<>\"X\",ASISTENCIA!#REF!<>\"L\",ASISTENCIA!#REF!<>\"J\",ASISTENCIA!#REF!<>\"F\"),SUMIF($F$13:$J$13,BD$13,$F43:$J43),\"\")","v":{"$error":"#REF!"}},{"$f":"IF(AND(LEN($D43)>0,SUMIF($F$13:$J$13,BE$13,$F43:$J43)>0,ASISTENCIA!#REF!<>\"X\",ASISTENCIA!#REF!<>\"L\",ASISTENCIA!#REF!<>\"J\",ASISTENCIA!#REF!<>\"F\"),SUMIF($F$13:$J$13,BE$13,$F43:$J43),\"\")","v":{"$error":"#REF!"}},{"$f":"IF(AND(LEN($D43)>0,SUMIF($F$13:$J$13,BF$13,$F43:$J43)>0,ASISTENCIA!#REF!<>\"X\",ASISTENCIA!#REF!<>\"L\",ASISTENCIA!#REF!<>\"J\",ASISTENCIA!#REF!<>\"F\"),SUMIF($F$13:$J$13,BF$13,$F43:$J43),\"\")","v":{"$error":"#REF!"}},{"$f":"IF(AND(LEN($D43)>0,SUMIF($F$13:$J$13,BG$13,$F43:$J43)>0,ASISTENCIA!#REF!<>\"X\",ASISTENCIA!#REF!<>\"L\",ASISTENCIA!#REF!<>\"J\",ASISTENCIA!#REF!<>\"F\"),SUMIF($F$13:$J$13,BG$13,$F43:$J43),\"\")","v":{"$error":"#REF!"}},{"$f":"IF(AND(LEN($D43)>0,SUMIF($F$13:$J$13,BH$13,$F43:$J43)>0,ASISTENCIA!#REF!<>\"X\",ASISTENCIA!#REF!<>\"L\",ASISTENCIA!#REF!<>\"J\",ASISTENCIA!#REF!<>\"F\"),SUMIF($F$13:$J$13,BH$13,$F43:$J43),\"\")","v":{"$error":"#REF!"}},{"$f":"IF(AND(LEN($D43)>0,SUMIF($F$13:$J$13,BI$13,$F43:$J43)>0,ASISTENCIA!#REF!<>\"X\",ASISTENCIA!#REF!<>\"L\",ASISTENCIA!#REF!<>\"J\",ASISTENCIA!#REF!<>\"F\"),SUMIF($F$13:$J$13,BI$13,$F43:$J43),\"\")","v":{"$error":"#REF!"}},{"$f":"IF(AND(LEN($D43)>0,SUMIF($F$13:$J$13,BJ$13,$F43:$J43)>0,ASISTENCIA!#REF!<>\"X\",ASISTENCIA!#REF!<>\"L\",ASISTENCIA!#REF!<>\"J\",ASISTENCIA!#REF!<>\"F\"),SUMIF($F$13:$J$13,BJ$13,$F43:$J43),\"\")","v":{"$error":"#REF!"}},{"$f":"IF(AND(LEN($D43)>0,SUMIF($F$13:$J$13,BK$13,$F43:$J43)>0,ASISTENCIA!#REF!<>\"X\",ASISTENCIA!#REF!<>\"L\",ASISTENCIA!#REF!<>\"J\",ASISTENCIA!#REF!<>\"F\"),SUMIF($F$13:$J$13,BK$13,$F43:$J43),\"\")","v":{"$error":"#REF!"}},{"$f":"IF(AND(LEN($D43)>0,SUMIF($F$13:$J$13,BL$13,$F43:$J43)>0,ASISTENCIA!#REF!<>\"X\",ASISTENCIA!#REF!<>\"L\",ASISTENCIA!#REF!<>\"J\",ASISTENCIA!#REF!<>\"F\"),SUMIF($F$13:$J$13,BL$13,$F43:$J43),\"\")","v":{"$error":"#REF!"}},{"$f":"IF(AND(LEN($D43)>0,SUMIF($F$13:$J$13,BM$13,$F43:$J43)>0,ASISTENCIA!#REF!<>\"X\",ASISTENCIA!#REF!<>\"L\",ASISTENCIA!#REF!<>\"J\",ASISTENCIA!#REF!<>\"F\"),SUMIF($F$13:$J$13,BM$13,$F43:$J43),\"\")","v":{"$error":"#REF!"}},{"$f":"IF(AND(LEN($D43)>0,SUMIF($F$13:$J$13,BN$13,$F43:$J43)>0,ASISTENCIA!#REF!<>\"X\",ASISTENCIA!#REF!<>\"L\",ASISTENCIA!#REF!<>\"J\",ASISTENCIA!#REF!<>\"F\"),SUMIF($F$13:$J$13,BN$13,$F43:$J43),\"\")","v":{"$error":"#REF!"}},{"$f":"IF(AND(LEN($D43)>0,SUMIF($F$13:$J$13,BO$13,$F43:$J43)>0,ASISTENCIA!#REF!<>\"X\",ASISTENCIA!#REF!<>\"L\",ASISTENCIA!#REF!<>\"J\",ASISTENCIA!#REF!<>\"F\"),SUMIF($F$13:$J$13,BO$13,$F43:$J43),\"\")","v":{"$error":"#REF!"}},{"$f":"IF(AND(LEN($D43)>0,SUMIF($F$13:$J$13,BP$13,$F43:$J43)>0,ASISTENCIA!#REF!<>\"X\",ASISTENCIA!#REF!<>\"L\",ASISTENCIA!#REF!<>\"J\",ASISTENCIA!#REF!<>\"F\"),SUMIF($F$13:$J$13,BP$13,$F43:$J43),\"\")","v":{"$error":"#REF!"}},{"$f":"IF(AND(LEN($D43)>0,SUMIF($F$13:$J$13,BQ$13,$F43:$J43)>0,ASISTENCIA!#REF!<>\"X\",ASISTENCIA!#REF!<>\"L\",ASISTENCIA!#REF!<>\"J\",ASISTENCIA!#REF!<>\"F\"),SUMIF($F$13:$J$13,BQ$13,$F43:$J43),\"\")","v":{"$error":"#REF!"}},{"$f":"IF(AND(LEN($D43)>0,SUMIF($F$13:$J$13,BR$13,$F43:$J43)>0,ASISTENCIA!#REF!<>\"X\",ASISTENCIA!#REF!<>\"L\",ASISTENCIA!#REF!<>\"J\",ASISTENCIA!#REF!<>\"F\"),SUMIF($F$13:$J$13,BR$13,$F43:$J43),\"\")","v":{"$error":"#REF!"}},{"$f":"IF(AND(LEN($D43)>0,SUMIF($F$13:$J$13,BS$13,$F43:$J43)>0,ASISTENCIA!#REF!<>\"X\",ASISTENCIA!#REF!<>\"L\",ASISTENCIA!#REF!<>\"J\",ASISTENCIA!#REF!<>\"F\"),SUMIF($F$13:$J$13,BS$13,$F43:$J43),\"\")","v":{"$error":"#REF!"}},{"$f":"IF(AND(LEN($D43)>0,SUMIF($F$13:$J$13,BT$13,$F43:$J43)>0,ASISTENCIA!#REF!<>\"X\",ASISTENCIA!#REF!<>\"L\",ASISTENCIA!#REF!<>\"J\",ASISTENCIA!#REF!<>\"F\"),SUMIF($F$13:$J$13,BT$13,$F43:$J43),\"\")","v":{"$error":"#REF!"}},{"$f":"IF(AND(LEN($D43)>0,SUMIF($F$13:$J$13,BU$13,$F43:$J43)>0,ASISTENCIA!#REF!<>\"X\",ASISTENCIA!#REF!<>\"L\",ASISTENCIA!#REF!<>\"J\",ASISTENCIA!#REF!<>\"F\"),SUMIF($F$13:$J$13,BU$13,$F43:$J43),\"\")","v":{"$error":"#REF!"}},{"$f":"IF(AND(LEN($D43)>0,SUMIF($F$13:$J$13,BV$13,$F43:$J43)>0,ASISTENCIA!#REF!<>\"X\",ASISTENCIA!#REF!<>\"L\",ASISTENCIA!#REF!<>\"J\",ASISTENCIA!#REF!<>\"F\"),SUMIF($F$13:$J$13,BV$13,$F43:$J43),\"\")","v":{"$error":"#REF!"}},{"$f":"IF(AND(LEN($D43)>0,SUMIF($F$13:$J$13,BW$13,$F43:$J43)>0,ASISTENCIA!#REF!<>\"X\",ASISTENCIA!#REF!<>\"L\",ASISTENCIA!#REF!<>\"J\",ASISTENCIA!#REF!<>\"F\"),SUMIF($F$13:$J$13,BW$13,$F43:$J43),\"\")","v":{"$error":"#REF!"}},{"$f":"IF(AND(LEN($D43)>0,SUMIF($F$13:$J$13,BX$13,$F43:$J43)>0,ASISTENCIA!#REF!<>\"X\",ASISTENCIA!#REF!<>\"L\",ASISTENCIA!#REF!<>\"J\",ASISTENCIA!#REF!<>\"F\"),SUMIF($F$13:$J$13,BX$13,$F43:$J43),\"\")","v":{"$error":"#REF!"}},{"$f":"IF(AND(LEN($D43)>0,SUMIF($F$13:$J$13,BY$13,$F43:$J43)>0,ASISTENCIA!#REF!<>\"X\",ASISTENCIA!#REF!<>\"L\",ASISTENCIA!#REF!<>\"J\",ASISTENCIA!#REF!<>\"F\"),SUMIF($F$13:$J$13,BY$13,$F43:$J43),\"\")","v":{"$error":"#REF!"}},{"$f":"IF(AND(LEN($D43)>0,SUMIF($F$13:$J$13,BZ$13,$F43:$J43)>0,ASISTENCIA!#REF!<>\"X\",ASISTENCIA!#REF!<>\"L\",ASISTENCIA!#REF!<>\"J\",ASISTENCIA!#REF!<>\"F\"),SUMIF($F$13:$J$13,BZ$13,$F43:$J43),\"\")","v":{"$error":"#REF!"}},{"$f":"IF(AND(LEN($D43)>0,SUMIF($F$13:$J$13,CA$13,$F43:$J43)>0,ASISTENCIA!#REF!<>\"X\",ASISTENCIA!#REF!<>\"L\",ASISTENCIA!#REF!<>\"J\",ASISTENCIA!#REF!<>\"F\"),SUMIF($F$13:$J$13,CA$13,$F43:$J43),\"\")","v":{"$error":"#REF!"}},{"$f":"IF(AND(LEN($D43)>0,SUMIF($F$13:$J$13,CB$13,$F43:$J43)>0,ASISTENCIA!#REF!<>\"X\",ASISTENCIA!#REF!<>\"L\",ASISTENCIA!#REF!<>\"J\",ASISTENCIA!#REF!<>\"F\"),SUMIF($F$13:$J$13,CB$13,$F43:$J43),\"\")","v":{"$error":"#REF!"}},{"$error":"#REF!"}]
[]
["(*) No se considera los días feriados",null,null,null,null,null,null,null,null,null,null,null,null,{"$f":"SUM(N14:N43)","v":{"$error":"#REF!"}},null,null,null,null,null,null,null,null,null,null,null,null,null,null,null,null,null,null,null,null,null,null,null,null,null,null,null,null,null,null,null,{"$f":"SUM(AT14:AT43)","v":{"$error":"#REF!"}},null,null,null,null,null,null,null,null,null,null,null,null,null,null,null,null,null,null,null,null,null,null,null,null,null,null,null,null,null,null,null,null,null,null,{"$f":"SUM(CC14:CC43)","v":{"$error":"#REF!"}}]
["LEYENDA"]
["J: Falta justificada",null,null,null,null,null,null,null,null,null,null,null,null,null,null,null,null,null,null,null,null,null,"Nivel Inicial : 1 dia : 5 horas",null,null,null,null,null,null,null,null,null,null,null,null,null,null,null,null,null,null,null,null,null,null,null,null,null,null,null,null,null,null,null,null,null,null,"Nivel Inicial : 1 dia : 5 horas"]
["I: Falta Injustificada",null,null,null,null,null,null,null,null,null,null,null,null,null,null,null,null,null,null,null,null,null,"Nivel Primaria : 1 día : 6 horas",null,null,null,null,null,null,null,null,null,null,null,null,null,null,null,null,null,null,null,null,null,null,null,null,null,null,null,null,null,null,null,null,null,null,"Nivel Primaria : 1 día : 6 horas"]
["F: Dia Feriado",null,null,null,null,null,null,null,null,null,null,null,null,null,null,null,null,null,null,null,null,null,"Nivel Secundaria :1 día : 7 horas",null,null,null,null,null,null,null,null,null,null,null,null,null,null,null,null,null,null,null,null,null,null,null,null,null,null,null,null,null,null,null,null,null,null,"Nivel Secundaria :1 día : 7 horas"]
["CRT: Centro de Recursos Tecnológicos"]
["AIP: Aula de Innovación Pedagógica"]
["TQ: Taller de Quechua"]
["TD: Taller de Danza"]
[null,null,null,null,null,null,null,null,null,null,null,"DIRECTOR (A) DE INSTITUCIÓN EDUCATIVA",null,null,null,null,null,null,null,null,null,null,null,null,null,null,null,null,null,null,null,null,null,"V° B° REPRESENTANTE CONOEI",null,null,null,null,null,null,null,null,null,null,null,null,null,null,null,null,null,null,null,null,null,null,null,null,null,null,null,null,null,null,null,null,null,null,"V° B° REPRESENTANTE CONOEI"]

{"sheet":"DATA","index":5,"n_rows":302,"n_cols":14,"rows_kept":302,"cut":false,"hidden":true,"merged":[[0,11,2,11],[0,12,2,12],[0,3,2,3],[0,6,2,6],[0,7,2,7],[0,8,2,8],[0,9,2,9],[0,10,2,10]]}
["",null,"","Distrito / Centro Poblado","","","# Tot Doc, Aux, Adm","# Doc","# Doc Nomb","# Doc Contr","# Doc Espjo","# Aux Ed","# Adm"]
["Cód. Mod.","Nombre de IE","Nivel",null,"Distrito","Centro Poblado",null,null,null,null,null,null,null,"# CAS"]
["","","",null,"",""]
["01245465","PRONOEI","A1 Inicial No Escolarizado",{"$f":"CONCATENATE(E4,\" / \",F4)","v":"ILAVE / 5 Distritos"},"ILAVE","5 Distritos"]
["0474577","216","A2 - Inicial - Jardín              ",{"$f":"CONCATENATE(E5,\" / \",F5)","v":"ILAVE / BELLAVISTA"},"ILAVE","BELLAVISTA",5,3,2,1,0,1,1]
["0474585",217,"A2 - Inicial - Jardín              ",{"$f":"CONCATENATE(E6,\" / \",F6)","v":"PILCUYO / 18 DE ENERO"},"PILCUYO","18 DE ENERO",6,3,3,0,1,1,1]
["0500538","220","A2 - Inicial - Jardín              ","SANTA ROSA / 3 DE MAYO","SANTA ROSA","3 DE MAYO",5,3,0,3,0,1,1]
["0474601","223","A2 - Inicial - Jardín              ","ILAVE / SAN MIGUEL","ILAVE","SAN MIGUEL",6,3,3,0,0,2,1]
["0229765","246 MI SEGUNDO HOGAR","A2 - Inicial - Jardín              ","ILAVE / ALASAYA","ILAVE","ALASAYA",19,11,8,3,1,5,2]
["0539650","259","A2 - Inicial - Jardín              ","CONDURIRI / MUNICIPAL","CONDURIRI","MUNICIPAL",4,2,0,2,0,1,1]
["0574889","260","A2 - Inicial - Jardín              ","ILAVE / RAMON CASTILLA","ILAVE","RAMON CASTILLA",7,4,3,1,1,1,1]
["0539452","265","A2 - Inicial - Jardín              ","PILCUYO / SUCANO","PILCUYO","SUCANO",1,1,1,0,0,0,0]
["0539551","266","A2 - Inicial - Jardín              ","ILAVE / SULCATURA 1","ILAVE","SULCATURA 1",2,1,1,0,0,0,1]
["0549006","267","A2 - Inicial - Jardín              ","SANTA ROSA / SANTA ROSA","SANTA ROSA","SANTA ROSA",2,2,0,2,0,0,0]
["0755371","301","A2 - Inicial - Jardín              ","PILCUYO / CHIPANA","PILCUYO","CHIPANA",1,1,1,0,0,0,0]
["0744250","302","A2 - Inicial - Jardín              ","ILAVE / CRUZANI","ILAVE","CRUZANI",7,4,3,1,0,2,1]
["0744268","303","A2 - Inicial - Jardín              ","ILAVE / ILAVE","ILAVE","ILAVE",5,3,3,0,0,1,1]
["0744276","304","A2 - Inicial - Jardín              ","ILAVE / PORVENIR MIRAFLORES","ILAVE","PORVENIR MIRAFLORES",7,4,4,0,0,2,1]
["0799288","306","A2 - Inicial - Jardín              ","ILAVE / MULLACONIHUECO","ILAVE","MULLACONIHUECO",2,1,1,0,0,0,1]
["0799296","307","A2 - Inicial - Jardín              ","ILAVE / CHIJICHAYA","ILAVE","CHIJICHAYA",4,3,2,1,0,1,0]
["0755389","309","A2 - Inicial - Jardín              ","PILCUYO / MACHATMARCA","PILCUYO","MACHATMARCA",1,1,1,0,0,0,0]
["1027028",310,"A2 - Inicial - Jardín              ","ILAVE / CAMECACHI","ILAVE","CAMECACHI",3,2,2,0,0,1,0]
["0799395","311","A2 - Inicial - Jardín              ","PILCUYO / MAQUERCOTA","PILCUYO","MAQUERCOTA",1,1,1,0,0,0,0]
["1027192","314","A2 - Inicial - Jardín              ","ILAVE / SAN CRISTOBAL","ILAVE","SAN CRISTOBAL",4,3,2,1,0,1,0]
["1027234","315","A2 - Inicial - Jardín              ","ILAVE / CHUCARAYA","ILAVE","CHUCARAYA",2,2,1,1,0,0,0]
["1027242","316","A2 - Inicial - Jardín              ","ILAVE / ULLACACHI","ILAVE","ULLACACHI",1,1,1,0,0,0,0]
["1027101","317","A2 - Inicial - Jardín              ","PILCUYO / SARAPI ARROYO","PILCUYO","SARAPI ARROYO",1,1,0,1,0,0,0]
["1027119","318","A2 - Inicial - Jardín              ","PILCUYO / ACCASO","PILCUYO","ACCASO",3,2,1,1,0,0,1]
["1027143","319","A2 - Inicial - Jardín              ","ILAVE / CHECCA","ILAVE","CHECCA",1,1,1,0,0,0,0]
["1027499","320","A2 - Inicial - Jardín              ","PILCUYO / MARCOLLO","PILCUYO","MARCOLLO",2,1,1,0,0,0,1]
["1030014","351","A2 - Inicial - Jardín              ","ILAVE / SANTA BARBARA","ILAVE","SANTA BARBARA",8,4,3,1,1,2,1]
["1027044","365","A2 - Inicial - Jardín              ","ILAVE / BELLAVISTA","ILAVE","BELLAVISTA",8,4,2,2,1,2,1]
["1576149","402","A2 - Inicial - Jardín              ","ILAVE / ILAVE","ILAVE","ILAVE",4,3,0,3,0,1,0]
["1472505","694","A2 - Inicial - Jardín              ","ILAVE / ANCOAMAYA","ILAVE","ANCOAMAYA",1,1,1,0,0,0,0]
["1472521","695","A2 - Inicial - Jardín              ","ILAVE / CALLATA","ILAVE","CALLATA",1,1,1,0,0,0,0]
["1472539","696","A2 - Inicial - Jardín              ","ILAVE / CANGALLI ACHANTUYO","ILAVE","CANGALLI ACHANTUYO",1,1,1,0,0,0,0]
["1472547","697","A2 - Inicial - Jardín              ","CAPAZO / CAPASO","CAPAZO","CAPASO",1,1,0,1,0,0,0]
["1472554","698","A2 - Inicial - Jardín              ","ILAVE / CATAMURO II","ILAVE","CATAMURO II",1,1,1,0,0,0,0]
["1472562","699","A2 - Inicial - Jardín              ","ILAVE / CHIJUYO COPAPUJO","ILAVE","CHIJUYO COPAPUJO",1,1,1,0,0,0,0]
["1472570","700","A2 - Inicial - Jardín              ","ILAVE / CHURO MAQUERA","ILAVE","CHURO MAQUERA",2,2,1,1,0,0,0]
["1472604","701","A2 - Inicial - Jardín              ","ILAVE / OCOÑA","ILAVE","OCOÑA",1,1,0,1,0,0,0]
["1472612","702","A2 - Inicial - Jardín              ","ILAVE / PHARATA COPANI","ILAVE","PHARATA COPANI",1,1,1,0,0,0,0]
["1472620","703","A2 - Inicial - Jardín              ","PILCUYO / PUCARA","PILCUYO","PUCARA",1,1,1,0,0,0,0]
["1472638","704","A2 - Inicial - Jardín              ","PILCUYO / SACARI TITICACHI","PILCUYO","SACARI TITICACHI",1,1,0,1,0,0,0]
["1472646","705","A2 - Inicial - Jardín              ","ILAVE / URANI","ILAVE","URANI",1,1,0,1,0,0,0]
["1472653","706","A2 - Inicial - Jardín              ","PILCUYO / CACHIPUCARA","PILCUYO","CACHIPUCARA",1,1,0,1,0,0,0]
["1472661","707","A2 - Inicial - Jardín              ","ILAVE / JACHOCCO HUARACCO","ILAVE","JACHOCCO HUARACCO",4,3,0,3,0,1,0]
["1472679","708","A2 - Inicial - Jardín              ","ILAVE / LACAYA","ILAVE","LACAYA",1,1,1,0,0,0,0]
["1472687","709","A2 - Inicial - Jardín              ","ILAVE / PANTIHUECO","ILAVE","PANTIHUECO",1,1,1,0,0,0,0]
["1472695","710","A2 - Inicial - Jardín              ","ILAVE / POQUICHILLA","ILAVE","POQUICHILLA",1,1,1,0,0,0,0]
["1472703",711,"A2 - Inicial - Jardín              ","ILAVE / ROSACANI","ILAVE","ROSACANI",2,2,0,2,0,0,0]
["1472711","712","A2 - Inicial - Jardín              ","ILAVE / SIRAYA","ILAVE","SIRAYA",2,2,0,2,0,0,0]
["1472729","713","A2 - Inicial - Jardín              ","ILAVE / TANAPACA","ILAVE","TANAPACA",1,1,1,0,0,0,0]
["1493089","714","A2 - Inicial - Jardín              ","ILAVE / LACACHI","ILAVE","LACACHI",1,1,0,1,0,0,0]
["1540939","715","A2 - Inicial - Jardín              ","ILAVE / PAJJCHA CCACCAPI","ILAVE","PAJJCHA CCACCAPI",1,1,1,0,0,0,0]
["1564624","717","A2 - Inicial - Jardín              ","PILCUYO / PACCO BEBEDERO","PILCUYO","PACCO BEBEDERO",1,1,1,0,0,0,0]
["1472588","718","A2 - Inicial - Jardín              ","ILAVE / COLLATA","ILAVE","COLLATA",1,1,1,0,0,0,0]
["1472596","719","A2 - Inicial - Jardín              ","ILAVE / HUANCARANI","ILAVE","HUANCARANI",1,1,1,0,0,0,0]
["1472737","720","A2 - Inicial - Jardín              ","ILAVE / COLLOCO HUAYCHANI","ILAVE","COLLOCO HUAYCHANI",1,1,1,0,0,0,0]
["1472513","721","A2 - Inicial - Jardín              ","SANTA ROSA / AYUPALCA","SANTA ROSA","AYUPALCA",1,1,0,1,0,0,0]
["1556695","722","A2 - Inicial - Jardín              ","SANTA ROSA / SULCANACA","SANTA ROSA","SULCANACA",1,1,0,1,0,0,0]
["1556604","723","A2 - Inicial - Jardín              ","SANTA ROSA / MAZOCRUZ","SANTA ROSA","MAZOCRUZ",2,2,0,2,0,0,0]
["1556489","724","A2 - Inicial - Jardín              ","ILAVE / ILAVE","ILAVE","ILAVE",2,2,1,1,0,0,0]
["1556521","725","A2 - Inicial - Jardín              ","ILAVE / CHECACHATA","ILAVE","CHECACHATA",1,1,0,1,0,0,0]
["1556687","726","A2 - Inicial - Jardín              ","ILAVE / SIMILLACA","ILAVE","SIMILLACA",1,1,1,0,0,0,0]
["1556505","727","A2 - Inicial - Jardín              ","ILAVE / CHALLOCOLLO","ILAVE","CHALLOCOLLO",1,1,1,0,0,0,0]
["1556471","728","A2 - Inicial - Jardín              ","ILAVE / APHARUNI","ILAVE","APHARUNI",1,1,1,0,0,0,0]
["1556596","729","A2 - Inicial - Jardín              ","ILAVE / JARANI","ILAVE","JARANI",1,1,1,0,0,0,0]
["1556547","730","A2 - Inicial - Jardín              ","ILAVE / COMPACAZO","ILAVE","COMPACAZO",1,1,1,0,0,0,0]
["1556638","731","A2 - Inicial - Jardín              ",{"$f":"CONCATENATE(E70,\" / \",F70)","v":"ILAVE / PICHINCUTA"},"ILAVE","PICHINCUTA",1,1,1,0,0,0,0]
["1556554","732","A2 - Inicial - Jardín              ","ILAVE / CONCHACA","ILAVE","CONCHACA",2,2,1,1,0,0,0]
["1556570","733","A2 - Inicial - Jardín              ","ILAVE / HUARAHUARANI","ILAVE","HUARAHUARANI",1,1,0,1,0,0,0]
["1556562","734","A2 - Inicial - Jardín              ","ILAVE / CUTINI PUCARA","ILAVE","CUTINI PUCARA",1,1,0,1,0,0,0]
["1556679","735","A2 - Inicial - Jardín              ","ILAVE / SANTA ROSA DE HUAYLLATA","ILAVE","SANTA ROSA DE HUAYLLATA",1,1,0,1,0,0,0]
["1556653","736","A2 - Inicial - Jardín              ","ILAVE / HUINI HUININI","ILAVE","HUINI HUININI",1,1,0,1,0,0,0]
["1564616","737","A2 - Inicial - Jardín              ","ILAVE / CALACOTA","ILAVE","CALACOTA",1,1,1,0,0,0,0]
["1556497","738","A2 - Inicial - Jardín              ","PILCUYO / CAÑA MAQUERA","PILCUYO","CAÑA MAQUERA",1,1,1,0,0,0,0]
["1556703","739","A2 - Inicial - Jardín              ","PILCUYO / TARACANCAMAYA / CANCAMAYA","PILCUYO","TARACANCAMAYA / CANCAMAYA",1,1,1,0,0,0,0]
["1556612","740","A2 - Inicial - Jardín              ","PILCUYO / MULLACANI","PILCUYO","MULLACANI",1,1,1,0,0,0,0]
["1556646","741","A2 - Inicial - Jardín              ","PILCUYO / QUETY","PILCUYO","QUETY",1,1,1,0,0,0,0]
["1556588","742","A2 - Inicial - Jardín              ","PILCUYO / HUARIQUISAMA","PILCUYO","HUARIQUISAMA",1,1,1,0,0,0,0]
["1556539","743","A2 - Inicial - Jardín              ","PILCUYO / CHOJÑA CHOJÑANI","PILCUYO","CHOJÑA CHOJÑANI",1,1,1,0,0,0,0]
["1556513","744","A2 - Inicial - Jardín              ","PILCUYO / CHAULLACAMANI","PILCUYO","CHAULLACAMANI",1,1,0,1,0,0,0]
["1556711","745","A2 - Inicial - Jardín              ","PILCUYO / YAJACIRCATUYO / TUYO / TUCO","PILCUYO","YAJACIRCATUYO / TUYO / TUCO",1,1,0,1,0,0,0]
["1556661","746","A2 - Inicial - Jardín              ","PILCUYO / HUAYLLATA","PILCUYO","HUAYLLATA",1,1,1,0,0,0,0]
["1556620","747","A2 - Inicial - Jardín              ","PILCUYO / PACCO CUSULLANA","PILCUYO","PACCO CUSULLANA",1,1,1,0,0,0,0]
["1561414","748","A2 - Inicial - Jardín              ","SANTA ROSA / PROVIDENCIA","SANTA ROSA","PROVIDENCIA",1,1,1,0,0,0,0]
["1561422","749","A2 - Inicial - Jardín              ","ILAVE / PIÑUTANI","ILAVE","PIÑUTANI",1,1,1,0,0,0,0]
["1561406","750","A2 - Inicial - Jardín              ","PILCUYO / JALLUYO","PILCUYO","JALLUYO",2,2,1,1,0,0,0]
["1566330","751","A2 - Inicial - Jardín              ","ILAVE / CHURO LOPEZ","ILAVE","CHURO LOPEZ",2,2,0,2,0,0,0]
["1633502","1050","A2 - Inicial - Jardín              ","ILAVE / ILAVE","ILAVE","ILAVE",1,1,1,0,0,0,0]
["1610187","1052","A2 - Inicial - Jardín              ","CAPAZO / ROSARIO ALTO ANCOMARCA","CAPAZO","ROSARIO ALTO ANCOMARCA",1,1,0,1,0,0,0]
["1609619","1053","A2 - Inicial - Jardín              ","ILAVE / SANTA MARIA","ILAVE","SANTA MARIA",1,1,1,0,0,0,0]
["1609635","1054","A2 - Inicial - Jardín              ","ILAVE / ANCASAYA","ILAVE","ANCASAYA",1,1,1,0,0,0,0]
["1609668","1055","A2 - Inicial - Jardín              ","ILAVE / CHIRIMAYA","ILAVE","CHIRIMAYA",1,1,1,0,0,0,0]
["1609742","1056","A2 - Inicial - Jardín              ","ILAVE / LACOTUYO","ILAVE","LACOTUYO",1,1,1,0,0,0,0]
["1610229","1057","A2 - Inicial - Jardín              ","CAPAZO / SAN JOSE DE ANCOMARCA","CAPAZO","SAN JOSE DE ANCOMARCA",1,1,0,1,0,0,0]
["1609700","1058","A2 - Inicial - Jardín              ","ILAVE / COLLPUYO","ILAVE","COLLPUYO",1,1,1,0,0,0,0]
["1610203","1060","A2 - Inicial - Jardín              ","CONDURIRI / SALES GRANDE","CONDURIRI","SALES GRANDE",1,1,0,1,0,0,0]
["1609601","1061","A2 - Inicial - Jardín              ","ILAVE / CHOQUE","ILAVE","CHOQUE",1,1,1,0,0,0,0]
["1609692","1062","A2 - Inicial - Jardín              ","ILAVE / CHUNTACOLLO","ILAVE","CHUNTACOLLO",3,3,1,2,0,0,0]
["1610245","1063","A2 - Inicial - Jardín              ","SANTA ROSA / SAPACHULPA","SANTA ROSA","SAPACHULPA",2,2,0,2,0,0,0]
["1609676","1064","A2 - Inicial - Jardín              ","ILAVE / CHOCCOQUELICANI","ILAVE","CHOCCOQUELICANI",1,1,0,1,0,0,0]
["1633510","1065","A2 - Inicial - Jardín              ","ILAVE / ILAVE","ILAVE","ILAVE",1,1,0,1,0,0,0]
["1609726","1066","A2 - Inicial - Jardín              ","SANTA ROSA / HUANACACAMAYA","SANTA ROSA","HUANACACAMAYA",1,1,1,0,0,0,0]
["1609585","1067","A2 - Inicial - Jardín              ","ILAVE / CCACCATA","ILAVE","CCACCATA",1,1,1,0,0,0,0]
["1610260","1068","A2 - Inicial - Jardín              ","CONDURIRI / UNTAVE","CONDURIRI","UNTAVE",1,1,0,1,0,0,0]
["1610237","1069","A2 - Inicial - Jardín              ","PILCUYO / SANCUTA","PILCUYO","SANCUTA",1,1,1,0,0,0,0]
["1609650","1070","A2 - Inicial - Jardín              ","ILAVE / CHILACOLLO","ILAVE","CHILACOLLO",1,1,1,0,0,0,0]
["1610179","1071","A2 - Inicial - Jardín              ","ILAVE / QUALICANI CHICO","ILAVE","QUALICANI CHICO",1,1,1,0,0,0,0]
["1633494","1073","A2 - Inicial - Jardín              ","SANTA ROSA / CHICHILLAPI","SANTA ROSA","CHICHILLAPI",1,1,0,1,0,0,0]
["1610153","1074","A2 - Inicial - Jardín              ","CONDURIRI / PAIRUMANI","CONDURIRI","PAIRUMANI",1,1,0,1,0,0,0]
["1609593","1075","A2 - Inicial - Jardín              ","ILAVE / VILCA CHILE","ILAVE","VILCA CHILE",1,1,1,0,0,0,0]
["1609734",1076,"A2 - Inicial - Jardín              ","ILAVE / JAQUENCACHI","ILAVE","JAQUENCACHI",2,2,1,1,0,0,0]
["1610161","1077","A2 - Inicial - Jardín              ","ILAVE / PALLALLMARCA","ILAVE","PALLALLMARCA",1,1,0,1,0,0,0]
["1609684","1078","A2 - Inicial - Jardín              ","ILAVE / CHUNGARA","ILAVE","CHUNGARA",1,1,0,1,0,0,0]
["1610278","1079","A2 - Inicial - Jardín              ","CONDURIRI / YARIHUANI","CONDURIRI","YARIHUANI",1,1,1,0,0,0,0]
["1610211","1080","A2 - Inicial - Jardín              ","ILAVE / SAN CARLOS MARCACCOLLO","ILAVE","SAN CARLOS MARCACCOLLO",1,1,0,1,0,0,0]
["1609718","1081","A2 - Inicial - Jardín              ","ILAVE / CORARACA","ILAVE","CORARACA",1,1,1,0,0,0,0]
["1610252","1082","A2 - Inicial - Jardín              ","CAPAZO / TUPALA HACIENDA","CAPAZO","TUPALA HACIENDA",1,1,0,1,0,0,0]
["1578715","1083","A2 - Inicial - Jardín              ","ILAVE / CORPA","ILAVE","CORPA",1,1,1,0,0,0,0]
["1653484","1117","A2 - Inicial - Jardín              ","ILAVE / ILAVE","ILAVE","ILAVE",1,1,1,0,0,0,0]
["1653492","1118","A2 - Inicial - Jardín              ","ILAVE / CONCAHUI","ILAVE","CONCAHUI",1,1,0,1,0,0,0]
["1653518",1119,"A2 - Inicial - Jardín              ","ILAVE / ILAVE","ILAVE","ILAVE",2,2,0,2,0,0,0]
["1678192","1313","A2 - Inicial - Jardín              ","ILAVE / CHOQUETANCA","ILAVE","CHOQUETANCA",1,1,0,1,0,0,0]
["1678135","1314","A2 - Inicial - Jardín              ","ILAVE / JALLANILLA","ILAVE","JALLANILLA",1,1,0,1,0,0,0]
["1678176","1315","A2 - Inicial - Jardín              ","ILAVE / JILACATURA","ILAVE","JILACATURA",1,1,0,1,0,0,0]
["1678168","1316","A2 - Inicial - Jardín              ","ILAVE / MAQUERA COMPUTI","ILAVE","MAQUERA COMPUTI",1,1,0,1,0,0,0]
["1678143","1317","A2 - Inicial - Jardín              ","ILAVE / ILAVE","ILAVE","ILAVE",1,1,0,1,0,0,0]
["1678127","1318","A2 - Inicial - Jardín              ","ILAVE / SARACAYA","ILAVE","SARACAYA",1,1,0,1,0,0,0]
["1678184","1319","A2 - Inicial - Jardín              ","ILAVE / SULCATURA II","ILAVE","SULCATURA II",1,1,0,1,0,0,0]
["1692250","1320","A2 - Inicial - Jardín              ","ILAVE / SAN JOSE","ILAVE","SAN JOSE",2,2,0,2,0,0,0]
["1710789","1461","A2 - Inicial - Jardín              ","ILAVE / SICATA","ILAVE","SICATA",1,1,0,1,0,0,0]
["1710797","1462","A2 - Inicial - Jardín              ",{"$f":"CONCATENATE(E134,\" / \",F134)","v":"ILAVE / ALQUIPA"},"ILAVE","ALQUIPA",1,1,0,1,0,0,0]
["1710805","1463","A2 - Inicial - Jardín              ","ILAVE / LLAU","ILAVE","LLAU",1,1,0,1,0,0,0]
["1710763","1464","A2 - Inicial - Jardín              ","ILAVE / PUSUYO","ILAVE","PUSUYO",1,1,0,1,0,0,0]
["1710771","1465","A2 - Inicial - Jardín              ","ILAVE / YAURIMA","ILAVE","YAURIMA",1,1,0,1,0,0,0]
["1746320","1594","A2 - Inicial - Jardín              ","PILCUYO / CALLACHOCO","PILCUYO","CALLACHOCO",1,1,0,1,0,0,0]
["1785930",1622,"A2 - Inicial - Jardín              ","ILAVE / CHINGANI","ILAVE","CHINGANI",2,2,0,2,0,0,0]
["0230896","70082","B0 - Primaria                      ",{"$f":"CONCATENATE(E140,\" / \",F140)","v":"ILAVE / SULCATURA 1"},"ILAVE","SULCATURA 1",6,4,4,0,1,0,1]
["0231357",70128,"B0 - Primaria                      ",{"$f":"CONCATENATE(E141,\" / \",F141)","v":"ILAVE / JILACATURA"},"ILAVE","JILACATURA",4,3,3,0,0,0,1]
["0231373","70130","B0 - Primaria                      ","ILAVE / CHOQUETANCA","ILAVE","CHOQUETANCA",5,4,3,1,0,0,1]
["0231472","70140","B0 - Primaria                      ","ILAVE / SULLCACATURA  II","ILAVE","SULLCACATURA  II",6,4,4,0,1,0,1]
["0573139","70161","B0 - Primaria                      ","ILAVE / SUQUINAPE","ILAVE","SUQUINAPE",2,2,2,0,0,0,0]
["0231746","70167","B0 - Primaria                      ","ILAVE / LAQUI","ILAVE","LAQUI",2,2,1,1,0,0,0]
["0231845","70178","B0 - Primaria                      ","ILAVE / YACANGO CENTRAL","ILAVE","YACANGO CENTRAL",6,5,4,1,0,0,1]
["0549402","70200","B0 - Primaria                      ","ILAVE / CANGALLE","ILAVE","CANGALLE",7,5,3,2,1,0,1]
["0220798","70201","B0 - Primaria                      ","CONDURIRI / CALASAYA","CONDURIRI","CALASAYA",1,1,1,0,0,0,0]
["0220921","70214","B0 - Primaria                      ","CAPAZO / ROSARIO ALTO ANCOMARCA","CAPAZO","ROSARIO ALTO ANCOMARCA",1,1,1,0,0,0,0]
["0220939","70215","B0 - Primaria                      ","CAPAZO / CAPASO","CAPAZO","CAPASO",2,2,2,0,0,0,0]
["0220962","70218","B0 - Primaria                      ","CAPAZO / CHUA","CAPAZO","CHUA",1,1,1,0,0,0,0]
["0270611","70315","B0 - Primaria                      ","ILAVE / RAMON CASTILLA","ILAVE","RAMON CASTILLA",61,51,45,6,3,0,7]
["0270629","70316 SAGRADO CORAZON DE JESUS","B0 - Primaria                      ","ILAVE / SAN MIGUEL","ILAVE","SAN MIGUEL",38,32,30,2,0,0,6]
["0270637",70317,"B0 - Primaria                      ","ILAVE / CHURU MAQUERA","ILAVE","CHURU MAQUERA",7,6,5,1,0,0,1]
["0270645","70318","B0 - Primaria                      ","ILAVE / CHECCA","ILAVE","CHECCA",5,4,4,0,0,0,1]
["0270652","70319","B0 - Primaria                      ","ILAVE / MAÑAZO","ILAVE","MAÑAZO",4,3,3,0,0,0,1]
["0270660","70320","B0 - Primaria                      ","ILAVE / SIRAYA","ILAVE","SIRAYA",5,4,3,1,0,0,1]
["0270678","70321 DOMINGO PILCO VILCA","B0 - Primaria                      ","ILAVE / CAMICACHI","ILAVE","CAMICACHI",18,16,14,2,0,0,2]
["0270686","70322","B0 - Primaria                      ","ILAVE / CHUCARAYA","ILAVE","CHUCARAYA",2,2,1,1,0,0,0]
["0270694","70323","B0 - Primaria                      ","ILAVE / APARUNE","ILAVE","APARUNE",3,3,3,0,0,0,0]
["0270702","70324","B0 - Primaria                      ","ILAVE / ROSACANI","ILAVE","ROSACANI",14,11,10,1,1,0,2]
["0270710","70325","B0 - Primaria                      ","ILAVE / JACHOCCO HUARACCO","ILAVE","JACHOCCO HUARACCO",14,11,10,1,2,0,1]
["0270728","70326","B0 - Primaria                      ","ILAVE / ULLACACHI","ILAVE","ULLACACHI",2,2,2,0,0,0,0]
["0270736","70327","B0 - Primaria                      ","ILAVE / COPAPOJO / CHILUYO COPAPUJO","ILAVE","COPAPOJO / CHILUYO COPAPUJO",5,4,4,0,0,0,1]
["0270744","70328","B0 - Primaria                      ","ILAVE / CATAMURO","ILAVE","CATAMURO",3,3,2,1,0,0,0]
["0270751","70329","B0 - Primaria                      ","ILAVE / CUTINI PUCARA","ILAVE","CUTINI PUCARA",2,2,2,0,0,0,0]
["0270769","70330","B0 - Primaria                      ","PILCUYO / MAQUERCOTA","PILCUYO","MAQUERCOTA",3,3,3,0,0,0,0]
["0270777","70331","B0 - Primaria                      ","PILCUYO / HUARIQUISAMA","PILCUYO","HUARIQUISAMA",3,2,2,0,1,0,0]
["0270785","70332","B0 - Primaria                      ","PILCUYO / ACCASO","PILCUYO","ACCASO",5,4,3,1,0,0,1]
["0270793","70333","B0 - Primaria                      ","PILCUYO / MULLACANI","PILCUYO","MULLACANI",3,3,3,0,0,0,0]
["0270801","70334","B0 - Primaria                      ","PILCUYO / JILAMAICO","PILCUYO","JILAMAICO",1,1,1,0,0,0,0]
["0270819","70335","B0 - Primaria                      ","PILCUYO / CACHIPUCARA","PILCUYO","CACHIPUCARA",6,5,4,1,0,0,1]
["0270827","70336","B0 - Primaria                      ","PILCUYO / TARACANCAMAYA / CANCAMAYA","PILCUYO","TARACANCAMAYA / CANCAMAYA",4,3,3,0,1,0,0]
["0335844","70337","B0 - Primaria                      ","PILCUYO / CONAPI SUMARIRE / JONAPI","PILCUYO","CONAPI SUMARIRE / JONAPI",1,1,0,1,0,0,0]
["0335851","70338","B0 - Primaria                      ","PILCUYO / YAJACIRCATUYO / TUYO / TUCO","PILCUYO","YAJACIRCATUYO / TUYO / TUCO",2,2,2,0,0,0,0]
["0305813","70339","B0 - Primaria                      ","PILCUYO / CHIPANA","PILCUYO","CHIPANA",6,5,5,0,0,0,1]
["0305821","70340 GLORIOSO JOSE ANTONIO ENCINAS","B0 - Primaria                      ","PILCUYO / PILCUYO","PILCUYO","PILCUYO",10,8,6,2,0,0,2]
["0305839",70341,"B0 - Primaria                      ","SANTA ROSA / SANTA ROSA","SANTA ROSA","SANTA ROSA",5,4,3,1,0,0,1]
["0305847","70342","B0 - Primaria                      ","SANTA ROSA / CHINCHILLAPI","SANTA ROSA","CHINCHILLAPI",1,1,1,0,0,0,0]
["0305854","70343","B0 - Primaria                      ","SANTA ROSA / ALIANZA","SANTA ROSA","ALIANZA",19,16,9,7,1,0,2]
["0305862","70344 CRISTO REY","B0 - Primaria                      ","ILAVE / CALLATA","ILAVE","CALLATA",5,4,4,0,0,0,1]
["0305888","70346","B0 - Primaria                      ","ILAVE / CHALLA CCOLLO","ILAVE","CHALLA CCOLLO",3,3,2,1,0,0,0]
["0305896","70347","B0 - Primaria                      ","ILAVE / COPACACHI CHILACOLLO","ILAVE","COPACACHI CHILACOLLO",3,3,3,0,0,0,0]
["0305904",70348,"B0 - Primaria                      ","ILAVE / JAQUENCACHI","ILAVE","JAQUENCACHI",4,3,3,0,0,0,1]
["0305912","70349","B0 - Primaria                      ","ILAVE / URANI","ILAVE","URANI",4,4,4,0,0,0,0]
["0305920","70350","B0 - Primaria                      ","ILAVE / PICHINCOTA","ILAVE","PICHINCOTA",4,4,4,0,0,0,0]
["0305938","70351","B0 - Primaria                      ","ILAVE / SENCA","ILAVE","SENCA",2,2,1,1,0,0,0]
["0305946",70352,"B0 - Primaria                      ","ILAVE / ALQUIPA","ILAVE","ALQUIPA",4,3,3,0,0,0,1]
["0305953","70353","B0 - Primaria                      ","ILAVE / ANCOAMAYA","ILAVE","ANCOAMAYA",2,2,2,0,0,0,0]
["0559237","70354","B0 - Primaria                      ","ILAVE / PUSUYO","ILAVE","PUSUYO",2,2,2,0,0,0,0]
["0305979","70355 SAGRADO NIÑO JESUS","B0 - Primaria                      ","ILAVE / CCACCATA","ILAVE","CCACCATA",2,2,2,0,0,0,0]
["0305987","70356","B0 - Primaria                      ","ILAVE / CHIJICHAYA","ILAVE","CHIJICHAYA",4,4,3,1,0,0,0]
["0305995","70357","B0 - Primaria                      ","ILAVE / MULLACONIHUECO","ILAVE","MULLACONIHUECO",3,3,3,0,0,0,0]
["0306019",70358,"B0 - Primaria                      ","ILAVE / CONCAHUI","ILAVE","CONCAHUI",5,4,3,1,0,0,1]
["0306043","70359","B0 - Primaria                      ","ILAVE / CORARACA","ILAVE","CORARACA",3,3,2,1,0,0,0]
["0306050","70360","B0 - Primaria                      ","ILAVE / SIMILLACA","ILAVE","SIMILLACA",2,2,2,0,0,0,0]
["0306068","70361","B0 - Primaria                      ","ILAVE / JICHU CCOLLO","ILAVE","JICHU CCOLLO",1,1,1,0,0,0,0]
["0306092",70363,"B0 - Primaria                      ","ILAVE / CONCHACA","ILAVE","CONCHACA",5,5,4,1,0,0,0]
["0306100","70364","B0 - Primaria                      ","ILAVE / CHIRIMAYA","ILAVE","CHIRIMAYA",2,2,2,0,0,0,0]
["0306233","70365","B0 - Primaria                      ","ILAVE / HUARIHUARANI","ILAVE","HUARIHUARANI",2,2,1,1,0,0,0]
["0306332",70367,"B0 - Primaria                      ","ILAVE / CORPA","ILAVE","CORPA",4,4,2,2,0,0,0]
["0306357","70369 JOSE OLAYA BALANDRA","B0 - Primaria                      ","ILAVE / PHARATA COPANI","ILAVE","PHARATA COPANI",5,4,4,0,0,0,1]
["0306365","70370","B0 - Primaria                      ","ILAVE / SAN CRISTOBAL","ILAVE","SAN CRISTOBAL",8,6,5,1,2,0,0]
["0306373",70371,"B0 - Primaria                      ","ILAVE / SANTA ROSA DE HUAYLLATA","ILAVE","SANTA ROSA DE HUAYLLATA",4,3,3,0,0,0,1]
["0306381","70372 GAMALIEL CHURATA","B0 - Primaria                      ",{"$f":"CONCATENATE(E205,\" / \",F205)","v":"ILAVE / COLLATA"},"ILAVE","COLLATA",3,3,3,0,0,0,0]
["0306399",70373,"B0 - Primaria                      ","ILAVE / HUANCARANI","ILAVE","HUANCARANI",3,3,2,1,0,0,0]
["0306407","70374","B0 - Primaria                      ","ILAVE / HUINI HUININI","ILAVE","HUINI HUININI",3,3,3,0,0,0,0]
["0306431","70375","B0 - Primaria                      ","ILAVE / COMPACAZO","ILAVE","COMPACAZO",4,3,3,0,1,0,0]
["0306027","70376","B0 - Primaria                      ","PILCUYO / VILCATURPO","PILCUYO","VILCATURPO",3,3,2,1,0,0,0]
["0306035","70377","B0 - Primaria                      ","PILCUYO / HUAYLLATA","PILCUYO","HUAYLLATA",3,3,3,0,0,0,0]
["0306076","70378","B0 - Primaria                      ","PILCUYO / CALLACHOCO","PILCUYO","CALLACHOCO",3,3,3,0,0,0,0]
["0306118","70379","B0 - Primaria                      ","PILCUYO / QUETY","PILCUYO","QUETY",2,1,1,0,1,0,0]
["0306126","70380","B0 - Primaria                      ","PILCUYO / SARAPI ARROYO","PILCUYO","SARAPI ARROYO",3,3,3,0,0,0,0]
["0306142","70382","B0 - Primaria                      ","ILAVE / OCOÑA","ILAVE","OCOÑA",3,3,3,0,0,0,0]
["0306159","70383","B0 - Primaria                      ","PILCUYO / SANCUTA","PILCUYO","SANCUTA",4,3,3,0,0,0,1]
["0306167","70384","B0 - Primaria                      ","PILCUYO / MARCOLLO","PILCUYO","MARCOLLO",4,3,3,0,0,0,1]
["0306175",70385,"B0 - Primaria                      ","PILCUYO / SARAPI PEÑALOSA / SACARE PEÑALOSA","PILCUYO","SARAPI PEÑALOSA / SACARE PEÑALOSA",2,2,2,0,0,0,0]
["0306183","70386","B0 - Primaria                      ","SANTA ROSA / LLUSTA","SANTA ROSA","LLUSTA",1,1,1,0,0,0,0]
["0306191","70387","B0 - Primaria                      ","SANTA ROSA / HUANACACAMAYA","SANTA ROSA","HUANACACAMAYA",1,1,1,0,0,0,0]
["0306209","70388","B0 - Primaria                      ","SANTA ROSA / SULCANACA","SANTA ROSA","SULCANACA",2,2,2,0,0,0,0]
["0306225","70390","B0 - Primaria                      ","SANTA ROSA / PATAPATA","SANTA ROSA","PATAPATA",1,1,1,0,0,0,0]
["0218412",70607,"B0 - Primaria                      ","ILAVE / VILCACHILI","ILAVE","VILCACHILI",4,4,3,1,0,0,0]
["0243766","70610","B0 - Primaria                      ","CONDURIRI / MIRAFLORES","CONDURIRI","MIRAFLORES",8,7,5,2,0,0,1]
["0218446","70613 TUPAC AMARU","B0 - Primaria                      ","ILAVE / CCOLLPA","ILAVE","CCOLLPA",4,3,3,0,1,0,0]
["0243790","70614 SAN MARTIN DE PORRES","B0 - Primaria                      ","ILAVE / ALASAYA","ILAVE","ALASAYA",46,39,34,5,1,0,6]
["0218453","70617","B0 - Primaria                      ","PILCUYO / CHAULLACAMANI","PILCUYO","CHAULLACAMANI",2,2,2,0,0,0,0]
["0474619","70621","B0 - Primaria                      ","CAPAZO / ANCOMARCA","CAPAZO","ANCOMARCA",2,2,2,0,0,0,0]
["0548909","70626","B0 - Primaria                      ","SANTA ROSA / PUNTA PERDIDA","SANTA ROSA","PUNTA PERDIDA",1,1,1,0,0,0,0]
["0227769","70634","B0 - Primaria                      ","PILCUYO / TICONA","PILCUYO","TICONA",2,2,1,1,0,0,0]
["0529602","70643","B0 - Primaria                      ","SANTA ROSA / AROPATA","SANTA ROSA","AROPATA",1,1,1,0,0,0,0]
["0547612",70648,"B0 - Primaria                      ","ILAVE / THOCORI JARANI","ILAVE","THOCORI JARANI",5,4,4,0,0,0,1]
["0615476","70659","B0 - Primaria                      ","ILAVE / WENCASI","ILAVE","WENCASI",1,1,1,0,0,0,0]
["0529404","70661","B0 - Primaria                      ","ILAVE / CHOQUE","ILAVE","CHOQUE",3,3,3,0,0,0,0]
["0559351","70669","B0 - Primaria                      ","SANTA ROSA / CUIPACUIPA","SANTA ROSA","CUIPACUIPA",1,1,1,0,0,0,0]
["0516146","70685","B0 - Primaria                      ","PILCUYO / CHAJÑA CHAJÑANI / CHOJNECHOUNA","PILCUYO","CHAJÑA CHAJÑANI / CHOJNECHOUNA",3,3,3,0,0,0,0]
["0615294",70686,"B0 - Primaria                      ","ILAVE / CHOCOQUELCANI","ILAVE","CHOCOQUELCANI",6,5,3,2,0,0,1]
["0615328","70711","B0 - Primaria                      ","ILAVE / PUCARA YACANGO","ILAVE","PUCARA YACANGO",2,2,2,0,0,0,0]
["0744342","70712","B0 - Primaria                      ","ILAVE / LOPEZ","ILAVE","LOPEZ",3,3,3,0,0,0,0]
["0516344","70718","B0 - Primaria                      ","ILAVE / ILAVE","ILAVE","ILAVE",13,10,9,1,1,0,2]
["0474429","70722","B0 - Primaria                      ","ILAVE / PANTIHUECO","ILAVE","PANTIHUECO",2,2,2,0,0,0,0]
["0660373","70723","B0 - Primaria                      ","ILAVE / CHECACHATA","ILAVE","CHECACHATA",2,2,1,1,0,0,0]
["0744318","70728 PERU BIRF","B0 - Primaria                      ","ILAVE / JOSE CARLOS MARIATEGUI","ILAVE","JOSE CARLOS MARIATEGUI",18,15,11,4,1,0,2]
["0744383","70730","B0 - Primaria                      ","ILAVE / PALLALLMARCA","ILAVE","PALLALLMARCA",3,3,3,0,0,0,0]
["0755017","70731","B0 - Primaria                      ","ILAVE / LACAYA","ILAVE","LACAYA",3,3,3,0,0,0,0]
["0744359","70733","B0 - Primaria                      ","ILAVE / ESCOLLAYA / JISCULLAYA","ILAVE","ESCOLLAYA / JISCULLAYA",1,1,1,0,0,0,0]
["0744367","70735","B0 - Primaria                      ","ILAVE / QUELCAHUECCO","ILAVE","QUELCAHUECCO",2,2,2,0,0,0,0]
["0755108","70736","B0 - Primaria                      ","ILAVE / SANTA MARIA","ILAVE","SANTA MARIA",2,2,2,0,0,0,0]
["0744417","70737","B0 - Primaria                      ","PILCUYO / JALLUYO","PILCUYO","JALLUYO",3,3,3,0,0,0,0]
["0744425","70738 PERU - BIRF","B0 - Primaria                      ","PILCUYO / PILCUYO","PILCUYO","PILCUYO",4,3,3,0,0,0,1]
["0755272","70739","B0 - Primaria                      ","CONDURIRI / CHIUTIRI HACIENDA","CONDURIRI","CHIUTIRI HACIENDA",1,1,1,0,0,0,0]
["0799452","70742","B0 - Primaria                      ","ILAVE / CCORPA FLORES","ILAVE","CCORPA FLORES",2,2,2,0,0,0,0]
["0755132","70743 ESCUELA CONCERTADA CALACOTA","B0 - Primaria                      ","ILAVE / CALACOTA","ILAVE","CALACOTA",4,4,4,0,0,0,0]
["0799551","70747","B0 - Primaria                      ","CAPAZO / PATJATA","CAPAZO","PATJATA",1,1,1,0,0,0,0]
["0848754","70748","B0 - Primaria                      ","PILCUYO / PACCO CUSULLANA","PILCUYO","PACCO CUSULLANA",1,1,1,0,0,0,0]
["1155142","70749","B0 - Primaria                      ","SANTA ROSA / PROVIDENCIA","SANTA ROSA","PROVIDENCIA",3,2,2,0,1,0,0]
["0848879","70750","B0 - Primaria                      ","ILAVE / MULLA FACIRI","ILAVE","MULLA FACIRI",1,1,1,0,0,0,0]
["0848721","70751","B0 - Primaria                      ","PILCUYO / QUISPEMAQUERA","PILCUYO","QUISPEMAQUERA",3,2,2,0,1,0,0]
["0243915","71007 MARIANO ZEVALLOS GONZALES","B0 - Primaria                      ","ILAVE / SAN MIGUEL","ILAVE","SAN MIGUEL",44,36,34,2,1,0,7]
["0239392",71543,"B0 - Primaria                      ","CAPAZO / TUPALA HACIENDA","CAPAZO","TUPALA HACIENDA",5,4,4,0,0,0,1]
["0239392","ANEXO-71543","B0 - Primaria                      ","CAPAZO / SAN SALVADOR TIRACCOLLO","CAPAZO","SAN SALVADOR TIRACCOLLO",0,0,0,0,0,0,0]
["0845719","71545","B0 - Primaria                      ","ILAVE / PAMAYA","ILAVE","PAMAYA",3,3,3,0,0,0,0]
["0232033","ANEXO-70197","B0 - Primaria                      ","CONDURIRI / SICUNI KAMANI","CONDURIRI","SICUNI KAMANI",1,1,1,0,0,0,0]
["1576131","72756","B0 - Primaria                      ","ILAVE / BALSABE","ILAVE","BALSABE",10,7,4,3,2,0,1]
["0660423","ACCASO","F0 - Secundaria                    ",{"$f":"CONCATENATE(E264,\" / \",F264)","v":"PILCUYO / ACCASO"},"PILCUYO","ACCASO",9,8,6,2,0,0,1,0]
["0578906","AUGUSTO SALAZAR BONDY","F0 - Secundaria                    ",{"$f":"CONCATENATE(E265,\" / \",F265)","v":"ILAVE / CHUCARAYA"},"ILAVE","CHUCARAYA",10,9,8,1,0,0,1,0]
["0755280","CANGALLI","F0 - Secundaria                    ","ILAVE / CANGALLE","ILAVE","CANGALLE",9,8,7,1,0,0,1,0]
["1027671","CAPASO","F0 - Secundaria                    ","CAPAZO / CAPASO","CAPAZO","CAPASO",9,8,6,2,0,0,1,0]
["1576115","CARLOS DANTE NAVA","F0 - Secundaria                    ","ILAVE / PHARATA COPANI","ILAVE","PHARATA COPANI",11,8,6,2,2,0,1,0]
["0474593","CESAR VALLEJO","F0 - Secundaria                    ","PILCUYO / 24 DE NOVIEMBRE","PILCUYO","24 DE NOVIEMBRE",23,16,12,4,1,1,5,0]
["1027812","CHIJICHAYA","F0 - Secundaria                    ","ILAVE / CHIJICHAYA","ILAVE","CHIJICHAYA",9,8,6,2,0,0,1,0]
["0578898","HORACIO ZEVALLOS GAMEZ","F0 - Secundaria                    ","ILAVE / JACHOCCO HUARACCO","ILAVE","JACHOCCO HUARACCO",26,21,14,7,0,1,2,2]
["0660431","IES YACANGO","F0 - Secundaria                    ","ILAVE / YACANGO CENTRAL","ILAVE","YACANGO CENTRAL",10,8,7,1,0,1,1,0]
["0522490","JORGE BASADRE","F0 - Secundaria                    ","ILAVE / CAMECACHI","ILAVE","CAMECACHI",35,26,21,5,1,2,3,3]
["0578914","JORGE CHAVEZ","F0 - Secundaria                    ","ILAVE / CHIJUYO","ILAVE","CHIJUYO",10,8,6,2,0,1,1,0]
["0240218","JOSE CARLOS MARIATEGUI","F0 - Secundaria                    ","ILAVE / SAN MIGUEL","ILAVE","SAN MIGUEL",114,88,78,10,4,8,14,0]
["0500439","JOSE MARIA ARGUEDAS","F0 - Secundaria                    ","SANTA ROSA / MAZO CRUZ","SANTA ROSA","MAZO CRUZ",31,23,9,14,1,1,3,3]
["0522391","JOSE OLAYA","F0 - Secundaria                    ","PILCUYO / CHIPANA","PILCUYO","CHIPANA",16,11,9,2,0,1,4,0]
["1540228","JUAN VELASCO ALVARADO","F0 - Secundaria                    ","ILAVE / ROSACANI","ILAVE","ROSACANI",10,8,7,1,0,1,1,0]
["0579003","MANUEL GONZALES PRADA","F0 - Secundaria                    ","PILCUYO / MAQUERCOTA","PILCUYO","MAQUERCOTA",9,8,5,3,0,0,1,0]
["0579011","MARIANO MELGAR","F0 - Secundaria                    ","ILAVE / CALLATA","ILAVE","CALLATA",18,14,9,5,0,1,1,2]
["0578997","MARISCAL RAMON CASTILLA","F0 - Secundaria                    ","PILCUYO / CACHI PUCARA","PILCUYO","CACHI PUCARA",9,8,6,2,0,0,1,0]
["0701532","MICAELA BASTIDAS","F0 - Secundaria                    ","PILCUYO / INCAPIURA","PILCUYO","INCAPIURA",30,24,12,12,0,1,3,2]
["0573196","MIGUEL GRAU","F0 - Secundaria                    ","PILCUYO / HUAYLLATA","PILCUYO","HUAYLLATA",12,10,8,2,1,0,1,0]
["0240283","NUESTRA SEÑORA DEL CARMEN","F0 - Secundaria                    ","ILAVE / SANTA BARBARA","ILAVE","SANTA BARBARA",135,102,89,13,11,8,14,0]
["0537464","PEDRO VILCAPAZA","F0 - Secundaria                    ","ILAVE / SANTA ROSA DE HUAYLLATA","ILAVE","SANTA ROSA DE HUAYLLATA",9,8,7,1,0,0,1,0]
["1761857","PERU BIRF","F0 - Secundaria                    ","ILAVE / JOSE CARLOS MARIATEGUI","ILAVE","JOSE CARLOS MARIATEGUI",11,10,5,5,0,1,0,0]
["0755223","POLITECNICO REGIONAL DON BOSCO","F0 - Secundaria                    ","ILAVE / BELLAVISTA","ILAVE","BELLAVISTA",72,55,41,14,3,4,10,0]
["1633791","PROVIDENCIA","F0 - Secundaria                    ","SANTA ROSA / AJIPINCUCHO","SANTA ROSA","AJIPINCUCHO",9,8,6,2,0,0,1,0]
["1027804","SAN ANTONIO","F0 - Secundaria                    ","ILAVE / CHECCA","ILAVE","CHECCA",23,18,15,3,0,1,2,2]
["0701573","SAN JOSE DE ANCOMARCA","F0 - Secundaria                    ","CAPAZO / ANCOMARCA","CAPAZO","ANCOMARCA",9,8,3,5,0,0,1,0]
["0533810","SANTA ROSA","F0 - Secundaria                    ","SANTA ROSA / SANTA ROSA","SANTA ROSA","SANTA ROSA",8,8,3,5,0,0,0,0]
["0578880","SIRAYA","F0 - Secundaria                    ","ILAVE / SIRAYA","ILAVE","SIRAYA",10,8,7,1,0,1,1,0]
["1653476","TIUTIRI ANTAMARCA","F0 - Secundaria                    ","ILAVE / TIUTIRI","ILAVE","TIUTIRI",10,9,6,3,0,0,1,0]
["0579045","TUPAC AMARU II","F0 - Secundaria                    ","CONDURIRI / CONDURIRI","CONDURIRI","CONDURIRI",22,19,6,13,0,0,1,2]
["0579037","TUPALA","F0 - Secundaria                    ","CAPAZO / TUPALA HACIENDA","CAPAZO","TUPALA HACIENDA",9,8,5,3,0,0,1,0]
["0755199","ULLACACHI","F0 - Secundaria                    ","ILAVE / ULLACACHI","ILAVE","ULLACACHI",9,8,7,1,0,0,1,0]
["1725878","CEBA - SEÑOR DE LOS MILAGROS","EBA - Inicial e Intermedio","Ilave","Ilave","ILAVE"]
["0240465","CEBA - SEÑOR DE LOS MILAGROS","EBA - Avanzado","Ilave","Ilave","ILAVE"]
["1749217","ILAVE","EBE - Inicial","Ilave","Ilave","SAN MIGUEL"]
["1153659","ILAVE","EBE - Primaria","Ilave","Ilave","SAN MIGUEL"]
["0755165","PILCUYO","CETPRO","Pilcuyo","Pilcuyo","CHIPANA"]
["0805028","ILAVE","CETPRO","Ilave","Ilave","BELLAVISTA"]

{"sheet":"CALEND","index":6,"n_rows":28,"n_cols":32,"rows_kept":28,"cut":false,"hidden":true,"merged":[]}
["MESES",1,2,3,4,5,6,7,8,9,10,11,12,13,14,15,16,17,18,19,20,21,22,23,24,25,26,27,28,29,30,31]
[1,{"$f":"TEXT(WEEKDAY(DATE(AñoNatural,$A2,B$1),1),\"[$-c0a]ddd\")","v":"lu."},{"$f":"TEXT(WEEKDAY(DATE(AñoNatural,$A2,C$1),1),\"[$-c0a]ddd\")","v":"ma."},"mi.","ju.","vi.","sá.","do.","lu.","ma.","mi.","ju.","vi.","sá.","do.","lu.","ma.","mi.","ju.","vi.","sá.","do.","lu.","ma.","mi.","ju.","vi.","sá.","do.","lu.","ma.","mi."]
[2,{"$f":"TEXT(WEEKDAY(DATE(AñoNatural,$A3,B$1),1),\"[$-c0a]ddd\")","v":"ju."},"vi.","sá.","do.","lu.","ma.","mi.","ju.","vi.","sá.",{"$f":"TEXT(WEEKDAY(DATE(AñoNatural,$A3,L$1),1),\"[$-c0a]ddd\")","v":"do."},"lu.","ma.","mi.","ju.","vi.","sá.","do.","lu.","ma.",{"$f":"TEXT(WEEKDAY(DATE(AñoNatural,$A3,V$1),1),\"[$-c0a]ddd\")","v":"mi."},"ju.","vi.","sá.","do.","lu.","ma.","mi.",{"$f":"TEXT(WEEKDAY(DATE(AñoNatural,$A3,AD$1),1),\"[$-c0a]ddd\")","v":"ju."}]
[3,"vi.","sá.","do.","lu.","ma.","mi.","ju.","vi.","sá.","do.","lu.","ma.","mi.","ju.","vi.","sá.","do.","lu.","ma.","mi.","ju.","vi.","sá.","do.","lu.","ma.","mi.","ju.",{"$f":"TEXT(WEEKDAY(DATE(AñoNatural,$A4,AD$1),1),\"[$-c0a]ddd\")","v":"vi."},{"$f":"TEXT(WEEKDAY(DATE(AñoNatural,$A4,AE$1),1),\"[$-c0a]ddd\")","v":"sá."},{"$f":"TEXT(WEEKDAY(DATE(AñoNatural,$A4,AF$1),1),\"[$-c0a]ddd\")","v":"do."}]
[4,"lu.","ma.","mi.","ju.","vi.","sá.","do.","lu.","ma.","mi.","ju.","vi.","sá.","do.","lu.","ma.","mi.","ju.","vi.","sá.","do.","lu.","ma.","mi.","ju.","vi.","sá.","do.",{"$f":"TEXT(WEEKDAY(DATE(AñoNatural,$A5,AD$1),1),\"[$-c0a]ddd\")","v":"lu."},"ma."]
[5,"mi.","ju.","vi.","sá.","do.","lu.","ma.","mi.","ju.","vi.","sá.","do.","lu.","ma.","mi.","ju.","vi.","sá.","do.","lu.","ma.","mi.","ju.","vi.","sá.","do.","lu.","ma.","mi.","ju.",{"$f":"TEXT(WEEKDAY(DATE(AñoNatural,$A6,AF$1),1),\"[$-c0a]ddd\")","v":"vi."}]
[6,"sá.","do.","lu.","ma.","mi.","ju.","vi.","sá.","do.","lu.","ma.","mi.","ju.","vi.","sá.","do.","lu.","ma.","mi.","ju.","vi.","sá.","do.","lu.","ma.","mi.","ju.","vi.","sá.","do."]
[7,"lu.","ma.","mi.","ju.","vi.","sá.","do.","lu.","ma.","mi.","ju.","vi.","sá.","do.","lu.","ma.","mi.","ju.","vi.","sá.","do.","lu.","ma.","mi.","ju.","vi.","sá.","do.","lu.","ma.",{"$f":"TEXT(WEEKDAY(DATE(AñoNatural,$A8,AF$1),1),\"[$-c0a]ddd\")","v":"mi."}]
[8,"ju.","vi.","sá.","do.","lu.","ma.","mi.","ju.","vi.","sá.","do.","lu.","ma.","mi.","ju.","vi.","sá.","do.","lu.","ma.","mi.","ju.","vi.","sá.","do.","lu.","ma.","mi.","ju.","vi.",{"$f":"TEXT(WEEKDAY(DATE(AñoNatural,$A9,AF$1),1),\"[$-c0a]ddd\")","v":"sá."}]
[9,"do.","lu.","ma.","mi.","ju.","vi.","sá.","do.","lu.","ma.","mi.","ju.","vi.","sá.","do.","lu.","ma.","mi.","ju.","vi.","sá.","do.","lu.","ma.","mi.","ju.","vi.","sá.","do.","lu."]
[10,"ma.","mi.","ju.","vi.","sá.","do.","lu.","ma.","mi.","ju.","vi.","sá.","do.","lu.","ma.","mi.","ju.","vi.","sá.","do.","lu.","ma.","mi.","ju.","vi.","sá.","do.","lu.","ma.","mi.",{"$f":"TEXT(WEEKDAY(DATE(AñoNatural,$A11,AF$1),1),\"[$-c0a]ddd\")","v":"ju."}]
[11,"vi.","sá.","do.","lu.","ma.","mi.","ju.","vi.","sá.","do.","lu.","ma.","mi.","ju.","vi.","sá.","do.","lu.","ma.","mi.","ju.","vi.","sá.","do.","lu.","ma.","mi.","ju.","vi.","sá."]
[12,"do.","lu.","ma.","mi.","ju.","vi.","sá.","do.","lu.","ma.","mi.","ju.","vi.","sá.","do.","lu.","ma.","mi.","ju.","vi.","sá.","do.","lu.","ma.","mi.","ju.","vi.","sá.","do.","lu.",{"$f":"TEXT(WEEKDAY(DATE(AñoNatural,$A13,AF$1),1),\"[$-c0a]ddd\")","v":"ma."}]
[]
[]
[]
["ENERO",1,null,null,null,null,null,null,"L","Lu."]
["FEBRERO",2,null,null,null,null,null,null,"M","Ma."]
["MARZO",3,null,null,null,null,null,null,"Mi","Mi."]
["ABRIL",4,null,null,null,null,null,null,"J","Ju."]
["MAYO",5,null,null,null,null,null,null,"V","Vi."]
["JUNIO",6,null,null,null,null,null,null,"S","Sa."]
["JULIO",7,null,null,null,null,null,null,"D","Do."]
["AGOSTO",8]
["SEPTIEMBRE",9]
["OCTUBRE",10]
["NOVIEMBRE",11]
["DICIEMBRE",12]