{"text_format":"1","workbook":"xlsx","n_sheets":7,"sheets":["OFICIO","ASISTENCIA","REPORTE CONSOLIDADO","Norma","HORAS EFECTIVAS","DATA","CALEND"],"not_rendered":{"charts":0,"images":6,"macros":1,"external_links":1,"defined_names":11,"comments":0,"pivot_tables":0},"unopened":[],"bounds":{"document_bytes":16777216,"sheet_cells":100000,"rows_first":2000,"rows_last":500,"rows_between":2000,"halvings":0,"cell_chars":16384,"cell_head_chars":4096},"cells_cut":0,"cells_raw":0,"read":"whole","date_system":"1900"}

{"sheet":"OFICIO","index":0,"n_rows":0,"n_cols":0,"rows_kept":0,"cut":false,"hidden":false,"merged":[]}

{"sheet":"ASISTENCIA","index":1,"n_rows":39,"n_cols":59,"rows_kept":39,"cut":false,"hidden":false,"merged":[[9,0,11,0],[6,32,6,36],[28,3,28,4],[9,5,11,5],[9,4,11,4],[9,7,11,7],[9,6,11,6],[10,1,11,1],[10,2,11,2],[38,3,38,4],[34,3,34,4],[35,3,35,4],[36,3,36,4],[37,3,37,4],[34,48,34,51],[30,38,30,39],[33,3,33,4],[32,3,32,4],[10,40,11,40],[31,38,31,39],[29,38,29,39],[10,39,11,39],[31,3,31,4],[30,24,30,37],[29,3,29,4],[30,3,30,4],[9,3,11,3],[9,8,9,38],[0,4,1,34],[6,9,6,12],[7,9,7,12],[7,5,7,7],[6,13,6,25],[7,13,7,25],[5,5,5,25],[6,5,6,7],[4,18,4,20],[4,16,4,17],[3,4,3,35],[4,28,4,34],[4,6,4,10],[2,0,2,38]]}
[null,null,null,null,"NORMAS  PARA EL REGISTRO Y CONTROL  DE ASISTENCIA  Y SU  APLICACIÓN  EN LA PLANILLA  ÚNICA DE PAGOS DE LOS  PROFESORES Y AUXILIARES DE EDUCACIÓN, EN EL  MARCO  DE LA LEY DE REFORMA MAGISTERIAL Y SU REGLAMENTO (R.S.G. N° 326-2017-MINEDU)",null,null,null,null,null,null,null,null,null,null,null,null,null,null,null,null,null,null,null,null,null,null,null,null,null,null,null,null,null,null,null,null,null,null,null,null,null,null,null,null,null,null,null,null,null,null,null,null,null,null,null,"CARGO","CONDICION LABORAL","TURNO"]
[null,null,null,null,null,null,null,null,null,null,null,null,null,null,null,null,null,null,null,null,null,null,null,null,null,null,null,null,null,null,null,null,null,null,null,null,null,null,null,null,null,null,null,null,null,null,null,null,null,null,null,null,null,null,null,null,"Director(e)","Nombrado","Mañana"]
["ANEXO 03",null,null,null,null,null,null,null,null,null,null,null,null,null,null,null,null,null,null,null,null,null,null,null,null,null,null,null,null,null,null,null,null,null,null,null,null,null,null,null,null,null,null,null,null,null,null,null,null,null,null,null,null,null,null,null,"Director Desig.","Destacado","Tarde"]
[null,null,null,null,"FORMATO 01: REPORTE DE ASISTENCIA DETALLADO ",null,null,null,null,null,null,null,null,null,null,null,null,null,null,null,null,null,null,null,null,null,null,null,null,null,null,null,null,null,null,null,null,null,null,null,null,null,null,null,null,null,null,null,null,null,null,null,null,null,null,null,"Sub Director","Contratado","Noche"]
[null,null,null,null,"UGEL: EL COLLAO","MES: ","JULIO",null,null,null,null,{"$f":"VLOOKUP(G5,CALEND!$A$17:$B$28,2,FALSE)","v":7},null,null,null,null,"AÑO:",null,2024,null,null,null,null,{"$f":"+AñoNatural","v":2024},null,"TURNO:",null,null,"Mañana",null,null,null,null,null,null,null,null,null,null,null,null,null,null,null,null,null,null,null,null,null,null,null,null,null,null,null,"Coord. Pedag.","CAS","Mañana y Tarde"]
[null,null,null,null,"INSTITUCIÓN EDUCATIVA:","\"JOSÉ OLAYA\"- CHIPANA",null,null,null,null,null,null,null,null,null,null,null,null,null,null,null,null,null,null,null,null,null,null,null,null,null,null,null,null,null,null,null,null,null,null,null,null,null,null,null,null,null,null,null,null,null,null,null,null,null,null,"Profesor","Encargado"]
[null,null,null,null,"NIVEL EDUCATIVO Y MODALIDAD:","F0 - SECUNDARIA",null,null,null,"DIRECCION:",null,null,null,"JR. CHIPANA S/N",null,null,null,null,null,null,null,null,null,null,null,null,null,null,null,null,null,null,null,null,null,null,null,null,null,null,null,null,null,null,null,null,null,null,null,null,null,null,null,null,null,null,"Aux. Educación"]
[null,null,null,null,"CODIGO MODULAR:","0522391",null,null,null,"DIST / CP:",null,null,null,"PILCUYO / CHIPANA",null,null,null,null,null,null,null,null,null,null,null,null,null,null,null,null,null,null,null,null,null,null,null,null,null,null,null,null,null,null,null,null,null,null,null,null,null,null,null,null,null,null,"Bibliotecario"]
[null,null,null,null,null,null,null,null,null,null,null,null,null,null,null,null,null,null,null,null,null,null,null,null,null,null,null,null,null,null,null,null,null,null,null,null,null,null,null,null,null,null,null,null,null,null,null,null,null,null,null,null,null,null,null,null,"Oficinista"]
["N°",null,null,"DNI","APELLIDOS Y NOMBRES","CARGO","CONDICION LABORAL","JORNADA LABORAL","DIAS CALENDARIO",null,null,null,null,null,null,null,null,null,null,null,null,null,null,null,null,null,null,null,null,null,null,null,null,null,null,null,null,null,null,null,null,null,null,null,null,null,null,null,null,null,null,null,null,null,null,null,"Aux. de Laboratorio"]
[null,"COD MOD II.EE.","MES",null,null,null,null,null,1,2,3,4,5,6,7,8,9,10,11,12,13,14,15,16,17,18,19,20,21,22,23,24,25,26,27,28,29,{"$f":"IF(G5=\"FEBRERO\",\"\",30)","v":30},31,"Inasistencia + LSGH","OBSERVACIONES",null,null,null,null,null,null,null,null,null,null,null,null,null,null,null,"Pers. Servicio"]
[null,null,null,null,null,null,null,null,{"$f":"IF(LEN(VLOOKUP($L$5,CALEND!$A$2:$AF$13,I$11+1,FALSE))>0,VLOOKUP($L$5,CALEND!$A$2:$AF$13,I$11+1,FALSE),\"\")","v":"lu."},{"$f":"IF(LEN(VLOOKUP($L$5,CALEND!$A$2:$AF$13,J$11+1,FALSE))>0,VLOOKUP($L$5,CALEND!$A$2:$AF$13,J$11+1,FALSE),\"\")","v":"ma."},{"$f":"IF(LEN(VLOOKUP($L$5,CALEND!$A$2:$AF$13,K$11+1,FALSE))>0,VLOOKUP($L$5,CALEND!$A$2:$AF$13,K$11+1,FALSE),\"\")","v":"mi."},{"$f":"IF(LEN(VLOOKUP($L$5,CALEND!$A$2:$AF$13,L$11+1,FALSE))>0,VLOOKUP($L$5,CALEND!$A$2:$AF$13,L$11+1,FALSE),\"\")","v":"ju."},{"$f":"IF(LEN(VLOOKUP($L$5,CALEND!$A$2:$AF$13,M$11+1,FALSE))>0,VLOOKUP($L$5,CALEND!$A$2:$AF$13,M$11+1,FALSE),\"\")","v":"vi."},{"$f":"IF(LEN(VLOOKUP($L$5,CALEND!$A$2:$AF$13,N$11+1,FALSE))>0,VLOOKUP($L$5,CALEND!$A$2:$AF$13,N$11+1,FALSE),\"\")","v":"sá."},{"$f":"IF(LEN(VLOOKUP($L$5,CALEND!$A$2:$AF$13,O$11+1,FALSE))>0,VLOOKUP($L$5,CALEND!$A$2:$AF$13,O$11+1,FALSE),\"\")","v":"do."},{"$f":"IF(LEN(VLOOKUP($L$5,CALEND!$A$2:$AF$13,P$11+1,FALSE))>0,VLOOKUP($L$5,CALEND!$A$2:$AF$13,P$11+1,FALSE),\"\")","v":"lu."},{"$f":"IF(LEN(VLOOKUP($L$5,CALEND!$A$2:$AF$13,Q$11+1,FALSE))>0,VLOOKUP($L$5,CALEND!$A$2:$AF$13,Q$11+1,FALSE),\"\")","v":"ma."},{"$f":"IF(LEN(VLOOKUP($L$5,CALEND!$A$2:$AF$13,R$11+1,FALSE))>0,VLOOKUP($L$5,CALEND!$A$2:$AF$13,R$11+1,FALSE),\"\")","v":"mi."},{"$f":"IF(LEN(VLOOKUP($L$5,CALEND!$A$2:$AF$13,S$11+1,FALSE))>0,VLOOKUP($L$5,CALEND!$A$2:$AF$13,S$11+1,FALSE),\"\")","v":"ju."},{"$f":"IF(LEN(VLOOKUP($L$5,CALEND!$A$2:$AF$13,T$11+1,FALSE))>0,VLOOKUP($L$5,CALEND!$A$2:$AF$13,T$11+1,FALSE),\"\")","v":"vi."},{"$f":"IF(LEN(VLOOKUP($L$5,CALEND!$A$2:$AF$13,U$11+1,FALSE))>0,VLOOKUP($L$5,CALEND!$A$2:$AF$13,U$11+1,FALSE),\"\")","v":"sá."},{"$f":"IF(LEN(VLOOKUP($L$5,CALEND!$A$2:$AF$13,V$11+1,FALSE))>0,VLOOKUP($L$5,CALEND!$A$2:$AF$13,V$11+1,FALSE),\"\")","v":"do."},{"$f":"IF(LEN(VLOOKUP($L$5,CALEND!$A$2:$AF$13,W$11+1,FALSE))>0,VLOOKUP($L$5,CALEND!$A$2:$AF$13,W$11+1,FALSE),\"\")","v":"lu."},{"$f":"IF(LEN(VLOOKUP($L$5,CALEND!$A$2:$AF$13,X$11+1,FALSE))>0,VLOOKUP($L$5,CALEND!$A$2:$AF$13,X$11+1,FALSE),\"\")","v":"ma."},{"$f":"IF(LEN(VLOOKUP($L$5,CALEND!$A$2:$AF$13,Y$11+1,FALSE))>0,VLOOKUP($L$5,CALEND!$A$2:$AF$13,Y$11+1,FALSE),\"\")","v":"mi."},{"$f":"IF(LEN(VLOOKUP($L$5,CALEND!$A$2:$AF$13,Z$11+1,FALSE))>0,VLOOKUP($L$5,CALEND!$A$2:$AF$13,Z$11+1,FALSE),\"\")","v":"ju."},{"$f":"IF(LEN(VLOOKUP($L$5,CALEND!$A$2:$AF$13,AA$11+1,FALSE))>0,VLOOKUP($L$5,CALEND!$A$2:$AF$13,AA$11+1,FALSE),\"\")","v":"vi."},{"$f":"IF(LEN(VLOOKUP($L$5,CALEND!$A$2:$AF$13,AB$11+1,FALSE))>0,VLOOKUP($L$5,CALEND!$A$2:$AF$13,AB$11+1,FALSE),\"\")","v":"sá."},{"$f":"IF(LEN(VLOOKUP($L$5,CALEND!$A$2:$AF$13,AC$11+1,FALSE))>0,VLOOKUP($L$5,CALEND!$A$2:$AF$13,AC$11+1,FALSE),\"\")","v":"do."},{"$f":"IF(LEN(VLOOKUP($L$5,CALEND!$A$2:$AF$13,AD$11+1,FALSE))>0,VLOOKUP($L$5,CALEND!$A$2:$AF$13,AD$11+1,FALSE),\"\")","v":"lu."},{"$f":"IF(LEN(VLOOKUP($L$5,CALEND!$A$2:$AF$13,AE$11+1,FALSE))>0,VLOOKUP($L$5,CALEND!$A$2:$AF$13,AE$11+1,FALSE),\"\")","v":"ma."},{"$f":"IF(LEN(VLOOKUP($L$5,CALEND!$A$2:$AF$13,AF$11+1,FALSE))>0,VLOOKUP($L$5,CALEND!$A$2:$AF$13,AF$11+1,FALSE),\"\")","v":"mi."},{"$f":"IF(LEN(VLOOKUP($L$5,CALEND!$A$2:$AF$13,AG$11+1,FALSE))>0,VLOOKUP($L$5,CALEND!$A$2:$AF$13,AG$11+1,FALSE),\"\")","v":"ju."},{"$f":"IF(LEN(VLOOKUP($L$5,CALEND!$A$2:$AF$13,AH$11+1,FALSE))>0,VLOOKUP($L$5,CALEND!$A$2:$AF$13,AH$11+1,FALSE),\"\")","v":"vi."},{"$f":"IF(LEN(VLOOKUP($L$5,CALEND!$A$2:$AF$13,AI$11+1,FALSE))>0,VLOOKUP($L$5,CALEND!$A$2:$AF$13,AI$11+1,FALSE),\"\")","v":"sá."},{"$f":"IF(LEN(VLOOKUP($L$5,CALEND!$A$2:$AF$13,AJ$11+1,FALSE))>0,VLOOKUP($L$5,CALEND!$A$2:$AF$13,AJ$11+1,FALSE),\"\")","v":"do."},{"$f":"IF(LEN(VLOOKUP($L$5,CALEND!$A$2:$AF$13,AK$11+1,FALSE))>0,VLOOKUP($L$5,CALEND!$A$2:$AF$13,AK$11+1,FALSE),\"\")","v":"lu."},{"$f":"IF(LEN(VLOOKUP($L$5,CALEND!$A$2:$AF$13,AL$11+1,FALSE))>0,VLOOKUP($L$5,CALEND!$A$2:$AF$13,AL$11+1,FALSE),\"\")","v":"ma."},{"$f":"IF(LEN(VLOOKUP($L$5,CALEND!$A$2:$AF$13,AM$11+1,FALSE))>0,VLOOKUP($L$5,CALEND!$A$2:$AF$13,AM$11+1,FALSE),\"\")","v":"mi."},null,null,null,"I","LG","LS","LGU","TR","F","T","P","H",null,null,null,null,null,"Secretaria(o)"]
[null,{"$f":"IF(LEN(C13)>0,VLOOKUP($F$6,DATA!$A:$S,2,FALSE),\"\")","v":""},{"$f":"IF(LEN(E13)>0,$G$5,\"\")","v":""},null,null,null,null,null,{"$f":"IF(AND(LEN($E13)>0,I$12<>\"sá.\",I$12<>\"do.\",I$12<>\"\"),\"C\",\"\")","v":""},"","","","","","","","","","","","","","","","","","","","","","","","","","","","","",null,{"$f":"IF(OR(COUNTIF($I13:$AM13,\"X\")>0,COUNTIF($I13:$AM13,\"L\")>0),COUNTIF($I13:$AM13,\"X\")+COUNTIF($I13:$AM13,\"L\"),\"\")","v":""},null,null,{"$f":"COUNTIF(J13:AM13,$AO$9)","v":0},{"$f":"COUNTIF(J13:AM13,$AP$9)","v":0},{"$f":"COUNTIF(J13:AM13,$AQ$9)","v":0},{"$f":"COUNTIF(J13:AM13,$AR$9)","v":0},{"$f":"COUNTIF(J13:AM13,$AS$9)","v":0},{"$f":"COUNTIF(J13:AM13,$AT$9)","v":0},null,null,null,null,null,null,null,null,"Vigilante"]
[{"$f":"IF(LEN(E14)>0,1+A13,\"\")","v":1},{"$f":"IF(LEN(C14)>0,VLOOKUP($F$8,DATA!$A$4:$A$296,1,FALSE),\"\")","v":"0522391"},"JULIO","41076679","ARCATA FLORES, Héctor","Director Desig.","Nombrado",40,{"$f":"IF(AND(LEN($E14)>0,I$12<>\"sá.\",I$12<>\"do.\",I$12<>\"\"),\"A\",\"\")","v":"A"},"A","A","A","A",null,null,"A","A","A","A","A",null,null,{"$f":"IF(AND(LEN($E14)>0,W$12<>\"sá.\",W$12<>\"do.\",W$12<>\"\"),\"A\",\"\")","v":"A"},"A","A","A","A",null,null,{"$f":"IF(AND(LEN($E14)>0,AD$12<>\"sá.\",AD$12<>\"do.\",AD$12<>\"\"),\"A\",\"\")","v":"A"},"A","A","A","A",null,null,{"$f":"IF(AND(LEN($E14)>0,AK$12<>\"sá.\",AK$12<>\"do.\",AK$12<>\"\"),\"A\",\"\")","v":"A"},"A","A",{"$f":"IF(AND(LEN($E14)>0,AN$12<>\"sá.\",AN$12<>\"do.\",AN$12<>\"\"),\"TR\",\"\")","v":""},null,null,{"$f":"COUNTIF(I14:AM14,$AQ$12)","v":0},{"$f":"COUNTIF(I14:AM14,$AR$12)","v":0},{"$f":"COUNTIF(I14:AM14,$AS$12)","v":0},{"$f":"COUNTIF(I14:AM14,$AT$12)","v":0},{"$f":"COUNTIF(I14:AM14,$AU$12)","v":0},{"$f":"COUNTIF(I14:AM14,$AV$12)","v":0},{"$f":"COUNTIF(I14:AM14,$AW$12)","v":0},{"$f":"COUNTIF(I14:AM14,$AX$12)","v":0},{"$f":"COUNTIF(I14:AM14,$AY$12)","v":0},null,null,null,{"$f":"COUNTIF(I14:AM14,\"T\")","v":0},{"$f":"INT(BC14/3)","v":0},"Coord. Adm."]
[{"$f":"IF(LEN(E15)>0,1+A14,\"\")","v":2},{"$f":"IF(LEN(C15)>0,VLOOKUP($F$8,DATA!$A$4:$A$296,1,FALSE),\"\")","v":"0522391"},"JULIO","01310349","MEDINA ESTELA, Lázaro Moisés","Profesor","Nombrado",30,"A","A","A","A","A",null,null,"A","A","A","A","A",null,null,"A","A","A","A","A",null,null,"A","A","A","A","A",null,null,"A","A","A","",null,null,{"$f":"COUNTIF(I15:AM15,$AQ$12)","v":0},{"$f":"COUNTIF(I15:AM15,$AR$12)","v":0},{"$f":"COUNTIF(I15:AM15,$AS$12)","v":0},{"$f":"COUNTIF(I15:AM15,$AT$12)","v":0},{"$f":"COUNTIF(I15:AM15,$AU$12)","v":0},{"$f":"COUNTIF(I15:AM15,$AV$12)","v":0},{"$f":"COUNTIF(I15:AM15,$AW$12)","v":0},{"$f":"COUNTIF(I15:AM15,$AX$12)","v":0},{"$f":"COUNTIF(I15:AM15,$AY$12)","v":0},null,null,null,0,{"$f":"INT(BC15/3)","v":0},"CIST"]
[3,{"$f":"IF(LEN(C16)>0,VLOOKUP($F$8,DATA!$A$4:$A$296,1,FALSE),\"\")","v":"0522391"},"JULIO","01240292","VELASQUEZ FLORES, Dennis Edgar","Profesor","Nombrado",30,"A","A","A","A","A",null,null,"A","A","A","A","A",null,null,"A","A","A","A","A",null,null,"A","A","A","A","A",null,null,"A","A","A","",null,null,0,0,0,0,0,0,0,0,0,null,null,null,0,0,"Psicólogo"]
[4,{"$f":"IF(LEN(C17)>0,VLOOKUP($F$8,DATA!$A$4:$A$296,1,FALSE),\"\")","v":"0522391"},"JULIO","01798835","PEÑALOZA VILCA, Pablo","Profesor","Nombrado",30,"A","A","A","A","A",null,null,"A","A","A","A","A",null,null,"A","A","A","A","A",null,null,"A","A","A","A","A",null,null,"A","A","A","",null,null,0,0,0,0,0,0,0,0,0,null,null,null,0,0,"Apoyo Educativo"]
[5,{"$f":"IF(LEN(C18)>0,VLOOKUP($F$8,DATA!$A$4:$A$296,1,FALSE),\"\")","v":"0522391"},"JULIO","01848606","MAQUERA CCALLO, Victor Raúl","Profesor","Nombrado",30,"A","A","A","A","A",null,null,"A","A","A","A","A",null,null,"A","A","A","A","A",null,null,"A","A","A","A","A",null,null,"A","A","A","",null,null,0,0,0,0,0,0,0,0,0,null,null,null,0,0,"Pers. Mantenim."]
[6,{"$f":"IF(LEN(C19)>0,VLOOKUP($F$8,DATA!$A$4:$A$296,1,FALSE),\"\")","v":"0522391"},"JULIO","01797799","GUEVARA MAMANI, Roger","Profesor","Nombrado",30,"A","A","A","A","A",null,null,"A","A","A","A","A",null,null,"A","A","A","A","A",null,null,"A","A","A","A","A",null,null,"A","A","A","",null,null,0,0,0,0,0,0,0,0,0,null,null,null,0,0]
[7,{"$f":"IF(LEN(C20)>0,VLOOKUP($F$8,DATA!$A$4:$A$296,1,FALSE),\"\")","v":"0522391"},"JULIO","01317213","VILCA MENDOZA, Luis Adolfo","Profesor","Nombrado",30,"A","A","A","A","A",null,null,"A","A","A","A","A",null,null,"A","A","A","A","A",null,null,"A","A","A","A","A",null,null,"A","A","A","",null,null,0,0,0,0,0,0,0,0,0,null,null,null,0,0]
[8,{"$f":"IF(LEN(C21)>0,VLOOKUP($F$8,DATA!$A$4:$A$296,1,FALSE),\"\")","v":"0522391"},"JULIO","43576629","CHOQUE ESCOBAR, Fredy","Profesor","Contratado",30,"A","A","A","A","A",null,null,null,null,null,null,null,null,null,null,null,null,null,null,null,null,null,null,null,null,null,null,null,null,null,null,"",null,null,0,0,0,0,0,0,0,0,0,null,null,null,0,0]
[9,{"$f":"IF(LEN(C22)>0,VLOOKUP($F$8,DATA!$A$4:$A$296,1,FALSE),\"\")","v":"0522391"},"JULIO","40071492","MAQUERA LUPACA, Renán Wilfredo","Profesor","Nombrado",30,"LS","LS","LS","LS","LS",null,null,"A","A","A","A","A",null,null,"A","A","A","A","A",null,null,"A","A","A","A","A",null,null,"A","A","A","",null,null,0,0,5,0,0,0,0,0,0,null,null,null,0,0]
[10,{"$f":"IF(LEN(C23)>0,VLOOKUP($F$8,DATA!$A$4:$A$296,1,FALSE),\"\")","v":"0522391"},"JULIO","43551391","CHAGUA CHOQUEGONZA, Gilmer","Aux. Educación","Nombrado",30,{"$f":"IF(AND(LEN($E23)>0,I$12<>\"sá.\",I$12<>\"do.\",I$12<>\"\"),\"A\",\"\")","v":"A"},"A","A","A","A",null,null,"A","A","A","A","A",null,null,"A","A","A","A","A",null,null,"A","A","A","A","A",null,null,"A","A","A","",null,null,0,0,0,0,0,0,0,0,0,null,null,null,0,0]
[11,{"$f":"IF(LEN(C24)>0,VLOOKUP($F$8,DATA!$A$4:$A$296,1,FALSE),\"\")","v":"0522391"},"JULIO","01797584","TICONA MAQUERA, Casiano","Bibliotecario","Nombrado",40,"A","A","A","A","A",null,null,"A","A","A","A","A",null,null,"A","A","A","A","A",null,null,"A","A","A","A","A",null,null,"A","A","A","",null,null,0,0,0,0,0,0,0,0,0,null,null,null,0,0]
[12,{"$f":"IF(LEN(C25)>0,VLOOKUP($F$8,DATA!$A$4:$A$296,1,FALSE),\"\")","v":"0522391"},"JULIO","01797851","GUEVARA HUANACUNI, Sergio","Pers. Servicio","Nombrado",40,"A","A","A","A","A",null,null,"A","A","A","A","A",null,null,"A","A","A","A","A",null,null,"A","A","A","A","A",null,null,"A","A","A","",null,null,0,0,0,0,0,0,0,0,0,null,null,null,0,0]
[13,{"$f":"IF(LEN(C26)>0,VLOOKUP($F$8,DATA!$A$4:$A$296,1,FALSE),\"\")","v":"0522391"},"JULIO","01797271","TICONA LUPACA, Ricardo","Pers. Servicio","Nombrado",40,"A","A","A","A","A",null,null,"A","A","A","A","A",null,null,"A","A","A","A","A",null,null,"A","A","A","A","A",null,null,"A","A","A","",null,null,0,0,0,0,0,0,0,0,0,null,null,null,0,0]
[14,{"$f":"IF(LEN(C27)>0,VLOOKUP($F$8,DATA!$A$4:$A$296,1,FALSE),\"\")","v":"0522391"},"JULIO","01841659","MONTALICO APAZA, Anastacio","Aux. de Laboratorio","Nombrado",40,"A","A","A","A","A",null,null,"A","A","A","A","A",null,null,"A","A","A","A","A",null,null,"A","A","A","A","A",null,null,"A","A","A","",null,null,0,0,0,0,0,0,0,0,0,null,null,null,0,0]
["LEYENDA:",{"$f":"IF(LEN(C28)>0,VLOOKUP($F$6,DATA!$A:$S,2,FALSE),\"\")","v":""}]
["A",null,"C","ASISTENCIA"]
["I",null,"L","INASISTENCIA INJUSTIFICADA",null,null,null,null,null,null,null,null,null,null,null,null,null,null,null,null,null,null,null,null,null,null,null,null,null,null,null,null,null,null,null,null,null,null,null,null,"NOMBRADO (A)",null,null,null,null,null,null,"I","INASISTENCIA INJUSTIFICADA"]
["LG",null,null,"LICENCIA CON GOCE DE REMUNERACIONES ",null,null,null,null,null,null,null,null,null,null,null,null,null,null,null,null,null,null,null,"LUGAR Y FECHA:","Chipana, 03 de Agosto del 2024",null,null,null,null,null,null,null,null,null,null,null,null,null,null,null,"CONTRATADO (A)",null,null,null,null,null,null,"LG","LICENCIA CON GOCE DE REMUNERACIONES "]
["LS",null,null,"LICENCIA SIN GOCE DE REMUNERACIONES ",null,null,null,null,null,null,null,null,null,null,null,null,null,null,null,null,null,null,null,null,null,null,null,null,null,null,null,null,null,null,null,null,null,null,null,null,"DESTACADO (A)",null,null,null,null,null,null,"LS","LICENCIA SIN GOCE DE REMUNERACIONES "]
["LGU",null,"J","LICENCIA CON GOCE POR DECRETO DE URGENCIA"]
["TR",null,"X","TRABAJO REMOTO POR DECRETO DE URGENCIA",null,null,null,null,null,null,null,null,null,null,null,null,null,null,null,null,null,null,null,null,null,null,null,null,null,null,null,null,null,null,null,null,null,null,null,null,null,null,null,null,null,null,null,"LGU","LICENCIA CON GOCE POR DECRETO DE URGENCIA"]
["F",null,null,"FALTAS",null,null,null,null,null,null,null,null,null,null,null,null,null,null,null,null,null,null,null,null,null,null,null,null,null,null,null,null,null,null,null,null,null,null,null,null,null,null,null,null,null,null,null,"TR","TRABAJO REMOTO POR DECRETO DE URGENCIA"]
["T",null,null,"TARDANZA EN MINUTOS (DIGITACION EN NUMEROS)",null,null,null,null,null,null,null,null,null,null,null,null,null,null,null,null,null,null,null,null,null,null,null,null,null,null,null,null,null,null,null,null,null,null,null,null,null,null,null,null,null,null,null,"F","Faltas"]
["P",null,null,"PERMISO SIN GOCE DE REMUNERACIONES",null,null,null,null,null,null,null,null,null,null,null,null,null,null,null,null,null,null,null,null,null,null,null,null,null,null,null,null,null,null,null,null,null,null,null,null,null,null,null,null,null,null,null,"T","TARDANZA EN MINUTOS (DIGITACION EN NUMEROS)"]
["H",null,null,"HUELGA O PARO",null,null,null,null,null,null,null,null,null,null,null,null,null,null,null,null,null,null,null,null,null,null,null,null,null,null,null,null,null,null,null,null,null,null,null,null,null,null,null,null,null,null,null,"P","PERMISO SIN GOCE DE REMUNERACIONES"]
["V",null,null,"VACACIONES",null,null,null,null,null,null,null,null,null,null,null,null,null,null,null,null,null,null,null,null,null,null,null,null,null,null,null,null,null,null,null,null,null,null,null,null,null,null,null,null,null,null,null,"H","HUELGA O PARO"]

{"sheet":"REPORTE CONSOLIDADO","index":2,"n_rows":148,"n_cols":38,"rows_kept":148,"cut":false,"hidden":false,"merged":[[144,14,149,20],[140,27,140,35],[141,27,141,35],[3,4,3,34],[135,27,135,35],[136,27,136,35],[137,27,137,35],[138,27,138,35],[139,27,139,35],[130,27,130,35],[131,27,131,35],[132,27,132,35],[133,27,133,35],[134,27,134,35],[125,27,125,35],[126,27,126,35],[127,27,127,35],[128,27,128,35],[129,27,129,35],[120,27,120,35],[121,27,121,35],[122,27,122,35],[123,27,123,35],[124,27,124,35],[115,27,115,35],[116,27,116,35],[117,27,117,35],[118,27,118,35],[119,27,119,35],[110,27,110,35],[111,27,111,35],[112,27,112,35],[113,27,113,35],[114,27,114,35],[105,27,105,35],[106,27,106,35],[107,27,107,35],[108,27,108,35],[109,27,109,35],[100,27,100,35],[101,27,101,35],[102,27,102,35],[103,27,103,35],[104,27,104,35],[95,27,95,35],[96,27,96,35],[97,27,97,35],[98,27,98,35],[99,27,99,35],[90,27,90,35],[91,27,91,35],[92,27,92,35],[93,27,93,35],[94,27,94,35],[85,27,85,35],[86,27,86,35],[87,27,87,35],[88,27,88,35],[89,27,89,35],[80,27,80,35],[81,27,81,35],[82,27,82,35],[83,27,83,35],[84,27,84,35],[75,27,75,35],[76,27,76,35],[77,27,77,35],[78,27,78,35],[79,27,79,35],[70,27,70,35],[71,27,71,35],[72,27,72,35],[73,27,73,35],[74,27,74,35],[53,27,53,35],[54,27,54,35],[65,27,65,35],[66,27,66,35],[67,27,67,35],[68,27,68,35],[69,27,69,35],[60,27,60,35],[61,27,61,35],[62,27,62,35],[63,27,63,35],[64,27,64,35],[51,27,51,35],[52,27,52,35],[0,0,1,37],[2,0,2,36],[4,6,4,10],[5,5,5,33],[4,26,4,33],[6,5,6,7],[9,0,10,0],[9,3,10,3],[9,4,10,4],[9,5,10,5],[9,6,10,6],[9,7,10,7],[9,11,9,13],[9,27,10,35],[7,5,7,7],[7,11,7,18],[14,27,14,35],[46,27,46,35],[47,27,47,35],[48,27,48,35],[40,27,40,35],[41,27,41,35],[28,27,28,35],[45,27,45,35],[15,27,15,35],[27,27,27,35],[24,27,24,35],[25,27,25,35],[18,27,18,35],[19,27,19,35],[20,27,20,35],[21,27,21,35],[22,27,22,35],[35,27,35,35],[42,27,42,35],[43,27,43,35],[44,27,44,35],[16,27,16,35],[17,27,17,35],[23,27,23,35],[6,11,6,23],[142,27,142,35],[26,27,26,35],[29,27,29,35],[30,27,30,35],[31,27,31,35],[32,27,32,35],[33,27,33,35],[34,27,34,35],[36,27,36,35],[37,27,37,35],[38,27,38,35],[39,27,39,35],[49,27,49,35],[55,27,55,35],[56,27,56,35],[57,27,57,35],[58,27,58,35],[59,27,59,35],[50,27,50,35],[12,27,12,35],[13,27,13,35],[9,22,9,23],[9,19,9,20]]}
["NORMAS  PARA EL REGISTRO Y CONTROL  DE ASISTENCIA  Y SU  APLICACIÓN  EN LA PLANILLA  ÚNICA DE PAGOS DE LOS  PROFESORES Y AUXILIARES DE EDUCACIÓN, EN EL  MARCO  DE LA                                \nLEY DE REFORMA MAGISTERIAL  Y SU  REGLAMENTO (R.S.G. N° 326-2017-MINEDU)"]
[]
["ANEXO 04"]
[null,null,null,null,"FORMATO 02: REPORTE  CONSOLIDADO DE INASISTENCIAS, TARDANZAS Y PERMISOS SIN GOCE DE REMUNERACIÓN"]
[null,null,null,null,"UGEL: EL COLLAO","MES: ",{"$f":"ASISTENCIA!G5","v":"JULIO"},null,null,null,null,{"$f":"VLOOKUP(G5,CALEND!$A$17:$B$28,2,FALSE)","v":7},null,null,null,"AÑO:",null,{"$f":"+ASISTENCIA!X5*1","v":2024},null,null,null,null,null,null,null,"TURNO:",{"$f":"IF(+ASISTENCIA!AC5=\"\",\"\",ASISTENCIA!AC5)","v":"Mañana"}]
[null,null,null,null,"INSTITUCIÓN EDUCATIVA:",{"$f":"IF(+ASISTENCIA!F6=\"\",\"\",ASISTENCIA!F6)","v":"\"JOSÉ OLAYA\"- CHIPANA"}]
[null,null,null,null,"NIVEL EDUCATIVO Y/O MODALIDAD:",{"$f":"IF(+ASISTENCIA!F7=\"\",\"\",ASISTENCIA!F7)","v":"F0 - SECUNDARIA"},null,null,null,"DIRECCION:",null,"JR. CHIPANA S/N"]
[null,null,null,null,"CODIGO MODULAR:",{"$f":"IF(+ASISTENCIA!F8=\"\",\"\",ASISTENCIA!F8)","v":"0522391"},null,null,null,"DIST / CP:",null,{"$f":"IF(+ASISTENCIA!N8=\"\",\"\",ASISTENCIA!N8)","v":"PILCUYO / CHIPANA"}]
[]
["N°",null,null,"DNI","APELLIDOS Y NOMBRES","CARGO","CONDICION LABORAL","JORNADA LABORAL",null,"INASIST. JUSTIFICADAS",null,"LICENCIAS",null,null,null,"TRABAJO REMOTO",null,"FALTAS",null,"TARDANZAS",null,null,"PERMISOS SG",null,null,"HUELGA PARO",null,"Observaciones"]
[null,"COD MOD II.EE.","MES",null,null,null,null,null,null,"DIAS",null,"CON GOCE","SIN GOCE","DU",null,"DU 026-2020\nDS 009-2021",null,"DIAS",null,"# TARD.","MINUTOS (*)",null,"HORAS (*)","MUNUTOS (*)",null,"DIAS",null,null,null,null,null,null,null,null,null,null,"Inasistencia + LSGH","OBSERVACIONES"]
[null,{"$f":"IF(LEN(C12)>0,VLOOKUP($F$6,DATA!$A:$S,2,FALSE),\"\")","v":""},{"$f":"IF(LEN(E12)>0,$G$5,\"\")","v":""},null,null,null,null,null,{"$f":"IF(AND(LEN($E12)>0,#REF!<>\"sá.\",#REF!<>\"do.\",#REF!<>\"\"),\"C\",\"\")","v":{"$error":"#REF!"}},{"$f":"IF(AND(LEN($E12)>0,#REF!<>\"sá.\",#REF!<>\"do.\",#REF!<>\"\"),\"C\",\"\")","v":{"$error":"#REF!"}},{"$f":"IF(AND(LEN($E12)>0,#REF!<>\"sá.\",#REF!<>\"do.\",#REF!<>\"\"),\"C\",\"\")","v":{"$error":"#REF!"}},{"$f":"IF(AND(LEN($E12)>0,#REF!<>\"sá.\",#REF!<>\"do.\",#REF!<>\"\"),\"C\",\"\")","v":{"$error":"#REF!"}},null,{"$f":"IF(AND(LEN($E12)>0,#REF!<>\"sá.\",#REF!<>\"do.\",#REF!<>\"\"),\"C\",\"\")","v":{"$error":"#REF!"}},{"$f":"IF(AND(LEN($E12)>0,#REF!<>\"sá.\",#REF!<>\"do.\",#REF!<>\"\"),\"C\",\"\")","v":{"$error":"#REF!"}},{"$f":"IF(AND(LEN($E12)>0,#REF!<>\"sá.\",#REF!<>\"do.\",#REF!<>\"\"),\"C\",\"\")","v":{"$error":"#REF!"}},{"$f":"IF(AND(LEN($E12)>0,#REF!<>\"sá.\",#REF!<>\"do.\",#REF!<>\"\"),\"C\",\"\")","v":{"$error":"#REF!"}},{"$f":"IF(AND(LEN($E12)>0,#REF!<>\"sá.\",#REF!<>\"do.\",#REF!<>\"\"),\"C\",\"\")","v":{"$error":"#REF!"}},null,{"$f":"IF(AND(LEN($E12)>0,#REF!<>\"sá.\",#REF!<>\"do.\",#REF!<>\"\"),\"C\",\"\")","v":{"$error":"#REF!"}},null,null,{"$f":"IF(AND(LEN($E12)>0,#REF!<>\"sá.\",#REF!<>\"do.\",#REF!<>\"\"),\"C\",\"\")","v":{"$error":"#REF!"}},null,null,{"$f":"IF(AND(LEN($E12)>0,#REF!<>\"sá.\",#REF!<>\"do.\",#REF!<>\"\"),\"C\",\"\")","v":{"$error":"#REF!"}},null,{"$f":"IF(AND(LEN($E12)>0,#REF!<>\"sá.\",#REF!<>\"do.\",#REF!<>\"\"),\"C\",\"\")","v":{"$error":"#REF!"}},{"$f":"IF(AND(LEN($E12)>0,#REF!<>\"sá.\",#REF!<>\"do.\",#REF!<>\"\"),\"C\",\"\")","v":{"$error":"#REF!"}},{"$f":"IF(AND(LEN($E12)>0,#REF!<>\"sá.\",#REF!<>\"do.\",#REF!<>\"\"),\"C\",\"\")","v":{"$error":"#REF!"}},{"$f":"IF(AND(LEN($E12)>0,#REF!<>\"sá.\",#REF!<>\"do.\",#REF!<>\"\"),\"C\",\"\")","v":{"$error":"#REF!"}},{"$f":"IF(AND(LEN($E12)>0,#REF!<>\"sá.\",#REF!<>\"do.\",#REF!<>\"\"),\"C\",\"\")","v":{"$error":"#REF!"}},{"$f":"IF(AND(LEN($E12)>0,#REF!<>\"sá.\",#REF!<>\"do.\",#REF!<>\"\"),\"C\",\"\")","v":{"$error":"#REF!"}},{"$f":"IF(AND(LEN($E12)>0,#REF!<>\"sá.\",#REF!<>\"do.\",#REF!<>\"\"),\"C\",\"\")","v":{"$error":"#REF!"}},{"$f":"IF(AND(LEN($E12)>0,#REF!<>\"sá.\",#REF!<>\"do.\",#REF!<>\"\"),\"C\",\"\")","v":{"$error":"#REF!"}},{"$f":"IF(AND(LEN($E12)>0,#REF!<>\"sá.\",#REF!<>\"do.\",#REF!<>\"\"),\"C\",\"\")","v":{"$error":"#REF!"}},{"$f":"IF(OR(COUNTIF($I12:$AJ12,\"X\")>0,COUNTIF($I12:$AJ12,\"L\")>0),COUNTIF($I12:$AJ12,\"X\")+COUNTIF($I12:$AJ12,\"L\"),\"\")","v":""}]
[{"$f":"IF(+ASISTENCIA!A14=\"\",\"\",ASISTENCIA!A14)","v":1},{"$f":"IF(LEN(C13)>0,VLOOKUP($F$6,DATA!$A:$S,2,FALSE),\"\")","v":{"$error":"#N/A"}},"JULIO",{"$f":"IF(+ASISTENCIA!D14=\"\",\"\",ASISTENCIA!D14)","v":"41076679"},{"$f":"IF(+ASISTENCIA!E14=\"\",\"\",ASISTENCIA!E14)","v":"ARCATA FLORES, Héctor"},{"$f":"IF(+ASISTENCIA!F14=\"\",\"\",ASISTENCIA!F14)","v":"Director Desig."},{"$f":"IF(+ASISTENCIA!G14=\"\",\"\",ASISTENCIA!G14)","v":"Nombrado"},{"$f":"IF(+ASISTENCIA!H14=\"\",\"\",ASISTENCIA!H14)","v":40},null,{"$f":"ASISTENCIA!AQ14","v":0},null,{"$f":"ASISTENCIA!AR14","v":0},{"$f":"ASISTENCIA!AS14","v":0},{"$f":"ASISTENCIA!AT14","v":0},null,{"$f":"ASISTENCIA!AU14","v":0},null,{"$f":"ASISTENCIA!AV14","v":0},null,{"$f":"ASISTENCIA!AW14","v":0},null,null,{"$f":"ASISTENCIA!AX14","v":0},null,null,{"$f":"ASISTENCIA!AY14","v":0},null,null,null,null,null,null,null,null,null,null,""]
[{"$f":"IF(+ASISTENCIA!A15=\"\",\"\",ASISTENCIA!A15)","v":2},{"$f":"IF(LEN(C14)>0,VLOOKUP($F$6,DATA!$A:$S,2,FALSE),\"\")","v":{"$error":"#N/A"}},{"$f":"IF(LEN(E14)>0,$G$5,\"\")","v":"JULIO"},{"$f":"IF(+ASISTENCIA!D15=\"\",\"\",ASISTENCIA!D15)","v":"01310349"},{"$f":"IF(+ASISTENCIA!E15=\"\",\"\",ASISTENCIA!E15)","v":"MEDINA ESTELA, Lázaro Moisés"},{"$f":"IF(+ASISTENCIA!F15=\"\",\"\",ASISTENCIA!F15)","v":"Profesor"},{"$f":"IF(+ASISTENCIA!G15=\"\",\"\",ASISTENCIA!G15)","v":"Nombrado"},{"$f":"IF(+ASISTENCIA!H15=\"\",\"\",ASISTENCIA!H15)","v":30},null,{"$f":"ASISTENCIA!AQ15","v":0},null,{"$f":"ASISTENCIA!AR15","v":0},{"$f":"ASISTENCIA!AS15","v":0},{"$f":"ASISTENCIA!AT15","v":0},null,{"$f":"ASISTENCIA!AU15","v":0},null,{"$f":"ASISTENCIA!AV15","v":0},null,{"$f":"ASISTENCIA!AW15","v":0},null,null,{"$f":"ASISTENCIA!AX15","v":0},null,null,{"$f":"ASISTENCIA!AY15","v":0},null,null,null,null,null,null,null,null,null,null,""]
[{"$f":"IF(+ASISTENCIA!A16=\"\",\"\",ASISTENCIA!A16)","v":3},{"$f":"IF(LEN(C15)>0,VLOOKUP($F$6,DATA!$A:$S,2,FALSE),\"\")","v":{"$error":"#N/A"}},"JULIO",{"$f":"IF(+ASISTENCIA!D16=\"\",\"\",ASISTENCIA!D16)","v":"01240292"},{"$f":"IF(+ASISTENCIA!E16=\"\",\"\",ASISTENCIA!E16)","v":"VELASQUEZ FLORES, Dennis Edgar"},{"$f":"IF(+ASISTENCIA!F16=\"\",\"\",ASISTENCIA!F16)","v":"Profesor"},{"$f":"IF(+ASISTENCIA!G16=\"\",\"\",ASISTENCIA!G16)","v":"Nombrado"},{"$f":"IF(+ASISTENCIA!H16=\"\",\"\",ASISTENCIA!H16)","v":30},null,{"$f":"ASISTENCIA!AQ16","v":0},null,{"$f":"ASISTENCIA!AR16","v":0},{"$f":"ASISTENCIA!AS16","v":0},{"$f":"ASISTENCIA!AT16","v":0},null,{"$f":"ASISTENCIA!AU16","v":0},null,{"$f":"ASISTENCIA!AV16","v":0},null,{"$f":"ASISTENCIA!AW16","v":0},null,null,{"$f":"ASISTENCIA!AX16","v":0},null,null,{"$f":"ASISTENCIA!AY16","v":0},null,null,null,null,null,null,null,null,null,null,""]
[{"$f":"IF(+ASISTENCIA!A17=\"\",\"\",ASISTENCIA!A17)","v":4},{"$f":"IF(LEN(C16)>0,VLOOKUP($F$6,DATA!$A:$S,2,FALSE),\"\")","v":{"$error":"#N/A"}},"JULIO",{"$f":"IF(+ASISTENCIA!D17=\"\",\"\",ASISTENCIA!D17)","v":"01798835"},{"$f":"IF(+ASISTENCIA!E17=\"\",\"\",ASISTENCIA!E17)","v":"PEÑALOZA VILCA, Pablo"},{"$f":"IF(+ASISTENCIA!F17=\"\",\"\",ASISTENCIA!F17)","v":"Profesor"},{"$f":"IF(+ASISTENCIA!G17=\"\",\"\",ASISTENCIA!G17)","v":"Nombrado"},{"$f":"IF(+ASISTENCIA!H17=\"\",\"\",ASISTENCIA!H17)","v":30},null,{"$f":"ASISTENCIA!AQ17","v":0},null,{"$f":"ASISTENCIA!AR17","v":0},{"$f":"ASISTENCIA!AS17","v":0},{"$f":"ASISTENCIA!AT17","v":0},null,{"$f":"ASISTENCIA!AU17","v":0},null,{"$f":"ASISTENCIA!AV17","v":0},null,{"$f":"ASISTENCIA!AW17","v":0},null,null,{"$f":"ASISTENCIA!AX17","v":0},null,null,{"$f":"ASISTENCIA!AY17","v":0},null,null,null,null,null,null,null,null,null,null,""]
[{"$f":"IF(+ASISTENCIA!A18=\"\",\"\",ASISTENCIA!A18)","v":5},{"$f":"IF(LEN(C17)>0,VLOOKUP($F$6,DATA!$A:$S,2,FALSE),\"\")","v":{"$error":"#N/A"}},"JULIO",{"$f":"IF(+ASISTENCIA!D18=\"\",\"\",ASISTENCIA!D18)","v":"01848606"},{"$f":"IF(+ASISTENCIA!E18=\"\",\"\",ASISTENCIA!E18)","v":"MAQUERA CCALLO, Victor Raúl"},{"$f":"IF(+ASISTENCIA!F18=\"\",\"\",ASISTENCIA!F18)","v":"Profesor"},{"$f":"IF(+ASISTENCIA!G18=\"\",\"\",ASISTENCIA!G18)","v":"Nombrado"},{"$f":"IF(+ASISTENCIA!H18=\"\",\"\",ASISTENCIA!H18)","v":30},null,{"$f":"ASISTENCIA!AQ18","v":0},null,{"$f":"ASISTENCIA!AR18","v":0},{"$f":"ASISTENCIA!AS18","v":0},{"$f":"ASISTENCIA!AT18","v":0},null,{"$f":"ASISTENCIA!AU18","v":0},null,{"$f":"ASISTENCIA!AV18","v":0},null,{"$f":"ASISTENCIA!AW18","v":0},null,null,{"$f":"ASISTENCIA!AX18","v":0},null,null,{"$f":"ASISTENCIA!AY18","v":0},null,null,null,null,null,null,null,null,null,null,""]
[{"$f":"IF(+ASISTENCIA!A19=\"\",\"\",ASISTENCIA!A19)","v":6},{"$f":"IF(LEN(C18)>0,VLOOKUP($F$6,DATA!$A:$S,2,FALSE),\"\")","v":{"$error":"#N/A"}},"JULIO",{"$f":"IF(+ASISTENCIA!D19=\"\",\"\",ASISTENCIA!D19)","v":"01797799"},{"$f":"IF(+ASISTENCIA!E19=\"\",\"\",ASISTENCIA!E19)","v":"GUEVARA MAMANI, Roger"},{"$f":"IF(+ASISTENCIA!F19=\"\",\"\",ASISTENCIA!F19)","v":"Profesor"},{"$f":"IF(+ASISTENCIA!G19=\"\",\"\",ASISTENCIA!G19)","v":"Nombrado"},{"$f":"IF(+ASISTENCIA!H19=\"\",\"\",ASISTENCIA!H19)","v":30},null,{"$f":"ASISTENCIA!AQ19","v":0},null,{"$f":"ASISTENCIA!AR19","v":0},{"$f":"ASISTENCIA!AS19","v":0},{"$f":"ASISTENCIA!AT19","v":0},null,{"$f":"ASISTENCIA!AU19","v":0},null,{"$f":"ASISTENCIA!AV19","v":0},null,{"$f":"ASISTENCIA!AW19","v":0},null,null,{"$f":"ASISTENCIA!AX19","v":0},null,null,{"$f":"ASISTENCIA!AY19","v":0},null,null,null,null,null,null,null,null,null,null,""]
[{"$f":"IF(+ASISTENCIA!A20=\"\",\"\",ASISTENCIA!A20)","v":7},{"$f":"IF(LEN(C19)>0,VLOOKUP($F$6,DATA!$A:$S,2,FALSE),\"\")","v":{"$error":"#N/A"}},"JULIO",{"$f":"IF(+ASISTENCIA!D20=\"\",\"\",ASISTENCIA!D20)","v":"01317213"},{"$f":"IF(+ASISTENCIA!E20=\"\",\"\",ASISTENCIA!E20)","v":"VILCA MENDOZA, Luis Adolfo"},{"$f":"IF(+ASISTENCIA!F20=\"\",\"\",ASISTENCIA!F20)","v":"Profesor"},{"$f":"IF(+ASISTENCIA!G20=\"\",\"\",ASISTENCIA!G20)","v":"Nombrado"},{"$f":"IF(+ASISTENCIA!H20=\"\",\"\",ASISTENCIA!H20)","v":30},null,{"$f":"ASISTENCIA!AQ20","v":0},null,{"$f":"ASISTENCIA!AR20","v":0},{"$f":"ASISTENCIA!AS20","v":0},{"$f":"ASISTENCIA!AT20","v":0},null,{"$f":"ASISTENCIA!AU20","v":0},null,{"$f":"ASISTENCIA!AV20","v":0},null,{"$f":"ASISTENCIA!AW20","v":0},null,null,{"$f":"ASISTENCIA!AX20","v":0},null,null,{"$f":"ASISTENCIA!AY20","v":0},null,null,null,null,null,null,null,null,null,null,""]
[{"$f":"IF(+ASISTENCIA!A21=\"\",\"\",ASISTENCIA!A21)","v":8},{"$f":"IF(LEN(C20)>0,VLOOKUP($F$6,DATA!$A:$S,2,FALSE),\"\")","v":{"$error":"#N/A"}},"JULIO",{"$f":"IF(+ASISTENCIA!D21=\"\",\"\",ASISTENCIA!D21)","v":"43576629"},{"$f":"IF(+ASISTENCIA!E21=\"\",\"\",ASISTENCIA!E21)","v":"CHOQUE ESCOBAR, Fredy"},{"$f":"IF(+ASISTENCIA!F21=\"\",\"\",ASISTENCIA!F21)","v":"Profesor"},{"$f":"IF(+ASISTENCIA!G21=\"\",\"\",ASISTENCIA!G21)","v":"Contratado"},{"$f":"IF(+ASISTENCIA!H21=\"\",\"\",ASISTENCIA!H21)","v":30},null,{"$f":"ASISTENCIA!AQ21","v":0},null,{"$f":"ASISTENCIA!AR21","v":0},{"$f":"ASISTENCIA!AS21","v":0},{"$f":"ASISTENCIA!AT21","v":0},null,{"$f":"ASISTENCIA!AU21","v":0},null,{"$f":"ASISTENCIA!AV21","v":0},null,{"$f":"ASISTENCIA!AW21","v":0},null,null,{"$f":"ASISTENCIA!AX21","v":0},null,null,{"$f":"ASISTENCIA!AY21","v":0},null,null,null,null,null,null,null,null,null,null,""]
[{"$f":"IF(+ASISTENCIA!A22=\"\",\"\",ASISTENCIA!A22)","v":9},{"$f":"IF(LEN(C21)>0,VLOOKUP($F$6,DATA!$A:$S,2,FALSE),\"\")","v":{"$error":"#N/A"}},"JULIO",{"$f":"IF(+ASISTENCIA!D22=\"\",\"\",ASISTENCIA!D22)","v":"40071492"},{"$f":"IF(+ASISTENCIA!E22=\"\",\"\",ASISTENCIA!E22)","v":"MAQUERA LUPACA, Renán Wilfredo"},{"$f":"IF(+ASISTENCIA!F22=\"\",\"\",ASISTENCIA!F22)","v":"Profesor"},{"$f":"IF(+ASISTENCIA!G22=\"\",\"\",ASISTENCIA!G22)","v":"Nombrado"},{"$f":"IF(+ASISTENCIA!H22=\"\",\"\",ASISTENCIA!H22)","v":30},null,0,null,{"$f":"ASISTENCIA!AR22","v":0},{"$f":"ASISTENCIA!AS22","v":5},{"$f":"ASISTENCIA!AT22","v":0},null,{"$f":"ASISTENCIA!AU22","v":0},null,{"$f":"ASISTENCIA!AV22","v":0},null,{"$f":"ASISTENCIA!AW22","v":0},null,null,{"$f":"ASISTENCIA!AX22","v":0},null,null,{"$f":"ASISTENCIA!AY22","v":0},null,null,null,null,null,null,null,null,null,null,""]
[{"$f":"IF(+ASISTENCIA!A23=\"\",\"\",ASISTENCIA!A23)","v":10},{"$f":"IF(LEN(C22)>0,VLOOKUP($F$6,DATA!$A:$S,2,FALSE),\"\")","v":{"$error":"#N/A"}},"JULIO",{"$f":"IF(+ASISTENCIA!D23=\"\",\"\",ASISTENCIA!D23)","v":"43551391"},{"$f":"IF(+ASISTENCIA!E23=\"\",\"\",ASISTENCIA!E23)","v":"CHAGUA CHOQUEGONZA, Gilmer"},{"$f":"IF(+ASISTENCIA!F23=\"\",\"\",ASISTENCIA!F23)","v":"Aux. Educación"},{"$f":"IF(+ASISTENCIA!G23=\"\",\"\",ASISTENCIA!G23)","v":"Nombrado"},{"$f":"IF(+ASISTENCIA!H23=\"\",\"\",ASISTENCIA!H23)","v":30},null,{"$f":"ASISTENCIA!AQ23","v":0},null,{"$f":"ASISTENCIA!AR23","v":0},{"$f":"ASISTENCIA!AS23","v":0},{"$f":"ASISTENCIA!AT23","v":0},null,{"$f":"ASISTENCIA!AU23","v":0},null,{"$f":"ASISTENCIA!AV23","v":0},null,{"$f":"ASISTENCIA!AW23","v":0},null,null,{"$f":"ASISTENCIA!AX23","v":0},null,null,{"$f":"ASISTENCIA!AY23","v":0},null,null,null,null,null,null,null,null,null,null,""]
[{"$f":"IF(+ASISTENCIA!A24=\"\",\"\",ASISTENCIA!A24)","v":11},{"$f":"IF(LEN(C23)>0,VLOOKUP($F$6,DATA!$A:$S,2,FALSE),\"\")","v":{"$error":"#N/A"}},"JULIO",{"$f":"IF(+ASISTENCIA!D24=\"\",\"\",ASISTENCIA!D24)","v":"01797584"},{"$f":"IF(+ASISTENCIA!E24=\"\",\"\",ASISTENCIA!E24)","v":"TICONA MAQUERA, Casiano"},{"$f":"IF(+ASISTENCIA!F24=\"\",\"\",ASISTENCIA!F24)","v":"Bibliotecario"},{"$f":"IF(+ASISTENCIA!G24=\"\",\"\",ASISTENCIA!G24)","v":"Nombrado"},{"$f":"IF(+ASISTENCIA!H24=\"\",\"\",ASISTENCIA!H24)","v":40},null,{"$f":"ASISTENCIA!AQ24","v":0},null,{"$f":"ASISTENCIA!AR24","v":0},{"$f":"ASISTENCIA!AS24","v":0},{"$f":"ASISTENCIA!AT24","v":0},null,{"$f":"ASISTENCIA!AU24","v":0},null,{"$f":"ASISTENCIA!AV24","v":0},null,{"$f":"ASISTENCIA!AW24","v":0},null,null,{"$f":"ASISTENCIA!AX24","v":0},null,null,{"$f":"ASISTENCIA!AY24","v":0},null,null,null,null,null,null,null,null,null,null,""]
[{"$f":"IF(+ASISTENCIA!A25=\"\",\"\",ASISTENCIA!A25)","v":12},{"$f":"IF(LEN(C24)>0,VLOOKUP($F$6,DATA!$A:$S,2,FALSE),\"\")","v":{"$error":"#N/A"}},"JULIO",{"$f":"IF(+ASISTENCIA!D25=\"\",\"\",ASISTENCIA!D25)","v":"01797851"},{"$f":"IF(+ASISTENCIA!E25=\"\",\"\",ASISTENCIA!E25)","v":"GUEVARA HUANACUNI, Sergio"},{"$f":"IF(+ASISTENCIA!F25=\"\",\"\",ASISTENCIA!F25)","v":"Pers. Servicio"},{"$f":"IF(+ASISTENCIA!G25=\"\",\"\",ASISTENCIA!G25)","v":"Nombrado"},{"$f":"IF(+ASISTENCIA!H25=\"\",\"\",ASISTENCIA!H25)","v":40},null,{"$f":"ASISTENCIA!AQ25","v":0},null,{"$f":"ASISTENCIA!AR25","v":0},{"$f":"ASISTENCIA!AS25","v":0},{"$f":"ASISTENCIA!AT25","v":0},null,{"$f":"ASISTENCIA!AU25","v":0},null,{"$f":"ASISTENCIA!AV25","v":0},null,{"$f":"ASISTENCIA!AW25","v":0},null,null,{"$f":"ASISTENCIA!AX25","v":0},null,null,{"$f":"ASISTENCIA!AY25","v":0},null,null,null,null,null,null,null,null,null,null,""]
[{"$f":"IF(+ASISTENCIA!A26=\"\",\"\",ASISTENCIA!A26)","v":13},{"$f":"IF(LEN(C25)>0,VLOOKUP($F$6,DATA!$A:$S,2,FALSE),\"\")","v":{"$error":"#N/A"}},"JULIO",{"$f":"IF(+ASISTENCIA!D26=\"\",\"\",ASISTENCIA!D26)","v":"01797271"},{"$f":"IF(+ASISTENCIA!E26=\"\",\"\",ASISTENCIA!E26)","v":"TICONA LUPACA, Ricardo"},{"$f":"IF(+ASISTENCIA!F26=\"\",\"\",ASISTENCIA!F26)","v":"Pers. Servicio"},{"$f":"IF(+ASISTENCIA!G26=\"\",\"\",ASISTENCIA!G26)","v":"Nombrado"},{"$f":"IF(+ASISTENCIA!H26=\"\",\"\",ASISTENCIA!H26)","v":40},null,{"$f":"ASISTENCIA!AQ26","v":0},null,{"$f":"ASISTENCIA!AR26","v":0},{"$f":"ASISTENCIA!AS26","v":0},{"$f":"ASISTENCIA!AT26","v":0},null,{"$f":"ASISTENCIA!AU26","v":0},null,{"$f":"ASISTENCIA!AV26","v":0},null,{"$f":"ASISTENCIA!AW26","v":0},null,null,{"$f":"ASISTENCIA!AX26","v":0},null,null,{"$f":"ASISTENCIA!AY26","v":0},null,null,null,null,null,null,null,null,null,null,""]
[{"$f":"IF(+ASISTENCIA!A27=\"\",\"\",ASISTENCIA!A27)","v":14},{"$f":"IF(LEN(C26)>0,VLOOKUP($F$6,DATA!$A:$S,2,FALSE),\"\")","v":{"$error":"#N/A"}},"JULIO",{"$f":"IF(+ASISTENCIA!D27=\"\",\"\",ASISTENCIA!D27)","v":"01841659"},{"$f":"IF(+ASISTENCIA!E27=\"\",\"\",ASISTENCIA!E27)","v":"MONTALICO APAZA, Anastacio"},{"$f":"IF(+ASISTENCIA!F27=\"\",\"\",ASISTENCIA!F27)","v":"Aux. de Laboratorio"},{"$f":"IF(+ASISTENCIA!G27=\"\",\"\",ASISTENCIA!G27)","v":"Nombrado"},{"$f":"IF(+ASISTENCIA!H27=\"\",\"\",ASISTENCIA!H27)","v":40},null,{"$f":"ASISTENCIA!AQ27","v":0},null,{"$f":"ASISTENCIA!AR27","v":0},{"$f":"ASISTENCIA!AS27","v":0},{"$f":"ASISTENCIA!AT27","v":0},null,{"$f":"ASISTENCIA!AU27","v":0},null,{"$f":"ASISTENCIA!AV27","v":0},null,{"$f":"ASISTENCIA!AW27","v":0},null,null,{"$f":"ASISTENCIA!AX27","v":0},null,null,{"$f":"ASISTENCIA!AY27","v":0},null,null,null,null,null,null,null,null,null,null,""]
[{"$f":"IF(+ASISTENCIA!#REF!=\"\",\"\",ASISTENCIA!#REF!)","v":{"$error":"#REF!"}},null,null,{"$f":"IF(+ASISTENCIA!#REF!=\"\",\"\",ASISTENCIA!#REF!)","v":{"$error":"#REF!"}},{"$f":"IF(+ASISTENCIA!#REF!=\"\",\"\",ASISTENCIA!#REF!)","v":{"$error":"#REF!"}},{"$f":"IF(+ASISTENCIA!#REF!=\"\",\"\",ASISTENCIA!#REF!)","v":{"$error":"#REF!"}},{"$f":"IF(+ASISTENCIA!#REF!=\"\",\"\",ASISTENCIA!#REF!)","v":{"$error":"#REF!"}},{"$f":"IF(+ASISTENCIA!#REF!=\"\",\"\",ASISTENCIA!#REF!)","v":{"$error":"#REF!"}},null,{"$f":"ASISTENCIA!#REF!","v":{"$error":"#REF!"}},null,{"$f":"ASISTENCIA!#REF!","v":{"$error":"#REF!"}},{"$f":"ASISTENCIA!#REF!","v":{"$error":"#REF!"}},{"$f":"ASISTENCIA!#REF!","v":{"$error":"#REF!"}},null,{"$f":"ASISTENCIA!#REF!","v":{"$error":"#REF!"}},null,{"$f":"ASISTENCIA!#REF!","v":{"$error":"#REF!"}},null,{"$f":"ASISTENCIA!#REF!","v":{"$error":"#REF!"}},null,null,null,null,null,null,null,null,null,null,null,null,null,null,null,null,""]
[{"$f":"IF(+ASISTENCIA!#REF!=\"\",\"\",ASISTENCIA!#REF!)","v":{"$error":"#REF!"}},null,null,{"$f":"IF(+ASISTENCIA!#REF!=\"\",\"\",ASISTENCIA!#REF!)","v":{"$error":"#REF!"}},{"$f":"IF(+ASISTENCIA!#REF!=\"\",\"\",ASISTENCIA!#REF!)","v":{"$error":"#REF!"}},{"$f":"IF(+ASISTENCIA!#REF!=\"\",\"\",ASISTENCIA!#REF!)","v":{"$error":"#REF!"}},{"$f":"IF(+ASISTENCIA!#REF!=\"\",\"\",ASISTENCIA!#REF!)","v":{"$error":"#REF!"}},{"$f":"IF(+ASISTENCIA!#REF!=\"\",\"\",ASISTENCIA!#REF!)","v":{"$error":"#REF!"}},null,{"$f":"ASISTENCIA!#REF!","v":{"$error":"#REF!"}},null,{"$f":"ASISTENCIA!#REF!","v":{"$error":"#REF!"}},{"$f":"ASISTENCIA!#REF!","v":{"$error":"#REF!"}},{"$f":"ASISTENCIA!#REF!","v":{"$error":"#REF!"}},null,{"$f":"ASISTENCIA!#REF!","v":{"$error":"#REF!"}},null,{"$f":"ASISTENCIA!#REF!","v":{"$error":"#REF!"}},null,{"$f":"ASISTENCIA!#REF!","v":{"$error":"#REF!"}},null,null,null,null,null,null,null,null,null,null,null,null,null,null,null,null,""]
[{"$f":"IF(+ASISTENCIA!#REF!=\"\",\"\",ASISTENCIA!#REF!)","v":{"$error":"#REF!"}},null,null,{"$f":"IF(+ASISTENCIA!#REF!=\"\",\"\",ASISTENCIA!#REF!)","v":{"$error":"#REF!"}},{"$f":"IF(+ASISTENCIA!#REF!=\"\",\"\",ASISTENCIA!#REF!)","v":{"$error":"#REF!"}},{"$f":"IF(+ASISTENCIA!#REF!=\"\",\"\",ASISTENCIA!#REF!)","v":{"$error":"#REF!"}},{"$f":"IF(+ASISTENCIA!#REF!=\"\",\"\",ASISTENCIA!#REF!)","v":{"$error":"#REF!"}},{"$f":"IF(+ASISTENCIA!#REF!=\"\",\"\",ASISTENCIA!#REF!)","v":{"$error":"#REF!"}},null,{"$f":"ASISTENCIA!#REF!","v":{"$error":"#REF!"}},null,{"$f":"ASISTENCIA!#REF!","v":{"$error":"#REF!"}},{"$f":"ASISTENCIA!#REF!","v":{"$error":"#REF!"}},{"$f":"ASISTENCIA!#REF!","v":{"$error":"#REF!"}},null,{"$f":"ASISTENCIA!#REF!","v":{"$error":"#REF!"}},null,{"$f":"ASISTENCIA!#REF!","v":{"$error":"#REF!"}},null,{"$f":"ASISTENCIA!#REF!","v":{"$error":"#REF!"}},null,null,null,null,null,null,null,null,null,null,null,null,null,null,null,null,""]
[{"$f":"IF(+ASISTENCIA!#REF!=\"\",\"\",ASISTENCIA!#REF!)","v":{"$error":"#REF!"}},null,null,{"$f":"IF(+ASISTENCIA!#REF!=\"\",\"\",ASISTENCIA!#REF!)","v":{"$error":"#REF!"}},{"$f":"IF(+ASISTENCIA!#REF!=\"\",\"\",ASISTENCIA!#REF!)","v":{"$error":"#REF!"}},{"$f":"IF(+ASISTENCIA!#REF!=\"\",\"\",ASISTENCIA!#REF!)","v":{"$error":"#REF!"}},{"$f":"IF(+ASISTENCIA!#REF!=\"\",\"\",ASISTENCIA!#REF!)","v":{"$error":"#REF!"}},{"$f":"IF(+ASISTENCIA!#REF!=\"\",\"\",ASISTENCIA!#REF!)","v":{"$error":"#REF!"}},null,{"$f":"ASISTENCIA!#REF!","v":{"$error":"#REF!"}},null,{"$f":"ASISTENCIA!#REF!","v":{"$error":"#REF!"}},{"$f":"ASISTENCIA!#REF!","v":{"$error":"#REF!"}},{"$f":"ASISTENCIA!#REF!","v":{"$error":"#REF!"}},null,{"$f":"ASISTENCIA!#REF!","v":{"$error":"#REF!"}},null,{"$f":"ASISTENCIA!#REF!","v":{"$error":"#REF!"}},null,{"$f":"ASISTENCIA!#REF!","v":{"$error":"#REF!"}},null,null,null,null,null,null,null,null,null,null,null,null,null,null,null,null,""]
[{"$f":"IF(+ASISTENCIA!#REF!=\"\",\"\",ASISTENCIA!#REF!)","v":{"$error":"#REF!"}},null,null,{"$f":"IF(+ASISTENCIA!#REF!=\"\",\"\",ASISTENCIA!#REF!)","v":{"$error":"#REF!"}},{"$f":"IF(+ASISTENCIA!#REF!=\"\",\"\",ASISTENCIA!#REF!)","v":{"$error":"#REF!"}},{"$f":"IF(+ASISTENCIA!#REF!=\"\",\"\",ASISTENCIA!#REF!)","v":{"$error":"#REF!"}},{"$f":"IF(+ASISTENCIA!#REF!=\"\",\"\",ASISTENCIA!#REF!)","v":{"$error":"#REF!"}},{"$f":"IF(+ASISTENCIA!#REF!=\"\",\"\",ASISTENCIA!#REF!)","v":{"$error":"#REF!"}},null,{"$f":"ASISTENCIA!#REF!","v":{"$error":"#REF!"}},null,{"$f":"ASISTENCIA!#REF!","v":{"$error":"#REF!"}},{"$f":"ASISTENCIA!#REF!","v":{"$error":"#REF!"}},{"$f":"ASISTENCIA!#REF!","v":{"$error":"#REF!"}},null,{"$f":"ASISTENCIA!#REF!","v":{"$error":"#REF!"}},null,{"$f":"ASISTENCIA!#REF!","v":{"$error":"#REF!"}},null,{"$f":"ASISTENCIA!#REF!","v":{"$error":"#REF!"}},null,null,null,null,null,null,null,null,null,null,null,null,null,null,null,null,""]
[{"$f":"IF(+ASISTENCIA!#REF!=\"\",\"\",ASISTENCIA!#REF!)","v":{"$error":"#REF!"}},null,null,{"$f":"IF(+ASISTENCIA!#REF!=\"\",\"\",ASISTENCIA!#REF!)","v":{"$error":"#REF!"}},{"$f":"IF(+ASISTENCIA!#REF!=\"\",\"\",ASISTENCIA!#REF!)","v":{"$error":"#REF!"}},{"$f":"IF(+ASISTENCIA!#REF!=\"\",\"\",ASISTENCIA!#REF!)","v":{"$error":"#REF!"}},{"$f":"IF(+ASISTENCIA!#REF!=\"\",\"\",ASISTENCIA!#REF!)","v":{"$error":"#REF!"}},{"$f":"IF(+ASISTENCIA!#REF!=\"\",\"\",ASISTENCIA!#REF!)","v":{"$error":"#REF!"}},null,{"$f":"ASISTENCIA!#REF!","v":{"$error":"#REF!"}},null,{"$f":"ASISTENCIA!#REF!","v":{"$error":"#REF!"}},{"$f":"ASISTENCIA!#REF!","v":{"$error":"#REF!"}},{"$f":"ASISTENCIA!#REF!","v":{"$error":"#REF!"}},null,{"$f":"ASISTENCIA!#REF!","v":{"$error":"#REF!"}},null,{"$f":"ASISTENCIA!#REF!","v":{"$error":"#REF!"}},null,{"$f":"ASISTENCIA!#REF!","v":{"$error":"#REF!"}},null,null,null,null,null,null,null,null,null,null,null,null,null,null,null,null,""]
[{"$f":"IF(+ASISTENCIA!#REF!=\"\",\"\",ASISTENCIA!#REF!)","v":{"$error":"#REF!"}},null,null,{"$f":"IF(+ASISTENCIA!#REF!=\"\",\"\",ASISTENCIA!#REF!)","v":{"$error":"#REF!"}},{"$f":"IF(+ASISTENCIA!#REF!=\"\",\"\",ASISTENCIA!#REF!)","v":{"$error":"#REF!"}},{"$f":"IF(+ASISTENCIA!#REF!=\"\",\"\",ASISTENCIA!#REF!)","v":{"$error":"#REF!"}},{"$f":"IF(+ASISTENCIA!#REF!=\"\",\"\",ASISTENCIA!#REF!)","v":{"$error":"#REF!"}},{"$f":"IF(+ASISTENCIA!#REF!=\"\",\"\",ASISTENCIA!#REF!)","v":{"$error":"#REF!"}},null,{"$f":"ASISTENCIA!#REF!","v":{"$error":"#REF!"}},null,{"$f":"ASISTENCIA!#REF!","v":{"$error":"#REF!"}},{"$f":"ASISTENCIA!#REF!","v":{"$error":"#REF!"}},{"$f":"ASISTENCIA!#REF!","v":{"$error":"#REF!"}},null,{"$f":"ASISTENCIA!#REF!","v":{"$error":"#REF!"}},null,{"$f":"ASISTENCIA!#REF!","v":{"$error":"#REF!"}},null,{"$f":"ASISTENCIA!#REF!","v":{"$error":"#REF!"}},null,null,null,null,null,null,null,null,null,null,null,null,null,null,null,null,""]
[{"$f":"IF(+ASISTENCIA!#REF!=\"\",\"\",ASISTENCIA!#REF!)","v":{"$error":"#REF!"}},null,null,{"$f":"IF(+ASISTENCIA!#REF!=\"\",\"\",ASISTENCIA!#REF!)","v":{"$error":"#REF!"}},{"$f":"IF(+ASISTENCIA!#REF!=\"\",\"\",ASISTENCIA!#REF!)","v":{"$error":"#REF!"}},{"$f":"IF(+ASISTENCIA!#REF!=\"\",\"\",ASISTENCIA!#REF!)","v":{"$error":"#REF!"}},{"$f":"IF(+ASISTENCIA!#REF!=\"\",\"\",ASISTENCIA!#REF!)","v":{"$error":"#REF!"}},{"$f":"IF(+ASISTENCIA!#REF!=\"\",\"\",ASISTENCIA!#REF!)","v":{"$error":"#REF!"}},null,{"$f":"ASISTENCIA!#REF!","v":{"$error":"#REF!"}},null,{"$f":"ASISTENCIA!#REF!","v":{"$error":"#REF!"}},{"$f":"ASISTENCIA!#REF!","v":{"$error":"#REF!"}},{"$f":"ASISTENCIA!#REF!","v":{"$error":"#REF!"}},null,{"$f":"ASISTENCIA!#REF!","v":{"$error":"#REF!"}},null,{"$f":"ASISTENCIA!#REF!","v":{"$error":"#REF!"}},null,{"$f":"ASISTENCIA!#REF!","v":{"$error":"#REF!"}},null,null,null,null,null,null,null,null,null,null,null,null,null,null,null,null,""]
[{"$f":"IF(+ASISTENCIA!#REF!=\"\",\"\",ASISTENCIA!#REF!)","v":{"$error":"#REF!"}},null,null,{"$f":"IF(+ASISTENCIA!#REF!=\"\",\"\",ASISTENCIA!#REF!)","v":{"$error":"#REF!"}},{"$f":"IF(+ASISTENCIA!#REF!=\"\",\"\",ASISTENCIA!#REF!)","v":{"$error":"#REF!"}},{"$f":"IF(+ASISTENCIA!#REF!=\"\",\"\",ASISTENCIA!#REF!)","v":{"$error":"#REF!"}},{"$f":"IF(+ASISTENCIA!#REF!=\"\",\"\",ASISTENCIA!#REF!)","v":{"$error":"#REF!"}},{"$f":"IF(+ASISTENCIA!#REF!=\"\",\"\",ASISTENCIA!#REF!)","v":{"$error":"#REF!"}},null,{"$f":"ASISTENCIA!#REF!","v":{"$error":"#REF!"}},null,{"$f":"ASISTENCIA!#REF!","v":{"$error":"#REF!"}},{"$f":"ASISTENCIA!#REF!","v":{"$error":"#REF!"}},{"$f":"ASISTENCIA!#REF!","v":{"$error":"#REF!"}},null,{"$f":"ASISTENCIA!#REF!","v":{"$error":"#REF!"}},null,{"$f":"ASISTENCIA!#REF!","v":{"$error":"#REF!"}},null,{"$f":"ASISTENCIA!#REF!","v":{"$error":"#REF!"}},null,null,null,null,null,null,null,null,null,null,null,null,null,null,null,null,""]
[{"$f":"IF(+ASISTENCIA!#REF!=\"\",\"\",ASISTENCIA!#REF!)","v":{"$error":"#REF!"}},null,null,{"$f":"IF(+ASISTENCIA!#REF!=\"\",\"\",ASISTENCIA!#REF!)","v":{"$error":"#REF!"}},{"$f":"IF(+ASISTENCIA!#REF!=\"\",\"\",ASISTENCIA!#REF!)","v":{"$error":"#REF!"}},{"$f":"IF(+ASISTENCIA!#REF!=\"\",\"\",ASISTENCIA!#REF!)","v":{"$error":"#REF!"}},{"$f":"IF(+ASISTENCIA!#REF!=\"\",\"\",ASISTENCIA!#REF!)","v":{"$error":"#REF!"}},{"$f":"IF(+ASISTENCIA!#REF!=\"\",\"\",ASISTENCIA!#REF!)","v":{"$error":"#REF!"}},null,{"$f":"ASISTENCIA!#REF!","v":{"$error":"#REF!"}},null,{"$f":"ASISTENCIA!#REF!","v":{"$error":"#REF!"}},{"$f":"ASISTENCIA!#REF!","v":{"$error":"#REF!"}},{"$f":"ASISTENCIA!#REF!","v":{"$error":"#REF!"}},null,{"$f":"ASISTENCIA!#REF!","v":{"$error":"#REF!"}},null,{"$f":"ASISTENCIA!#REF!","v":{"$error":"#REF!"}},null,{"$f":"ASISTENCIA!#REF!","v":{"$error":"#REF!"}},null,null,null,null,null,null,null,null,null,null,null,null,null,null,null,null,""]
[{"$f":"IF(+ASISTENCIA!#REF!=\"\",\"\",ASISTENCIA!#REF!)","v":{"$error":"#REF!"}},null,null,{"$f":"IF(+ASISTENCIA!#REF!=\"\",\"\",ASISTENCIA!#REF!)","v":{"$error":"#REF!"}},{"$f":"IF(+ASISTENCIA!#REF!=\"\",\"\",ASISTENCIA!#REF!)","v":{"$error":"#REF!"}},{"$f":"IF(+ASISTENCIA!#REF!=\"\",\"\",ASISTENCIA!#REF!)","v":{"$error":"#REF!"}},{"$f":"IF(+ASISTENCIA!#REF!=\"\",\"\",ASISTENCIA!#REF!)","v":{"$error":"#REF!"}},{"$f":"IF(+ASISTENCIA!#REF!=\"\",\"\",ASISTENCIA!#REF!)","v":{"$error":"#REF!"}},null,{"$f":"ASISTENCIA!#REF!","v":{"$error":"#REF!"}},null,{"$f":"ASISTENCIA!#REF!","v":{"$error":"#REF!"}},{"$f":"ASISTENCIA!#REF!","v":{"$error":"#REF!"}},{"$f":"ASISTENCIA!#REF!","v":{"$error":"#REF!"}},null,{"$f":"ASISTENCIA!#REF!","v":{"$error":"#REF!"}},null,{"$f":"ASISTENCIA!#REF!","v":{"$error":"#REF!"}},null,{"$f":"ASISTENCIA!#REF!","v":{"$error":"#REF!"}},null,null,null,null,null,null,null,null,null,null,null,null,null,null,null,null,""]
[{"$f":"IF(+ASISTENCIA!#REF!=\"\",\"\",ASISTENCIA!#REF!)","v":{"$error":"#REF!"}},null,null,{"$f":"IF(+ASISTENCIA!#REF!=\"\",\"\",ASISTENCIA!#REF!)","v":{"$error":"#REF!"}},{"$f":"IF(+ASISTENCIA!#REF!=\"\",\"\",ASISTENCIA!#REF!)","v":{"$error":"#REF!"}},{"$f":"IF(+ASISTENCIA!#REF!=\"\",\"\",ASISTENCIA!#REF!)","v":{"$error":"#REF!"}},{"$f":"IF(+ASISTENCIA!#REF!=\"\",\"\",ASISTENCIA!#REF!)","v":{"$error":"#REF!"}},{"$f":"IF(+ASISTENCIA!#REF!=\"\",\"\",ASISTENCIA!#REF!)","v":{"$error":"#REF!"}},null,{"$f":"ASISTENCIA!#REF!","v":{"$error":"#REF!"}},null,{"$f":"ASISTENCIA!#REF!","v":{"$error":"#REF!"}},{"$f":"ASISTENCIA!#REF!","v":{"$error":"#REF!"}},{"$f":"ASISTENCIA!#REF!","v":{"$error":"#REF!"}},null,{"$f":"ASISTENCIA!#REF!","v":{"$error":"#REF!"}},null,{"$f":"ASISTENCIA!#REF!","v":{"$error":"#REF!"}},null,{"$f":"ASISTENCIA!#REF!","v":{"$error":"#REF!"}},null,null,null,null,null,null,null,null,null,null,null,null,null,null,null,null,""]
[{"$f":"IF(+ASISTENCIA!#REF!=\"\",\"\",ASISTENCIA!#REF!)","v":{"$error":"#REF!"}},null,null,{"$f":"IF(+ASISTENCIA!#REF!=\"\",\"\",ASISTENCIA!#REF!)","v":{"$error":"#REF!"}},{"$f":"IF(+ASISTENCIA!#REF!=\"\",\"\",ASISTENCIA!#REF!)","v":{"$error":"#REF!"}},{"$f":"IF(+ASISTENCIA!#REF!=\"\",\"\",ASISTENCIA!#REF!)","v":{"$error":"#REF!"}},{"$f":"IF(+ASISTENCIA!#REF!=\"\",\"\",ASISTENCIA!#REF!)","v":{"$error":"#REF!"}},{"$f":"IF(+ASISTENCIA!#REF!=\"\",\"\",ASISTENCIA!#REF!)","v":{"$error":"#REF!"}},null,{"$f":"ASISTENCIA!#REF!","v":{"$error":"#REF!"}},null,{"$f":"ASISTENCIA!#REF!","v":{"$error":"#REF!"}},{"$f":"ASISTENCIA!#REF!","v":{"$error":"#REF!"}},{"$f":"ASISTENCIA!#REF!","v":{"$error":"#REF!"}},null,{"$f":"ASISTENCIA!#REF!","v":{"$error":"#REF!"}},null,{"$f":"ASISTENCIA!#REF!","v":{"$error":"#REF!"}},null,{"$f":"ASISTENCIA!#REF!","v":{"$error":"#REF!"}},null,null,null,null,null,null,null,null,null,null,null,null,null,null,null,null,""]
[{"$f":"IF(+ASISTENCIA!#REF!=\"\",\"\",ASISTENCIA!#REF!)","v":{"$error":"#REF!"}},null,null,{"$f":"IF(+ASISTENCIA!#REF!=\"\",\"\",ASISTENCIA!#REF!)","v":{"$error":"#REF!"}},{"$f":"IF(+ASISTENCIA!#REF!=\"\",\"\",ASISTENCIA!#REF!)","v":{"$error":"#REF!"}},{"$f":"IF(+ASISTENCIA!#REF!=\"\",\"\",ASISTENCIA!#REF!)","v":{"$error":"#REF!"}},{"$f":"IF(+ASISTENCIA!#REF!=\"\",\"\",ASISTENCIA!#REF!)","v":{"$error":"#REF!"}},{"$f":"IF(+ASISTENCIA!#REF!=\"\",\"\",ASISTENCIA!#REF!)","v":{"$error":"#REF!"}},null,{"$f":"ASISTENCIA!#REF!","v":{"$error":"#REF!"}},null,{"$f":"ASISTENCIA!#REF!","v":{"$error":"#REF!"}},{"$f":"ASISTENCIA!#REF!","v":{"$error":"#REF!"}},{"$f":"ASISTENCIA!#REF!","v":{"$error":"#REF!"}},null,{"$f":"ASISTENCIA!#REF!","v":{"$error":"#REF!"}},null,{"$f":"ASISTENCIA!#REF!","v":{"$error":"#REF!"}},null,{"$f":"ASISTENCIA!#REF!","v":{"$error":"#REF!"}},null,null,null,null,null,null,null,null,null,null,null,null,null,null,null,null,""]
[{"$f":"IF(+ASISTENCIA!#REF!=\"\",\"\",ASISTENCIA!#REF!)","v":{"$error":"#REF!"}},null,null,{"$f":"IF(+ASISTENCIA!#REF!=\"\",\"\",ASISTENCIA!#REF!)","v":{"$error":"#REF!"}},{"$f":"IF(+ASISTENCIA!#REF!=\"\",\"\",ASISTENCIA!#REF!)","v":{"$error":"#REF!"}},{"$f":"IF(+ASISTENCIA!#REF!=\"\",\"\",ASISTENCIA!#REF!)","v":{"$error":"#REF!"}},{"$f":"IF(+ASISTENCIA!#REF!=\"\",\"\",ASISTENCIA!#REF!)","v":{"$error":"#REF!"}},{"$f":"IF(+ASISTENCIA!#REF!=\"\",\"\",ASISTENCIA!#REF!)","v":{"$error":"#REF!"}},null,{"$f":"ASISTENCIA!#REF!","v":{"$error":"#REF!"}},null,{"$f":"ASISTENCIA!#REF!","v":{"$error":"#REF!"}},{"$f":"ASISTENCIA!#REF!","v":{"$error":"#REF!"}},{"$f":"ASISTENCIA!#REF!","v":{"$error":"#REF!"}},null,{"$f":"ASISTENCIA!#REF!","v":{"$error":"#REF!"}},null,{"$f":"ASISTENCIA!#REF!","v":{"$error":"#REF!"}},null,{"$f":"ASISTENCIA!#REF!","v":{"$error":"#REF!"}},null,null,null,null,null,null,null,null,null,null,null,null,null,null,null,null,""]
[{"$f":"IF(+ASISTENCIA!#REF!=\"\",\"\",ASISTENCIA!#REF!)","v":{"$error":"#REF!"}},null,null,{"$f":"IF(+ASISTENCIA!#REF!=\"\",\"\",ASISTENCIA!#REF!)","v":{"$error":"#REF!"}},{"$f":"IF(+ASISTENCIA!#REF!=\"\",\"\",ASISTENCIA!#REF!)","v":{"$error":"#REF!"}},{"$f":"IF(+ASISTENCIA!#REF!=\"\",\"\",ASISTENCIA!#REF!)","v":{"$error":"#REF!"}},{"$f":"IF(+ASISTENCIA!#REF!=\"\",\"\",ASISTENCIA!#REF!)","v":{"$error":"#REF!"}},{"$f":"IF(+ASISTENCIA!#REF!=\"\",\"\",ASISTENCIA!#REF!)","v":{"$error":"#REF!"}},null,{"$f":"ASISTENCIA!#REF!","v":{"$error":"#REF!"}},null,{"$f":"ASISTENCIA!#REF!","v":{"$error":"#REF!"}},{"$f":"ASISTENCIA!#REF!","v":{"$error":"#REF!"}},{"$f":"ASISTENCIA!#REF!","v":{"$error":"#REF!"}},null,{"$f":"ASISTENCIA!#REF!","v":{"$error":"#REF!"}},null,{"$f":"ASISTENCIA!#REF!","v":{"$error":"#REF!"}},null,{"$f":"ASISTENCIA!#REF!","v":{"$error":"#REF!"}},null,null,null,null,null,null,null,null,null,null,null,null,null,null,null,null,""]
[{"$f":"IF(+ASISTENCIA!#REF!=\"\",\"\",ASISTENCIA!#REF!)","v":{"$error":"#REF!"}},null,null,{"$f":"IF(+ASISTENCIA!#REF!=\"\",\"\",ASISTENCIA!#REF!)","v":{"$error":"#REF!"}},{"$f":"IF(+ASISTENCIA!#REF!=\"\",\"\",ASISTENCIA!#REF!)","v":{"$error":"#REF!"}},{"$f":"IF(+ASISTENCIA!#REF!=\"\",\"\",ASISTENCIA!#REF!)","v":{"$error":"#REF!"}},{"$f":"IF(+ASISTENCIA!#REF!=\"\",\"\",ASISTENCIA!#REF!)","v":{"$error":"#REF!"}},{"$f":"IF(+ASISTENCIA!#REF!=\"\",\"\",ASISTENCIA!#REF!)","v":{"$error":"#REF!"}},null,{"$f":"ASISTENCIA!#REF!","v":{"$error":"#REF!"}},null,{"$f":"ASISTENCIA!#REF!","v":{"$error":"#REF!"}},{"$f":"ASISTENCIA!#REF!","v":{"$error":"#REF!"}},{"$f":"ASISTENCIA!#REF!","v":{"$error":"#REF!"}},null,{"$f":"ASISTENCIA!#REF!","v":{"$error":"#REF!"}},null,{"$f":"ASISTENCIA!#REF!","v":{"$error":"#REF!"}},null,{"$f":"ASISTENCIA!#REF!","v":{"$error":"#REF!"}},null,null,null,null,null,null,null,null,null,null,null,null,null,null,null,null,""]
[{"$f":"IF(+ASISTENCIA!#REF!=\"\",\"\",ASISTENCIA!#REF!)","v":{"$error":"#REF!"}},null,null,{"$f":"IF(+ASISTENCIA!#REF!=\"\",\"\",ASISTENCIA!#REF!)","v":{"$error":"#REF!"}},{"$f":"IF(+ASISTENCIA!#REF!=\"\",\"\",ASISTENCIA!#REF!)","v":{"$error":"#REF!"}},{"$f":"IF(+ASISTENCIA!#REF!=\"\",\"\",ASISTENCIA!#REF!)","v":{"$error":"#REF!"}},{"$f":"IF(+ASISTENCIA!#REF!=\"\",\"\",ASISTENCIA!#REF!)","v":{"$error":"#REF!"}},{"$f":"IF(+ASISTENCIA!#REF!=\"\",\"\",ASISTENCIA!#REF!)","v":{"$error":"#REF!"}},null,{"$f":"ASISTENCIA!#REF!","v":{"$error":"#REF!"}},null,{"$f":"ASISTENCIA!#REF!","v":{"$error":"#REF!"}},{"$f":"ASISTENCIA!#REF!","v":{"$error":"#REF!"}},{"$f":"ASISTENCIA!#REF!","v":{"$error":"#REF!"}},null,{"$f":"ASISTENCIA!#REF!","v":{"$error":"#REF!"}},null,{"$f":"ASISTENCIA!#REF!","v":{"$error":"#REF!"}},null,{"$f":"ASISTENCIA!#REF!","v":{"$error":"#REF!"}},null,null,null,null,null,null,null,null,null,null,null,null,null,null,null,null,""]
[{"$f":"IF(+ASISTENCIA!#REF!=\"\",\"\",ASISTENCIA!#REF!)","v":{"$error":"#REF!"}},null,null,{"$f":"IF(+ASISTENCIA!#REF!=\"\",\"\",ASISTENCIA!#REF!)","v":{"$error":"#REF!"}},{"$f":"IF(+ASISTENCIA!#REF!=\"\",\"\",ASISTENCIA!#REF!)","v":{"$error":"#REF!"}},{"$f":"IF(+ASISTENCIA!#REF!=\"\",\"\",ASISTENCIA!#REF!)","v":{"$error":"#REF!"}},{"$f":"IF(+ASISTENCIA!#REF!=\"\",\"\",ASISTENCIA!#REF!)","v":{"$error":"#REF!"}},{"$f":"IF(+ASISTENCIA!#REF!=\"\",\"\",ASISTENCIA!#REF!)","v":{"$error":"#REF!"}},null,{"$f":"ASISTENCIA!#REF!","v":{"$error":"#REF!"}},null,{"$f":"ASISTENCIA!#REF!","v":{"$error":"#REF!"}},{"$f":"ASISTENCIA!#REF!","v":{"$error":"#REF!"}},{"$f":"ASISTENCIA!#REF!","v":{"$error":"#REF!"}},null,{"$f":"ASISTENCIA!#REF!","v":{"$error":"#REF!"}},null,{"$f":"ASISTENCIA!#REF!","v":{"$error":"#REF!"}},null,{"$f":"ASISTENCIA!#REF!","v":{"$error":"#REF!"}},null,null,null,null,null,null,null,null,null,null,null,null,null,null,null,null,""]
[{"$f":"IF(+ASISTENCIA!#REF!=\"\",\"\",ASISTENCIA!#REF!)","v":{"$error":"#REF!"}},null,null,{"$f":"IF(+ASISTENCIA!#REF!=\"\",\"\",ASISTENCIA!#REF!)","v":{"$error":"#REF!"}},{"$f":"IF(+ASISTENCIA!#REF!=\"\",\"\",ASISTENCIA!#REF!)","v":{"$error":"#REF!"}},{"$f":"IF(+ASISTENCIA!#REF!=\"\",\"\",ASISTENCIA!#REF!)","v":{"$error":"#REF!"}},{"$f":"IF(+ASISTENCIA!#REF!=\"\",\"\",ASISTENCIA!#REF!)","v":{"$error":"#REF!"}},{"$f":"IF(+ASISTENCIA!#REF!=\"\",\"\",ASISTENCIA!#REF!)","v":{"$error":"#REF!"}},null,{"$f":"ASISTENCIA!#REF!","v":{"$error":"#REF!"}},null,{"$f":"ASISTENCIA!#REF!","v":{"$error":"#REF!"}},{"$f":"ASISTENCIA!#REF!","v":{"$error":"#REF!"}},{"$f":"ASISTENCIA!#REF!","v":{"$error":"#REF!"}},null,{"$f":"ASISTENCIA!#REF!","v":{"$error":"#REF!"}},null,{"$f":"ASISTENCIA!#REF!","v":{"$error":"#REF!"}},null,{"$f":"ASISTENCIA!#REF!","v":{"$error":"#REF!"}},null,null,null,null,null,null,null,null,null,null,null,null,null,null,null,null,""]
[{"$f":"IF(+ASISTENCIA!#REF!=\"\",\"\",ASISTENCIA!#REF!)","v":{"$error":"#REF!"}},null,null,{"$f":"IF(+ASISTENCIA!#REF!=\"\",\"\",ASISTENCIA!#REF!)","v":{"$error":"#REF!"}},{"$f":"IF(+ASISTENCIA!#REF!=\"\",\"\",ASISTENCIA!#REF!)","v":{"$error":"#REF!"}},{"$f":"IF(+ASISTENCIA!#REF!=\"\",\"\",ASISTENCIA!#REF!)","v":{"$error":"#REF!"}},{"$f":"IF(+ASISTENCIA!#REF!=\"\",\"\",ASISTENCIA!#REF!)","v":{"$error":"#REF!"}},{"$f":"IF(+ASISTENCIA!#REF!=\"\",\"\",ASISTENCIA!#REF!)","v":{"$error":"#REF!"}},null,{"$f":"ASISTENCIA!#REF!","v":{"$error":"#REF!"}},null,{"$f":"ASISTENCIA!#REF!","v":{"$error":"#REF!"}},{"$f":"ASISTENCIA!#REF!","v":{"$error":"#REF!"}},{"$f":"ASISTENCIA!#REF!","v":{"$error":"#REF!"}},null,{"$f":"ASISTENCIA!#REF!","v":{"$error":"#REF!"}},null,{"$f":"ASISTENCIA!#REF!","v":{"$error":"#REF!"}},null,{"$f":"ASISTENCIA!#REF!","v":{"$error":"#REF!"}},null,null,null,null,null,null,null,null,null,null,null,null,null,null,null,null,""]
[{"$f":"IF(+ASISTENCIA!#REF!=\"\",\"\",ASISTENCIA!#REF!)","v":{"$error":"#REF!"}},null,null,{"$f":"IF(+ASISTENCIA!#REF!=\"\",\"\",ASISTENCIA!#REF!)","v":{"$error":"#REF!"}},{"$f":"IF(+ASISTENCIA!#REF!=\"\",\"\",ASISTENCIA!#REF!)","v":{"$error":"#REF!"}},{"$f":"IF(+ASISTENCIA!#REF!=\"\",\"\",ASISTENCIA!#REF!)","v":{"$error":"#REF!"}},{"$f":"IF(+ASISTENCIA!#REF!=\"\",\"\",ASISTENCIA!#REF!)","v":{"$error":"#REF!"}},{"$f":"IF(+ASISTENCIA!#REF!=\"\",\"\",ASISTENCIA!#REF!)","v":{"$error":"#REF!"}},null,{"$f":"ASISTENCIA!#REF!","v":{"$error":"#REF!"}},null,{"$f":"ASISTENCIA!#REF!","v":{"$error":"#REF!"}},{"$f":"ASISTENCIA!#REF!","v":{"$error":"#REF!"}},{"$f":"ASISTENCIA!#REF!","v":{"$error":"#REF!"}},null,{"$f":"ASISTENCIA!#REF!","v":{"$error":"#REF!"}},null,{"$f":"ASISTENCIA!#REF!","v":{"$error":"#REF!"}},null,{"$f":"ASISTENCIA!#REF!","v":{"$error":"#REF!"}},null,null,null,null,null,null,null,null,null,null,null,null,null,null,null,null,""]
[{"$f":"IF(+ASISTENCIA!#REF!=\"\",\"\",ASISTENCIA!#REF!)","v":{"$error":"#REF!"}},null,null,{"$f":"IF(+ASISTENCIA!#REF!=\"\",\"\",ASISTENCIA!#REF!)","v":{"$error":"#REF!"}},{"$f":"IF(+ASISTENCIA!#REF!=\"\",\"\",ASISTENCIA!#REF!)","v":{"$error":"#REF!"}},{"$f":"IF(+ASISTENCIA!#REF!=\"\",\"\",ASISTENCIA!#REF!)","v":{"$error":"#REF!"}},{"$f":"IF(+ASISTENCIA!#REF!=\"\",\"\",ASISTENCIA!#REF!)","v":{"$error":"#REF!"}},{"$f":"IF(+ASISTENCIA!#REF!=\"\",\"\",ASISTENCIA!#REF!)","v":{"$error":"#REF!"}},null,{"$f":"ASISTENCIA!#REF!","v":{"$error":"#REF!"}},null,{"$f":"ASISTENCIA!#REF!","v":{"$error":"#REF!"}},{"$f":"ASISTENCIA!#REF!","v":{"$error":"#REF!"}},{"$f":"ASISTENCIA!#REF!","v":{"$error":"#REF!"}},null,{"$f":"ASISTENCIA!#REF!","v":{"$error":"#REF!"}},null,{"$f":"ASISTENCIA!#REF!","v":{"$error":"#REF!"}},null,{"$f":"ASISTENCIA!#REF!","v":{"$error":"#REF!"}},null,null,null,null,null,null,null,null,null,null,null,null,null,null,null,null,""]
[{"$f":"IF(+ASISTENCIA!#REF!=\"\",\"\",ASISTENCIA!#REF!)","v":{"$error":"#REF!"}},null,null,{"$f":"IF(+ASISTENCIA!#REF!=\"\",\"\",ASISTENCIA!#REF!)","v":{"$error":"#REF!"}},{"$f":"IF(+ASISTENCIA!#REF!=\"\",\"\",ASISTENCIA!#REF!)","v":{"$error":"#REF!"}},{"$f":"IF(+ASISTENCIA!#REF!=\"\",\"\",ASISTENCIA!#REF!)","v":{"$error":"#REF!"}},{"$f":"IF(+ASISTENCIA!#REF!=\"\",\"\",ASISTENCIA!#REF!)","v":{"$error":"#REF!"}},{"$f":"IF(+ASISTENCIA!#REF!=\"\",\"\",ASISTENCIA!#REF!)","v":{"$error":"#REF!"}},null,{"$f":"ASISTENCIA!#REF!","v":{"$error":"#REF!"}},null,{"$f":"ASISTENCIA!#REF!","v":{"$error":"#REF!"}},{"$f":"ASISTENCIA!#REF!","v":{"$error":"#REF!"}},{"$f":"ASISTENCIA!#REF!","v":{"$error":"#REF!"}},null,{"$f":"ASISTENCIA!#REF!","v":{"$error":"#REF!"}},null,{"$f":"ASISTENCIA!#REF!","v":{"$error":"#REF!"}},null,{"$f":"ASISTENCIA!#REF!","v":{"$error":"#REF!"}},null,null,null,null,null,null,null,null,null,null,null,null,null,null,null,null,""]
[{"$f":"IF(+ASISTENCIA!#REF!=\"\",\"\",ASISTENCIA!#REF!)","v":{"$error":"#REF!"}},null,null,{"$f":"IF(+ASISTENCIA!#REF!=\"\",\"\",ASISTENCIA!#REF!)","v":{"$error":"#REF!"}},{"$f":"IF(+ASISTENCIA!#REF!=\"\",\"\",ASISTENCIA!#REF!)","v":{"$error":"#REF!"}},{"$f":"IF(+ASISTENCIA!#REF!=\"\",\"\",ASISTENCIA!#REF!)","v":{"$error":"#REF!"}},{"$f":"IF(+ASISTENCIA!#REF!=\"\",\"\",ASISTENCIA!#REF!)","v":{"$error":"#REF!"}},{"$f":"IF(+ASISTENCIA!#REF!=\"\",\"\",ASISTENCIA!#REF!)","v":{"$error":"#REF!"}},null,{"$f":"ASISTENCIA!#REF!","v":{"$error":"#REF!"}},null,{"$f":"ASISTENCIA!#REF!","v":{"$error":"#REF!"}},{"$f":"ASISTENCIA!#REF!","v":{"$error":"#REF!"}},{"$f":"ASISTENCIA!#REF!","v":{"$error":"#REF!"}},null,{"$f":"ASISTENCIA!#REF!","v":{"$error":"#REF!"}},null,{"$f":"ASISTENCIA!#REF!","v":{"$error":"#REF!"}},null,{"$f":"ASISTENCIA!#REF!","v":{"$error":"#REF!"}},null,null,null,null,null,null,null,null,null,null,null,null,null,null,null,null,""]
[{"$f":"IF(+ASISTENCIA!#REF!=\"\",\"\",ASISTENCIA!#REF!)","v":{"$error":"#REF!"}},null,null,{"$f":"IF(+ASISTENCIA!#REF!=\"\",\"\",ASISTENCIA!#REF!)","v":{"$error":"#REF!"}},{"$f":"IF(+ASISTENCIA!#REF!=\"\",\"\",ASISTENCIA!#REF!)","v":{"$error":"#REF!"}},{"$f":"IF(+ASISTENCIA!#REF!=\"\",\"\",ASISTENCIA!#REF!)","v":{"$error":"#REF!"}},{"$f":"IF(+ASISTENCIA!#REF!=\"\",\"\",ASISTENCIA!#REF!)","v":{"$error":"#REF!"}},{"$f":"IF(+ASISTENCIA!#REF!=\"\",\"\",ASISTENCIA!#REF!)","v":{"$error":"#REF!"}},null,{"$f":"ASISTENCIA!#REF!","v":{"$error":"#REF!"}},null,{"$f":"ASISTENCIA!#REF!","v":{"$error":"#REF!"}},{"$f":"ASISTENCIA!#REF!","v":{"$error":"#REF!"}},{"$f":"ASISTENCIA!#REF!","v":{"$error":"#REF!"}},null,{"$f":"ASISTENCIA!#REF!","v":{"$error":"#REF!"}},null,{"$f":"ASISTENCIA!#REF!","v":{"$error":"#REF!"}},null,{"$f":"ASISTENCIA!#REF!","v":{"$error":"#REF!"}},null,null,null,null,null,null,null,null,null,null,null,null,null,null,null,null,""]
[{"$f":"IF(+ASISTENCIA!#REF!=\"\",\"\",ASISTENCIA!#REF!)","v":{"$error":"#REF!"}},null,null,{"$f":"IF(+ASISTENCIA!#REF!=\"\",\"\",ASISTENCIA!#REF!)","v":{"$error":"#REF!"}},{"$f":"IF(+ASISTENCIA!#REF!=\"\",\"\",ASISTENCIA!#REF!)","v":{"$error":"#REF!"}},{"$f":"IF(+ASISTENCIA!#REF!=\"\",\"\",ASISTENCIA!#REF!)","v":{"$error":"#REF!"}},{"$f":"IF(+ASISTENCIA!#REF!=\"\",\"\",ASISTENCIA!#REF!)","v":{"$error":"#REF!"}},{"$f":"IF(+ASISTENCIA!#REF!=\"\",\"\",ASISTENCIA!#REF!)","v":{"$error":"#REF!"}},null,{"$f":"ASISTENCIA!#REF!","v":{"$error":"#REF!"}},null,{"$f":"ASISTENCIA!#REF!","v":{"$error":"#REF!"}},{"$f":"ASISTENCIA!#REF!","v":{"$error":"#REF!"}},{"$f":"ASISTENCIA!#REF!","v":{"$error":"#REF!"}},null,{"$f":"ASISTENCIA!#REF!","v":{"$error":"#REF!"}},null,{"$f":"ASISTENCIA!#REF!","v":{"$error":"#REF!"}},null,{"$f":"ASISTENCIA!#REF!","v":{"$error":"#REF!"}},null,null,null,null,null,null,null,null,null,null,null,null,null,null,null,null,""]
[{"$f":"IF(+ASISTENCIA!#REF!=\"\",\"\",ASISTENCIA!#REF!)","v":{"$error":"#REF!"}},null,null,{"$f":"IF(+ASISTENCIA!#REF!=\"\",\"\",ASISTENCIA!#REF!)","v":{"$error":"#REF!"}},{"$f":"IF(+ASISTENCIA!#REF!=\"\",\"\",ASISTENCIA!#REF!)","v":{"$error":"#REF!"}},{"$f":"IF(+ASISTENCIA!#REF!=\"\",\"\",ASISTENCIA!#REF!)","v":{"$error":"#REF!"}},{"$f":"IF(+ASISTENCIA!#REF!=\"\",\"\",ASISTENCIA!#REF!)","v":{"$error":"#REF!"}},{"$f":"IF(+ASISTENCIA!#REF!=\"\",\"\",ASISTENCIA!#REF!)","v":{"$error":"#REF!"}},null,{"$f":"ASISTENCIA!#REF!","v":{"$error":"#REF!"}},null,{"$f":"ASISTENCIA!#REF!","v":{"$error":"#REF!"}},{"$f":"ASISTENCIA!#REF!","v":{"$error":"#REF!"}},{"$f":"ASISTENCIA!#REF!","v":{"$error":"#REF!"}},null,{"$f":"ASISTENCIA!#REF!","v":{"$error":"#REF!"}},null,{"$f":"ASISTENCIA!#REF!","v":{"$error":"#REF!"}},null,{"$f":"ASISTENCIA!#REF!","v":{"$error":"#REF!"}},null,null,null,null,null,null,null,null,null,null,null,null,null,null,null,null,""]
[{"$f":"IF(+ASISTENCIA!#REF!=\"\",\"\",ASISTENCIA!#REF!)","v":{"$error":"#REF!"}},null,null,{"$f":"IF(+ASISTENCIA!#REF!=\"\",\"\",ASISTENCIA!#REF!)","v":{"$error":"#REF!"}},{"$f":"IF(+ASISTENCIA!#REF!=\"\",\"\",ASISTENCIA!#REF!)","v":{"$error":"#REF!"}},{"$f":"IF(+ASISTENCIA!#REF!=\"\",\"\",ASISTENCIA!#REF!)","v":{"$error":"#REF!"}},{"$f":"IF(+ASISTENCIA!#REF!=\"\",\"\",ASISTENCIA!#REF!)","v":{"$error":"#REF!"}},{"$f":"IF(+ASISTENCIA!#REF!=\"\",\"\",ASISTENCIA!#REF!)","v":{"$error":"#REF!"}},null,{"$f":"ASISTENCIA!#REF!","v":{"$error":"#REF!"}},null,{"$f":"ASISTENCIA!#REF!","v":{"$error":"#REF!"}},{"$f":"ASISTENCIA!#REF!","v":{"$error":"#REF!"}},{"$f":"ASISTENCIA!#REF!","v":{"$error":"#REF!"}},null,{"$f":"ASISTENCIA!#REF!","v":{"$error":"#REF!"}},null,{"$f":"ASISTENCIA!#REF!","v":{"$error":"#REF!"}},null,{"$f":"ASISTENCIA!#REF!","v":{"$error":"#REF!"}},null,null,null,null,null,null,null,null,null,null,null,null,null,null,null,null,""]
[{"$f":"IF(+ASISTENCIA!#REF!=\"\",\"\",ASISTENCIA!#REF!)","v":{"$error":"#REF!"}},null,null,{"$f":"IF(+ASISTENCIA!#REF!=\"\",\"\",ASISTENCIA!#REF!)","v":{"$error":"#REF!"}},{"$f":"IF(+ASISTENCIA!#REF!=\"\",\"\",ASISTENCIA!#REF!)","v":{"$error":"#REF!"}},{"$f":"IF(+ASISTENCIA!#REF!=\"\",\"\",ASISTENCIA!#REF!)","v":{"$error":"#REF!"}},{"$f":"IF(+ASISTENCIA!#REF!=\"\",\"\",ASISTENCIA!#REF!)","v":{"$error":"#REF!"}},{"$f":"IF(+ASISTENCIA!#REF!=\"\",\"\",ASISTENCIA!#REF!)","v":{"$error":"#REF!"}},null,{"$f":"ASISTENCIA!#REF!","v":{"$error":"#REF!"}},null,{"$f":"ASISTENCIA!#REF!","v":{"$error":"#REF!"}},{"$f":"ASISTENCIA!#REF!","v":{"$error":"#REF!"}},{"$f":"ASISTENCIA!#REF!","v":{"$error":"#REF!"}},null,{"$f":"ASISTENCIA!#REF!","v":{"$error":"#REF!"}},null,{"$f":"ASISTENCIA!#REF!","v":{"$error":"#REF!"}},null,{"$f":"ASISTENCIA!#REF!","v":{"$error":"#REF!"}},null,null,null,null,null,null,null,null,null,null,null,null,null,null,null,null,""]
[{"$f":"IF(+ASISTENCIA!#REF!=\"\",\"\",ASISTENCIA!#REF!)","v":{"$error":"#REF!"}},null,null,{"$f":"IF(+ASISTENCIA!#REF!=\"\",\"\",ASISTENCIA!#REF!)","v":{"$error":"#REF!"}},{"$f":"IF(+ASISTENCIA!#REF!=\"\",\"\",ASISTENCIA!#REF!)","v":{"$error":"#REF!"}},{"$f":"IF(+ASISTENCIA!#REF!=\"\",\"\",ASISTENCIA!#REF!)","v":{"$error":"#REF!"}},{"$f":"IF(+ASISTENCIA!#REF!=\"\",\"\",ASISTENCIA!#REF!)","v":{"$error":"#REF!"}},{"$f":"IF(+ASISTENCIA!#REF!=\"\",\"\",ASISTENCIA!#REF!)","v":{"$error":"#REF!"}},null,{"$f":"ASISTENCIA!#REF!","v":{"$error":"#REF!"}},null,{"$f":"ASISTENCIA!#REF!","v":{"$error":"#REF!"}},{"$f":"ASISTENCIA!#REF!","v":{"$error":"#REF!"}},{"$f":"ASISTENCIA!#REF!","v":{"$error":"#REF!"}},null,{"$f":"ASISTENCIA!#REF!","v":{"$error":"#REF!"}},null,{"$f":"ASISTENCIA!#REF!","v":{"$error":"#REF!"}},null,{"$f":"ASISTENCIA!#REF!","v":{"$error":"#REF!"}},null,null,null,null,null,null,null,null,null,null,null,null,null,null,null,null,{"$f":"IF(OR(COUNTIF($I57:$AJ57,\"X\")>0,COUNTIF($I57:$AJ57,\"L\")>0),COUNTIF($I57:$AJ57,\"X\")+COUNTIF($I57:$AJ57,\"L\"),\"\")","v":""}]
[{"$f":"IF(+ASISTENCIA!#REF!=\"\",\"\",ASISTENCIA!#REF!)","v":{"$error":"#REF!"}},null,null,{"$f":"IF(+ASISTENCIA!#REF!=\"\",\"\",ASISTENCIA!#REF!)","v":{"$error":"#REF!"}},{"$f":"IF(+ASISTENCIA!#REF!=\"\",\"\",ASISTENCIA!#REF!)","v":{"$error":"#REF!"}},{"$f":"IF(+ASISTENCIA!#REF!=\"\",\"\",ASISTENCIA!#REF!)","v":{"$error":"#REF!"}},{"$f":"IF(+ASISTENCIA!#REF!=\"\",\"\",ASISTENCIA!#REF!)","v":{"$error":"#REF!"}},{"$f":"IF(+ASISTENCIA!#REF!=\"\",\"\",ASISTENCIA!#REF!)","v":{"$error":"#REF!"}},null,{"$f":"ASISTENCIA!#REF!","v":{"$error":"#REF!"}},null,{"$f":"ASISTENCIA!#REF!","v":{"$error":"#REF!"}},{"$f":"ASISTENCIA!#REF!","v":{"$error":"#REF!"}},{"$f":"ASISTENCIA!#REF!","v":{"$error":"#REF!"}},null,{"$f":"ASISTENCIA!#REF!","v":{"$error":"#REF!"}},null,{"$f":"ASISTENCIA!#REF!","v":{"$error":"#REF!"}},null,{"$f":"ASISTENCIA!#REF!","v":{"$error":"#REF!"}},null,null,null,null,null,null,null,null,null,null,null,null,null,null,null,null,""]
[{"$f":"IF(+ASISTENCIA!#REF!=\"\",\"\",ASISTENCIA!#REF!)","v":{"$error":"#REF!"}},null,null,{"$f":"IF(+ASISTENCIA!#REF!=\"\",\"\",ASISTENCIA!#REF!)","v":{"$error":"#REF!"}},{"$f":"IF(+ASISTENCIA!#REF!=\"\",\"\",ASISTENCIA!#REF!)","v":{"$error":"#REF!"}},{"$f":"IF(+ASISTENCIA!#REF!=\"\",\"\",ASISTENCIA!#REF!)","v":{"$error":"#REF!"}},{"$f":"IF(+ASISTENCIA!#REF!=\"\",\"\",ASISTENCIA!#REF!)","v":{"$error":"#REF!"}},{"$f":"IF(+ASISTENCIA!#REF!=\"\",\"\",ASISTENCIA!#REF!)","v":{"$error":"#REF!"}},null,{"$f":"ASISTENCIA!#REF!","v":{"$error":"#REF!"}},null,{"$f":"ASISTENCIA!#REF!","v":{"$error":"#REF!"}},{"$f":"ASISTENCIA!#REF!","v":{"$error":"#REF!"}},{"$f":"ASISTENCIA!#REF!","v":{"$error":"#REF!"}},null,{"$f":"ASISTENCIA!#REF!","v":{"$error":"#REF!"}},null,{"$f":"ASISTENCIA!#REF!","v":{"$error":"#REF!"}},null,{"$f":"ASISTENCIA!#REF!","v":{"$error":"#REF!"}},null,null,null,null,null,null,null,null,null,null,null,null,null,null,null,null,""]
[{"$f":"IF(+ASISTENCIA!#REF!=\"\",\"\",ASISTENCIA!#REF!)","v":{"$error":"#REF!"}},null,null,{"$f":"IF(+ASISTENCIA!#REF!=\"\",\"\",ASISTENCIA!#REF!)","v":{"$error":"#REF!"}},{"$f":"IF(+ASISTENCIA!#REF!=\"\",\"\",ASISTENCIA!#REF!)","v":{"$error":"#REF!"}},{"$f":"IF(+ASISTENCIA!#REF!=\"\",\"\",ASISTENCIA!#REF!)","v":{"$error":"#REF!"}},{"$f":"IF(+ASISTENCIA!#REF!=\"\",\"\",ASISTENCIA!#REF!)","v":{"$error":"#REF!"}},{"$f":"IF(+ASISTENCIA!#REF!=\"\",\"\",ASISTENCIA!#REF!)","v":{"$error":"#REF!"}},null,{"$f":"ASISTENCIA!#REF!","v":{"$error":"#REF!"}},null,{"$f":"ASISTENCIA!#REF!","v":{"$error":"#REF!"}},{"$f":"ASISTENCIA!#REF!","v":{"$error":"#REF!"}},{"$f":"ASISTENCIA!#REF!","v":{"$error":"#REF!"}},null,{"$f":"ASISTENCIA!#REF!","v":{"$error":"#REF!"}},null,{"$f":"ASISTENCIA!#REF!","v":{"$error":"#REF!"}},null,{"$f":"ASISTENCIA!#REF!","v":{"$error":"#REF!"}},null,null,null,null,null,null,null,null,null,null,null,null,null,null,null,null,""]
[{"$f":"IF(+ASISTENCIA!#REF!=\"\",\"\",ASISTENCIA!#REF!)","v":{"$error":"#REF!"}},null,null,{"$f":"IF(+ASISTENCIA!#REF!=\"\",\"\",ASISTENCIA!#REF!)","v":{"$error":"#REF!"}},{"$f":"IF(+ASISTENCIA!#REF!=\"\",\"\",ASISTENCIA!#REF!)","v":{"$error":"#REF!"}},{"$f":"IF(+ASISTENCIA!#REF!=\"\",\"\",ASISTENCIA!#REF!)","v":{"$error":"#REF!"}},{"$f":"IF(+ASISTENCIA!#REF!=\"\",\"\",ASISTENCIA!#REF!)","v":{"$error":"#REF!"}},{"$f":"IF(+ASISTENCIA!#REF!=\"\",\"\",ASISTENCIA!#REF!)","v":{"$error":"#REF!"}},null,{"$f":"ASISTENCIA!#REF!","v":{"$error":"#REF!"}},null,{"$f":"ASISTENCIA!#REF!","v":{"$error":"#REF!"}},{"$f":"ASISTENCIA!#REF!","v":{"$error":"#REF!"}},{"$f":"ASISTENCIA!#REF!","v":{"$error":"#REF!"}},null,{"$f":"ASISTENCIA!#REF!","v":{"$error":"#REF!"}},null,{"$f":"ASISTENCIA!#REF!","v":{"$error":"#REF!"}},null,{"$f":"ASISTENCIA!#REF!","v":{"$error":"#REF!"}},null,null,null,null,null,null,null,null,null,null,null,null,null,null,null,null,""]
[{"$f":"IF(+ASISTENCIA!#REF!=\"\",\"\",ASISTENCIA!#REF!)","v":{"$error":"#REF!"}},null,null,{"$f":"IF(+ASISTENCIA!#REF!=\"\",\"\",ASISTENCIA!#REF!)","v":{"$error":"#REF!"}},{"$f":"IF(+ASISTENCIA!#REF!=\"\",\"\",ASISTENCIA!#REF!)","v":{"$error":"#REF!"}},{"$f":"IF(+ASISTENCIA!#REF!=\"\",\"\",ASISTENCIA!#REF!)","v":{"$error":"#REF!"}},{"$f":"IF(+ASISTENCIA!#REF!=\"\",\"\",ASISTENCIA!#REF!)","v":{"$error":"#REF!"}},{"$f":"IF(+ASISTENCIA!#REF!=\"\",\"\",ASISTENCIA!#REF!)","v":{"$error":"#REF!"}},null,{"$f":"ASISTENCIA!#REF!","v":{"$error":"#REF!"}},null,{"$f":"ASISTENCIA!#REF!","v":{"$error":"#REF!"}},{"$f":"ASISTENCIA!#REF!","v":{"$error":"#REF!"}},{"$f":"ASISTENCIA!#REF!","v":{"$error":"#REF!"}},null,{"$f":"ASISTENCIA!#REF!","v":{"$error":"#REF!"}},null,{"$f":"ASISTENCIA!#REF!","v":{"$error":"#REF!"}},null,{"$f":"ASISTENCIA!#REF!","v":{"$error":"#REF!"}},null,null,null,null,null,null,null,null,null,null,null,null,null,null,null,null,""]
[{"$f":"IF(+ASISTENCIA!#REF!=\"\",\"\",ASISTENCIA!#REF!)","v":{"$error":"#REF!"}},null,null,{"$f":"IF(+ASISTENCIA!#REF!=\"\",\"\",ASISTENCIA!#REF!)","v":{"$error":"#REF!"}},{"$f":"IF(+ASISTENCIA!#REF!=\"\",\"\",ASISTENCIA!#REF!)","v":{"$error":"#REF!"}},{"$f":"IF(+ASISTENCIA!#REF!=\"\",\"\",ASISTENCIA!#REF!)","v":{"$error":"#REF!"}},{"$f":"IF(+ASISTENCIA!#REF!=\"\",\"\",ASISTENCIA!#REF!)","v":{"$error":"#REF!"}},{"$f":"IF(+ASISTENCIA!#REF!=\"\",\"\",ASISTENCIA!#REF!)","v":{"$error":"#REF!"}},null,{"$f":"ASISTENCIA!#REF!","v":{"$error":"#REF!"}},null,{"$f":"ASISTENCIA!#REF!","v":{"$error":"#REF!"}},{"$f":"ASISTENCIA!#REF!","v":{"$error":"#REF!"}},{"$f":"ASISTENCIA!#REF!","v":{"$error":"#REF!"}},null,{"$f":"ASISTENCIA!#REF!","v":{"$error":"#REF!"}},null,{"$f":"ASISTENCIA!#REF!","v":{"$error":"#REF!"}},null,{"$f":"ASISTENCIA!#REF!","v":{"$error":"#REF!"}},null,null,null,null,null,null,null,null,null,null,null,null,null,null,null,null,""]
[{"$f":"IF(+ASISTENCIA!#REF!=\"\",\"\",ASISTENCIA!#REF!)","v":{"$error":"#REF!"}},null,null,{"$f":"IF(+ASISTENCIA!#REF!=\"\",\"\",ASISTENCIA!#REF!)","v":{"$error":"#REF!"}},{"$f":"IF(+ASISTENCIA!#REF!=\"\",\"\",ASISTENCIA!#REF!)","v":{"$error":"#REF!"}},{"$f":"IF(+ASISTENCIA!#REF!=\"\",\"\",ASISTENCIA!#REF!)","v":{"$error":"#REF!"}},{"$f":"IF(+ASISTENCIA!#REF!=\"\",\"\",ASISTENCIA!#REF!)","v":{"$error":"#REF!"}},{"$f":"IF(+ASISTENCIA!#REF!=\"\",\"\",ASISTENCIA!#REF!)","v":{"$error":"#REF!"}},null,{"$f":"ASISTENCIA!#REF!","v":{"$error":"#REF!"}},null,{"$f":"ASISTENCIA!#REF!","v":{"$error":"#REF!"}},{"$f":"ASISTENCIA!#REF!","v":{"$error":"#REF!"}},{"$f":"ASISTENCIA!#REF!","v":{"$error":"#REF!"}},null,{"$f":"ASISTENCIA!#REF!","v":{"$error":"#REF!"}},null,{"$f":"ASISTENCIA!#REF!","v":{"$error":"#REF!"}},null,{"$f":"ASISTENCIA!#REF!","v":{"$error":"#REF!"}},null,null,null,null,null,null,null,null,null,null,null,null,null,null,null,null,""]
[{"$f":"IF(+ASISTENCIA!#REF!=\"\",\"\",ASISTENCIA!#REF!)","v":{"$error":"#REF!"}},null,null,{"$f":"IF(+ASISTENCIA!#REF!=\"\",\"\",ASISTENCIA!#REF!)","v":{"$error":"#REF!"}},{"$f":"IF(+ASISTENCIA!#REF!=\"\",\"\",ASISTENCIA!#REF!)","v":{"$error":"#REF!"}},{"$f":"IF(+ASISTENCIA!#REF!=\"\",\"\",ASISTENCIA!#REF!)","v":{"$error":"#REF!"}},{"$f":"IF(+ASISTENCIA!#REF!=\"\",\"\",ASISTENCIA!#REF!)","v":{"$error":"#REF!"}},{"$f":"IF(+ASISTENCIA!#REF!=\"\",\"\",ASISTENCIA!#REF!)","v":{"$error":"#REF!"}},null,{"$f":"ASISTENCIA!#REF!","v":{"$error":"#REF!"}},null,{"$f":"ASISTENCIA!#REF!","v":{"$error":"#REF!"}},{"$f":"ASISTENCIA!#REF!","v":{"$error":"#REF!"}},{"$f":"ASISTENCIA!#REF!","v":{"$error":"#REF!"}},null,{"$f":"ASISTENCIA!#REF!","v":{"$error":"#REF!"}},null,{"$f":"ASISTENCIA!#REF!","v":{"$error":"#REF!"}},null,{"$f":"ASISTENCIA!#REF!","v":{"$error":"#REF!"}},null,null,null,null,null,null,null,null,null,null,null,null,null,null,null,null,""]
[{"$f":"IF(+ASISTENCIA!#REF!=\"\",\"\",ASISTENCIA!#REF!)","v":{"$error":"#REF!"}},null,null,{"$f":"IF(+ASISTENCIA!#REF!=\"\",\"\",ASISTENCIA!#REF!)","v":{"$error":"#REF!"}},{"$f":"IF(+ASISTENCIA!#REF!=\"\",\"\",ASISTENCIA!#REF!)","v":{"$error":"#REF!"}},{"$f":"IF(+ASISTENCIA!#REF!=\"\",\"\",ASISTENCIA!#REF!)","v":{"$error":"#REF!"}},{"$f":"IF(+ASISTENCIA!#REF!=\"\",\"\",ASISTENCIA!#REF!)","v":{"$error":"#REF!"}},{"$f":"IF(+ASISTENCIA!#REF!=\"\",\"\",ASISTENCIA!#REF!)","v":{"$error":"#REF!"}},null,{"$f":"ASISTENCIA!#REF!","v":{"$error":"#REF!"}},null,{"$f":"ASISTENCIA!#REF!","v":{"$error":"#REF!"}},{"$f":"ASISTENCIA!#REF!","v":{"$error":"#REF!"}},{"$f":"ASISTENCIA!#REF!","v":{"$error":"#REF!"}},null,{"$f":"ASISTENCIA!#REF!","v":{"$error":"#REF!"}},null,{"$f":"ASISTENCIA!#REF!","v":{"$error":"#REF!"}},null,{"$f":"ASISTENCIA!#REF!","v":{"$error":"#REF!"}},null,null,null,null,null,null,null,null,null,null,null,null,null,null,null,null,""]
[{"$f":"IF(+ASISTENCIA!#REF!=\"\",\"\",ASISTENCIA!#REF!)","v":{"$error":"#REF!"}},null,null,{"$f":"IF(+ASISTENCIA!#REF!=\"\",\"\",ASISTENCIA!#REF!)","v":{"$error":"#REF!"}},{"$f":"IF(+ASISTENCIA!#REF!=\"\",\"\",ASISTENCIA!#REF!)","v":{"$error":"#REF!"}},{"$f":"IF(+ASISTENCIA!#REF!=\"\",\"\",ASISTENCIA!#REF!)","v":{"$error":"#REF!"}},{"$f":"IF(+ASISTENCIA!#REF!=\"\",\"\",ASISTENCIA!#REF!)","v":{"$error":"#REF!"}},{"$f":"IF(+ASISTENCIA!#REF!=\"\",\"\",ASISTENCIA!#REF!)","v":{"$error":"#REF!"}},null,{"$f":"ASISTENCIA!#REF!","v":{"$error":"#REF!"}},null,{"$f":"ASISTENCIA!#REF!","v":{"$error":"#REF!"}},{"$f":"ASISTENCIA!#REF!","v":{"$error":"#REF!"}},{"$f":"ASISTENCIA!#REF!","v":{"$error":"#REF!"}},null,{"$f":"ASISTENCIA!#REF!","v":{"$error":"#REF!"}},null,{"$f":"ASISTENCIA!#REF!","v":{"$error":"#REF!"}},null,{"$f":"ASISTENCIA!#REF!","v":{"$error":"#REF!"}},null,null,null,null,null,null,null,null,null,null,null,null,null,null,null,null,""]
[{"$f":"IF(+ASISTENCIA!#REF!=\"\",\"\",ASISTENCIA!#REF!)","v":{"$error":"#REF!"}},null,null,{"$f":"IF(+ASISTENCIA!#REF!=\"\",\"\",ASISTENCIA!#REF!)","v":{"$error":"#REF!"}},{"$f":"IF(+ASISTENCIA!#REF!=\"\",\"\",ASISTENCIA!#REF!)","v":{"$error":"#REF!"}},{"$f":"IF(+ASISTENCIA!#REF!=\"\",\"\",ASISTENCIA!#REF!)","v":{"$error":"#REF!"}},{"$f":"IF(+ASISTENCIA!#REF!=\"\",\"\",ASISTENCIA!#REF!)","v":{"$error":"#REF!"}},{"$f":"IF(+ASISTENCIA!#REF!=\"\",\"\",ASISTENCIA!#REF!)","v":{"$error":"#REF!"}},null,{"$f":"ASISTENCIA!#REF!","v":{"$error":"#REF!"}},null,{"$f":"ASISTENCIA!#REF!","v":{"$error":"#REF!"}},{"$f":"ASISTENCIA!#REF!","v":{"$error":"#REF!"}},{"$f":"ASISTENCIA!#REF!","v":{"$error":"#REF!"}},null,{"$f":"ASISTENCIA!#REF!","v":{"$error":"#REF!"}},null,{"$f":"ASISTENCIA!#REF!","v":{"$error":"#REF!"}},null,{"$f":"ASISTENCIA!#REF!","v":{"$error":"#REF!"}},null,null,null,null,null,null,null,null,null,null,null,null,null,null,null,null,""]
[{"$f":"IF(+ASISTENCIA!#REF!=\"\",\"\",ASISTENCIA!#REF!)","v":{"$error":"#REF!"}},null,null,{"$f":"IF(+ASISTENCIA!#REF!=\"\",\"\",ASISTENCIA!#REF!)","v":{"$error":"#REF!"}},{"$f":"IF(+ASISTENCIA!#REF!=\"\",\"\",ASISTENCIA!#REF!)","v":{"$error":"#REF!"}},{"$f":"IF(+ASISTENCIA!#REF!=\"\",\"\",ASISTENCIA!#REF!)","v":{"$error":"#REF!"}},{"$f":"IF(+ASISTENCIA!#REF!=\"\",\"\",ASISTENCIA!#REF!)","v":{"$error":"#REF!"}},{"$f":"IF(+ASISTENCIA!#REF!=\"\",\"\",ASISTENCIA!#REF!)","v":{"$error":"#REF!"}},null,{"$f":"ASISTENCIA!#REF!","v":{"$error":"#REF!"}},null,{"$f":"ASISTENCIA!#REF!","v":{"$error":"#REF!"}},{"$f":"ASISTENCIA!#REF!","v":{"$error":"#REF!"}},{"$f":"ASISTENCIA!#REF!","v":{"$error":"#REF!"}},null,{"$f":"ASISTENCIA!#REF!","v":{"$error":"#REF!"}},null,{"$f":"ASISTENCIA!#REF!","v":{"$error":"#REF!"}},null,{"$f":"ASISTENCIA!#REF!","v":{"$error":"#REF!"}},null,null,null,null,null,null,null,null,null,null,null,null,null,null,null,null,""]
[{"$f":"IF(+ASISTENCIA!#REF!=\"\",\"\",ASISTENCIA!#REF!)","v":{"$error":"#REF!"}},null,null,{"$f":"IF(+ASISTENCIA!#REF!=\"\",\"\",ASISTENCIA!#REF!)","v":{"$error":"#REF!"}},{"$f":"IF(+ASISTENCIA!#REF!=\"\",\"\",ASISTENCIA!#REF!)","v":{"$error":"#REF!"}},{"$f":"IF(+ASISTENCIA!#REF!=\"\",\"\",ASISTENCIA!#REF!)","v":{"$error":"#REF!"}},{"$f":"IF(+ASISTENCIA!#REF!=\"\",\"\",ASISTENCIA!#REF!)","v":{"$error":"#REF!"}},{"$f":"IF(+ASISTENCIA!#REF!=\"\",\"\",ASISTENCIA!#REF!)","v":{"$error":"#REF!"}},null,{"$f":"ASISTENCIA!#REF!","v":{"$error":"#REF!"}},null,{"$f":"ASISTENCIA!#REF!","v":{"$error":"#REF!"}},{"$f":"ASISTENCIA!#REF!","v":{"$error":"#REF!"}},{"$f":"ASISTENCIA!#REF!","v":{"$error":"#REF!"}},null,{"$f":"ASISTENCIA!#REF!","v":{"$error":"#REF!"}},null,{"$f":"ASISTENCIA!#REF!","v":{"$error":"#REF!"}},null,{"$f":"ASISTENCIA!#REF!","v":{"$error":"#REF!"}},null,null,null,null,null,null,null,null,null,null,null,null,null,null,null,null,""]
[{"$f":"IF(+ASISTENCIA!#REF!=\"\",\"\",ASISTENCIA!#REF!)","v":{"$error":"#REF!"}},null,null,{"$f":"IF(+ASISTENCIA!#REF!=\"\",\"\",ASISTENCIA!#REF!)","v":{"$error":"#REF!"}},{"$f":"IF(+ASISTENCIA!#REF!=\"\",\"\",ASISTENCIA!#REF!)","v":{"$error":"#REF!"}},{"$f":"IF(+ASISTENCIA!#REF!=\"\",\"\",ASISTENCIA!#REF!)","v":{"$error":"#REF!"}},{"$f":"IF(+ASISTENCIA!#REF!=\"\",\"\",ASISTENCIA!#REF!)","v":{"$error":"#REF!"}},{"$f":"IF(+ASISTENCIA!#REF!=\"\",\"\",ASISTENCIA!#REF!)","v":{"$error":"#REF!"}},null,{"$f":"ASISTENCIA!#REF!","v":{"$error":"#REF!"}},null,{"$f":"ASISTENCIA!#REF!","v":{"$error":"#REF!"}},{"$f":"ASISTENCIA!#REF!","v":{"$error":"#REF!"}},{"$f":"ASISTENCIA!#REF!","v":{"$error":"#REF!"}},null,{"$f":"ASISTENCIA!#REF!","v":{"$error":"#REF!"}},null,{"$f":"ASISTENCIA!#REF!","v":{"$error":"#REF!"}},null,{"$f":"ASISTENCIA!#REF!","v":{"$error":"#REF!"}},null,null,null,null,null,null,null,null,null,null,null,null,null,null,null,null,""]
[{"$f":"IF(+ASISTENCIA!#REF!=\"\",\"\",ASISTENCIA!#REF!)","v":{"$error":"#REF!"}},null,null,{"$f":"IF(+ASISTENCIA!#REF!=\"\",\"\",ASISTENCIA!#REF!)","v":{"$error":"#REF!"}},{"$f":"IF(+ASISTENCIA!#REF!=\"\",\"\",ASISTENCIA!#REF!)","v":{"$error":"#REF!"}},{"$f":"IF(+ASISTENCIA!#REF!=\"\",\"\",ASISTENCIA!#REF!)","v":{"$error":"#REF!"}},{"$f":"IF(+ASISTENCIA!#REF!=\"\",\"\",ASISTENCIA!#REF!)","v":{"$error":"#REF!"}},{"$f":"IF(+ASISTENCIA!#REF!=\"\",\"\",ASISTENCIA!#REF!)","v":{"$error":"#REF!"}},null,{"$f":"ASISTENCIA!#REF!","v":{"$error":"#REF!"}},null,{"$f":"ASISTENCIA!#REF!","v":{"$error":"#REF!"}},{"$f":"ASISTENCIA!#REF!","v":{"$error":"#REF!"}},{"$f":"ASISTENCIA!#REF!","v":{"$error":"#REF!"}},null,{"$f":"ASISTENCIA!#REF!","v":{"$error":"#REF!"}},null,{"$f":"ASISTENCIA!#REF!","v":{"$error":"#REF!"}},null,{"$f":"ASISTENCIA!#REF!","v":{"$error":"#REF!"}},null,null,null,null,null,null,null,null,null,null,null,null,null,null,null,null,""]
[{"$f":"IF(+ASISTENCIA!#REF!=\"\",\"\",ASISTENCIA!#REF!)","v":{"$error":"#REF!"}},null,null,{"$f":"IF(+ASISTENCIA!#REF!=\"\",\"\",ASISTENCIA!#REF!)","v":{"$error":"#REF!"}},{"$f":"IF(+ASISTENCIA!#REF!=\"\",\"\",ASISTENCIA!#REF!)","v":{"$error":"#REF!"}},{"$f":"IF(+ASISTENCIA!#REF!=\"\",\"\",ASISTENCIA!#REF!)","v":{"$error":"#REF!"}},{"$f":"IF(+ASISTENCIA!#REF!=\"\",\"\",ASISTENCIA!#REF!)","v":{"$error":"#REF!"}},{"$f":"IF(+ASISTENCIA!#REF!=\"\",\"\",ASISTENCIA!#REF!)","v":{"$error":"#REF!"}},null,{"$f":"ASISTENCIA!#REF!","v":{"$error":"#REF!"}},null,{"$f":"ASISTENCIA!#REF!","v":{"$error":"#REF!"}},{"$f":"ASISTENCIA!#REF!","v":{"$error":"#REF!"}},{"$f":"ASISTENCIA!#REF!","v":{"$error":"#REF!"}},null,{"$f":"ASISTENCIA!#REF!","v":{"$error":"#REF!"}},null,{"$f":"ASISTENCIA!#REF!","v":{"$error":"#REF!"}},null,{"$f":"ASISTENCIA!#REF!","v":{"$error":"#REF!"}},null,null,null,null,null,null,null,null,null,null,null,null,null,null,null,null,""]
[{"$f":"IF(+ASISTENCIA!#REF!=\"\",\"\",ASISTENCIA!#REF!)","v":{"$error":"#REF!"}},null,null,{"$f":"IF(+ASISTENCIA!#REF!=\"\",\"\",ASISTENCIA!#REF!)","v":{"$error":"#REF!"}},{"$f":"IF(+ASISTENCIA!#REF!=\"\",\"\",ASISTENCIA!#REF!)","v":{"$error":"#REF!"}},{"$f":"IF(+ASISTENCIA!#REF!=\"\",\"\",ASISTENCIA!#REF!)","v":{"$error":"#REF!"}},{"$f":"IF(+ASISTENCIA!#REF!=\"\",\"\",ASISTENCIA!#REF!)","v":{"$error":"#REF!"}},{"$f":"IF(+ASISTENCIA!#REF!=\"\",\"\",ASISTENCIA!#REF!)","v":{"$error":"#REF!"}},null,{"$f":"ASISTENCIA!#REF!","v":{"$error":"#REF!"}},null,{"$f":"ASISTENCIA!#REF!","v":{"$error":"#REF!"}},{"$f":"ASISTENCIA!#REF!","v":{"$error":"#REF!"}},{"$f":"ASISTENCIA!#REF!","v":{"$error":"#REF!"}},null,{"$f":"ASISTENCIA!#REF!","v":{"$error":"#REF!"}},null,{"$f":"ASISTENCIA!#REF!","v":{"$error":"#REF!"}},null,{"$f":"ASISTENCIA!#REF!","v":{"$error":"#REF!"}},null,null,null,null,null,null,null,null,null,null,null,null,null,null,null,null,""]
[{"$f":"IF(+ASISTENCIA!#REF!=\"\",\"\",ASISTENCIA!#REF!)","v":{"$error":"#REF!"}},null,null,{"$f":"IF(+ASISTENCIA!#REF!=\"\",\"\",ASISTENCIA!#REF!)","v":{"$error":"#REF!"}},{"$f":"IF(+ASISTENCIA!#REF!=\"\",\"\",ASISTENCIA!#REF!)","v":{"$error":"#REF!"}},{"$f":"IF(+ASISTENCIA!#REF!=\"\",\"\",ASISTENCIA!#REF!)","v":{"$error":"#REF!"}},{"$f":"IF(+ASISTENCIA!#REF!=\"\",\"\",ASISTENCIA!#REF!)","v":{"$error":"#REF!"}},{"$f":"IF(+ASISTENCIA!#REF!=\"\",\"\",ASISTENCIA!#REF!)","v":{"$error":"#REF!"}},null,{"$f":"ASISTENCIA!#REF!","v":{"$error":"#REF!"}},null,{"$f":"ASISTENCIA!#REF!","v":{"$error":"#REF!"}},{"$f":"ASISTENCIA!#REF!","v":{"$error":"#REF!"}},{"$f":"ASISTENCIA!#REF!","v":{"$error":"#REF!"}},null,{"$f":"ASISTENCIA!#REF!","v":{"$error":"#REF!"}},null,{"$f":"ASISTENCIA!#REF!","v":{"$error":"#REF!"}},null,{"$f":"ASISTENCIA!#REF!","v":{"$error":"#REF!"}},null,null,null,null,null,null,null,null,null,null,null,null,null,null,null,null,""]
[{"$f":"IF(+ASISTENCIA!#REF!=\"\",\"\",ASISTENCIA!#REF!)","v":{"$error":"#REF!"}},null,null,{"$f":"IF(+ASISTENCIA!#REF!=\"\",\"\",ASISTENCIA!#REF!)","v":{"$error":"#REF!"}},{"$f":"IF(+ASISTENCIA!#REF!=\"\",\"\",ASISTENCIA!#REF!)","v":{"$error":"#REF!"}},{"$f":"IF(+ASISTENCIA!#REF!=\"\",\"\",ASISTENCIA!#REF!)","v":{"$error":"#REF!"}},{"$f":"IF(+ASISTENCIA!#REF!=\"\",\"\",ASISTENCIA!#REF!)","v":{"$error":"#REF!"}},{"$f":"IF(+ASISTENCIA!#REF!=\"\",\"\",ASISTENCIA!#REF!)","v":{"$error":"#REF!"}},null,{"$f":"ASISTENCIA!#REF!","v":{"$error":"#REF!"}},null,{"$f":"ASISTENCIA!#REF!","v":{"$error":"#REF!"}},{"$f":"ASISTENCIA!#REF!","v":{"$error":"#REF!"}},{"$f":"ASISTENCIA!#REF!","v":{"$error":"#REF!"}},null,{"$f":"ASISTENCIA!#REF!","v":{"$error":"#REF!"}},null,{"$f":"ASISTENCIA!#REF!","v":{"$error":"#REF!"}},null,{"$f":"ASISTENCIA!#REF!","v":{"$error":"#REF!"}},null,null,null,null,null,null,null,null,null,null,null,null,null,null,null,null,""]
[{"$f":"IF(+ASISTENCIA!#REF!=\"\",\"\",ASISTENCIA!#REF!)","v":{"$error":"#REF!"}},null,null,{"$f":"IF(+ASISTENCIA!#REF!=\"\",\"\",ASISTENCIA!#REF!)","v":{"$error":"#REF!"}},{"$f":"IF(+ASISTENCIA!#REF!=\"\",\"\",ASISTENCIA!#REF!)","v":{"$error":"#REF!"}},{"$f":"IF(+ASISTENCIA!#REF!=\"\",\"\",ASISTENCIA!#REF!)","v":{"$error":"#REF!"}},{"$f":"IF(+ASISTENCIA!#REF!=\"\",\"\",ASISTENCIA!#REF!)","v":{"$error":"#REF!"}},{"$f":"IF(+ASISTENCIA!#REF!=\"\",\"\",ASISTENCIA!#REF!)","v":{"$error":"#REF!"}},null,{"$f":"ASISTENCIA!#REF!","v":{"$error":"#REF!"}},null,{"$f":"ASISTENCIA!#REF!","v":{"$error":"#REF!"}},{"$f":"ASISTENCIA!#REF!","v":{"$error":"#REF!"}},{"$f":"ASISTENCIA!#REF!","v":{"$error":"#REF!"}},null,{"$f":"ASISTENCIA!#REF!","v":{"$error":"#REF!"}},null,{"$f":"ASISTENCIA!#REF!","v":{"$error":"#REF!"}},null,{"$f":"ASISTENCIA!#REF!","v":{"$error":"#REF!"}},null,null,null,null,null,null,null,null,null,null,null,null,null,null,null,null,""]
[{"$f":"IF(+ASISTENCIA!#REF!=\"\",\"\",ASISTENCIA!#REF!)","v":{"$error":"#REF!"}},null,null,{"$f":"IF(+ASISTENCIA!#REF!=\"\",\"\",ASISTENCIA!#REF!)","v":{"$error":"#REF!"}},{"$f":"IF(+ASISTENCIA!#REF!=\"\",\"\",ASISTENCIA!#REF!)","v":{"$error":"#REF!"}},{"$f":"IF(+ASISTENCIA!#REF!=\"\",\"\",ASISTENCIA!#REF!)","v":{"$error":"#REF!"}},{"$f":"IF(+ASISTENCIA!#REF!=\"\",\"\",ASISTENCIA!#REF!)","v":{"$error":"#REF!"}},{"$f":"IF(+ASISTENCIA!#REF!=\"\",\"\",ASISTENCIA!#REF!)","v":{"$error":"#REF!"}},null,{"$f":"ASISTENCIA!#REF!","v":{"$error":"#REF!"}},null,{"$f":"ASISTENCIA!#REF!","v":{"$error":"#REF!"}},{"$f":"ASISTENCIA!#REF!","v":{"$error":"#REF!"}},{"$f":"ASISTENCIA!#REF!","v":{"$error":"#REF!"}},null,{"$f":"ASISTENCIA!#REF!","v":{"$error":"#REF!"}},null,{"$f":"ASISTENCIA!#REF!","v":{"$error":"#REF!"}},null,{"$f":"ASISTENCIA!#REF!","v":{"$error":"#REF!"}},null,null,null,null,null,null,null,null,null,null,null,null,null,null,null,null,""]
[{"$f":"IF(+ASISTENCIA!#REF!=\"\",\"\",ASISTENCIA!#REF!)","v":{"$error":"#REF!"}},null,null,{"$f":"IF(+ASISTENCIA!#REF!=\"\",\"\",ASISTENCIA!#REF!)","v":{"$error":"#REF!"}},{"$f":"IF(+ASISTENCIA!#REF!=\"\",\"\",ASISTENCIA!#REF!)","v":{"$error":"#REF!"}},{"$f":"IF(+ASISTENCIA!#REF!=\"\",\"\",ASISTENCIA!#REF!)","v":{"$error":"#REF!"}},{"$f":"IF(+ASISTENCIA!#REF!=\"\",\"\",ASISTENCIA!#REF!)","v":{"$error":"#REF!"}},{"$f":"IF(+ASISTENCIA!#REF!=\"\",\"\",ASISTENCIA!#REF!)","v":{"$error":"#REF!"}},null,{"$f":"ASISTENCIA!#REF!","v":{"$error":"#REF!"}},null,{"$f":"ASISTENCIA!#REF!","v":{"$error":"#REF!"}},{"$f":"ASISTENCIA!#REF!","v":{"$error":"#REF!"}},{"$f":"ASISTENCIA!#REF!","v":{"$error":"#REF!"}},null,{"$f":"ASISTENCIA!#REF!","v":{"$error":"#REF!"}},null,{"$f":"ASISTENCIA!#REF!","v":{"$error":"#REF!"}},null,{"$f":"ASISTENCIA!#REF!","v":{"$error":"#REF!"}},null,null,null,null,null,null,null,null,null,null,null,null,null,null,null,null,""]
[{"$f":"IF(+ASISTENCIA!#REF!=\"\",\"\",ASISTENCIA!#REF!)","v":{"$error":"#REF!"}},null,null,{"$f":"IF(+ASISTENCIA!#REF!=\"\",\"\",ASISTENCIA!#REF!)","v":{"$error":"#REF!"}},{"$f":"IF(+ASISTENCIA!#REF!=\"\",\"\",ASISTENCIA!#REF!)","v":{"$error":"#REF!"}},{"$f":"IF(+ASISTENCIA!#REF!=\"\",\"\",ASISTENCIA!#REF!)","v":{"$error":"#REF!"}},{"$f":"IF(+ASISTENCIA!#REF!=\"\",\"\",ASISTENCIA!#REF!)","v":{"$error":"#REF!"}},{"$f":"IF(+ASISTENCIA!#REF!=\"\",\"\",ASISTENCIA!#REF!)","v":{"$error":"#REF!"}},null,{"$f":"ASISTENCIA!#REF!","v":{"$error":"#REF!"}},null,{"$f":"ASISTENCIA!#REF!","v":{"$error":"#REF!"}},{"$f":"ASISTENCIA!#REF!","v":{"$error":"#REF!"}},{"$f":"ASISTENCIA!#REF!","v":{"$error":"#REF!"}},null,{"$f":"ASISTENCIA!#REF!","v":{"$error":"#REF!"}},null,{"$f":"ASISTENCIA!#REF!","v":{"$error":"#REF!"}},null,{"$f":"ASISTENCIA!#REF!","v":{"$error":"#REF!"}},null,null,null,null,null,null,null,null,null,null,null,null,null,null,null,null,""]
[{"$f":"IF(+ASISTENCIA!#REF!=\"\",\"\",ASISTENCIA!#REF!)","v":{"$error":"#REF!"}},null,null,{"$f":"IF(+ASISTENCIA!#REF!=\"\",\"\",ASISTENCIA!#REF!)","v":{"$error":"#REF!"}},{"$f":"IF(+ASISTENCIA!#REF!=\"\",\"\",ASISTENCIA!#REF!)","v":{"$error":"#REF!"}},{"$f":"IF(+ASISTENCIA!#REF!=\"\",\"\",ASISTENCIA!#REF!)","v":{"$error":"#REF!"}},{"$f":"IF(+ASISTENCIA!#REF!=\"\",\"\",ASISTENCIA!#REF!)","v":{"$error":"#REF!"}},{"$f":"IF(+ASISTENCIA!#REF!=\"\",\"\",ASISTENCIA!#REF!)","v":{"$error":"#REF!"}},null,{"$f":"ASISTENCIA!#REF!","v":{"$error":"#REF!"}},null,{"$f":"ASISTENCIA!#REF!","v":{"$error":"#REF!"}},{"$f":"ASISTENCIA!#REF!","v":{"$error":"#REF!"}},{"$f":"ASISTENCIA!#REF!","v":{"$error":"#REF!"}},null,{"$f":"ASISTENCIA!#REF!","v":{"$error":"#REF!"}},null,{"$f":"ASISTENCIA!#REF!","v":{"$error":"#REF!"}},null,{"$f":"ASISTENCIA!#REF!","v":{"$error":"#REF!"}},null,null,null,null,null,null,null,null,null,null,null,null,null,null,null,null,""]
[{"$f":"IF(+ASISTENCIA!#REF!=\"\",\"\",ASISTENCIA!#REF!)","v":{"$error":"#REF!"}},null,null,{"$f":"IF(+ASISTENCIA!#REF!=\"\",\"\",ASISTENCIA!#REF!)","v":{"$error":"#REF!"}},{"$f":"IF(+ASISTENCIA!#REF!=\"\",\"\",ASISTENCIA!#REF!)","v":{"$error":"#REF!"}},{"$f":"IF(+ASISTENCIA!#REF!=\"\",\"\",ASISTENCIA!#REF!)","v":{"$error":"#REF!"}},{"$f":"IF(+ASISTENCIA!#REF!=\"\",\"\",ASISTENCIA!#REF!)","v":{"$error":"#REF!"}},{"$f":"IF(+ASISTENCIA!#REF!=\"\",\"\",ASISTENCIA!#REF!)","v":{"$error":"#REF!"}},null,{"$f":"ASISTENCIA!#REF!","v":{"$error":"#REF!"}},null,{"$f":"ASISTENCIA!#REF!","v":{"$error":"#REF!"}},{"$f":"ASISTENCIA!#REF!","v":{"$error":"#REF!"}},{"$f":"ASISTENCIA!#REF!","v":{"$error":"#REF!"}},null,{"$f":"ASISTENCIA!#REF!","v":{"$error":"#REF!"}},null,{"$f":"ASISTENCIA!#REF!","v":{"$error":"#REF!"}},null,{"$f":"ASISTENCIA!#REF!","v":{"$error":"#REF!"}},null,null,null,null,null,null,null,null,null,null,null,null,null,null,null,null,""]
[{"$f":"IF(+ASISTENCIA!#REF!=\"\",\"\",ASISTENCIA!#REF!)","v":{"$error":"#REF!"}},null,null,{"$f":"IF(+ASISTENCIA!#REF!=\"\",\"\",ASISTENCIA!#REF!)","v":{"$error":"#REF!"}},{"$f":"IF(+ASISTENCIA!#REF!=\"\",\"\",ASISTENCIA!#REF!)","v":{"$error":"#REF!"}},{"$f":"IF(+ASISTENCIA!#REF!=\"\",\"\",ASISTENCIA!#REF!)","v":{"$error":"#REF!"}},{"$f":"IF(+ASISTENCIA!#REF!=\"\",\"\",ASISTENCIA!#REF!)","v":{"$error":"#REF!"}},{"$f":"IF(+ASISTENCIA!#REF!=\"\",\"\",ASISTENCIA!#REF!)","v":{"$error":"#REF!"}},null,{"$f":"ASISTENCIA!#REF!","v":{"$error":"#REF!"}},null,{"$f":"ASISTENCIA!#REF!","v":{"$error":"#REF!"}},{"$f":"ASISTENCIA!#REF!","v":{"$error":"#REF!"}},{"$f":"ASISTENCIA!#REF!","v":{"$error":"#REF!"}},null,{"$f":"ASISTENCIA!#REF!","v":{"$error":"#REF!"}},null,{"$f":"ASISTENCIA!#REF!","v":{"$error":"#REF!"}},null,{"$f":"ASISTENCIA!#REF!","v":{"$error":"#REF!"}},null,null,null,null,null,null,null,null,null,null,null,null,null,null,null,null,""]
[{"$f":"IF(+ASISTENCIA!#REF!=\"\",\"\",ASISTENCIA!#REF!)","v":{"$error":"#REF!"}},null,null,{"$f":"IF(+ASISTENCIA!#REF!=\"\",\"\",ASISTENCIA!#REF!)","v":{"$error":"#REF!"}},{"$f":"IF(+ASISTENCIA!#REF!=\"\",\"\",ASISTENCIA!#REF!)","v":{"$error":"#REF!"}},{"$f":"IF(+ASISTENCIA!#REF!=\"\",\"\",ASISTENCIA!#REF!)","v":{"$error":"#REF!"}},{"$f":"IF(+ASISTENCIA!#REF!=\"\",\"\",ASISTENCIA!#REF!)","v":{"$error":"#REF!"}},{"$f":"IF(+ASISTENCIA!#REF!=\"\",\"\",ASISTENCIA!#REF!)","v":{"$error":"#REF!"}},null,{"$f":"ASISTENCIA!#REF!","v":{"$error":"#REF!"}},null,{"$f":"ASISTENCIA!#REF!","v":{"$error":"#REF!"}},{"$f":"ASISTENCIA!#REF!","v":{"$error":"#REF!"}},{"$f":"ASISTENCIA!#REF!","v":{"$error":"#REF!"}},null,{"$f":"ASISTENCIA!#REF!","v":{"$error":"#REF!"}},null,{"$f":"ASISTENCIA!#REF!","v":{"$error":"#REF!"}},null,{"$f":"ASISTENCIA!#REF!","v":{"$error":"#REF!"}},null,null,null,null,null,null,null,null,null,null,null,null,null,null,null,null,""]
[{"$f":"IF(+ASISTENCIA!#REF!=\"\",\"\",ASISTENCIA!#REF!)","v":{"$error":"#REF!"}},null,null,{"$f":"IF(+ASISTENCIA!#REF!=\"\",\"\",ASISTENCIA!#REF!)","v":{"$error":"#REF!"}},{"$f":"IF(+ASISTENCIA!#REF!=\"\",\"\",ASISTENCIA!#REF!)","v":{"$error":"#REF!"}},{"$f":"IF(+ASISTENCIA!#REF!=\"\",\"\",ASISTENCIA!#REF!)","v":{"$error":"#REF!"}},{"$f":"IF(+ASISTENCIA!#REF!=\"\",\"\",ASISTENCIA!#REF!)","v":{"$error":"#REF!"}},{"$f":"IF(+ASISTENCIA!#REF!=\"\",\"\",ASISTENCIA!#REF!)","v":{"$error":"#REF!"}},null,{"$f":"ASISTENCIA!#REF!","v":{"$error":"#REF!"}},null,{"$f":"ASISTENCIA!#REF!","v":{"$error":"#REF!"}},{"$f":"ASISTENCIA!#REF!","v":{"$error":"#REF!"}},{"$f":"ASISTENCIA!#REF!","v":{"$error":"#REF!"}},null,{"$f":"ASISTENCIA!#REF!","v":{"$error":"#REF!"}},null,{"$f":"ASISTENCIA!#REF!","v":{"$error":"#REF!"}},null,{"$f":"ASISTENCIA!#REF!","v":{"$error":"#REF!"}},null,null,null,null,null,null,null,null,null,null,null,null,null,null,null,null,""]
[{"$f":"IF(+ASISTENCIA!#REF!=\"\",\"\",ASISTENCIA!#REF!)","v":{"$error":"#REF!"}},null,null,{"$f":"IF(+ASISTENCIA!#REF!=\"\",\"\",ASISTENCIA!#REF!)","v":{"$error":"#REF!"}},{"$f":"IF(+ASISTENCIA!#REF!=\"\",\"\",ASISTENCIA!#REF!)","v":{"$error":"#REF!"}},{"$f":"IF(+ASISTENCIA!#REF!=\"\",\"\",ASISTENCIA!#REF!)","v":{"$error":"#REF!"}},{"$f":"IF(+ASISTENCIA!#REF!=\"\",\"\",ASISTENCIA!#REF!)","v":{"$error":"#REF!"}},{"$f":"IF(+ASISTENCIA!#REF!=\"\",\"\",ASISTENCIA!#REF!)","v":{"$error":"#REF!"}},null,{"$f":"ASISTENCIA!#REF!","v":{"$error":"#REF!"}},null,{"$f":"ASISTENCIA!#REF!","v":{"$error":"#REF!"}},{"$f":"ASISTENCIA!#REF!","v":{"$error":"#REF!"}},{"$f":"ASISTENCIA!#REF!","v":{"$error":"#REF!"}},null,{"$f":"ASISTENCIA!#REF!","v":{"$error":"#REF!"}},null,{"$f":"ASISTENCIA!#REF!","v":{"$error":"#REF!"}},null,{"$f":"ASISTENCIA!#REF!","v":{"$error":"#REF!"}},null,null,null,null,null,null,null,null,null,null,null,null,null,null,null,null,""]
[{"$f":"IF(+ASISTENCIA!#REF!=\"\",\"\",ASISTENCIA!#REF!)","v":{"$error":"#REF!"}},null,null,{"$f":"IF(+ASISTENCIA!#REF!=\"\",\"\",ASISTENCIA!#REF!)","v":{"$error":"#REF!"}},{"$f":"IF(+ASISTENCIA!#REF!=\"\",\"\",ASISTENCIA!#REF!)","v":{"$error":"#REF!"}},{"$f":"IF(+ASISTENCIA!#REF!=\"\",\"\",ASISTENCIA!#REF!)","v":{"$error":"#REF!"}},{"$f":"IF(+ASISTENCIA!#REF!=\"\",\"\",ASISTENCIA!#REF!)","v":{"$error":"#REF!"}},{"$f":"IF(+ASISTENCIA!#REF!=\"\",\"\",ASISTENCIA!#REF!)","v":{"$error":"#REF!"}},null,{"$f":"ASISTENCIA!#REF!","v":{"$error":"#REF!"}},null,{"$f":"ASISTENCIA!#REF!","v":{"$error":"#REF!"}},{"$f":"ASISTENCIA!#REF!","v":{"$error":"#REF!"}},{"$f":"ASISTENCIA!#REF!","v":{"$error":"#REF!"}},null,{"$f":"ASISTENCIA!#REF!","v":{"$error":"#REF!"}},null,{"$f":"ASISTENCIA!#REF!","v":{"$error":"#REF!"}},null,{"$f":"ASISTENCIA!#REF!","v":{"$error":"#REF!"}},null,null,null,null,null,null,null,null,null,null,null,null,null,null,null,null,""]
[{"$f":"IF(+ASISTENCIA!#REF!=\"\",\"\",ASISTENCIA!#REF!)","v":{"$error":"#REF!"}},null,null,{"$f":"IF(+ASISTENCIA!#REF!=\"\",\"\",ASISTENCIA!#REF!)","v":{"$error":"#REF!"}},{"$f":"IF(+ASISTENCIA!#REF!=\"\",\"\",ASISTENCIA!#REF!)","v":{"$error":"#REF!"}},{"$f":"IF(+ASISTENCIA!#REF!=\"\",\"\",ASISTENCIA!#REF!)","v":{"$error":"#REF!"}},{"$f":"IF(+ASISTENCIA!#REF!=\"\",\"\",ASISTENCIA!#REF!)","v":{"$error":"#REF!"}},{"$f":"IF(+ASISTENCIA!#REF!=\"\",\"\",ASISTENCIA!#REF!)","v":{"$error":"#REF!"}},null,{"$f":"ASISTENCIA!#REF!","v":{"$error":"#REF!"}},null,{"$f":"ASISTENCIA!#REF!","v":{"$error":"#REF!"}},{"$f":"ASISTENCIA!#REF!","v":{"$error":"#REF!"}},{"$f":"ASISTENCIA!#REF!","v":{"$error":"#REF!"}},null,{"$f":"ASISTENCIA!#REF!","v":{"$error":"#REF!"}},null,{"$f":"ASISTENCIA!#REF!","v":{"$error":"#REF!"}},null,{"$f":"ASISTENCIA!#REF!","v":{"$error":"#REF!"}},null,null,null,null,null,null,null,null,null,null,null,null,null,null,null,null,""]
[{"$f":"IF(+ASISTENCIA!#REF!=\"\",\"\",ASISTENCIA!#REF!)","v":{"$error":"#REF!"}},null,null,{"$f":"IF(+ASISTENCIA!#REF!=\"\",\"\",ASISTENCIA!#REF!)","v":{"$error":"#REF!"}},{"$f":"IF(+ASISTENCIA!#REF!=\"\",\"\",ASISTENCIA!#REF!)","v":{"$error":"#REF!"}},{"$f":"IF(+ASISTENCIA!#REF!=\"\",\"\",ASISTENCIA!#REF!)","v":{"$error":"#REF!"}},{"$f":"IF(+ASISTENCIA!#REF!=\"\",\"\",ASISTENCIA!#REF!)","v":{"$error":"#REF!"}},{"$f":"IF(+ASISTENCIA!#REF!=\"\",\"\",ASISTENCIA!#REF!)","v":{"$error":"#REF!"}},null,{"$f":"ASISTENCIA!#REF!","v":{"$error":"#REF!"}},null,{"$f":"ASISTENCIA!#REF!","v":{"$error":"#REF!"}},{"$f":"ASISTENCIA!#REF!","v":{"$error":"#REF!"}},{"$f":"ASISTENCIA!#REF!","v":{"$error":"#REF!"}},null,{"$f":"ASISTENCIA!#REF!","v":{"$error":"#REF!"}},null,{"$f":"ASISTENCIA!#REF!","v":{"$error":"#REF!"}},null,{"$f":"ASISTENCIA!#REF!","v":{"$error":"#REF!"}},null,null,null,null,null,null,null,null,null,null,null,null,null,null,null,null,""]
[{"$f":"IF(+ASISTENCIA!#REF!=\"\",\"\",ASISTENCIA!#REF!)","v":{"$error":"#REF!"}},null,null,{"$f":"IF(+ASISTENCIA!#REF!=\"\",\"\",ASISTENCIA!#REF!)","v":{"$error":"#REF!"}},{"$f":"IF(+ASISTENCIA!#REF!=\"\",\"\",ASISTENCIA!#REF!)","v":{"$error":"#REF!"}},{"$f":"IF(+ASISTENCIA!#REF!=\"\",\"\",ASISTENCIA!#REF!)","v":{"$error":"#REF!"}},{"$f":"IF(+ASISTENCIA!#REF!=\"\",\"\",ASISTENCIA!#REF!)","v":{"$error":"#REF!"}},{"$f":"IF(+ASISTENCIA!#REF!=\"\",\"\",ASISTENCIA!#REF!)","v":{"$error":"#REF!"}},null,{"$f":"ASISTENCIA!#REF!","v":{"$error":"#REF!"}},null,{"$f":"ASISTENCIA!#REF!","v":{"$error":"#REF!"}},{"$f":"ASISTENCIA!#REF!","v":{"$error":"#REF!"}},{"$f":"ASISTENCIA!#REF!","v":{"$error":"#REF!"}},null,{"$f":"ASISTENCIA!#REF!","v":{"$error":"#REF!"}},null,{"$f":"ASISTENCIA!#REF!","v":{"$error":"#REF!"}},null,{"$f":"ASISTENCIA!#REF!","v":{"$error":"#REF!"}},null,null,null,null,null,null,null,null,null,null,null,null,null,null,null,null,""]
[{"$f":"IF(+ASISTENCIA!#REF!=\"\",\"\",ASISTENCIA!#REF!)","v":{"$error":"#REF!"}},null,null,{"$f":"IF(+ASISTENCIA!#REF!=\"\",\"\",ASISTENCIA!#REF!)","v":{"$error":"#REF!"}},{"$f":"IF(+ASISTENCIA!#REF!=\"\",\"\",ASISTENCIA!#REF!)","v":{"$error":"#REF!"}},{"$f":"IF(+ASISTENCIA!#REF!=\"\",\"\",ASISTENCIA!#REF!)","v":{"$error":"#REF!"}},{"$f":"IF(+ASISTENCIA!#REF!=\"\",\"\",ASISTENCIA!#REF!)","v":{"$error":"#REF!"}},{"$f":"IF(+ASISTENCIA!#REF!=\"\",\"\",ASISTENCIA!#REF!)","v":{"$error":"#REF!"}},null,{"$f":"ASISTENCIA!#REF!","v":{"$error":"#REF!"}},null,{"$f":"ASISTENCIA!#REF!","v":{"$error":"#REF!"}},{"$f":"ASISTENCIA!#REF!","v":{"$error":"#REF!"}},{"$f":"ASISTENCIA!#REF!","v":{"$error":"#REF!"}},null,{"$f":"ASISTENCIA!#REF!","v":{"$error":"#REF!"}},null,{"$f":"ASISTENCIA!#REF!","v":{"$error":"#REF!"}},null,{"$f":"ASISTENCIA!#REF!","v":{"$error":"#REF!"}},null,null,null,null,null,null,null,null,null,null,null,null,null,null,null,null,""]
[{"$f":"IF(+ASISTENCIA!#REF!=\"\",\"\",ASISTENCIA!#REF!)","v":{"$error":"#REF!"}},null,null,{"$f":"IF(+ASISTENCIA!#REF!=\"\",\"\",ASISTENCIA!#REF!)","v":{"$error":"#REF!"}},{"$f":"IF(+ASISTENCIA!#REF!=\"\",\"\",ASISTENCIA!#REF!)","v":{"$error":"#REF!"}},{"$f":"IF(+ASISTENCIA!#REF!=\"\",\"\",ASISTENCIA!#REF!)","v":{"$error":"#REF!"}},{"$f":"IF(+ASISTENCIA!#REF!=\"\",\"\",ASISTENCIA!#REF!)","v":{"$error":"#REF!"}},{"$f":"IF(+ASISTENCIA!#REF!=\"\",\"\",ASISTENCIA!#REF!)","v":{"$error":"#REF!"}},null,{"$f":"ASISTENCIA!#REF!","v":{"$error":"#REF!"}},null,{"$f":"ASISTENCIA!#REF!","v":{"$error":"#REF!"}},{"$f":"ASISTENCIA!#REF!","v":{"$error":"#REF!"}},{"$f":"ASISTENCIA!#REF!","v":{"$error":"#REF!"}},null,{"$f":"ASISTENCIA!#REF!","v":{"$error":"#REF!"}},null,{"$f":"ASISTENCIA!#REF!","v":{"$error":"#REF!"}},null,{"$f":"ASISTENCIA!#REF!","v":{"$error":"#REF!"}},null,null,null,null,null,null,null,null,null,null,null,null,null,null,null,null,""]
[{"$f":"IF(+ASISTENCIA!#REF!=\"\",\"\",ASISTENCIA!#REF!)","v":{"$error":"#REF!"}},null,null,{"$f":"IF(+ASISTENCIA!#REF!=\"\",\"\",ASISTENCIA!#REF!)","v":{"$error":"#REF!"}},{"$f":"IF(+ASISTENCIA!#REF!=\"\",\"\",ASISTENCIA!#REF!)","v":{"$error":"#REF!"}},{"$f":"IF(+ASISTENCIA!#REF!=\"\",\"\",ASISTENCIA!#REF!)","v":{"$error":"#REF!"}},{"$f":"IF(+ASISTENCIA!#REF!=\"\",\"\",ASISTENCIA!#REF!)","v":{"$error":"#REF!"}},{"$f":"IF(+ASISTENCIA!#REF!=\"\",\"\",ASISTENCIA!#REF!)","v":{"$error":"#REF!"}},null,{"$f":"ASISTENCIA!#REF!","v":{"$error":"#REF!"}},null,{"$f":"ASISTENCIA!#REF!","v":{"$error":"#REF!"}},{"$f":"ASISTENCIA!#REF!","v":{"$error":"#REF!"}},{"$f":"ASISTENCIA!#REF!","v":{"$error":"#REF!"}},null,{"$f":"ASISTENCIA!#REF!","v":{"$error":"#REF!"}},null,{"$f":"ASISTENCIA!#REF!","v":{"$error":"#REF!"}},null,{"$f":"ASISTENCIA!#REF!","v":{"$error":"#REF!"}},null,null,null,null,null,null,null,null,null,null,null,null,null,null,null,null,""]
[{"$f":"IF(+ASISTENCIA!#REF!=\"\",\"\",ASISTENCIA!#REF!)","v":{"$error":"#REF!"}},null,null,{"$f":"IF(+ASISTENCIA!#REF!=\"\",\"\",ASISTENCIA!#REF!)","v":{"$error":"#REF!"}},{"$f":"IF(+ASISTENCIA!#REF!=\"\",\"\",ASISTENCIA!#REF!)","v":{"$error":"#REF!"}},{"$f":"IF(+ASISTENCIA!#REF!=\"\",\"\",ASISTENCIA!#REF!)","v":{"$error":"#REF!"}},{"$f":"IF(+ASISTENCIA!#REF!=\"\",\"\",ASISTENCIA!#REF!)","v":{"$error":"#REF!"}},{"$f":"IF(+ASISTENCIA!#REF!=\"\",\"\",ASISTENCIA!#REF!)","v":{"$error":"#REF!"}},null,{"$f":"ASISTENCIA!#REF!","v":{"$error":"#REF!"}},null,{"$f":"ASISTENCIA!#REF!","v":{"$error":"#REF!"}},{"$f":"ASISTENCIA!#REF!","v":{"$error":"#REF!"}},{"$f":"ASISTENCIA!#REF!","v":{"$error":"#REF!"}},null,{"$f":"ASISTENCIA!#REF!","v":{"$error":"#REF!"}},null,{"$f":"ASISTENCIA!#REF!","v":{"$error":"#REF!"}},null,{"$f":"ASISTENCIA!#REF!","v":{"$error":"#REF!"}},null,null,null,null,null,null,null,null,null,null,null,null,null,null,null,null,""]
[{"$f":"IF(+ASISTENCIA!#REF!=\"\",\"\",ASISTENCIA!#REF!)","v":{"$error":"#REF!"}},null,null,{"$f":"IF(+ASISTENCIA!#REF!=\"\",\"\",ASISTENCIA!#REF!)","v":{"$error":"#REF!"}},{"$f":"IF(+ASISTENCIA!#REF!=\"\",\"\",ASISTENCIA!#REF!)","v":{"$error":"#REF!"}},{"$f":"IF(+ASISTENCIA!#REF!=\"\",\"\",ASISTENCIA!#REF!)","v":{"$error":"#REF!"}},{"$f":"IF(+ASISTENCIA!#REF!=\"\",\"\",ASISTENCIA!#REF!)","v":{"$error":"#REF!"}},{"$f":"IF(+ASISTENCIA!#REF!=\"\",\"\",ASISTENCIA!#REF!)","v":{"$error":"#REF!"}},null,{"$f":"ASISTENCIA!#REF!","v":{"$error":"#REF!"}},null,{"$f":"ASISTENCIA!#REF!","v":{"$error":"#REF!"}},{"$f":"ASISTENCIA!#REF!","v":{"$error":"#REF!"}},{"$f":"ASISTENCIA!#REF!","v":{"$error":"#REF!"}},null,{"$f":"ASISTENCIA!#REF!","v":{"$error":"#REF!"}},null,{"$f":"ASISTENCIA!#REF!","v":{"$error":"#REF!"}},null,{"$f":"ASISTENCIA!#REF!","v":{"$error":"#REF!"}},null,null,null,null,null,null,null,null,null,null,null,null,null,null,null,null,""]
[{"$f":"IF(+ASISTENCIA!#REF!=\"\",\"\",ASISTENCIA!#REF!)","v":{"$error":"#REF!"}},null,null,{"$f":"IF(+ASISTENCIA!#REF!=\"\",\"\",ASISTENCIA!#REF!)","v":{"$error":"#REF!"}},{"$f":"IF(+ASISTENCIA!#REF!=\"\",\"\",ASISTENCIA!#REF!)","v":{"$error":"#REF!"}},{"$f":"IF(+ASISTENCIA!#REF!=\"\",\"\",ASISTENCIA!#REF!)","v":{"$error":"#REF!"}},{"$f":"IF(+ASISTENCIA!#REF!=\"\",\"\",ASISTENCIA!#REF!)","v":{"$error":"#REF!"}},{"$f":"IF(+ASISTENCIA!#REF!=\"\",\"\",ASISTENCIA!#REF!)","v":{"$error":"#REF!"}},null,{"$f":"ASISTENCIA!#REF!","v":{"$error":"#REF!"}},null,{"$f":"ASISTENCIA!#REF!","v":{"$error":"#REF!"}},{"$f":"ASISTENCIA!#REF!","v":{"$error":"#REF!"}},{"$f":"ASISTENCIA!#REF!","v":{"$error":"#REF!"}},null,{"$f":"ASISTENCIA!#REF!","v":{"$error":"#REF!"}},null,{"$f":"ASISTENCIA!#REF!","v":{"$error":"#REF!"}},null,{"$f":"ASISTENCIA!#REF!","v":{"$error":"#REF!"}},null,null,null,null,null,null,null,null,null,null,null,null,null,null,null,null,""]
[{"$f":"IF(+ASISTENCIA!#REF!=\"\",\"\",ASISTENCIA!#REF!)","v":{"$error":"#REF!"}},null,null,{"$f":"IF(+ASISTENCIA!#REF!=\"\",\"\",ASISTENCIA!#REF!)","v":{"$error":"#REF!"}},{"$f":"IF(+ASISTENCIA!#REF!=\"\",\"\",ASISTENCIA!#REF!)","v":{"$error":"#REF!"}},{"$f":"IF(+ASISTENCIA!#REF!=\"\",\"\",ASISTENCIA!#REF!)","v":{"$error":"#REF!"}},{"$f":"IF(+ASISTENCIA!#REF!=\"\",\"\",ASISTENCIA!#REF!)","v":{"$error":"#REF!"}},{"$f":"IF(+ASISTENCIA!#REF!=\"\",\"\",ASISTENCIA!#REF!)","v":{"$error":"#REF!"}},null,{"$f":"ASISTENCIA!#REF!","v":{"$error":"#REF!"}},null,{"$f":"ASISTENCIA!#REF!","v":{"$error":"#REF!"}},{"$f":"ASISTENCIA!#REF!","v":{"$error":"#REF!"}},{"$f":"ASISTENCIA!#REF!","v":{"$error":"#REF!"}},null,{"$f":"ASISTENCIA!#REF!","v":{"$error":"#REF!"}},null,{"$f":"ASISTENCIA!#REF!","v":{"$error":"#REF!"}},null,{"$f":"ASISTENCIA!#REF!","v":{"$error":"#REF!"}},null,null,null,null,null,null,null,null,null,null,null,null,null,null,null,null,""]
[{"$f":"IF(+ASISTENCIA!#REF!=\"\",\"\",ASISTENCIA!#REF!)","v":{"$error":"#REF!"}},null,null,{"$f":"IF(+ASISTENCIA!#REF!=\"\",\"\",ASISTENCIA!#REF!)","v":{"$error":"#REF!"}},{"$f":"IF(+ASISTENCIA!#REF!=\"\",\"\",ASISTENCIA!#REF!)","v":{"$error":"#REF!"}},{"$f":"IF(+ASISTENCIA!#REF!=\"\",\"\",ASISTENCIA!#REF!)","v":{"$error":"#REF!"}},{"$f":"IF(+ASISTENCIA!#REF!=\"\",\"\",ASISTENCIA!#REF!)","v":{"$error":"#REF!"}},{"$f":"IF(+ASISTENCIA!#REF!=\"\",\"\",ASISTENCIA!#REF!)","v":{"$error":"#REF!"}},null,{"$f":"ASISTENCIA!#REF!","v":{"$error":"#REF!"}},null,{"$f":"ASISTENCIA!#REF!","v":{"$error":"#REF!"}},{"$f":"ASISTENCIA!#REF!","v":{"$error":"#REF!"}},{"$f":"ASISTENCIA!#REF!","v":{"$error":"#REF!"}},null,{"$f":"ASISTENCIA!#REF!","v":{"$error":"#REF!"}},null,{"$f":"ASISTENCIA!#REF!","v":{"$error":"#REF!"}},null,{"$f":"ASISTENCIA!#REF!","v":{"$error":"#REF!"}},null,null,null,null,null,null,null,null,null,null,null,null,null,null,null,null,""]
[{"$f":"IF(+ASISTENCIA!#REF!=\"\",\"\",ASISTENCIA!#REF!)","v":{"$error":"#REF!"}},null,null,{"$f":"IF(+ASISTENCIA!#REF!=\"\",\"\",ASISTENCIA!#REF!)","v":{"$error":"#REF!"}},{"$f":"IF(+ASISTENCIA!#REF!=\"\",\"\",ASISTENCIA!#REF!)","v":{"$error":"#REF!"}},{"$f":"IF(+ASISTENCIA!#REF!=\"\",\"\",ASISTENCIA!#REF!)","v":{"$error":"#REF!"}},{"$f":"IF(+ASISTENCIA!#REF!=\"\",\"\",ASISTENCIA!#REF!)","v":{"$error":"#REF!"}},{"$f":"IF(+ASISTENCIA!#REF!=\"\",\"\",ASISTENCIA!#REF!)","v":{"$error":"#REF!"}},null,{"$f":"ASISTENCIA!#REF!","v":{"$error":"#REF!"}},null,{"$f":"ASISTENCIA!#REF!","v":{"$error":"#REF!"}},{"$f":"ASISTENCIA!#REF!","v":{"$error":"#REF!"}},{"$f":"ASISTENCIA!#REF!","v":{"$error":"#REF!"}},null,{"$f":"ASISTENCIA!#REF!","v":{"$error":"#REF!"}},null,{"$f":"ASISTENCIA!#REF!","v":{"$error":"#REF!"}},null,{"$f":"ASISTENCIA!#REF!","v":{"$error":"#REF!"}},null,null,null,null,null,null,null,null,null,null,null,null,null,null,null,null,""]
[{"$f":"IF(+ASISTENCIA!#REF!=\"\",\"\",ASISTENCIA!#REF!)","v":{"$error":"#REF!"}},null,null,{"$f":"IF(+ASISTENCIA!#REF!=\"\",\"\",ASISTENCIA!#REF!)","v":{"$error":"#REF!"}},{"$f":"IF(+ASISTENCIA!#REF!=\"\",\"\",ASISTENCIA!#REF!)","v":{"$error":"#REF!"}},{"$f":"IF(+ASISTENCIA!#REF!=\"\",\"\",ASISTENCIA!#REF!)","v":{"$error":"#REF!"}},{"$f":"IF(+ASISTENCIA!#REF!=\"\",\"\",ASISTENCIA!#REF!)","v":{"$error":"#REF!"}},{"$f":"IF(+ASISTENCIA!#REF!=\"\",\"\",ASISTENCIA!#REF!)","v":{"$error":"#REF!"}},null,{"$f":"ASISTENCIA!#REF!","v":{"$error":"#REF!"}},null,{"$f":"ASISTENCIA!#REF!","v":{"$error":"#REF!"}},{"$f":"ASISTENCIA!#REF!","v":{"$error":"#REF!"}},{"$f":"ASISTENCIA!#REF!","v":{"$error":"#REF!"}},null,{"$f":"ASISTENCIA!#REF!","v":{"$error":"#REF!"}},null,{"$f":"ASISTENCIA!#REF!","v":{"$error":"#REF!"}},null,{"$f":"ASISTENCIA!#REF!","v":{"$error":"#REF!"}},null,null,null,null,null,null,null,null,null,null,null,null,null,null,null,null,""]
[{"$f":"IF(+ASISTENCIA!#REF!=\"\",\"\",ASISTENCIA!#REF!)","v":{"$error":"#REF!"}},null,null,{"$f":"IF(+ASISTENCIA!#REF!=\"\",\"\",ASISTENCIA!#REF!)","v":{"$error":"#REF!"}},{"$f":"IF(+ASISTENCIA!#REF!=\"\",\"\",ASISTENCIA!#REF!)","v":{"$error":"#REF!"}},{"$f":"IF(+ASISTENCIA!#REF!=\"\",\"\",ASISTENCIA!#REF!)","v":{"$error":"#REF!"}},{"$f":"IF(+ASISTENCIA!#REF!=\"\",\"\",ASISTENCIA!#REF!)","v":{"$error":"#REF!"}},{"$f":"IF(+ASISTENCIA!#REF!=\"\",\"\",ASISTENCIA!#REF!)","v":{"$error":"#REF!"}},null,{"$f":"ASISTENCIA!#REF!","v":{"$error":"#REF!"}},null,{"$f":"ASISTENCIA!#REF!","v":{"$error":"#REF!"}},{"$f":"ASISTENCIA!#REF!","v":{"$error":"#REF!"}},{"$f":"ASISTENCIA!#REF!","v":{"$error":"#REF!"}},null,{"$f":"ASISTENCIA!#REF!","v":{"$error":"#REF!"}},null,{"$f":"ASISTENCIA!#REF!","v":{"$error":"#REF!"}},null,{"$f":"ASISTENCIA!#REF!","v":{"$error":"#REF!"}},null,null,null,null,null,null,null,null,null,null,null,null,null,null,null,null,""]
[{"$f":"IF(+ASISTENCIA!#REF!=\"\",\"\",ASISTENCIA!#REF!)","v":{"$error":"#REF!"}},null,null,{"$f":"IF(+ASISTENCIA!#REF!=\"\",\"\",ASISTENCIA!#REF!)","v":{"$error":"#REF!"}},{"$f":"IF(+ASISTENCIA!#REF!=\"\",\"\",ASISTENCIA!#REF!)","v":{"$error":"#REF!"}},{"$f":"IF(+ASISTENCIA!#REF!=\"\",\"\",ASISTENCIA!#REF!)","v":{"$error":"#REF!"}},{"$f":"IF(+ASISTENCIA!#REF!=\"\",\"\",ASISTENCIA!#REF!)","v":{"$error":"#REF!"}},{"$f":"IF(+ASISTENCIA!#REF!=\"\",\"\",ASISTENCIA!#REF!)","v":{"$error":"#REF!"}},null,{"$f":"ASISTENCIA!#REF!","v":{"$error":"#REF!"}},null,{"$f":"ASISTENCIA!#REF!","v":{"$error":"#REF!"}},{"$f":"ASISTENCIA!#REF!","v":{"$error":"#REF!"}},{"$f":"ASISTENCIA!#REF!","v":{"$error":"#REF!"}},null,{"$f":"ASISTENCIA!#REF!","v":{"$error":"#REF!"}},null,{"$f":"ASISTENCIA!#REF!","v":{"$error":"#REF!"}},null,{"$f":"ASISTENCIA!#REF!","v":{"$error":"#REF!"}},null,null,null,null,null,null,null,null,null,null,null,null,null,null,null,null,""]
[{"$f":"IF(+ASISTENCIA!#REF!=\"\",\"\",ASISTENCIA!#REF!)","v":{"$error":"#REF!"}},null,null,{"$f":"IF(+ASISTENCIA!#REF!=\"\",\"\",ASISTENCIA!#REF!)","v":{"$error":"#REF!"}},{"$f":"IF(+ASISTENCIA!#REF!=\"\",\"\",ASISTENCIA!#REF!)","v":{"$error":"#REF!"}},{"$f":"IF(+ASISTENCIA!#REF!=\"\",\"\",ASISTENCIA!#REF!)","v":{"$error":"#REF!"}},{"$f":"IF(+ASISTENCIA!#REF!=\"\",\"\",ASISTENCIA!#REF!)","v":{"$error":"#REF!"}},{"$f":"IF(+ASISTENCIA!#REF!=\"\",\"\",ASISTENCIA!#REF!)","v":{"$error":"#REF!"}},null,{"$f":"ASISTENCIA!#REF!","v":{"$error":"#REF!"}},null,{"$f":"ASISTENCIA!#REF!","v":{"$error":"#REF!"}},{"$f":"ASISTENCIA!#REF!","v":{"$error":"#REF!"}},{"$f":"ASISTENCIA!#REF!","v":{"$error":"#REF!"}},null,{"$f":"ASISTENCIA!#REF!","v":{"$error":"#REF!"}},null,{"$f":"ASISTENCIA!#REF!","v":{"$error":"#REF!"}},null,{"$f":"ASISTENCIA!#REF!","v":{"$error":"#REF!"}},null,null,null,null,null,null,null,null,null,null,null,null,null,null,null,null,""]
[{"$f":"IF(+ASISTENCIA!#REF!=\"\",\"\",ASISTENCIA!#REF!)","v":{"$error":"#REF!"}},null,null,{"$f":"IF(+ASISTENCIA!#REF!=\"\",\"\",ASISTENCIA!#REF!)","v":{"$error":"#REF!"}},{"$f":"IF(+ASISTENCIA!#REF!=\"\",\"\",ASISTENCIA!#REF!)","v":{"$error":"#REF!"}},{"$f":"IF(+ASISTENCIA!#REF!=\"\",\"\",ASISTENCIA!#REF!)","v":{"$error":"#REF!"}},{"$f":"IF(+ASISTENCIA!#REF!=\"\",\"\",ASISTENCIA!#REF!)","v":{"$error":"#REF!"}},{"$f":"IF(+ASISTENCIA!#REF!=\"\",\"\",ASISTENCIA!#REF!)","v":{"$error":"#REF!"}},null,{"$f":"ASISTENCIA!#REF!","v":{"$error":"#REF!"}},null,{"$f":"ASISTENCIA!#REF!","v":{"$error":"#REF!"}},{"$f":"ASISTENCIA!#REF!","v":{"$error":"#REF!"}},{"$f":"ASISTENCIA!#REF!","v":{"$error":"#REF!"}},null,{"$f":"ASISTENCIA!#REF!","v":{"$error":"#REF!"}},null,{"$f":"ASISTENCIA!#REF!","v":{"$error":"#REF!"}},null,{"$f":"ASISTENCIA!#REF!","v":{"$error":"#REF!"}},null,null,null,null,null,null,null,null,null,null,null,null,null,null,null,null,""]
[{"$f":"IF(+ASISTENCIA!#REF!=\"\",\"\",ASISTENCIA!#REF!)","v":{"$error":"#REF!"}},null,null,{"$f":"IF(+ASISTENCIA!#REF!=\"\",\"\",ASISTENCIA!#REF!)","v":{"$error":"#REF!"}},{"$f":"IF(+ASISTENCIA!#REF!=\"\",\"\",ASISTENCIA!#REF!)","v":{"$error":"#REF!"}},{"$f":"IF(+ASISTENCIA!#REF!=\"\",\"\",ASISTENCIA!#REF!)","v":{"$error":"#REF!"}},{"$f":"IF(+ASISTENCIA!#REF!=\"\",\"\",ASISTENCIA!#REF!)","v":{"$error":"#REF!"}},{"$f":"IF(+ASISTENCIA!#REF!=\"\",\"\",ASISTENCIA!#REF!)","v":{"$error":"#REF!"}},null,{"$f":"ASISTENCIA!#REF!","v":{"$error":"#REF!"}},null,{"$f":"ASISTENCIA!#REF!","v":{"$error":"#REF!"}},{"$f":"ASISTENCIA!#REF!","v":{"$error":"#REF!"}},{"$f":"ASISTENCIA!#REF!","v":{"$error":"#REF!"}},null,{"$f":"ASISTENCIA!#REF!","v":{"$error":"#REF!"}},null,{"$f":"ASISTENCIA!#REF!","v":{"$error":"#REF!"}},null,{"$f":"ASISTENCIA!#REF!","v":{"$error":"#REF!"}},null,null,null,null,null,null,null,null,null,null,null,null,null,null,null,null,""]
[{"$f":"IF(+ASISTENCIA!#REF!=\"\",\"\",ASISTENCIA!#REF!)","v":{"$error":"#REF!"}},null,null,{"$f":"IF(+ASISTENCIA!#REF!=\"\",\"\",ASISTENCIA!#REF!)","v":{"$error":"#REF!"}},{"$f":"IF(+ASISTENCIA!#REF!=\"\",\"\",ASISTENCIA!#REF!)","v":{"$error":"#REF!"}},{"$f":"IF(+ASISTENCIA!#REF!=\"\",\"\",ASISTENCIA!#REF!)","v":{"$error":"#REF!"}},{"$f":"IF(+ASISTENCIA!#REF!=\"\",\"\",ASISTENCIA!#REF!)","v":{"$error":"#REF!"}},{"$f":"IF(+ASISTENCIA!#REF!=\"\",\"\",ASISTENCIA!#REF!)","v":{"$error":"#REF!"}},null,{"$f":"ASISTENCIA!#REF!","v":{"$error":"#REF!"}},null,{"$f":"ASISTENCIA!#REF!","v":{"$error":"#REF!"}},{"$f":"ASISTENCIA!#REF!","v":{"$error":"#REF!"}},{"$f":"ASISTENCIA!#REF!","v":{"$error":"#REF!"}},null,{"$f":"ASISTENCIA!#REF!","v":{"$error":"#REF!"}},null,{"$f":"ASISTENCIA!#REF!","v":{"$error":"#REF!"}},null,{"$f":"ASISTENCIA!#REF!","v":{"$error":"#REF!"}},null,null,null,null,null,null,null,null,null,null,null,null,null,null,null,null,""]
[{"$f":"IF(+ASISTENCIA!#REF!=\"\",\"\",ASISTENCIA!#REF!)","v":{"$error":"#REF!"}},null,null,{"$f":"IF(+ASISTENCIA!#REF!=\"\",\"\",ASISTENCIA!#REF!)","v":{"$error":"#REF!"}},{"$f":"IF(+ASISTENCIA!#REF!=\"\",\"\",ASISTENCIA!#REF!)","v":{"$error":"#REF!"}},{"$f":"IF(+ASISTENCIA!#REF!=\"\",\"\",ASISTENCIA!#REF!)","v":{"$error":"#REF!"}},{"$f":"IF(+ASISTENCIA!#REF!=\"\",\"\",ASISTENCIA!#REF!)","v":{"$error":"#REF!"}},{"$f":"IF(+ASISTENCIA!#REF!=\"\",\"\",ASISTENCIA!#REF!)","v":{"$error":"#REF!"}},null,{"$f":"ASISTENCIA!#REF!","v":{"$error":"#REF!"}},null,{"$f":"ASISTENCIA!#REF!","v":{"$error":"#REF!"}},{"$f":"ASISTENCIA!#REF!","v":{"$error":"#REF!"}},{"$f":"ASISTENCIA!#REF!","v":{"$error":"#REF!"}},null,{"$f":"ASISTENCIA!#REF!","v":{"$error":"#REF!"}},null,{"$f":"ASISTENCIA!#REF!","v":{"$error":"#REF!"}},null,{"$f":"ASISTENCIA!#REF!","v":{"$error":"#REF!"}},null,null,null,null,null,null,null,null,null,null,null,null,null,null,null,null,""]
[{"$f":"IF(+ASISTENCIA!#REF!=\"\",\"\",ASISTENCIA!#REF!)","v":{"$error":"#REF!"}},null,null,{"$f":"IF(+ASISTENCIA!#REF!=\"\",\"\",ASISTENCIA!#REF!)","v":{"$error":"#REF!"}},{"$f":"IF(+ASISTENCIA!#REF!=\"\",\"\",ASISTENCIA!#REF!)","v":{"$error":"#REF!"}},{"$f":"IF(+ASISTENCIA!#REF!=\"\",\"\",ASISTENCIA!#REF!)","v":{"$error":"#REF!"}},{"$f":"IF(+ASISTENCIA!#REF!=\"\",\"\",ASISTENCIA!#REF!)","v":{"$error":"#REF!"}},{"$f":"IF(+ASISTENCIA!#REF!=\"\",\"\",ASISTENCIA!#REF!)","v":{"$error":"#REF!"}},null,{"$f":"ASISTENCIA!#REF!","v":{"$error":"#REF!"}},null,{"$f":"ASISTENCIA!#REF!","v":{"$error":"#REF!"}},{"$f":"ASISTENCIA!#REF!","v":{"$error":"#REF!"}},{"$f":"ASISTENCIA!#REF!","v":{"$error":"#REF!"}},null,{"$f":"ASISTENCIA!#REF!","v":{"$error":"#REF!"}},null,{"$f":"ASISTENCIA!#REF!","v":{"$error":"#REF!"}},null,{"$f":"ASISTENCIA!#REF!","v":{"$error":"#REF!"}},null,null,null,null,null,null,null,null,null,null,null,null,null,null,null,null,""]
[{"$f":"IF(+ASISTENCIA!#REF!=\"\",\"\",ASISTENCIA!#REF!)","v":{"$error":"#REF!"}},null,null,{"$f":"IF(+ASISTENCIA!#REF!=\"\",\"\",ASISTENCIA!#REF!)","v":{"$error":"#REF!"}},{"$f":"IF(+ASISTENCIA!#REF!=\"\",\"\",ASISTENCIA!#REF!)","v":{"$error":"#REF!"}},{"$f":"IF(+ASISTENCIA!#REF!=\"\",\"\",ASISTENCIA!#REF!)","v":{"$error":"#REF!"}},{"$f":"IF(+ASISTENCIA!#REF!=\"\",\"\",ASISTENCIA!#REF!)","v":{"$error":"#REF!"}},{"$f":"IF(+ASISTENCIA!#REF!=\"\",\"\",ASISTENCIA!#REF!)","v":{"$error":"#REF!"}},null,{"$f":"ASISTENCIA!#REF!","v":{"$error":"#REF!"}},null,{"$f":"ASISTENCIA!#REF!","v":{"$error":"#REF!"}},{"$f":"ASISTENCIA!#REF!","v":{"$error":"#REF!"}},{"$f":"ASISTENCIA!#REF!","v":{"$error":"#REF!"}},null,{"$f":"ASISTENCIA!#REF!","v":{"$error":"#REF!"}},null,{"$f":"ASISTENCIA!#REF!","v":{"$error":"#REF!"}},null,{"$f":"ASISTENCIA!#REF!","v":{"$error":"#REF!"}},null,null,null,null,null,null,null,null,null,null,null,null,null,null,null,null,""]
[{"$f":"IF(+ASISTENCIA!#REF!=\"\",\"\",ASISTENCIA!#REF!)","v":{"$error":"#REF!"}},null,null,{"$f":"IF(+ASISTENCIA!#REF!=\"\",\"\",ASISTENCIA!#REF!)","v":{"$error":"#REF!"}},{"$f":"IF(+ASISTENCIA!#REF!=\"\",\"\",ASISTENCIA!#REF!)","v":{"$error":"#REF!"}},{"$f":"IF(+ASISTENCIA!#REF!=\"\",\"\",ASISTENCIA!#REF!)","v":{"$error":"#REF!"}},{"$f":"IF(+ASISTENCIA!#REF!=\"\",\"\",ASISTENCIA!#REF!)","v":{"$error":"#REF!"}},{"$f":"IF(+ASISTENCIA!#REF!=\"\",\"\",ASISTENCIA!#REF!)","v":{"$error":"#REF!"}},null,{"$f":"ASISTENCIA!#REF!","v":{"$error":"#REF!"}},null,{"$f":"ASISTENCIA!#REF!","v":{"$error":"#REF!"}},{"$f":"ASISTENCIA!#REF!","v":{"$error":"#REF!"}},{"$f":"ASISTENCIA!#REF!","v":{"$error":"#REF!"}},null,{"$f":"ASISTENCIA!#REF!","v":{"$error":"#REF!"}},null,{"$f":"ASISTENCIA!#REF!","v":{"$error":"#REF!"}},null,{"$f":"ASISTENCIA!#REF!","v":{"$error":"#REF!"}},null,null,null,null,null,null,null,null,null,null,null,null,null,null,null,null,""]
[{"$f":"IF(+ASISTENCIA!#REF!=\"\",\"\",ASISTENCIA!#REF!)","v":{"$error":"#REF!"}},null,null,{"$f":"IF(+ASISTENCIA!#REF!=\"\",\"\",ASISTENCIA!#REF!)","v":{"$error":"#REF!"}},{"$f":"IF(+ASISTENCIA!#REF!=\"\",\"\",ASISTENCIA!#REF!)","v":{"$error":"#REF!"}},{"$f":"IF(+ASISTENCIA!#REF!=\"\",\"\",ASISTENCIA!#REF!)","v":{"$error":"#REF!"}},{"$f":"IF(+ASISTENCIA!#REF!=\"\",\"\",ASISTENCIA!#REF!)","v":{"$error":"#REF!"}},{"$f":"IF(+ASISTENCIA!#REF!=\"\",\"\",ASISTENCIA!#REF!)","v":{"$error":"#REF!"}},null,{"$f":"ASISTENCIA!#REF!","v":{"$error":"#REF!"}},null,{"$f":"ASISTENCIA!#REF!","v":{"$error":"#REF!"}},{"$f":"ASISTENCIA!#REF!","v":{"$error":"#REF!"}},{"$f":"ASISTENCIA!#REF!","v":{"$error":"#REF!"}},null,{"$f":"ASISTENCIA!#REF!","v":{"$error":"#REF!"}},null,{"$f":"ASISTENCIA!#REF!","v":{"$error":"#REF!"}},null,{"$f":"ASISTENCIA!#REF!","v":{"$error":"#REF!"}},null,null,null,null,null,null,null,null,null,null,null,null,null,null,null,null,""]
[{"$f":"IF(+ASISTENCIA!#REF!=\"\",\"\",ASISTENCIA!#REF!)","v":{"$error":"#REF!"}},null,null,{"$f":"IF(+ASISTENCIA!#REF!=\"\",\"\",ASISTENCIA!#REF!)","v":{"$error":"#REF!"}},{"$f":"IF(+ASISTENCIA!#REF!=\"\",\"\",ASISTENCIA!#REF!)","v":{"$error":"#REF!"}},{"$f":"IF(+ASISTENCIA!#REF!=\"\",\"\",ASISTENCIA!#REF!)","v":{"$error":"#REF!"}},{"$f":"IF(+ASISTENCIA!#REF!=\"\",\"\",ASISTENCIA!#REF!)","v":{"$error":"#REF!"}},{"$f":"IF(+ASISTENCIA!#REF!=\"\",\"\",ASISTENCIA!#REF!)","v":{"$error":"#REF!"}},null,{"$f":"ASISTENCIA!#REF!","v":{"$error":"#REF!"}},null,{"$f":"ASISTENCIA!#REF!","v":{"$error":"#REF!"}},{"$f":"ASISTENCIA!#REF!","v":{"$error":"#REF!"}},{"$f":"ASISTENCIA!#REF!","v":{"$error":"#REF!"}},null,{"$f":"ASISTENCIA!#REF!","v":{"$error":"#REF!"}},null,{"$f":"ASISTENCIA!#REF!","v":{"$error":"#REF!"}},null,{"$f":"ASISTENCIA!#REF!","v":{"$error":"#REF!"}},null,null,null,null,null,null,null,null,null,null,null,null,null,null,null,null,""]
[{"$f":"IF(+ASISTENCIA!#REF!=\"\",\"\",ASISTENCIA!#REF!)","v":{"$error":"#REF!"}},null,null,{"$f":"IF(+ASISTENCIA!#REF!=\"\",\"\",ASISTENCIA!#REF!)","v":{"$error":"#REF!"}},{"$f":"IF(+ASISTENCIA!#REF!=\"\",\"\",ASISTENCIA!#REF!)","v":{"$error":"#REF!"}},{"$f":"IF(+ASISTENCIA!#REF!=\"\",\"\",ASISTENCIA!#REF!)","v":{"$error":"#REF!"}},{"$f":"IF(+ASISTENCIA!#REF!=\"\",\"\",ASISTENCIA!#REF!)","v":{"$error":"#REF!"}},{"$f":"IF(+ASISTENCIA!#REF!=\"\",\"\",ASISTENCIA!#REF!)","v":{"$error":"#REF!"}},null,{"$f":"ASISTENCIA!#REF!","v":{"$error":"#REF!"}},null,{"$f":"ASISTENCIA!#REF!","v":{"$error":"#REF!"}},{"$f":"ASISTENCIA!#REF!","v":{"$error":"#REF!"}},{"$f":"ASISTENCIA!#REF!","v":{"$error":"#REF!"}},null,{"$f":"ASISTENCIA!#REF!","v":{"$error":"#REF!"}},null,{"$f":"ASISTENCIA!#REF!","v":{"$error":"#REF!"}},null,{"$f":"ASISTENCIA!#REF!","v":{"$error":"#REF!"}},null,null,null,null,null,null,null,null,null,null,null,null,null,null,null,null,""]
[{"$f":"IF(+ASISTENCIA!#REF!=\"\",\"\",ASISTENCIA!#REF!)","v":{"$error":"#REF!"}},null,null,{"$f":"IF(+ASISTENCIA!#REF!=\"\",\"\",ASISTENCIA!#REF!)","v":{"$error":"#REF!"}},{"$f":"IF(+ASISTENCIA!#REF!=\"\",\"\",ASISTENCIA!#REF!)","v":{"$error":"#REF!"}},{"$f":"IF(+ASISTENCIA!#REF!=\"\",\"\",ASISTENCIA!#REF!)","v":{"$error":"#REF!"}},{"$f":"IF(+ASISTENCIA!#REF!=\"\",\"\",ASISTENCIA!#REF!)","v":{"$error":"#REF!"}},{"$f":"IF(+ASISTENCIA!#REF!=\"\",\"\",ASISTENCIA!#REF!)","v":{"$error":"#REF!"}},null,{"$f":"ASISTENCIA!#REF!","v":{"$error":"#REF!"}},null,{"$f":"ASISTENCIA!#REF!","v":{"$error":"#REF!"}},{"$f":"ASISTENCIA!#REF!","v":{"$error":"#REF!"}},{"$f":"ASISTENCIA!#REF!","v":{"$error":"#REF!"}},null,{"$f":"ASISTENCIA!#REF!","v":{"$error":"#REF!"}},null,{"$f":"ASISTENCIA!#REF!","v":{"$error":"#REF!"}},null,{"$f":"ASISTENCIA!#REF!","v":{"$error":"#REF!"}},null,null,null,null,null,null,null,null,null,null,null,null,null,null,null,null,""]
[{"$f":"IF(+ASISTENCIA!#REF!=\"\",\"\",ASISTENCIA!#REF!)","v":{"$error":"#REF!"}},null,null,{"$f":"IF(+ASISTENCIA!#REF!=\"\",\"\",ASISTENCIA!#REF!)","v":{"$error":"#REF!"}},{"$f":"IF(+ASISTENCIA!#REF!=\"\",\"\",ASISTENCIA!#REF!)","v":{"$error":"#REF!"}},{"$f":"IF(+ASISTENCIA!#REF!=\"\",\"\",ASISTENCIA!#REF!)","v":{"$error":"#REF!"}},{"$f":"IF(+ASISTENCIA!#REF!=\"\",\"\",ASISTENCIA!#REF!)","v":{"$error":"#REF!"}},{"$f":"IF(+ASISTENCIA!#REF!=\"\",\"\",ASISTENCIA!#REF!)","v":{"$error":"#REF!"}},null,{"$f":"ASISTENCIA!#REF!","v":{"$error":"#REF!"}},null,{"$f":"ASISTENCIA!#REF!","v":{"$error":"#REF!"}},{"$f":"ASISTENCIA!#REF!","v":{"$error":"#REF!"}},{"$f":"ASISTENCIA!#REF!","v":{"$error":"#REF!"}},null,{"$f":"ASISTENCIA!#REF!","v":{"$error":"#REF!"}},null,{"$f":"ASISTENCIA!#REF!","v":{"$error":"#REF!"}},null,{"$f":"ASISTENCIA!#REF!","v":{"$error":"#REF!"}},null,null,null,null,null,null,null,null,null,null,null,null,null,null,null,null,""]
[{"$f":"IF(+ASISTENCIA!#REF!=\"\",\"\",ASISTENCIA!#REF!)","v":{"$error":"#REF!"}},null,null,{"$f":"IF(+ASISTENCIA!#REF!=\"\",\"\",ASISTENCIA!#REF!)","v":{"$error":"#REF!"}},{"$f":"IF(+ASISTENCIA!#REF!=\"\",\"\",ASISTENCIA!#REF!)","v":{"$error":"#REF!"}},{"$f":"IF(+ASISTENCIA!#REF!=\"\",\"\",ASISTENCIA!#REF!)","v":{"$error":"#REF!"}},{"$f":"IF(+ASISTENCIA!#REF!=\"\",\"\",ASISTENCIA!#REF!)","v":{"$error":"#REF!"}},{"$f":"IF(+ASISTENCIA!#REF!=\"\",\"\",ASISTENCIA!#REF!)","v":{"$error":"#REF!"}},null,{"$f":"ASISTENCIA!#REF!","v":{"$error":"#REF!"}},null,{"$f":"ASISTENCIA!#REF!","v":{"$error":"#REF!"}},{"$f":"ASISTENCIA!#REF!","v":{"$error":"#REF!"}},{"$f":"ASISTENCIA!#REF!","v":{"$error":"#REF!"}},null,{"$f":"ASISTENCIA!#REF!","v":{"$error":"#REF!"}},null,{"$f":"ASISTENCIA!#REF!","v":{"$error":"#REF!"}},null,{"$f":"ASISTENCIA!#REF!","v":{"$error":"#REF!"}},null,null,null,null,null,null,null,null,null,null,null,null,null,null,null,null,""]
[{"$f":"IF(+ASISTENCIA!#REF!=\"\",\"\",ASISTENCIA!#REF!)","v":{"$error":"#REF!"}},null,null,{"$f":"IF(+ASISTENCIA!#REF!=\"\",\"\",ASISTENCIA!#REF!)","v":{"$error":"#REF!"}},{"$f":"IF(+ASISTENCIA!#REF!=\"\",\"\",ASISTENCIA!#REF!)","v":{"$error":"#REF!"}},{"$f":"IF(+ASISTENCIA!#REF!=\"\",\"\",ASISTENCIA!#REF!)","v":{"$error":"#REF!"}},{"$f":"IF(+ASISTENCIA!#REF!=\"\",\"\",ASISTENCIA!#REF!)","v":{"$error":"#REF!"}},{"$f":"IF(+ASISTENCIA!#REF!=\"\",\"\",ASISTENCIA!#REF!)","v":{"$error":"#REF!"}},null,{"$f":"ASISTENCIA!#REF!","v":{"$error":"#REF!"}},null,{"$f":"ASISTENCIA!#REF!","v":{"$error":"#REF!"}},{"$f":"ASISTENCIA!#REF!","v":{"$error":"#REF!"}},{"$f":"ASISTENCIA!#REF!","v":{"$error":"#REF!"}},null,{"$f":"ASISTENCIA!#REF!","v":{"$error":"#REF!"}},null,{"$f":"ASISTENCIA!#REF!","v":{"$error":"#REF!"}},null,{"$f":"ASISTENCIA!#REF!","v":{"$error":"#REF!"}},null,null,null,null,null,null,null,null,null,null,null,null,null,null,null,null,""]
[{"$f":"IF(+ASISTENCIA!#REF!=\"\",\"\",ASISTENCIA!#REF!)","v":{"$error":"#REF!"}},null,null,{"$f":"IF(+ASISTENCIA!#REF!=\"\",\"\",ASISTENCIA!#REF!)","v":{"$error":"#REF!"}},{"$f":"IF(+ASISTENCIA!#REF!=\"\",\"\",ASISTENCIA!#REF!)","v":{"$error":"#REF!"}},{"$f":"IF(+ASISTENCIA!#REF!=\"\",\"\",ASISTENCIA!#REF!)","v":{"$error":"#REF!"}},{"$f":"IF(+ASISTENCIA!#REF!=\"\",\"\",ASISTENCIA!#REF!)","v":{"$error":"#REF!"}},{"$f":"IF(+ASISTENCIA!#REF!=\"\",\"\",ASISTENCIA!#REF!)","v":{"$error":"#REF!"}},null,{"$f":"ASISTENCIA!#REF!","v":{"$error":"#REF!"}},null,{"$f":"ASISTENCIA!#REF!","v":{"$error":"#REF!"}},{"$f":"ASISTENCIA!#REF!","v":{"$error":"#REF!"}},{"$f":"ASISTENCIA!#REF!","v":{"$error":"#REF!"}},null,{"$f":"ASISTENCIA!#REF!","v":{"$error":"#REF!"}},null,{"$f":"ASISTENCIA!#REF!","v":{"$error":"#REF!"}},null,{"$f":"ASISTENCIA!#REF!","v":{"$error":"#REF!"}},null,null,null,null,null,null,null,null,null,null,null,null,null,null,null,null,""]
[{"$f":"IF(+ASISTENCIA!#REF!=\"\",\"\",ASISTENCIA!#REF!)","v":{"$error":"#REF!"}},null,null,{"$f":"IF(+ASISTENCIA!#REF!=\"\",\"\",ASISTENCIA!#REF!)","v":{"$error":"#REF!"}},{"$f":"IF(+ASISTENCIA!#REF!=\"\",\"\",ASISTENCIA!#REF!)","v":{"$error":"#REF!"}},{"$f":"IF(+ASISTENCIA!#REF!=\"\",\"\",ASISTENCIA!#REF!)","v":{"$error":"#REF!"}},{"$f":"IF(+ASISTENCIA!#REF!=\"\",\"\",ASISTENCIA!#REF!)","v":{"$error":"#REF!"}},{"$f":"IF(+ASISTENCIA!#REF!=\"\",\"\",ASISTENCIA!#REF!)","v":{"$error":"#REF!"}},null,{"$f":"ASISTENCIA!#REF!","v":{"$error":"#REF!"}},null,{"$f":"ASISTENCIA!#REF!","v":{"$error":"#REF!"}},{"$f":"ASISTENCIA!#REF!","v":{"$error":"#REF!"}},{"$f":"ASISTENCIA!#REF!","v":{"$error":"#REF!"}},null,{"$f":"ASISTENCIA!#REF!","v":{"$error":"#REF!"}},null,{"$f":"ASISTENCIA!#REF!","v":{"$error":"#REF!"}},null,{"$f":"ASISTENCIA!#REF!","v":{"$error":"#REF!"}},null,null,null,null,null,null,null,null,null,null,null,null,null,null,null,null,""]
[{"$f":"IF(+ASISTENCIA!#REF!=\"\",\"\",ASISTENCIA!#REF!)","v":{"$error":"#REF!"}},null,null,{"$f":"IF(+ASISTENCIA!#REF!=\"\",\"\",ASISTENCIA!#REF!)","v":{"$error":"#REF!"}},{"$f":"IF(+ASISTENCIA!#REF!=\"\",\"\",ASISTENCIA!#REF!)","v":{"$error":"#REF!"}},{"$f":"IF(+ASISTENCIA!#REF!=\"\",\"\",ASISTENCIA!#REF!)","v":{"$error":"#REF!"}},{"$f":"IF(+ASISTENCIA!#REF!=\"\",\"\",ASISTENCIA!#REF!)","v":{"$error":"#REF!"}},{"$f":"IF(+ASISTENCIA!#REF!=\"\",\"\",ASISTENCIA!#REF!)","v":{"$error":"#REF!"}},null,{"$f":"ASISTENCIA!#REF!","v":{"$error":"#REF!"}},null,{"$f":"ASISTENCIA!#REF!","v":{"$error":"#REF!"}},{"$f":"ASISTENCIA!#REF!","v":{"$error":"#REF!"}},{"$f":"ASISTENCIA!#REF!","v":{"$error":"#REF!"}},null,{"$f":"ASISTENCIA!#REF!","v":{"$error":"#REF!"}},null,{"$f":"ASISTENCIA!#REF!","v":{"$error":"#REF!"}},null,{"$f":"ASISTENCIA!#REF!","v":{"$error":"#REF!"}},null,null,null,null,null,null,null,null,null,null,null,null,null,null,null,null,""]
[{"$f":"IF(+ASISTENCIA!#REF!=\"\",\"\",ASISTENCIA!#REF!)","v":{"$error":"#REF!"}},null,null,{"$f":"IF(+ASISTENCIA!#REF!=\"\",\"\",ASISTENCIA!#REF!)","v":{"$error":"#REF!"}},{"$f":"IF(+ASISTENCIA!#REF!=\"\",\"\",ASISTENCIA!#REF!)","v":{"$error":"#REF!"}},{"$f":"IF(+ASISTENCIA!#REF!=\"\",\"\",ASISTENCIA!#REF!)","v":{"$error":"#REF!"}},{"$f":"IF(+ASISTENCIA!#REF!=\"\",\"\",ASISTENCIA!#REF!)","v":{"$error":"#REF!"}},{"$f":"IF(+ASISTENCIA!#REF!=\"\",\"\",ASISTENCIA!#REF!)","v":{"$error":"#REF!"}},null,{"$f":"ASISTENCIA!#REF!","v":{"$error":"#REF!"}},null,{"$f":"ASISTENCIA!#REF!","v":{"$error":"#REF!"}},{"$f":"ASISTENCIA!#REF!","v":{"$error":"#REF!"}},{"$f":"ASISTENCIA!#REF!","v":{"$error":"#REF!"}},null,{"$f":"ASISTENCIA!#REF!","v":{"$error":"#REF!"}},null,{"$f":"ASISTENCIA!#REF!","v":{"$error":"#REF!"}},null,{"$f":"ASISTENCIA!#REF!","v":{"$error":"#REF!"}},null,null,null,null,null,null,null,null,null,null,null,null,null,null,null,null,{"$f":"IF(OR(COUNTIF($I121:$AJ121,\"X\")>0,COUNTIF($I121:$AJ121,\"L\")>0),COUNTIF($I121:$AJ121,\"X\")+COUNTIF($I121:$AJ121,\"L\"),\"\")","v":""}]
[{"$f":"IF(+ASISTENCIA!#REF!=\"\",\"\",ASISTENCIA!#REF!)","v":{"$error":"#REF!"}},null,null,{"$f":"IF(+ASISTENCIA!#REF!=\"\",\"\",ASISTENCIA!#REF!)","v":{"$error":"#REF!"}},{"$f":"IF(+ASISTENCIA!#REF!=\"\",\"\",ASISTENCIA!#REF!)","v":{"$error":"#REF!"}},{"$f":"IF(+ASISTENCIA!#REF!=\"\",\"\",ASISTENCIA!#REF!)","v":{"$error":"#REF!"}},{"$f":"IF(+ASISTENCIA!#REF!=\"\",\"\",ASISTENCIA!#REF!)","v":{"$error":"#REF!"}},{"$f":"IF(+ASISTENCIA!#REF!=\"\",\"\",ASISTENCIA!#REF!)","v":{"$error":"#REF!"}},null,{"$f":"ASISTENCIA!#REF!","v":{"$error":"#REF!"}},null,{"$f":"ASISTENCIA!#REF!","v":{"$error":"#REF!"}},{"$f":"ASISTENCIA!#REF!","v":{"$error":"#REF!"}},{"$f":"ASISTENCIA!#REF!","v":{"$error":"#REF!"}},null,{"$f":"ASISTENCIA!#REF!","v":{"$error":"#REF!"}},null,{"$f":"ASISTENCIA!#REF!","v":{"$error":"#REF!"}},null,{"$f":"ASISTENCIA!#REF!","v":{"$error":"#REF!"}},null,null,null,null,null,null,null,null,null,null,null,null,null,null,null,null,""]
[{"$f":"IF(+ASISTENCIA!#REF!=\"\",\"\",ASISTENCIA!#REF!)","v":{"$error":"#REF!"}},null,null,{"$f":"IF(+ASISTENCIA!#REF!=\"\",\"\",ASISTENCIA!#REF!)","v":{"$error":"#REF!"}},{"$f":"IF(+ASISTENCIA!#REF!=\"\",\"\",ASISTENCIA!#REF!)","v":{"$error":"#REF!"}},{"$f":"IF(+ASISTENCIA!#REF!=\"\",\"\",ASISTENCIA!#REF!)","v":{"$error":"#REF!"}},{"$f":"IF(+ASISTENCIA!#REF!=\"\",\"\",ASISTENCIA!#REF!)","v":{"$error":"#REF!"}},{"$f":"IF(+ASISTENCIA!#REF!=\"\",\"\",ASISTENCIA!#REF!)","v":{"$error":"#REF!"}},null,{"$f":"ASISTENCIA!#REF!","v":{"$error":"#REF!"}},null,{"$f":"ASISTENCIA!#REF!","v":{"$error":"#REF!"}},{"$f":"ASISTENCIA!#REF!","v":{"$error":"#REF!"}},{"$f":"ASISTENCIA!#REF!","v":{"$error":"#REF!"}},null,{"$f":"ASISTENCIA!#REF!","v":{"$error":"#REF!"}},null,{"$f":"ASISTENCIA!#REF!","v":{"$error":"#REF!"}},null,{"$f":"ASISTENCIA!#REF!","v":{"$error":"#REF!"}},null,null,null,null,null,null,null,null,null,null,null,null,null,null,null,null,""]
[{"$f":"IF(+ASISTENCIA!#REF!=\"\",\"\",ASISTENCIA!#REF!)","v":{"$error":"#REF!"}},null,null,{"$f":"IF(+ASISTENCIA!#REF!=\"\",\"\",ASISTENCIA!#REF!)","v":{"$error":"#REF!"}},{"$f":"IF(+ASISTENCIA!#REF!=\"\",\"\",ASISTENCIA!#REF!)","v":{"$error":"#REF!"}},{"$f":"IF(+ASISTENCIA!#REF!=\"\",\"\",ASISTENCIA!#REF!)","v":{"$error":"#REF!"}},{"$f":"IF(+ASISTENCIA!#REF!=\"\",\"\",ASISTENCIA!#REF!)","v":{"$error":"#REF!"}},{"$f":"IF(+ASISTENCIA!#REF!=\"\",\"\",ASISTENCIA!#REF!)","v":{"$error":"#REF!"}},null,{"$f":"ASISTENCIA!#REF!","v":{"$error":"#REF!"}},null,{"$f":"ASISTENCIA!#REF!","v":{"$error":"#REF!"}},{"$f":"ASISTENCIA!#REF!","v":{"$error":"#REF!"}},{"$f":"ASISTENCIA!#REF!","v":{"$error":"#REF!"}},null,{"$f":"ASISTENCIA!#REF!","v":{"$error":"#REF!"}},null,{"$f":"ASISTENCIA!#REF!","v":{"$error":"#REF!"}},null,{"$f":"ASISTENCIA!#REF!","v":{"$error":"#REF!"}},null,null,null,null,null,null,null,null,null,null,null,null,null,null,null,null,""]
[{"$f":"IF(+ASISTENCIA!#REF!=\"\",\"\",ASISTENCIA!#REF!)","v":{"$error":"#REF!"}},null,null,{"$f":"IF(+ASISTENCIA!#REF!=\"\",\"\",ASISTENCIA!#REF!)","v":{"$error":"#REF!"}},{"$f":"IF(+ASISTENCIA!#REF!=\"\",\"\",ASISTENCIA!#REF!)","v":{"$error":"#REF!"}},{"$f":"IF(+ASISTENCIA!#REF!=\"\",\"\",ASISTENCIA!#REF!)","v":{"$error":"#REF!"}},{"$f":"IF(+ASISTENCIA!#REF!=\"\",\"\",ASISTENCIA!#REF!)","v":{"$error":"#REF!"}},{"$f":"IF(+ASISTENCIA!#REF!=\"\",\"\",ASISTENCIA!#REF!)","v":{"$error":"#REF!"}},null,{"$f":"ASISTENCIA!#REF!","v":{"$error":"#REF!"}},null,{"$f":"ASISTENCIA!#REF!","v":{"$error":"#REF!"}},{"$f":"ASISTENCIA!#REF!","v":{"$error":"#REF!"}},{"$f":"ASISTENCIA!#REF!","v":{"$error":"#REF!"}},null,{"$f":"ASISTENCIA!#REF!","v":{"$error":"#REF!"}},null,{"$f":"ASISTENCIA!#REF!","v":{"$error":"#REF!"}},null,{"$f":"ASISTENCIA!#REF!","v":{"$error":"#REF!"}},null,null,null,null,null,null,null,null,null,null,null,null,null,null,null,null,""]
[{"$f":"IF(+ASISTENCIA!#REF!=\"\",\"\",ASISTENCIA!#REF!)","v":{"$error":"#REF!"}},null,null,{"$f":"IF(+ASISTENCIA!#REF!=\"\",\"\",ASISTENCIA!#REF!)","v":{"$error":"#REF!"}},{"$f":"IF(+ASISTENCIA!#REF!=\"\",\"\",ASISTENCIA!#REF!)","v":{"$error":"#REF!"}},{"$f":"IF(+ASISTENCIA!#REF!=\"\",\"\",ASISTENCIA!#REF!)","v":{"$error":"#REF!"}},{"$f":"IF(+ASISTENCIA!#REF!=\"\",\"\",ASISTENCIA!#REF!)","v":{"$error":"#REF!"}},{"$f":"IF(+ASISTENCIA!#REF!=\"\",\"\",ASISTENCIA!#REF!)","v":{"$error":"#REF!"}},null,{"$f":"ASISTENCIA!#REF!","v":{"$error":"#REF!"}},null,{"$f":"ASISTENCIA!#REF!","v":{"$error":"#REF!"}},{"$f":"ASISTENCIA!#REF!","v":{"$error":"#REF!"}},{"$f":"ASISTENCIA!#REF!","v":{"$error":"#REF!"}},null,{"$f":"ASISTENCIA!#REF!","v":{"$error":"#REF!"}},null,{"$f":"ASISTENCIA!#REF!","v":{"$error":"#REF!"}},null,{"$f":"ASISTENCIA!#REF!","v":{"$error":"#REF!"}},null,null,null,null,null,null,null,null,null,null,null,null,null,null,null,null,""]
[{"$f":"IF(+ASISTENCIA!#REF!=\"\",\"\",ASISTENCIA!#REF!)","v":{"$error":"#REF!"}},null,null,{"$f":"IF(+ASISTENCIA!#REF!=\"\",\"\",ASISTENCIA!#REF!)","v":{"$error":"#REF!"}},{"$f":"IF(+ASISTENCIA!#REF!=\"\",\"\",ASISTENCIA!#REF!)","v":{"$error":"#REF!"}},{"$f":"IF(+ASISTENCIA!#REF!=\"\",\"\",ASISTENCIA!#REF!)","v":{"$error":"#REF!"}},{"$f":"IF(+ASISTENCIA!#REF!=\"\",\"\",ASISTENCIA!#REF!)","v":{"$error":"#REF!"}},{"$f":"IF(+ASISTENCIA!#REF!=\"\",\"\",ASISTENCIA!#REF!)","v":{"$error":"#REF!"}},null,{"$f":"ASISTENCIA!#REF!","v":{"$error":"#REF!"}},null,{"$f":"ASISTENCIA!#REF!","v":{"$error":"#REF!"}},{"$f":"ASISTENCIA!#REF!","v":{"$error":"#REF!"}},{"$f":"ASISTENCIA!#REF!","v":{"$error":"#REF!"}},null,{"$f":"ASISTENCIA!#REF!","v":{"$error":"#REF!"}},null,{"$f":"ASISTENCIA!#REF!","v":{"$error":"#REF!"}},null,{"$f":"ASISTENCIA!#REF!","v":{"$error":"#REF!"}},null,null,null,null,null,null,null,null,null,null,null,null,null,null,null,null,""]
[{"$f":"IF(+ASISTENCIA!#REF!=\"\",\"\",ASISTENCIA!#REF!)","v":{"$error":"#REF!"}},null,null,{"$f":"IF(+ASISTENCIA!#REF!=\"\",\"\",ASISTENCIA!#REF!)","v":{"$error":"#REF!"}},{"$f":"IF(+ASISTENCIA!#REF!=\"\",\"\",ASISTENCIA!#REF!)","v":{"$error":"#REF!"}},{"$f":"IF(+ASISTENCIA!#REF!=\"\",\"\",ASISTENCIA!#REF!)","v":{"$error":"#REF!"}},{"$f":"IF(+ASISTENCIA!#REF!=\"\",\"\",ASISTENCIA!#REF!)","v":{"$error":"#REF!"}},{"$f":"IF(+ASISTENCIA!#REF!=\"\",\"\",ASISTENCIA!#REF!)","v":{"$error":"#REF!"}},null,{"$f":"ASISTENCIA!#REF!","v":{"$error":"#REF!"}},null,{"$f":"ASISTENCIA!#REF!","v":{"$error":"#REF!"}},{"$f":"ASISTENCIA!#REF!","v":{"$error":"#REF!"}},{"$f":"ASISTENCIA!#REF!","v":{"$error":"#REF!"}},null,{"$f":"ASISTENCIA!#REF!","v":{"$error":"#REF!"}},null,{"$f":"ASISTENCIA!#REF!","v":{"$error":"#REF!"}},null,{"$f":"ASISTENCIA!#REF!","v":{"$error":"#REF!"}},null,null,null,null,null,null,null,null,null,null,null,null,null,null,null,null,""]
[{"$f":"IF(+ASISTENCIA!#REF!=\"\",\"\",ASISTENCIA!#REF!)","v":{"$error":"#REF!"}},null,null,{"$f":"IF(+ASISTENCIA!#REF!=\"\",\"\",ASISTENCIA!#REF!)","v":{"$error":"#REF!"}},{"$f":"IF(+ASISTENCIA!#REF!=\"\",\"\",ASISTENCIA!#REF!)","v":{"$error":"#REF!"}},{"$f":"IF(+ASISTENCIA!#REF!=\"\",\"\",ASISTENCIA!#REF!)","v":{"$error":"#REF!"}},{"$f":"IF(+ASISTENCIA!#REF!=\"\",\"\",ASISTENCIA!#REF!)","v":{"$error":"#REF!"}},{"$f":"IF(+ASISTENCIA!#REF!=\"\",\"\",ASISTENCIA!#REF!)","v":{"$error":"#REF!"}},null,{"$f":"ASISTENCIA!#REF!","v":{"$error":"#REF!"}},null,{"$f":"ASISTENCIA!#REF!","v":{"$error":"#REF!"}},{"$f":"ASISTENCIA!#REF!","v":{"$error":"#REF!"}},{"$f":"ASISTENCIA!#REF!","v":{"$error":"#REF!"}},null,{"$f":"ASISTENCIA!#REF!","v":{"$error":"#REF!"}},null,{"$f":"ASISTENCIA!#REF!","v":{"$error":"#REF!"}},null,{"$f":"ASISTENCIA!#REF!","v":{"$error":"#REF!"}},null,null,null,null,null,null,null,null,null,null,null,null,null,null,null,null,""]
[{"$f":"IF(+ASISTENCIA!#REF!=\"\",\"\",ASISTENCIA!#REF!)","v":{"$error":"#REF!"}},null,null,{"$f":"IF(+ASISTENCIA!#REF!=\"\",\"\",ASISTENCIA!#REF!)","v":{"$error":"#REF!"}},{"$f":"IF(+ASISTENCIA!#REF!=\"\",\"\",ASISTENCIA!#REF!)","v":{"$error":"#REF!"}},{"$f":"IF(+ASISTENCIA!#REF!=\"\",\"\",ASISTENCIA!#REF!)","v":{"$error":"#REF!"}},{"$f":"IF(+ASISTENCIA!#REF!=\"\",\"\",ASISTENCIA!#REF!)","v":{"$error":"#REF!"}},{"$f":"IF(+ASISTENCIA!#REF!=\"\",\"\",ASISTENCIA!#REF!)","v":{"$error":"#REF!"}},null,{"$f":"ASISTENCIA!#REF!","v":{"$error":"#REF!"}},null,{"$f":"ASISTENCIA!#REF!","v":{"$error":"#REF!"}},{"$f":"ASISTENCIA!#REF!","v":{"$error":"#REF!"}},{"$f":"ASISTENCIA!#REF!","v":{"$error":"#REF!"}},null,{"$f":"ASISTENCIA!#REF!","v":{"$error":"#REF!"}},null,{"$f":"ASISTENCIA!#REF!","v":{"$error":"#REF!"}},null,{"$f":"ASISTENCIA!#REF!","v":{"$error":"#REF!"}},null,null,null,null,null,null,null,null,null,null,null,null,null,null,null,null,""]
[{"$f":"IF(+ASISTENCIA!#REF!=\"\",\"\",ASISTENCIA!#REF!)","v":{"$error":"#REF!"}},null,null,{"$f":"IF(+ASISTENCIA!#REF!=\"\",\"\",ASISTENCIA!#REF!)","v":{"$error":"#REF!"}},{"$f":"IF(+ASISTENCIA!#REF!=\"\",\"\",ASISTENCIA!#REF!)","v":{"$error":"#REF!"}},{"$f":"IF(+ASISTENCIA!#REF!=\"\",\"\",ASISTENCIA!#REF!)","v":{"$error":"#REF!"}},{"$f":"IF(+ASISTENCIA!#REF!=\"\",\"\",ASISTENCIA!#REF!)","v":{"$error":"#REF!"}},{"$f":"IF(+ASISTENCIA!#REF!=\"\",\"\",ASISTENCIA!#REF!)","v":{"$error":"#REF!"}},null,{"$f":"ASISTENCIA!#REF!","v":{"$error":"#REF!"}},null,{"$f":"ASISTENCIA!#REF!","v":{"$error":"#REF!"}},{"$f":"ASISTENCIA!#REF!","v":{"$error":"#REF!"}},{"$f":"ASISTENCIA!#REF!","v":{"$error":"#REF!"}},null,{"$f":"ASISTENCIA!#REF!","v":{"$error":"#REF!"}},null,{"$f":"ASISTENCIA!#REF!","v":{"$error":"#REF!"}},null,{"$f":"ASISTENCIA!#REF!","v":{"$error":"#REF!"}},null,null,null,null,null,null,null,null,null,null,null,null,null,null,null,null,""]
[{"$f":"IF(+ASISTENCIA!#REF!=\"\",\"\",ASISTENCIA!#REF!)","v":{"$error":"#REF!"}},null,null,{"$f":"IF(+ASISTENCIA!#REF!=\"\",\"\",ASISTENCIA!#REF!)","v":{"$error":"#REF!"}},{"$f":"IF(+ASISTENCIA!#REF!=\"\",\"\",ASISTENCIA!#REF!)","v":{"$error":"#REF!"}},{"$f":"IF(+ASISTENCIA!#REF!=\"\",\"\",ASISTENCIA!#REF!)","v":{"$error":"#REF!"}},{"$f":"IF(+ASISTENCIA!#REF!=\"\",\"\",ASISTENCIA!#REF!)","v":{"$error":"#REF!"}},{"$f":"IF(+ASISTENCIA!#REF!=\"\",\"\",ASISTENCIA!#REF!)","v":{"$error":"#REF!"}},null,{"$f":"ASISTENCIA!#REF!","v":{"$error":"#REF!"}},null,{"$f":"ASISTENCIA!#REF!","v":{"$error":"#REF!"}},{"$f":"ASISTENCIA!#REF!","v":{"$error":"#REF!"}},{"$f":"ASISTENCIA!#REF!","v":{"$error":"#REF!"}},null,{"$f":"ASISTENCIA!#REF!","v":{"$error":"#REF!"}},null,{"$f":"ASISTENCIA!#REF!","v":{"$error":"#REF!"}},null,{"$f":"ASISTENCIA!#REF!","v":{"$error":"#REF!"}},null,null,null,null,null,null,null,null,null,null,null,null,null,null,null,null,""]
[{"$f":"IF(+ASISTENCIA!#REF!=\"\",\"\",ASISTENCIA!#REF!)","v":{"$error":"#REF!"}},null,null,{"$f":"IF(+ASISTENCIA!#REF!=\"\",\"\",ASISTENCIA!#REF!)","v":{"$error":"#REF!"}},{"$f":"IF(+ASISTENCIA!#REF!=\"\",\"\",ASISTENCIA!#REF!)","v":{"$error":"#REF!"}},{"$f":"IF(+ASISTENCIA!#REF!=\"\",\"\",ASISTENCIA!#REF!)","v":{"$error":"#REF!"}},{"$f":"IF(+ASISTENCIA!#REF!=\"\",\"\",ASISTENCIA!#REF!)","v":{"$error":"#REF!"}},{"$f":"IF(+ASISTENCIA!#REF!=\"\",\"\",ASISTENCIA!#REF!)","v":{"$error":"#REF!"}},null,{"$f":"ASISTENCIA!#REF!","v":{"$error":"#REF!"}},null,{"$f":"ASISTENCIA!#REF!","v":{"$error":"#REF!"}},{"$f":"ASISTENCIA!#REF!","v":{"$error":"#REF!"}},{"$f":"ASISTENCIA!#REF!","v":{"$error":"#REF!"}},null,{"$f":"ASISTENCIA!#REF!","v":{"$error":"#REF!"}},null,{"$f":"ASISTENCIA!#REF!","v":{"$error":"#REF!"}},null,{"$f":"ASISTENCIA!#REF!","v":{"$error":"#REF!"}},null,null,null,null,null,null,null,null,null,null,null,null,null,null,null,null,""]
[{"$f":"IF(+ASISTENCIA!#REF!=\"\",\"\",ASISTENCIA!#REF!)","v":{"$error":"#REF!"}},null,null,{"$f":"IF(+ASISTENCIA!#REF!=\"\",\"\",ASISTENCIA!#REF!)","v":{"$error":"#REF!"}},{"$f":"IF(+ASISTENCIA!#REF!=\"\",\"\",ASISTENCIA!#REF!)","v":{"$error":"#REF!"}},{"$f":"IF(+ASISTENCIA!#REF!=\"\",\"\",ASISTENCIA!#REF!)","v":{"$error":"#REF!"}},{"$f":"IF(+ASISTENCIA!#REF!=\"\",\"\",ASISTENCIA!#REF!)","v":{"$error":"#REF!"}},{"$f":"IF(+ASISTENCIA!#REF!=\"\",\"\",ASISTENCIA!#REF!)","v":{"$error":"#REF!"}},null,{"$f":"ASISTENCIA!#REF!","v":{"$error":"#REF!"}},null,{"$f":"ASISTENCIA!#REF!","v":{"$error":"#REF!"}},{"$f":"ASISTENCIA!#REF!","v":{"$error":"#REF!"}},{"$f":"ASISTENCIA!#REF!","v":{"$error":"#REF!"}},null,{"$f":"ASISTENCIA!#REF!","v":{"$error":"#REF!"}},null,{"$f":"ASISTENCIA!#REF!","v":{"$error":"#REF!"}},null,{"$f":"ASISTENCIA!#REF!","v":{"$error":"#REF!"}},null,null,null,null,null,null,null,null,null,null,null,null,null,null,null,null,""]
[{"$f":"IF(+ASISTENCIA!#REF!=\"\",\"\",ASISTENCIA!#REF!)","v":{"$error":"#REF!"}},null,null,{"$f":"IF(+ASISTENCIA!#REF!=\"\",\"\",ASISTENCIA!#REF!)","v":{"$error":"#REF!"}},{"$f":"IF(+ASISTENCIA!#REF!=\"\",\"\",ASISTENCIA!#REF!)","v":{"$error":"#REF!"}},{"$f":"IF(+ASISTENCIA!#REF!=\"\",\"\",ASISTENCIA!#REF!)","v":{"$error":"#REF!"}},{"$f":"IF(+ASISTENCIA!#REF!=\"\",\"\",ASISTENCIA!#REF!)","v":{"$error":"#REF!"}},{"$f":"IF(+ASISTENCIA!#REF!=\"\",\"\",ASISTENCIA!#REF!)","v":{"$error":"#REF!"}},null,{"$f":"ASISTENCIA!#REF!","v":{"$error":"#REF!"}},null,{"$f":"ASISTENCIA!#REF!","v":{"$error":"#REF!"}},{"$f":"ASISTENCIA!#REF!","v":{"$error":"#REF!"}},{"$f":"ASISTENCIA!#REF!","v":{"$error":"#REF!"}},null,{"$f":"ASISTENCIA!#REF!","v":{"$error":"#REF!"}},null,{"$f":"ASISTENCIA!#REF!","v":{"$error":"#REF!"}},null,{"$f":"ASISTENCIA!#REF!","v":{"$error":"#REF!"}},null,null,null,null,null,null,null,null,null,null,null,null,null,null,null,null,""]
[{"$f":"IF(+ASISTENCIA!#REF!=\"\",\"\",ASISTENCIA!#REF!)","v":{"$error":"#REF!"}},null,null,{"$f":"IF(+ASISTENCIA!#REF!=\"\",\"\",ASISTENCIA!#REF!)","v":{"$error":"#REF!"}},{"$f":"IF(+ASISTENCIA!#REF!=\"\",\"\",ASISTENCIA!#REF!)","v":{"$error":"#REF!"}},{"$f":"IF(+ASISTENCIA!#REF!=\"\",\"\",ASISTENCIA!#REF!)","v":{"$error":"#REF!"}},{"$f":"IF(+ASISTENCIA!#REF!=\"\",\"\",ASISTENCIA!#REF!)","v":{"$error":"#REF!"}},{"$f":"IF(+ASISTENCIA!#REF!=\"\",\"\",ASISTENCIA!#REF!)","v":{"$error":"#REF!"}},null,{"$f":"ASISTENCIA!#REF!","v":{"$error":"#REF!"}},null,{"$f":"ASISTENCIA!#REF!","v":{"$error":"#REF!"}},{"$f":"ASISTENCIA!#REF!","v":{"$error":"#REF!"}},{"$f":"ASISTENCIA!#REF!","v":{"$error":"#REF!"}},null,{"$f":"ASISTENCIA!#REF!","v":{"$error":"#REF!"}},null,{"$f":"ASISTENCIA!#REF!","v":{"$error":"#REF!"}},null,{"$f":"ASISTENCIA!#REF!","v":{"$error":"#REF!"}},null,null,null,null,null,null,null,null,null,null,null,null,null,null,null,null,""]
[{"$f":"IF(+ASISTENCIA!#REF!=\"\",\"\",ASISTENCIA!#REF!)","v":{"$error":"#REF!"}},null,null,{"$f":"IF(+ASISTENCIA!#REF!=\"\",\"\",ASISTENCIA!#REF!)","v":{"$error":"#REF!"}},{"$f":"IF(+ASISTENCIA!#REF!=\"\",\"\",ASISTENCIA!#REF!)","v":{"$error":"#REF!"}},{"$f":"IF(+ASISTENCIA!#REF!=\"\",\"\",ASISTENCIA!#REF!)","v":{"$error":"#REF!"}},{"$f":"IF(+ASISTENCIA!#REF!=\"\",\"\",ASISTENCIA!#REF!)","v":{"$error":"#REF!"}},{"$f":"IF(+ASISTENCIA!#REF!=\"\",\"\",ASISTENCIA!#REF!)","v":{"$error":"#REF!"}},null,{"$f":"ASISTENCIA!#REF!","v":{"$error":"#REF!"}},null,{"$f":"ASISTENCIA!#REF!","v":{"$error":"#REF!"}},{"$f":"ASISTENCIA!#REF!","v":{"$error":"#REF!"}},{"$f":"ASISTENCIA!#REF!","v":{"$error":"#REF!"}},null,{"$f":"ASISTENCIA!#REF!","v":{"$error":"#REF!"}},null,{"$f":"ASISTENCIA!#REF!","v":{"$error":"#REF!"}},null,{"$f":"ASISTENCIA!#REF!","v":{"$error":"#REF!"}},null,null,null,null,null,null,null,null,null,null,null,null,null,null,null,null,""]
[{"$f":"IF(+ASISTENCIA!#REF!=\"\",\"\",ASISTENCIA!#REF!)","v":{"$error":"#REF!"}},null,null,{"$f":"IF(+ASISTENCIA!#REF!=\"\",\"\",ASISTENCIA!#REF!)","v":{"$error":"#REF!"}},{"$f":"IF(+ASISTENCIA!#REF!=\"\",\"\",ASISTENCIA!#REF!)","v":{"$error":"#REF!"}},{"$f":"IF(+ASISTENCIA!#REF!=\"\",\"\",ASISTENCIA!#REF!)","v":{"$error":"#REF!"}},{"$f":"IF(+ASISTENCIA!#REF!=\"\",\"\",ASISTENCIA!#REF!)","v":{"$error":"#REF!"}},{"$f":"IF(+ASISTENCIA!#REF!=\"\",\"\",ASISTENCIA!#REF!)","v":{"$error":"#REF!"}},null,{"$f":"ASISTENCIA!#REF!","v":{"$error":"#REF!"}},null,{"$f":"ASISTENCIA!#REF!","v":{"$error":"#REF!"}},{"$f":"ASISTENCIA!#REF!","v":{"$error":"#REF!"}},{"$f":"ASISTENCIA!#REF!","v":{"$error":"#REF!"}},null,{"$f":"ASISTENCIA!#REF!","v":{"$error":"#REF!"}},null,{"$f":"ASISTENCIA!#REF!","v":{"$error":"#REF!"}},null,{"$f":"ASISTENCIA!#REF!","v":{"$error":"#REF!"}},null,null,null,null,null,null,null,null,null,null,null,null,null,null,null,null,""]
[{"$f":"IF(+ASISTENCIA!#REF!=\"\",\"\",ASISTENCIA!#REF!)","v":{"$error":"#REF!"}},null,null,{"$f":"IF(+ASISTENCIA!#REF!=\"\",\"\",ASISTENCIA!#REF!)","v":{"$error":"#REF!"}},{"$f":"IF(+ASISTENCIA!#REF!=\"\",\"\",ASISTENCIA!#REF!)","v":{"$error":"#REF!"}},{"$f":"IF(+ASISTENCIA!#REF!=\"\",\"\",ASISTENCIA!#REF!)","v":{"$error":"#REF!"}},{"$f":"IF(+ASISTENCIA!#REF!=\"\",\"\",ASISTENCIA!#REF!)","v":{"$error":"#REF!"}},{"$f":"IF(+ASISTENCIA!#REF!=\"\",\"\",ASISTENCIA!#REF!)","v":{"$error":"#REF!"}},null,{"$f":"ASISTENCIA!#REF!","v":{"$error":"#REF!"}},null,{"$f":"ASISTENCIA!#REF!","v":{"$error":"#REF!"}},{"$f":"ASISTENCIA!#REF!","v":{"$error":"#REF!"}},{"$f":"ASISTENCIA!#REF!","v":{"$error":"#REF!"}},null,{"$f":"ASISTENCIA!#REF!","v":{"$error":"#REF!"}},null,{"$f":"ASISTENCIA!#REF!","v":{"$error":"#REF!"}},null,{"$f":"ASISTENCIA!#REF!","v":{"$error":"#REF!"}},null,null,null,null,null,null,null,null,null,null,null,null,null,null,null,null,""]
[{"$f":"IF(+ASISTENCIA!#REF!=\"\",\"\",ASISTENCIA!#REF!)","v":{"$error":"#REF!"}},null,null,{"$f":"IF(+ASISTENCIA!#REF!=\"\",\"\",ASISTENCIA!#REF!)","v":{"$error":"#REF!"}},{"$f":"IF(+ASISTENCIA!#REF!=\"\",\"\",ASISTENCIA!#REF!)","v":{"$error":"#REF!"}},{"$f":"IF(+ASISTENCIA!#REF!=\"\",\"\",ASISTENCIA!#REF!)","v":{"$error":"#REF!"}},{"$f":"IF(+ASISTENCIA!#REF!=\"\",\"\",ASISTENCIA!#REF!)","v":{"$error":"#REF!"}},{"$f":"IF(+ASISTENCIA!#REF!=\"\",\"\",ASISTENCIA!#REF!)","v":{"$error":"#REF!"}},null,{"$f":"ASISTENCIA!#REF!","v":{"$error":"#REF!"}},null,{"$f":"ASISTENCIA!#REF!","v":{"$error":"#REF!"}},{"$f":"ASISTENCIA!#REF!","v":{"$error":"#REF!"}},{"$f":"ASISTENCIA!#REF!","v":{"$error":"#REF!"}},null,{"$f":"ASISTENCIA!#REF!","v":{"$error":"#REF!"}},null,{"$f":"ASISTENCIA!#REF!","v":{"$error":"#REF!"}},null,{"$f":"ASISTENCIA!#REF!","v":{"$error":"#REF!"}},null,null,null,null,null,null,null,null,null,null,null,null,null,null,null,null,""]
[{"$f":"IF(+ASISTENCIA!#REF!=\"\",\"\",ASISTENCIA!#REF!)","v":{"$error":"#REF!"}},null,null,{"$f":"IF(+ASISTENCIA!#REF!=\"\",\"\",ASISTENCIA!#REF!)","v":{"$error":"#REF!"}},{"$f":"IF(+ASISTENCIA!#REF!=\"\",\"\",ASISTENCIA!#REF!)","v":{"$error":"#REF!"}},{"$f":"IF(+ASISTENCIA!#REF!=\"\",\"\",ASISTENCIA!#REF!)","v":{"$error":"#REF!"}},{"$f":"IF(+ASISTENCIA!#REF!=\"\",\"\",ASISTENCIA!#REF!)","v":{"$error":"#REF!"}},{"$f":"IF(+ASISTENCIA!#REF!=\"\",\"\",ASISTENCIA!#REF!)","v":{"$error":"#REF!"}},null,{"$f":"ASISTENCIA!#REF!","v":{"$error":"#REF!"}},null,{"$f":"ASISTENCIA!#REF!","v":{"$error":"#REF!"}},{"$f":"ASISTENCIA!#REF!","v":{"$error":"#REF!"}},{"$f":"ASISTENCIA!#REF!","v":{"$error":"#REF!"}},null,{"$f":"ASISTENCIA!#REF!","v":{"$error":"#REF!"}},null,{"$f":"ASISTENCIA!#REF!","v":{"$error":"#REF!"}},null,{"$f":"ASISTENCIA!#REF!","v":{"$error":"#REF!"}},null,null,null,null,null,null,null,null,null,null,null,null,null,null,null,null,""]
[{"$f":"IF(+ASISTENCIA!#REF!=\"\",\"\",ASISTENCIA!#REF!)","v":{"$error":"#REF!"}},null,null,{"$f":"IF(+ASISTENCIA!#REF!=\"\",\"\",ASISTENCIA!#REF!)","v":{"$error":"#REF!"}},{"$f":"IF(+ASISTENCIA!#REF!=\"\",\"\",ASISTENCIA!#REF!)","v":{"$error":"#REF!"}},{"$f":"IF(+ASISTENCIA!#REF!=\"\",\"\",ASISTENCIA!#REF!)","v":{"$error":"#REF!"}},{"$f":"IF(+ASISTENCIA!#REF!=\"\",\"\",ASISTENCIA!#REF!)","v":{"$error":"#REF!"}},{"$f":"IF(+ASISTENCIA!#REF!=\"\",\"\",ASISTENCIA!#REF!)","v":{"$error":"#REF!"}},null,{"$f":"ASISTENCIA!#REF!","v":{"$error":"#REF!"}},null,{"$f":"ASISTENCIA!#REF!","v":{"$error":"#REF!"}},{"$f":"ASISTENCIA!#REF!","v":{"$error":"#REF!"}},{"$f":"ASISTENCIA!#REF!","v":{"$error":"#REF!"}},null,{"$f":"ASISTENCIA!#REF!","v":{"$error":"#REF!"}},null,{"$f":"ASISTENCIA!#REF!","v":{"$error":"#REF!"}},null,{"$f":"ASISTENCIA!#REF!","v":{"$error":"#REF!"}},null,null,null,null,null,null,null,null,null,null,null,null,null,null,null,null,""]
[{"$f":"IF(+ASISTENCIA!#REF!=\"\",\"\",ASISTENCIA!#REF!)","v":{"$error":"#REF!"}},{"$f":"IF(LEN(C143)>0,VLOOKUP($F$6,DATA!$A:$S,2,FALSE),\"\")","v":{"$error":"#REF!"}},{"$error":"#REF!"},{"$f":"IF(+ASISTENCIA!#REF!=\"\",\"\",ASISTENCIA!#REF!)","v":{"$error":"#REF!"}},{"$f":"IF(+ASISTENCIA!#REF!=\"\",\"\",ASISTENCIA!#REF!)","v":{"$error":"#REF!"}},{"$f":"IF(+ASISTENCIA!#REF!=\"\",\"\",ASISTENCIA!#REF!)","v":{"$error":"#REF!"}},{"$f":"IF(+ASISTENCIA!#REF!=\"\",\"\",ASISTENCIA!#REF!)","v":{"$error":"#REF!"}},{"$f":"IF(+ASISTENCIA!#REF!=\"\",\"\",ASISTENCIA!#REF!)","v":{"$error":"#REF!"}},null,{"$f":"ASISTENCIA!#REF!","v":{"$error":"#REF!"}},null,{"$f":"ASISTENCIA!#REF!","v":{"$error":"#REF!"}},{"$f":"ASISTENCIA!#REF!","v":{"$error":"#REF!"}},{"$f":"ASISTENCIA!#REF!","v":{"$error":"#REF!"}},null,{"$f":"ASISTENCIA!#REF!","v":{"$error":"#REF!"}},null,{"$f":"ASISTENCIA!#REF!","v":{"$error":"#REF!"}},null,{"$f":"ASISTENCIA!#REF!","v":{"$error":"#REF!"}},null,null,null,null,null,null,null,null,null,null,null,null,null,null,null,null,""]
["(*)Hora y minuto cronológico."]
["(**)Solo considerar las inasistencias que no han sido justificadas."]
[null,null,null,null,null,null,null,null,null,null,null,null,null,null,null,null,null,null,null,null,null,null,null,null,null,null,null,null,null,null,null,null,null,null,null,null,null,"NOMBRADO (A)"]
[null,null,null,null,null,null,null,null,null,null,null,null,null,null,null,null,null,null,null,null,null,null,null,null,null,null,null,null,null,null,null,null,null,null,null,null,null,"CONTRATADO (A)"]
[null,null,null,null,null,null,null,null,null,null,null,null,null,null,null,null,null,null,null,null,null,null,null,null,null,null,null,null,null,null,null,null,null,null,null,null,null,"DESTACADO (A)"]

{"sheet":"Norma","index":3,"n_rows":0,"n_cols":0,"rows_kept":0,"cut":false,"hidden":false,"merged":[]}

{"sheet":"HORAS EFECTIVAS","index":4,"n_rows":54,"n_cols":81,"rows_kept":54,"cut":false,"hidden":true,"merged":[[7,61,7,62],[52,68,52,77],[53,68,53,77],[7,26,7,27],[10,2,11,2],[52,33,52,42],[53,33,53,42],[9,11,12,11],[9,12,12,12],[9,13,12,13]]}
[null,null,null,null,null,null,null,null,null,null,null,null,"FORMATO 02"]
[null,null,null,null,"INFORME DE HORAS EFECTIVAS DE TRABAJO PEDAGÓGICO EN LAS INSTITUCIONES EDUCATIVAS PÚBLICAS"]
[null,null,null,null,null,null,null,"UNIDAD DE GESTIÓN EDUCATIVA LOCAL  HUANTA"]
[null,null,null,null,{"$f":"ASISTENCIA!#REF!","v":{"$error":"#REF!"}},null,null,null,null,null,null,null,null,null,{"$f":"ASISTENCIA!$F$6","v":"\"JOSÉ OLAYA\"- CHIPANA"},null,null,null,null,null,null,null,null,null,null,null,null,null,null,null,null,null,null,null,null,null,null,null,null,null,null,null,null,null,null,null,null,null,null,{"$f":"ASISTENCIA!$F$6","v":"\"JOSÉ OLAYA\"- CHIPANA"}]
[]
["LUGAR/DIREC.",null,null,{"$f":"CONCATENATE(VLOOKUP($O$4,DATA!$A$1:$S$1,6,FALSE))","v":{"$error":"#N/A"}},null,null,null,null,null,null,null,null,null,null,null,"REG/PROV/DIST.",null,null,null,null,null,null,null,{"$f":"VLOOKUP($O$4,DATA!$A$1:$S$1,9,FALSE)","v":{"$error":"#N/A"}},null,null,null,null,null,null,null,null,null,null,null,null,null,null,null,null,null,null,null,null,null,null,null,null,null,null,"REG/PROV/DIST.",null,null,null,null,null,null,null,{"$f":"VLOOKUP($O$4,DATA!$A$1:$S$1,9,FALSE)","v":{"$error":"#N/A"}}]
[]
[null,null,null,"NIVEL EDUCATIVO:",{"$f":"VLOOKUP($O$4,DATA!$A$1:$S$1,4,FALSE)","v":{"$error":"#N/A"}},null,null,null,null,null,"MODALIDAD:",null,null,{"$f":"ASISTENCIA!$F$8","v":"0522391"},null,null,null,null,null,null,null,null,null,null,"AÑO:",null,{"$f":"ASISTENCIA!S5","v":2024},null,null,null,null,null,"MES:",null,null,{"$f":"ASISTENCIA!G5","v":"JULIO"},null,null,null,null,null,null,null,null,null,null,null,null,null,null,null,null,null,null,null,null,null,null,null,"AÑO:",null,{"$f":"ASISTENCIA!S5","v":2024},null,null,null,null,null,"MES:",null,null,{"$f":"AJ8","v":"JULIO"}]
[]
[null,"COD.",null,null,null,"Matriz Horas",null,null,null,null,"JOR","EDAD A CARGO","SECCIÓN","HORAS PROGRAM. EN EL MES",null,null,null,null,"HORAS EFECTIVAS DE TRABAJO ESCOLAR - MES",null,null,null,null,null,null,null,null,null,null,null,null,null,null,null,null,null,null,null,null,null,null,null,null,null,null,"TOTAL DE ",null,null,null,null,null,null,null,"HORAS EFECTIVAS DE TRABAJO ESCOLAR - MES",null,null,null,null,null,null,null,null,null,null,null,null,null,null,null,null,null,null,null,null,null,null,null,null,null,null,"TOTAL DE "]
["N°","MOD.","MES","APELLIDOS Y NOMRES","DNI","     Semanal",null,null,null,null,"NADA",null,null,null,null,null,null,null,null,"DIAS EFECTIVAS DE TRABAJO ESCOLAR",null,null,null,null,null,null,null,null,null,null,null,null,null,null,null,null,null,null,null,null,null,null,null,null,null,"HORAS ",null,null,null,null,null,null,null,null,"DIAS EFECTIVAS DE TRABAJO ESCOLAR",null,null,null,null,null,null,null,null,null,null,null,null,null,null,null,null,null,null,null,null,null,null,null,null,null,"HORAS "]
[null,null,null,null,null,null,null,null,null,null,"LABO",null,null,null,1,2,3,4,5,6,7,8,9,10,11,12,13,14,15,16,17,18,19,20,21,22,23,24,25,26,27,28,29,30,31,"EFECTIVAS ",null,null,null,1,2,3,4,5,6,7,8,9,10,11,12,13,14,15,16,17,18,19,20,21,22,23,24,25,26,27,28,29,30,31,"EFECTIVAS "]
[null,null,null,null,null,"lu.","ma.","mi.","ju.","vi.","RAL",null,null,null,{"$f":"ASISTENCIA!I$12","v":"lu."},{"$f":"ASISTENCIA!J$12","v":"ma."},{"$f":"ASISTENCIA!K$12","v":"mi."},{"$f":"ASISTENCIA!L$12","v":"ju."},{"$f":"ASISTENCIA!M$12","v":"vi."},{"$f":"ASISTENCIA!N$12","v":"sá."},{"$f":"ASISTENCIA!O$12","v":"do."},{"$f":"ASISTENCIA!P$12","v":"lu."},{"$f":"ASISTENCIA!Q$12","v":"ma."},{"$f":"ASISTENCIA!R$12","v":"mi."},{"$f":"ASISTENCIA!S$12","v":"ju."},{"$f":"ASISTENCIA!T$12","v":"vi."},{"$f":"ASISTENCIA!U$12","v":"sá."},{"$f":"ASISTENCIA!V$12","v":"do."},{"$f":"ASISTENCIA!W$12","v":"lu."},{"$f":"ASISTENCIA!X$12","v":"ma."},{"$f":"ASISTENCIA!Y$12","v":"mi."},{"$f":"ASISTENCIA!Z$12","v":"ju."},{"$f":"ASISTENCIA!AA$12","v":"vi."},{"$f":"ASISTENCIA!AB$12","v":"sá."},{"$f":"ASISTENCIA!AC$12","v":"do."},{"$f":"ASISTENCIA!AD$12","v":"lu."},{"$f":"ASISTENCIA!AE$12","v":"ma."},{"$f":"ASISTENCIA!AF$12","v":"mi."},{"$f":"ASISTENCIA!AG$12","v":"ju."},{"$f":"ASISTENCIA!AH$12","v":"vi."},{"$f":"ASISTENCIA!AI$12","v":"sá."},{"$f":"ASISTENCIA!AJ$12","v":"do."},{"$f":"ASISTENCIA!AK$12","v":"lu."},{"$f":"ASISTENCIA!AL$12","v":"ma."},{"$f":"ASISTENCIA!AM$12","v":"mi."},"MENSUAL ",null,null,null,{"$f":"ASISTENCIA!I$12","v":"lu."},{"$f":"ASISTENCIA!J$12","v":"ma."},{"$f":"ASISTENCIA!K$12","v":"mi."},{"$f":"ASISTENCIA!L$12","v":"ju."},{"$f":"ASISTENCIA!M$12","v":"vi."},{"$f":"ASISTENCIA!N$12","v":"sá."},{"$f":"ASISTENCIA!O$12","v":"do."},{"$f":"ASISTENCIA!P$12","v":"lu."},{"$f":"ASISTENCIA!Q$12","v":"ma."},{"$f":"ASISTENCIA!R$12","v":"mi."},{"$f":"ASISTENCIA!S$12","v":"ju."},{"$f":"ASISTENCIA!T$12","v":"vi."},{"$f":"ASISTENCIA!U$12","v":"sá."},{"$f":"ASISTENCIA!V$12","v":"do."},{"$f":"ASISTENCIA!W$12","v":"lu."},{"$f":"ASISTENCIA!X$12","v":"ma."},{"$f":"ASISTENCIA!Y$12","v":"mi."},{"$f":"ASISTENCIA!Z$12","v":"ju."},{"$f":"ASISTENCIA!AA$12","v":"vi."},{"$f":"ASISTENCIA!AB$12","v":"sá."},{"$f":"ASISTENCIA!AC$12","v":"do."},{"$f":"ASISTENCIA!AD$12","v":"lu."},{"$f":"ASISTENCIA!AE$12","v":"ma."},{"$f":"ASISTENCIA!AF$12","v":"mi."},{"$f":"ASISTENCIA!AG$12","v":"ju."},{"$f":"ASISTENCIA!AH$12","v":"vi."},{"$f":"ASISTENCIA!AI$12","v":"sá."},{"$f":"ASISTENCIA!AJ$12","v":"do."},{"$f":"ASISTENCIA!AK$12","v":"lu."},{"$f":"ASISTENCIA!AL$12","v":"ma."},{"$f":"ASISTENCIA!AM$12","v":"mi."},"MENSUAL "]
[null,{"$f":"IF(LEN(C14)>0,VLOOKUP($O$4,DATA!$A$1:$S$1,2,FALSE),\"\")","v":""},{"$f":"IF(LEN(D14)>0,$AJ$8,\"\")","v":""},{"$f":"IF(LEN(ASISTENCIA!E13)>0,ASISTENCIA!E13,\"\")","v":""},{"$f":"IF(LEN(D14)>0,ASISTENCIA!F13,\"\")","v":""},null,null,null,null,null,{"$f":"IF(SUM(F14:J14)>0,SUM(F14:J14),\"\")","v":""},null,null,{"$f":"CC14","v":{"$error":"#REF!"}},{"$f":"IF(AND(LEN($D14)>0,SUMIF($F$13:$J$13,O$13,$F14:$J14)>0,ASISTENCIA!I13<>\"X\",ASISTENCIA!I13<>\"L\",ASISTENCIA!I13<>\"J\",ASISTENCIA!I13<>\"V\",ASISTENCIA!I13<>\"F\",ASISTENCIA!I13<>\"\"),SUMIF($F$13:$J$13,O$13,$F14:$J14),\"\")","v":""},{"$f":"IF(AND(LEN($D14)>0,SUMIF($F$13:$J$13,P$13,$F14:$J14)>0,ASISTENCIA!J13<>\"X\",ASISTENCIA!J13<>\"L\",ASISTENCIA!J13<>\"J\",ASISTENCIA!J13<>\"V\",ASISTENCIA!J13<>\"F\",ASISTENCIA!J13<>\"\"),SUMIF($F$13:$J$13,P$13,$F14:$J14),\"\")","v":""},{"$f":"IF(AND(LEN($D14)>0,SUMIF($F$13:$J$13,Q$13,$F14:$J14)>0,ASISTENCIA!K13<>\"X\",ASISTENCIA!K13<>\"L\",ASISTENCIA!K13<>\"J\",ASISTENCIA!K13<>\"V\",ASISTENCIA!K13<>\"F\",ASISTENCIA!K13<>\"\"),SUMIF($F$13:$J$13,Q$13,$F14:$J14),\"\")","v":""},{"$f":"IF(AND(LEN($D14)>0,SUMIF($F$13:$J$13,R$13,$F14:$J14)>0,ASISTENCIA!L13<>\"X\",ASISTENCIA!L13<>\"L\",ASISTENCIA!L13<>\"J\",ASISTENCIA!L13<>\"V\",ASISTENCIA!L13<>\"F\",ASISTENCIA!L13<>\"\"),SUMIF($F$13:$J$13,R$13,$F14:$J14),\"\")","v":""},{"$f":"IF(AND(LEN($D14)>0,SUMIF($F$13:$J$13,S$13,$F14:$J14)>0,ASISTENCIA!M13<>\"X\",ASISTENCIA!M13<>\"L\",ASISTENCIA!M13<>\"J\",ASISTENCIA!M13<>\"V\",ASISTENCIA!M13<>\"F\",ASISTENCIA!M13<>\"\"),SUMIF($F$13:$J$13,S$13,$F14:$J14),\"\")","v":""},{"$f":"IF(AND(LEN($D14)>0,SUMIF($F$13:$J$13,T$13,$F14:$J14)>0,ASISTENCIA!N13<>\"X\",ASISTENCIA!N13<>\"L\",ASISTENCIA!N13<>\"J\",ASISTENCIA!N13<>\"V\",ASISTENCIA!N13<>\"F\",ASISTENCIA!N13<>\"\"),SUMIF($F$13:$J$13,T$13,$F14:$J14),\"\")","v":""},{"$f":"IF(AND(LEN($D14)>0,SUMIF($F$13:$J$13,U$13,$F14:$J14)>0,ASISTENCIA!O13<>\"X\",ASISTENCIA!O13<>\"L\",ASISTENCIA!O13<>\"J\",ASISTENCIA!O13<>\"V\",ASISTENCIA!O13<>\"F\",ASISTENCIA!O13<>\"\"),SUMIF($F$13:$J$13,U$13,$F14:$J14),\"\")","v":""},{"$f":"IF(AND(LEN($D14)>0,SUMIF($F$13:$J$13,V$13,$F14:$J14)>0,ASISTENCIA!P13<>\"X\",ASISTENCIA!P13<>\"L\",ASISTENCIA!P13<>\"J\",ASISTENCIA!P13<>\"V\",ASISTENCIA!P13<>\"F\",ASISTENCIA!P13<>\"\"),SUMIF($F$13:$J$13,V$13,$F14:$J14),\"\")","v":""},{"$f":"IF(AND(LEN($D14)>0,SUMIF($F$13:$J$13,W$13,$F14:$J14)>0,ASISTENCIA!Q13<>\"X\",ASISTENCIA!Q13<>\"L\",ASISTENCIA!Q13<>\"J\",ASISTENCIA!Q13<>\"V\",ASISTENCIA!Q13<>\"F\",ASISTENCIA!Q13<>\"\"),SUMIF($F$13:$J$13,W$13,$F14:$J14),\"\")","v":""},{"$f":"IF(AND(LEN($D14)>0,SUMIF($F$13:$J$13,X$13,$F14:$J14)>0,ASISTENCIA!R13<>\"X\",ASISTENCIA!R13<>\"L\",ASISTENCIA!R13<>\"J\",ASISTENCIA!R13<>\"V\",ASISTENCIA!R13<>\"F\",ASISTENCIA!R13<>\"\"),SUMIF($F$13:$J$13,X$13,$F14:$J14),\"\")","v":""},{"$f":"IF(AND(LEN($D14)>0,SUMIF($F$13:$J$13,Y$13,$F14:$J14)>0,ASISTENCIA!S13<>\"X\",ASISTENCIA!S13<>\"L\",ASISTENCIA!S13<>\"J\",ASISTENCIA!S13<>\"V\",ASISTENCIA!S13<>\"F\",ASISTENCIA!S13<>\"\"),SUMIF($F$13:$J$13,Y$13,$F14:$J14),\"\")","v":""},{"$f":"IF(AND(LEN($D14)>0,SUMIF($F$13:$J$13,Z$13,$F14:$J14)>0,ASISTENCIA!T13<>\"X\",ASISTENCIA!T13<>\"L\",ASISTENCIA!T13<>\"J\",ASISTENCIA!T13<>\"V\",ASISTENCIA!T13<>\"F\",ASISTENCIA!T13<>\"\"),SUMIF($F$13:$J$13,Z$13,$F14:$J14),\"\")","v":""},{"$f":"IF(AND(LEN($D14)>0,SUMIF($F$13:$J$13,AA$13,$F14:$J14)>0,ASISTENCIA!U13<>\"X\",ASISTENCIA!U13<>\"L\",ASISTENCIA!U13<>\"J\",ASISTENCIA!U13<>\"V\",ASISTENCIA!U13<>\"F\",ASISTENCIA!U13<>\"\"),SUMIF($F$13:$J$13,AA$13,$F14:$J14),\"\")","v":""},{"$f":"IF(AND(LEN($D14)>0,SUMIF($F$13:$J$13,AB$13,$F14:$J14)>0,ASISTENCIA!V13<>\"X\",ASISTENCIA!V13<>\"L\",ASISTENCIA!V13<>\"J\",ASISTENCIA!V13<>\"V\",ASISTENCIA!V13<>\"F\",ASISTENCIA!V13<>\"\"),SUMIF($F$13:$J$13,AB$13,$F14:$J14),\"\")","v":""},{"$f":"IF(AND(LEN($D14)>0,SUMIF($F$13:$J$13,AC$13,$F14:$J14)>0,ASISTENCIA!W13<>\"X\",ASISTENCIA!W13<>\"L\",ASISTENCIA!W13<>\"J\",ASISTENCIA!W13<>\"V\",ASISTENCIA!W13<>\"F\",ASISTENCIA!W13<>\"\"),SUMIF($F$13:$J$13,AC$13,$F14:$J14),\"\")","v":""},{"$f":"IF(AND(LEN($D14)>0,SUMIF($F$13:$J$13,AD$13,$F14:$J14)>0,ASISTENCIA!X13<>\"X\",ASISTENCIA!X13<>\"L\",ASISTENCIA!X13<>\"J\",ASISTENCIA!X13<>\"V\",ASISTENCIA!X13<>\"F\",ASISTENCIA!X13<>\"\"),SUMIF($F$13:$J$13,AD$13,$F14:$J14),\"\")","v":""},{"$f":"IF(AND(LEN($D14)>0,SUMIF($F$13:$J$13,AE$13,$F14:$J14)>0,ASISTENCIA!Y13<>\"X\",ASISTENCIA!Y13<>\"L\",ASISTENCIA!Y13<>\"J\",ASISTENCIA!Y13<>\"V\",ASISTENCIA!Y13<>\"F\",ASISTENCIA!Y13<>\"\"),SUMIF($F$13:$J$13,AE$13,$F14:$J14),\"\")","v":""},{"$f":"IF(AND(LEN($D14)>0,SUMIF($F$13:$J$13,AF$13,$F14:$J14)>0,ASISTENCIA!Z13<>\"X\",ASISTENCIA!Z13<>\"L\",ASISTENCIA!Z13<>\"J\",ASISTENCIA!Z13<>\"V\",ASISTENCIA!Z13<>\"F\",ASISTENCIA!Z13<>\"\"),SUMIF($F$13:$J$13,AF$13,$F14:$J14),\"\")","v":""},{"$f":"IF(AND(LEN($D14)>0,SUMIF($F$13:$J$13,AG$13,$F14:$J14)>0,ASISTENCIA!AA13<>\"X\",ASISTENCIA!AA13<>\"L\",ASISTENCIA!AA13<>\"J\",ASISTENCIA!AA13<>\"V\",ASISTENCIA!AA13<>\"F\",ASISTENCIA!AA13<>\"\"),SUMIF($F$13:$J$13,AG$13,$F14:$J14),\"\")","v":""},{"$f":"IF(AND(LEN($D14)>0,SUMIF($F$13:$J$13,AH$13,$F14:$J14)>0,ASISTENCIA!AB13<>\"X\",ASISTENCIA!AB13<>\"L\",ASISTENCIA!AB13<>\"J\",ASISTENCIA!AB13<>\"V\",ASISTENCIA!AB13<>\"F\",ASISTENCIA!AB13<>\"\"),SUMIF($F$13:$J$13,AH$13,$F14:$J14),\"\")","v":""},{"$f":"IF(AND(LEN($D14)>0,SUMIF($F$13:$J$13,AI$13,$F14:$J14)>0,ASISTENCIA!AC13<>\"X\",ASISTENCIA!AC13<>\"L\",ASISTENCIA!AC13<>\"J\",ASISTENCIA!AC13<>\"V\",ASISTENCIA!AC13<>\"F\",ASISTENCIA!AC13<>\"\"),SUMIF($F$13:$J$13,AI$13,$F14:$J14),\"\")","v":""},{"$f":"IF(AND(LEN($D14)>0,SUMIF($F$13:$J$13,AJ$13,$F14:$J14)>0,ASISTENCIA!AD13<>\"X\",ASISTENCIA!AD13<>\"L\",ASISTENCIA!AD13<>\"J\",ASISTENCIA!AD13<>\"V\",ASISTENCIA!AD13<>\"F\",ASISTENCIA!AD13<>\"\"),SUMIF($F$13:$J$13,AJ$13,$F14:$J14),\"\")","v":""},{"$f":"IF(AND(LEN($D14)>0,SUMIF($F$13:$J$13,AK$13,$F14:$J14)>0,ASISTENCIA!AE13<>\"X\",ASISTENCIA!AE13<>\"L\",ASISTENCIA!AE13<>\"J\",ASISTENCIA!AE13<>\"V\",ASISTENCIA!AE13<>\"F\",ASISTENCIA!AE13<>\"\"),SUMIF($F$13:$J$13,AK$13,$F14:$J14),\"\")","v":""},{"$f":"IF(AND(LEN($D14)>0,SUMIF($F$13:$J$13,AL$13,$F14:$J14)>0,ASISTENCIA!AF13<>\"X\",ASISTENCIA!AF13<>\"L\",ASISTENCIA!AF13<>\"J\",ASISTENCIA!AF13<>\"V\",ASISTENCIA!AF13<>\"F\",ASISTENCIA!AF13<>\"\"),SUMIF($F$13:$J$13,AL$13,$F14:$J14),\"\")","v":""},{"$f":"IF(AND(LEN($D14)>0,SUMIF($F$13:$J$13,AM$13,$F14:$J14)>0,ASISTENCIA!AG13<>\"X\",ASISTENCIA!AG13<>\"L\",ASISTENCIA!AG13<>\"J\",ASISTENCIA!AG13<>\"V\",ASISTENCIA!AG13<>\"F\",ASISTENCIA!AG13<>\"\"),SUMIF($F$13:$J$13,AM$13,$F14:$J14),\"\")","v":""},{"$f":"IF(AND(LEN($D14)>0,SUMIF($F$13:$J$13,AN$13,$F14:$J14)>0,ASISTENCIA!AH13<>\"X\",ASISTENCIA!AH13<>\"L\",ASISTENCIA!AH13<>\"J\",ASISTENCIA!AH13<>\"V\",ASISTENCIA!AH13<>\"F\",ASISTENCIA!AH13<>\"\"),SUMIF($F$13:$J$13,AN$13,$F14:$J14),\"\")","v":""},{"$f":"IF(AND(LEN($D14)>0,SUMIF($F$13:$J$13,AO$13,$F14:$J14)>0,ASISTENCIA!AI13<>\"X\",ASISTENCIA!AI13<>\"L\",ASISTENCIA!AI13<>\"J\",ASISTENCIA!AI13<>\"V\",ASISTENCIA!AI13<>\"F\",ASISTENCIA!AI13<>\"\"),SUMIF($F$13:$J$13,AO$13,$F14:$J14),\"\")","v":""},{"$f":"IF(AND(LEN($D14)>0,SUMIF($F$13:$J$13,AP$13,$F14:$J14)>0,ASISTENCIA!AJ13<>\"X\",ASISTENCIA!AJ13<>\"L\",ASISTENCIA!AJ13<>\"J\",ASISTENCIA!AJ13<>\"V\",ASISTENCIA!AJ13<>\"F\",ASISTENCIA!AJ13<>\"\"),SUMIF($F$13:$J$13,AP$13,$F14:$J14),\"\")","v":""},{"$f":"IF(AND(LEN($D14)>0,SUMIF($F$13:$J$13,AQ$13,$F14:$J14)>0,ASISTENCIA!AK13<>\"X\",ASISTENCIA!AK13<>\"L\",ASISTENCIA!AK13<>\"J\",ASISTENCIA!AK13<>\"V\",ASISTENCIA!AK13<>\"F\",ASISTENCIA!AK13<>\"\"),SUMIF($F$13:$J$13,AQ$13,$F14:$J14),\"\")","v":""},{"$f":"IF(AND(LEN($D14)>0,SUMIF($F$13:$J$13,AR$13,$F14:$J14)>0,ASISTENCIA!AL13<>\"X\",ASISTENCIA!AL13<>\"L\",ASISTENCIA!AL13<>\"J\",ASISTENCIA!AL13<>\"V\",ASISTENCIA!AL13<>\"F\",ASISTENCIA!AL13<>\"\"),SUMIF($F$13:$J$13,AR$13,$F14:$J14),\"\")","v":""},{"$f":"IF(AND(LEN($D14)>0,SUMIF($F$13:$J$13,AS$13,$F14:$J14)>0,ASISTENCIA!AM13<>\"X\",ASISTENCIA!AM13<>\"L\",ASISTENCIA!AM13<>\"J\",ASISTENCIA!AM13<>\"V\",ASISTENCIA!AM13<>\"F\",ASISTENCIA!AM13<>\"\"),SUMIF($F$13:$J$13,AS$13,$F14:$J14),\"\")","v":""},{"$f":"IF(SUM(O14:AS14)>0,SUM(O14:AS14),\"\")","v":""},null,null,null,{"$f":"IF(AND(LEN($D14)>0,SUMIF($F$13:$J$13,AX$13,$F14:$J14)>0,ASISTENCIA!AU13<>\"X\",ASISTENCIA!AU13<>\"L\",ASISTENCIA!AU13<>\"J\",ASISTENCIA!AU13<>\"F\"),SUMIF($F$13:$J$13,AX$13,$F14:$J14),\"\")","v":""},{"$f":"IF(AND(LEN($D14)>0,SUMIF($F$13:$J$13,AY$13,$F14:$J14)>0,ASISTENCIA!#REF!<>\"X\",ASISTENCIA!#REF!<>\"L\",ASISTENCIA!#REF!<>\"J\",ASISTENCIA!#REF!<>\"F\"),SUMIF($F$13:$J$13,AY$13,$F14:$J14),\"\")","v":{"$error":"#REF!"}},{"$f":"IF(AND(LEN($D14)>0,SUMIF($F$13:$J$13,AZ$13,$F14:$J14)>0,ASISTENCIA!BF13<>\"X\",ASISTENCIA!BF13<>\"L\",ASISTENCIA!BF13<>\"J\",ASISTENCIA!BF13<>\"F\"),SUMIF($F$13:$J$13,AZ$13,$F14:$J14),\"\")","v":""},{"$f":"IF(AND(LEN($D14)>0,SUMIF($F$13:$J$13,BA$13,$F14:$J14)>0,ASISTENCIA!BG13<>\"X\",ASISTENCIA!BG13<>\"L\",ASISTENCIA!BG13<>\"J\",ASISTENCIA!BG13<>\"F\"),SUMIF($F$13:$J$13,BA$13,$F14:$J14),\"\")","v":""},{"$f":"IF(AND(LEN($D14)>0,SUMIF($F$13:$J$13,BB$13,$F14:$J14)>0,ASISTENCIA!BH13<>\"X\",ASISTENCIA!BH13<>\"L\",ASISTENCIA!BH13<>\"J\",ASISTENCIA!BH13<>\"F\"),SUMIF($F$13:$J$13,BB$13,$F14:$J14),\"\")","v":""},{"$f":"IF(AND(LEN($D14)>0,SUMIF($F$13:$J$13,BC$13,$F14:$J14)>0,ASISTENCIA!AZ13<>\"X\",ASISTENCIA!AZ13<>\"L\",ASISTENCIA!AZ13<>\"J\",ASISTENCIA!AZ13<>\"F\"),SUMIF($F$13:$J$13,BC$13,$F14:$J14),\"\")","v":""},{"$f":"IF(AND(LEN($D14)>0,SUMIF($F$13:$J$13,BD$13,$F14:$J14)>0,ASISTENCIA!BA13<>\"X\",ASISTENCIA!BA13<>\"L\",ASISTENCIA!BA13<>\"J\",ASISTENCIA!BA13<>\"F\"),SUMIF($F$13:$J$13,BD$13,$F14:$J14),\"\")","v":""},{"$f":"IF(AND(LEN($D14)>0,SUMIF($F$13:$J$13,BE$13,$F14:$J14)>0,ASISTENCIA!BB13<>\"X\",ASISTENCIA!BB13<>\"L\",ASISTENCIA!BB13<>\"J\",ASISTENCIA!BB13<>\"F\"),SUMIF($F$13:$J$13,BE$13,$F14:$J14),\"\")","v":""},{"$f":"IF(AND(LEN($D14)>0,SUMIF($F$13:$J$13,BF$13,$F14:$J14)>0,ASISTENCIA!BC13<>\"X\",ASISTENCIA!BC13<>\"L\",ASISTENCIA!BC13<>\"J\",ASISTENCIA!BC13<>\"F\"),SUMIF($F$13:$J$13,BF$13,$F14:$J14),\"\")","v":""},{"$f":"IF(AND(LEN($D14)>0,SUMIF($F$13:$J$13,BG$13,$F14:$J14)>0,ASISTENCIA!BD13<>\"X\",ASISTENCIA!BD13<>\"L\",ASISTENCIA!BD13<>\"J\",ASISTENCIA!BD13<>\"F\"),SUMIF($F$13:$J$13,BG$13,$F14:$J14),\"\")","v":""},{"$f":"IF(AND(LEN($D14)>0,SUMIF($F$13:$J$13,BH$13,$F14:$J14)>0,ASISTENCIA!#REF!<>\"X\",ASISTENCIA!#REF!<>\"L\",ASISTENCIA!#REF!<>\"J\",ASISTENCIA!#REF!<>\"F\"),SUMIF($F$13:$J$13,BH$13,$F14:$J14),\"\")","v":{"$error":"#REF!"}},{"$f":"IF(AND(LEN($D14)>0,SUMIF($F$13:$J$13,BI$13,$F14:$J14)>0,ASISTENCIA!#REF!<>\"X\",ASISTENCIA!#REF!<>\"L\",ASISTENCIA!#REF!<>\"J\",ASISTENCIA!#REF!<>\"F\"),SUMIF($F$13:$J$13,BI$13,$F14:$J14),\"\")","v":{"$error":"#REF!"}},{"$f":"IF(AND(LEN($D14)>0,SUMIF($F$13:$J$13,BJ$13,$F14:$J14)>0,ASISTENCIA!#REF!<>\"X\",ASISTENCIA!#REF!<>\"L\",ASISTENCIA!#REF!<>\"J\",ASISTENCIA!#REF!<>\"F\"),SUMIF($F$13:$J$13,BJ$13,$F14:$J14),\"\")","v":{"$error":"#REF!"}},{"$f":"IF(AND(LEN($D14)>0,SUMIF($F$13:$J$13,BK$13,$F14:$J14)>0,ASISTENCIA!#REF!<>\"X\",ASISTENCIA!#REF!<>\"L\",ASISTENCIA!#REF!<>\"J\",ASISTENCIA!#REF!<>\"F\"),SUMIF($F$13:$J$13,BK$13,$F14:$J14),\"\")","v":{"$error":"#REF!"}},{"$f":"IF(AND(LEN($D14)>0,SUMIF($F$13:$J$13,BL$13,$F14:$J14)>0,ASISTENCIA!BI13<>\"X\",ASISTENCIA!BI13<>\"L\",ASISTENCIA!BI13<>\"J\",ASISTENCIA!BI13<>\"F\"),SUMIF($F$13:$J$13,BL$13,$F14:$J14),\"\")","v":""},{"$f":"IF(AND(LEN($D14)>0,SUMIF($F$13:$J$13,BM$13,$F14:$J14)>0,ASISTENCIA!BJ13<>\"X\",ASISTENCIA!BJ13<>\"L\",ASISTENCIA!BJ13<>\"J\",ASISTENCIA!BJ13<>\"F\"),SUMIF($F$13:$J$13,BM$13,$F14:$J14),\"\")","v":""},{"$f":"IF(AND(LEN($D14)>0,SUMIF($F$13:$J$13,BN$13,$F14:$J14)>0,ASISTENCIA!BK13<>\"X\",ASISTENCIA!BK13<>\"L\",ASISTENCIA!BK13<>\"J\",ASISTENCIA!BK13<>\"F\"),SUMIF($F$13:$J$13,BN$13,$F14:$J14),\"\")","v":""},{"$f":"IF(AND(LEN($D14)>0,SUMIF($F$13:$J$13,BO$13,$F14:$J14)>0,ASISTENCIA!BL13<>\"X\",ASISTENCIA!BL13<>\"L\",ASISTENCIA!BL13<>\"J\",ASISTENCIA!BL13<>\"F\"),SUMIF($F$13:$J$13,BO$13,$F14:$J14),\"\")","v":""},{"$f":"IF(AND(LEN($D14)>0,SUMIF($F$13:$J$13,BP$13,$F14:$J14)>0,ASISTENCIA!BM13<>\"X\",ASISTENCIA!BM13<>\"L\",ASISTENCIA!BM13<>\"J\",ASISTENCIA!BM13<>\"F\"),SUMIF($F$13:$J$13,BP$13,$F14:$J14),\"\")","v":""},{"$f":"IF(AND(LEN($D14)>0,SUMIF($F$13:$J$13,BQ$13,$F14:$J14)>0,ASISTENCIA!BN13<>\"X\",ASISTENCIA!BN13<>\"L\",ASISTENCIA!BN13<>\"J\",ASISTENCIA!BN13<>\"F\"),SUMIF($F$13:$J$13,BQ$13,$F14:$J14),\"\")","v":""},{"$f":"IF(AND(LEN($D14)>0,SUMIF($F$13:$J$13,BR$13,$F14:$J14)>0,ASISTENCIA!BO13<>\"X\",ASISTENCIA!BO13<>\"L\",ASISTENCIA!BO13<>\"J\",ASISTENCIA!BO13<>\"F\"),SUMIF($F$13:$J$13,BR$13,$F14:$J14),\"\")","v":""},{"$f":"IF(AND(LEN($D14)>0,SUMIF($F$13:$J$13,BS$13,$F14:$J14)>0,ASISTENCIA!BP13<>\"X\",ASISTENCIA!BP13<>\"L\",ASISTENCIA!BP13<>\"J\",ASISTENCIA!BP13<>\"F\"),SUMIF($F$13:$J$13,BS$13,$F14:$J14),\"\")","v":""},{"$f":"IF(AND(LEN($D14)>0,SUMIF($F$13:$J$13,BT$13,$F14:$J14)>0,ASISTENCIA!BQ13<>\"X\",ASISTENCIA!BQ13<>\"L\",ASISTENCIA!BQ13<>\"J\",ASISTENCIA!BQ13<>\"F\"),SUMIF($F$13:$J$13,BT$13,$F14:$J14),\"\")","v":""},{"$f":"IF(AND(LEN($D14)>0,SUMIF($F$13:$J$13,BU$13,$F14:$J14)>0,ASISTENCIA!BR13<>\"X\",ASISTENCIA!BR13<>\"L\",ASISTENCIA!BR13<>\"J\",ASISTENCIA!BR13<>\"F\"),SUMIF($F$13:$J$13,BU$13,$F14:$J14),\"\")","v":""},{"$f":"IF(AND(LEN($D14)>0,SUMIF($F$13:$J$13,BV$13,$F14:$J14)>0,ASISTENCIA!BS13<>\"X\",ASISTENCIA!BS13<>\"L\",ASISTENCIA!BS13<>\"J\",ASISTENCIA!BS13<>\"F\"),SUMIF($F$13:$J$13,BV$13,$F14:$J14),\"\")","v":""},{"$f":"IF(AND(LEN($D14)>0,SUMIF($F$13:$J$13,BW$13,$F14:$J14)>0,ASISTENCIA!BT13<>\"X\",ASISTENCIA!BT13<>\"L\",ASISTENCIA!BT13<>\"J\",ASISTENCIA!BT13<>\"F\"),SUMIF($F$13:$J$13,BW$13,$F14:$J14),\"\")","v":""},{"$f":"IF(AND(LEN($D14)>0,SUMIF($F$13:$J$13,BX$13,$F14:$J14)>0,ASISTENCIA!BU13<>\"X\",ASISTENCIA!BU13<>\"L\",ASISTENCIA!BU13<>\"J\",ASISTENCIA!BU13<>\"F\"),SUMIF($F$13:$J$13,BX$13,$F14:$J14),\"\")","v":""},{"$f":"IF(AND(LEN($D14)>0,SUMIF($F$13:$J$13,BY$13,$F14:$J14)>0,ASISTENCIA!BV13<>\"X\",ASISTENCIA!BV13<>\"L\",ASISTENCIA!BV13<>\"J\",ASISTENCIA!BV13<>\"F\"),SUMIF($F$13:$J$13,BY$13,$F14:$J14),\"\")","v":""},{"$f":"IF(AND(LEN($D14)>0,SUMIF($F$13:$J$13,BZ$13,$F14:$J14)>0,ASISTENCIA!BW13<>\"X\",ASISTENCIA!BW13<>\"L\",ASISTENCIA!BW13<>\"J\",ASISTENCIA!BW13<>\"F\"),SUMIF($F$13:$J$13,BZ$13,$F14:$J14),\"\")","v":""},{"$f":"IF(AND(LEN($D14)>0,SUMIF($F$13:$J$13,CA$13,$F14:$J14)>0,ASISTENCIA!BX13<>\"X\",ASISTENCIA!BX13<>\"L\",ASISTENCIA!BX13<>\"J\",ASISTENCIA!BX13<>\"F\"),SUMIF($F$13:$J$13,CA$13,$F14:$J14),\"\")","v":""},{"$f":"IF(AND(LEN($D14)>0,SUMIF($F$13:$J$13,CB$13,$F14:$J14)>0,ASISTENCIA!BY13<>\"X\",ASISTENCIA!BY13<>\"L\",ASISTENCIA!BY13<>\"J\",ASISTENCIA!BY13<>\"F\"),SUMIF($F$13:$J$13,CB$13,$F14:$J14),\"\")","v":""},{"$f":"IF(SUM(AX14:CB14)>0,SUM(AX14:CB14),\"\")","v":{"$error":"#REF!"}}]
[{"$f":"IF(LEN(B15)>0,1+A14,\"\")","v":{"$error":"#N/A"}},{"$f":"IF(LEN(C15)>0,VLOOKUP($O$4,DATA!$A$1:$S$1,2,FALSE),\"\")","v":{"$error":"#N/A"}},{"$f":"IF(LEN(D15)>0,$AJ$8,\"\")","v":"JULIO"},{"$f":"IF(LEN(ASISTENCIA!E14)>0,ASISTENCIA!E14,\"\")","v":"ARCATA FLORES, Héctor"},{"$f":"IF(LEN(D15)>0,ASISTENCIA!F14,\"\")","v":"Director Desig."},null,null,null,null,null,"",null,null,{"$f":"CC15","v":{"$error":"#REF!"}},{"$f":"IF(AND(LEN($D15)>0,SUMIF($F$13:$J$13,O$13,$F15:$J15)>0,ASISTENCIA!I14<>\"X\",ASISTENCIA!I14<>\"L\",ASISTENCIA!I14<>\"J\",ASISTENCIA!I14<>\"V\",ASISTENCIA!I14<>\"F\",ASISTENCIA!I14<>\"\"),SUMIF($F$13:$J$13,O$13,$F15:$J15),\"\")","v":""},{"$f":"IF(AND(LEN($D15)>0,SUMIF($F$13:$J$13,P$13,$F15:$J15)>0,ASISTENCIA!J14<>\"X\",ASISTENCIA!J14<>\"L\",ASISTENCIA!J14<>\"J\",ASISTENCIA!J14<>\"V\",ASISTENCIA!J14<>\"F\",ASISTENCIA!J14<>\"\"),SUMIF($F$13:$J$13,P$13,$F15:$J15),\"\")","v":""},{"$f":"IF(AND(LEN($D15)>0,SUMIF($F$13:$J$13,Q$13,$F15:$J15)>0,ASISTENCIA!K14<>\"X\",ASISTENCIA!K14<>\"L\",ASISTENCIA!K14<>\"J\",ASISTENCIA!K14<>\"V\",ASISTENCIA!K14<>\"F\",ASISTENCIA!K14<>\"\"),SUMIF($F$13:$J$13,Q$13,$F15:$J15),\"\")","v":""},{"$f":"IF(AND(LEN($D15)>0,SUMIF($F$13:$J$13,R$13,$F15:$J15)>0,ASISTENCIA!L14<>\"X\",ASISTENCIA!L14<>\"L\",ASISTENCIA!L14<>\"J\",ASISTENCIA!L14<>\"V\",ASISTENCIA!L14<>\"F\",ASISTENCIA!L14<>\"\"),SUMIF($F$13:$J$13,R$13,$F15:$J15),\"\")","v":""},{"$f":"IF(AND(LEN($D15)>0,SUMIF($F$13:$J$13,S$13,$F15:$J15)>0,ASISTENCIA!M14<>\"X\",ASISTENCIA!M14<>\"L\",ASISTENCIA!M14<>\"J\",ASISTENCIA!M14<>\"V\",ASISTENCIA!M14<>\"F\",ASISTENCIA!M14<>\"\"),SUMIF($F$13:$J$13,S$13,$F15:$J15),\"\")","v":""},{"$f":"IF(AND(LEN($D15)>0,SUMIF($F$13:$J$13,T$13,$F15:$J15)>0,ASISTENCIA!N14<>\"X\",ASISTENCIA!N14<>\"L\",ASISTENCIA!N14<>\"J\",ASISTENCIA!N14<>\"V\",ASISTENCIA!N14<>\"F\",ASISTENCIA!N14<>\"\"),SUMIF($F$13:$J$13,T$13,$F15:$J15),\"\")","v":""},{"$f":"IF(AND(LEN($D15)>0,SUMIF($F$13:$J$13,U$13,$F15:$J15)>0,ASISTENCIA!O14<>\"X\",ASISTENCIA!O14<>\"L\",ASISTENCIA!O14<>\"J\",ASISTENCIA!O14<>\"V\",ASISTENCIA!O14<>\"F\",ASISTENCIA!O14<>\"\"),SUMIF($F$13:$J$13,U$13,$F15:$J15),\"\")","v":""},{"$f":"IF(AND(LEN($D15)>0,SUMIF($F$13:$J$13,V$13,$F15:$J15)>0,ASISTENCIA!P14<>\"X\",ASISTENCIA!P14<>\"L\",ASISTENCIA!P14<>\"J\",ASISTENCIA!P14<>\"V\",ASISTENCIA!P14<>\"F\",ASISTENCIA!P14<>\"\"),SUMIF($F$13:$J$13,V$13,$F15:$J15),\"\")","v":""},{"$f":"IF(AND(LEN($D15)>0,SUMIF($F$13:$J$13,W$13,$F15:$J15)>0,ASISTENCIA!Q14<>\"X\",ASISTENCIA!Q14<>\"L\",ASISTENCIA!Q14<>\"J\",ASISTENCIA!Q14<>\"V\",ASISTENCIA!Q14<>\"F\",ASISTENCIA!Q14<>\"\"),SUMIF($F$13:$J$13,W$13,$F15:$J15),\"\")","v":""},{"$f":"IF(AND(LEN($D15)>0,SUMIF($F$13:$J$13,X$13,$F15:$J15)>0,ASISTENCIA!R14<>\"X\",ASISTENCIA!R14<>\"L\",ASISTENCIA!R14<>\"J\",ASISTENCIA!R14<>\"V\",ASISTENCIA!R14<>\"F\",ASISTENCIA!R14<>\"\"),SUMIF($F$13:$J$13,X$13,$F15:$J15),\"\")","v":""},{"$f":"IF(AND(LEN($D15)>0,SUMIF($F$13:$J$13,Y$13,$F15:$J15)>0,ASISTENCIA!S14<>\"X\",ASISTENCIA!S14<>\"L\",ASISTENCIA!S14<>\"J\",ASISTENCIA!S14<>\"V\",ASISTENCIA!S14<>\"F\",ASISTENCIA!S14<>\"\"),SUMIF($F$13:$J$13,Y$13,$F15:$J15),\"\")","v":""},{"$f":"IF(AND(LEN($D15)>0,SUMIF($F$13:$J$13,Z$13,$F15:$J15)>0,ASISTENCIA!T14<>\"X\",ASISTENCIA!T14<>\"L\",ASISTENCIA!T14<>\"J\",ASISTENCIA!T14<>\"V\",ASISTENCIA!T14<>\"F\",ASISTENCIA!T14<>\"\"),SUMIF($F$13:$J$13,Z$13,$F15:$J15),\"\")","v":""},{"$f":"IF(AND(LEN($D15)>0,SUMIF($F$13:$J$13,AA$13,$F15:$J15)>0,ASISTENCIA!U14<>\"X\",ASISTENCIA!U14<>\"L\",ASISTENCIA!U14<>\"J\",ASISTENCIA!U14<>\"V\",ASISTENCIA!U14<>\"F\",ASISTENCIA!U14<>\"\"),SUMIF($F$13:$J$13,AA$13,$F15:$J15),\"\")","v":""},{"$f":"IF(AND(LEN($D15)>0,SUMIF($F$13:$J$13,AB$13,$F15:$J15)>0,ASISTENCIA!V14<>\"X\",ASISTENCIA!V14<>\"L\",ASISTENCIA!V14<>\"J\",ASISTENCIA!V14<>\"V\",ASISTENCIA!V14<>\"F\",ASISTENCIA!V14<>\"\"),SUMIF($F$13:$J$13,AB$13,$F15:$J15),\"\")","v":""},{"$f":"IF(AND(LEN($D15)>0,SUMIF($F$13:$J$13,AC$13,$F15:$J15)>0,ASISTENCIA!W14<>\"X\",ASISTENCIA!W14<>\"L\",ASISTENCIA!W14<>\"J\",ASISTENCIA!W14<>\"V\",ASISTENCIA!W14<>\"F\",ASISTENCIA!W14<>\"\"),SUMIF($F$13:$J$13,AC$13,$F15:$J15),\"\")","v":""},{"$f":"IF(AND(LEN($D15)>0,SUMIF($F$13:$J$13,AD$13,$F15:$J15)>0,ASISTENCIA!X14<>\"X\",ASISTENCIA!X14<>\"L\",ASISTENCIA!X14<>\"J\",ASISTENCIA!X14<>\"V\",ASISTENCIA!X14<>\"F\",ASISTENCIA!X14<>\"\"),SUMIF($F$13:$J$13,AD$13,$F15:$J15),\"\")","v":""},{"$f":"IF(AND(LEN($D15)>0,SUMIF($F$13:$J$13,AE$13,$F15:$J15)>0,ASISTENCIA!Y14<>\"X\",ASISTENCIA!Y14<>\"L\",ASISTENCIA!Y14<>\"J\",ASISTENCIA!Y14<>\"V\",ASISTENCIA!Y14<>\"F\",ASISTENCIA!Y14<>\"\"),SUMIF($F$13:$J$13,AE$13,$F15:$J15),\"\")","v":""},{"$f":"IF(AND(LEN($D15)>0,SUMIF($F$13:$J$13,AF$13,$F15:$J15)>0,ASISTENCIA!Z14<>\"X\",ASISTENCIA!Z14<>\"L\",ASISTENCIA!Z14<>\"J\",ASISTENCIA!Z14<>\"V\",ASISTENCIA!Z14<>\"F\",ASISTENCIA!Z14<>\"\"),SUMIF($F$13:$J$13,AF$13,$F15:$J15),\"\")","v":""},{"$f":"IF(AND(LEN($D15)>0,SUMIF($F$13:$J$13,AG$13,$F15:$J15)>0,ASISTENCIA!AA14<>\"X\",ASISTENCIA!AA14<>\"L\",ASISTENCIA!AA14<>\"J\",ASISTENCIA!AA14<>\"V\",ASISTENCIA!AA14<>\"F\",ASISTENCIA!AA14<>\"\"),SUMIF($F$13:$J$13,AG$13,$F15:$J15),\"\")","v":""},{"$f":"IF(AND(LEN($D15)>0,SUMIF($F$13:$J$13,AH$13,$F15:$J15)>0,ASISTENCIA!AB14<>\"X\",ASISTENCIA!AB14<>\"L\",ASISTENCIA!AB14<>\"J\",ASISTENCIA!AB14<>\"V\",ASISTENCIA!AB14<>\"F\",ASISTENCIA!AB14<>\"\"),SUMIF($F$13:$J$13,AH$13,$F15:$J15),\"\")","v":""},{"$f":"IF(AND(LEN($D15)>0,SUMIF($F$13:$J$13,AI$13,$F15:$J15)>0,ASISTENCIA!AC14<>\"X\",ASISTENCIA!AC14<>\"L\",ASISTENCIA!AC14<>\"J\",ASISTENCIA!AC14<>\"V\",ASISTENCIA!AC14<>\"F\",ASISTENCIA!AC14<>\"\"),SUMIF($F$13:$J$13,AI$13,$F15:$J15),\"\")","v":""},{"$f":"IF(AND(LEN($D15)>0,SUMIF($F$13:$J$13,AJ$13,$F15:$J15)>0,ASISTENCIA!AD14<>\"X\",ASISTENCIA!AD14<>\"L\",ASISTENCIA!AD14<>\"J\",ASISTENCIA!AD14<>\"V\",ASISTENCIA!AD14<>\"F\",ASISTENCIA!AD14<>\"\"),SUMIF($F$13:$J$13,AJ$13,$F15:$J15),\"\")","v":""},{"$f":"IF(AND(LEN($D15)>0,SUMIF($F$13:$J$13,AK$13,$F15:$J15)>0,ASISTENCIA!AE14<>\"X\",ASISTENCIA!AE14<>\"L\",ASISTENCIA!AE14<>\"J\",ASISTENCIA!AE14<>\"V\",ASISTENCIA!AE14<>\"F\",ASISTENCIA!AE14<>\"\"),SUMIF($F$13:$J$13,AK$13,$F15:$J15),\"\")","v":""},{"$f":"IF(AND(LEN($D15)>0,SUMIF($F$13:$J$13,AL$13,$F15:$J15)>0,ASISTENCIA!AF14<>\"X\",ASISTENCIA!AF14<>\"L\",ASISTENCIA!AF14<>\"J\",ASISTENCIA!AF14<>\"V\",ASISTENCIA!AF14<>\"F\",ASISTENCIA!AF14<>\"\"),SUMIF($F$13:$J$13,AL$13,$F15:$J15),\"\")","v":""},{"$f":"IF(AND(LEN($D15)>0,SUMIF($F$13:$J$13,AM$13,$F15:$J15)>0,ASISTENCIA!AG14<>\"X\",ASISTENCIA!AG14<>\"L\",ASISTENCIA!AG14<>\"J\",ASISTENCIA!AG14<>\"V\",ASISTENCIA!AG14<>\"F\",ASISTENCIA!AG14<>\"\"),SUMIF($F$13:$J$13,AM$13,$F15:$J15),\"\")","v":""},{"$f":"IF(AND(LEN($D15)>0,SUMIF($F$13:$J$13,AN$13,$F15:$J15)>0,ASISTENCIA!AH14<>\"X\",ASISTENCIA!AH14<>\"L\",ASISTENCIA!AH14<>\"J\",ASISTENCIA!AH14<>\"V\",ASISTENCIA!AH14<>\"F\",ASISTENCIA!AH14<>\"\"),SUMIF($F$13:$J$13,AN$13,$F15:$J15),\"\")","v":""},{"$f":"IF(AND(LEN($D15)>0,SUMIF($F$13:$J$13,AO$13,$F15:$J15)>0,ASISTENCIA!AI14<>\"X\",ASISTENCIA!AI14<>\"L\",ASISTENCIA!AI14<>\"J\",ASISTENCIA!AI14<>\"V\",ASISTENCIA!AI14<>\"F\",ASISTENCIA!AI14<>\"\"),SUMIF($F$13:$J$13,AO$13,$F15:$J15),\"\")","v":""},{"$f":"IF(AND(LEN($D15)>0,SUMIF($F$13:$J$13,AP$13,$F15:$J15)>0,ASISTENCIA!AJ14<>\"X\",ASISTENCIA!AJ14<>\"L\",ASISTENCIA!AJ14<>\"J\",ASISTENCIA!AJ14<>\"V\",ASISTENCIA!AJ14<>\"F\",ASISTENCIA!AJ14<>\"\"),SUMIF($F$13:$J$13,AP$13,$F15:$J15),\"\")","v":""},{"$f":"IF(AND(LEN($D15)>0,SUMIF($F$13:$J$13,AQ$13,$F15:$J15)>0,ASISTENCIA!AK14<>\"X\",ASISTENCIA!AK14<>\"L\",ASISTENCIA!AK14<>\"J\",ASISTENCIA!AK14<>\"V\",ASISTENCIA!AK14<>\"F\",ASISTENCIA!AK14<>\"\"),SUMIF($F$13:$J$13,AQ$13,$F15:$J15),\"\")","v":""},{"$f":"IF(AND(LEN($D15)>0,SUMIF($F$13:$J$13,AR$13,$F15:$J15)>0,ASISTENCIA!AL14<>\"X\",ASISTENCIA!AL14<>\"L\",ASISTENCIA!AL14<>\"J\",ASISTENCIA!AL14<>\"V\",ASISTENCIA!AL14<>\"F\",ASISTENCIA!AL14<>\"\"),SUMIF($F$13:$J$13,AR$13,$F15:$J15),\"\")","v":""},{"$f":"IF(AND(LEN($D15)>0,SUMIF($F$13:$J$13,AS$13,$F15:$J15)>0,ASISTENCIA!AM14<>\"X\",ASISTENCIA!AM14<>\"L\",ASISTENCIA!AM14<>\"J\",ASISTENCIA!AM14<>\"V\",ASISTENCIA!AM14<>\"F\",ASISTENCIA!AM14<>\"\"),SUMIF($F$13:$J$13,AS$13,$F15:$J15),\"\")","v":""},{"$f":"IF(SUM(O15:AS15)>0,SUM(O15:AS15),\"\")","v":""},null,null,null,{"$f":"IF(AND(LEN($D15)>0,SUMIF($F$13:$J$13,AX$13,$F15:$J15)>0,ASISTENCIA!AU14<>\"X\",ASISTENCIA!AU14<>\"L\",ASISTENCIA!AU14<>\"J\",ASISTENCIA!AU14<>\"F\"),SUMIF($F$13:$J$13,AX$13,$F15:$J15),\"\")","v":""},{"$f":"IF(AND(LEN($D15)>0,SUMIF($F$13:$J$13,AY$13,$F15:$J15)>0,ASISTENCIA!BE17<>\"X\",ASISTENCIA!BE17<>\"L\",ASISTENCIA!BE17<>\"J\",ASISTENCIA!BE17<>\"F\"),SUMIF($F$13:$J$13,AY$13,$F15:$J15),\"\")","v":""},{"$f":"IF(AND(LEN($D15)>0,SUMIF($F$13:$J$13,AZ$13,$F15:$J15)>0,ASISTENCIA!BF14<>\"X\",ASISTENCIA!BF14<>\"L\",ASISTENCIA!BF14<>\"J\",ASISTENCIA!BF14<>\"F\"),SUMIF($F$13:$J$13,AZ$13,$F15:$J15),\"\")","v":""},{"$f":"IF(AND(LEN($D15)>0,SUMIF($F$13:$J$13,BA$13,$F15:$J15)>0,ASISTENCIA!BG14<>\"X\",ASISTENCIA!BG14<>\"L\",ASISTENCIA!BG14<>\"J\",ASISTENCIA!BG14<>\"F\"),SUMIF($F$13:$J$13,BA$13,$F15:$J15),\"\")","v":""},{"$f":"IF(AND(LEN($D15)>0,SUMIF($F$13:$J$13,BB$13,$F15:$J15)>0,ASISTENCIA!BH14<>\"X\",ASISTENCIA!BH14<>\"L\",ASISTENCIA!BH14<>\"J\",ASISTENCIA!BH14<>\"F\"),SUMIF($F$13:$J$13,BB$13,$F15:$J15),\"\")","v":""},{"$f":"IF(AND(LEN($D15)>0,SUMIF($F$13:$J$13,BC$13,$F15:$J15)>0,ASISTENCIA!AZ14<>\"X\",ASISTENCIA!AZ14<>\"L\",ASISTENCIA!AZ14<>\"J\",ASISTENCIA!AZ14<>\"F\"),SUMIF($F$13:$J$13,BC$13,$F15:$J15),\"\")","v":""},{"$f":"IF(AND(LEN($D15)>0,SUMIF($F$13:$J$13,BD$13,$F15:$J15)>0,ASISTENCIA!BA14<>\"X\",ASISTENCIA!BA14<>\"L\",ASISTENCIA!BA14<>\"J\",ASISTENCIA!BA14<>\"F\"),SUMIF($F$13:$J$13,BD$13,$F15:$J15),\"\")","v":""},{"$f":"IF(AND(LEN($D15)>0,SUMIF($F$13:$J$13,BE$13,$F15:$J15)>0,ASISTENCIA!BB14<>\"X\",ASISTENCIA!BB14<>\"L\",ASISTENCIA!BB14<>\"J\",ASISTENCIA!BB14<>\"F\"),SUMIF($F$13:$J$13,BE$13,$F15:$J15),\"\")","v":""},{"$f":"IF(AND(LEN($D15)>0,SUMIF($F$13:$J$13,BF$13,$F15:$J15)>0,ASISTENCIA!#REF!<>\"X\",ASISTENCIA!#REF!<>\"L\",ASISTENCIA!#REF!<>\"J\",ASISTENCIA!#REF!<>\"F\"),SUMIF($F$13:$J$13,BF$13,$F15:$J15),\"\")","v":{"$error":"#REF!"}},{"$f":"IF(AND(LEN($D15)>0,SUMIF($F$13:$J$13,BG$13,$F15:$J15)>0,ASISTENCIA!#REF!<>\"X\",ASISTENCIA!#REF!<>\"L\",ASISTENCIA!#REF!<>\"J\",ASISTENCIA!#REF!<>\"F\"),SUMIF($F$13:$J$13,BG$13,$F15:$J15),\"\")","v":{"$error":"#REF!"}},{"$f":"IF(AND(LEN($D15)>0,SUMIF($F$13:$J$13,BH$13,$F15:$J15)>0,ASISTENCIA!#REF!<>\"X\",ASISTENCIA!#REF!<>\"L\",ASISTENCIA!#REF!<>\"J\",ASISTENCIA!#REF!<>\"F\"),SUMIF($F$13:$J$13,BH$13,$F15:$J15),\"\")","v":{"$error":"#REF!"}},{"$f":"IF(AND(LEN($D15)>0,SUMIF($F$13:$J$13,BI$13,$F15:$J15)>0,ASISTENCIA!#REF!<>\"X\",ASISTENCIA!#REF!<>\"L\",ASISTENCIA!#REF!<>\"J\",ASISTENCIA!#REF!<>\"F\"),SUMIF($F$13:$J$13,BI$13,$F15:$J15),\"\")","v":{"$error":"#REF!"}},{"$f":"IF(AND(LEN($D15)>0,SUMIF($F$13:$J$13,BJ$13,$F15:$J15)>0,ASISTENCIA!#REF!<>\"X\",ASISTENCIA!#REF!<>\"L\",ASISTENCIA!#REF!<>\"J\",ASISTENCIA!#REF!<>\"F\"),SUMIF($F$13:$J$13,BJ$13,$F15:$J15),\"\")","v":{"$error":"#REF!"}},{"$f":"IF(AND(LEN($D15)>0,SUMIF($F$13:$J$13,BK$13,$F15:$J15)>0,ASISTENCIA!#REF!<>\"X\",ASISTENCIA!#REF!<>\"L\",ASISTENCIA!#REF!<>\"J\",ASISTENCIA!#REF!<>\"F\"),SUMIF($F$13:$J$13,BK$13,$F15:$J15),\"\")","v":{"$error":"#REF!"}},{"$f":"IF(AND(LEN($D15)>0,SUMIF($F$13:$J$13,BL$13,$F15:$J15)>0,ASISTENCIA!BI14<>\"X\",ASISTENCIA!BI14<>\"L\",ASISTENCIA!BI14<>\"J\",ASISTENCIA!BI14<>\"F\"),SUMIF($F$13:$J$13,BL$13,$F15:$J15),\"\")","v":""},{"$f":"IF(AND(LEN($D15)>0,SUMIF($F$13:$J$13,BM$13,$F15:$J15)>0,ASISTENCIA!BJ14<>\"X\",ASISTENCIA!BJ14<>\"L\",ASISTENCIA!BJ14<>\"J\",ASISTENCIA!BJ14<>\"F\"),SUMIF($F$13:$J$13,BM$13,$F15:$J15),\"\")","v":""},{"$f":"IF(AND(LEN($D15)>0,SUMIF($F$13:$J$13,BN$13,$F15:$J15)>0,ASISTENCIA!BK14<>\"X\",ASISTENCIA!BK14<>\"L\",ASISTENCIA!BK14<>\"J\",ASISTENCIA!BK14<>\"F\"),SUMIF($F$13:$J$13,BN$13,$F15:$J15),\"\")","v":""},{"$f":"IF(AND(LEN($D15)>0,SUMIF($F$13:$J$13,BO$13,$F15:$J15)>0,ASISTENCIA!BL14<>\"X\",ASISTENCIA!BL14<>\"L\",ASISTENCIA!BL14<>\"J\",ASISTENCIA!BL14<>\"F\"),SUMIF($F$13:$J$13,BO$13,$F15:$J15),\"\")","v":""},{"$f":"IF(AND(LEN($D15)>0,SUMIF($F$13:$J$13,BP$13,$F15:$J15)>0,ASISTENCIA!BM14<>\"X\",ASISTENCIA!BM14<>\"L\",ASISTENCIA!BM14<>\"J\",ASISTENCIA!BM14<>\"F\"),SUMIF($F$13:$J$13,BP$13,$F15:$J15),\"\")","v":""},{"$f":"IF(AND(LEN($D15)>0,SUMIF($F$13:$J$13,BQ$13,$F15:$J15)>0,ASISTENCIA!BN14<>\"X\",ASISTENCIA!BN14<>\"L\",ASISTENCIA!BN14<>\"J\",ASISTENCIA!BN14<>\"F\"),SUMIF($F$13:$J$13,BQ$13,$F15:$J15),\"\")","v":""},{"$f":"IF(AND(LEN($D15)>0,SUMIF($F$13:$J$13,BR$13,$F15:$J15)>0,ASISTENCIA!BO14<>\"X\",ASISTENCIA!BO14<>\"L\",ASISTENCIA!BO14<>\"J\",ASISTENCIA!BO14<>\"F\"),SUMIF($F$13:$J$13,BR$13,$F15:$J15),\"\")","v":""},{"$f":"IF(AND(LEN($D15)>0,SUMIF($F$13:$J$13,BS$13,$F15:$J15)>0,ASISTENCIA!BP14<>\"X\",ASISTENCIA!BP14<>\"L\",ASISTENCIA!BP14<>\"J\",ASISTENCIA!BP14<>\"F\"),SUMIF($F$13:$J$13,BS$13,$F15:$J15),\"\")","v":""},{"$f":"IF(AND(LEN($D15)>0,SUMIF($F$13:$J$13,BT$13,$F15:$J15)>0,ASISTENCIA!BQ14<>\"X\",ASISTENCIA!BQ14<>\"L\",ASISTENCIA!BQ14<>\"J\",ASISTENCIA!BQ14<>\"F\"),SUMIF($F$13:$J$13,BT$13,$F15:$J15),\"\")","v":""},{"$f":"IF(AND(LEN($D15)>0,SUMIF($F$13:$J$13,BU$13,$F15:$J15)>0,ASISTENCIA!BR14<>\"X\",ASISTENCIA!BR14<>\"L\",ASISTENCIA!BR14<>\"J\",ASISTENCIA!BR14<>\"F\"),SUMIF($F$13:$J$13,BU$13,$F15:$J15),\"\")","v":""},{"$f":"IF(AND(LEN($D15)>0,SUMIF($F$13:$J$13,BV$13,$F15:$J15)>0,ASISTENCIA!BS14<>\"X\",ASISTENCIA!BS14<>\"L\",ASISTENCIA!BS14<>\"J\",ASISTENCIA!BS14<>\"F\"),SUMIF($F$13:$J$13,BV$13,$F15:$J15),\"\")","v":""},{"$f":"IF(AND(LEN($D15)>0,SUMIF($F$13:$J$13,BW$13,$F15:$J15)>0,ASISTENCIA!BT14<>\"X\",ASISTENCIA!BT14<>\"L\",ASISTENCIA!BT14<>\"J\",ASISTENCIA!BT14<>\"F\"),SUMIF($F$13:$J$13,BW$13,$F15:$J15),\"\")","v":""},{"$f":"IF(AND(LEN($D15)>0,SUMIF($F$13:$J$13,BX$13,$F15:$J15)>0,ASISTENCIA!BU14<>\"X\",ASISTENCIA!BU14<>\"L\",ASISTENCIA!BU14<>\"J\",ASISTENCIA!BU14<>\"F\"),SUMIF($F$13:$J$13,BX$13,$F15:$J15),\"\")","v":""},{"$f":"IF(AND(LEN($D15)>0,SUMIF($F$13:$J$13,BY$13,$F15:$J15)>0,ASISTENCIA!BV14<>\"X\",ASISTENCIA!BV14<>\"L\",ASISTENCIA!BV14<>\"J\",ASISTENCIA!BV14<>\"F\"),SUMIF($F$13:$J$13,BY$13,$F15:$J15),\"\")","v":""},{"$f":"IF(AND(LEN($D15)>0,SUMIF($F$13:$J$13,BZ$13,$F15:$J15)>0,ASISTENCIA!BW14<>\"X\",ASISTENCIA!BW14<>\"L\",ASISTENCIA!BW14<>\"J\",ASISTENCIA!BW14<>\"F\"),SUMIF($F$13:$J$13,BZ$13,$F15:$J15),\"\")","v":""},{"$f":"IF(AND(LEN($D15)>0,SUMIF($F$13:$J$13,CA$13,$F15:$J15)>0,ASISTENCIA!BX14<>\"X\",ASISTENCIA!BX14<>\"L\",ASISTENCIA!BX14<>\"J\",ASISTENCIA!BX14<>\"F\"),SUMIF($F$13:$J$13,CA$13,$F15:$J15),\"\")","v":""},{"$f":"IF(AND(LEN($D15)>0,SUMIF($F$13:$J$13,CB$13,$F15:$J15)>0,ASISTENCIA!BY14<>\"X\",ASISTENCIA!BY14<>\"L\",ASISTENCIA!BY14<>\"J\",ASISTENCIA!BY14<>\"F\"),SUMIF($F$13:$J$13,CB$13,$F15:$J15),\"\")","v":""},{"$f":"IF(SUM(AX15:CB15)>0,SUM(AX15:CB15),\"\")","v":{"$error":"#REF!"}}]
[{"$f":"IF(LEN(B16)>0,1+A15,\"\")","v":{"$error":"#N/A"}},{"$f":"IF(LEN(C16)>0,VLOOKUP($O$4,DATA!$A$1:$S$1,2,FALSE),\"\")","v":{"$error":"#N/A"}},"JULIO",{"$f":"IF(LEN(ASISTENCIA!E15)>0,ASISTENCIA!E15,\"\")","v":"MEDINA ESTELA, Lázaro Moisés"},{"$f":"IF(LEN(D16)>0,ASISTENCIA!F15,\"\")","v":"Profesor"},null,null,null,null,null,"",null,null,{"$f":"CC16","v":{"$error":"#REF!"}},{"$f":"IF(AND(LEN($D16)>0,SUMIF($F$13:$J$13,O$13,$F16:$J16)>0,ASISTENCIA!I15<>\"X\",ASISTENCIA!I15<>\"L\",ASISTENCIA!I15<>\"J\",ASISTENCIA!I15<>\"V\",ASISTENCIA!I15<>\"F\",ASISTENCIA!I15<>\"\"),SUMIF($F$13:$J$13,O$13,$F16:$J16),\"\")","v":""},{"$f":"IF(AND(LEN($D16)>0,SUMIF($F$13:$J$13,P$13,$F16:$J16)>0,ASISTENCIA!J15<>\"X\",ASISTENCIA!J15<>\"L\",ASISTENCIA!J15<>\"J\",ASISTENCIA!J15<>\"V\",ASISTENCIA!J15<>\"F\",ASISTENCIA!J15<>\"\"),SUMIF($F$13:$J$13,P$13,$F16:$J16),\"\")","v":""},{"$f":"IF(AND(LEN($D16)>0,SUMIF($F$13:$J$13,Q$13,$F16:$J16)>0,ASISTENCIA!K15<>\"X\",ASISTENCIA!K15<>\"L\",ASISTENCIA!K15<>\"J\",ASISTENCIA!K15<>\"V\",ASISTENCIA!K15<>\"F\",ASISTENCIA!K15<>\"\"),SUMIF($F$13:$J$13,Q$13,$F16:$J16),\"\")","v":""},{"$f":"IF(AND(LEN($D16)>0,SUMIF($F$13:$J$13,R$13,$F16:$J16)>0,ASISTENCIA!L15<>\"X\",ASISTENCIA!L15<>\"L\",ASISTENCIA!L15<>\"J\",ASISTENCIA!L15<>\"V\",ASISTENCIA!L15<>\"F\",ASISTENCIA!L15<>\"\"),SUMIF($F$13:$J$13,R$13,$F16:$J16),\"\")","v":""},{"$f":"IF(AND(LEN($D16)>0,SUMIF($F$13:$J$13,S$13,$F16:$J16)>0,ASISTENCIA!M15<>\"X\",ASISTENCIA!M15<>\"L\",ASISTENCIA!M15<>\"J\",ASISTENCIA!M15<>\"V\",ASISTENCIA!M15<>\"F\",ASISTENCIA!M15<>\"\"),SUMIF($F$13:$J$13,S$13,$F16:$J16),\"\")","v":""},{"$f":"IF(AND(LEN($D16)>0,SUMIF($F$13:$J$13,T$13,$F16:$J16)>0,ASISTENCIA!N15<>\"X\",ASISTENCIA!N15<>\"L\",ASISTENCIA!N15<>\"J\",ASISTENCIA!N15<>\"V\",ASISTENCIA!N15<>\"F\",ASISTENCIA!N15<>\"\"),SUMIF($F$13:$J$13,T$13,$F16:$J16),\"\")","v":""},{"$f":"IF(AND(LEN($D16)>0,SUMIF($F$13:$J$13,U$13,$F16:$J16)>0,ASISTENCIA!O15<>\"X\",ASISTENCIA!O15<>\"L\",ASISTENCIA!O15<>\"J\",ASISTENCIA!O15<>\"V\",ASISTENCIA!O15<>\"F\",ASISTENCIA!O15<>\"\"),SUMIF($F$13:$J$13,U$13,$F16:$J16),\"\")","v":""},{"$f":"IF(AND(LEN($D16)>0,SUMIF($F$13:$J$13,V$13,$F16:$J16)>0,ASISTENCIA!P15<>\"X\",ASISTENCIA!P15<>\"L\",ASISTENCIA!P15<>\"J\",ASISTENCIA!P15<>\"V\",ASISTENCIA!P15<>\"F\",ASISTENCIA!P15<>\"\"),SUMIF($F$13:$J$13,V$13,$F16:$J16),\"\")","v":""},{"$f":"IF(AND(LEN($D16)>0,SUMIF($F$13:$J$13,W$13,$F16:$J16)>0,ASISTENCIA!Q15<>\"X\",ASISTENCIA!Q15<>\"L\",ASISTENCIA!Q15<>\"J\",ASISTENCIA!Q15<>\"V\",ASISTENCIA!Q15<>\"F\",ASISTENCIA!Q15<>\"\"),SUMIF($F$13:$J$13,W$13,$F16:$J16),\"\")","v":""},{"$f":"IF(AND(LEN($D16)>0,SUMIF($F$13:$J$13,X$13,$F16:$J16)>0,ASISTENCIA!R15<>\"X\",ASISTENCIA!R15<>\"L\",ASISTENCIA!R15<>\"J\",ASISTENCIA!R15<>\"V\",ASISTENCIA!R15<>\"F\",ASISTENCIA!R15<>\"\"),SUMIF($F$13:$J$13,X$13,$F16:$J16),\"\")","v":""},{"$f":"IF(AND(LEN($D16)>0,SUMIF($F$13:$J$13,Y$13,$F16:$J16)>0,ASISTENCIA!S15<>\"X\",ASISTENCIA!S15<>\"L\",ASISTENCIA!S15<>\"J\",ASISTENCIA!S15<>\"V\",ASISTENCIA!S15<>\"F\",ASISTENCIA!S15<>\"\"),SUMIF($F$13:$J$13,Y$13,$F16:$J16),\"\")","v":""},{"$f":"IF(AND(LEN($D16)>0,SUMIF($F$13:$J$13,Z$13,$F16:$J16)>0,ASISTENCIA!T15<>\"X\",ASISTENCIA!T15<>\"L\",ASISTENCIA!T15<>\"J\",ASISTENCIA!T15<>\"V\",ASISTENCIA!T15<>\"F\",ASISTENCIA!T15<>\"\"),SUMIF($F$13:$J$13,Z$13,$F16:$J16),\"\")","v":""},{"$f":"IF(AND(LEN($D16)>0,SUMIF($F$13:$J$13,AA$13,$F16:$J16)>0,ASISTENCIA!U15<>\"X\",ASISTENCIA!U15<>\"L\",ASISTENCIA!U15<>\"J\",ASISTENCIA!U15<>\"V\",ASISTENCIA!U15<>\"F\",ASISTENCIA!U15<>\"\"),SUMIF($F$13:$J$13,AA$13,$F16:$J16),\"\")","v":""},{"$f":"IF(AND(LEN($D16)>0,SUMIF($F$13:$J$13,AB$13,$F16:$J16)>0,ASISTENCIA!V15<>\"X\",ASISTENCIA!V15<>\"L\",ASISTENCIA!V15<>\"J\",ASISTENCIA!V15<>\"V\",ASISTENCIA!V15<>\"F\",ASISTENCIA!V15<>\"\"),SUMIF($F$13:$J$13,AB$13,$F16:$J16),\"\")","v":""},{"$f":"IF(AND(LEN($D16)>0,SUMIF($F$13:$J$13,AC$13,$F16:$J16)>0,ASISTENCIA!W15<>\"X\",ASISTENCIA!W15<>\"L\",ASISTENCIA!W15<>\"J\",ASISTENCIA!W15<>\"V\",ASISTENCIA!W15<>\"F\",ASISTENCIA!W15<>\"\"),SUMIF($F$13:$J$13,AC$13,$F16:$J16),\"\")","v":""},{"$f":"IF(AND(LEN($D16)>0,SUMIF($F$13:$J$13,AD$13,$F16:$J16)>0,ASISTENCIA!X15<>\"X\",ASISTENCIA!X15<>\"L\",ASISTENCIA!X15<>\"J\",ASISTENCIA!X15<>\"V\",ASISTENCIA!X15<>\"F\",ASISTENCIA!X15<>\"\"),SUMIF($F$13:$J$13,AD$13,$F16:$J16),\"\")","v":""},{"$f":"IF(AND(LEN($D16)>0,SUMIF($F$13:$J$13,AE$13,$F16:$J16)>0,ASISTENCIA!Y15<>\"X\",ASISTENCIA!Y15<>\"L\",ASISTENCIA!Y15<>\"J\",ASISTENCIA!Y15<>\"V\",ASISTENCIA!Y15<>\"F\",ASISTENCIA!Y15<>\"\"),SUMIF($F$13:$J$13,AE$13,$F16:$J16),\"\")","v":""},{"$f":"IF(AND(LEN($D16)>0,SUMIF($F$13:$J$13,AF$13,$F16:$J16)>0,ASISTENCIA!Z15<>\"X\",ASISTENCIA!Z15<>\"L\",ASISTENCIA!Z15<>\"J\",ASISTENCIA!Z15<>\"V\",ASISTENCIA!Z15<>\"F\",ASISTENCIA!Z15<>\"\"),SUMIF($F$13:$J$13,AF$13,$F16:$J16),\"\")","v":""},{"$f":"IF(AND(LEN($D16)>0,SUMIF($F$13:$J$13,AG$13,$F16:$J16)>0,ASISTENCIA!AA15<>\"X\",ASISTENCIA!AA15<>\"L\",ASISTENCIA!AA15<>\"J\",ASISTENCIA!AA15<>\"V\",ASISTENCIA!AA15<>\"F\",ASISTENCIA!AA15<>\"\"),SUMIF($F$13:$J$13,AG$13,$F16:$J16),\"\")","v":""},{"$f":"IF(AND(LEN($D16)>0,SUMIF($F$13:$J$13,AH$13,$F16:$J16)>0,ASISTENCIA!AB15<>\"X\",ASISTENCIA!AB15<>\"L\",ASISTENCIA!AB15<>\"J\",ASISTENCIA!AB15<>\"V\",ASISTENCIA!AB15<>\"F\",ASISTENCIA!AB15<>\"\"),SUMIF($F$13:$J$13,AH$13,$F16:$J16),\"\")","v":""},{"$f":"IF(AND(LEN($D16)>0,SUMIF($F$13:$J$13,AI$13,$F16:$J16)>0,ASISTENCIA!AC15<>\"X\",ASISTENCIA!AC15<>\"L\",ASISTENCIA!AC15<>\"J\",ASISTENCIA!AC15<>\"V\",ASISTENCIA!AC15<>\"F\",ASISTENCIA!AC15<>\"\"),SUMIF($F$13:$J$13,AI$13,$F16:$J16),\"\")","v":""},{"$f":"IF(AND(LEN($D16)>0,SUMIF($F$13:$J$13,AJ$13,$F16:$J16)>0,ASISTENCIA!AD15<>\"X\",ASISTENCIA!AD15<>\"L\",ASISTENCIA!AD15<>\"J\",ASISTENCIA!AD15<>\"V\",ASISTENCIA!AD15<>\"F\",ASISTENCIA!AD15<>\"\"),SUMIF($F$13:$J$13,AJ$13,$F16:$J16),\"\")","v":""},{"$f":"IF(AND(LEN($D16)>0,SUMIF($F$13:$J$13,AK$13,$F16:$J16)>0,ASISTENCIA!AE15<>\"X\",ASISTENCIA!AE15<>\"L\",ASISTENCIA!AE15<>\"J\",ASISTENCIA!AE15<>\"V\",ASISTENCIA!AE15<>\"F\",ASISTENCIA!AE15<>\"\"),SUMIF($F$13:$J$13,AK$13,$F16:$J16),\"\")","v":""},{"$f":"IF(AND(LEN($D16)>0,SUMIF($F$13:$J$13,AL$13,$F16:$J16)>0,ASISTENCIA!AF15<>\"X\",ASISTENCIA!AF15<>\"L\",ASISTENCIA!AF15<>\"J\",ASISTENCIA!AF15<>\"V\",ASISTENCIA!AF15<>\"F\",ASISTENCIA!AF15<>\"\"),SUMIF($F$13:$J$13,AL$13,$F16:$J16),\"\")","v":""},{"$f":"IF(AND(LEN($D16)>0,SUMIF($F$13:$J$13,AM$13,$F16:$J16)>0,ASISTENCIA!AG15<>\"X\",ASISTENCIA!AG15<>\"L\",ASISTENCIA!AG15<>\"J\",ASISTENCIA!AG15<>\"V\",ASISTENCIA!AG15<>\"F\",ASISTENCIA!AG15<>\"\"),SUMIF($F$13:$J$13,AM$13,$F16:$J16),\"\")","v":""},{"$f":"IF(AND(LEN($D16)>0,SUMIF($F$13:$J$13,AN$13,$F16:$J16)>0,ASISTENCIA!AH15<>\"X\",ASISTENCIA!AH15<>\"L\",ASISTENCIA!AH15<>\"J\",ASISTENCIA!AH15<>\"V\",ASISTENCIA!AH15<>\"F\",ASISTENCIA!AH15<>\"\"),SUMIF($F$13:$J$13,AN$13,$F16:$J16),\"\")","v":""},{"$f":"IF(AND(LEN($D16)>0,SUMIF($F$13:$J$13,AO$13,$F16:$J16)>0,ASISTENCIA!AI15<>\"X\",ASISTENCIA!AI15<>\"L\",ASISTENCIA!AI15<>\"J\",ASISTENCIA!AI15<>\"V\",ASISTENCIA!AI15<>\"F\",ASISTENCIA!AI15<>\"\"),SUMIF($F$13:$J$13,AO$13,$F16:$J16),\"\")","v":""},{"$f":"IF(AND(LEN($D16)>0,SUMIF($F$13:$J$13,AP$13,$F16:$J16)>0,ASISTENCIA!AJ15<>\"X\",ASISTENCIA!AJ15<>\"L\",ASISTENCIA!AJ15<>\"J\",ASISTENCIA!AJ15<>\"V\",ASISTENCIA!AJ15<>\"F\",ASISTENCIA!AJ15<>\"\"),SUMIF($F$13:$J$13,AP$13,$F16:$J16),\"\")","v":""},{"$f":"IF(AND(LEN($D16)>0,SUMIF($F$13:$J$13,AQ$13,$F16:$J16)>0,ASISTENCIA!AK15<>\"X\",ASISTENCIA!AK15<>\"L\",ASISTENCIA!AK15<>\"J\",ASISTENCIA!AK15<>\"V\",ASISTENCIA!AK15<>\"F\",ASISTENCIA!AK15<>\"\"),SUMIF($F$13:$J$13,AQ$13,$F16:$J16),\"\")","v":""},{"$f":"IF(AND(LEN($D16)>0,SUMIF($F$13:$J$13,AR$13,$F16:$J16)>0,ASISTENCIA!AL15<>\"X\",ASISTENCIA!AL15<>\"L\",ASISTENCIA!AL15<>\"J\",ASISTENCIA!AL15<>\"V\",ASISTENCIA!AL15<>\"F\",ASISTENCIA!AL15<>\"\"),SUMIF($F$13:$J$13,AR$13,$F16:$J16),\"\")","v":""},{"$f":"IF(AND(LEN($D16)>0,SUMIF($F$13:$J$13,AS$13,$F16:$J16)>0,ASISTENCIA!AM15<>\"X\",ASISTENCIA!AM15<>\"L\",ASISTENCIA!AM15<>\"J\",ASISTENCIA!AM15<>\"V\",ASISTENCIA!AM15<>\"F\",ASISTENCIA!AM15<>\"\"),SUMIF($F$13:$J$13,AS$13,$F16:$J16),\"\")","v":""},"",null,null,null,{"$f":"IF(AND(LEN($D16)>0,SUMIF($F$13:$J$13,AX$13,$F16:$J16)>0,ASISTENCIA!AU15<>\"X\",ASISTENCIA!AU15<>\"L\",ASISTENCIA!AU15<>\"J\",ASISTENCIA!AU15<>\"F\"),SUMIF($F$13:$J$13,AX$13,$F16:$J16),\"\")","v":""},{"$f":"IF(AND(LEN($D16)>0,SUMIF($F$13:$J$13,AY$13,$F16:$J16)>0,ASISTENCIA!#REF!<>\"X\",ASISTENCIA!#REF!<>\"L\",ASISTENCIA!#REF!<>\"J\",ASISTENCIA!#REF!<>\"F\"),SUMIF($F$13:$J$13,AY$13,$F16:$J16),\"\")","v":{"$error":"#REF!"}},{"$f":"IF(AND(LEN($D16)>0,SUMIF($F$13:$J$13,AZ$13,$F16:$J16)>0,ASISTENCIA!BF15<>\"X\",ASISTENCIA!BF15<>\"L\",ASISTENCIA!BF15<>\"J\",ASISTENCIA!BF15<>\"F\"),SUMIF($F$13:$J$13,AZ$13,$F16:$J16),\"\")","v":""},{"$f":"IF(AND(LEN($D16)>0,SUMIF($F$13:$J$13,BA$13,$F16:$J16)>0,ASISTENCIA!BG15<>\"X\",ASISTENCIA!BG15<>\"L\",ASISTENCIA!BG15<>\"J\",ASISTENCIA!BG15<>\"F\"),SUMIF($F$13:$J$13,BA$13,$F16:$J16),\"\")","v":""},{"$f":"IF(AND(LEN($D16)>0,SUMIF($F$13:$J$13,BB$13,$F16:$J16)>0,ASISTENCIA!BH15<>\"X\",ASISTENCIA!BH15<>\"L\",ASISTENCIA!BH15<>\"J\",ASISTENCIA!BH15<>\"F\"),SUMIF($F$13:$J$13,BB$13,$F16:$J16),\"\")","v":""},{"$f":"IF(AND(LEN($D16)>0,SUMIF($F$13:$J$13,BC$13,$F16:$J16)>0,ASISTENCIA!AZ15<>\"X\",ASISTENCIA!AZ15<>\"L\",ASISTENCIA!AZ15<>\"J\",ASISTENCIA!AZ15<>\"F\"),SUMIF($F$13:$J$13,BC$13,$F16:$J16),\"\")","v":""},{"$f":"IF(AND(LEN($D16)>0,SUMIF($F$13:$J$13,BD$13,$F16:$J16)>0,ASISTENCIA!BA15<>\"X\",ASISTENCIA!BA15<>\"L\",ASISTENCIA!BA15<>\"J\",ASISTENCIA!BA15<>\"F\"),SUMIF($F$13:$J$13,BD$13,$F16:$J16),\"\")","v":""},{"$f":"IF(AND(LEN($D16)>0,SUMIF($F$13:$J$13,BE$13,$F16:$J16)>0,ASISTENCIA!BB15<>\"X\",ASISTENCIA!BB15<>\"L\",ASISTENCIA!BB15<>\"J\",ASISTENCIA!BB15<>\"F\"),SUMIF($F$13:$J$13,BE$13,$F16:$J16),\"\")","v":""},{"$f":"IF(AND(LEN($D16)>0,SUMIF($F$13:$J$13,BF$13,$F16:$J16)>0,ASISTENCIA!#REF!<>\"X\",ASISTENCIA!#REF!<>\"L\",ASISTENCIA!#REF!<>\"J\",ASISTENCIA!#REF!<>\"F\"),SUMIF($F$13:$J$13,BF$13,$F16:$J16),\"\")","v":{"$error":"#REF!"}},{"$f":"IF(AND(LEN($D16)>0,SUMIF($F$13:$J$13,BG$13,$F16:$J16)>0,ASISTENCIA!#REF!<>\"X\",ASISTENCIA!#REF!<>\"L\",ASISTENCIA!#REF!<>\"J\",ASISTENCIA!#REF!<>\"F\"),SUMIF($F$13:$J$13,BG$13,$F16:$J16),\"\")","v":{"$error":"#REF!"}},{"$f":"IF(AND(LEN($D16)>0,SUMIF($F$13:$J$13,BH$13,$F16:$J16)>0,ASISTENCIA!#REF!<>\"X\",ASISTENCIA!#REF!<>\"L\",ASISTENCIA!#REF!<>\"J\",ASISTENCIA!#REF!<>\"F\"),SUMIF($F$13:$J$13,BH$13,$F16:$J16),\"\")","v":{"$error":"#REF!"}},{"$f":"IF(AND(LEN($D16)>0,SUMIF($F$13:$J$13,BI$13,$F16:$J16)>0,ASISTENCIA!#REF!<>\"X\",ASISTENCIA!#REF!<>\"L\",ASISTENCIA!#REF!<>\"J\",ASISTENCIA!#REF!<>\"F\"),SUMIF($F$13:$J$13,BI$13,$F16:$J16),\"\")","v":{"$error":"#REF!"}},{"$f":"IF(AND(LEN($D16)>0,SUMIF($F$13:$J$13,BJ$13,$F16:$J16)>0,ASISTENCIA!#REF!<>\"X\",ASISTENCIA!#REF!<>\"L\",ASISTENCIA!#REF!<>\"J\",ASISTENCIA!#REF!<>\"F\"),SUMIF($F$13:$J$13,BJ$13,$F16:$J16),\"\")","v":{"$error":"#REF!"}},{"$f":"IF(AND(LEN($D16)>0,SUMIF($F$13:$J$13,BK$13,$F16:$J16)>0,ASISTENCIA!#REF!<>\"X\",ASISTENCIA!#REF!<>\"L\",ASISTENCIA!#REF!<>\"J\",ASISTENCIA!#REF!<>\"F\"),SUMIF($F$13:$J$13,BK$13,$F16:$J16),\"\")","v":{"$error":"#REF!"}},{"$f":"IF(AND(LEN($D16)>0,SUMIF($F$13:$J$13,BL$13,$F16:$J16)>0,ASISTENCIA!BI15<>\"X\",ASISTENCIA!BI15<>\"L\",ASISTENCIA!BI15<>\"J\",ASISTENCIA!BI15<>\"F\"),SUMIF($F$13:$J$13,BL$13,$F16:$J16),\"\")","v":""},{"$f":"IF(AND(LEN($D16)>0,SUMIF($F$13:$J$13,BM$13,$F16:$J16)>0,ASISTENCIA!BJ15<>\"X\",ASISTENCIA!BJ15<>\"L\",ASISTENCIA!BJ15<>\"J\",ASISTENCIA!BJ15<>\"F\"),SUMIF($F$13:$J$13,BM$13,$F16:$J16),\"\")","v":""},{"$f":"IF(AND(LEN($D16)>0,SUMIF($F$13:$J$13,BN$13,$F16:$J16)>0,ASISTENCIA!BK15<>\"X\",ASISTENCIA!BK15<>\"L\",ASISTENCIA!BK15<>\"J\",ASISTENCIA!BK15<>\"F\"),SUMIF($F$13:$J$13,BN$13,$F16:$J16),\"\")","v":""},{"$f":"IF(AND(LEN($D16)>0,SUMIF($F$13:$J$13,BO$13,$F16:$J16)>0,ASISTENCIA!BL15<>\"X\",ASISTENCIA!BL15<>\"L\",ASISTENCIA!BL15<>\"J\",ASISTENCIA!BL15<>\"F\"),SUMIF($F$13:$J$13,BO$13,$F16:$J16),\"\")","v":""},{"$f":"IF(AND(LEN($D16)>0,SUMIF($F$13:$J$13,BP$13,$F16:$J16)>0,ASISTENCIA!BM15<>\"X\",ASISTENCIA!BM15<>\"L\",ASISTENCIA!BM15<>\"J\",ASISTENCIA!BM15<>\"F\"),SUMIF($F$13:$J$13,BP$13,$F16:$J16),\"\")","v":""},{"$f":"IF(AND(LEN($D16)>0,SUMIF($F$13:$J$13,BQ$13,$F16:$J16)>0,ASISTENCIA!BN15<>\"X\",ASISTENCIA!BN15<>\"L\",ASISTENCIA!BN15<>\"J\",ASISTENCIA!BN15<>\"F\"),SUMIF($F$13:$J$13,BQ$13,$F16:$J16),\"\")","v":""},{"$f":"IF(AND(LEN($D16)>0,SUMIF($F$13:$J$13,BR$13,$F16:$J16)>0,ASISTENCIA!BO15<>\"X\",ASISTENCIA!BO15<>\"L\",ASISTENCIA!BO15<>\"J\",ASISTENCIA!BO15<>\"F\"),SUMIF($F$13:$J$13,BR$13,$F16:$J16),\"\")","v":""},{"$f":"IF(AND(LEN($D16)>0,SUMIF($F$13:$J$13,BS$13,$F16:$J16)>0,ASISTENCIA!BP15<>\"X\",ASISTENCIA!BP15<>\"L\",ASISTENCIA!BP15<>\"J\",ASISTENCIA!BP15<>\"F\"),SUMIF($F$13:$J$13,BS$13,$F16:$J16),\"\")","v":""},{"$f":"IF(AND(LEN($D16)>0,SUMIF($F$13:$J$13,BT$13,$F16:$J16)>0,ASISTENCIA!BQ15<>\"X\",ASISTENCIA!BQ15<>\"L\",ASISTENCIA!BQ15<>\"J\",ASISTENCIA!BQ15<>\"F\"),SUMIF($F$13:$J$13,BT$13,$F16:$J16),\"\")","v":""},{"$f":"IF(AND(LEN($D16)>0,SUMIF($F$13:$J$13,BU$13,$F16:$J16)>0,ASISTENCIA!BR15<>\"X\",ASISTENCIA!BR15<>\"L\",ASISTENCIA!BR15<>\"J\",ASISTENCIA!BR15<>\"F\"),SUMIF($F$13:$J$13,BU$13,$F16:$J16),\"\")","v":""},{"$f":"IF(AND(LEN($D16)>0,SUMIF($F$13:$J$13,BV$13,$F16:$J16)>0,ASISTENCIA!BS15<>\"X\",ASISTENCIA!BS15<>\"L\",ASISTENCIA!BS15<>\"J\",ASISTENCIA!BS15<>\"F\"),SUMIF($F$13:$J$13,BV$13,$F16:$J16),\"\")","v":""},{"$f":"IF(AND(LEN($D16)>0,SUMIF($F$13:$J$13,BW$13,$F16:$J16)>0,ASISTENCIA!BT15<>\"X\",ASISTENCIA!BT15<>\"L\",ASISTENCIA!BT15<>\"J\",ASISTENCIA!BT15<>\"F\"),SUMIF($F$13:$J$13,BW$13,$F16:$J16),\"\")","v":""},{"$f":"IF(AND(LEN($D16)>0,SUMIF($F$13:$J$13,BX$13,$F16:$J16)>0,ASISTENCIA!BU15<>\"X\",ASISTENCIA!BU15<>\"L\",ASISTENCIA!BU15<>\"J\",ASISTENCIA!BU15<>\"F\"),SUMIF($F$13:$J$13,BX$13,$F16:$J16),\"\")","v":""},{"$f":"IF(AND(LEN($D16)>0,SUMIF($F$13:$J$13,BY$13,$F16:$J16)>0,ASISTENCIA!BV15<>\"X\",ASISTENCIA!BV15<>\"L\",ASISTENCIA!BV15<>\"J\",ASISTENCIA!BV15<>\"F\"),SUMIF($F$13:$J$13,BY$13,$F16:$J16),\"\")","v":""},{"$f":"IF(AND(LEN($D16)>0,SUMIF($F$13:$J$13,BZ$13,$F16:$J16)>0,ASISTENCIA!BW15<>\"X\",ASISTENCIA!BW15<>\"L\",ASISTENCIA!BW15<>\"J\",ASISTENCIA!BW15<>\"F\"),SUMIF($F$13:$J$13,BZ$13,$F16:$J16),\"\")","v":""},{"$f":"IF(AND(LEN($D16)>0,SUMIF($F$13:$J$13,CA$13,$F16:$J16)>0,ASISTENCIA!BX15<>\"X\",ASISTENCIA!BX15<>\"L\",ASISTENCIA!BX15<>\"J\",ASISTENCIA!BX15<>\"F\"),SUMIF($F$13:$J$13,CA$13,$F16:$J16),\"\")","v":""},{"$f":"IF(AND(LEN($D16)>0,SUMIF($F$13:$J$13,CB$13,$F16:$J16)>0,ASISTENCIA!BY15<>\"X\",ASISTENCIA!BY15<>\"L\",ASISTENCIA!BY15<>\"J\",ASISTENCIA!BY15<>\"F\"),SUMIF($F$13:$J$13,CB$13,$F16:$J16),\"\")","v":""},{"$error":"#REF!"}]
[{"$error":"#N/A"},{"$f":"IF(LEN(C17)>0,VLOOKUP($O$4,DATA!$A$1:$S$1,2,FALSE),\"\")","v":{"$error":"#N/A"}},"JULIO",{"$f":"IF(LEN(ASISTENCIA!E16)>0,ASISTENCIA!E16,\"\")","v":"VELASQUEZ FLORES, Dennis Edgar"},{"$f":"IF(LEN(D17)>0,ASISTENCIA!F16,\"\")","v":"Profesor"},null,null,null,null,null,"",null,null,{"$error":"#REF!"},{"$f":"IF(AND(LEN($D17)>0,SUMIF($F$13:$J$13,O$13,$F17:$J17)>0,ASISTENCIA!I16<>\"X\",ASISTENCIA!I16<>\"L\",ASISTENCIA!I16<>\"J\",ASISTENCIA!I16<>\"V\",ASISTENCIA!I16<>\"F\",ASISTENCIA!I16<>\"\"),SUMIF($F$13:$J$13,O$13,$F17:$J17),\"\")","v":""},{"$f":"IF(AND(LEN($D17)>0,SUMIF($F$13:$J$13,P$13,$F17:$J17)>0,ASISTENCIA!J16<>\"X\",ASISTENCIA!J16<>\"L\",ASISTENCIA!J16<>\"J\",ASISTENCIA!J16<>\"V\",ASISTENCIA!J16<>\"F\",ASISTENCIA!J16<>\"\"),SUMIF($F$13:$J$13,P$13,$F17:$J17),\"\")","v":""},{"$f":"IF(AND(LEN($D17)>0,SUMIF($F$13:$J$13,Q$13,$F17:$J17)>0,ASISTENCIA!K16<>\"X\",ASISTENCIA!K16<>\"L\",ASISTENCIA!K16<>\"J\",ASISTENCIA!K16<>\"V\",ASISTENCIA!K16<>\"F\",ASISTENCIA!K16<>\"\"),SUMIF($F$13:$J$13,Q$13,$F17:$J17),\"\")","v":""},{"$f":"IF(AND(LEN($D17)>0,SUMIF($F$13:$J$13,R$13,$F17:$J17)>0,ASISTENCIA!L16<>\"X\",ASISTENCIA!L16<>\"L\",ASISTENCIA!L16<>\"J\",ASISTENCIA!L16<>\"V\",ASISTENCIA!L16<>\"F\",ASISTENCIA!L16<>\"\"),SUMIF($F$13:$J$13,R$13,$F17:$J17),\"\")","v":""},{"$f":"IF(AND(LEN($D17)>0,SUMIF($F$13:$J$13,S$13,$F17:$J17)>0,ASISTENCIA!M16<>\"X\",ASISTENCIA!M16<>\"L\",ASISTENCIA!M16<>\"J\",ASISTENCIA!M16<>\"V\",ASISTENCIA!M16<>\"F\",ASISTENCIA!M16<>\"\"),SUMIF($F$13:$J$13,S$13,$F17:$J17),\"\")","v":""},{"$f":"IF(AND(LEN($D17)>0,SUMIF($F$13:$J$13,T$13,$F17:$J17)>0,ASISTENCIA!N16<>\"X\",ASISTENCIA!N16<>\"L\",ASISTENCIA!N16<>\"J\",ASISTENCIA!N16<>\"V\",ASISTENCIA!N16<>\"F\",ASISTENCIA!N16<>\"\"),SUMIF($F$13:$J$13,T$13,$F17:$J17),\"\")","v":""},{"$f":"IF(AND(LEN($D17)>0,SUMIF($F$13:$J$13,U$13,$F17:$J17)>0,ASISTENCIA!O16<>\"X\",ASISTENCIA!O16<>\"L\",ASISTENCIA!O16<>\"J\",ASISTENCIA!O16<>\"V\",ASISTENCIA!O16<>\"F\",ASISTENCIA!O16<>\"\"),SUMIF($F$13:$J$13,U$13,$F17:$J17),\"\")","v":""},{"$f":"IF(AND(LEN($D17)>0,SUMIF($F$13:$J$13,V$13,$F17:$J17)>0,ASISTENCIA!P16<>\"X\",ASISTENCIA!P16<>\"L\",ASISTENCIA!P16<>\"J\",ASISTENCIA!P16<>\"V\",ASISTENCIA!P16<>\"F\",ASISTENCIA!P16<>\"\"),SUMIF($F$13:$J$13,V$13,$F17:$J17),\"\")","v":""},{"$f":"IF(AND(LEN($D17)>0,SUMIF($F$13:$J$13,W$13,$F17:$J17)>0,ASISTENCIA!Q16<>\"X\",ASISTENCIA!Q16<>\"L\",ASISTENCIA!Q16<>\"J\",ASISTENCIA!Q16<>\"V\",ASISTENCIA!Q16<>\"F\",ASISTENCIA!Q16<>\"\"),SUMIF($F$13:$J$13,W$13,$F17:$J17),\"\")","v":""},{"$f":"IF(AND(LEN($D17)>0,SUMIF($F$13:$J$13,X$13,$F17:$J17)>0,ASISTENCIA!R16<>\"X\",ASISTENCIA!R16<>\"L\",ASISTENCIA!R16<>\"J\",ASISTENCIA!R16<>\"V\",ASISTENCIA!R16<>\"F\",ASISTENCIA!R16<>\"\"),SUMIF($F$13:$J$13,X$13,$F17:$J17),\"\")","v":""},{"$f":"IF(AND(LEN($D17)>0,SUMIF($F$13:$J$13,Y$13,$F17:$J17)>0,ASISTENCIA!S16<>\"X\",ASISTENCIA!S16<>\"L\",ASISTENCIA!S16<>\"J\",ASISTENCIA!S16<>\"V\",ASISTENCIA!S16<>\"F\",ASISTENCIA!S16<>\"\"),SUMIF($F$13:$J$13,Y$13,$F17:$J17),\"\")","v":""},{"$f":"IF(AND(LEN($D17)>0,SUMIF($F$13:$J$13,Z$13,$F17:$J17)>0,ASISTENCIA!T16<>\"X\",ASISTENCIA!T16<>\"L\",ASISTENCIA!T16<>\"J\",ASISTENCIA!T16<>\"V\",ASISTENCIA!T16<>\"F\",ASISTENCIA!T16<>\"\"),SUMIF($F$13:$J$13,Z$13,$F17:$J17),\"\")","v":""},{"$f":"IF(AND(LEN($D17)>0,SUMIF($F$13:$J$13,AA$13,$F17:$J17)>0,ASISTENCIA!U16<>\"X\",ASISTENCIA!U16<>\"L\",ASISTENCIA!U16<>\"J\",ASISTENCIA!U16<>\"V\",ASISTENCIA!U16<>\"F\",ASISTENCIA!U16<>\"\"),SUMIF($F$13:$J$13,AA$13,$F17:$J17),\"\")","v":""},{"$f":"IF(AND(LEN($D17)>0,SUMIF($F$13:$J$13,AB$13,$F17:$J17)>0,ASISTENCIA!V16<>\"X\",ASISTENCIA!V16<>\"L\",ASISTENCIA!V16<>\"J\",ASISTENCIA!V16<>\"V\",ASISTENCIA!V16<>\"F\",ASISTENCIA!V16<>\"\"),SUMIF($F$13:$J$13,AB$13,$F17:$J17),\"\")","v":""},{"$f":"IF(AND(LEN($D17)>0,SUMIF($F$13:$J$13,AC$13,$F17:$J17)>0,ASISTENCIA!W16<>\"X\",ASISTENCIA!W16<>\"L\",ASISTENCIA!W16<>\"J\",ASISTENCIA!W16<>\"V\",ASISTENCIA!W16<>\"F\",ASISTENCIA!W16<>\"\"),SUMIF($F$13:$J$13,AC$13,$F17:$J17),\"\")","v":""},{"$f":"IF(AND(LEN($D17)>0,SUMIF($F$13:$J$13,AD$13,$F17:$J17)>0,ASISTENCIA!X16<>\"X\",ASISTENCIA!X16<>\"L\",ASISTENCIA!X16<>\"J\",ASISTENCIA!X16<>\"V\",ASISTENCIA!X16<>\"F\",ASISTENCIA!X16<>\"\"),SUMIF($F$13:$J$13,AD$13,$F17:$J17),\"\")","v":""},{"$f":"IF(AND(LEN($D17)>0,SUMIF($F$13:$J$13,AE$13,$F17:$J17)>0,ASISTENCIA!Y16<>\"X\",ASISTENCIA!Y16<>\"L\",ASISTENCIA!Y16<>\"J\",ASISTENCIA!Y16<>\"V\",ASISTENCIA!Y16<>\"F\",ASISTENCIA!Y16<>\"\"),SUMIF($F$13:$J$13,AE$13,$F17:$J17),\"\")","v":""},{"$f":"IF(AND(LEN($D17)>0,SUMIF($F$13:$J$13,AF$13,$F17:$J17)>0,ASISTENCIA!Z16<>\"X\",ASISTENCIA!Z16<>\"L\",ASISTENCIA!Z16<>\"J\",ASISTENCIA!Z16<>\"V\",ASISTENCIA!Z16<>\"F\",ASISTENCIA!Z16<>\"\"),SUMIF($F$13:$J$13,AF$13,$F17:$J17),\"\")","v":""},{"$f":"IF(AND(LEN($D17)>0,SUMIF($F$13:$J$13,AG$13,$F17:$J17)>0,ASISTENCIA!AA16<>\"X\",ASISTENCIA!AA16<>\"L\",ASISTENCIA!AA16<>\"J\",ASISTENCIA!AA16<>\"V\",ASISTENCIA!AA16<>\"F\",ASISTENCIA!AA16<>\"\"),SUMIF($F$13:$J$13,AG$13,$F17:$J17),\"\")","v":""},{"$f":"IF(AND(LEN($D17)>0,SUMIF($F$13:$J$13,AH$13,$F17:$J17)>0,ASISTENCIA!AB16<>\"X\",ASISTENCIA!AB16<>\"L\",ASISTENCIA!AB16<>\"J\",ASISTENCIA!AB16<>\"V\",ASISTENCIA!AB16<>\"F\",ASISTENCIA!AB16<>\"\"),SUMIF($F$13:$J$13,AH$13,$F17:$J17),\"\")","v":""},{"$f":"IF(AND(LEN($D17)>0,SUMIF($F$13:$J$13,AI$13,$F17:$J17)>0,ASISTENCIA!AC16<>\"X\",ASISTENCIA!AC16<>\"L\",ASISTENCIA!AC16<>\"J\",ASISTENCIA!AC16<>\"V\",ASISTENCIA!AC16<>\"F\",ASISTENCIA!AC16<>\"\"),SUMIF($F$13:$J$13,AI$13,$F17:$J17),\"\")","v":""},{"$f":"IF(AND(LEN($D17)>0,SUMIF($F$13:$J$13,AJ$13,$F17:$J17)>0,ASISTENCIA!AD16<>\"X\",ASISTENCIA!AD16<>\"L\",ASISTENCIA!AD16<>\"J\",ASISTENCIA!AD16<>\"V\",ASISTENCIA!AD16<>\"F\",ASISTENCIA!AD16<>\"\"),SUMIF($F$13:$J$13,AJ$13,$F17:$J17),\"\")","v":""},{"$f":"IF(AND(LEN($D17)>0,SUMIF($F$13:$J$13,AK$13,$F17:$J17)>0,ASISTENCIA!AE16<>\"X\",ASISTENCIA!AE16<>\"L\",ASISTENCIA!AE16<>\"J\",ASISTENCIA!AE16<>\"V\",ASISTENCIA!AE16<>\"F\",ASISTENCIA!AE16<>\"\"),SUMIF($F$13:$J$13,AK$13,$F17:$J17),\"\")","v":""},{"$f":"IF(AND(LEN($D17)>0,SUMIF($F$13:$J$13,AL$13,$F17:$J17)>0,ASISTENCIA!AF16<>\"X\",ASISTENCIA!AF16<>\"L\",ASISTENCIA!AF16<>\"J\",ASISTENCIA!AF16<>\"V\",ASISTENCIA!AF16<>\"F\",ASISTENCIA!AF16<>\"\"),SUMIF($F$13:$J$13,AL$13,$F17:$J17),\"\")","v":""},{"$f":"IF(AND(LEN($D17)>0,SUMIF($F$13:$J$13,AM$13,$F17:$J17)>0,ASISTENCIA!AG16<>\"X\",ASISTENCIA!AG16<>\"L\",ASISTENCIA!AG16<>\"J\",ASISTENCIA!AG16<>\"V\",ASISTENCIA!AG16<>\"F\",ASISTENCIA!AG16<>\"\"),SUMIF($F$13:$J$13,AM$13,$F17:$J17),\"\")","v":""},{"$f":"IF(AND(LEN($D17)>0,SUMIF($F$13:$J$13,AN$13,$F17:$J17)>0,ASISTENCIA!AH16<>\"X\",ASISTENCIA!AH16<>\"L\",ASISTENCIA!AH16<>\"J\",ASISTENCIA!AH16<>\"V\",ASISTENCIA!AH16<>\"F\",ASISTENCIA!AH16<>\"\"),SUMIF($F$13:$J$13,AN$13,$F17:$J17),\"\")","v":""},{"$f":"IF(AND(LEN($D17)>0,SUMIF($F$13:$J$13,AO$13,$F17:$J17)>0,ASISTENCIA!AI16<>\"X\",ASISTENCIA!AI16<>\"L\",ASISTENCIA!AI16<>\"J\",ASISTENCIA!AI16<>\"V\",ASISTENCIA!AI16<>\"F\",ASISTENCIA!AI16<>\"\"),SUMIF($F$13:$J$13,AO$13,$F17:$J17),\"\")","v":""},{"$f":"IF(AND(LEN($D17)>0,SUMIF($F$13:$J$13,AP$13,$F17:$J17)>0,ASISTENCIA!AJ16<>\"X\",ASISTENCIA!AJ16<>\"L\",ASISTENCIA!AJ16<>\"J\",ASISTENCIA!AJ16<>\"V\",ASISTENCIA!AJ16<>\"F\",ASISTENCIA!AJ16<>\"\"),SUMIF($F$13:$J$13,AP$13,$F17:$J17),\"\")","v":""},{"$f":"IF(AND(LEN($D17)>0,SUMIF($F$13:$J$13,AQ$13,$F17:$J17)>0,ASISTENCIA!AK16<>\"X\",ASISTENCIA!AK16<>\"L\",ASISTENCIA!AK16<>\"J\",ASISTENCIA!AK16<>\"V\",ASISTENCIA!AK16<>\"F\",ASISTENCIA!AK16<>\"\"),SUMIF($F$13:$J$13,AQ$13,$F17:$J17),\"\")","v":""},{"$f":"IF(AND(LEN($D17)>0,SUMIF($F$13:$J$13,AR$13,$F17:$J17)>0,ASISTENCIA!AL16<>\"X\",ASISTENCIA!AL16<>\"L\",ASISTENCIA!AL16<>\"J\",ASISTENCIA!AL16<>\"V\",ASISTENCIA!AL16<>\"F\",ASISTENCIA!AL16<>\"\"),SUMIF($F$13:$J$13,AR$13,$F17:$J17),\"\")","v":""},{"$f":"IF(AND(LEN($D17)>0,SUMIF($F$13:$J$13,AS$13,$F17:$J17)>0,ASISTENCIA!AM16<>\"X\",ASISTENCIA!AM16<>\"L\",ASISTENCIA!AM16<>\"J\",ASISTENCIA!AM16<>\"V\",ASISTENCIA!AM16<>\"F\",ASISTENCIA!AM16<>\"\"),SUMIF($F$13:$J$13,AS$13,$F17:$J17),\"\")","v":""},"",null,null,null,{"$f":"IF(AND(LEN($D17)>0,SUMIF($F$13:$J$13,AX$13,$F17:$J17)>0,ASISTENCIA!AU16<>\"X\",ASISTENCIA!AU16<>\"L\",ASISTENCIA!AU16<>\"J\",ASISTENCIA!AU16<>\"F\"),SUMIF($F$13:$J$13,AX$13,$F17:$J17),\"\")","v":""},{"$f":"IF(AND(LEN($D17)>0,SUMIF($F$13:$J$13,AY$13,$F17:$J17)>0,ASISTENCIA!#REF!<>\"X\",ASISTENCIA!#REF!<>\"L\",ASISTENCIA!#REF!<>\"J\",ASISTENCIA!#REF!<>\"F\"),SUMIF($F$13:$J$13,AY$13,$F17:$J17),\"\")","v":{"$error":"#REF!"}},{"$f":"IF(AND(LEN($D17)>0,SUMIF($F$13:$J$13,AZ$13,$F17:$J17)>0,ASISTENCIA!BF16<>\"X\",ASISTENCIA!BF16<>\"L\",ASISTENCIA!BF16<>\"J\",ASISTENCIA!BF16<>\"F\"),SUMIF($F$13:$J$13,AZ$13,$F17:$J17),\"\")","v":""},{"$f":"IF(AND(LEN($D17)>0,SUMIF($F$13:$J$13,BA$13,$F17:$J17)>0,ASISTENCIA!BG16<>\"X\",ASISTENCIA!BG16<>\"L\",ASISTENCIA!BG16<>\"J\",ASISTENCIA!BG16<>\"F\"),SUMIF($F$13:$J$13,BA$13,$F17:$J17),\"\")","v":""},{"$f":"IF(AND(LEN($D17)>0,SUMIF($F$13:$J$13,BB$13,$F17:$J17)>0,ASISTENCIA!BH16<>\"X\",ASISTENCIA!BH16<>\"L\",ASISTENCIA!BH16<>\"J\",ASISTENCIA!BH16<>\"F\"),SUMIF($F$13:$J$13,BB$13,$F17:$J17),\"\")","v":""},{"$f":"IF(AND(LEN($D17)>0,SUMIF($F$13:$J$13,BC$13,$F17:$J17)>0,ASISTENCIA!AZ16<>\"X\",ASISTENCIA!AZ16<>\"L\",ASISTENCIA!AZ16<>\"J\",ASISTENCIA!AZ16<>\"F\"),SUMIF($F$13:$J$13,BC$13,$F17:$J17),\"\")","v":""},{"$f":"IF(AND(LEN($D17)>0,SUMIF($F$13:$J$13,BD$13,$F17:$J17)>0,ASISTENCIA!BA16<>\"X\",ASISTENCIA!BA16<>\"L\",ASISTENCIA!BA16<>\"J\",ASISTENCIA!BA16<>\"F\"),SUMIF($F$13:$J$13,BD$13,$F17:$J17),\"\")","v":""},{"$f":"IF(AND(LEN($D17)>0,SUMIF($F$13:$J$13,BE$13,$F17:$J17)>0,ASISTENCIA!BB16<>\"X\",ASISTENCIA!BB16<>\"L\",ASISTENCIA!BB16<>\"J\",ASISTENCIA!BB16<>\"F\"),SUMIF($F$13:$J$13,BE$13,$F17:$J17),\"\")","v":""},{"$f":"IF(AND(LEN($D17)>0,SUMIF($F$13:$J$13,BF$13,$F17:$J17)>0,ASISTENCIA!#REF!<>\"X\",ASISTENCIA!#REF!<>\"L\",ASISTENCIA!#REF!<>\"J\",ASISTENCIA!#REF!<>\"F\"),SUMIF($F$13:$J$13,BF$13,$F17:$J17),\"\")","v":{"$error":"#REF!"}},{"$f":"IF(AND(LEN($D17)>0,SUMIF($F$13:$J$13,BG$13,$F17:$J17)>0,ASISTENCIA!#REF!<>\"X\",ASISTENCIA!#REF!<>\"L\",ASISTENCIA!#REF!<>\"J\",ASISTENCIA!#REF!<>\"F\"),SUMIF($F$13:$J$13,BG$13,$F17:$J17),\"\")","v":{"$error":"#REF!"}},{"$f":"IF(AND(LEN($D17)>0,SUMIF($F$13:$J$13,BH$13,$F17:$J17)>0,ASISTENCIA!#REF!<>\"X\",ASISTENCIA!#REF!<>\"L\",ASISTENCIA!#REF!<>\"J\",ASISTENCIA!#REF!<>\"F\"),SUMIF($F$13:$J$13,BH$13,$F17:$J17),\"\")","v":{"$error":"#REF!"}},{"$f":"IF(AND(LEN($D17)>0,SUMIF($F$13:$J$13,BI$13,$F17:$J17)>0,ASISTENCIA!#REF!<>\"X\",ASISTENCIA!#REF!<>\"L\",ASISTENCIA!#REF!<>\"J\",ASISTENCIA!#REF!<>\"F\"),SUMIF($F$13:$J$13,BI$13,$F17:$J17),\"\")","v":{"$error":"#REF!"}},{"$f":"IF(AND(LEN($D17)>0,SUMIF($F$13:$J$13,BJ$13,$F17:$J17)>0,ASISTENCIA!#REF!<>\"X\",ASISTENCIA!#REF!<>\"L\",ASISTENCIA!#REF!<>\"J\",ASISTENCIA!#REF!<>\"F\"),SUMIF($F$13:$J$13,BJ$13,$F17:$J17),\"\")","v":{"$error":"#REF!"}},{"$f":"IF(AND(LEN($D17)>0,SUMIF($F$13:$J$13,BK$13,$F17:$J17)>0,ASISTENCIA!#REF!<>\"X\",ASISTENCIA!#REF!<>\"L\",ASISTENCIA!#REF!<>\"J\",ASISTENCIA!#REF!<>\"F\"),SUMIF($F$13:$J$13,BK$13,$F17:$J17),\"\")","v":{"$error":"#REF!"}},{"$f":"IF(AND(LEN($D17)>0,SUMIF($F$13:$J$13,BL$13,$F17:$J17)>0,ASISTENCIA!BI16<>\"X\",ASISTENCIA!BI16<>\"L\",ASISTENCIA!BI16<>\"J\",ASISTENCIA!BI16<>\"F\"),SUMIF($F$13:$J$13,BL$13,$F17:$J17),\"\")","v":""},{"$f":"IF(AND(LEN($D17)>0,SUMIF($F$13:$J$13,BM$13,$F17:$J17)>0,ASISTENCIA!BJ16<>\"X\",ASISTENCIA!BJ16<>\"L\",ASISTENCIA!BJ16<>\"J\",ASISTENCIA!BJ16<>\"F\"),SUMIF($F$13:$J$13,BM$13,$F17:$J17),\"\")","v":""},{"$f":"IF(AND(LEN($D17)>0,SUMIF($F$13:$J$13,BN$13,$F17:$J17)>0,ASISTENCIA!BK16<>\"X\",ASISTENCIA!BK16<>\"L\",ASISTENCIA!BK16<>\"J\",ASISTENCIA!BK16<>\"F\"),SUMIF($F$13:$J$13,BN$13,$F17:$J17),\"\")","v":""},{"$f":"IF(AND(LEN($D17)>0,SUMIF($F$13:$J$13,BO$13,$F17:$J17)>0,ASISTENCIA!BL16<>\"X\",ASISTENCIA!BL16<>\"L\",ASISTENCIA!BL16<>\"J\",ASISTENCIA!BL16<>\"F\"),SUMIF($F$13:$J$13,BO$13,$F17:$J17),\"\")","v":""},{"$f":"IF(AND(LEN($D17)>0,SUMIF($F$13:$J$13,BP$13,$F17:$J17)>0,ASISTENCIA!BM16<>\"X\",ASISTENCIA!BM16<>\"L\",ASISTENCIA!BM16<>\"J\",ASISTENCIA!BM16<>\"F\"),SUMIF($F$13:$J$13,BP$13,$F17:$J17),\"\")","v":""},{"$f":"IF(AND(LEN($D17)>0,SUMIF($F$13:$J$13,BQ$13,$F17:$J17)>0,ASISTENCIA!BN16<>\"X\",ASISTENCIA!BN16<>\"L\",ASISTENCIA!BN16<>\"J\",ASISTENCIA!BN16<>\"F\"),SUMIF($F$13:$J$13,BQ$13,$F17:$J17),\"\")","v":""},{"$f":"IF(AND(LEN($D17)>0,SUMIF($F$13:$J$13,BR$13,$F17:$J17)>0,ASISTENCIA!BO16<>\"X\",ASISTENCIA!BO16<>\"L\",ASISTENCIA!BO16<>\"J\",ASISTENCIA!BO16<>\"F\"),SUMIF($F$13:$J$13,BR$13,$F17:$J17),\"\")","v":""},{"$f":"IF(AND(LEN($D17)>0,SUMIF($F$13:$J$13,BS$13,$F17:$J17)>0,ASISTENCIA!BP16<>\"X\",ASISTENCIA!BP16<>\"L\",ASISTENCIA!BP16<>\"J\",ASISTENCIA!BP16<>\"F\"),SUMIF($F$13:$J$13,BS$13,$F17:$J17),\"\")","v":""},{"$f":"IF(AND(LEN($D17)>0,SUMIF($F$13:$J$13,BT$13,$F17:$J17)>0,ASISTENCIA!BQ16<>\"X\",ASISTENCIA!BQ16<>\"L\",ASISTENCIA!BQ16<>\"J\",ASISTENCIA!BQ16<>\"F\"),SUMIF($F$13:$J$13,BT$13,$F17:$J17),\"\")","v":""},{"$f":"IF(AND(LEN($D17)>0,SUMIF($F$13:$J$13,BU$13,$F17:$J17)>0,ASISTENCIA!BR16<>\"X\",ASISTENCIA!BR16<>\"L\",ASISTENCIA!BR16<>\"J\",ASISTENCIA!BR16<>\"F\"),SUMIF($F$13:$J$13,BU$13,$F17:$J17),\"\")","v":""},{"$f":"IF(AND(LEN($D17)>0,SUMIF($F$13:$J$13,BV$13,$F17:$J17)>0,ASISTENCIA!BS16<>\"X\",ASISTENCIA!BS16<>\"L\",ASISTENCIA!BS16<>\"J\",ASISTENCIA!BS16<>\"F\"),SUMIF($F$13:$J$13,BV$13,$F17:$J17),\"\")","v":""},{"$f":"IF(AND(LEN($D17)>0,SUMIF($F$13:$J$13,BW$13,$F17:$J17)>0,ASISTENCIA!BT16<>\"X\",ASISTENCIA!BT16<>\"L\",ASISTENCIA!BT16<>\"J\",ASISTENCIA!BT16<>\"F\"),SUMIF($F$13:$J$13,BW$13,$F17:$J17),\"\")","v":""},{"$f":"IF(AND(LEN($D17)>0,SUMIF($F$13:$J$13,BX$13,$F17:$J17)>0,ASISTENCIA!BU16<>\"X\",ASISTENCIA!BU16<>\"L\",ASISTENCIA!BU16<>\"J\",ASISTENCIA!BU16<>\"F\"),SUMIF($F$13:$J$13,BX$13,$F17:$J17),\"\")","v":""},{"$f":"IF(AND(LEN($D17)>0,SUMIF($F$13:$J$13,BY$13,$F17:$J17)>0,ASISTENCIA!BV16<>\"X\",ASISTENCIA!BV16<>\"L\",ASISTENCIA!BV16<>\"J\",ASISTENCIA!BV16<>\"F\"),SUMIF($F$13:$J$13,BY$13,$F17:$J17),\"\")","v":""},{"$f":"IF(AND(LEN($D17)>0,SUMIF($F$13:$J$13,BZ$13,$F17:$J17)>0,ASISTENCIA!BW16<>\"X\",ASISTENCIA!BW16<>\"L\",ASISTENCIA!BW16<>\"J\",ASISTENCIA!BW16<>\"F\"),SUMIF($F$13:$J$13,BZ$13,$F17:$J17),\"\")","v":""},{"$f":"IF(AND(LEN($D17)>0,SUMIF($F$13:$J$13,CA$13,$F17:$J17)>0,ASISTENCIA!BX16<>\"X\",ASISTENCIA!BX16<>\"L\",ASISTENCIA!BX16<>\"J\",ASISTENCIA!BX16<>\"F\"),SUMIF($F$13:$J$13,CA$13,$F17:$J17),\"\")","v":""},{"$f":"IF(AND(LEN($D17)>0,SUMIF($F$13:$J$13,CB$13,$F17:$J17)>0,ASISTENCIA!BY16<>\"X\",ASISTENCIA!BY16<>\"L\",ASISTENCIA!BY16<>\"J\",ASISTENCIA!BY16<>\"F\"),SUMIF($F$13:$J$13,CB$13,$F17:$J17),\"\")","v":""},{"$error":"#REF!"}]
[{"$error":"#N/A"},{"$f":"IF(LEN(C18)>0,VLOOKUP($O$4,DATA!$A$1:$S$1,2,FALSE),\"\")","v":{"$error":"#N/A"}},"JULIO",{"$f":"IF(LEN(ASISTENCIA!E17)>0,ASISTENCIA!E17,\"\")","v":"PEÑALOZA VILCA, Pablo"},{"$f":"IF(LEN(D18)>0,ASISTENCIA!F17,\"\")","v":"Profesor"},null,null,null,null,null,"",null,null,{"$error":"#REF!"},{"$f":"IF(AND(LEN($D18)>0,SUMIF($F$13:$J$13,O$13,$F18:$J18)>0,ASISTENCIA!I17<>\"X\",ASISTENCIA!I17<>\"L\",ASISTENCIA!I17<>\"J\",ASISTENCIA!I17<>\"V\",ASISTENCIA!I17<>\"F\",ASISTENCIA!I17<>\"\"),SUMIF($F$13:$J$13,O$13,$F18:$J18),\"\")","v":""},{"$f":"IF(AND(LEN($D18)>0,SUMIF($F$13:$J$13,P$13,$F18:$J18)>0,ASISTENCIA!J17<>\"X\",ASISTENCIA!J17<>\"L\",ASISTENCIA!J17<>\"J\",ASISTENCIA!J17<>\"V\",ASISTENCIA!J17<>\"F\",ASISTENCIA!J17<>\"\"),SUMIF($F$13:$J$13,P$13,$F18:$J18),\"\")","v":""},{"$f":"IF(AND(LEN($D18)>0,SUMIF($F$13:$J$13,Q$13,$F18:$J18)>0,ASISTENCIA!K17<>\"X\",ASISTENCIA!K17<>\"L\",ASISTENCIA!K17<>\"J\",ASISTENCIA!K17<>\"V\",ASISTENCIA!K17<>\"F\",ASISTENCIA!K17<>\"\"),SUMIF($F$13:$J$13,Q$13,$F18:$J18),\"\")","v":""},{"$f":"IF(AND(LEN($D18)>0,SUMIF($F$13:$J$13,R$13,$F18:$J18)>0,ASISTENCIA!L17<>\"X\",ASISTENCIA!L17<>\"L\",ASISTENCIA!L17<>\"J\",ASISTENCIA!L17<>\"V\",ASISTENCIA!L17<>\"F\",ASISTENCIA!L17<>\"\"),SUMIF($F$13:$J$13,R$13,$F18:$J18),\"\")","v":""},{"$f":"IF(AND(LEN($D18)>0,SUMIF($F$13:$J$13,S$13,$F18:$J18)>0,ASISTENCIA!M17<>\"X\",ASISTENCIA!M17<>\"L\",ASISTENCIA!M17<>\"J\",ASISTENCIA!M17<>\"V\",ASISTENCIA!M17<>\"F\",ASISTENCIA!M17<>\"\"),SUMIF($F$13:$J$13,S$13,$F18:$J18),\"\")","v":""},{"$f":"IF(AND(LEN($D18)>0,SUMIF($F$13:$J$13,T$13,$F18:$J18)>0,ASISTENCIA!N17<>\"X\",ASISTENCIA!N17<>\"L\",ASISTENCIA!N17<>\"J\",ASISTENCIA!N17<>\"V\",ASISTENCIA!N17<>\"F\",ASISTENCIA!N17<>\"\"),SUMIF($F$13:$J$13,T$13,$F18:$J18),\"\")","v":""},{"$f":"IF(AND(LEN($D18)>0,SUMIF($F$13:$J$13,U$13,$F18:$J18)>0,ASISTENCIA!O17<>\"X\",ASISTENCIA!O17<>\"L\",ASISTENCIA!O17<>\"J\",ASISTENCIA!O17<>\"V\",ASISTENCIA!O17<>\"F\",ASISTENCIA!O17<>\"\"),SUMIF($F$13:$J$13,U$13,$F18:$J18),\"\")","v":""},{"$f":"IF(AND(LEN($D18)>0,SUMIF($F$13:$J$13,V$13,$F18:$J18)>0,ASISTENCIA!P17<>\"X\",ASISTENCIA!P17<>\"L\",ASISTENCIA!P17<>\"J\",ASISTENCIA!P17<>\"V\",ASISTENCIA!P17<>\"F\",ASISTENCIA!P17<>\"\"),SUMIF($F$13:$J$13,V$13,$F18:$J18),\"\")","v":""},{"$f":"IF(AND(LEN($D18)>0,SUMIF($F$13:$J$13,W$13,$F18:$J18)>0,ASISTENCIA!Q17<>\"X\",ASISTENCIA!Q17<>\"L\",ASISTENCIA!Q17<>\"J\",ASISTENCIA!Q17<>\"V\",ASISTENCIA!Q17<>\"F\",ASISTENCIA!Q17<>\"\"),SUMIF($F$13:$J$13,W$13,$F18:$J18),\"\")","v":""},{"$f":"IF(AND(LEN($D18)>0,SUMIF($F$13:$J$13,X$13,$F18:$J18)>0,ASISTENCIA!R17<>\"X\",ASISTENCIA!R17<>\"L\",ASISTENCIA!R17<>\"J\",ASISTENCIA!R17<>\"V\",ASISTENCIA!R17<>\"F\",ASISTENCIA!R17<>\"\"),SUMIF($F$13:$J$13,X$13,$F18:$J18),\"\")","v":""},{"$f":"IF(AND(LEN($D18)>0,SUMIF($F$13:$J$13,Y$13,$F18:$J18)>0,ASISTENCIA!S17<>\"X\",ASISTENCIA!S17<>\"L\",ASISTENCIA!S17<>\"J\",ASISTENCIA!S17<>\"V\",ASISTENCIA!S17<>\"F\",ASISTENCIA!S17<>\"\"),SUMIF($F$13:$J$13,Y$13,$F18:$J18),\"\")","v":""},{"$f":"IF(AND(LEN($D18)>0,SUMIF($F$13:$J$13,Z$13,$F18:$J18)>0,ASISTENCIA!T17<>\"X\",ASISTENCIA!T17<>\"L\",ASISTENCIA!T17<>\"J\",ASISTENCIA!T17<>\"V\",ASISTENCIA!T17<>\"F\",ASISTENCIA!T17<>\"\"),SUMIF($F$13:$J$13,Z$13,$F18:$J18),\"\")","v":""},{"$f":"IF(AND(LEN($D18)>0,SUMIF($F$13:$J$13,AA$13,$F18:$J18)>0,ASISTENCIA!U17<>\"X\",ASISTENCIA!U17<>\"L\",ASISTENCIA!U17<>\"J\",ASISTENCIA!U17<>\"V\",ASISTENCIA!U17<>\"F\",ASISTENCIA!U17<>\"\"),SUMIF($F$13:$J$13,AA$13,$F18:$J18),\"\")","v":""},{"$f":"IF(AND(LEN($D18)>0,SUMIF($F$13:$J$13,AB$13,$F18:$J18)>0,ASISTENCIA!V17<>\"X\",ASISTENCIA!V17<>\"L\",ASISTENCIA!V17<>\"J\",ASISTENCIA!V17<>\"V\",ASISTENCIA!V17<>\"F\",ASISTENCIA!V17<>\"\"),SUMIF($F$13:$J$13,AB$13,$F18:$J18),\"\")","v":""},{"$f":"IF(AND(LEN($D18)>0,SUMIF($F$13:$J$13,AC$13,$F18:$J18)>0,ASISTENCIA!W17<>\"X\",ASISTENCIA!W17<>\"L\",ASISTENCIA!W17<>\"J\",ASISTENCIA!W17<>\"V\",ASISTENCIA!W17<>\"F\",ASISTENCIA!W17<>\"\"),SUMIF($F$13:$J$13,AC$13,$F18:$J18),\"\")","v":""},{"$f":"IF(AND(LEN($D18)>0,SUMIF($F$13:$J$13,AD$13,$F18:$J18)>0,ASISTENCIA!X17<>\"X\",ASISTENCIA!X17<>\"L\",ASISTENCIA!X17<>\"J\",ASISTENCIA!X17<>\"V\",ASISTENCIA!X17<>\"F\",ASISTENCIA!X17<>\"\"),SUMIF($F$13:$J$13,AD$13,$F18:$J18),\"\")","v":""},{"$f":"IF(AND(LEN($D18)>0,SUMIF($F$13:$J$13,AE$13,$F18:$J18)>0,ASISTENCIA!Y17<>\"X\",ASISTENCIA!Y17<>\"L\",ASISTENCIA!Y17<>\"J\",ASISTENCIA!Y17<>\"V\",ASISTENCIA!Y17<>\"F\",ASISTENCIA!Y17<>\"\"),SUMIF($F$13:$J$13,AE$13,$F18:$J18),\"\")","v":""},{"$f":"IF(AND(LEN($D18)>0,SUMIF($F$13:$J$13,AF$13,$F18:$J18)>0,ASISTENCIA!Z17<>\"X\",ASISTENCIA!Z17<>\"L\",ASISTENCIA!Z17<>\"J\",ASISTENCIA!Z17<>\"V\",ASISTENCIA!Z17<>\"F\",ASISTENCIA!Z17<>\"\"),SUMIF($F$13:$J$13,AF$13,$F18:$J18),\"\")","v":""},{"$f":"IF(AND(LEN($D18)>0,SUMIF($F$13:$J$13,AG$13,$F18:$J18)>0,ASISTENCIA!AA17<>\"X\",ASISTENCIA!AA17<>\"L\",ASISTENCIA!AA17<>\"J\",ASISTENCIA!AA17<>\"V\",ASISTENCIA!AA17<>\"F\",ASISTENCIA!AA17<>\"\"),SUMIF($F$13:$J$13,AG$13,$F18:$J18),\"\")","v":""},{"$f":"IF(AND(LEN($D18)>0,SUMIF($F$13:$J$13,AH$13,$F18:$J18)>0,ASISTENCIA!AB17<>\"X\",ASISTENCIA!AB17<>\"L\",ASISTENCIA!AB17<>\"J\",ASISTENCIA!AB17<>\"V\",ASISTENCIA!AB17<>\"F\",ASISTENCIA!AB17<>\"\"),SUMIF($F$13:$J$13,AH$13,$F18:$J18),\"\")","v":""},{"$f":"IF(AND(LEN($D18)>0,SUMIF($F$13:$J$13,AI$13,$F18:$J18)>0,ASISTENCIA!AC17<>\"X\",ASISTENCIA!AC17<>\"L\",ASISTENCIA!AC17<>\"J\",ASISTENCIA!AC17<>\"V\",ASISTENCIA!AC17<>\"F\",ASISTENCIA!AC17<>\"\"),SUMIF($F$13:$J$13,AI$13,$F18:$J18),\"\")","v":""},{"$f":"IF(AND(LEN($D18)>0,SUMIF($F$13:$J$13,AJ$13,$F18:$J18)>0,ASISTENCIA!AD17<>\"X\",ASISTENCIA!AD17<>\"L\",ASISTENCIA!AD17<>\"J\",ASISTENCIA!AD17<>\"V\",ASISTENCIA!AD17<>\"F\",ASISTENCIA!AD17<>\"\"),SUMIF($F$13:$J$13,AJ$13,$F18:$J18),\"\")","v":""},{"$f":"IF(AND(LEN($D18)>0,SUMIF($F$13:$J$13,AK$13,$F18:$J18)>0,ASISTENCIA!AE17<>\"X\",ASISTENCIA!AE17<>\"L\",ASISTENCIA!AE17<>\"J\",ASISTENCIA!AE17<>\"V\",ASISTENCIA!AE17<>\"F\",ASISTENCIA!AE17<>\"\"),SUMIF($F$13:$J$13,AK$13,$F18:$J18),\"\")","v":""},{"$f":"IF(AND(LEN($D18)>0,SUMIF($F$13:$J$13,AL$13,$F18:$J18)>0,ASISTENCIA!AF17<>\"X\",ASISTENCIA!AF17<>\"L\",ASISTENCIA!AF17<>\"J\",ASISTENCIA!AF17<>\"V\",ASISTENCIA!AF17<>\"F\",ASISTENCIA!AF17<>\"\"),SUMIF($F$13:$J$13,AL$13,$F18:$J18),\"\")","v":""},{"$f":"IF(AND(LEN($D18)>0,SUMIF($F$13:$J$13,AM$13,$F18:$J18)>0,ASISTENCIA!AG17<>\"X\",ASISTENCIA!AG17<>\"L\",ASISTENCIA!AG17<>\"J\",ASISTENCIA!AG17<>\"V\",ASISTENCIA!AG17<>\"F\",ASISTENCIA!AG17<>\"\"),SUMIF($F$13:$J$13,AM$13,$F18:$J18),\"\")","v":""},{"$f":"IF(AND(LEN($D18)>0,SUMIF($F$13:$J$13,AN$13,$F18:$J18)>0,ASISTENCIA!AH17<>\"X\",ASISTENCIA!AH17<>\"L\",ASISTENCIA!AH17<>\"J\",ASISTENCIA!AH17<>\"V\",ASISTENCIA!AH17<>\"F\",ASISTENCIA!AH17<>\"\"),SUMIF($F$13:$J$13,AN$13,$F18:$J18),\"\")","v":""},{"$f":"IF(AND(LEN($D18)>0,SUMIF($F$13:$J$13,AO$13,$F18:$J18)>0,ASISTENCIA!AI17<>\"X\",ASISTENCIA!AI17<>\"L\",ASISTENCIA!AI17<>\"J\",ASISTENCIA!AI17<>\"V\",ASISTENCIA!AI17<>\"F\",ASISTENCIA!AI17<>\"\"),SUMIF($F$13:$J$13,AO$13,$F18:$J18),\"\")","v":""},{"$f":"IF(AND(LEN($D18)>0,SUMIF($F$13:$J$13,AP$13,$F18:$J18)>0,ASISTENCIA!AJ17<>\"X\",ASISTENCIA!AJ17<>\"L\",ASISTENCIA!AJ17<>\"J\",ASISTENCIA!AJ17<>\"V\",ASISTENCIA!AJ17<>\"F\",ASISTENCIA!AJ17<>\"\"),SUMIF($F$13:$J$13,AP$13,$F18:$J18),\"\")","v":""},{"$f":"IF(AND(LEN($D18)>0,SUMIF($F$13:$J$13,AQ$13,$F18:$J18)>0,ASISTENCIA!AK17<>\"X\",ASISTENCIA!AK17<>\"L\",ASISTENCIA!AK17<>\"J\",ASISTENCIA!AK17<>\"V\",ASISTENCIA!AK17<>\"F\",ASISTENCIA!AK17<>\"\"),SUMIF($F$13:$J$13,AQ$13,$F18:$J18),\"\")","v":""},{"$f":"IF(AND(LEN($D18)>0,SUMIF($F$13:$J$13,AR$13,$F18:$J18)>0,ASISTENCIA!AL17<>\"X\",ASISTENCIA!AL17<>\"L\",ASISTENCIA!AL17<>\"J\",ASISTENCIA!AL17<>\"V\",ASISTENCIA!AL17<>\"F\",ASISTENCIA!AL17<>\"\"),SUMIF($F$13:$J$13,AR$13,$F18:$J18),\"\")","v":""},{"$f":"IF(AND(LEN($D18)>0,SUMIF($F$13:$J$13,AS$13,$F18:$J18)>0,ASISTENCIA!AM17<>\"X\",ASISTENCIA!AM17<>\"L\",ASISTENCIA!AM17<>\"J\",ASISTENCIA!AM17<>\"V\",ASISTENCIA!AM17<>\"F\",ASISTENCIA!AM17<>\"\"),SUMIF($F$13:$J$13,AS$13,$F18:$J18),\"\")","v":""},"",null,null,null,{"$f":"IF(AND(LEN($D18)>0,SUMIF($F$13:$J$13,AX$13,$F18:$J18)>0,ASISTENCIA!AU17<>\"X\",ASISTENCIA!AU17<>\"L\",ASISTENCIA!AU17<>\"J\",ASISTENCIA!AU17<>\"F\"),SUMIF($F$13:$J$13,AX$13,$F18:$J18),\"\")","v":""},{"$f":"IF(AND(LEN($D18)>0,SUMIF($F$13:$J$13,AY$13,$F18:$J18)>0,ASISTENCIA!AV17<>\"X\",ASISTENCIA!AV17<>\"L\",ASISTENCIA!AV17<>\"J\",ASISTENCIA!AV17<>\"F\"),SUMIF($F$13:$J$13,AY$13,$F18:$J18),\"\")","v":""},{"$f":"IF(AND(LEN($D18)>0,SUMIF($F$13:$J$13,AZ$13,$F18:$J18)>0,ASISTENCIA!AW17<>\"X\",ASISTENCIA!AW17<>\"L\",ASISTENCIA!AW17<>\"J\",ASISTENCIA!AW17<>\"F\"),SUMIF($F$13:$J$13,AZ$13,$F18:$J18),\"\")","v":""},{"$f":"IF(AND(LEN($D18)>0,SUMIF($F$13:$J$13,BA$13,$F18:$J18)>0,ASISTENCIA!AX17<>\"X\",ASISTENCIA!AX17<>\"L\",ASISTENCIA!AX17<>\"J\",ASISTENCIA!AX17<>\"F\"),SUMIF($F$13:$J$13,BA$13,$F18:$J18),\"\")","v":""},{"$f":"IF(AND(LEN($D18)>0,SUMIF($F$13:$J$13,BB$13,$F18:$J18)>0,ASISTENCIA!AY17<>\"X\",ASISTENCIA!AY17<>\"L\",ASISTENCIA!AY17<>\"J\",ASISTENCIA!AY17<>\"F\"),SUMIF($F$13:$J$13,BB$13,$F18:$J18),\"\")","v":""},{"$f":"IF(AND(LEN($D18)>0,SUMIF($F$13:$J$13,BC$13,$F18:$J18)>0,ASISTENCIA!AZ17<>\"X\",ASISTENCIA!AZ17<>\"L\",ASISTENCIA!AZ17<>\"J\",ASISTENCIA!AZ17<>\"F\"),SUMIF($F$13:$J$13,BC$13,$F18:$J18),\"\")","v":""},{"$f":"IF(AND(LEN($D18)>0,SUMIF($F$13:$J$13,BD$13,$F18:$J18)>0,ASISTENCIA!BA17<>\"X\",ASISTENCIA!BA17<>\"L\",ASISTENCIA!BA17<>\"J\",ASISTENCIA!BA17<>\"F\"),SUMIF($F$13:$J$13,BD$13,$F18:$J18),\"\")","v":""},{"$f":"IF(AND(LEN($D18)>0,SUMIF($F$13:$J$13,BE$13,$F18:$J18)>0,ASISTENCIA!BB17<>\"X\",ASISTENCIA!BB17<>\"L\",ASISTENCIA!BB17<>\"J\",ASISTENCIA!BB17<>\"F\"),SUMIF($F$13:$J$13,BE$13,$F18:$J18),\"\")","v":""},{"$f":"IF(AND(LEN($D18)>0,SUMIF($F$13:$J$13,BF$13,$F18:$J18)>0,ASISTENCIA!#REF!<>\"X\",ASISTENCIA!#REF!<>\"L\",ASISTENCIA!#REF!<>\"J\",ASISTENCIA!#REF!<>\"F\"),SUMIF($F$13:$J$13,BF$13,$F18:$J18),\"\")","v":{"$error":"#REF!"}},{"$f":"IF(AND(LEN($D18)>0,SUMIF($F$13:$J$13,BG$13,$F18:$J18)>0,ASISTENCIA!#REF!<>\"X\",ASISTENCIA!#REF!<>\"L\",ASISTENCIA!#REF!<>\"J\",ASISTENCIA!#REF!<>\"F\"),SUMIF($F$13:$J$13,BG$13,$F18:$J18),\"\")","v":{"$error":"#REF!"}},{"$f":"IF(AND(LEN($D18)>0,SUMIF($F$13:$J$13,BH$13,$F18:$J18)>0,ASISTENCIA!#REF!<>\"X\",ASISTENCIA!#REF!<>\"L\",ASISTENCIA!#REF!<>\"J\",ASISTENCIA!#REF!<>\"F\"),SUMIF($F$13:$J$13,BH$13,$F18:$J18),\"\")","v":{"$error":"#REF!"}},{"$f":"IF(AND(LEN($D18)>0,SUMIF($F$13:$J$13,BI$13,$F18:$J18)>0,ASISTENCIA!BF17<>\"X\",ASISTENCIA!BF17<>\"L\",ASISTENCIA!BF17<>\"J\",ASISTENCIA!BF17<>\"F\"),SUMIF($F$13:$J$13,BI$13,$F18:$J18),\"\")","v":""},{"$f":"IF(AND(LEN($D18)>0,SUMIF($F$13:$J$13,BJ$13,$F18:$J18)>0,ASISTENCIA!BG17<>\"X\",ASISTENCIA!BG17<>\"L\",ASISTENCIA!BG17<>\"J\",ASISTENCIA!BG17<>\"F\"),SUMIF($F$13:$J$13,BJ$13,$F18:$J18),\"\")","v":""},{"$f":"IF(AND(LEN($D18)>0,SUMIF($F$13:$J$13,BK$13,$F18:$J18)>0,ASISTENCIA!BH17<>\"X\",ASISTENCIA!BH17<>\"L\",ASISTENCIA!BH17<>\"J\",ASISTENCIA!BH17<>\"F\"),SUMIF($F$13:$J$13,BK$13,$F18:$J18),\"\")","v":""},{"$f":"IF(AND(LEN($D18)>0,SUMIF($F$13:$J$13,BL$13,$F18:$J18)>0,ASISTENCIA!BI17<>\"X\",ASISTENCIA!BI17<>\"L\",ASISTENCIA!BI17<>\"J\",ASISTENCIA!BI17<>\"F\"),SUMIF($F$13:$J$13,BL$13,$F18:$J18),\"\")","v":""},{"$f":"IF(AND(LEN($D18)>0,SUMIF($F$13:$J$13,BM$13,$F18:$J18)>0,ASISTENCIA!BJ17<>\"X\",ASISTENCIA!BJ17<>\"L\",ASISTENCIA!BJ17<>\"J\",ASISTENCIA!BJ17<>\"F\"),SUMIF($F$13:$J$13,BM$13,$F18:$J18),\"\")","v":""},{"$f":"IF(AND(LEN($D18)>0,SUMIF($F$13:$J$13,BN$13,$F18:$J18)>0,ASISTENCIA!BK17<>\"X\",ASISTENCIA!BK17<>\"L\",ASISTENCIA!BK17<>\"J\",ASISTENCIA!BK17<>\"F\"),SUMIF($F$13:$J$13,BN$13,$F18:$J18),\"\")","v":""},{"$f":"IF(AND(LEN($D18)>0,SUMIF($F$13:$J$13,BO$13,$F18:$J18)>0,ASISTENCIA!BL17<>\"X\",ASISTENCIA!BL17<>\"L\",ASISTENCIA!BL17<>\"J\",ASISTENCIA!BL17<>\"F\"),SUMIF($F$13:$J$13,BO$13,$F18:$J18),\"\")","v":""},{"$f":"IF(AND(LEN($D18)>0,SUMIF($F$13:$J$13,BP$13,$F18:$J18)>0,ASISTENCIA!BM17<>\"X\",ASISTENCIA!BM17<>\"L\",ASISTENCIA!BM17<>\"J\",ASISTENCIA!BM17<>\"F\"),SUMIF($F$13:$J$13,BP$13,$F18:$J18),\"\")","v":""},{"$f":"IF(AND(LEN($D18)>0,SUMIF($F$13:$J$13,BQ$13,$F18:$J18)>0,ASISTENCIA!BN17<>\"X\",ASISTENCIA!BN17<>\"L\",ASISTENCIA!BN17<>\"J\",ASISTENCIA!BN17<>\"F\"),SUMIF($F$13:$J$13,BQ$13,$F18:$J18),\"\")","v":""},{"$f":"IF(AND(LEN($D18)>0,SUMIF($F$13:$J$13,BR$13,$F18:$J18)>0,ASISTENCIA!BO17<>\"X\",ASISTENCIA!BO17<>\"L\",ASISTENCIA!BO17<>\"J\",ASISTENCIA!BO17<>\"F\"),SUMIF($F$13:$J$13,BR$13,$F18:$J18),\"\")","v":""},{"$f":"IF(AND(LEN($D18)>0,SUMIF($F$13:$J$13,BS$13,$F18:$J18)>0,ASISTENCIA!BP17<>\"X\",ASISTENCIA!BP17<>\"L\",ASISTENCIA!BP17<>\"J\",ASISTENCIA!BP17<>\"F\"),SUMIF($F$13:$J$13,BS$13,$F18:$J18),\"\")","v":""},{"$f":"IF(AND(LEN($D18)>0,SUMIF($F$13:$J$13,BT$13,$F18:$J18)>0,ASISTENCIA!BQ17<>\"X\",ASISTENCIA!BQ17<>\"L\",ASISTENCIA!BQ17<>\"J\",ASISTENCIA!BQ17<>\"F\"),SUMIF($F$13:$J$13,BT$13,$F18:$J18),\"\")","v":""},{"$f":"IF(AND(LEN($D18)>0,SUMIF($F$13:$J$13,BU$13,$F18:$J18)>0,ASISTENCIA!BR17<>\"X\",ASISTENCIA!BR17<>\"L\",ASISTENCIA!BR17<>\"J\",ASISTENCIA!BR17<>\"F\"),SUMIF($F$13:$J$13,BU$13,$F18:$J18),\"\")","v":""},{"$f":"IF(AND(LEN($D18)>0,SUMIF($F$13:$J$13,BV$13,$F18:$J18)>0,ASISTENCIA!BS17<>\"X\",ASISTENCIA!BS17<>\"L\",ASISTENCIA!BS17<>\"J\",ASISTENCIA!BS17<>\"F\"),SUMIF($F$13:$J$13,BV$13,$F18:$J18),\"\")","v":""},{"$f":"IF(AND(LEN($D18)>0,SUMIF($F$13:$J$13,BW$13,$F18:$J18)>0,ASISTENCIA!BT17<>\"X\",ASISTENCIA!BT17<>\"L\",ASISTENCIA!BT17<>\"J\",ASISTENCIA!BT17<>\"F\"),SUMIF($F$13:$J$13,BW$13,$F18:$J18),\"\")","v":""},{"$f":"IF(AND(LEN($D18)>0,SUMIF($F$13:$J$13,BX$13,$F18:$J18)>0,ASISTENCIA!BU17<>\"X\",ASISTENCIA!BU17<>\"L\",ASISTENCIA!BU17<>\"J\",ASISTENCIA!BU17<>\"F\"),SUMIF($F$13:$J$13,BX$13,$F18:$J18),\"\")","v":""},{"$f":"IF(AND(LEN($D18)>0,SUMIF($F$13:$J$13,BY$13,$F18:$J18)>0,ASISTENCIA!BV17<>\"X\",ASISTENCIA!BV17<>\"L\",ASISTENCIA!BV17<>\"J\",ASISTENCIA!BV17<>\"F\"),SUMIF($F$13:$J$13,BY$13,$F18:$J18),\"\")","v":""},{"$f":"IF(AND(LEN($D18)>0,SUMIF($F$13:$J$13,BZ$13,$F18:$J18)>0,ASISTENCIA!BW17<>\"X\",ASISTENCIA!BW17<>\"L\",ASISTENCIA!BW17<>\"J\",ASISTENCIA!BW17<>\"F\"),SUMIF($F$13:$J$13,BZ$13,$F18:$J18),\"\")","v":""},{"$f":"IF(AND(LEN($D18)>0,SUMIF($F$13:$J$13,CA$13,$F18:$J18)>0,ASISTENCIA!BX17<>\"X\",ASISTENCIA!BX17<>\"L\",ASISTENCIA!BX17<>\"J\",ASISTENCIA!BX17<>\"F\"),SUMIF($F$13:$J$13,CA$13,$F18:$J18),\"\")","v":""},{"$f":"IF(AND(LEN($D18)>0,SUMIF($F$13:$J$13,CB$13,$F18:$J18)>0,ASISTENCIA!BY17<>\"X\",ASISTENCIA!BY17<>\"L\",ASISTENCIA!BY17<>\"J\",ASISTENCIA!BY17<>\"F\"),SUMIF($F$13:$J$13,CB$13,$F18:$J18),\"\")","v":""},{"$error":"#REF!"}]
[{"$error":"#N/A"},{"$f":"IF(LEN(C19)>0,VLOOKUP($O$4,DATA!$A$1:$S$1,2,FALSE),\"\")","v":{"$error":"#N/A"}},"JULIO",{"$f":"IF(LEN(ASISTENCIA!E18)>0,ASISTENCIA!E18,\"\")","v":"MAQUERA CCALLO, Victor Raúl"},{"$f":"IF(LEN(D19)>0,ASISTENCIA!F18,\"\")","v":"Profesor"},null,null,null,null,null,"",null,null,{"$error":"#REF!"},{"$f":"IF(AND(LEN($D19)>0,SUMIF($F$13:$J$13,O$13,$F19:$J19)>0,ASISTENCIA!I18<>\"X\",ASISTENCIA!I18<>\"L\",ASISTENCIA!I18<>\"J\",ASISTENCIA!I18<>\"V\",ASISTENCIA!I18<>\"F\",ASISTENCIA!I18<>\"\"),SUMIF($F$13:$J$13,O$13,$F19:$J19),\"\")","v":""},{"$f":"IF(AND(LEN($D19)>0,SUMIF($F$13:$J$13,P$13,$F19:$J19)>0,ASISTENCIA!J18<>\"X\",ASISTENCIA!J18<>\"L\",ASISTENCIA!J18<>\"J\",ASISTENCIA!J18<>\"V\",ASISTENCIA!J18<>\"F\",ASISTENCIA!J18<>\"\"),SUMIF($F$13:$J$13,P$13,$F19:$J19),\"\")","v":""},{"$f":"IF(AND(LEN($D19)>0,SUMIF($F$13:$J$13,Q$13,$F19:$J19)>0,ASISTENCIA!K18<>\"X\",ASISTENCIA!K18<>\"L\",ASISTENCIA!K18<>\"J\",ASISTENCIA!K18<>\"V\",ASISTENCIA!K18<>\"F\",ASISTENCIA!K18<>\"\"),SUMIF($F$13:$J$13,Q$13,$F19:$J19),\"\")","v":""},{"$f":"IF(AND(LEN($D19)>0,SUMIF($F$13:$J$13,R$13,$F19:$J19)>0,ASISTENCIA!L18<>\"X\",ASISTENCIA!L18<>\"L\",ASISTENCIA!L18<>\"J\",ASISTENCIA!L18<>\"V\",ASISTENCIA!L18<>\"F\",ASISTENCIA!L18<>\"\"),SUMIF($F$13:$J$13,R$13,$F19:$J19),\"\")","v":""},{"$f":"IF(AND(LEN($D19)>0,SUMIF($F$13:$J$13,S$13,$F19:$J19)>0,ASISTENCIA!M18<>\"X\",ASISTENCIA!M18<>\"L\",ASISTENCIA!M18<>\"J\",ASISTENCIA!M18<>\"V\",ASISTENCIA!M18<>\"F\",ASISTENCIA!M18<>\"\"),SUMIF($F$13:$J$13,S$13,$F19:$J19),\"\")","v":""},{"$f":"IF(AND(LEN($D19)>0,SUMIF($F$13:$J$13,T$13,$F19:$J19)>0,ASISTENCIA!N18<>\"X\",ASISTENCIA!N18<>\"L\",ASISTENCIA!N18<>\"J\",ASISTENCIA!N18<>\"V\",ASISTENCIA!N18<>\"F\",ASISTENCIA!N18<>\"\"),SUMIF($F$13:$J$13,T$13,$F19:$J19),\"\")","v":""},{"$f":"IF(AND(LEN($D19)>0,SUMIF($F$13:$J$13,U$13,$F19:$J19)>0,ASISTENCIA!O18<>\"X\",ASISTENCIA!O18<>\"L\",ASISTENCIA!O18<>\"J\",ASISTENCIA!O18<>\"V\",ASISTENCIA!O18<>\"F\",ASISTENCIA!O18<>\"\"),SUMIF($F$13:$J$13,U$13,$F19:$J19),\"\")","v":""},{"$f":"IF(AND(LEN($D19)>0,SUMIF($F$13:$J$13,V$13,$F19:$J19)>0,ASISTENCIA!P18<>\"X\",ASISTENCIA!P18<>\"L\",ASISTENCIA!P18<>\"J\",ASISTENCIA!P18<>\"V\",ASISTENCIA!P18<>\"F\",ASISTENCIA!P18<>\"\"),SUMIF($F$13:$J$13,V$13,$F19:$J19),\"\")","v":""},{"$f":"IF(AND(LEN($D19)>0,SUMIF($F$13:$J$13,W$13,$F19:$J19)>0,ASISTENCIA!Q18<>\"X\",ASISTENCIA!Q18<>\"L\",ASISTENCIA!Q18<>\"J\",ASISTENCIA!Q18<>\"V\",ASISTENCIA!Q18<>\"F\",ASISTENCIA!Q18<>\"\"),SUMIF($F$13:$J$13,W$13,$F19:$J19),\"\")","v":""},{"$f":"IF(AND(LEN($D19)>0,SUMIF($F$13:$J$13,X$13,$F19:$J19)>0,ASISTENCIA!R18<>\"X\",ASISTENCIA!R18<>\"L\",ASISTENCIA!R18<>\"J\",ASISTENCIA!R18<>\"V\",ASISTENCIA!R18<>\"F\",ASISTENCIA!R18<>\"\"),SUMIF($F$13:$J$13,X$13,$F19:$J19),\"\")","v":""},{"$f":"IF(AND(LEN($D19)>0,SUMIF($F$13:$J$13,Y$13,$F19:$J19)>0,ASISTENCIA!S18<>\"X\",ASISTENCIA!S18<>\"L\",ASISTENCIA!S18<>\"J\",ASISTENCIA!S18<>\"V\",ASISTENCIA!S18<>\"F\",ASISTENCIA!S18<>\"\"),SUMIF($F$13:$J$13,Y$13,$F19:$J19),\"\")","v":""},{"$f":"IF(AND(LEN($D19)>0,SUMIF($F$13:$J$13,Z$13,$F19:$J19)>0,ASISTENCIA!T18<>\"X\",ASISTENCIA!T18<>\"L\",ASISTENCIA!T18<>\"J\",ASISTENCIA!T18<>\"V\",ASISTENCIA!T18<>\"F\",ASISTENCIA!T18<>\"\"),SUMIF($F$13:$J$13,Z$13,$F19:$J19),\"\")","v":""},{"$f":"IF(AND(LEN($D19)>0,SUMIF($F$13:$J$13,AA$13,$F19:$J19)>0,ASISTENCIA!U18<>\"X\",ASISTENCIA!U18<>\"L\",ASISTENCIA!U18<>\"J\",ASISTENCIA!U18<>\"V\",ASISTENCIA!U18<>\"F\",ASISTENCIA!U18<>\"\"),SUMIF($F$13:$J$13,AA$13,$F19:$J19),\"\")","v":""},{"$f":"IF(AND(LEN($D19)>0,SUMIF($F$13:$J$13,AB$13,$F19:$J19)>0,ASISTENCIA!V18<>\"X\",ASISTENCIA!V18<>\"L\",ASISTENCIA!V18<>\"J\",ASISTENCIA!V18<>\"V\",ASISTENCIA!V18<>\"F\",ASISTENCIA!V18<>\"\"),SUMIF($F$13:$J$13,AB$13,$F19:$J19),\"\")","v":""},{"$f":"IF(AND(LEN($D19)>0,SUMIF($F$13:$J$13,AC$13,$F19:$J19)>0,ASISTENCIA!W18<>\"X\",ASISTENCIA!W18<>\"L\",ASISTENCIA!W18<>\"J\",ASISTENCIA!W18<>\"V\",ASISTENCIA!W18<>\"F\",ASISTENCIA!W18<>\"\"),SUMIF($F$13:$J$13,AC$13,$F19:$J19),\"\")","v":""},{"$f":"IF(AND(LEN($D19)>0,SUMIF($F$13:$J$13,AD$13,$F19:$J19)>0,ASISTENCIA!X18<>\"X\",ASISTENCIA!X18<>\"L\",ASISTENCIA!X18<>\"J\",ASISTENCIA!X18<>\"V\",ASISTENCIA!X18<>\"F\",ASISTENCIA!X18<>\"\"),SUMIF($F$13:$J$13,AD$13,$F19:$J19),\"\")","v":""},{"$f":"IF(AND(LEN($D19)>0,SUMIF($F$13:$J$13,AE$13,$F19:$J19)>0,ASISTENCIA!Y18<>\"X\",ASISTENCIA!Y18<>\"L\",ASISTENCIA!Y18<>\"J\",ASISTENCIA!Y18<>\"V\",ASISTENCIA!Y18<>\"F\",ASISTENCIA!Y18<>\"\"),SUMIF($F$13:$J$13,AE$13,$F19:$J19),\"\")","v":""},{"$f":"IF(AND(LEN($D19)>0,SUMIF($F$13:$J$13,AF$13,$F19:$J19)>0,ASISTENCIA!Z18<>\"X\",ASISTENCIA!Z18<>\"L\",ASISTENCIA!Z18<>\"J\",ASISTENCIA!Z18<>\"V\",ASISTENCIA!Z18<>\"F\",ASISTENCIA!Z18<>\"\"),SUMIF($F$13:$J$13,AF$13,$F19:$J19),\"\")","v":""},{"$f":"IF(AND(LEN($D19)>0,SUMIF($F$13:$J$13,AG$13,$F19:$J19)>0,ASISTENCIA!AA18<>\"X\",ASISTENCIA!AA18<>\"L\",ASISTENCIA!AA18<>\"J\",ASISTENCIA!AA18<>\"V\",ASISTENCIA!AA18<>\"F\",ASISTENCIA!AA18<>\"\"),SUMIF($F$13:$J$13,AG$13,$F19:$J19),\"\")","v":""},{"$f":"IF(AND(LEN($D19)>0,SUMIF($F$13:$J$13,AH$13,$F19:$J19)>0,ASISTENCIA!AB18<>\"X\",ASISTENCIA!AB18<>\"L\",ASISTENCIA!AB18<>\"J\",ASISTENCIA!AB18<>\"V\",ASISTENCIA!AB18<>\"F\",ASISTENCIA!AB18<>\"\"),SUMIF($F$13:$J$13,AH$13,$F19:$J19),\"\")","v":""},{"$f":"IF(AND(LEN($D19)>0,SUMIF($F$13:$J$13,AI$13,$F19:$J19)>0,ASISTENCIA!AC18<>\"X\",ASISTENCIA!AC18<>\"L\",ASISTENCIA!AC18<>\"J\",ASISTENCIA!AC18<>\"V\",ASISTENCIA!AC18<>\"F\",ASISTENCIA!AC18<>\"\"),SUMIF($F$13:$J$13,AI$13,$F19:$J19),\"\")","v":""},{"$f":"IF(AND(LEN($D19)>0,SUMIF($F$13:$J$13,AJ$13,$F19:$J19)>0,ASISTENCIA!AD18<>\"X\",ASISTENCIA!AD18<>\"L\",ASISTENCIA!AD18<>\"J\",ASISTENCIA!AD18<>\"V\",ASISTENCIA!AD18<>\"F\",ASISTENCIA!AD18<>\"\"),SUMIF($F$13:$J$13,AJ$13,$F19:$J19),\"\")","v":""},{"$f":"IF(AND(LEN($D19)>0,SUMIF($F$13:$J$13,AK$13,$F19:$J19)>0,ASISTENCIA!AE18<>\"X\",ASISTENCIA!AE18<>\"L\",ASISTENCIA!AE18<>\"J\",ASISTENCIA!AE18<>\"V\",ASISTENCIA!AE18<>\"F\",ASISTENCIA!AE18<>\"\"),SUMIF($F$13:$J$13,AK$13,$F19:$J19),\"\")","v":""},{"$f":"IF(AND(LEN($D19)>0,SUMIF($F$13:$J$13,AL$13,$F19:$J19)>0,ASISTENCIA!AF18<>\"X\",ASISTENCIA!AF18<>\"L\",ASISTENCIA!AF18<>\"J\",ASISTENCIA!AF18<>\"V\",ASISTENCIA!AF18<>\"F\",ASISTENCIA!AF18<>\"\"),SUMIF($F$13:$J$13,AL$13,$F19:$J19),\"\")","v":""},{"$f":"IF(AND(LEN($D19)>0,SUMIF($F$13:$J$13,AM$13,$F19:$J19)>0,ASISTENCIA!AG18<>\"X\",ASISTENCIA!AG18<>\"L\",ASISTENCIA!AG18<>\"J\",ASISTENCIA!AG18<>\"V\",ASISTENCIA!AG18<>\"F\",ASISTENCIA!AG18<>\"\"),SUMIF($F$13:$J$13,AM$13,$F19:$J19),\"\")","v":""},{"$f":"IF(AND(LEN($D19)>0,SUMIF($F$13:$J$13,AN$13,$F19:$J19)>0,ASISTENCIA!AH18<>\"X\",ASISTENCIA!AH18<>\"L\",ASISTENCIA!AH18<>\"J\",ASISTENCIA!AH18<>\"V\",ASISTENCIA!AH18<>\"F\",ASISTENCIA!AH18<>\"\"),SUMIF($F$13:$J$13,AN$13,$F19:$J19),\"\")","v":""},{"$f":"IF(AND(LEN($D19)>0,SUMIF($F$13:$J$13,AO$13,$F19:$J19)>0,ASISTENCIA!AI18<>\"X\",ASISTENCIA!AI18<>\"L\",ASISTENCIA!AI18<>\"J\",ASISTENCIA!AI18<>\"V\",ASISTENCIA!AI18<>\"F\",ASISTENCIA!AI18<>\"\"),SUMIF($F$13:$J$13,AO$13,$F19:$J19),\"\")","v":""},{"$f":"IF(AND(LEN($D19)>0,SUMIF($F$13:$J$13,AP$13,$F19:$J19)>0,ASISTENCIA!AJ18<>\"X\",ASISTENCIA!AJ18<>\"L\",ASISTENCIA!AJ18<>\"J\",ASISTENCIA!AJ18<>\"V\",ASISTENCIA!AJ18<>\"F\",ASISTENCIA!AJ18<>\"\"),SUMIF($F$13:$J$13,AP$13,$F19:$J19),\"\")","v":""},{"$f":"IF(AND(LEN($D19)>0,SUMIF($F$13:$J$13,AQ$13,$F19:$J19)>0,ASISTENCIA!AK18<>\"X\",ASISTENCIA!AK18<>\"L\",ASISTENCIA!AK18<>\"J\",ASISTENCIA!AK18<>\"V\",ASISTENCIA!AK18<>\"F\",ASISTENCIA!AK18<>\"\"),SUMIF($F$13:$J$13,AQ$13,$F19:$J19),\"\")","v":""},{"$f":"IF(AND(LEN($D19)>0,SUMIF($F$13:$J$13,AR$13,$F19:$J19)>0,ASISTENCIA!AL18<>\"X\",ASISTENCIA!AL18<>\"L\",ASISTENCIA!AL18<>\"J\",ASISTENCIA!AL18<>\"V\",ASISTENCIA!AL18<>\"F\",ASISTENCIA!AL18<>\"\"),SUMIF($F$13:$J$13,AR$13,$F19:$J19),\"\")","v":""},{"$f":"IF(AND(LEN($D19)>0,SUMIF($F$13:$J$13,AS$13,$F19:$J19)>0,ASISTENCIA!AM18<>\"X\",ASISTENCIA!AM18<>\"L\",ASISTENCIA!AM18<>\"J\",ASISTENCIA!AM18<>\"V\",ASISTENCIA!AM18<>\"F\",ASISTENCIA!AM18<>\"\"),SUMIF($F$13:$J$13,AS$13,$F19:$J19),\"\")","v":""},"",null,null,null,{"$f":"IF(AND(LEN($D19)>0,SUMIF($F$13:$J$13,AX$13,$F19:$J19)>0,ASISTENCIA!AU18<>\"X\",ASISTENCIA!AU18<>\"L\",ASISTENCIA!AU18<>\"J\",ASISTENCIA!AU18<>\"F\"),SUMIF($F$13:$J$13,AX$13,$F19:$J19),\"\")","v":""},{"$f":"IF(AND(LEN($D19)>0,SUMIF($F$13:$J$13,AY$13,$F19:$J19)>0,ASISTENCIA!AV18<>\"X\",ASISTENCIA!AV18<>\"L\",ASISTENCIA!AV18<>\"J\",ASISTENCIA!AV18<>\"F\"),SUMIF($F$13:$J$13,AY$13,$F19:$J19),\"\")","v":""},{"$f":"IF(AND(LEN($D19)>0,SUMIF($F$13:$J$13,AZ$13,$F19:$J19)>0,ASISTENCIA!AW18<>\"X\",ASISTENCIA!AW18<>\"L\",ASISTENCIA!AW18<>\"J\",ASISTENCIA!AW18<>\"F\"),SUMIF($F$13:$J$13,AZ$13,$F19:$J19),\"\")","v":""},{"$f":"IF(AND(LEN($D19)>0,SUMIF($F$13:$J$13,BA$13,$F19:$J19)>0,ASISTENCIA!AX18<>\"X\",ASISTENCIA!AX18<>\"L\",ASISTENCIA!AX18<>\"J\",ASISTENCIA!AX18<>\"F\"),SUMIF($F$13:$J$13,BA$13,$F19:$J19),\"\")","v":""},{"$f":"IF(AND(LEN($D19)>0,SUMIF($F$13:$J$13,BB$13,$F19:$J19)>0,ASISTENCIA!AY18<>\"X\",ASISTENCIA!AY18<>\"L\",ASISTENCIA!AY18<>\"J\",ASISTENCIA!AY18<>\"F\"),SUMIF($F$13:$J$13,BB$13,$F19:$J19),\"\")","v":""},{"$f":"IF(AND(LEN($D19)>0,SUMIF($F$13:$J$13,BC$13,$F19:$J19)>0,ASISTENCIA!AZ18<>\"X\",ASISTENCIA!AZ18<>\"L\",ASISTENCIA!AZ18<>\"J\",ASISTENCIA!AZ18<>\"F\"),SUMIF($F$13:$J$13,BC$13,$F19:$J19),\"\")","v":""},{"$f":"IF(AND(LEN($D19)>0,SUMIF($F$13:$J$13,BD$13,$F19:$J19)>0,ASISTENCIA!BA18<>\"X\",ASISTENCIA!BA18<>\"L\",ASISTENCIA!BA18<>\"J\",ASISTENCIA!BA18<>\"F\"),SUMIF($F$13:$J$13,BD$13,$F19:$J19),\"\")","v":""},{"$f":"IF(AND(LEN($D19)>0,SUMIF($F$13:$J$13,BE$13,$F19:$J19)>0,ASISTENCIA!BB18<>\"X\",ASISTENCIA!BB18<>\"L\",ASISTENCIA!BB18<>\"J\",ASISTENCIA!BB18<>\"F\"),SUMIF($F$13:$J$13,BE$13,$F19:$J19),\"\")","v":""},{"$f":"IF(AND(LEN($D19)>0,SUMIF($F$13:$J$13,BF$13,$F19:$J19)>0,ASISTENCIA!#REF!<>\"X\",ASISTENCIA!#REF!<>\"L\",ASISTENCIA!#REF!<>\"J\",ASISTENCIA!#REF!<>\"F\"),SUMIF($F$13:$J$13,BF$13,$F19:$J19),\"\")","v":{"$error":"#REF!"}},{"$f":"IF(AND(LEN($D19)>0,SUMIF($F$13:$J$13,BG$13,$F19:$J19)>0,ASISTENCIA!#REF!<>\"X\",ASISTENCIA!#REF!<>\"L\",ASISTENCIA!#REF!<>\"J\",ASISTENCIA!#REF!<>\"F\"),SUMIF($F$13:$J$13,BG$13,$F19:$J19),\"\")","v":{"$error":"#REF!"}},{"$f":"IF(AND(LEN($D19)>0,SUMIF($F$13:$J$13,BH$13,$F19:$J19)>0,ASISTENCIA!#REF!<>\"X\",ASISTENCIA!#REF!<>\"L\",ASISTENCIA!#REF!<>\"J\",ASISTENCIA!#REF!<>\"F\"),SUMIF($F$13:$J$13,BH$13,$F19:$J19),\"\")","v":{"$error":"#REF!"}},{"$f":"IF(AND(LEN($D19)>0,SUMIF($F$13:$J$13,BI$13,$F19:$J19)>0,ASISTENCIA!BF18<>\"X\",ASISTENCIA!BF18<>\"L\",ASISTENCIA!BF18<>\"J\",ASISTENCIA!BF18<>\"F\"),SUMIF($F$13:$J$13,BI$13,$F19:$J19),\"\")","v":""},{"$f":"IF(AND(LEN($D19)>0,SUMIF($F$13:$J$13,BJ$13,$F19:$J19)>0,ASISTENCIA!BG18<>\"X\",ASISTENCIA!BG18<>\"L\",ASISTENCIA!BG18<>\"J\",ASISTENCIA!BG18<>\"F\"),SUMIF($F$13:$J$13,BJ$13,$F19:$J19),\"\")","v":""},{"$f":"IF(AND(LEN($D19)>0,SUMIF($F$13:$J$13,BK$13,$F19:$J19)>0,ASISTENCIA!BH18<>\"X\",ASISTENCIA!BH18<>\"L\",ASISTENCIA!BH18<>\"J\",ASISTENCIA!BH18<>\"F\"),SUMIF($F$13:$J$13,BK$13,$F19:$J19),\"\")","v":""},{"$f":"IF(AND(LEN($D19)>0,SUMIF($F$13:$J$13,BL$13,$F19:$J19)>0,ASISTENCIA!BI18<>\"X\",ASISTENCIA!BI18<>\"L\",ASISTENCIA!BI18<>\"J\",ASISTENCIA!BI18<>\"F\"),SUMIF($F$13:$J$13,BL$13,$F19:$J19),\"\")","v":""},{"$f":"IF(AND(LEN($D19)>0,SUMIF($F$13:$J$13,BM$13,$F19:$J19)>0,ASISTENCIA!BJ18<>\"X\",ASISTENCIA!BJ18<>\"L\",ASISTENCIA!BJ18<>\"J\",ASISTENCIA!BJ18<>\"F\"),SUMIF($F$13:$J$13,BM$13,$F19:$J19),\"\")","v":""},{"$f":"IF(AND(LEN($D19)>0,SUMIF($F$13:$J$13,BN$13,$F19:$J19)>0,ASISTENCIA!BK18<>\"X\",ASISTENCIA!BK18<>\"L\",ASISTENCIA!BK18<>\"J\",ASISTENCIA!BK18<>\"F\"),SUMIF($F$13:$J$13,BN$13,$F19:$J19),\"\")","v":""},{"$f":"IF(AND(LEN($D19)>0,SUMIF($F$13:$J$13,BO$13,$F19:$J19)>0,ASISTENCIA!BL18<>\"X\",ASISTENCIA!BL18<>\"L\",ASISTENCIA!BL18<>\"J\",ASISTENCIA!BL18<>\"F\"),SUMIF($F$13:$J$13,BO$13,$F19:$J19),\"\")","v":""},{"$f":"IF(AND(LEN($D19)>0,SUMIF($F$13:$J$13,BP$13,$F19:$J19)>0,ASISTENCIA!BM18<>\"X\",ASISTENCIA!BM18<>\"L\",ASISTENCIA!BM18<>\"J\",ASISTENCIA!BM18<>\"F\"),SUMIF($F$13:$J$13,BP$13,$F19:$J19),\"\")","v":""},{"$f":"IF(AND(LEN($D19)>0,SUMIF($F$13:$J$13,BQ$13,$F19:$J19)>0,ASISTENCIA!BN18<>\"X\",ASISTENCIA!BN18<>\"L\",ASISTENCIA!BN18<>\"J\",ASISTENCIA!BN18<>\"F\"),SUMIF($F$13:$J$13,BQ$13,$F19:$J19),\"\")","v":""},{"$f":"IF(AND(LEN($D19)>0,SUMIF($F$13:$J$13,BR$13,$F19:$J19)>0,ASISTENCIA!BO18<>\"X\",ASISTENCIA!BO18<>\"L\",ASISTENCIA!BO18<>\"J\",ASISTENCIA!BO18<>\"F\"),SUMIF($F$13:$J$13,BR$13,$F19:$J19),\"\")","v":""},{"$f":"IF(AND(LEN($D19)>0,SUMIF($F$13:$J$13,BS$13,$F19:$J19)>0,ASISTENCIA!BP18<>\"X\",ASISTENCIA!BP18<>\"L\",ASISTENCIA!BP18<>\"J\",ASISTENCIA!BP18<>\"F\"),SUMIF($F$13:$J$13,BS$13,$F19:$J19),\"\")","v":""},{"$f":"IF(AND(LEN($D19)>0,SUMIF($F$13:$J$13,BT$13,$F19:$J19)>0,ASISTENCIA!BQ18<>\"X\",ASISTENCIA!BQ18<>\"L\",ASISTENCIA!BQ18<>\"J\",ASISTENCIA!BQ18<>\"F\"),SUMIF($F$13:$J$13,BT$13,$F19:$J19),\"\")","v":""},{"$f":"IF(AND(LEN($D19)>0,SUMIF($F$13:$J$13,BU$13,$F19:$J19)>0,ASISTENCIA!BR18<>\"X\",ASISTENCIA!BR18<>\"L\",ASISTENCIA!BR18<>\"J\",ASISTENCIA!BR18<>\"F\"),SUMIF($F$13:$J$13,BU$13,$F19:$J19),\"\")","v":""},{"$f":"IF(AND(LEN($D19)>0,SUMIF($F$13:$J$13,BV$13,$F19:$J19)>0,ASISTENCIA!BS18<>\"X\",ASISTENCIA!BS18<>\"L\",ASISTENCIA!BS18<>\"J\",ASISTENCIA!BS18<>\"F\"),SUMIF($F$13:$J$13,BV$13,$F19:$J19),\"\")","v":""},{"$f":"IF(AND(LEN($D19)>0,SUMIF($F$13:$J$13,BW$13,$F19:$J19)>0,ASISTENCIA!BT18<>\"X\",ASISTENCIA!BT18<>\"L\",ASISTENCIA!BT18<>\"J\",ASISTENCIA!BT18<>\"F\"),SUMIF($F$13:$J$13,BW$13,$F19:$J19),\"\")","v":""},{"$f":"IF(AND(LEN($D19)>0,SUMIF($F$13:$J$13,BX$13,$F19:$J19)>0,ASISTENCIA!BU18<>\"X\",ASISTENCIA!BU18<>\"L\",ASISTENCIA!BU18<>\"J\",ASISTENCIA!BU18<>\"F\"),SUMIF($F$13:$J$13,BX$13,$F19:$J19),\"\")","v":""},{"$f":"IF(AND(LEN($D19)>0,SUMIF($F$13:$J$13,BY$13,$F19:$J19)>0,ASISTENCIA!BV18<>\"X\",ASISTENCIA!BV18<>\"L\",ASISTENCIA!BV18<>\"J\",ASISTENCIA!BV18<>\"F\"),SUMIF($F$13:$J$13,BY$13,$F19:$J19),\"\")","v":""},{"$f":"IF(AND(LEN($D19)>0,SUMIF($F$13:$J$13,BZ$13,$F19:$J19)>0,ASISTENCIA!BW18<>\"X\",ASISTENCIA!BW18<>\"L\",ASISTENCIA!BW18<>\"J\",ASISTENCIA!BW18<>\"F\"),SUMIF($F$13:$J$13,BZ$13,$F19:$J19),\"\")","v":""},{"$f":"IF(AND(LEN($D19)>0,SUMIF($F$13:$J$13,CA$13,$F19:$J19)>0,ASISTENCIA!BX18<>\"X\",ASISTENCIA!BX18<>\"L\",ASISTENCIA!BX18<>\"J\",ASISTENCIA!BX18<>\"F\"),SUMIF($F$13:$J$13,CA$13,$F19:$J19),\"\")","v":""},{"$f":"IF(AND(LEN($D19)>0,SUMIF($F$13:$J$13,CB$13,$F19:$J19)>0,ASISTENCIA!BY18<>\"X\",ASISTENCIA!BY18<>\"L\",ASISTENCIA!BY18<>\"J\",ASISTENCIA!BY18<>\"F\"),SUMIF($F$13:$J$13,CB$13,$F19:$J19),\"\")","v":""},{"$error":"#REF!"}]
[{"$error":"#N/A"},{"$f":"IF(LEN(C20)>0,VLOOKUP($O$4,DATA!$A$1:$S$1,2,FALSE),\"\")","v":{"$error":"#N/A"}},"JULIO",{"$f":"IF(LEN(ASISTENCIA!E19)>0,ASISTENCIA!E19,\"\")","v":"GUEVARA MAMANI, Roger"},{"$f":"IF(LEN(D20)>0,ASISTENCIA!F19,\"\")","v":"Profesor"},null,null,null,null,null,"",null,null,{"$error":"#REF!"},{"$f":"IF(AND(LEN($D20)>0,SUMIF($F$13:$J$13,O$13,$F20:$J20)>0,ASISTENCIA!I19<>\"X\",ASISTENCIA!I19<>\"L\",ASISTENCIA!I19<>\"J\",ASISTENCIA!I19<>\"V\",ASISTENCIA!I19<>\"F\",ASISTENCIA!I19<>\"\"),SUMIF($F$13:$J$13,O$13,$F20:$J20),\"\")","v":""},{"$f":"IF(AND(LEN($D20)>0,SUMIF($F$13:$J$13,P$13,$F20:$J20)>0,ASISTENCIA!J19<>\"X\",ASISTENCIA!J19<>\"L\",ASISTENCIA!J19<>\"J\",ASISTENCIA!J19<>\"V\",ASISTENCIA!J19<>\"F\",ASISTENCIA!J19<>\"\"),SUMIF($F$13:$J$13,P$13,$F20:$J20),\"\")","v":""},{"$f":"IF(AND(LEN($D20)>0,SUMIF($F$13:$J$13,Q$13,$F20:$J20)>0,ASISTENCIA!K19<>\"X\",ASISTENCIA!K19<>\"L\",ASISTENCIA!K19<>\"J\",ASISTENCIA!K19<>\"V\",ASISTENCIA!K19<>\"F\",ASISTENCIA!K19<>\"\"),SUMIF($F$13:$J$13,Q$13,$F20:$J20),\"\")","v":""},{"$f":"IF(AND(LEN($D20)>0,SUMIF($F$13:$J$13,R$13,$F20:$J20)>0,ASISTENCIA!L19<>\"X\",ASISTENCIA!L19<>\"L\",ASISTENCIA!L19<>\"J\",ASISTENCIA!L19<>\"V\",ASISTENCIA!L19<>\"F\",ASISTENCIA!L19<>\"\"),SUMIF($F$13:$J$13,R$13,$F20:$J20),\"\")","v":""},{"$f":"IF(AND(LEN($D20)>0,SUMIF($F$13:$J$13,S$13,$F20:$J20)>0,ASISTENCIA!M19<>\"X\",ASISTENCIA!M19<>\"L\",ASISTENCIA!M19<>\"J\",ASISTENCIA!M19<>\"V\",ASISTENCIA!M19<>\"F\",ASISTENCIA!M19<>\"\"),SUMIF($F$13:$J$13,S$13,$F20:$J20),\"\")","v":""},{"$f":"IF(AND(LEN($D20)>0,SUMIF($F$13:$J$13,T$13,$F20:$J20)>0,ASISTENCIA!N19<>\"X\",ASISTENCIA!N19<>\"L\",ASISTENCIA!N19<>\"J\",ASISTENCIA!N19<>\"V\",ASISTENCIA!N19<>\"F\",ASISTENCIA!N19<>\"\"),SUMIF($F$13:$J$13,T$13,$F20:$J20),\"\")","v":""},{"$f":"IF(AND(LEN($D20)>0,SUMIF($F$13:$J$13,U$13,$F20:$J20)>0,ASISTENCIA!O19<>\"X\",ASISTENCIA!O19<>\"L\",ASISTENCIA!O19<>\"J\",ASISTENCIA!O19<>\"V\",ASISTENCIA!O19<>\"F\",ASISTENCIA!O19<>\"\"),SUMIF($F$13:$J$13,U$13,$F20:$J20),\"\")","v":""},{"$f":"IF(AND(LEN($D20)>0,SUMIF($F$13:$J$13,V$13,$F20:$J20)>0,ASISTENCIA!P19<>\"X\",ASISTENCIA!P19<>\"L\",ASISTENCIA!P19<>\"J\",ASISTENCIA!P19<>\"V\",ASISTENCIA!P19<>\"F\",ASISTENCIA!P19<>\"\"),SUMIF($F$13:$J$13,V$13,$F20:$J20),\"\")","v":""},{"$f":"IF(AND(LEN($D20)>0,SUMIF($F$13:$J$13,W$13,$F20:$J20)>0,ASISTENCIA!Q19<>\"X\",ASISTENCIA!Q19<>\"L\",ASISTENCIA!Q19<>\"J\",ASISTENCIA!Q19<>\"V\",ASISTENCIA!Q19<>\"F\",ASISTENCIA!Q19<>\"\"),SUMIF($F$13:$J$13,W$13,$F20:$J20),\"\")","v":""},{"$f":"IF(AND(LEN($D20)>0,SUMIF($F$13:$J$13,X$13,$F20:$J20)>0,ASISTENCIA!R19<>\"X\",ASISTENCIA!R19<>\"L\",ASISTENCIA!R19<>\"J\",ASISTENCIA!R19<>\"V\",ASISTENCIA!R19<>\"F\",ASISTENCIA!R19<>\"\"),SUMIF($F$13:$J$13,X$13,$F20:$J20),\"\")","v":""},{"$f":"IF(AND(LEN($D20)>0,SUMIF($F$13:$J$13,Y$13,$F20:$J20)>0,ASISTENCIA!S19<>\"X\",ASISTENCIA!S19<>\"L\",ASISTENCIA!S19<>\"J\",ASISTENCIA!S19<>\"V\",ASISTENCIA!S19<>\"F\",ASISTENCIA!S19<>\"\"),SUMIF($F$13:$J$13,Y$13,$F20:$J20),\"\")","v":""},{"$f":"IF(AND(LEN($D20)>0,SUMIF($F$13:$J$13,Z$13,$F20:$J20)>0,ASISTENCIA!T19<>\"X\",ASISTENCIA!T19<>\"L\",ASISTENCIA!T19<>\"J\",ASISTENCIA!T19<>\"V\",ASISTENCIA!T19<>\"F\",ASISTENCIA!T19<>\"\"),SUMIF($F$13:$J$13,Z$13,$F20:$J20),\"\")","v":""},{"$f":"IF(AND(LEN($D20)>0,SUMIF($F$13:$J$13,AA$13,$F20:$J20)>0,ASISTENCIA!U19<>\"X\",ASISTENCIA!U19<>\"L\",ASISTENCIA!U19<>\"J\",ASISTENCIA!U19<>\"V\",ASISTENCIA!U19<>\"F\",ASISTENCIA!U19<>\"\"),SUMIF($F$13:$J$13,AA$13,$F20:$J20),\"\")","v":""},{"$f":"IF(AND(LEN($D20)>0,SUMIF($F$13:$J$13,AB$13,$F20:$J20)>0,ASISTENCIA!V19<>\"X\",ASISTENCIA!V19<>\"L\",ASISTENCIA!V19<>\"J\",ASISTENCIA!V19<>\"V\",ASISTENCIA!V19<>\"F\",ASISTENCIA!V19<>\"\"),SUMIF($F$13:$J$13,AB$13,$F20:$J20),\"\")","v":""},{"$f":"IF(AND(LEN($D20)>0,SUMIF($F$13:$J$13,AC$13,$F20:$J20)>0,ASISTENCIA!W19<>\"X\",ASISTENCIA!W19<>\"L\",ASISTENCIA!W19<>\"J\",ASISTENCIA!W19<>\"V\",ASISTENCIA!W19<>\"F\",ASISTENCIA!W19<>\"\"),SUMIF($F$13:$J$13,AC$13,$F20:$J20),\"\")","v":""},{"$f":"IF(AND(LEN($D20)>0,SUMIF($F$13:$J$13,AD$13,$F20:$J20)>0,ASISTENCIA!X19<>\"X\",ASISTENCIA!X19<>\"L\",ASISTENCIA!X19<>\"J\",ASISTENCIA!X19<>\"V\",ASISTENCIA!X19<>\"F\",ASISTENCIA!X19<>\"\"),SUMIF($F$13:$J$13,AD$13,$F20:$J20),\"\")","v":""},{"$f":"IF(AND(LEN($D20)>0,SUMIF($F$13:$J$13,AE$13,$F20:$J20)>0,ASISTENCIA!Y19<>\"X\",ASISTENCIA!Y19<>\"L\",ASISTENCIA!Y19<>\"J\",ASISTENCIA!Y19<>\"V\",ASISTENCIA!Y19<>\"F\",ASISTENCIA!Y19<>\"\"),SUMIF($F$13:$J$13,AE$13,$F20:$J20),\"\")","v":""},{"$f":"IF(AND(LEN($D20)>0,SUMIF($F$13:$J$13,AF$13,$F20:$J20)>0,ASISTENCIA!Z19<>\"X\",ASISTENCIA!Z19<>\"L\",ASISTENCIA!Z19<>\"J\",ASISTENCIA!Z19<>\"V\",ASISTENCIA!Z19<>\"F\",ASISTENCIA!Z19<>\"\"),SUMIF($F$13:$J$13,AF$13,$F20:$J20),\"\")","v":""},{"$f":"IF(AND(LEN($D20)>0,SUMIF($F$13:$J$13,AG$13,$F20:$J20)>0,ASISTENCIA!AA19<>\"X\",ASISTENCIA!AA19<>\"L\",ASISTENCIA!AA19<>\"J\",ASISTENCIA!AA19<>\"V\",ASISTENCIA!AA19<>\"F\",ASISTENCIA!AA19<>\"\"),SUMIF($F$13:$J$13,AG$13,$F20:$J20),\"\")","v":""},{"$f":"IF(AND(LEN($D20)>0,SUMIF($F$13:$J$13,AH$13,$F20:$J20)>0,ASISTENCIA!AB19<>\"X\",ASISTENCIA!AB19<>\"L\",ASISTENCIA!AB19<>\"J\",ASISTENCIA!AB19<>\"V\",ASISTENCIA!AB19<>\"F\",ASISTENCIA!AB19<>\"\"),SUMIF($F$13:$J$13,AH$13,$F20:$J20),\"\")","v":""},{"$f":"IF(AND(LEN($D20)>0,SUMIF($F$13:$J$13,AI$13,$F20:$J20)>0,ASISTENCIA!AC19<>\"X\",ASISTENCIA!AC19<>\"L\",ASISTENCIA!AC19<>\"J\",ASISTENCIA!AC19<>\"V\",ASISTENCIA!AC19<>\"F\",ASISTENCIA!AC19<>\"\"),SUMIF($F$13:$J$13,AI$13,$F20:$J20),\"\")","v":""},{"$f":"IF(AND(LEN($D20)>0,SUMIF($F$13:$J$13,AJ$13,$F20:$J20)>0,ASISTENCIA!AD19<>\"X\",ASISTENCIA!AD19<>\"L\",ASISTENCIA!AD19<>\"J\",ASISTENCIA!AD19<>\"V\",ASISTENCIA!AD19<>\"F\",ASISTENCIA!AD19<>\"\"),SUMIF($F$13:$J$13,AJ$13,$F20:$J20),\"\")","v":""},{"$f":"IF(AND(LEN($D20)>0,SUMIF($F$13:$J$13,AK$13,$F20:$J20)>0,ASISTENCIA!AE19<>\"X\",ASISTENCIA!AE19<>\"L\",ASISTENCIA!AE19<>\"J\",ASISTENCIA!AE19<>\"V\",ASISTENCIA!AE19<>\"F\",ASISTENCIA!AE19<>\"\"),SUMIF($F$13:$J$13,AK$13,$F20:$J20),\"\")","v":""},{"$f":"IF(AND(LEN($D20)>0,SUMIF($F$13:$J$13,AL$13,$F20:$J20)>0,ASISTENCIA!AF19<>\"X\",ASISTENCIA!AF19<>\"L\",ASISTENCIA!AF19<>\"J\",ASISTENCIA!AF19<>\"V\",ASISTENCIA!AF19<>\"F\",ASISTENCIA!AF19<>\"\"),SUMIF($F$13:$J$13,AL$13,$F20:$J20),\"\")","v":""},{"$f":"IF(AND(LEN($D20)>0,SUMIF($F$13:$J$13,AM$13,$F20:$J20)>0,ASISTENCIA!AG19<>\"X\",ASISTENCIA!AG19<>\"L\",ASISTENCIA!AG19<>\"J\",ASISTENCIA!AG19<>\"V\",ASISTENCIA!AG19<>\"F\",ASISTENCIA!AG19<>\"\"),SUMIF($F$13:$J$13,AM$13,$F20:$J20),\"\")","v":""},{"$f":"IF(AND(LEN($D20)>0,SUMIF($F$13:$J$13,AN$13,$F20:$J20)>0,ASISTENCIA!AH19<>\"X\",ASISTENCIA!AH19<>\"L\",ASISTENCIA!AH19<>\"J\",ASISTENCIA!AH19<>\"V\",ASISTENCIA!AH19<>\"F\",ASISTENCIA!AH19<>\"\"),SUMIF($F$13:$J$13,AN$13,$F20:$J20),\"\")","v":""},{"$f":"IF(AND(LEN($D20)>0,SUMIF($F$13:$J$13,AO$13,$F20:$J20)>0,ASISTENCIA!AI19<>\"X\",ASISTENCIA!AI19<>\"L\",ASISTENCIA!AI19<>\"J\",ASISTENCIA!AI19<>\"V\",ASISTENCIA!AI19<>\"F\",ASISTENCIA!AI19<>\"\"),SUMIF($F$13:$J$13,AO$13,$F20:$J20),\"\")","v":""},{"$f":"IF(AND(LEN($D20)>0,SUMIF($F$13:$J$13,AP$13,$F20:$J20)>0,ASISTENCIA!AJ19<>\"X\",ASISTENCIA!AJ19<>\"L\",ASISTENCIA!AJ19<>\"J\",ASISTENCIA!AJ19<>\"V\",ASISTENCIA!AJ19<>\"F\",ASISTENCIA!AJ19<>\"\"),SUMIF($F$13:$J$13,AP$13,$F20:$J20),\"\")","v":""},{"$f":"IF(AND(LEN($D20)>0,SUMIF($F$13:$J$13,AQ$13,$F20:$J20)>0,ASISTENCIA!AK19<>\"X\",ASISTENCIA!AK19<>\"L\",ASISTENCIA!AK19<>\"J\",ASISTENCIA!AK19<>\"V\",ASISTENCIA!AK19<>\"F\",ASISTENCIA!AK19<>\"\"),SUMIF($F$13:$J$13,AQ$13,$F20:$J20),\"\")","v":""},{"$f":"IF(AND(LEN($D20)>0,SUMIF($F$13:$J$13,AR$13,$F20:$J20)>0,ASISTENCIA!AL19<>\"X\",ASISTENCIA!AL19<>\"L\",ASISTENCIA!AL19<>\"J\",ASISTENCIA!AL19<>\"V\",ASISTENCIA!AL19<>\"F\",ASISTENCIA!AL19<>\"\"),SUMIF($F$13:$J$13,AR$13,$F20:$J20),\"\")","v":""},{"$f":"IF(AND(LEN($D20)>0,SUMIF($F$13:$J$13,AS$13,$F20:$J20)>0,ASISTENCIA!AM19<>\"X\",ASISTENCIA!AM19<>\"L\",ASISTENCIA!AM19<>\"J\",ASISTENCIA!AM19<>\"V\",ASISTENCIA!AM19<>\"F\",ASISTENCIA!AM19<>\"\"),SUMIF($F$13:$J$13,AS$13,$F20:$J20),\"\")","v":""},"",null,null,null,{"$f":"IF(AND(LEN($D20)>0,SUMIF($F$13:$J$13,AX$13,$F20:$J20)>0,ASISTENCIA!AU19<>\"X\",ASISTENCIA!AU19<>\"L\",ASISTENCIA!AU19<>\"J\",ASISTENCIA!AU19<>\"F\"),SUMIF($F$13:$J$13,AX$13,$F20:$J20),\"\")","v":""},{"$f":"IF(AND(LEN($D20)>0,SUMIF($F$13:$J$13,AY$13,$F20:$J20)>0,ASISTENCIA!AV19<>\"X\",ASISTENCIA!AV19<>\"L\",ASISTENCIA!AV19<>\"J\",ASISTENCIA!AV19<>\"F\"),SUMIF($F$13:$J$13,AY$13,$F20:$J20),\"\")","v":""},{"$f":"IF(AND(LEN($D20)>0,SUMIF($F$13:$J$13,AZ$13,$F20:$J20)>0,ASISTENCIA!AW19<>\"X\",ASISTENCIA!AW19<>\"L\",ASISTENCIA!AW19<>\"J\",ASISTENCIA!AW19<>\"F\"),SUMIF($F$13:$J$13,AZ$13,$F20:$J20),\"\")","v":""},{"$f":"IF(AND(LEN($D20)>0,SUMIF($F$13:$J$13,BA$13,$F20:$J20)>0,ASISTENCIA!AX19<>\"X\",ASISTENCIA!AX19<>\"L\",ASISTENCIA!AX19<>\"J\",ASISTENCIA!AX19<>\"F\"),SUMIF($F$13:$J$13,BA$13,$F20:$J20),\"\")","v":""},{"$f":"IF(AND(LEN($D20)>0,SUMIF($F$13:$J$13,BB$13,$F20:$J20)>0,ASISTENCIA!AY19<>\"X\",ASISTENCIA!AY19<>\"L\",ASISTENCIA!AY19<>\"J\",ASISTENCIA!AY19<>\"F\"),SUMIF($F$13:$J$13,BB$13,$F20:$J20),\"\")","v":""},{"$f":"IF(AND(LEN($D20)>0,SUMIF($F$13:$J$13,BC$13,$F20:$J20)>0,ASISTENCIA!AZ19<>\"X\",ASISTENCIA!AZ19<>\"L\",ASISTENCIA!AZ19<>\"J\",ASISTENCIA!AZ19<>\"F\"),SUMIF($F$13:$J$13,BC$13,$F20:$J20),\"\")","v":""},{"$f":"IF(AND(LEN($D20)>0,SUMIF($F$13:$J$13,BD$13,$F20:$J20)>0,ASISTENCIA!BA19<>\"X\",ASISTENCIA!BA19<>\"L\",ASISTENCIA!BA19<>\"J\",ASISTENCIA!BA19<>\"F\"),SUMIF($F$13:$J$13,BD$13,$F20:$J20),\"\")","v":""},{"$f":"IF(AND(LEN($D20)>0,SUMIF($F$13:$J$13,BE$13,$F20:$J20)>0,ASISTENCIA!BB19<>\"X\",ASISTENCIA!BB19<>\"L\",ASISTENCIA!BB19<>\"J\",ASISTENCIA!BB19<>\"F\"),SUMIF($F$13:$J$13,BE$13,$F20:$J20),\"\")","v":""},{"$f":"IF(AND(LEN($D20)>0,SUMIF($F$13:$J$13,BF$13,$F20:$J20)>0,ASISTENCIA!#REF!<>\"X\",ASISTENCIA!#REF!<>\"L\",ASISTENCIA!#REF!<>\"J\",ASISTENCIA!#REF!<>\"F\"),SUMIF($F$13:$J$13,BF$13,$F20:$J20),\"\")","v":{"$error":"#REF!"}},{"$f":"IF(AND(LEN($D20)>0,SUMIF($F$13:$J$13,BG$13,$F20:$J20)>0,ASISTENCIA!#REF!<>\"X\",ASISTENCIA!#REF!<>\"L\",ASISTENCIA!#REF!<>\"J\",ASISTENCIA!#REF!<>\"F\"),SUMIF($F$13:$J$13,BG$13,$F20:$J20),\"\")","v":{"$error":"#REF!"}},{"$f":"IF(AND(LEN($D20)>0,SUMIF($F$13:$J$13,BH$13,$F20:$J20)>0,ASISTENCIA!BE19<>\"X\",ASISTENCIA!BE19<>\"L\",ASISTENCIA!BE19<>\"J\",ASISTENCIA!BE19<>\"F\"),SUMIF($F$13:$J$13,BH$13,$F20:$J20),\"\")","v":""},{"$f":"IF(AND(LEN($D20)>0,SUMIF($F$13:$J$13,BI$13,$F20:$J20)>0,ASISTENCIA!BF19<>\"X\",ASISTENCIA!BF19<>\"L\",ASISTENCIA!BF19<>\"J\",ASISTENCIA!BF19<>\"F\"),SUMIF($F$13:$J$13,BI$13,$F20:$J20),\"\")","v":""},{"$f":"IF(AND(LEN($D20)>0,SUMIF($F$13:$J$13,BJ$13,$F20:$J20)>0,ASISTENCIA!BG19<>\"X\",ASISTENCIA!BG19<>\"L\",ASISTENCIA!BG19<>\"J\",ASISTENCIA!BG19<>\"F\"),SUMIF($F$13:$J$13,BJ$13,$F20:$J20),\"\")","v":""},{"$f":"IF(AND(LEN($D20)>0,SUMIF($F$13:$J$13,BK$13,$F20:$J20)>0,ASISTENCIA!BH19<>\"X\",ASISTENCIA!BH19<>\"L\",ASISTENCIA!BH19<>\"J\",ASISTENCIA!BH19<>\"F\"),SUMIF($F$13:$J$13,BK$13,$F20:$J20),\"\")","v":""},{"$f":"IF(AND(LEN($D20)>0,SUMIF($F$13:$J$13,BL$13,$F20:$J20)>0,ASISTENCIA!BI19<>\"X\",ASISTENCIA!BI19<>\"L\",ASISTENCIA!BI19<>\"J\",ASISTENCIA!BI19<>\"F\"),SUMIF($F$13:$J$13,BL$13,$F20:$J20),\"\")","v":""},{"$f":"IF(AND(LEN($D20)>0,SUMIF($F$13:$J$13,BM$13,$F20:$J20)>0,ASISTENCIA!BJ19<>\"X\",ASISTENCIA!BJ19<>\"L\",ASISTENCIA!BJ19<>\"J\",ASISTENCIA!BJ19<>\"F\"),SUMIF($F$13:$J$13,BM$13,$F20:$J20),\"\")","v":""},{"$f":"IF(AND(LEN($D20)>0,SUMIF($F$13:$J$13,BN$13,$F20:$J20)>0,ASISTENCIA!BK19<>\"X\",ASISTENCIA!BK19<>\"L\",ASISTENCIA!BK19<>\"J\",ASISTENCIA!BK19<>\"F\"),SUMIF($F$13:$J$13,BN$13,$F20:$J20),\"\")","v":""},{"$f":"IF(AND(LEN($D20)>0,SUMIF($F$13:$J$13,BO$13,$F20:$J20)>0,ASISTENCIA!BL19<>\"X\",ASISTENCIA!BL19<>\"L\",ASISTENCIA!BL19<>\"J\",ASISTENCIA!BL19<>\"F\"),SUMIF($F$13:$J$13,BO$13,$F20:$J20),\"\")","v":""},{"$f":"IF(AND(LEN($D20)>0,SUMIF($F$13:$J$13,BP$13,$F20:$J20)>0,ASISTENCIA!BM19<>\"X\",ASISTENCIA!BM19<>\"L\",ASISTENCIA!BM19<>\"J\",ASISTENCIA!BM19<>\"F\"),SUMIF($F$13:$J$13,BP$13,$F20:$J20),\"\")","v":""},{"$f":"IF(AND(LEN($D20)>0,SUMIF($F$13:$J$13,BQ$13,$F20:$J20)>0,ASISTENCIA!BN19<>\"X\",ASISTENCIA!BN19<>\"L\",ASISTENCIA!BN19<>\"J\",ASISTENCIA!BN19<>\"F\"),SUMIF($F$13:$J$13,BQ$13,$F20:$J20),\"\")","v":""},{"$f":"IF(AND(LEN($D20)>0,SUMIF($F$13:$J$13,BR$13,$F20:$J20)>0,ASISTENCIA!BO19<>\"X\",ASISTENCIA!BO19<>\"L\",ASISTENCIA!BO19<>\"J\",ASISTENCIA!BO19<>\"F\"),SUMIF($F$13:$J$13,BR$13,$F20:$J20),\"\")","v":""},{"$f":"IF(AND(LEN($D20)>0,SUMIF($F$13:$J$13,BS$13,$F20:$J20)>0,ASISTENCIA!BP19<>\"X\",ASISTENCIA!BP19<>\"L\",ASISTENCIA!BP19<>\"J\",ASISTENCIA!BP19<>\"F\"),SUMIF($F$13:$J$13,BS$13,$F20:$J20),\"\")","v":""},{"$f":"IF(AND(LEN($D20)>0,SUMIF($F$13:$J$13,BT$13,$F20:$J20)>0,ASISTENCIA!BQ19<>\"X\",ASISTENCIA!BQ19<>\"L\",ASISTENCIA!BQ19<>\"J\",ASISTENCIA!BQ19<>\"F\"),SUMIF($F$13:$J$13,BT$13,$F20:$J20),\"\")","v":""},{"$f":"IF(AND(LEN($D20)>0,SUMIF($F$13:$J$13,BU$13,$F20:$J20)>0,ASISTENCIA!BR19<>\"X\",ASISTENCIA!BR19<>\"L\",ASISTENCIA!BR19<>\"J\",ASISTENCIA!BR19<>\"F\"),SUMIF($F$13:$J$13,BU$13,$F20:$J20),\"\")","v":""},{"$f":"IF(AND(LEN($D20)>0,SUMIF($F$13:$J$13,BV$13,$F20:$J20)>0,ASISTENCIA!BS19<>\"X\",ASISTENCIA!BS19<>\"L\",ASISTENCIA!BS19<>\"J\",ASISTENCIA!BS19<>\"F\"),SUMIF($F$13:$J$13,BV$13,$F20:$J20),\"\")","v":""},{"$f":"IF(AND(LEN($D20)>0,SUMIF($F$13:$J$13,BW$13,$F20:$J20)>0,ASISTENCIA!BT19<>\"X\",ASISTENCIA!BT19<>\"L\",ASISTENCIA!BT19<>\"J\",ASISTENCIA!BT19<>\"F\"),SUMIF($F$13:$J$13,BW$13,$F20:$J20),\"\")","v":""},{"$f":"IF(AND(LEN($D20)>0,SUMIF($F$13:$J$13,BX$13,$F20:$J20)>0,ASISTENCIA!BU19<>\"X\",ASISTENCIA!BU19<>\"L\",ASISTENCIA!BU19<>\"J\",ASISTENCIA!BU19<>\"F\"),SUMIF($F$13:$J$13,BX$13,$F20:$J20),\"\")","v":""},{"$f":"IF(AND(LEN($D20)>0,SUMIF($F$13:$J$13,BY$13,$F20:$J20)>0,ASISTENCIA!BV19<>\"X\",ASISTENCIA!BV19<>\"L\",ASISTENCIA!BV19<>\"J\",ASISTENCIA!BV19<>\"F\"),SUMIF($F$13:$J$13,BY$13,$F20:$J20),\"\")","v":""},{"$f":"IF(AND(LEN($D20)>0,SUMIF($F$13:$J$13,BZ$13,$F20:$J20)>0,ASISTENCIA!BW19<>\"X\",ASISTENCIA!BW19<>\"L\",ASISTENCIA!BW19<>\"J\",ASISTENCIA!BW19<>\"F\"),SUMIF($F$13:$J$13,BZ$13,$F20:$J20),\"\")","v":""},{"$f":"IF(AND(LEN($D20)>0,SUMIF($F$13:$J$13,CA$13,$F20:$J20)>0,ASISTENCIA!BX19<>\"X\",ASISTENCIA!BX19<>\"L\",ASISTENCIA!BX19<>\"J\",ASISTENCIA!BX19<>\"F\"),SUMIF($F$13:$J$13,CA$13,$F20:$J20),\"\")","v":""},{"$f":"IF(AND(LEN($D20)>0,SUMIF($F$13:$J$13,CB$13,$F20:$J20)>0,ASISTENCIA!BY19<>\"X\",ASISTENCIA!BY19<>\"L\",ASISTENCIA!BY19<>\"J\",ASISTENCIA!BY19<>\"F\"),SUMIF($F$13:$J$13,CB$13,$F20:$J20),\"\")","v":""},{"$error":"#REF!"}]
[{"$error":"#N/A"},{"$f":"IF(LEN(C21)>0,VLOOKUP($O$4,DATA!$A$1:$S$1,2,FALSE),\"\")","v":{"$error":"#N/A"}},"JULIO",{"$f":"IF(LEN(ASISTENCIA!E20)>0,ASISTENCIA!E20,\"\")","v":"VILCA MENDOZA, Luis Adolfo"},{"$f":"IF(LEN(D21)>0,ASISTENCIA!F20,\"\")","v":"Profesor"},null,null,null,null,null,"",null,null,{"$error":"#REF!"},{"$f":"IF(AND(LEN($D21)>0,SUMIF($F$13:$J$13,O$13,$F21:$J21)>0,ASISTENCIA!I20<>\"X\",ASISTENCIA!I20<>\"L\",ASISTENCIA!I20<>\"J\",ASISTENCIA!I20<>\"V\",ASISTENCIA!I20<>\"F\",ASISTENCIA!I20<>\"\"),SUMIF($F$13:$J$13,O$13,$F21:$J21),\"\")","v":""},{"$f":"IF(AND(LEN($D21)>0,SUMIF($F$13:$J$13,P$13,$F21:$J21)>0,ASISTENCIA!J20<>\"X\",ASISTENCIA!J20<>\"L\",ASISTENCIA!J20<>\"J\",ASISTENCIA!J20<>\"V\",ASISTENCIA!J20<>\"F\",ASISTENCIA!J20<>\"\"),SUMIF($F$13:$J$13,P$13,$F21:$J21),\"\")","v":""},{"$f":"IF(AND(LEN($D21)>0,SUMIF($F$13:$J$13,Q$13,$F21:$J21)>0,ASISTENCIA!K20<>\"X\",ASISTENCIA!K20<>\"L\",ASISTENCIA!K20<>\"J\",ASISTENCIA!K20<>\"V\",ASISTENCIA!K20<>\"F\",ASISTENCIA!K20<>\"\"),SUMIF($F$13:$J$13,Q$13,$F21:$J21),\"\")","v":""},{"$f":"IF(AND(LEN($D21)>0,SUMIF($F$13:$J$13,R$13,$F21:$J21)>0,ASISTENCIA!L20<>\"X\",ASISTENCIA!L20<>\"L\",ASISTENCIA!L20<>\"J\",ASISTENCIA!L20<>\"V\",ASISTENCIA!L20<>\"F\",ASISTENCIA!L20<>\"\"),SUMIF($F$13:$J$13,R$13,$F21:$J21),\"\")","v":""},{"$f":"IF(AND(LEN($D21)>0,SUMIF($F$13:$J$13,S$13,$F21:$J21)>0,ASISTENCIA!M20<>\"X\",ASISTENCIA!M20<>\"L\",ASISTENCIA!M20<>\"J\",ASISTENCIA!M20<>\"V\",ASISTENCIA!M20<>\"F\",ASISTENCIA!M20<>\"\"),SUMIF($F$13:$J$13,S$13,$F21:$J21),\"\")","v":""},{"$f":"IF(AND(LEN($D21)>0,SUMIF($F$13:$J$13,T$13,$F21:$J21)>0,ASISTENCIA!N20<>\"X\",ASISTENCIA!N20<>\"L\",ASISTENCIA!N20<>\"J\",ASISTENCIA!N20<>\"V\",ASISTENCIA!N20<>\"F\",ASISTENCIA!N20<>\"\"),SUMIF($F$13:$J$13,T$13,$F21:$J21),\"\")","v":""},{"$f":"IF(AND(LEN($D21)>0,SUMIF($F$13:$J$13,U$13,$F21:$J21)>0,ASISTENCIA!O20<>\"X\",ASISTENCIA!O20<>\"L\",ASISTENCIA!O20<>\"J\",ASISTENCIA!O20<>\"V\",ASISTENCIA!O20<>\"F\",ASISTENCIA!O20<>\"\"),SUMIF($F$13:$J$13,U$13,$F21:$J21),\"\")","v":""},{"$f":"IF(AND(LEN($D21)>0,SUMIF($F$13:$J$13,V$13,$F21:$J21)>0,ASISTENCIA!P20<>\"X\",ASISTENCIA!P20<>\"L\",ASISTENCIA!P20<>\"J\",ASISTENCIA!P20<>\"V\",ASISTENCIA!P20<>\"F\",ASISTENCIA!P20<>\"\"),SUMIF($F$13:$J$13,V$13,$F21:$J21),\"\")","v":""},{"$f":"IF(AND(LEN($D21)>0,SUMIF($F$13:$J$13,W$13,$F21:$J21)>0,ASISTENCIA!Q20<>\"X\",ASISTENCIA!Q20<>\"L\",ASISTENCIA!Q20<>\"J\",ASISTENCIA!Q20<>\"V\",ASISTENCIA!Q20<>\"F\",ASISTENCIA!Q20<>\"\"),SUMIF($F$13:$J$13,W$13,$F21:$J21),\"\")","v":""},{"$f":"IF(AND(LEN($D21)>0,SUMIF($F$13:$J$13,X$13,$F21:$J21)>0,ASISTENCIA!R20<>\"X\",ASISTENCIA!R20<>\"L\",ASISTENCIA!R20<>\"J\",ASISTENCIA!R20<>\"V\",ASISTENCIA!R20<>\"F\",ASISTENCIA!R20<>\"\"),SUMIF($F$13:$J$13,X$13,$F21:$J21),\"\")","v":""},{"$f":"IF(AND(LEN($D21)>0,SUMIF($F$13:$J$13,Y$13,$F21:$J21)>0,ASISTENCIA!S20<>\"X\",ASISTENCIA!S20<>\"L\",ASISTENCIA!S20<>\"J\",ASISTENCIA!S20<>\"V\",ASISTENCIA!S20<>\"F\",ASISTENCIA!S20<>\"\"),SUMIF($F$13:$J$13,Y$13,$F21:$J21),\"\")","v":""},{"$f":"IF(AND(LEN($D21)>0,SUMIF($F$13:$J$13,Z$13,$F21:$J21)>0,ASISTENCIA!T20<>\"X\",ASISTENCIA!T20<>\"L\",ASISTENCIA!T20<>\"J\",ASISTENCIA!T20<>\"V\",ASISTENCIA!T20<>\"F\",ASISTENCIA!T20<>\"\"),SUMIF($F$13:$J$13,Z$13,$F21:$J21),\"\")","v":""},{"$f":"IF(AND(LEN($D21)>0,SUMIF($F$13:$J$13,AA$13,$F21:$J21)>0,ASISTENCIA!U20<>\"X\",ASISTENCIA!U20<>\"L\",ASISTENCIA!U20<>\"J\",ASISTENCIA!U20<>\"V\",ASISTENCIA!U20<>\"F\",ASISTENCIA!U20<>\"\"),SUMIF($F$13:$J$13,AA$13,$F21:$J21),\"\")","v":""},{"$f":"IF(AND(LEN($D21)>0,SUMIF($F$13:$J$13,AB$13,$F21:$J21)>0,ASISTENCIA!V20<>\"X\",ASISTENCIA!V20<>\"L\",ASISTENCIA!V20<>\"J\",ASISTENCIA!V20<>\"V\",ASISTENCIA!V20<>\"F\",ASISTENCIA!V20<>\"\"),SUMIF($F$13:$J$13,AB$13,$F21:$J21),\"\")","v":""},{"$f":"IF(AND(LEN($D21)>0,SUMIF($F$13:$J$13,AC$13,$F21:$J21)>0,ASISTENCIA!W20<>\"X\",ASISTENCIA!W20<>\"L\",ASISTENCIA!W20<>\"J\",ASISTENCIA!W20<>\"V\",ASISTENCIA!W20<>\"F\",ASISTENCIA!W20<>\"\"),SUMIF($F$13:$J$13,AC$13,$F21:$J21),\"\")","v":""},{"$f":"IF(AND(LEN($D21)>0,SUMIF($F$13:$J$13,AD$13,$F21:$J21)>0,ASISTENCIA!X20<>\"X\",ASISTENCIA!X20<>\"L\",ASISTENCIA!X20<>\"J\",ASISTENCIA!X20<>\"V\",ASISTENCIA!X20<>\"F\",ASISTENCIA!X20<>\"\"),SUMIF($F$13:$J$13,AD$13,$F21:$J21),\"\")","v":""},{"$f":"IF(AND(LEN($D21)>0,SUMIF($F$13:$J$13,AE$13,$F21:$J21)>0,ASISTENCIA!Y20<>\"X\",ASISTENCIA!Y20<>\"L\",ASISTENCIA!Y20<>\"J\",ASISTENCIA!Y20<>\"V\",ASISTENCIA!Y20<>\"F\",ASISTENCIA!Y20<>\"\"),SUMIF($F$13:$J$13,AE$13,$F21:$J21),\"\")","v":""},{"$f":"IF(AND(LEN($D21)>0,SUMIF($F$13:$J$13,AF$13,$F21:$J21)>0,ASISTENCIA!Z20<>\"X\",ASISTENCIA!Z20<>\"L\",ASISTENCIA!Z20<>\"J\",ASISTENCIA!Z20<>\"V\",ASISTENCIA!Z20<>\"F\",ASISTENCIA!Z20<>\"\"),SUMIF($F$13:$J$13,AF$13,$F21:$J21),\"\")","v":""},{"$f":"IF(AND(LEN($D21)>0,SUMIF($F$13:$J$13,AG$13,$F21:$J21)>0,ASISTENCIA!AA20<>\"X\",ASISTENCIA!AA20<>\"L\",ASISTENCIA!AA20<>\"J\",ASISTENCIA!AA20<>\"V\",ASISTENCIA!AA20<>\"F\",ASISTENCIA!AA20<>\"\"),SUMIF($F$13:$J$13,AG$13,$F21:$J21),\"\")","v":""},{"$f":"IF(AND(LEN($D21)>0,SUMIF($F$13:$J$13,AH$13,$F21:$J21)>0,ASISTENCIA!AB20<>\"X\",ASISTENCIA!AB20<>\"L\",ASISTENCIA!AB20<>\"J\",ASISTENCIA!AB20<>\"V\",ASISTENCIA!AB20<>\"F\",ASISTENCIA!AB20<>\"\"),SUMIF($F$13:$J$13,AH$13,$F21:$J21),\"\")","v":""},{"$f":"IF(AND(LEN($D21)>0,SUMIF($F$13:$J$13,AI$13,$F21:$J21)>0,ASISTENCIA!AC20<>\"X\",ASISTENCIA!AC20<>\"L\",ASISTENCIA!AC20<>\"J\",ASISTENCIA!AC20<>\"V\",ASISTENCIA!AC20<>\"F\",ASISTENCIA!AC20<>\"\"),SUMIF($F$13:$J$13,AI$13,$F21:$J21),\"\")","v":""},{"$f":"IF(AND(LEN($D21)>0,SUMIF($F$13:$J$13,AJ$13,$F21:$J21)>0,ASISTENCIA!AD20<>\"X\",ASISTENCIA!AD20<>\"L\",ASISTENCIA!AD20<>\"J\",ASISTENCIA!AD20<>\"V\",ASISTENCIA!AD20<>\"F\",ASISTENCIA!AD20<>\"\"),SUMIF($F$13:$J$13,AJ$13,$F21:$J21),\"\")","v":""},{"$f":"IF(AND(LEN($D21)>0,SUMIF($F$13:$J$13,AK$13,$F21:$J21)>0,ASISTENCIA!AE20<>\"X\",ASISTENCIA!AE20<>\"L\",ASISTENCIA!AE20<>\"J\",ASISTENCIA!AE20<>\"V\",ASISTENCIA!AE20<>\"F\",ASISTENCIA!AE20<>\"\"),SUMIF($F$13:$J$13,AK$13,$F21:$J21),\"\")","v":""},{"$f":"IF(AND(LEN($D21)>0,SUMIF($F$13:$J$13,AL$13,$F21:$J21)>0,ASISTENCIA!AF20<>\"X\",ASISTENCIA!AF20<>\"L\",ASISTENCIA!AF20<>\"J\",ASISTENCIA!AF20<>\"V\",ASISTENCIA!AF20<>\"F\",ASISTENCIA!AF20<>\"\"),SUMIF($F$13:$J$13,AL$13,$F21:$J21),\"\")","v":""},{"$f":"IF(AND(LEN($D21)>0,SUMIF($F$13:$J$13,AM$13,$F21:$J21)>0,ASISTENCIA!AG20<>\"X\",ASISTENCIA!AG20<>\"L\",ASISTENCIA!AG20<>\"J\",ASISTENCIA!AG20<>\"V\",ASISTENCIA!AG20<>\"F\",ASISTENCIA!AG20<>\"\"),SUMIF($F$13:$J$13,AM$13,$F21:$J21),\"\")","v":""},{"$f":"IF(AND(LEN($D21)>0,SUMIF($F$13:$J$13,AN$13,$F21:$J21)>0,ASISTENCIA!AH20<>\"X\",ASISTENCIA!AH20<>\"L\",ASISTENCIA!AH20<>\"J\",ASISTENCIA!AH20<>\"V\",ASISTENCIA!AH20<>\"F\",ASISTENCIA!AH20<>\"\"),SUMIF($F$13:$J$13,AN$13,$F21:$J21),\"\")","v":""},{"$f":"IF(AND(LEN($D21)>0,SUMIF($F$13:$J$13,AO$13,$F21:$J21)>0,ASISTENCIA!AI20<>\"X\",ASISTENCIA!AI20<>\"L\",ASISTENCIA!AI20<>\"J\",ASISTENCIA!AI20<>\"V\",ASISTENCIA!AI20<>\"F\",ASISTENCIA!AI20<>\"\"),SUMIF($F$13:$J$13,AO$13,$F21:$J21),\"\")","v":""},{"$f":"IF(AND(LEN($D21)>0,SUMIF($F$13:$J$13,AP$13,$F21:$J21)>0,ASISTENCIA!AJ20<>\"X\",ASISTENCIA!AJ20<>\"L\",ASISTENCIA!AJ20<>\"J\",ASISTENCIA!AJ20<>\"V\",ASISTENCIA!AJ20<>\"F\",ASISTENCIA!AJ20<>\"\"),SUMIF($F$13:$J$13,AP$13,$F21:$J21),\"\")","v":""},{"$f":"IF(AND(LEN($D21)>0,SUMIF($F$13:$J$13,AQ$13,$F21:$J21)>0,ASISTENCIA!AK20<>\"X\",ASISTENCIA!AK20<>\"L\",ASISTENCIA!AK20<>\"J\",ASISTENCIA!AK20<>\"V\",ASISTENCIA!AK20<>\"F\",ASISTENCIA!AK20<>\"\"),SUMIF($F$13:$J$13,AQ$13,$F21:$J21),\"\")","v":""},{"$f":"IF(AND(LEN($D21)>0,SUMIF($F$13:$J$13,AR$13,$F21:$J21)>0,ASISTENCIA!AL20<>\"X\",ASISTENCIA!AL20<>\"L\",ASISTENCIA!AL20<>\"J\",ASISTENCIA!AL20<>\"V\",ASISTENCIA!AL20<>\"F\",ASISTENCIA!AL20<>\"\"),SUMIF($F$13:$J$13,AR$13,$F21:$J21),\"\")","v":""},{"$f":"IF(AND(LEN($D21)>0,SUMIF($F$13:$J$13,AS$13,$F21:$J21)>0,ASISTENCIA!AM20<>\"X\",ASISTENCIA!AM20<>\"L\",ASISTENCIA!AM20<>\"J\",ASISTENCIA!AM20<>\"V\",ASISTENCIA!AM20<>\"F\",ASISTENCIA!AM20<>\"\"),SUMIF($F$13:$J$13,AS$13,$F21:$J21),\"\")","v":""},"",null,null,null,{"$f":"IF(AND(LEN($D21)>0,SUMIF($F$13:$J$13,AX$13,$F21:$J21)>0,ASISTENCIA!AU20<>\"X\",ASISTENCIA!AU20<>\"L\",ASISTENCIA!AU20<>\"J\",ASISTENCIA!AU20<>\"F\"),SUMIF($F$13:$J$13,AX$13,$F21:$J21),\"\")","v":""},{"$f":"IF(AND(LEN($D21)>0,SUMIF($F$13:$J$13,AY$13,$F21:$J21)>0,ASISTENCIA!AV20<>\"X\",ASISTENCIA!AV20<>\"L\",ASISTENCIA!AV20<>\"J\",ASISTENCIA!AV20<>\"F\"),SUMIF($F$13:$J$13,AY$13,$F21:$J21),\"\")","v":""},{"$f":"IF(AND(LEN($D21)>0,SUMIF($F$13:$J$13,AZ$13,$F21:$J21)>0,ASISTENCIA!AW20<>\"X\",ASISTENCIA!AW20<>\"L\",ASISTENCIA!AW20<>\"J\",ASISTENCIA!AW20<>\"F\"),SUMIF($F$13:$J$13,AZ$13,$F21:$J21),\"\")","v":""},{"$f":"IF(AND(LEN($D21)>0,SUMIF($F$13:$J$13,BA$13,$F21:$J21)>0,ASISTENCIA!AX20<>\"X\",ASISTENCIA!AX20<>\"L\",ASISTENCIA!AX20<>\"J\",ASISTENCIA!AX20<>\"F\"),SUMIF($F$13:$J$13,BA$13,$F21:$J21),\"\")","v":""},{"$f":"IF(AND(LEN($D21)>0,SUMIF($F$13:$J$13,BB$13,$F21:$J21)>0,ASISTENCIA!AY20<>\"X\",ASISTENCIA!AY20<>\"L\",ASISTENCIA!AY20<>\"J\",ASISTENCIA!AY20<>\"F\"),SUMIF($F$13:$J$13,BB$13,$F21:$J21),\"\")","v":""},{"$f":"IF(AND(LEN($D21)>0,SUMIF($F$13:$J$13,BC$13,$F21:$J21)>0,ASISTENCIA!AZ20<>\"X\",ASISTENCIA!AZ20<>\"L\",ASISTENCIA!AZ20<>\"J\",ASISTENCIA!AZ20<>\"F\"),SUMIF($F$13:$J$13,BC$13,$F21:$J21),\"\")","v":""},{"$f":"IF(AND(LEN($D21)>0,SUMIF($F$13:$J$13,BD$13,$F21:$J21)>0,ASISTENCIA!BA20<>\"X\",ASISTENCIA!BA20<>\"L\",ASISTENCIA!BA20<>\"J\",ASISTENCIA!BA20<>\"F\"),SUMIF($F$13:$J$13,BD$13,$F21:$J21),\"\")","v":""},{"$f":"IF(AND(LEN($D21)>0,SUMIF($F$13:$J$13,BE$13,$F21:$J21)>0,ASISTENCIA!BB20<>\"X\",ASISTENCIA!BB20<>\"L\",ASISTENCIA!BB20<>\"J\",ASISTENCIA!BB20<>\"F\"),SUMIF($F$13:$J$13,BE$13,$F21:$J21),\"\")","v":""},{"$f":"IF(AND(LEN($D21)>0,SUMIF($F$13:$J$13,BF$13,$F21:$J21)>0,ASISTENCIA!#REF!<>\"X\",ASISTENCIA!#REF!<>\"L\",ASISTENCIA!#REF!<>\"J\",ASISTENCIA!#REF!<>\"F\"),SUMIF($F$13:$J$13,BF$13,$F21:$J21),\"\")","v":{"$error":"#REF!"}},{"$f":"IF(AND(LEN($D21)>0,SUMIF($F$13:$J$13,BG$13,$F21:$J21)>0,ASISTENCIA!#REF!<>\"X\",ASISTENCIA!#REF!<>\"L\",ASISTENCIA!#REF!<>\"J\",ASISTENCIA!#REF!<>\"F\"),SUMIF($F$13:$J$13,BG$13,$F21:$J21),\"\")","v":{"$error":"#REF!"}},{"$f":"IF(AND(LEN($D21)>0,SUMIF($F$13:$J$13,BH$13,$F21:$J21)>0,ASISTENCIA!BE20<>\"X\",ASISTENCIA!BE20<>\"L\",ASISTENCIA!BE20<>\"J\",ASISTENCIA!BE20<>\"F\"),SUMIF($F$13:$J$13,BH$13,$F21:$J21),\"\")","v":""},{"$f":"IF(AND(LEN($D21)>0,SUMIF($F$13:$J$13,BI$13,$F21:$J21)>0,ASISTENCIA!BF20<>\"X\",ASISTENCIA!BF20<>\"L\",ASISTENCIA!BF20<>\"J\",ASISTENCIA!BF20<>\"F\"),SUMIF($F$13:$J$13,BI$13,$F21:$J21),\"\")","v":""},{"$f":"IF(AND(LEN($D21)>0,SUMIF($F$13:$J$13,BJ$13,$F21:$J21)>0,ASISTENCIA!BG20<>\"X\",ASISTENCIA!BG20<>\"L\",ASISTENCIA!BG20<>\"J\",ASISTENCIA!BG20<>\"F\"),SUMIF($F$13:$J$13,BJ$13,$F21:$J21),\"\")","v":""},{"$f":"IF(AND(LEN($D21)>0,SUMIF($F$13:$J$13,BK$13,$F21:$J21)>0,ASISTENCIA!BH20<>\"X\",ASISTENCIA!BH20<>\"L\",ASISTENCIA!BH20<>\"J\",ASISTENCIA!BH20<>\"F\"),SUMIF($F$13:$J$13,BK$13,$F21:$J21),\"\")","v":""},{"$f":"IF(AND(LEN($D21)>0,SUMIF($F$13:$J$13,BL$13,$F21:$J21)>0,ASISTENCIA!BI20<>\"X\",ASISTENCIA!BI20<>\"L\",ASISTENCIA!BI20<>\"J\",ASISTENCIA!BI20<>\"F\"),SUMIF($F$13:$J$13,BL$13,$F21:$J21),\"\")","v":""},{"$f":"IF(AND(LEN($D21)>0,SUMIF($F$13:$J$13,BM$13,$F21:$J21)>0,ASISTENCIA!BJ20<>\"X\",ASISTENCIA!BJ20<>\"L\",ASISTENCIA!BJ20<>\"J\",ASISTENCIA!BJ20<>\"F\"),SUMIF($F$13:$J$13,BM$13,$F21:$J21),\"\")","v":""},{"$f":"IF(AND(LEN($D21)>0,SUMIF($F$13:$J$13,BN$13,$F21:$J21)>0,ASISTENCIA!BK20<>\"X\",ASISTENCIA!BK20<>\"L\",ASISTENCIA!BK20<>\"J\",ASISTENCIA!BK20<>\"F\"),SUMIF($F$13:$J$13,BN$13,$F21:$J21),\"\")","v":""},{"$f":"IF(AND(LEN($D21)>0,SUMIF($F$13:$J$13,BO$13,$F21:$J21)>0,ASISTENCIA!BL20<>\"X\",ASISTENCIA!BL20<>\"L\",ASISTENCIA!BL20<>\"J\",ASISTENCIA!BL20<>\"F\"),SUMIF($F$13:$J$13,BO$13,$F21:$J21),\"\")","v":""},{"$f":"IF(AND(LEN($D21)>0,SUMIF($F$13:$J$13,BP$13,$F21:$J21)>0,ASISTENCIA!BM20<>\"X\",ASISTENCIA!BM20<>\"L\",ASISTENCIA!BM20<>\"J\",ASISTENCIA!BM20<>\"F\"),SUMIF($F$13:$J$13,BP$13,$F21:$J21),\"\")","v":""},{"$f":"IF(AND(LEN($D21)>0,SUMIF($F$13:$J$13,BQ$13,$F21:$J21)>0,ASISTENCIA!BN20<>\"X\",ASISTENCIA!BN20<>\"L\",ASISTENCIA!BN20<>\"J\",ASISTENCIA!BN20<>\"F\"),SUMIF($F$13:$J$13,BQ$13,$F21:$J21),\"\")","v":""},{"$f":"IF(AND(LEN($D21)>0,SUMIF($F$13:$J$13,BR$13,$F21:$J21)>0,ASISTENCIA!BO20<>\"X\",ASISTENCIA!BO20<>\"L\",ASISTENCIA!BO20<>\"J\",ASISTENCIA!BO20<>\"F\"),SUMIF($F$13:$J$13,BR$13,$F21:$J21),\"\")","v":""},{"$f":"IF(AND(LEN($D21)>0,SUMIF($F$13:$J$13,BS$13,$F21:$J21)>0,ASISTENCIA!BP20<>\"X\",ASISTENCIA!BP20<>\"L\",ASISTENCIA!BP20<>\"J\",ASISTENCIA!BP20<>\"F\"),SUMIF($F$13:$J$13,BS$13,$F21:$J21),\"\")","v":""},{"$f":"IF(AND(LEN($D21)>0,SUMIF($F$13:$J$13,BT$13,$F21:$J21)>0,ASISTENCIA!BQ20<>\"X\",ASISTENCIA!BQ20<>\"L\",ASISTENCIA!BQ20<>\"J\",ASISTENCIA!BQ20<>\"F\"),SUMIF($F$13:$J$13,BT$13,$F21:$J21),\"\")","v":""},{"$f":"IF(AND(LEN($D21)>0,SUMIF($F$13:$J$13,BU$13,$F21:$J21)>0,ASISTENCIA!BR20<>\"X\",ASISTENCIA!BR20<>\"L\",ASISTENCIA!BR20<>\"J\",ASISTENCIA!BR20<>\"F\"),SUMIF($F$13:$J$13,BU$13,$F21:$J21),\"\")","v":""},{"$f":"IF(AND(LEN($D21)>0,SUMIF($F$13:$J$13,BV$13,$F21:$J21)>0,ASISTENCIA!BS20<>\"X\",ASISTENCIA!BS20<>\"L\",ASISTENCIA!BS20<>\"J\",ASISTENCIA!BS20<>\"F\"),SUMIF($F$13:$J$13,BV$13,$F21:$J21),\"\")","v":""},{"$f":"IF(AND(LEN($D21)>0,SUMIF($F$13:$J$13,BW$13,$F21:$J21)>0,ASISTENCIA!BT20<>\"X\",ASISTENCIA!BT20<>\"L\",ASISTENCIA!BT20<>\"J\",ASISTENCIA!BT20<>\"F\"),SUMIF($F$13:$J$13,BW$13,$F21:$J21),\"\")","v":""},{"$f":"IF(AND(LEN($D21)>0,SUMIF($F$13:$J$13,BX$13,$F21:$J21)>0,ASISTENCIA!BU20<>\"X\",ASISTENCIA!BU20<>\"L\",ASISTENCIA!BU20<>\"J\",ASISTENCIA!BU20<>\"F\"),SUMIF($F$13:$J$13,BX$13,$F21:$J21),\"\")","v":""},{"$f":"IF(AND(LEN($D21)>0,SUMIF($F$13:$J$13,BY$13,$F21:$J21)>0,ASISTENCIA!BV20<>\"X\",ASISTENCIA!BV20<>\"L\",ASISTENCIA!BV20<>\"J\",ASISTENCIA!BV20<>\"F\"),SUMIF($F$13:$J$13,BY$13,$F21:$J21),\"\")","v":""},{"$f":"IF(AND(LEN($D21)>0,SUMIF($F$13:$J$13,BZ$13,$F21:$J21)>0,ASISTENCIA!BW20<>\"X\",ASISTENCIA!BW20<>\"L\",ASISTENCIA!BW20<>\"J\",ASISTENCIA!BW20<>\"F\"),SUMIF($F$13:$J$13,BZ$13,$F21:$J21),\"\")","v":""},{"$f":"IF(AND(LEN($D21)>0,SUMIF($F$13:$J$13,CA$13,$F21:$J21)>0,ASISTENCIA!BX20<>\"X\",ASISTENCIA!BX20<>\"L\",ASISTENCIA!BX20<>\"J\",ASISTENCIA!BX20<>\"F\"),SUMIF($F$13:$J$13,CA$13,$F21:$J21),\"\")","v":""},{"$f":"IF(AND(LEN($D21)>0,SUMIF($F$13:$J$13,CB$13,$F21:$J21)>0,ASISTENCIA!BY20<>\"X\",ASISTENCIA!BY20<>\"L\",ASISTENCIA!BY20<>\"J\",ASISTENCIA!BY20<>\"F\"),SUMIF($F$13:$J$13,CB$13,$F21:$J21),\"\")","v":""},{"$error":"#REF!"}]
[{"$error":"#N/A"},{"$f":"IF(LEN(C22)>0,VLOOKUP($O$4,DATA!$A$1:$S$1,2,FALSE),\"\")","v":{"$error":"#N/A"}},"JULIO",{"$f":"IF(LEN(ASISTENCIA!E21)>0,ASISTENCIA!E21,\"\")","v":"CHOQUE ESCOBAR, Fredy"},{"$f":"IF(LEN(D22)>0,ASISTENCIA!F21,\"\")","v":"Profesor"},null,null,null,null,null,"",null,null,{"$error":"#REF!"},{"$f":"IF(AND(LEN($D22)>0,SUMIF($F$13:$J$13,O$13,$F22:$J22)>0,ASISTENCIA!I21<>\"X\",ASISTENCIA!I21<>\"L\",ASISTENCIA!I21<>\"J\",ASISTENCIA!I21<>\"V\",ASISTENCIA!I21<>\"F\",ASISTENCIA!I21<>\"\"),SUMIF($F$13:$J$13,O$13,$F22:$J22),\"\")","v":""},{"$f":"IF(AND(LEN($D22)>0,SUMIF($F$13:$J$13,P$13,$F22:$J22)>0,ASISTENCIA!J21<>\"X\",ASISTENCIA!J21<>\"L\",ASISTENCIA!J21<>\"J\",ASISTENCIA!J21<>\"V\",ASISTENCIA!J21<>\"F\",ASISTENCIA!J21<>\"\"),SUMIF($F$13:$J$13,P$13,$F22:$J22),\"\")","v":""},{"$f":"IF(AND(LEN($D22)>0,SUMIF($F$13:$J$13,Q$13,$F22:$J22)>0,ASISTENCIA!K21<>\"X\",ASISTENCIA!K21<>\"L\",ASISTENCIA!K21<>\"J\",ASISTENCIA!K21<>\"V\",ASISTENCIA!K21<>\"F\",ASISTENCIA!K21<>\"\"),SUMIF($F$13:$J$13,Q$13,$F22:$J22),\"\")","v":""},{"$f":"IF(AND(LEN($D22)>0,SUMIF($F$13:$J$13,R$13,$F22:$J22)>0,ASISTENCIA!L21<>\"X\",ASISTENCIA!L21<>\"L\",ASISTENCIA!L21<>\"J\",ASISTENCIA!L21<>\"V\",ASISTENCIA!L21<>\"F\",ASISTENCIA!L21<>\"\"),SUMIF($F$13:$J$13,R$13,$F22:$J22),\"\")","v":""},{"$f":"IF(AND(LEN($D22)>0,SUMIF($F$13:$J$13,S$13,$F22:$J22)>0,ASISTENCIA!M21<>\"X\",ASISTENCIA!M21<>\"L\",ASISTENCIA!M21<>\"J\",ASISTENCIA!M21<>\"V\",ASISTENCIA!M21<>\"F\",ASISTENCIA!M21<>\"\"),SUMIF($F$13:$J$13,S$13,$F22:$J22),\"\")","v":""},{"$f":"IF(AND(LEN($D22)>0,SUMIF($F$13:$J$13,T$13,$F22:$J22)>0,ASISTENCIA!N21<>\"X\",ASISTENCIA!N21<>\"L\",ASISTENCIA!N21<>\"J\",ASISTENCIA!N21<>\"V\",ASISTENCIA!N21<>\"F\",ASISTENCIA!N21<>\"\"),SUMIF($F$13:$J$13,T$13,$F22:$J22),\"\")","v":""},{"$f":"IF(AND(LEN($D22)>0,SUMIF($F$13:$J$13,U$13,$F22:$J22)>0,ASISTENCIA!O21<>\"X\",ASISTENCIA!O21<>\"L\",ASISTENCIA!O21<>\"J\",ASISTENCIA!O21<>\"V\",ASISTENCIA!O21<>\"F\",ASISTENCIA!O21<>\"\"),SUMIF($F$13:$J$13,U$13,$F22:$J22),\"\")","v":""},{"$f":"IF(AND(LEN($D22)>0,SUMIF($F$13:$J$13,V$13,$F22:$J22)>0,ASISTENCIA!P21<>\"X\",ASISTENCIA!P21<>\"L\",ASISTENCIA!P21<>\"J\",ASISTENCIA!P21<>\"V\",ASISTENCIA!P21<>\"F\",ASISTENCIA!P21<>\"\"),SUMIF($F$13:$J$13,V$13,$F22:$J22),\"\")","v":""},{"$f":"IF(AND(LEN($D22)>0,SUMIF($F$13:$J$13,W$13,$F22:$J22)>0,ASISTENCIA!Q21<>\"X\",ASISTENCIA!Q21<>\"L\",ASISTENCIA!Q21<>\"J\",ASISTENCIA!Q21<>\"V\",ASISTENCIA!Q21<>\"F\",ASISTENCIA!Q21<>\"\"),SUMIF($F$13:$J$13,W$13,$F22:$J22),\"\")","v":""},{"$f":"IF(AND(LEN($D22)>0,SUMIF($F$13:$J$13,X$13,$F22:$J22)>0,ASISTENCIA!R21<>\"X\",ASISTENCIA!R21<>\"L\",ASISTENCIA!R21<>\"J\",ASISTENCIA!R21<>\"V\",ASISTENCIA!R21<>\"F\",ASISTENCIA!R21<>\"\"),SUMIF($F$13:$J$13,X$13,$F22:$J22),\"\")","v":""},{"$f":"IF(AND(LEN($D22)>0,SUMIF($F$13:$J$13,Y$13,$F22:$J22)>0,ASISTENCIA!S21<>\"X\",ASISTENCIA!S21<>\"L\",ASISTENCIA!S21<>\"J\",ASISTENCIA!S21<>\"V\",ASISTENCIA!S21<>\"F\",ASISTENCIA!S21<>\"\"),SUMIF($F$13:$J$13,Y$13,$F22:$J22),\"\")","v":""},{"$f":"IF(AND(LEN($D22)>0,SUMIF($F$13:$J$13,Z$13,$F22:$J22)>0,ASISTENCIA!T21<>\"X\",ASISTENCIA!T21<>\"L\",ASISTENCIA!T21<>\"J\",ASISTENCIA!T21<>\"V\",ASISTENCIA!T21<>\"F\",ASISTENCIA!T21<>\"\"),SUMIF($F$13:$J$13,Z$13,$F22:$J22),\"\")","v":""},{"$f":"IF(AND(LEN($D22)>0,SUMIF($F$13:$J$13,AA$13,$F22:$J22)>0,ASISTENCIA!U21<>\"X\",ASISTENCIA!U21<>\"L\",ASISTENCIA!U21<>\"J\",ASISTENCIA!U21<>\"V\",ASISTENCIA!U21<>\"F\",ASISTENCIA!U21<>\"\"),SUMIF($F$13:$J$13,AA$13,$F22:$J22),\"\")","v":""},{"$f":"IF(AND(LEN($D22)>0,SUMIF($F$13:$J$13,AB$13,$F22:$J22)>0,ASISTENCIA!V21<>\"X\",ASISTENCIA!V21<>\"L\",ASISTENCIA!V21<>\"J\",ASISTENCIA!V21<>\"V\",ASISTENCIA!V21<>\"F\",ASISTENCIA!V21<>\"\"),SUMIF($F$13:$J$13,AB$13,$F22:$J22),\"\")","v":""},{"$f":"IF(AND(LEN($D22)>0,SUMIF($F$13:$J$13,AC$13,$F22:$J22)>0,ASISTENCIA!W21<>\"X\",ASISTENCIA!W21<>\"L\",ASISTENCIA!W21<>\"J\",ASISTENCIA!W21<>\"V\",ASISTENCIA!W21<>\"F\",ASISTENCIA!W21<>\"\"),SUMIF($F$13:$J$13,AC$13,$F22:$J22),\"\")","v":""},{"$f":"IF(AND(LEN($D22)>0,SUMIF($F$13:$J$13,AD$13,$F22:$J22)>0,ASISTENCIA!X21<>\"X\",ASISTENCIA!X21<>\"L\",ASISTENCIA!X21<>\"J\",ASISTENCIA!X21<>\"V\",ASISTENCIA!X21<>\"F\",ASISTENCIA!X21<>\"\"),SUMIF($F$13:$J$13,AD$13,$F22:$J22),\"\")","v":""},{"$f":"IF(AND(LEN($D22)>0,SUMIF($F$13:$J$13,AE$13,$F22:$J22)>0,ASISTENCIA!Y21<>\"X\",ASISTENCIA!Y21<>\"L\",ASISTENCIA!Y21<>\"J\",ASISTENCIA!Y21<>\"V\",ASISTENCIA!Y21<>\"F\",ASISTENCIA!Y21<>\"\"),SUMIF($F$13:$J$13,AE$13,$F22:$J22),\"\")","v":""},{"$f":"IF(AND(LEN($D22)>0,SUMIF($F$13:$J$13,AF$13,$F22:$J22)>0,ASISTENCIA!Z21<>\"X\",ASISTENCIA!Z21<>\"L\",ASISTENCIA!Z21<>\"J\",ASISTENCIA!Z21<>\"V\",ASISTENCIA!Z21<>\"F\",ASISTENCIA!Z21<>\"\"),SUMIF($F$13:$J$13,AF$13,$F22:$J22),\"\")","v":""},{"$f":"IF(AND(LEN($D22)>0,SUMIF($F$13:$J$13,AG$13,$F22:$J22)>0,ASISTENCIA!AA21<>\"X\",ASISTENCIA!AA21<>\"L\",ASISTENCIA!AA21<>\"J\",ASISTENCIA!AA21<>\"V\",ASISTENCIA!AA21<>\"F\",ASISTENCIA!AA21<>\"\"),SUMIF($F$13:$J$13,AG$13,$F22:$J22),\"\")","v":""},{"$f":"IF(AND(LEN($D22)>0,SUMIF($F$13:$J$13,AH$13,$F22:$J22)>0,ASISTENCIA!AB21<>\"X\",ASISTENCIA!AB21<>\"L\",ASISTENCIA!AB21<>\"J\",ASISTENCIA!AB21<>\"V\",ASISTENCIA!AB21<>\"F\",ASISTENCIA!AB21<>\"\"),SUMIF($F$13:$J$13,AH$13,$F22:$J22),\"\")","v":""},{"$f":"IF(AND(LEN($D22)>0,SUMIF($F$13:$J$13,AI$13,$F22:$J22)>0,ASISTENCIA!AC21<>\"X\",ASISTENCIA!AC21<>\"L\",ASISTENCIA!AC21<>\"J\",ASISTENCIA!AC21<>\"V\",ASISTENCIA!AC21<>\"F\",ASISTENCIA!AC21<>\"\"),SUMIF($F$13:$J$13,AI$13,$F22:$J22),\"\")","v":""},{"$f":"IF(AND(LEN($D22)>0,SUMIF($F$13:$J$13,AJ$13,$F22:$J22)>0,ASISTENCIA!AD21<>\"X\",ASISTENCIA!AD21<>\"L\",ASISTENCIA!AD21<>\"J\",ASISTENCIA!AD21<>\"V\",ASISTENCIA!AD21<>\"F\",ASISTENCIA!AD21<>\"\"),SUMIF($F$13:$J$13,AJ$13,$F22:$J22),\"\")","v":""},{"$f":"IF(AND(LEN($D22)>0,SUMIF($F$13:$J$13,AK$13,$F22:$J22)>0,ASISTENCIA!AE21<>\"X\",ASISTENCIA!AE21<>\"L\",ASISTENCIA!AE21<>\"J\",ASISTENCIA!AE21<>\"V\",ASISTENCIA!AE21<>\"F\",ASISTENCIA!AE21<>\"\"),SUMIF($F$13:$J$13,AK$13,$F22:$J22),\"\")","v":""},{"$f":"IF(AND(LEN($D22)>0,SUMIF($F$13:$J$13,AL$13,$F22:$J22)>0,ASISTENCIA!AF21<>\"X\",ASISTENCIA!AF21<>\"L\",ASISTENCIA!AF21<>\"J\",ASISTENCIA!AF21<>\"V\",ASISTENCIA!AF21<>\"F\",ASISTENCIA!AF21<>\"\"),SUMIF($F$13:$J$13,AL$13,$F22:$J22),\"\")","v":""},{"$f":"IF(AND(LEN($D22)>0,SUMIF($F$13:$J$13,AM$13,$F22:$J22)>0,ASISTENCIA!AG21<>\"X\",ASISTENCIA!AG21<>\"L\",ASISTENCIA!AG21<>\"J\",ASISTENCIA!AG21<>\"V\",ASISTENCIA!AG21<>\"F\",ASISTENCIA!AG21<>\"\"),SUMIF($F$13:$J$13,AM$13,$F22:$J22),\"\")","v":""},{"$f":"IF(AND(LEN($D22)>0,SUMIF($F$13:$J$13,AN$13,$F22:$J22)>0,ASISTENCIA!AH21<>\"X\",ASISTENCIA!AH21<>\"L\",ASISTENCIA!AH21<>\"J\",ASISTENCIA!AH21<>\"V\",ASISTENCIA!AH21<>\"F\",ASISTENCIA!AH21<>\"\"),SUMIF($F$13:$J$13,AN$13,$F22:$J22),\"\")","v":""},{"$f":"IF(AND(LEN($D22)>0,SUMIF($F$13:$J$13,AO$13,$F22:$J22)>0,ASISTENCIA!AI21<>\"X\",ASISTENCIA!AI21<>\"L\",ASISTENCIA!AI21<>\"J\",ASISTENCIA!AI21<>\"V\",ASISTENCIA!AI21<>\"F\",ASISTENCIA!AI21<>\"\"),SUMIF($F$13:$J$13,AO$13,$F22:$J22),\"\")","v":""},{"$f":"IF(AND(LEN($D22)>0,SUMIF($F$13:$J$13,AP$13,$F22:$J22)>0,ASISTENCIA!AJ21<>\"X\",ASISTENCIA!AJ21<>\"L\",ASISTENCIA!AJ21<>\"J\",ASISTENCIA!AJ21<>\"V\",ASISTENCIA!AJ21<>\"F\",ASISTENCIA!AJ21<>\"\"),SUMIF($F$13:$J$13,AP$13,$F22:$J22),\"\")","v":""},{"$f":"IF(AND(LEN($D22)>0,SUMIF($F$13:$J$13,AQ$13,$F22:$J22)>0,ASISTENCIA!AK21<>\"X\",ASISTENCIA!AK21<>\"L\",ASISTENCIA!AK21<>\"J\",ASISTENCIA!AK21<>\"V\",ASISTENCIA!AK21<>\"F\",ASISTENCIA!AK21<>\"\"),SUMIF($F$13:$J$13,AQ$13,$F22:$J22),\"\")","v":""},{"$f":"IF(AND(LEN($D22)>0,SUMIF($F$13:$J$13,AR$13,$F22:$J22)>0,ASISTENCIA!AL21<>\"X\",ASISTENCIA!AL21<>\"L\",ASISTENCIA!AL21<>\"J\",ASISTENCIA!AL21<>\"V\",ASISTENCIA!AL21<>\"F\",ASISTENCIA!AL21<>\"\"),SUMIF($F$13:$J$13,AR$13,$F22:$J22),\"\")","v":""},{"$f":"IF(AND(LEN($D22)>0,SUMIF($F$13:$J$13,AS$13,$F22:$J22)>0,ASISTENCIA!AM21<>\"X\",ASISTENCIA!AM21<>\"L\",ASISTENCIA!AM21<>\"J\",ASISTENCIA!AM21<>\"V\",ASISTENCIA!AM21<>\"F\",ASISTENCIA!AM21<>\"\"),SUMIF($F$13:$J$13,AS$13,$F22:$J22),\"\")","v":""},"",null,null,null,{"$f":"IF(AND(LEN($D22)>0,SUMIF($F$13:$J$13,AX$13,$F22:$J22)>0,ASISTENCIA!AU21<>\"X\",ASISTENCIA!AU21<>\"L\",ASISTENCIA!AU21<>\"J\",ASISTENCIA!AU21<>\"F\"),SUMIF($F$13:$J$13,AX$13,$F22:$J22),\"\")","v":""},{"$f":"IF(AND(LEN($D22)>0,SUMIF($F$13:$J$13,AY$13,$F22:$J22)>0,ASISTENCIA!AV21<>\"X\",ASISTENCIA!AV21<>\"L\",ASISTENCIA!AV21<>\"J\",ASISTENCIA!AV21<>\"F\"),SUMIF($F$13:$J$13,AY$13,$F22:$J22),\"\")","v":""},{"$f":"IF(AND(LEN($D22)>0,SUMIF($F$13:$J$13,AZ$13,$F22:$J22)>0,ASISTENCIA!AW21<>\"X\",ASISTENCIA!AW21<>\"L\",ASISTENCIA!AW21<>\"J\",ASISTENCIA!AW21<>\"F\"),SUMIF($F$13:$J$13,AZ$13,$F22:$J22),\"\")","v":""},{"$f":"IF(AND(LEN($D22)>0,SUMIF($F$13:$J$13,BA$13,$F22:$J22)>0,ASISTENCIA!AX21<>\"X\",ASISTENCIA!AX21<>\"L\",ASISTENCIA!AX21<>\"J\",ASISTENCIA!AX21<>\"F\"),SUMIF($F$13:$J$13,BA$13,$F22:$J22),\"\")","v":""},{"$f":"IF(AND(LEN($D22)>0,SUMIF($F$13:$J$13,BB$13,$F22:$J22)>0,ASISTENCIA!AY21<>\"X\",ASISTENCIA!AY21<>\"L\",ASISTENCIA!AY21<>\"J\",ASISTENCIA!AY21<>\"F\"),SUMIF($F$13:$J$13,BB$13,$F22:$J22),\"\")","v":""},{"$f":"IF(AND(LEN($D22)>0,SUMIF($F$13:$J$13,BC$13,$F22:$J22)>0,ASISTENCIA!AZ21<>\"X\",ASISTENCIA!AZ21<>\"L\",ASISTENCIA!AZ21<>\"J\",ASISTENCIA!AZ21<>\"F\"),SUMIF($F$13:$J$13,BC$13,$F22:$J22),\"\")","v":""},{"$f":"IF(AND(LEN($D22)>0,SUMIF($F$13:$J$13,BD$13,$F22:$J22)>0,ASISTENCIA!BA21<>\"X\",ASISTENCIA!BA21<>\"L\",ASISTENCIA!BA21<>\"J\",ASISTENCIA!BA21<>\"F\"),SUMIF($F$13:$J$13,BD$13,$F22:$J22),\"\")","v":""},{"$f":"IF(AND(LEN($D22)>0,SUMIF($F$13:$J$13,BE$13,$F22:$J22)>0,ASISTENCIA!BB21<>\"X\",ASISTENCIA!BB21<>\"L\",ASISTENCIA!BB21<>\"J\",ASISTENCIA!BB21<>\"F\"),SUMIF($F$13:$J$13,BE$13,$F22:$J22),\"\")","v":""},{"$f":"IF(AND(LEN($D22)>0,SUMIF($F$13:$J$13,BF$13,$F22:$J22)>0,ASISTENCIA!#REF!<>\"X\",ASISTENCIA!#REF!<>\"L\",ASISTENCIA!#REF!<>\"J\",ASISTENCIA!#REF!<>\"F\"),SUMIF($F$13:$J$13,BF$13,$F22:$J22),\"\")","v":{"$error":"#REF!"}},{"$f":"IF(AND(LEN($D22)>0,SUMIF($F$13:$J$13,BG$13,$F22:$J22)>0,ASISTENCIA!#REF!<>\"X\",ASISTENCIA!#REF!<>\"L\",ASISTENCIA!#REF!<>\"J\",ASISTENCIA!#REF!<>\"F\"),SUMIF($F$13:$J$13,BG$13,$F22:$J22),\"\")","v":{"$error":"#REF!"}},{"$f":"IF(AND(LEN($D22)>0,SUMIF($F$13:$J$13,BH$13,$F22:$J22)>0,ASISTENCIA!BE21<>\"X\",ASISTENCIA!BE21<>\"L\",ASISTENCIA!BE21<>\"J\",ASISTENCIA!BE21<>\"F\"),SUMIF($F$13:$J$13,BH$13,$F22:$J22),\"\")","v":""},{"$f":"IF(AND(LEN($D22)>0,SUMIF($F$13:$J$13,BI$13,$F22:$J22)>0,ASISTENCIA!BF21<>\"X\",ASISTENCIA!BF21<>\"L\",ASISTENCIA!BF21<>\"J\",ASISTENCIA!BF21<>\"F\"),SUMIF($F$13:$J$13,BI$13,$F22:$J22),\"\")","v":""},{"$f":"IF(AND(LEN($D22)>0,SUMIF($F$13:$J$13,BJ$13,$F22:$J22)>0,ASISTENCIA!BG21<>\"X\",ASISTENCIA!BG21<>\"L\",ASISTENCIA!BG21<>\"J\",ASISTENCIA!BG21<>\"F\"),SUMIF($F$13:$J$13,BJ$13,$F22:$J22),\"\")","v":""},{"$f":"IF(AND(LEN($D22)>0,SUMIF($F$13:$J$13,BK$13,$F22:$J22)>0,ASISTENCIA!BH21<>\"X\",ASISTENCIA!BH21<>\"L\",ASISTENCIA!BH21<>\"J\",ASISTENCIA!BH21<>\"F\"),SUMIF($F$13:$J$13,BK$13,$F22:$J22),\"\")","v":""},{"$f":"IF(AND(LEN($D22)>0,SUMIF($F$13:$J$13,BL$13,$F22:$J22)>0,ASISTENCIA!BI21<>\"X\",ASISTENCIA!BI21<>\"L\",ASISTENCIA!BI21<>\"J\",ASISTENCIA!BI21<>\"F\"),SUMIF($F$13:$J$13,BL$13,$F22:$J22),\"\")","v":""},{"$f":"IF(AND(LEN($D22)>0,SUMIF($F$13:$J$13,BM$13,$F22:$J22)>0,ASISTENCIA!BJ21<>\"X\",ASISTENCIA!BJ21<>\"L\",ASISTENCIA!BJ21<>\"J\",ASISTENCIA!BJ21<>\"F\"),SUMIF($F$13:$J$13,BM$13,$F22:$J22),\"\")","v":""},{"$f":"IF(AND(LEN($D22)>0,SUMIF($F$13:$J$13,BN$13,$F22:$J22)>0,ASISTENCIA!BK21<>\"X\",ASISTENCIA!BK21<>\"L\",ASISTENCIA!BK21<>\"J\",ASISTENCIA!BK21<>\"F\"),SUMIF($F$13:$J$13,BN$13,$F22:$J22),\"\")","v":""},{"$f":"IF(AND(LEN($D22)>0,SUMIF($F$13:$J$13,BO$13,$F22:$J22)>0,ASISTENCIA!BL21<>\"X\",ASISTENCIA!BL21<>\"L\",ASISTENCIA!BL21<>\"J\",ASISTENCIA!BL21<>\"F\"),SUMIF($F$13:$J$13,BO$13,$F22:$J22),\"\")","v":""},{"$f":"IF(AND(LEN($D22)>0,SUMIF($F$13:$J$13,BP$13,$F22:$J22)>0,ASISTENCIA!BM21<>\"X\",ASISTENCIA!BM21<>\"L\",ASISTENCIA!BM21<>\"J\",ASISTENCIA!BM21<>\"F\"),SUMIF($F$13:$J$13,BP$13,$F22:$J22),\"\")","v":""},{"$f":"IF(AND(LEN($D22)>0,SUMIF($F$13:$J$13,BQ$13,$F22:$J22)>0,ASISTENCIA!BN21<>\"X\",ASISTENCIA!BN21<>\"L\",ASISTENCIA!BN21<>\"J\",ASISTENCIA!BN21<>\"F\"),SUMIF($F$13:$J$13,BQ$13,$F22:$J22),\"\")","v":""},{"$f":"IF(AND(LEN($D22)>0,SUMIF($F$13:$J$13,BR$13,$F22:$J22)>0,ASISTENCIA!BO21<>\"X\",ASISTENCIA!BO21<>\"L\",ASISTENCIA!BO21<>\"J\",ASISTENCIA!BO21<>\"F\"),SUMIF($F$13:$J$13,BR$13,$F22:$J22),\"\")","v":""},{"$f":"IF(AND(LEN($D22)>0,SUMIF($F$13:$J$13,BS$13,$F22:$J22)>0,ASISTENCIA!BP21<>\"X\",ASISTENCIA!BP21<>\"L\",ASISTENCIA!BP21<>\"J\",ASISTENCIA!BP21<>\"F\"),SUMIF($F$13:$J$13,BS$13,$F22:$J22),\"\")","v":""},{"$f":"IF(AND(LEN($D22)>0,SUMIF($F$13:$J$13,BT$13,$F22:$J22)>0,ASISTENCIA!BQ21<>\"X\",ASISTENCIA!BQ21<>\"L\",ASISTENCIA!BQ21<>\"J\",ASISTENCIA!BQ21<>\"F\"),SUMIF($F$13:$J$13,BT$13,$F22:$J22),\"\")","v":""},{"$f":"IF(AND(LEN($D22)>0,SUMIF($F$13:$J$13,BU$13,$F22:$J22)>0,ASISTENCIA!BR21<>\"X\",ASISTENCIA!BR21<>\"L\",ASISTENCIA!BR21<>\"J\",ASISTENCIA!BR21<>\"F\"),SUMIF($F$13:$J$13,BU$13,$F22:$J22),\"\")","v":""},{"$f":"IF(AND(LEN($D22)>0,SUMIF($F$13:$J$13,BV$13,$F22:$J22)>0,ASISTENCIA!BS21<>\"X\",ASISTENCIA!BS21<>\"L\",ASISTENCIA!BS21<>\"J\",ASISTENCIA!BS21<>\"F\"),SUMIF($F$13:$J$13,BV$13,$F22:$J22),\"\")","v":""},{"$f":"IF(AND(LEN($D22)>0,SUMIF($F$13:$J$13,BW$13,$F22:$J22)>0,ASISTENCIA!BT21<>\"X\",ASISTENCIA!BT21<>\"L\",ASISTENCIA!BT21<>\"J\",ASISTENCIA!BT21<>\"F\"),SUMIF($F$13:$J$13,BW$13,$F22:$J22),\"\")","v":""},{"$f":"IF(AND(LEN($D22)>0,SUMIF($F$13:$J$13,BX$13,$F22:$J22)>0,ASISTENCIA!BU21<>\"X\",ASISTENCIA!BU21<>\"L\",ASISTENCIA!BU21<>\"J\",ASISTENCIA!BU21<>\"F\"),SUMIF($F$13:$J$13,BX$13,$F22:$J22),\"\")","v":""},{"$f":"IF(AND(LEN($D22)>0,SUMIF($F$13:$J$13,BY$13,$F22:$J22)>0,ASISTENCIA!BV21<>\"X\",ASISTENCIA!BV21<>\"L\",ASISTENCIA!BV21<>\"J\",ASISTENCIA!BV21<>\"F\"),SUMIF($F$13:$J$13,BY$13,$F22:$J22),\"\")","v":""},{"$f":"IF(AND(LEN($D22)>0,SUMIF($F$13:$J$13,BZ$13,$F22:$J22)>0,ASISTENCIA!BW21<>\"X\",ASISTENCIA!BW21<>\"L\",ASISTENCIA!BW21<>\"J\",ASISTENCIA!BW21<>\"F\"),SUMIF($F$13:$J$13,BZ$13,$F22:$J22),\"\")","v":""},{"$f":"IF(AND(LEN($D22)>0,SUMIF($F$13:$J$13,CA$13,$F22:$J22)>0,ASISTENCIA!BX21<>\"X\",ASISTENCIA!BX21<>\"L\",ASISTENCIA!BX21<>\"J\",ASISTENCIA!BX21<>\"F\"),SUMIF($F$13:$J$13,CA$13,$F22:$J22),\"\")","v":""},{"$f":"IF(AND(LEN($D22)>0,SUMIF($F$13:$J$13,CB$13,$F22:$J22)>0,ASISTENCIA!BY21<>\"X\",ASISTENCIA!BY21<>\"L\",ASISTENCIA!BY21<>\"J\",ASISTENCIA!BY21<>\"F\"),SUMIF($F$13:$J$13,CB$13,$F22:$J22),\"\")","v":""},{"$error":"#REF!"}]
[{"$error":"#N/A"},{"$f":"IF(LEN(C23)>0,VLOOKUP($O$4,DATA!$A$1:$S$1,2,FALSE),\"\")","v":{"$error":"#N/A"}},"JULIO",{"$f":"IF(LEN(ASISTENCIA!E22)>0,ASISTENCIA!E22,\"\")","v":"MAQUERA LUPACA, Renán Wilfredo"},{"$f":"IF(LEN(D23)>0,ASISTENCIA!F22,\"\")","v":"Profesor"},null,null,null,null,null,"",null,null,{"$error":"#REF!"},{"$f":"IF(AND(LEN($D23)>0,SUMIF($F$13:$J$13,O$13,$F23:$J23)>0,ASISTENCIA!I22<>\"X\",ASISTENCIA!I22<>\"L\",ASISTENCIA!I22<>\"J\",ASISTENCIA!I22<>\"V\",ASISTENCIA!I22<>\"F\",ASISTENCIA!I22<>\"\"),SUMIF($F$13:$J$13,O$13,$F23:$J23),\"\")","v":""},{"$f":"IF(AND(LEN($D23)>0,SUMIF($F$13:$J$13,P$13,$F23:$J23)>0,ASISTENCIA!J22<>\"X\",ASISTENCIA!J22<>\"L\",ASISTENCIA!J22<>\"J\",ASISTENCIA!J22<>\"V\",ASISTENCIA!J22<>\"F\",ASISTENCIA!J22<>\"\"),SUMIF($F$13:$J$13,P$13,$F23:$J23),\"\")","v":""},{"$f":"IF(AND(LEN($D23)>0,SUMIF($F$13:$J$13,Q$13,$F23:$J23)>0,ASISTENCIA!K22<>\"X\",ASISTENCIA!K22<>\"L\",ASISTENCIA!K22<>\"J\",ASISTENCIA!K22<>\"V\",ASISTENCIA!K22<>\"F\",ASISTENCIA!K22<>\"\"),SUMIF($F$13:$J$13,Q$13,$F23:$J23),\"\")","v":""},{"$f":"IF(AND(LEN($D23)>0,SUMIF($F$13:$J$13,R$13,$F23:$J23)>0,ASISTENCIA!L22<>\"X\",ASISTENCIA!L22<>\"L\",ASISTENCIA!L22<>\"J\",ASISTENCIA!L22<>\"V\",ASISTENCIA!L22<>\"F\",ASISTENCIA!L22<>\"\"),SUMIF($F$13:$J$13,R$13,$F23:$J23),\"\")","v":""},{"$f":"IF(AND(LEN($D23)>0,SUMIF($F$13:$J$13,S$13,$F23:$J23)>0,ASISTENCIA!M22<>\"X\",ASISTENCIA!M22<>\"L\",ASISTENCIA!M22<>\"J\",ASISTENCIA!M22<>\"V\",ASISTENCIA!M22<>\"F\",ASISTENCIA!M22<>\"\"),SUMIF($F$13:$J$13,S$13,$F23:$J23),\"\")","v":""},{"$f":"IF(AND(LEN($D23)>0,SUMIF($F$13:$J$13,T$13,$F23:$J23)>0,ASISTENCIA!N22<>\"X\",ASISTENCIA!N22<>\"L\",ASISTENCIA!N22<>\"J\",ASISTENCIA!N22<>\"V\",ASISTENCIA!N22<>\"F\",ASISTENCIA!N22<>\"\"),SUMIF($F$13:$J$13,T$13,$F23:$J23),\"\")","v":""},{"$f":"IF(AND(LEN($D23)>0,SUMIF($F$13:$J$13,U$13,$F23:$J23)>0,ASISTENCIA!O22<>\"X\",ASISTENCIA!O22<>\"L\",ASISTENCIA!O22<>\"J\",ASISTENCIA!O22<>\"V\",ASISTENCIA!O22<>\"F\",ASISTENCIA!O22<>\"\"),SUMIF($F$13:$J$13,U$13,$F23:$J23),\"\")","v":""},{"$f":"IF(AND(LEN($D23)>0,SUMIF($F$13:$J$13,V$13,$F23:$J23)>0,ASISTENCIA!P22<>\"X\",ASISTENCIA!P22<>\"L\",ASISTENCIA!P22<>\"J\",ASISTENCIA!P22<>\"V\",ASISTENCIA!P22<>\"F\",ASISTENCIA!P22<>\"\"),SUMIF($F$13:$J$13,V$13,$F23:$J23),\"\")","v":""},{"$f":"IF(AND(LEN($D23)>0,SUMIF($F$13:$J$13,W$13,$F23:$J23)>0,ASISTENCIA!Q22<>\"X\",ASISTENCIA!Q22<>\"L\",ASISTENCIA!Q22<>\"J\",ASISTENCIA!Q22<>\"V\",ASISTENCIA!Q22<>\"F\",ASISTENCIA!Q22<>\"\"),SUMIF($F$13:$J$13,W$13,$F23:$J23),\"\")","v":""},{"$f":"IF(AND(LEN($D23)>0,SUMIF($F$13:$J$13,X$13,$F23:$J23)>0,ASISTENCIA!R22<>\"X\",ASISTENCIA!R22<>\"L\",ASISTENCIA!R22<>\"J\",ASISTENCIA!R22<>\"V\",ASISTENCIA!R22<>\"F\",ASISTENCIA!R22<>\"\"),SUMIF($F$13:$J$13,X$13,$F23:$J23),\"\")","v":""},{"$f":"IF(AND(LEN($D23)>0,SUMIF($F$13:$J$13,Y$13,$F23:$J23)>0,ASISTENCIA!S22<>\"X\",ASISTENCIA!S22<>\"L\",ASISTENCIA!S22<>\"J\",ASISTENCIA!S22<>\"V\",ASISTENCIA!S22<>\"F\",ASISTENCIA!S22<>\"\"),SUMIF($F$13:$J$13,Y$13,$F23:$J23),\"\")","v":""},{"$f":"IF(AND(LEN($D23)>0,SUMIF($F$13:$J$13,Z$13,$F23:$J23)>0,ASISTENCIA!T22<>\"X\",ASISTENCIA!T22<>\"L\",ASISTENCIA!T22<>\"J\",ASISTENCIA!T22<>\"V\",ASISTENCIA!T22<>\"F\",ASISTENCIA!T22<>\"\"),SUMIF($F$13:$J$13,Z$13,$F23:$J23),\"\")","v":""},{"$f":"IF(AND(LEN($D23)>0,SUMIF($F$13:$J$13,AA$13,$F23:$J23)>0,ASISTENCIA!U22<>\"X\",ASISTENCIA!U22<>\"L\",ASISTENCIA!U22<>\"J\",ASISTENCIA!U22<>\"V\",ASISTENCIA!U22<>\"F\",ASISTENCIA!U22<>\"\"),SUMIF($F$13:$J$13,AA$13,$F23:$J23),\"\")","v":""},{"$f":"IF(AND(LEN($D23)>0,SUMIF($F$13:$J$13,AB$13,$F23:$J23)>0,ASISTENCIA!V22<>\"X\",ASISTENCIA!V22<>\"L\",ASISTENCIA!V22<>\"J\",ASISTENCIA!V22<>\"V\",ASISTENCIA!V22<>\"F\",ASISTENCIA!V22<>\"\"),SUMIF($F$13:$J$13,AB$13,$F23:$J23),\"\")","v":""},{"$f":"IF(AND(LEN($D23)>0,SUMIF($F$13:$J$13,AC$13,$F23:$J23)>0,ASISTENCIA!W22<>\"X\",ASISTENCIA!W22<>\"L\",ASISTENCIA!W22<>\"J\",ASISTENCIA!W22<>\"V\",ASISTENCIA!W22<>\"F\",ASISTENCIA!W22<>\"\"),SUMIF($F$13:$J$13,AC$13,$F23:$J23),\"\")","v":""},{"$f":"IF(AND(LEN($D23)>0,SUMIF($F$13:$J$13,AD$13,$F23:$J23)>0,ASISTENCIA!X22<>\"X\",ASISTENCIA!X22<>\"L\",ASISTENCIA!X22<>\"J\",ASISTENCIA!X22<>\"V\",ASISTENCIA!X22<>\"F\",ASISTENCIA!X22<>\"\"),SUMIF($F$13:$J$13,AD$13,$F23:$J23),\"\")","v":""},{"$f":"IF(AND(LEN($D23)>0,SUMIF($F$13:$J$13,AE$13,$F23:$J23)>0,ASISTENCIA!Y22<>\"X\",ASISTENCIA!Y22<>\"L\",ASISTENCIA!Y22<>\"J\",ASISTENCIA!Y22<>\"V\",ASISTENCIA!Y22<>\"F\",ASISTENCIA!Y22<>\"\"),SUMIF($F$13:$J$13,AE$13,$F23:$J23),\"\")","v":""},{"$f":"IF(AND(LEN($D23)>0,SUMIF($F$13:$J$13,AF$13,$F23:$J23)>0,ASISTENCIA!Z22<>\"X\",ASISTENCIA!Z22<>\"L\",ASISTENCIA!Z22<>\"J\",ASISTENCIA!Z22<>\"V\",ASISTENCIA!Z22<>\"F\",ASISTENCIA!Z22<>\"\"),SUMIF($F$13:$J$13,AF$13,$F23:$J23),\"\")","v":""},{"$f":"IF(AND(LEN($D23)>0,SUMIF($F$13:$J$13,AG$13,$F23:$J23)>0,ASISTENCIA!AA22<>\"X\",ASISTENCIA!AA22<>\"L\",ASISTENCIA!AA22<>\"J\",ASISTENCIA!AA22<>\"V\",ASISTENCIA!AA22<>\"F\",ASISTENCIA!AA22<>\"\"),SUMIF($F$13:$J$13,AG$13,$F23:$J23),\"\")","v":""},{"$f":"IF(AND(LEN($D23)>0,SUMIF($F$13:$J$13,AH$13,$F23:$J23)>0,ASISTENCIA!AB22<>\"X\",ASISTENCIA!AB22<>\"L\",ASISTENCIA!AB22<>\"J\",ASISTENCIA!AB22<>\"V\",ASISTENCIA!AB22<>\"F\",ASISTENCIA!AB22<>\"\"),SUMIF($F$13:$J$13,AH$13,$F23:$J23),\"\")","v":""},{"$f":"IF(AND(LEN($D23)>0,SUMIF($F$13:$J$13,AI$13,$F23:$J23)>0,ASISTENCIA!AC22<>\"X\",ASISTENCIA!AC22<>\"L\",ASISTENCIA!AC22<>\"J\",ASISTENCIA!AC22<>\"V\",ASISTENCIA!AC22<>\"F\",ASISTENCIA!AC22<>\"\"),SUMIF($F$13:$J$13,AI$13,$F23:$J23),\"\")","v":""},{"$f":"IF(AND(LEN($D23)>0,SUMIF($F$13:$J$13,AJ$13,$F23:$J23)>0,ASISTENCIA!AD22<>\"X\",ASISTENCIA!AD22<>\"L\",ASISTENCIA!AD22<>\"J\",ASISTENCIA!AD22<>\"V\",ASISTENCIA!AD22<>\"F\",ASISTENCIA!AD22<>\"\"),SUMIF($F$13:$J$13,AJ$13,$F23:$J23),\"\")","v":""},{"$f":"IF(AND(LEN($D23)>0,SUMIF($F$13:$J$13,AK$13,$F23:$J23)>0,ASISTENCIA!AE22<>\"X\",ASISTENCIA!AE22<>\"L\",ASISTENCIA!AE22<>\"J\",ASISTENCIA!AE22<>\"V\",ASISTENCIA!AE22<>\"F\",ASISTENCIA!AE22<>\"\"),SUMIF($F$13:$J$13,AK$13,$F23:$J23),\"\")","v":""},{"$f":"IF(AND(LEN($D23)>0,SUMIF($F$13:$J$13,AL$13,$F23:$J23)>0,ASISTENCIA!AF22<>\"X\",ASISTENCIA!AF22<>\"L\",ASISTENCIA!AF22<>\"J\",ASISTENCIA!AF22<>\"V\",ASISTENCIA!AF22<>\"F\",ASISTENCIA!AF22<>\"\"),SUMIF($F$13:$J$13,AL$13,$F23:$J23),\"\")","v":""},{"$f":"IF(AND(LEN($D23)>0,SUMIF($F$13:$J$13,AM$13,$F23:$J23)>0,ASISTENCIA!AG22<>\"X\",ASISTENCIA!AG22<>\"L\",ASISTENCIA!AG22<>\"J\",ASISTENCIA!AG22<>\"V\",ASISTENCIA!AG22<>\"F\",ASISTENCIA!AG22<>\"\"),SUMIF($F$13:$J$13,AM$13,$F23:$J23),\"\")","v":""},{"$f":"IF(AND(LEN($D23)>0,SUMIF($F$13:$J$13,AN$13,$F23:$J23)>0,ASISTENCIA!AH22<>\"X\",ASISTENCIA!AH22<>\"L\",ASISTENCIA!AH22<>\"J\",ASISTENCIA!AH22<>\"V\",ASISTENCIA!AH22<>\"F\",ASISTENCIA!AH22<>\"\"),SUMIF($F$13:$J$13,AN$13,$F23:$J23),\"\")","v":""},{"$f":"IF(AND(LEN($D23)>0,SUMIF($F$13:$J$13,AO$13,$F23:$J23)>0,ASISTENCIA!AI22<>\"X\",ASISTENCIA!AI22<>\"L\",ASISTENCIA!AI22<>\"J\",ASISTENCIA!AI22<>\"V\",ASISTENCIA!AI22<>\"F\",ASISTENCIA!AI22<>\"\"),SUMIF($F$13:$J$13,AO$13,$F23:$J23),\"\")","v":""},{"$f":"IF(AND(LEN($D23)>0,SUMIF($F$13:$J$13,AP$13,$F23:$J23)>0,ASISTENCIA!AJ22<>\"X\",ASISTENCIA!AJ22<>\"L\",ASISTENCIA!AJ22<>\"J\",ASISTENCIA!AJ22<>\"V\",ASISTENCIA!AJ22<>\"F\",ASISTENCIA!AJ22<>\"\"),SUMIF($F$13:$J$13,AP$13,$F23:$J23),\"\")","v":""},{"$f":"IF(AND(LEN($D23)>0,SUMIF($F$13:$J$13,AQ$13,$F23:$J23)>0,ASISTENCIA!AK22<>\"X\",ASISTENCIA!AK22<>\"L\",ASISTENCIA!AK22<>\"J\",ASISTENCIA!AK22<>\"V\",ASISTENCIA!AK22<>\"F\",ASISTENCIA!AK22<>\"\"),SUMIF($F$13:$J$13,AQ$13,$F23:$J23),\"\")","v":""},{"$f":"IF(AND(LEN($D23)>0,SUMIF($F$13:$J$13,AR$13,$F23:$J23)>0,ASISTENCIA!AL22<>\"X\",ASISTENCIA!AL22<>\"L\",ASISTENCIA!AL22<>\"J\",ASISTENCIA!AL22<>\"V\",ASISTENCIA!AL22<>\"F\",ASISTENCIA!AL22<>\"\"),SUMIF($F$13:$J$13,AR$13,$F23:$J23),\"\")","v":""},{"$f":"IF(AND(LEN($D23)>0,SUMIF($F$13:$J$13,AS$13,$F23:$J23)>0,ASISTENCIA!AM22<>\"X\",ASISTENCIA!AM22<>\"L\",ASISTENCIA!AM22<>\"J\",ASISTENCIA!AM22<>\"V\",ASISTENCIA!AM22<>\"F\",ASISTENCIA!AM22<>\"\"),SUMIF($F$13:$J$13,AS$13,$F23:$J23),\"\")","v":""},"",null,null,null,{"$f":"IF(AND(LEN($D23)>0,SUMIF($F$13:$J$13,AX$13,$F23:$J23)>0,ASISTENCIA!AU22<>\"X\",ASISTENCIA!AU22<>\"L\",ASISTENCIA!AU22<>\"J\",ASISTENCIA!AU22<>\"F\"),SUMIF($F$13:$J$13,AX$13,$F23:$J23),\"\")","v":""},{"$f":"IF(AND(LEN($D23)>0,SUMIF($F$13:$J$13,AY$13,$F23:$J23)>0,ASISTENCIA!AV22<>\"X\",ASISTENCIA!AV22<>\"L\",ASISTENCIA!AV22<>\"J\",ASISTENCIA!AV22<>\"F\"),SUMIF($F$13:$J$13,AY$13,$F23:$J23),\"\")","v":""},{"$f":"IF(AND(LEN($D23)>0,SUMIF($F$13:$J$13,AZ$13,$F23:$J23)>0,ASISTENCIA!AW22<>\"X\",ASISTENCIA!AW22<>\"L\",ASISTENCIA!AW22<>\"J\",ASISTENCIA!AW22<>\"F\"),SUMIF($F$13:$J$13,AZ$13,$F23:$J23),\"\")","v":""},{"$f":"IF(AND(LEN($D23)>0,SUMIF($F$13:$J$13,BA$13,$F23:$J23)>0,ASISTENCIA!AX22<>\"X\",ASISTENCIA!AX22<>\"L\",ASISTENCIA!AX22<>\"J\",ASISTENCIA!AX22<>\"F\"),SUMIF($F$13:$J$13,BA$13,$F23:$J23),\"\")","v":""},{"$f":"IF(AND(LEN($D23)>0,SUMIF($F$13:$J$13,BB$13,$F23:$J23)>0,ASISTENCIA!AY22<>\"X\",ASISTENCIA!AY22<>\"L\",ASISTENCIA!AY22<>\"J\",ASISTENCIA!AY22<>\"F\"),SUMIF($F$13:$J$13,BB$13,$F23:$J23),\"\")","v":""},{"$f":"IF(AND(LEN($D23)>0,SUMIF($F$13:$J$13,BC$13,$F23:$J23)>0,ASISTENCIA!AZ22<>\"X\",ASISTENCIA!AZ22<>\"L\",ASISTENCIA!AZ22<>\"J\",ASISTENCIA!AZ22<>\"F\"),SUMIF($F$13:$J$13,BC$13,$F23:$J23),\"\")","v":""},{"$f":"IF(AND(LEN($D23)>0,SUMIF($F$13:$J$13,BD$13,$F23:$J23)>0,ASISTENCIA!BA22<>\"X\",ASISTENCIA!BA22<>\"L\",ASISTENCIA!BA22<>\"J\",ASISTENCIA!BA22<>\"F\"),SUMIF($F$13:$J$13,BD$13,$F23:$J23),\"\")","v":""},{"$f":"IF(AND(LEN($D23)>0,SUMIF($F$13:$J$13,BE$13,$F23:$J23)>0,ASISTENCIA!BB22<>\"X\",ASISTENCIA!BB22<>\"L\",ASISTENCIA!BB22<>\"J\",ASISTENCIA!BB22<>\"F\"),SUMIF($F$13:$J$13,BE$13,$F23:$J23),\"\")","v":""},{"$f":"IF(AND(LEN($D23)>0,SUMIF($F$13:$J$13,BF$13,$F23:$J23)>0,ASISTENCIA!#REF!<>\"X\",ASISTENCIA!#REF!<>\"L\",ASISTENCIA!#REF!<>\"J\",ASISTENCIA!#REF!<>\"F\"),SUMIF($F$13:$J$13,BF$13,$F23:$J23),\"\")","v":{"$error":"#REF!"}},{"$f":"IF(AND(LEN($D23)>0,SUMIF($F$13:$J$13,BG$13,$F23:$J23)>0,ASISTENCIA!#REF!<>\"X\",ASISTENCIA!#REF!<>\"L\",ASISTENCIA!#REF!<>\"J\",ASISTENCIA!#REF!<>\"F\"),SUMIF($F$13:$J$13,BG$13,$F23:$J23),\"\")","v":{"$error":"#REF!"}},{"$f":"IF(AND(LEN($D23)>0,SUMIF($F$13:$J$13,BH$13,$F23:$J23)>0,ASISTENCIA!BE22<>\"X\",ASISTENCIA!BE22<>\"L\",ASISTENCIA!BE22<>\"J\",ASISTENCIA!BE22<>\"F\"),SUMIF($F$13:$J$13,BH$13,$F23:$J23),\"\")","v":""},{"$f":"IF(AND(LEN($D23)>0,SUMIF($F$13:$J$13,BI$13,$F23:$J23)>0,ASISTENCIA!BF22<>\"X\",ASISTENCIA!BF22<>\"L\",ASISTENCIA!BF22<>\"J\",ASISTENCIA!BF22<>\"F\"),SUMIF($F$13:$J$13,BI$13,$F23:$J23),\"\")","v":""},{"$f":"IF(AND(LEN($D23)>0,SUMIF($F$13:$J$13,BJ$13,$F23:$J23)>0,ASISTENCIA!BG22<>\"X\",ASISTENCIA!BG22<>\"L\",ASISTENCIA!BG22<>\"J\",ASISTENCIA!BG22<>\"F\"),SUMIF($F$13:$J$13,BJ$13,$F23:$J23),\"\")","v":""},{"$f":"IF(AND(LEN($D23)>0,SUMIF($F$13:$J$13,BK$13,$F23:$J23)>0,ASISTENCIA!BH22<>\"X\",ASISTENCIA!BH22<>\"L\",ASISTENCIA!BH22<>\"J\",ASISTENCIA!BH22<>\"F\"),SUMIF($F$13:$J$13,BK$13,$F23:$J23),\"\")","v":""},{"$f":"IF(AND(LEN($D23)>0,SUMIF($F$13:$J$13,BL$13,$F23:$J23)>0,ASISTENCIA!BI22<>\"X\",ASISTENCIA!BI22<>\"L\",ASISTENCIA!BI22<>\"J\",ASISTENCIA!BI22<>\"F\"),SUMIF($F$13:$J$13,BL$13,$F23:$J23),\"\")","v":""},{"$f":"IF(AND(LEN($D23)>0,SUMIF($F$13:$J$13,BM$13,$F23:$J23)>0,ASISTENCIA!BJ22<>\"X\",ASISTENCIA!BJ22<>\"L\",ASISTENCIA!BJ22<>\"J\",ASISTENCIA!BJ22<>\"F\"),SUMIF($F$13:$J$13,BM$13,$F23:$J23),\"\")","v":""},{"$f":"IF(AND(LEN($D23)>0,SUMIF($F$13:$J$13,BN$13,$F23:$J23)>0,ASISTENCIA!BK22<>\"X\",ASISTENCIA!BK22<>\"L\",ASISTENCIA!BK22<>\"J\",ASISTENCIA!BK22<>\"F\"),SUMIF($F$13:$J$13,BN$13,$F23:$J23),\"\")","v":""},{"$f":"IF(AND(LEN($D23)>0,SUMIF($F$13:$J$13,BO$13,$F23:$J23)>0,ASISTENCIA!BL22<>\"X\",ASISTENCIA!BL22<>\"L\",ASISTENCIA!BL22<>\"J\",ASISTENCIA!BL22<>\"F\"),SUMIF($F$13:$J$13,BO$13,$F23:$J23),\"\")","v":""},{"$f":"IF(AND(LEN($D23)>0,SUMIF($F$13:$J$13,BP$13,$F23:$J23)>0,ASISTENCIA!BM22<>\"X\",ASISTENCIA!BM22<>\"L\",ASISTENCIA!BM22<>\"J\",ASISTENCIA!BM22<>\"F\"),SUMIF($F$13:$J$13,BP$13,$F23:$J23),\"\")","v":""},{"$f":"IF(AND(LEN($D23)>0,SUMIF($F$13:$J$13,BQ$13,$F23:$J23)>0,ASISTENCIA!BN22<>\"X\",ASISTENCIA!BN22<>\"L\",ASISTENCIA!BN22<>\"J\",ASISTENCIA!BN22<>\"F\"),SUMIF($F$13:$J$13,BQ$13,$F23:$J23),\"\")","v":""},{"$f":"IF(AND(LEN($D23)>0,SUMIF($F$13:$J$13,BR$13,$F23:$J23)>0,ASISTENCIA!BO22<>\"X\",ASISTENCIA!BO22<>\"L\",ASISTENCIA!BO22<>\"J\",ASISTENCIA!BO22<>\"F\"),SUMIF($F$13:$J$13,BR$13,$F23:$J23),\"\")","v":""},{"$f":"IF(AND(LEN($D23)>0,SUMIF($F$13:$J$13,BS$13,$F23:$J23)>0,ASISTENCIA!BP22<>\"X\",ASISTENCIA!BP22<>\"L\",ASISTENCIA!BP22<>\"J\",ASISTENCIA!BP22<>\"F\"),SUMIF($F$13:$J$13,BS$13,$F23:$J23),\"\")","v":""},{"$f":"IF(AND(LEN($D23)>0,SUMIF($F$13:$J$13,BT$13,$F23:$J23)>0,ASISTENCIA!BQ22<>\"X\",ASISTENCIA!BQ22<>\"L\",ASISTENCIA!BQ22<>\"J\",ASISTENCIA!BQ22<>\"F\"),SUMIF($F$13:$J$13,BT$13,$F23:$J23),\"\")","v":""},{"$f":"IF(AND(LEN($D23)>0,SUMIF($F$13:$J$13,BU$13,$F23:$J23)>0,ASISTENCIA!BR22<>\"X\",ASISTENCIA!BR22<>\"L\",ASISTENCIA!BR22<>\"J\",ASISTENCIA!BR22<>\"F\"),SUMIF($F$13:$J$13,BU$13,$F23:$J23),\"\")","v":""},{"$f":"IF(AND(LEN($D23)>0,SUMIF($F$13:$J$13,BV$13,$F23:$J23)>0,ASISTENCIA!BS22<>\"X\",ASISTENCIA!BS22<>\"L\",ASISTENCIA!BS22<>\"J\",ASISTENCIA!BS22<>\"F\"),SUMIF($F$13:$J$13,BV$13,$F23:$J23),\"\")","v":""},{"$f":"IF(AND(LEN($D23)>0,SUMIF($F$13:$J$13,BW$13,$F23:$J23)>0,ASISTENCIA!BT22<>\"X\",ASISTENCIA!BT22<>\"L\",ASISTENCIA!BT22<>\"J\",ASISTENCIA!BT22<>\"F\"),SUMIF($F$13:$J$13,BW$13,$F23:$J23),\"\")","v":""},{"$f":"IF(AND(LEN($D23)>0,SUMIF($F$13:$J$13,BX$13,$F23:$J23)>0,ASISTENCIA!BU22<>\"X\",ASISTENCIA!BU22<>\"L\",ASISTENCIA!BU22<>\"J\",ASISTENCIA!BU22<>\"F\"),SUMIF($F$13:$J$13,BX$13,$F23:$J23),\"\")","v":""},{"$f":"IF(AND(LEN($D23)>0,SUMIF($F$13:$J$13,BY$13,$F23:$J23)>0,ASISTENCIA!BV22<>\"X\",ASISTENCIA!BV22<>\"L\",ASISTENCIA!BV22<>\"J\",ASISTENCIA!BV22<>\"F\"),SUMIF($F$13:$J$13,BY$13,$F23:$J23),\"\")","v":""},{"$f":"IF(AND(LEN($D23)>0,SUMIF($F$13:$J$13,BZ$13,$F23:$J23)>0,ASISTENCIA!BW22<>\"X\",ASISTENCIA!BW22<>\"L\",ASISTENCIA!BW22<>\"J\",ASISTENCIA!BW22<>\"F\"),SUMIF($F$13:$J$13,BZ$13,$F23:$J23),\"\")","v":""},{"$f":"IF(AND(LEN($D23)>0,SUMIF($F$13:$J$13,CA$13,$F23:$J23)>0,ASISTENCIA!BX22<>\"X\",ASISTENCIA!BX22<>\"L\",ASISTENCIA!BX22<>\"J\",ASISTENCIA!BX22<>\"F\"),SUMIF($F$13:$J$13,CA$13,$F23:$J23),\"\")","v":""},{"$f":"IF(AND(LEN($D23)>0,SUMIF($F$13:$J$13,CB$13,$F23:$J23)>0,ASISTENCIA!BY22<>\"X\",ASISTENCIA!BY22<>\"L\",ASISTENCIA!BY22<>\"J\",ASISTENCIA!BY22<>\"F\"),SUMIF($F$13:$J$13,CB$13,$F23:$J23),\"\")","v":""},{"$error":"#REF!"}]
[{"$error":"#N/A"},{"$f":"IF(LEN(C24)>0,VLOOKUP($O$4,DATA!$A$1:$S$1,2,FALSE),\"\")","v":{"$error":"#N/A"}},"JULIO",{"$f":"IF(LEN(ASISTENCIA!E23)>0,ASISTENCIA!E23,\"\")","v":"CHAGUA CHOQUEGONZA, Gilmer"},{"$f":"IF(LEN(D24)>0,ASISTENCIA!F23,\"\")","v":"Aux. Educación"},null,null,null,null,null,"",null,null,{"$error":"#REF!"},{"$f":"IF(AND(LEN($D24)>0,SUMIF($F$13:$J$13,O$13,$F24:$J24)>0,ASISTENCIA!I23<>\"X\",ASISTENCIA!I23<>\"L\",ASISTENCIA!I23<>\"J\",ASISTENCIA!I23<>\"V\",ASISTENCIA!I23<>\"F\",ASISTENCIA!I23<>\"\"),SUMIF($F$13:$J$13,O$13,$F24:$J24),\"\")","v":""},{"$f":"IF(AND(LEN($D24)>0,SUMIF($F$13:$J$13,P$13,$F24:$J24)>0,ASISTENCIA!J23<>\"X\",ASISTENCIA!J23<>\"L\",ASISTENCIA!J23<>\"J\",ASISTENCIA!J23<>\"V\",ASISTENCIA!J23<>\"F\",ASISTENCIA!J23<>\"\"),SUMIF($F$13:$J$13,P$13,$F24:$J24),\"\")","v":""},{"$f":"IF(AND(LEN($D24)>0,SUMIF($F$13:$J$13,Q$13,$F24:$J24)>0,ASISTENCIA!K23<>\"X\",ASISTENCIA!K23<>\"L\",ASISTENCIA!K23<>\"J\",ASISTENCIA!K23<>\"V\",ASISTENCIA!K23<>\"F\",ASISTENCIA!K23<>\"\"),SUMIF($F$13:$J$13,Q$13,$F24:$J24),\"\")","v":""},{"$f":"IF(AND(LEN($D24)>0,SUMIF($F$13:$J$13,R$13,$F24:$J24)>0,ASISTENCIA!L23<>\"X\",ASISTENCIA!L23<>\"L\",ASISTENCIA!L23<>\"J\",ASISTENCIA!L23<>\"V\",ASISTENCIA!L23<>\"F\",ASISTENCIA!L23<>\"\"),SUMIF($F$13:$J$13,R$13,$F24:$J24),\"\")","v":""},{"$f":"IF(AND(LEN($D24)>0,SUMIF($F$13:$J$13,S$13,$F24:$J24)>0,ASISTENCIA!M23<>\"X\",ASISTENCIA!M23<>\"L\",ASISTENCIA!M23<>\"J\",ASISTENCIA!M23<>\"V\",ASISTENCIA!M23<>\"F\",ASISTENCIA!M23<>\"\"),SUMIF($F$13:$J$13,S$13,$F24:$J24),\"\")","v":""},{"$f":"IF(AND(LEN($D24)>0,SUMIF($F$13:$J$13,T$13,$F24:$J24)>0,ASISTENCIA!N23<>\"X\",ASISTENCIA!N23<>\"L\",ASISTENCIA!N23<>\"J\",ASISTENCIA!N23<>\"V\",ASISTENCIA!N23<>\"F\",ASISTENCIA!N23<>\"\"),SUMIF($F$13:$J$13,T$13,$F24:$J24),\"\")","v":""},{"$f":"IF(AND(LEN($D24)>0,SUMIF($F$13:$J$13,U$13,$F24:$J24)>0,ASISTENCIA!O23<>\"X\",ASISTENCIA!O23<>\"L\",ASISTENCIA!O23<>\"J\",ASISTENCIA!O23<>\"V\",ASISTENCIA!O23<>\"F\",ASISTENCIA!O23<>\"\"),SUMIF($F$13:$J$13,U$13,$F24:$J24),\"\")","v":""},{"$f":"IF(AND(LEN($D24)>0,SUMIF($F$13:$J$13,V$13,$F24:$J24)>0,ASISTENCIA!P23<>\"X\",ASISTENCIA!P23<>\"L\",ASISTENCIA!P23<>\"J\",ASISTENCIA!P23<>\"V\",ASISTENCIA!P23<>\"F\",ASISTENCIA!P23<>\"\"),SUMIF($F$13:$J$13,V$13,$F24:$J24),\"\")","v":""},{"$f":"IF(AND(LEN($D24)>0,SUMIF($F$13:$J$13,W$13,$F24:$J24)>0,ASISTENCIA!Q23<>\"X\",ASISTENCIA!Q23<>\"L\",ASISTENCIA!Q23<>\"J\",ASISTENCIA!Q23<>\"V\",ASISTENCIA!Q23<>\"F\",ASISTENCIA!Q23<>\"\"),SUMIF($F$13:$J$13,W$13,$F24:$J24),\"\")","v":""},{"$f":"IF(AND(LEN($D24)>0,SUMIF($F$13:$J$13,X$13,$F24:$J24)>0,ASISTENCIA!R23<>\"X\",ASISTENCIA!R23<>\"L\",ASISTENCIA!R23<>\"J\",ASISTENCIA!R23<>\"V\",ASISTENCIA!R23<>\"F\",ASISTENCIA!R23<>\"\"),SUMIF($F$13:$J$13,X$13,$F24:$J24),\"\")","v":""},{"$f":"IF(AND(LEN($D24)>0,SUMIF($F$13:$J$13,Y$13,$F24:$J24)>0,ASISTENCIA!S23<>\"X\",ASISTENCIA!S23<>\"L\",ASISTENCIA!S23<>\"J\",ASISTENCIA!S23<>\"V\",ASISTENCIA!S23<>\"F\",ASISTENCIA!S23<>\"\"),SUMIF($F$13:$J$13,Y$13,$F24:$J24),\"\")","v":""},{"$f":"IF(AND(LEN($D24)>0,SUMIF($F$13:$J$13,Z$13,$F24:$J24)>0,ASISTENCIA!T23<>\"X\",ASISTENCIA!T23<>\"L\",ASISTENCIA!T23<>\"J\",ASISTENCIA!T23<>\"V\",ASISTENCIA!T23<>\"F\",ASISTENCIA!T23<>\"\"),SUMIF($F$13:$J$13,Z$13,$F24:$J24),\"\")","v":""},{"$f":"IF(AND(LEN($D24)>0,SUMIF($F$13:$J$13,AA$13,$F24:$J24)>0,ASISTENCIA!U23<>\"X\",ASISTENCIA!U23<>\"L\",ASISTENCIA!U23<>\"J\",ASISTENCIA!U23<>\"V\",ASISTENCIA!U23<>\"F\",ASISTENCIA!U23<>\"\"),SUMIF($F$13:$J$13,AA$13,$F24:$J24),\"\")","v":""},{"$f":"IF(AND(LEN($D24)>0,SUMIF($F$13:$J$13,AB$13,$F24:$J24)>0,ASISTENCIA!V23<>\"X\",ASISTENCIA!V23<>\"L\",ASISTENCIA!V23<>\"J\",ASISTENCIA!V23<>\"V\",ASISTENCIA!V23<>\"F\",ASISTENCIA!V23<>\"\"),SUMIF($F$13:$J$13,AB$13,$F24:$J24),\"\")","v":""},{"$f":"IF(AND(LEN($D24)>0,SUMIF($F$13:$J$13,AC$13,$F24:$J24)>0,ASISTENCIA!W23<>\"X\",ASISTENCIA!W23<>\"L\",ASISTENCIA!W23<>\"J\",ASISTENCIA!W23<>\"V\",ASISTENCIA!W23<>\"F\",ASISTENCIA!W23<>\"\"),SUMIF($F$13:$J$13,AC$13,$F24:$J24),\"\")","v":""},{"$f":"IF(AND(LEN($D24)>0,SUMIF($F$13:$J$13,AD$13,$F24:$J24)>0,ASISTENCIA!X23<>\"X\",ASISTENCIA!X23<>\"L\",ASISTENCIA!X23<>\"J\",ASISTENCIA!X23<>\"V\",ASISTENCIA!X23<>\"F\",ASISTENCIA!X23<>\"\"),SUMIF($F$13:$J$13,AD$13,$F24:$J24),\"\")","v":""},{"$f":"IF(AND(LEN($D24)>0,SUMIF($F$13:$J$13,AE$13,$F24:$J24)>0,ASISTENCIA!Y23<>\"X\",ASISTENCIA!Y23<>\"L\",ASISTENCIA!Y23<>\"J\",ASISTENCIA!Y23<>\"V\",ASISTENCIA!Y23<>\"F\",ASISTENCIA!Y23<>\"\"),SUMIF($F$13:$J$13,AE$13,$F24:$J24),\"\")","v":""},{"$f":"IF(AND(LEN($D24)>0,SUMIF($F$13:$J$13,AF$13,$F24:$J24)>0,ASISTENCIA!Z23<>\"X\",ASISTENCIA!Z23<>\"L\",ASISTENCIA!Z23<>\"J\",ASISTENCIA!Z23<>\"V\",ASISTENCIA!Z23<>\"F\",ASISTENCIA!Z23<>\"\"),SUMIF($F$13:$J$13,AF$13,$F24:$J24),\"\")","v":""},{"$f":"IF(AND(LEN($D24)>0,SUMIF($F$13:$J$13,AG$13,$F24:$J24)>0,ASISTENCIA!AA23<>\"X\",ASISTENCIA!AA23<>\"L\",ASISTENCIA!AA23<>\"J\",ASISTENCIA!AA23<>\"V\",ASISTENCIA!AA23<>\"F\",ASISTENCIA!AA23<>\"\"),SUMIF($F$13:$J$13,AG$13,$F24:$J24),\"\")","v":""},{"$f":"IF(AND(LEN($D24)>0,SUMIF($F$13:$J$13,AH$13,$F24:$J24)>0,ASISTENCIA!AB23<>\"X\",ASISTENCIA!AB23<>\"L\",ASISTENCIA!AB23<>\"J\",ASISTENCIA!AB23<>\"V\",ASISTENCIA!AB23<>\"F\",ASISTENCIA!AB23<>\"\"),SUMIF($F$13:$J$13,AH$13,$F24:$J24),\"\")","v":""},{"$f":"IF(AND(LEN($D24)>0,SUMIF($F$13:$J$13,AI$13,$F24:$J24)>0,ASISTENCIA!AC23<>\"X\",ASISTENCIA!AC23<>\"L\",ASISTENCIA!AC23<>\"J\",ASISTENCIA!AC23<>\"V\",ASISTENCIA!AC23<>\"F\",ASISTENCIA!AC23<>\"\"),SUMIF($F$13:$J$13,AI$13,$F24:$J24),\"\")","v":""},{"$f":"IF(AND(LEN($D24)>0,SUMIF($F$13:$J$13,AJ$13,$F24:$J24)>0,ASISTENCIA!AD23<>\"X\",ASISTENCIA!AD23<>\"L\",ASISTENCIA!AD23<>\"J\",ASISTENCIA!AD23<>\"V\",ASISTENCIA!AD23<>\"F\",ASISTENCIA!AD23<>\"\"),SUMIF($F$13:$J$13,AJ$13,$F24:$J24),\"\")","v":""},{"$f":"IF(AND(LEN($D24)>0,SUMIF($F$13:$J$13,AK$13,$F24:$J24)>0,ASISTENCIA!AE23<>\"X\",ASISTENCIA!AE23<>\"L\",ASISTENCIA!AE23<>\"J\",ASISTENCIA!AE23<>\"V\",ASISTENCIA!AE23<>\"F\",ASISTENCIA!AE23<>\"\"),SUMIF($F$13:$J$13,AK$13,$F24:$J24),\"\")","v":""},{"$f":"IF(AND(LEN($D24)>0,SUMIF($F$13:$J$13,AL$13,$F24:$J24)>0,ASISTENCIA!AF23<>\"X\",ASISTENCIA!AF23<>\"L\",ASISTENCIA!AF23<>\"J\",ASISTENCIA!AF23<>\"V\",ASISTENCIA!AF23<>\"F\",ASISTENCIA!AF23<>\"\"),SUMIF($F$13:$J$13,AL$13,$F24:$J24),\"\")","v":""},{"$f":"IF(AND(LEN($D24)>0,SUMIF($F$13:$J$13,AM$13,$F24:$J24)>0,ASISTENCIA!AG23<>\"X\",ASISTENCIA!AG23<>\"L\",ASISTENCIA!AG23<>\"J\",ASISTENCIA!AG23<>\"V\",ASISTENCIA!AG23<>\"F\",ASISTENCIA!AG23<>\"\"),SUMIF($F$13:$J$13,AM$13,$F24:$J24),\"\")","v":""},{"$f":"IF(AND(LEN($D24)>0,SUMIF($F$13:$J$13,AN$13,$F24:$J24)>0,ASISTENCIA!AH23<>\"X\",ASISTENCIA!AH23<>\"L\",ASISTENCIA!AH23<>\"J\",ASISTENCIA!AH23<>\"V\",ASISTENCIA!AH23<>\"F\",ASISTENCIA!AH23<>\"\"),SUMIF($F$13:$J$13,AN$13,$F24:$J24),\"\")","v":""},{"$f":"IF(AND(LEN($D24)>0,SUMIF($F$13:$J$13,AO$13,$F24:$J24)>0,ASISTENCIA!AI23<>\"X\",ASISTENCIA!AI23<>\"L\",ASISTENCIA!AI23<>\"J\",ASISTENCIA!AI23<>\"V\",ASISTENCIA!AI23<>\"F\",ASISTENCIA!AI23<>\"\"),SUMIF($F$13:$J$13,AO$13,$F24:$J24),\"\")","v":""},{"$f":"IF(AND(LEN($D24)>0,SUMIF($F$13:$J$13,AP$13,$F24:$J24)>0,ASISTENCIA!AJ23<>\"X\",ASISTENCIA!AJ23<>\"L\",ASISTENCIA!AJ23<>\"J\",ASISTENCIA!AJ23<>\"V\",ASISTENCIA!AJ23<>\"F\",ASISTENCIA!AJ23<>\"\"),SUMIF($F$13:$J$13,AP$13,$F24:$J24),\"\")","v":""},{"$f":"IF(AND(LEN($D24)>0,SUMIF($F$13:$J$13,AQ$13,$F24:$J24)>0,ASISTENCIA!AK23<>\"X\",ASISTENCIA!AK23<>\"L\",ASISTENCIA!AK23<>\"J\",ASISTENCIA!AK23<>\"V\",ASISTENCIA!AK23<>\"F\",ASISTENCIA!AK23<>\"\"),SUMIF($F$13:$J$13,AQ$13,$F24:$J24),\"\")","v":""},{"$f":"IF(AND(LEN($D24)>0,SUMIF($F$13:$J$13,AR$13,$F24:$J24)>0,ASISTENCIA!AL23<>\"X\",ASISTENCIA!AL23<>\"L\",ASISTENCIA!AL23<>\"J\",ASISTENCIA!AL23<>\"V\",ASISTENCIA!AL23<>\"F\",ASISTENCIA!AL23<>\"\"),SUMIF($F$13:$J$13,AR$13,$F24:$J24),\"\")","v":""},{"$f":"IF(AND(LEN($D24)>0,SUMIF($F$13:$J$13,AS$13,$F24:$J24)>0,ASISTENCIA!AM23<>\"X\",ASISTENCIA!AM23<>\"L\",ASISTENCIA!AM23<>\"J\",ASISTENCIA!AM23<>\"V\",ASISTENCIA!AM23<>\"F\",ASISTENCIA!AM23<>\"\"),SUMIF($F$13:$J$13,AS$13,$F24:$J24),\"\")","v":""},"",null,null,null,{"$f":"IF(AND(LEN($D24)>0,SUMIF($F$13:$J$13,AX$13,$F24:$J24)>0,ASISTENCIA!AU23<>\"X\",ASISTENCIA!AU23<>\"L\",ASISTENCIA!AU23<>\"J\",ASISTENCIA!AU23<>\"F\"),SUMIF($F$13:$J$13,AX$13,$F24:$J24),\"\")","v":""},{"$f":"IF(AND(LEN($D24)>0,SUMIF($F$13:$J$13,AY$13,$F24:$J24)>0,ASISTENCIA!AV23<>\"X\",ASISTENCIA!AV23<>\"L\",ASISTENCIA!AV23<>\"J\",ASISTENCIA!AV23<>\"F\"),SUMIF($F$13:$J$13,AY$13,$F24:$J24),\"\")","v":""},{"$f":"IF(AND(LEN($D24)>0,SUMIF($F$13:$J$13,AZ$13,$F24:$J24)>0,ASISTENCIA!AW23<>\"X\",ASISTENCIA!AW23<>\"L\",ASISTENCIA!AW23<>\"J\",ASISTENCIA!AW23<>\"F\"),SUMIF($F$13:$J$13,AZ$13,$F24:$J24),\"\")","v":""},{"$f":"IF(AND(LEN($D24)>0,SUMIF($F$13:$J$13,BA$13,$F24:$J24)>0,ASISTENCIA!AX23<>\"X\",ASISTENCIA!AX23<>\"L\",ASISTENCIA!AX23<>\"J\",ASISTENCIA!AX23<>\"F\"),SUMIF($F$13:$J$13,BA$13,$F24:$J24),\"\")","v":""},{"$f":"IF(AND(LEN($D24)>0,SUMIF($F$13:$J$13,BB$13,$F24:$J24)>0,ASISTENCIA!AY23<>\"X\",ASISTENCIA!AY23<>\"L\",ASISTENCIA!AY23<>\"J\",ASISTENCIA!AY23<>\"F\"),SUMIF($F$13:$J$13,BB$13,$F24:$J24),\"\")","v":""},{"$f":"IF(AND(LEN($D24)>0,SUMIF($F$13:$J$13,BC$13,$F24:$J24)>0,ASISTENCIA!AZ23<>\"X\",ASISTENCIA!AZ23<>\"L\",ASISTENCIA!AZ23<>\"J\",ASISTENCIA!AZ23<>\"F\"),SUMIF($F$13:$J$13,BC$13,$F24:$J24),\"\")","v":""},{"$f":"IF(AND(LEN($D24)>0,SUMIF($F$13:$J$13,BD$13,$F24:$J24)>0,ASISTENCIA!BA23<>\"X\",ASISTENCIA!BA23<>\"L\",ASISTENCIA!BA23<>\"J\",ASISTENCIA!BA23<>\"F\"),SUMIF($F$13:$J$13,BD$13,$F24:$J24),\"\")","v":""},{"$f":"IF(AND(LEN($D24)>0,SUMIF($F$13:$J$13,BE$13,$F24:$J24)>0,ASISTENCIA!BB23<>\"X\",ASISTENCIA!BB23<>\"L\",ASISTENCIA!BB23<>\"J\",ASISTENCIA!BB23<>\"F\"),SUMIF($F$13:$J$13,BE$13,$F24:$J24),\"\")","v":""},{"$f":"IF(AND(LEN($D24)>0,SUMIF($F$13:$J$13,BF$13,$F24:$J24)>0,ASISTENCIA!#REF!<>\"X\",ASISTENCIA!#REF!<>\"L\",ASISTENCIA!#REF!<>\"J\",ASISTENCIA!#REF!<>\"F\"),SUMIF($F$13:$J$13,BF$13,$F24:$J24),\"\")","v":{"$error":"#REF!"}},{"$f":"IF(AND(LEN($D24)>0,SUMIF($F$13:$J$13,BG$13,$F24:$J24)>0,ASISTENCIA!#REF!<>\"X\",ASISTENCIA!#REF!<>\"L\",ASISTENCIA!#REF!<>\"J\",ASISTENCIA!#REF!<>\"F\"),SUMIF($F$13:$J$13,BG$13,$F24:$J24),\"\")","v":{"$error":"#REF!"}},{"$f":"IF(AND(LEN($D24)>0,SUMIF($F$13:$J$13,BH$13,$F24:$J24)>0,ASISTENCIA!BE23<>\"X\",ASISTENCIA!BE23<>\"L\",ASISTENCIA!BE23<>\"J\",ASISTENCIA!BE23<>\"F\"),SUMIF($F$13:$J$13,BH$13,$F24:$J24),\"\")","v":""},{"$f":"IF(AND(LEN($D24)>0,SUMIF($F$13:$J$13,BI$13,$F24:$J24)>0,ASISTENCIA!BF23<>\"X\",ASISTENCIA!BF23<>\"L\",ASISTENCIA!BF23<>\"J\",ASISTENCIA!BF23<>\"F\"),SUMIF($F$13:$J$13,BI$13,$F24:$J24),\"\")","v":""},{"$f":"IF(AND(LEN($D24)>0,SUMIF($F$13:$J$13,BJ$13,$F24:$J24)>0,ASISTENCIA!BG23<>\"X\",ASISTENCIA!BG23<>\"L\",ASISTENCIA!BG23<>\"J\",ASISTENCIA!BG23<>\"F\"),SUMIF($F$13:$J$13,BJ$13,$F24:$J24),\"\")","v":""},{"$f":"IF(AND(LEN($D24)>0,SUMIF($F$13:$J$13,BK$13,$F24:$J24)>0,ASISTENCIA!BH23<>\"X\",ASISTENCIA!BH23<>\"L\",ASISTENCIA!BH23<>\"J\",ASISTENCIA!BH23<>\"F\"),SUMIF($F$13:$J$13,BK$13,$F24:$J24),\"\")","v":""},{"$f":"IF(AND(LEN($D24)>0,SUMIF($F$13:$J$13,BL$13,$F24:$J24)>0,ASISTENCIA!BI23<>\"X\",ASISTENCIA!BI23<>\"L\",ASISTENCIA!BI23<>\"J\",ASISTENCIA!BI23<>\"F\"),SUMIF($F$13:$J$13,BL$13,$F24:$J24),\"\")","v":""},{"$f":"IF(AND(LEN($D24)>0,SUMIF($F$13:$J$13,BM$13,$F24:$J24)>0,ASISTENCIA!BJ23<>\"X\",ASISTENCIA!BJ23<>\"L\",ASISTENCIA!BJ23<>\"J\",ASISTENCIA!BJ23<>\"F\"),SUMIF($F$13:$J$13,BM$13,$F24:$J24),\"\")","v":""},{"$f":"IF(AND(LEN($D24)>0,SUMIF($F$13:$J$13,BN$13,$F24:$J24)>0,ASISTENCIA!BK23<>\"X\",ASISTENCIA!BK23<>\"L\",ASISTENCIA!BK23<>\"J\",ASISTENCIA!BK23<>\"F\"),SUMIF($F$13:$J$13,BN$13,$F24:$J24),\"\")","v":""},{"$f":"IF(AND(LEN($D24)>0,SUMIF($F$13:$J$13,BO$13,$F24:$J24)>0,ASISTENCIA!BL23<>\"X\",ASISTENCIA!BL23<>\"L\",ASISTENCIA!BL23<>\"J\",ASISTENCIA!BL23<>\"F\"),SUMIF($F$13:$J$13,BO$13,$F24:$J24),\"\")","v":""},{"$f":"IF(AND(LEN($D24)>0,SUMIF($F$13:$J$13,BP$13,$F24:$J24)>0,ASISTENCIA!BM23<>\"X\",ASISTENCIA!BM23<>\"L\",ASISTENCIA!BM23<>\"J\",ASISTENCIA!BM23<>\"F\"),SUMIF($F$13:$J$13,BP$13,$F24:$J24),\"\")","v":""},{"$f":"IF(AND(LEN($D24)>0,SUMIF($F$13:$J$13,BQ$13,$F24:$J24)>0,ASISTENCIA!BN23<>\"X\",ASISTENCIA!BN23<>\"L\",ASISTENCIA!BN23<>\"J\",ASISTENCIA!BN23<>\"F\"),SUMIF($F$13:$J$13,BQ$13,$F24:$J24),\"\")","v":""},{"$f":"IF(AND(LEN($D24)>0,SUMIF($F$13:$J$13,BR$13,$F24:$J24)>0,ASISTENCIA!BO23<>\"X\",ASISTENCIA!BO23<>\"L\",ASISTENCIA!BO23<>\"J\",ASISTENCIA!BO23<>\"F\"),SUMIF($F$13:$J$13,BR$13,$F24:$J24),\"\")","v":""},{"$f":"IF(AND(LEN($D24)>0,SUMIF($F$13:$J$13,BS$13,$F24:$J24)>0,ASISTENCIA!BP23<>\"X\",ASISTENCIA!BP23<>\"L\",ASISTENCIA!BP23<>\"J\",ASISTENCIA!BP23<>\"F\"),SUMIF($F$13:$J$13,BS$13,$F24:$J24),\"\")","v":""},{"$f":"IF(AND(LEN($D24)>0,SUMIF($F$13:$J$13,BT$13,$F24:$J24)>0,ASISTENCIA!BQ23<>\"X\",ASISTENCIA!BQ23<>\"L\",ASISTENCIA!BQ23<>\"J\",ASISTENCIA!BQ23<>\"F\"),SUMIF($F$13:$J$13,BT$13,$F24:$J24),\"\")","v":""},{"$f":"IF(AND(LEN($D24)>0,SUMIF($F$13:$J$13,BU$13,$F24:$J24)>0,ASISTENCIA!BR23<>\"X\",ASISTENCIA!BR23<>\"L\",ASISTENCIA!BR23<>\"J\",ASISTENCIA!BR23<>\"F\"),SUMIF($F$13:$J$13,BU$13,$F24:$J24),\"\")","v":""},{"$f":"IF(AND(LEN($D24)>0,SUMIF($F$13:$J$13,BV$13,$F24:$J24)>0,ASISTENCIA!BS23<>\"X\",ASISTENCIA!BS23<>\"L\",ASISTENCIA!BS23<>\"J\",ASISTENCIA!BS23<>\"F\"),SUMIF($F$13:$J$13,BV$13,$F24:$J24),\"\")","v":""},{"$f":"IF(AND(LEN($D24)>0,SUMIF($F$13:$J$13,BW$13,$F24:$J24)>0,ASISTENCIA!BT23<>\"X\",ASISTENCIA!BT23<>\"L\",ASISTENCIA!BT23<>\"J\",ASISTENCIA!BT23<>\"F\"),SUMIF($F$13:$J$13,BW$13,$F24:$J24),\"\")","v":""},{"$f":"IF(AND(LEN($D24)>0,SUMIF($F$13:$J$13,BX$13,$F24:$J24)>0,ASISTENCIA!BU23<>\"X\",ASISTENCIA!BU23<>\"L\",ASISTENCIA!BU23<>\"J\",ASISTENCIA!BU23<>\"F\"),SUMIF($F$13:$J$13,BX$13,$F24:$J24),\"\")","v":""},{"$f":"IF(AND(LEN($D24)>0,SUMIF($F$13:$J$13,BY$13,$F24:$J24)>0,ASISTENCIA!BV23<>\"X\",ASISTENCIA!BV23<>\"L\",ASISTENCIA!BV23<>\"J\",ASISTENCIA!BV23<>\"F\"),SUMIF($F$13:$J$13,BY$13,$F24:$J24),\"\")","v":""},{"$f":"IF(AND(LEN($D24)>0,SUMIF($F$13:$J$13,BZ$13,$F24:$J24)>0,ASISTENCIA!BW23<>\"X\",ASISTENCIA!BW23<>\"L\",ASISTENCIA!BW23<>\"J\",ASISTENCIA!BW23<>\"F\"),SUMIF($F$13:$J$13,BZ$13,$F24:$J24),\"\")","v":""},{"$f":"IF(AND(LEN($D24)>0,SUMIF($F$13:$J$13,CA$13,$F24:$J24)>0,ASISTENCIA!BX23<>\"X\",ASISTENCIA!BX23<>\"L\",ASISTENCIA!BX23<>\"J\",ASISTENCIA!BX23<>\"F\"),SUMIF($F$13:$J$13,CA$13,$F24:$J24),\"\")","v":""},{"$f":"IF(AND(LEN($D24)>0,SUMIF($F$13:$J$13,CB$13,$F24:$J24)>0,ASISTENCIA!BY23<>\"X\",ASISTENCIA!BY23<>\"L\",ASISTENCIA!BY23<>\"J\",ASISTENCIA!BY23<>\"F\"),SUMIF($F$13:$J$13,CB$13,$F24:$J24),\"\")","v":""},{"$error":"#REF!"}]
[{"$error":"#N/A"},{"$f":"IF(LEN(C25)>0,VLOOKUP($O$4,DATA!$A$1:$S$1,2,FALSE),\"\")","v":{"$error":"#N/A"}},"JULIO",{"$f":"IF(LEN(ASISTENCIA!E24)>0,ASISTENCIA!E24,\"\")","v":"TICONA MAQUERA, Casiano"},{"$f":"IF(LEN(D25)>0,ASISTENCIA!F24,\"\")","v":"Bibliotecario"},null,null,null,null,null,"",null,null,{"$error":"#REF!"},{"$f":"IF(AND(LEN($D25)>0,SUMIF($F$13:$J$13,O$13,$F25:$J25)>0,ASISTENCIA!I24<>\"X\",ASISTENCIA!I24<>\"L\",ASISTENCIA!I24<>\"J\",ASISTENCIA!I24<>\"V\",ASISTENCIA!I24<>\"F\",ASISTENCIA!I24<>\"\"),SUMIF($F$13:$J$13,O$13,$F25:$J25),\"\")","v":""},{"$f":"IF(AND(LEN($D25)>0,SUMIF($F$13:$J$13,P$13,$F25:$J25)>0,ASISTENCIA!J24<>\"X\",ASISTENCIA!J24<>\"L\",ASISTENCIA!J24<>\"J\",ASISTENCIA!J24<>\"V\",ASISTENCIA!J24<>\"F\",ASISTENCIA!J24<>\"\"),SUMIF($F$13:$J$13,P$13,$F25:$J25),\"\")","v":""},{"$f":"IF(AND(LEN($D25)>0,SUMIF($F$13:$J$13,Q$13,$F25:$J25)>0,ASISTENCIA!K24<>\"X\",ASISTENCIA!K24<>\"L\",ASISTENCIA!K24<>\"J\",ASISTENCIA!K24<>\"V\",ASISTENCIA!K24<>\"F\",ASISTENCIA!K24<>\"\"),SUMIF($F$13:$J$13,Q$13,$F25:$J25),\"\")","v":""},{"$f":"IF(AND(LEN($D25)>0,SUMIF($F$13:$J$13,R$13,$F25:$J25)>0,ASISTENCIA!L24<>\"X\",ASISTENCIA!L24<>\"L\",ASISTENCIA!L24<>\"J\",ASISTENCIA!L24<>\"V\",ASISTENCIA!L24<>\"F\",ASISTENCIA!L24<>\"\"),SUMIF($F$13:$J$13,R$13,$F25:$J25),\"\")","v":""},{"$f":"IF(AND(LEN($D25)>0,SUMIF($F$13:$J$13,S$13,$F25:$J25)>0,ASISTENCIA!M24<>\"X\",ASISTENCIA!M24<>\"L\",ASISTENCIA!M24<>\"J\",ASISTENCIA!M24<>\"V\",ASISTENCIA!M24<>\"F\",ASISTENCIA!M24<>\"\"),SUMIF($F$13:$J$13,S$13,$F25:$J25),\"\")","v":""},{"$f":"IF(AND(LEN($D25)>0,SUMIF($F$13:$J$13,T$13,$F25:$J25)>0,ASISTENCIA!N24<>\"X\",ASISTENCIA!N24<>\"L\",ASISTENCIA!N24<>\"J\",ASISTENCIA!N24<>\"V\",ASISTENCIA!N24<>\"F\",ASISTENCIA!N24<>\"\"),SUMIF($F$13:$J$13,T$13,$F25:$J25),\"\")","v":""},{"$f":"IF(AND(LEN($D25)>0,SUMIF($F$13:$J$13,U$13,$F25:$J25)>0,ASISTENCIA!O24<>\"X\",ASISTENCIA!O24<>\"L\",ASISTENCIA!O24<>\"J\",ASISTENCIA!O24<>\"V\",ASISTENCIA!O24<>\"F\",ASISTENCIA!O24<>\"\"),SUMIF($F$13:$J$13,U$13,$F25:$J25),\"\")","v":""},{"$f":"IF(AND(LEN($D25)>0,SUMIF($F$13:$J$13,V$13,$F25:$J25)>0,ASISTENCIA!P24<>\"X\",ASISTENCIA!P24<>\"L\",ASISTENCIA!P24<>\"J\",ASISTENCIA!P24<>\"V\",ASISTENCIA!P24<>\"F\",ASISTENCIA!P24<>\"\"),SUMIF($F$13:$J$13,V$13,$F25:$J25),\"\")","v":""},{"$f":"IF(AND(LEN($D25)>0,SUMIF($F$13:$J$13,W$13,$F25:$J25)>0,ASISTENCIA!Q24<>\"X\",ASISTENCIA!Q24<>\"L\",ASISTENCIA!Q24<>\"J\",ASISTENCIA!Q24<>\"V\",ASISTENCIA!Q24<>\"F\",ASISTENCIA!Q24<>\"\"),SUMIF($F$13:$J$13,W$13,$F25:$J25),\"\")","v":""},{"$f":"IF(AND(LEN($D25)>0,SUMIF($F$13:$J$13,X$13,$F25:$J25)>0,ASISTENCIA!R24<>\"X\",ASISTENCIA!R24<>\"L\",ASISTENCIA!R24<>\"J\",ASISTENCIA!R24<>\"V\",ASISTENCIA!R24<>\"F\",ASISTENCIA!R24<>\"\"),SUMIF($F$13:$J$13,X$13,$F25:$J25),\"\")","v":""},{"$f":"IF(AND(LEN($D25)>0,SUMIF($F$13:$J$13,Y$13,$F25:$J25)>0,ASISTENCIA!S24<>\"X\",ASISTENCIA!S24<>\"L\",ASISTENCIA!S24<>\"J\",ASISTENCIA!S24<>\"V\",ASISTENCIA!S24<>\"F\",ASISTENCIA!S24<>\"\"),SUMIF($F$13:$J$13,Y$13,$F25:$J25),\"\")","v":""},{"$f":"IF(AND(LEN($D25)>0,SUMIF($F$13:$J$13,Z$13,$F25:$J25)>0,ASISTENCIA!T24<>\"X\",ASISTENCIA!T24<>\"L\",ASISTENCIA!T24<>\"J\",ASISTENCIA!T24<>\"V\",ASISTENCIA!T24<>\"F\",ASISTENCIA!T24<>\"\"),SUMIF($F$13:$J$13,Z$13,$F25:$J25),\"\")","v":""},{"$f":"IF(AND(LEN($D25)>0,SUMIF($F$13:$J$13,AA$13,$F25:$J25)>0,ASISTENCIA!U24<>\"X\",ASISTENCIA!U24<>\"L\",ASISTENCIA!U24<>\"J\",ASISTENCIA!U24<>\"V\",ASISTENCIA!U24<>\"F\",ASISTENCIA!U24<>\"\"),SUMIF($F$13:$J$13,AA$13,$F25:$J25),\"\")","v":""},{"$f":"IF(AND(LEN($D25)>0,SUMIF($F$13:$J$13,AB$13,$F25:$J25)>0,ASISTENCIA!V24<>\"X\",ASISTENCIA!V24<>\"L\",ASISTENCIA!V24<>\"J\",ASISTENCIA!V24<>\"V\",ASISTENCIA!V24<>\"F\",ASISTENCIA!V24<>\"\"),SUMIF($F$13:$J$13,AB$13,$F25:$J25),\"\")","v":""},{"$f":"IF(AND(LEN($D25)>0,SUMIF($F$13:$J$13,AC$13,$F25:$J25)>0,ASISTENCIA!W24<>\"X\",ASISTENCIA!W24<>\"L\",ASISTENCIA!W24<>\"J\",ASISTENCIA!W24<>\"V\",ASISTENCIA!W24<>\"F\",ASISTENCIA!W24<>\"\"),SUMIF($F$13:$J$13,AC$13,$F25:$J25),\"\")","v":""},{"$f":"IF(AND(LEN($D25)>0,SUMIF($F$13:$J$13,AD$13,$F25:$J25)>0,ASISTENCIA!X24<>\"X\",ASISTENCIA!X24<>\"L\",ASISTENCIA!X24<>\"J\",ASISTENCIA!X24<>\"V\",ASISTENCIA!X24<>\"F\",ASISTENCIA!X24<>\"\"),SUMIF($F$13:$J$13,AD$13,$F25:$J25),\"\")","v":""},{"$f":"IF(AND(LEN($D25)>0,SUMIF($F$13:$J$13,AE$13,$F25:$J25)>0,ASISTENCIA!Y24<>\"X\",ASISTENCIA!Y24<>\"L\",ASISTENCIA!Y24<>\"J\",ASISTENCIA!Y24<>\"V\",ASISTENCIA!Y24<>\"F\",ASISTENCIA!Y24<>\"\"),SUMIF($F$13:$J$13,AE$13,$F25:$J25),\"\")","v":""},{"$f":"IF(AND(LEN($D25)>0,SUMIF($F$13:$J$13,AF$13,$F25:$J25)>0,ASISTENCIA!Z24<>\"X\",ASISTENCIA!Z24<>\"L\",ASISTENCIA!Z24<>\"J\",ASISTENCIA!Z24<>\"V\",ASISTENCIA!Z24<>\"F\",ASISTENCIA!Z24<>\"\"),SUMIF($F$13:$J$13,AF$13,$F25:$J25),\"\")","v":""},{"$f":"IF(AND(LEN($D25)>0,SUMIF($F$13:$J$13,AG$13,$F25:$J25)>0,ASISTENCIA!AA24<>\"X\",ASISTENCIA!AA24<>\"L\",ASISTENCIA!AA24<>\"J\",ASISTENCIA!AA24<>\"V\",ASISTENCIA!AA24<>\"F\",ASISTENCIA!AA24<>\"\"),SUMIF($F$13:$J$13,AG$13,$F25:$J25),\"\")","v":""},{"$f":"IF(AND(LEN($D25)>0,SUMIF($F$13:$J$13,AH$13,$F25:$J25)>0,ASISTENCIA!AB24<>\"X\",ASISTENCIA!AB24<>\"L\",ASISTENCIA!AB24<>\"J\",ASISTENCIA!AB24<>\"V\",ASISTENCIA!AB24<>\"F\",ASISTENCIA!AB24<>\"\"),SUMIF($F$13:$J$13,AH$13,$F25:$J25),\"\")","v":""},{"$f":"IF(AND(LEN($D25)>0,SUMIF($F$13:$J$13,AI$13,$F25:$J25)>0,ASISTENCIA!AC24<>\"X\",ASISTENCIA!AC24<>\"L\",ASISTENCIA!AC24<>\"J\",ASISTENCIA!AC24<>\"V\",ASISTENCIA!AC24<>\"F\",ASISTENCIA!AC24<>\"\"),SUMIF($F$13:$J$13,AI$13,$F25:$J25),\"\")","v":""},{"$f":"IF(AND(LEN($D25)>0,SUMIF($F$13:$J$13,AJ$13,$F25:$J25)>0,ASISTENCIA!AD24<>\"X\",ASISTENCIA!AD24<>\"L\",ASISTENCIA!AD24<>\"J\",ASISTENCIA!AD24<>\"V\",ASISTENCIA!AD24<>\"F\",ASISTENCIA!AD24<>\"\"),SUMIF($F$13:$J$13,AJ$13,$F25:$J25),\"\")","v":""},{"$f":"IF(AND(LEN($D25)>0,SUMIF($F$13:$J$13,AK$13,$F25:$J25)>0,ASISTENCIA!AE24<>\"X\",ASISTENCIA!AE24<>\"L\",ASISTENCIA!AE24<>\"J\",ASISTENCIA!AE24<>\"V\",ASISTENCIA!AE24<>\"F\",ASISTENCIA!AE24<>\"\"),SUMIF($F$13:$J$13,AK$13,$F25:$J25),\"\")","v":""},{"$f":"IF(AND(LEN($D25)>0,SUMIF($F$13:$J$13,AL$13,$F25:$J25)>0,ASISTENCIA!AF24<>\"X\",ASISTENCIA!AF24<>\"L\",ASISTENCIA!AF24<>\"J\",ASISTENCIA!AF24<>\"V\",ASISTENCIA!AF24<>\"F\",ASISTENCIA!AF24<>\"\"),SUMIF($F$13:$J$13,AL$13,$F25:$J25),\"\")","v":""},{"$f":"IF(AND(LEN($D25)>0,SUMIF($F$13:$J$13,AM$13,$F25:$J25)>0,ASISTENCIA!AG24<>\"X\",ASISTENCIA!AG24<>\"L\",ASISTENCIA!AG24<>\"J\",ASISTENCIA!AG24<>\"V\",ASISTENCIA!AG24<>\"F\",ASISTENCIA!AG24<>\"\"),SUMIF($F$13:$J$13,AM$13,$F25:$J25),\"\")","v":""},{"$f":"IF(AND(LEN($D25)>0,SUMIF($F$13:$J$13,AN$13,$F25:$J25)>0,ASISTENCIA!AH24<>\"X\",ASISTENCIA!AH24<>\"L\",ASISTENCIA!AH24<>\"J\",ASISTENCIA!AH24<>\"V\",ASISTENCIA!AH24<>\"F\",ASISTENCIA!AH24<>\"\"),SUMIF($F$13:$J$13,AN$13,$F25:$J25),\"\")","v":""},{"$f":"IF(AND(LEN($D25)>0,SUMIF($F$13:$J$13,AO$13,$F25:$J25)>0,ASISTENCIA!AI24<>\"X\",ASISTENCIA!AI24<>\"L\",ASISTENCIA!AI24<>\"J\",ASISTENCIA!AI24<>\"V\",ASISTENCIA!AI24<>\"F\",ASISTENCIA!AI24<>\"\"),SUMIF($F$13:$J$13,AO$13,$F25:$J25),\"\")","v":""},{"$f":"IF(AND(LEN($D25)>0,SUMIF($F$13:$J$13,AP$13,$F25:$J25)>0,ASISTENCIA!AJ24<>\"X\",ASISTENCIA!AJ24<>\"L\",ASISTENCIA!AJ24<>\"J\",ASISTENCIA!AJ24<>\"V\",ASISTENCIA!AJ24<>\"F\",ASISTENCIA!AJ24<>\"\"),SUMIF($F$13:$J$13,AP$13,$F25:$J25),\"\")","v":""},{"$f":"IF(AND(LEN($D25)>0,SUMIF($F$13:$J$13,AQ$13,$F25:$J25)>0,ASISTENCIA!AK24<>\"X\",ASISTENCIA!AK24<>\"L\",ASISTENCIA!AK24<>\"J\",ASISTENCIA!AK24<>\"V\",ASISTENCIA!AK24<>\"F\",ASISTENCIA!AK24<>\"\"),SUMIF($F$13:$J$13,AQ$13,$F25:$J25),\"\")","v":""},{"$f":"IF(AND(LEN($D25)>0,SUMIF($F$13:$J$13,AR$13,$F25:$J25)>0,ASISTENCIA!AL24<>\"X\",ASISTENCIA!AL24<>\"L\",ASISTENCIA!AL24<>\"J\",ASISTENCIA!AL24<>\"V\",ASISTENCIA!AL24<>\"F\",ASISTENCIA!AL24<>\"\"),SUMIF($F$13:$J$13,AR$13,$F25:$J25),\"\")","v":""},{"$f":"IF(AND(LEN($D25)>0,SUMIF($F$13:$J$13,AS$13,$F25:$J25)>0,ASISTENCIA!AM24<>\"X\",ASISTENCIA!AM24<>\"L\",ASISTENCIA!AM24<>\"J\",ASISTENCIA!AM24<>\"V\",ASISTENCIA!AM24<>\"F\",ASISTENCIA!AM24<>\"\"),SUMIF($F$13:$J$13,AS$13,$F25:$J25),\"\")","v":""},"",null,null,null,{"$f":"IF(AND(LEN($D25)>0,SUMIF($F$13:$J$13,AX$13,$F25:$J25)>0,ASISTENCIA!AU24<>\"X\",ASISTENCIA!AU24<>\"L\",ASISTENCIA!AU24<>\"J\",ASISTENCIA!AU24<>\"F\"),SUMIF($F$13:$J$13,AX$13,$F25:$J25),\"\")","v":""},{"$f":"IF(AND(LEN($D25)>0,SUMIF($F$13:$J$13,AY$13,$F25:$J25)>0,ASISTENCIA!AV24<>\"X\",ASISTENCIA!AV24<>\"L\",ASISTENCIA!AV24<>\"J\",ASISTENCIA!AV24<>\"F\"),SUMIF($F$13:$J$13,AY$13,$F25:$J25),\"\")","v":""},{"$f":"IF(AND(LEN($D25)>0,SUMIF($F$13:$J$13,AZ$13,$F25:$J25)>0,ASISTENCIA!AW24<>\"X\",ASISTENCIA!AW24<>\"L\",ASISTENCIA!AW24<>\"J\",ASISTENCIA!AW24<>\"F\"),SUMIF($F$13:$J$13,AZ$13,$F25:$J25),\"\")","v":""},{"$f":"IF(AND(LEN($D25)>0,SUMIF($F$13:$J$13,BA$13,$F25:$J25)>0,ASISTENCIA!AX24<>\"X\",ASISTENCIA!AX24<>\"L\",ASISTENCIA!AX24<>\"J\",ASISTENCIA!AX24<>\"F\"),SUMIF($F$13:$J$13,BA$13,$F25:$J25),\"\")","v":""},{"$f":"IF(AND(LEN($D25)>0,SUMIF($F$13:$J$13,BB$13,$F25:$J25)>0,ASISTENCIA!AY24<>\"X\",ASISTENCIA!AY24<>\"L\",ASISTENCIA!AY24<>\"J\",ASISTENCIA!AY24<>\"F\"),SUMIF($F$13:$J$13,BB$13,$F25:$J25),\"\")","v":""},{"$f":"IF(AND(LEN($D25)>0,SUMIF($F$13:$J$13,BC$13,$F25:$J25)>0,ASISTENCIA!AZ24<>\"X\",ASISTENCIA!AZ24<>\"L\",ASISTENCIA!AZ24<>\"J\",ASISTENCIA!AZ24<>\"F\"),SUMIF($F$13:$J$13,BC$13,$F25:$J25),\"\")","v":""},{"$f":"IF(AND(LEN($D25)>0,SUMIF($F$13:$J$13,BD$13,$F25:$J25)>0,ASISTENCIA!BA24<>\"X\",ASISTENCIA!BA24<>\"L\",ASISTENCIA!BA24<>\"J\",ASISTENCIA!BA24<>\"F\"),SUMIF($F$13:$J$13,BD$13,$F25:$J25),\"\")","v":""},{"$f":"IF(AND(LEN($D25)>0,SUMIF($F$13:$J$13,BE$13,$F25:$J25)>0,ASISTENCIA!BB24<>\"X\",ASISTENCIA!BB24<>\"L\",ASISTENCIA!BB24<>\"J\",ASISTENCIA!BB24<>\"F\"),SUMIF($F$13:$J$13,BE$13,$F25:$J25),\"\")","v":""},{"$f":"IF(AND(LEN($D25)>0,SUMIF($F$13:$J$13,BF$13,$F25:$J25)>0,ASISTENCIA!#REF!<>\"X\",ASISTENCIA!#REF!<>\"L\",ASISTENCIA!#REF!<>\"J\",ASISTENCIA!#REF!<>\"F\"),SUMIF($F$13:$J$13,BF$13,$F25:$J25),\"\")","v":{"$error":"#REF!"}},{"$f":"IF(AND(LEN($D25)>0,SUMIF($F$13:$J$13,BG$13,$F25:$J25)>0,ASISTENCIA!#REF!<>\"X\",ASISTENCIA!#REF!<>\"L\",ASISTENCIA!#REF!<>\"J\",ASISTENCIA!#REF!<>\"F\"),SUMIF($F$13:$J$13,BG$13,$F25:$J25),\"\")","v":{"$error":"#REF!"}},{"$f":"IF(AND(LEN($D25)>0,SUMIF($F$13:$J$13,BH$13,$F25:$J25)>0,ASISTENCIA!BE24<>\"X\",ASISTENCIA!BE24<>\"L\",ASISTENCIA!BE24<>\"J\",ASISTENCIA!BE24<>\"F\"),SUMIF($F$13:$J$13,BH$13,$F25:$J25),\"\")","v":""},{"$f":"IF(AND(LEN($D25)>0,SUMIF($F$13:$J$13,BI$13,$F25:$J25)>0,ASISTENCIA!BF24<>\"X\",ASISTENCIA!BF24<>\"L\",ASISTENCIA!BF24<>\"J\",ASISTENCIA!BF24<>\"F\"),SUMIF($F$13:$J$13,BI$13,$F25:$J25),\"\")","v":""},{"$f":"IF(AND(LEN($D25)>0,SUMIF($F$13:$J$13,BJ$13,$F25:$J25)>0,ASISTENCIA!BG24<>\"X\",ASISTENCIA!BG24<>\"L\",ASISTENCIA!BG24<>\"J\",ASISTENCIA!BG24<>\"F\"),SUMIF($F$13:$J$13,BJ$13,$F25:$J25),\"\")","v":""},{"$f":"IF(AND(LEN($D25)>0,SUMIF($F$13:$J$13,BK$13,$F25:$J25)>0,ASISTENCIA!BH24<>\"X\",ASISTENCIA!BH24<>\"L\",ASISTENCIA!BH24<>\"J\",ASISTENCIA!BH24<>\"F\"),SUMIF($F$13:$J$13,BK$13,$F25:$J25),\"\")","v":""},{"$f":"IF(AND(LEN($D25)>0,SUMIF($F$13:$J$13,BL$13,$F25:$J25)>0,ASISTENCIA!BI24<>\"X\",ASISTENCIA!BI24<>\"L\",ASISTENCIA!BI24<>\"J\",ASISTENCIA!BI24<>\"F\"),SUMIF($F$13:$J$13,BL$13,$F25:$J25),\"\")","v":""},{"$f":"IF(AND(LEN($D25)>0,SUMIF($F$13:$J$13,BM$13,$F25:$J25)>0,ASISTENCIA!BJ24<>\"X\",ASISTENCIA!BJ24<>\"L\",ASISTENCIA!BJ24<>\"J\",ASISTENCIA!BJ24<>\"F\"),SUMIF($F$13:$J$13,BM$13,$F25:$J25),\"\")","v":""},{"$f":"IF(AND(LEN($D25)>0,SUMIF($F$13:$J$13,BN$13,$F25:$J25)>0,ASISTENCIA!BK24<>\"X\",ASISTENCIA!BK24<>\"L\",ASISTENCIA!BK24<>\"J\",ASISTENCIA!BK24<>\"F\"),SUMIF($F$13:$J$13,BN$13,$F25:$J25),\"\")","v":""},{"$f":"IF(AND(LEN($D25)>0,SUMIF($F$13:$J$13,BO$13,$F25:$J25)>0,ASISTENCIA!BL24<>\"X\",ASISTENCIA!BL24<>\"L\",ASISTENCIA!BL24<>\"J\",ASISTENCIA!BL24<>\"F\"),SUMIF($F$13:$J$13,BO$13,$F25:$J25),\"\")","v":""},{"$f":"IF(AND(LEN($D25)>0,SUMIF($F$13:$J$13,BP$13,$F25:$J25)>0,ASISTENCIA!BM24<>\"X\",ASISTENCIA!BM24<>\"L\",ASISTENCIA!BM24<>\"J\",ASISTENCIA!BM24<>\"F\"),SUMIF($F$13:$J$13,BP$13,$F25:$J25),\"\")","v":""},{"$f":"IF(AND(LEN($D25)>0,SUMIF($F$13:$J$13,BQ$13,$F25:$J25)>0,ASISTENCIA!BN24<>\"X\",ASISTENCIA!BN24<>\"L\",ASISTENCIA!BN24<>\"J\",ASISTENCIA!BN24<>\"F\"),SUMIF($F$13:$J$13,BQ$13,$F25:$J25),\"\")","v":""},{"$f":"IF(AND(LEN($D25)>0,SUMIF($F$13:$J$13,BR$13,$F25:$J25)>0,ASISTENCIA!BO24<>\"X\",ASISTENCIA!BO24<>\"L\",ASISTENCIA!BO24<>\"J\",ASISTENCIA!BO24<>\"F\"),SUMIF($F$13:$J$13,BR$13,$F25:$J25),\"\")","v":""},{"$f":"IF(AND(LEN($D25)>0,SUMIF($F$13:$J$13,BS$13,$F25:$J25)>0,ASISTENCIA!BP24<>\"X\",ASISTENCIA!BP24<>\"L\",ASISTENCIA!BP24<>\"J\",ASISTENCIA!BP24<>\"F\"),SUMIF($F$13:$J$13,BS$13,$F25:$J25),\"\")","v":""},{"$f":"IF(AND(LEN($D25)>0,SUMIF($F$13:$J$13,BT$13,$F25:$J25)>0,ASISTENCIA!BQ24<>\"X\",ASISTENCIA!BQ24<>\"L\",ASISTENCIA!BQ24<>\"J\",ASISTENCIA!BQ24<>\"F\"),SUMIF($F$13:$J$13,BT$13,$F25:$J25),\"\")","v":""},{"$f":"IF(AND(LEN($D25)>0,SUMIF($F$13:$J$13,BU$13,$F25:$J25)>0,ASISTENCIA!BR24<>\"X\",ASISTENCIA!BR24<>\"L\",ASISTENCIA!BR24<>\"J\",ASISTENCIA!BR24<>\"F\"),SUMIF($F$13:$J$13,BU$13,$F25:$J25),\"\")","v":""},{"$f":"IF(AND(LEN($D25)>0,SUMIF($F$13:$J$13,BV$13,$F25:$J25)>0,ASISTENCIA!BS24<>\"X\",ASISTENCIA!BS24<>\"L\",ASISTENCIA!BS24<>\"J\",ASISTENCIA!BS24<>\"F\"),SUMIF($F$13:$J$13,BV$13,$F25:$J25),\"\")","v":""},{"$f":"IF(AND(LEN($D25)>0,SUMIF($F$13:$J$13,BW$13,$F25:$J25)>0,ASISTENCIA!BT24<>\"X\",ASISTENCIA!BT24<>\"L\",ASISTENCIA!BT24<>\"J\",ASISTENCIA!BT24<>\"F\"),SUMIF($F$13:$J$13,BW$13,$F25:$J25),\"\")","v":""},{"$f":"IF(AND(LEN($D25)>0,SUMIF($F$13:$J$13,BX$13,$F25:$J25)>0,ASISTENCIA!BU24<>\"X\",ASISTENCIA!BU24<>\"L\",ASISTENCIA!BU24<>\"J\",ASISTENCIA!BU24<>\"F\"),SUMIF($F$13:$J$13,BX$13,$F25:$J25),\"\")","v":""},{"$f":"IF(AND(LEN($D25)>0,SUMIF($F$13:$J$13,BY$13,$F25:$J25)>0,ASISTENCIA!BV24<>\"X\",ASISTENCIA!BV24<>\"L\",ASISTENCIA!BV24<>\"J\",ASISTENCIA!BV24<>\"F\"),SUMIF($F$13:$J$13,BY$13,$F25:$J25),\"\")","v":""},{"$f":"IF(AND(LEN($D25)>0,SUMIF($F$13:$J$13,BZ$13,$F25:$J25)>0,ASISTENCIA!BW24<>\"X\",ASISTENCIA!BW24<>\"L\",ASISTENCIA!BW24<>\"J\",ASISTENCIA!BW24<>\"F\"),SUMIF($F$13:$J$13,BZ$13,$F25:$J25),\"\")","v":""},{"$f":"IF(AND(LEN($D25)>0,SUMIF($F$13:$J$13,CA$13,$F25:$J25)>0,ASISTENCIA!BX24<>\"X\",ASISTENCIA!BX24<>\"L\",ASISTENCIA!BX24<>\"J\",ASISTENCIA!BX24<>\"F\"),SUMIF($F$13:$J$13,CA$13,$F25:$J25),\"\")","v":""},{"$f":"IF(AND(LEN($D25)>0,SUMIF($F$13:$J$13,CB$13,$F25:$J25)>0,ASISTENCIA!BY24<>\"X\",ASISTENCIA!BY24<>\"L\",ASISTENCIA!BY24<>\"J\",ASISTENCIA!BY24<>\"F\"),SUMIF($F$13:$J$13,CB$13,$F25:$J25),\"\")","v":""},{"$error":"#REF!"}]
[{"$error":"#N/A"},{"$f":"IF(LEN(C26)>0,VLOOKUP($O$4,DATA!$A$1:$S$1,2,FALSE),\"\")","v":{"$error":"#N/A"}},"JULIO",{"$f":"IF(LEN(ASISTENCIA!E25)>0,ASISTENCIA!E25,\"\")","v":"GUEVARA HUANACUNI, Sergio"},{"$f":"IF(LEN(D26)>0,ASISTENCIA!F25,\"\")","v":"Pers. Servicio"},null,null,null,null,null,"",null,null,{"$error":"#REF!"},{"$f":"IF(AND(LEN($D26)>0,SUMIF($F$13:$J$13,O$13,$F26:$J26)>0,ASISTENCIA!I25<>\"X\",ASISTENCIA!I25<>\"L\",ASISTENCIA!I25<>\"J\",ASISTENCIA!I25<>\"V\",ASISTENCIA!I25<>\"F\",ASISTENCIA!I25<>\"\"),SUMIF($F$13:$J$13,O$13,$F26:$J26),\"\")","v":""},{"$f":"IF(AND(LEN($D26)>0,SUMIF($F$13:$J$13,P$13,$F26:$J26)>0,ASISTENCIA!J25<>\"X\",ASISTENCIA!J25<>\"L\",ASISTENCIA!J25<>\"J\",ASISTENCIA!J25<>\"V\",ASISTENCIA!J25<>\"F\",ASISTENCIA!J25<>\"\"),SUMIF($F$13:$J$13,P$13,$F26:$J26),\"\")","v":""},{"$f":"IF(AND(LEN($D26)>0,SUMIF($F$13:$J$13,Q$13,$F26:$J26)>0,ASISTENCIA!K25<>\"X\",ASISTENCIA!K25<>\"L\",ASISTENCIA!K25<>\"J\",ASISTENCIA!K25<>\"V\",ASISTENCIA!K25<>\"F\",ASISTENCIA!K25<>\"\"),SUMIF($F$13:$J$13,Q$13,$F26:$J26),\"\")","v":""},{"$f":"IF(AND(LEN($D26)>0,SUMIF($F$13:$J$13,R$13,$F26:$J26)>0,ASISTENCIA!L25<>\"X\",ASISTENCIA!L25<>\"L\",ASISTENCIA!L25<>\"J\",ASISTENCIA!L25<>\"V\",ASISTENCIA!L25<>\"F\",ASISTENCIA!L25<>\"\"),SUMIF($F$13:$J$13,R$13,$F26:$J26),\"\")","v":""},{"$f":"IF(AND(LEN($D26)>0,SUMIF($F$13:$J$13,S$13,$F26:$J26)>0,ASISTENCIA!M25<>\"X\",ASISTENCIA!M25<>\"L\",ASISTENCIA!M25<>\"J\",ASISTENCIA!M25<>\"V\",ASISTENCIA!M25<>\"F\",ASISTENCIA!M25<>\"\"),SUMIF($F$13:$J$13,S$13,$F26:$J26),\"\")","v":""},{"$f":"IF(AND(LEN($D26)>0,SUMIF($F$13:$J$13,T$13,$F26:$J26)>0,ASISTENCIA!N25<>\"X\",ASISTENCIA!N25<>\"L\",ASISTENCIA!N25<>\"J\",ASISTENCIA!N25<>\"V\",ASISTENCIA!N25<>\"F\",ASISTENCIA!N25<>\"\"),SUMIF($F$13:$J$13,T$13,$F26:$J26),\"\")","v":""},{"$f":"IF(AND(LEN($D26)>0,SUMIF($F$13:$J$13,U$13,$F26:$J26)>0,ASISTENCIA!O25<>\"X\",ASISTENCIA!O25<>\"L\",ASISTENCIA!O25<>\"J\",ASISTENCIA!O25<>\"V\",ASISTENCIA!O25<>\"F\",ASISTENCIA!O25<>\"\"),SUMIF($F$13:$J$13,U$13,$F26:$J26),\"\")","v":""},{"$f":"IF(AND(LEN($D26)>0,SUMIF($F$13:$J$13,V$13,$F26:$J26)>0,ASISTENCIA!P25<>\"X\",ASISTENCIA!P25<>\"L\",ASISTENCIA!P25<>\"J\",ASISTENCIA!P25<>\"V\",ASISTENCIA!P25<>\"F\",ASISTENCIA!P25<>\"\"),SUMIF($F$13:$J$13,V$13,$F26:$J26),\"\")","v":""},{"$f":"IF(AND(LEN($D26)>0,SUMIF($F$13:$J$13,W$13,$F26:$J26)>0,ASISTENCIA!Q25<>\"X\",ASISTENCIA!Q25<>\"L\",ASISTENCIA!Q25<>\"J\",ASISTENCIA!Q25<>\"V\",ASISTENCIA!Q25<>\"F\",ASISTENCIA!Q25<>\"\"),SUMIF($F$13:$J$13,W$13,$F26:$J26),\"\")","v":""},{"$f":"IF(AND(LEN($D26)>0,SUMIF($F$13:$J$13,X$13,$F26:$J26)>0,ASISTENCIA!R25<>\"X\",ASISTENCIA!R25<>\"L\",ASISTENCIA!R25<>\"J\",ASISTENCIA!R25<>\"V\",ASISTENCIA!R25<>\"F\",ASISTENCIA!R25<>\"\"),SUMIF($F$13:$J$13,X$13,$F26:$J26),\"\")","v":""},{"$f":"IF(AND(LEN($D26)>0,SUMIF($F$13:$J$13,Y$13,$F26:$J26)>0,ASISTENCIA!S25<>\"X\",ASISTENCIA!S25<>\"L\",ASISTENCIA!S25<>\"J\",ASISTENCIA!S25<>\"V\",ASISTENCIA!S25<>\"F\",ASISTENCIA!S25<>\"\"),SUMIF($F$13:$J$13,Y$13,$F26:$J26),\"\")","v":""},{"$f":"IF(AND(LEN($D26)>0,SUMIF($F$13:$J$13,Z$13,$F26:$J26)>0,ASISTENCIA!T25<>\"X\",ASISTENCIA!T25<>\"L\",ASISTENCIA!T25<>\"J\",ASISTENCIA!T25<>\"V\",ASISTENCIA!T25<>\"F\",ASISTENCIA!T25<>\"\"),SUMIF($F$13:$J$13,Z$13,$F26:$J26),\"\")","v":""},{"$f":"IF(AND(LEN($D26)>0,SUMIF($F$13:$J$13,AA$13,$F26:$J26)>0,ASISTENCIA!U25<>\"X\",ASISTENCIA!U25<>\"L\",ASISTENCIA!U25<>\"J\",ASISTENCIA!U25<>\"V\",ASISTENCIA!U25<>\"F\",ASISTENCIA!U25<>\"\"),SUMIF($F$13:$J$13,AA$13,$F26:$J26),\"\")","v":""},{"$f":"IF(AND(LEN($D26)>0,SUMIF($F$13:$J$13,AB$13,$F26:$J26)>0,ASISTENCIA!V25<>\"X\",ASISTENCIA!V25<>\"L\",ASISTENCIA!V25<>\"J\",ASISTENCIA!V25<>\"V\",ASISTENCIA!V25<>\"F\",ASISTENCIA!V25<>\"\"),SUMIF($F$13:$J$13,AB$13,$F26:$J26),\"\")","v":""},{"$f":"IF(AND(LEN($D26)>0,SUMIF($F$13:$J$13,AC$13,$F26:$J26)>0,ASISTENCIA!W25<>\"X\",ASISTENCIA!W25<>\"L\",ASISTENCIA!W25<>\"J\",ASISTENCIA!W25<>\"V\",ASISTENCIA!W25<>\"F\",ASISTENCIA!W25<>\"\"),SUMIF($F$13:$J$13,AC$13,$F26:$J26),\"\")","v":""},{"$f":"IF(AND(LEN($D26)>0,SUMIF($F$13:$J$13,AD$13,$F26:$J26)>0,ASISTENCIA!X25<>\"X\",ASISTENCIA!X25<>\"L\",ASISTENCIA!X25<>\"J\",ASISTENCIA!X25<>\"V\",ASISTENCIA!X25<>\"F\",ASISTENCIA!X25<>\"\"),SUMIF($F$13:$J$13,AD$13,$F26:$J26),\"\")","v":""},{"$f":"IF(AND(LEN($D26)>0,SUMIF($F$13:$J$13,AE$13,$F26:$J26)>0,ASISTENCIA!Y25<>\"X\",ASISTENCIA!Y25<>\"L\",ASISTENCIA!Y25<>\"J\",ASISTENCIA!Y25<>\"V\",ASISTENCIA!Y25<>\"F\",ASISTENCIA!Y25<>\"\"),SUMIF($F$13:$J$13,AE$13,$F26:$J26),\"\")","v":""},{"$f":"IF(AND(LEN($D26)>0,SUMIF($F$13:$J$13,AF$13,$F26:$J26)>0,ASISTENCIA!Z25<>\"X\",ASISTENCIA!Z25<>\"L\",ASISTENCIA!Z25<>\"J\",ASISTENCIA!Z25<>\"V\",ASISTENCIA!Z25<>\"F\",ASISTENCIA!Z25<>\"\"),SUMIF($F$13:$J$13,AF$13,$F26:$J26),\"\")","v":""},{"$f":"IF(AND(LEN($D26)>0,SUMIF($F$13:$J$13,AG$13,$F26:$J26)>0,ASISTENCIA!AA25<>\"X\",ASISTENCIA!AA25<>\"L\",ASISTENCIA!AA25<>\"J\",ASISTENCIA!AA25<>\"V\",ASISTENCIA!AA25<>\"F\",ASISTENCIA!AA25<>\"\"),SUMIF($F$13:$J$13,AG$13,$F26:$J26),\"\")","v":""},{"$f":"IF(AND(LEN($D26)>0,SUMIF($F$13:$J$13,AH$13,$F26:$J26)>0,ASISTENCIA!AB25<>\"X\",ASISTENCIA!AB25<>\"L\",ASISTENCIA!AB25<>\"J\",ASISTENCIA!AB25<>\"V\",ASISTENCIA!AB25<>\"F\",ASISTENCIA!AB25<>\"\"),SUMIF($F$13:$J$13,AH$13,$F26:$J26),\"\")","v":""},{"$f":"IF(AND(LEN($D26)>0,SUMIF($F$13:$J$13,AI$13,$F26:$J26)>0,ASISTENCIA!AC25<>\"X\",ASISTENCIA!AC25<>\"L\",ASISTENCIA!AC25<>\"J\",ASISTENCIA!AC25<>\"V\",ASISTENCIA!AC25<>\"F\",ASISTENCIA!AC25<>\"\"),SUMIF($F$13:$J$13,AI$13,$F26:$J26),\"\")","v":""},{"$f":"IF(AND(LEN($D26)>0,SUMIF($F$13:$J$13,AJ$13,$F26:$J26)>0,ASISTENCIA!AD25<>\"X\",ASISTENCIA!AD25<>\"L\",ASISTENCIA!AD25<>\"J\",ASISTENCIA!AD25<>\"V\",ASISTENCIA!AD25<>\"F\",ASISTENCIA!AD25<>\"\"),SUMIF($F$13:$J$13,AJ$13,$F26:$J26),\"\")","v":""},{"$f":"IF(AND(LEN($D26)>0,SUMIF($F$13:$J$13,AK$13,$F26:$J26)>0,ASISTENCIA!AE25<>\"X\",ASISTENCIA!AE25<>\"L\",ASISTENCIA!AE25<>\"J\",ASISTENCIA!AE25<>\"V\",ASISTENCIA!AE25<>\"F\",ASISTENCIA!AE25<>\"\"),SUMIF($F$13:$J$13,AK$13,$F26:$J26),\"\")","v":""},{"$f":"IF(AND(LEN($D26)>0,SUMIF($F$13:$J$13,AL$13,$F26:$J26)>0,ASISTENCIA!AF25<>\"X\",ASISTENCIA!AF25<>\"L\",ASISTENCIA!AF25<>\"J\",ASISTENCIA!AF25<>\"V\",ASISTENCIA!AF25<>\"F\",ASISTENCIA!AF25<>\"\"),SUMIF($F$13:$J$13,AL$13,$F26:$J26),\"\")","v":""},{"$f":"IF(AND(LEN($D26)>0,SUMIF($F$13:$J$13,AM$13,$F26:$J26)>0,ASISTENCIA!AG25<>\"X\",ASISTENCIA!AG25<>\"L\",ASISTENCIA!AG25<>\"J\",ASISTENCIA!AG25<>\"V\",ASISTENCIA!AG25<>\"F\",ASISTENCIA!AG25<>\"\"),SUMIF($F$13:$J$13,AM$13,$F26:$J26),\"\")","v":""},{"$f":"IF(AND(LEN($D26)>0,SUMIF($F$13:$J$13,AN$13,$F26:$J26)>0,ASISTENCIA!AH25<>\"X\",ASISTENCIA!AH25<>\"L\",ASISTENCIA!AH25<>\"J\",ASISTENCIA!AH25<>\"V\",ASISTENCIA!AH25<>\"F\",ASISTENCIA!AH25<>\"\"),SUMIF($F$13:$J$13,AN$13,$F26:$J26),\"\")","v":""},{"$f":"IF(AND(LEN($D26)>0,SUMIF($F$13:$J$13,AO$13,$F26:$J26)>0,ASISTENCIA!AI25<>\"X\",ASISTENCIA!AI25<>\"L\",ASISTENCIA!AI25<>\"J\",ASISTENCIA!AI25<>\"V\",ASISTENCIA!AI25<>\"F\",ASISTENCIA!AI25<>\"\"),SUMIF($F$13:$J$13,AO$13,$F26:$J26),\"\")","v":""},{"$f":"IF(AND(LEN($D26)>0,SUMIF($F$13:$J$13,AP$13,$F26:$J26)>0,ASISTENCIA!AJ25<>\"X\",ASISTENCIA!AJ25<>\"L\",ASISTENCIA!AJ25<>\"J\",ASISTENCIA!AJ25<>\"V\",ASISTENCIA!AJ25<>\"F\",ASISTENCIA!AJ25<>\"\"),SUMIF($F$13:$J$13,AP$13,$F26:$J26),\"\")","v":""},{"$f":"IF(AND(LEN($D26)>0,SUMIF($F$13:$J$13,AQ$13,$F26:$J26)>0,ASISTENCIA!AK25<>\"X\",ASISTENCIA!AK25<>\"L\",ASISTENCIA!AK25<>\"J\",ASISTENCIA!AK25<>\"V\",ASISTENCIA!AK25<>\"F\",ASISTENCIA!AK25<>\"\"),SUMIF($F$13:$J$13,AQ$13,$F26:$J26),\"\")","v":""},{"$f":"IF(AND(LEN($D26)>0,SUMIF($F$13:$J$13,AR$13,$F26:$J26)>0,ASISTENCIA!AL25<>\"X\",ASISTENCIA!AL25<>\"L\",ASISTENCIA!AL25<>\"J\",ASISTENCIA!AL25<>\"V\",ASISTENCIA!AL25<>\"F\",ASISTENCIA!AL25<>\"\"),SUMIF($F$13:$J$13,AR$13,$F26:$J26),\"\")","v":""},{"$f":"IF(AND(LEN($D26)>0,SUMIF($F$13:$J$13,AS$13,$F26:$J26)>0,ASISTENCIA!AM25<>\"X\",ASISTENCIA!AM25<>\"L\",ASISTENCIA!AM25<>\"J\",ASISTENCIA!AM25<>\"V\",ASISTENCIA!AM25<>\"F\",ASISTENCIA!AM25<>\"\"),SUMIF($F$13:$J$13,AS$13,$F26:$J26),\"\")","v":""},"",null,null,null,{"$f":"IF(AND(LEN($D26)>0,SUMIF($F$13:$J$13,AX$13,$F26:$J26)>0,ASISTENCIA!AU25<>\"X\",ASISTENCIA!AU25<>\"L\",ASISTENCIA!AU25<>\"J\",ASISTENCIA!AU25<>\"F\"),SUMIF($F$13:$J$13,AX$13,$F26:$J26),\"\")","v":""},{"$f":"IF(AND(LEN($D26)>0,SUMIF($F$13:$J$13,AY$13,$F26:$J26)>0,ASISTENCIA!AV25<>\"X\",ASISTENCIA!AV25<>\"L\",ASISTENCIA!AV25<>\"J\",ASISTENCIA!AV25<>\"F\"),SUMIF($F$13:$J$13,AY$13,$F26:$J26),\"\")","v":""},{"$f":"IF(AND(LEN($D26)>0,SUMIF($F$13:$J$13,AZ$13,$F26:$J26)>0,ASISTENCIA!AW25<>\"X\",ASISTENCIA!AW25<>\"L\",ASISTENCIA!AW25<>\"J\",ASISTENCIA!AW25<>\"F\"),SUMIF($F$13:$J$13,AZ$13,$F26:$J26),\"\")","v":""},{"$f":"IF(AND(LEN($D26)>0,SUMIF($F$13:$J$13,BA$13,$F26:$J26)>0,ASISTENCIA!AX25<>\"X\",ASISTENCIA!AX25<>\"L\",ASISTENCIA!AX25<>\"J\",ASISTENCIA!AX25<>\"F\"),SUMIF($F$13:$J$13,BA$13,$F26:$J26),\"\")","v":""},{"$f":"IF(AND(LEN($D26)>0,SUMIF($F$13:$J$13,BB$13,$F26:$J26)>0,ASISTENCIA!AY25<>\"X\",ASISTENCIA!AY25<>\"L\",ASISTENCIA!AY25<>\"J\",ASISTENCIA!AY25<>\"F\"),SUMIF($F$13:$J$13,BB$13,$F26:$J26),\"\")","v":""},{"$f":"IF(AND(LEN($D26)>0,SUMIF($F$13:$J$13,BC$13,$F26:$J26)>0,ASISTENCIA!AZ25<>\"X\",ASISTENCIA!AZ25<>\"L\",ASISTENCIA!AZ25<>\"J\",ASISTENCIA!AZ25<>\"F\"),SUMIF($F$13:$J$13,BC$13,$F26:$J26),\"\")","v":""},{"$f":"IF(AND(LEN($D26)>0,SUMIF($F$13:$J$13,BD$13,$F26:$J26)>0,ASISTENCIA!BA25<>\"X\",ASISTENCIA!BA25<>\"L\",ASISTENCIA!BA25<>\"J\",ASISTENCIA!BA25<>\"F\"),SUMIF($F$13:$J$13,BD$13,$F26:$J26),\"\")","v":""},{"$f":"IF(AND(LEN($D26)>0,SUMIF($F$13:$J$13,BE$13,$F26:$J26)>0,ASISTENCIA!BB25<>\"X\",ASISTENCIA!BB25<>\"L\",ASISTENCIA!BB25<>\"J\",ASISTENCIA!BB25<>\"F\"),SUMIF($F$13:$J$13,BE$13,$F26:$J26),\"\")","v":""},{"$f":"IF(AND(LEN($D26)>0,SUMIF($F$13:$J$13,BF$13,$F26:$J26)>0,ASISTENCIA!#REF!<>\"X\",ASISTENCIA!#REF!<>\"L\",ASISTENCIA!#REF!<>\"J\",ASISTENCIA!#REF!<>\"F\"),SUMIF($F$13:$J$13,BF$13,$F26:$J26),\"\")","v":{"$error":"#REF!"}},{"$f":"IF(AND(LEN($D26)>0,SUMIF($F$13:$J$13,BG$13,$F26:$J26)>0,ASISTENCIA!#REF!<>\"X\",ASISTENCIA!#REF!<>\"L\",ASISTENCIA!#REF!<>\"J\",ASISTENCIA!#REF!<>\"F\"),SUMIF($F$13:$J$13,BG$13,$F26:$J26),\"\")","v":{"$error":"#REF!"}},{"$f":"IF(AND(LEN($D26)>0,SUMIF($F$13:$J$13,BH$13,$F26:$J26)>0,ASISTENCIA!BE25<>\"X\",ASISTENCIA!BE25<>\"L\",ASISTENCIA!BE25<>\"J\",ASISTENCIA!BE25<>\"F\"),SUMIF($F$13:$J$13,BH$13,$F26:$J26),\"\")","v":""},{"$f":"IF(AND(LEN($D26)>0,SUMIF($F$13:$J$13,BI$13,$F26:$J26)>0,ASISTENCIA!BF25<>\"X\",ASISTENCIA!BF25<>\"L\",ASISTENCIA!BF25<>\"J\",ASISTENCIA!BF25<>\"F\"),SUMIF($F$13:$J$13,BI$13,$F26:$J26),\"\")","v":""},{"$f":"IF(AND(LEN($D26)>0,SUMIF($F$13:$J$13,BJ$13,$F26:$J26)>0,ASISTENCIA!BG25<>\"X\",ASISTENCIA!BG25<>\"L\",ASISTENCIA!BG25<>\"J\",ASISTENCIA!BG25<>\"F\"),SUMIF($F$13:$J$13,BJ$13,$F26:$J26),\"\")","v":""},{"$f":"IF(AND(LEN($D26)>0,SUMIF($F$13:$J$13,BK$13,$F26:$J26)>0,ASISTENCIA!BH25<>\"X\",ASISTENCIA!BH25<>\"L\",ASISTENCIA!BH25<>\"J\",ASISTENCIA!BH25<>\"F\"),SUMIF($F$13:$J$13,BK$13,$F26:$J26),\"\")","v":""},{"$f":"IF(AND(LEN($D26)>0,SUMIF($F$13:$J$13,BL$13,$F26:$J26)>0,ASISTENCIA!BI25<>\"X\",ASISTENCIA!BI25<>\"L\",ASISTENCIA!BI25<>\"J\",ASISTENCIA!BI25<>\"F\"),SUMIF($F$13:$J$13,BL$13,$F26:$J26),\"\")","v":""},{"$f":"IF(AND(LEN($D26)>0,SUMIF($F$13:$J$13,BM$13,$F26:$J26)>0,ASISTENCIA!BJ25<>\"X\",ASISTENCIA!BJ25<>\"L\",ASISTENCIA!BJ25<>\"J\",ASISTENCIA!BJ25<>\"F\"),SUMIF($F$13:$J$13,BM$13,$F26:$J26),\"\")","v":""},{"$f":"IF(AND(LEN($D26)>0,SUMIF($F$13:$J$13,BN$13,$F26:$J26)>0,ASISTENCIA!BK25<>\"X\",ASISTENCIA!BK25<>\"L\",ASISTENCIA!BK25<>\"J\",ASISTENCIA!BK25<>\"F\"),SUMIF($F$13:$J$13,BN$13,$F26:$J26),\"\")","v":""},{"$f":"IF(AND(LEN($D26)>0,SUMIF($F$13:$J$13,BO$13,$F26:$J26)>0,ASISTENCIA!BL25<>\"X\",ASISTENCIA!BL25<>\"L\",ASISTENCIA!BL25<>\"J\",ASISTENCIA!BL25<>\"F\"),SUMIF($F$13:$J$13,BO$13,$F26:$J26),\"\")","v":""},{"$f":"IF(AND(LEN($D26)>0,SUMIF($F$13:$J$13,BP$13,$F26:$J26)>0,ASISTENCIA!BM25<>\"X\",ASISTENCIA!BM25<>\"L\",ASISTENCIA!BM25<>\"J\",ASISTENCIA!BM25<>\"F\"),SUMIF($F$13:$J$13,BP$13,$F26:$J26),\"\")","v":""},{"$f":"IF(AND(LEN($D26)>0,SUMIF($F$13:$J$13,BQ$13,$F26:$J26)>0,ASISTENCIA!BN25<>\"X\",ASISTENCIA!BN25<>\"L\",ASISTENCIA!BN25<>\"J\",ASISTENCIA!BN25<>\"F\"),SUMIF($F$13:$J$13,BQ$13,$F26:$J26),\"\")","v":""},{"$f":"IF(AND(LEN($D26)>0,SUMIF($F$13:$J$13,BR$13,$F26:$J26)>0,ASISTENCIA!BO25<>\"X\",ASISTENCIA!BO25<>\"L\",ASISTENCIA!BO25<>\"J\",ASISTENCIA!BO25<>\"F\"),SUMIF($F$13:$J$13,BR$13,$F26:$J26),\"\")","v":""},{"$f":"IF(AND(LEN($D26)>0,SUMIF($F$13:$J$13,BS$13,$F26:$J26)>0,ASISTENCIA!BP25<>\"X\",ASISTENCIA!BP25<>\"L\",ASISTENCIA!BP25<>\"J\",ASISTENCIA!BP25<>\"F\"),SUMIF($F$13:$J$13,BS$13,$F26:$J26),\"\")","v":""},{"$f":"IF(AND(LEN($D26)>0,SUMIF($F$13:$J$13,BT$13,$F26:$J26)>0,ASISTENCIA!BQ25<>\"X\",ASISTENCIA!BQ25<>\"L\",ASISTENCIA!BQ25<>\"J\",ASISTENCIA!BQ25<>\"F\"),SUMIF($F$13:$J$13,BT$13,$F26:$J26),\"\")","v":""},{"$f":"IF(AND(LEN($D26)>0,SUMIF($F$13:$J$13,BU$13,$F26:$J26)>0,ASISTENCIA!BR25<>\"X\",ASISTENCIA!BR25<>\"L\",ASISTENCIA!BR25<>\"J\",ASISTENCIA!BR25<>\"F\"),SUMIF($F$13:$J$13,BU$13,$F26:$J26),\"\")","v":""},{"$f":"IF(AND(LEN($D26)>0,SUMIF($F$13:$J$13,BV$13,$F26:$J26)>0,ASISTENCIA!BS25<>\"X\",ASISTENCIA!BS25<>\"L\",ASISTENCIA!BS25<>\"J\",ASISTENCIA!BS25<>\"F\"),SUMIF($F$13:$J$13,BV$13,$F26:$J26),\"\")","v":""},{"$f":"IF(AND(LEN($D26)>0,SUMIF($F$13:$J$13,BW$13,$F26:$J26)>0,ASISTENCIA!BT25<>\"X\",ASISTENCIA!BT25<>\"L\",ASISTENCIA!BT25<>\"J\",ASISTENCIA!BT25<>\"F\"),SUMIF($F$13:$J$13,BW$13,$F26:$J26),\"\")","v":""},{"$f":"IF(AND(LEN($D26)>0,SUMIF($F$13:$J$13,BX$13,$F26:$J26)>0,ASISTENCIA!BU25<>\"X\",ASISTENCIA!BU25<>\"L\",ASISTENCIA!BU25<>\"J\",ASISTENCIA!BU25<>\"F\"),SUMIF($F$13:$J$13,BX$13,$F26:$J26),\"\")","v":""},{"$f":"IF(AND(LEN($D26)>0,SUMIF($F$13:$J$13,BY$13,$F26:$J26)>0,ASISTENCIA!BV25<>\"X\",ASISTENCIA!BV25<>\"L\",ASISTENCIA!BV25<>\"J\",ASISTENCIA!BV25<>\"F\"),SUMIF($F$13:$J$13,BY$13,$F26:$J26),\"\")","v":""},{"$f":"IF(AND(LEN($D26)>0,SUMIF($F$13:$J$13,BZ$13,$F26:$J26)>0,ASISTENCIA!BW25<>\"X\",ASISTENCIA!BW25<>\"L\",ASISTENCIA!BW25<>\"J\",ASISTENCIA!BW25<>\"F\"),SUMIF($F$13:$J$13,BZ$13,$F26:$J26),\"\")","v":""},{"$f":"IF(AND(LEN($D26)>0,SUMIF($F$13:$J$13,CA$13,$F26:$J26)>0,ASISTENCIA!BX25<>\"X\",ASISTENCIA!BX25<>\"L\",ASISTENCIA!BX25<>\"J\",ASISTENCIA!BX25<>\"F\"),SUMIF($F$13:$J$13,CA$13,$F26:$J26),\"\")","v":""},{"$f":"IF(AND(LEN($D26)>0,SUMIF($F$13:$J$13,CB$13,$F26:$J26)>0,ASISTENCIA!BY25<>\"X\",ASISTENCIA!BY25<>\"L\",ASISTENCIA!BY25<>\"J\",ASISTENCIA!BY25<>\"F\"),SUMIF($F$13:$J$13,CB$13,$F26:$J26),\"\")","v":""},{"$error":"#REF!"}]
[{"$error":"#N/A"},{"$f":"IF(LEN(C27)>0,VLOOKUP($O$4,DATA!$A$1:$S$1,2,FALSE),\"\")","v":{"$error":"#N/A"}},"JULIO",{"$f":"IF(LEN(ASISTENCIA!E26)>0,ASISTENCIA!E26,\"\")","v":"TICONA LUPACA, Ricardo"},{"$f":"IF(LEN(D27)>0,ASISTENCIA!F26,\"\")","v":"Pers. Servicio"},null,null,null,null,null,"",null,null,{"$error":"#REF!"},{"$f":"IF(AND(LEN($D27)>0,SUMIF($F$13:$J$13,O$13,$F27:$J27)>0,ASISTENCIA!I26<>\"X\",ASISTENCIA!I26<>\"L\",ASISTENCIA!I26<>\"J\",ASISTENCIA!I26<>\"V\",ASISTENCIA!I26<>\"F\",ASISTENCIA!I26<>\"\"),SUMIF($F$13:$J$13,O$13,$F27:$J27),\"\")","v":""},{"$f":"IF(AND(LEN($D27)>0,SUMIF($F$13:$J$13,P$13,$F27:$J27)>0,ASISTENCIA!J26<>\"X\",ASISTENCIA!J26<>\"L\",ASISTENCIA!J26<>\"J\",ASISTENCIA!J26<>\"V\",ASISTENCIA!J26<>\"F\",ASISTENCIA!J26<>\"\"),SUMIF($F$13:$J$13,P$13,$F27:$J27),\"\")","v":""},{"$f":"IF(AND(LEN($D27)>0,SUMIF($F$13:$J$13,Q$13,$F27:$J27)>0,ASISTENCIA!K26<>\"X\",ASISTENCIA!K26<>\"L\",ASISTENCIA!K26<>\"J\",ASISTENCIA!K26<>\"V\",ASISTENCIA!K26<>\"F\",ASISTENCIA!K26<>\"\"),SUMIF($F$13:$J$13,Q$13,$F27:$J27),\"\")","v":""},{"$f":"IF(AND(LEN($D27)>0,SUMIF($F$13:$J$13,R$13,$F27:$J27)>0,ASISTENCIA!L26<>\"X\",ASISTENCIA!L26<>\"L\",ASISTENCIA!L26<>\"J\",ASISTENCIA!L26<>\"V\",ASISTENCIA!L26<>\"F\",ASISTENCIA!L26<>\"\"),SUMIF($F$13:$J$13,R$13,$F27:$J27),\"\")","v":""},{"$f":"IF(AND(LEN($D27)>0,SUMIF($F$13:$J$13,S$13,$F27:$J27)>0,ASISTENCIA!M26<>\"X\",ASISTENCIA!M26<>\"L\",ASISTENCIA!M26<>\"J\",ASISTENCIA!M26<>\"V\",ASISTENCIA!M26<>\"F\",ASISTENCIA!M26<>\"\"),SUMIF($F$13:$J$13,S$13,$F27:$J27),\"\")","v":""},{"$f":"IF(AND(LEN($D27)>0,SUMIF($F$13:$J$13,T$13,$F27:$J27)>0,ASISTENCIA!N26<>\"X\",ASISTENCIA!N26<>\"L\",ASISTENCIA!N26<>\"J\",ASISTENCIA!N26<>\"V\",ASISTENCIA!N26<>\"F\",ASISTENCIA!N26<>\"\"),SUMIF($F$13:$J$13,T$13,$F27:$J27),\"\")","v":""},{"$f":"IF(AND(LEN($D27)>0,SUMIF($F$13:$J$13,U$13,$F27:$J27)>0,ASISTENCIA!O26<>\"X\",ASISTENCIA!O26<>\"L\",ASISTENCIA!O26<>\"J\",ASISTENCIA!O26<>\"V\",ASISTENCIA!O26<>\"F\",ASISTENCIA!O26<>\"\"),SUMIF($F$13:$J$13,U$13,$F27:$J27),\"\")","v":""},{"$f":"IF(AND(LEN($D27)>0,SUMIF($F$13:$J$13,V$13,$F27:$J27)>0,ASISTENCIA!P26<>\"X\",ASISTENCIA!P26<>\"L\",ASISTENCIA!P26<>\"J\",ASISTENCIA!P26<>\"V\",ASISTENCIA!P26<>\"F\",ASISTENCIA!P26<>\"\"),SUMIF($F$13:$J$13,V$13,$F27:$J27),\"\")","v":""},{"$f":"IF(AND(LEN($D27)>0,SUMIF($F$13:$J$13,W$13,$F27:$J27)>0,ASISTENCIA!Q26<>\"X\",ASISTENCIA!Q26<>\"L\",ASISTENCIA!Q26<>\"J\",ASISTENCIA!Q26<>\"V\",ASISTENCIA!Q26<>\"F\",ASISTENCIA!Q26<>\"\"),SUMIF($F$13:$J$13,W$13,$F27:$J27),\"\")","v":""},{"$f":"IF(AND(LEN($D27)>0,SUMIF($F$13:$J$13,X$13,$F27:$J27)>0,ASISTENCIA!R26<>\"X\",ASISTENCIA!R26<>\"L\",ASISTENCIA!R26<>\"J\",ASISTENCIA!R26<>\"V\",ASISTENCIA!R26<>\"F\",ASISTENCIA!R26<>\"\"),SUMIF($F$13:$J$13,X$13,$F27:$J27),\"\")","v":""},{"$f":"IF(AND(LEN($D27)>0,SUMIF($F$13:$J$13,Y$13,$F27:$J27)>0,ASISTENCIA!S26<>\"X\",ASISTENCIA!S26<>\"L\",ASISTENCIA!S26<>\"J\",ASISTENCIA!S26<>\"V\",ASISTENCIA!S26<>\"F\",ASISTENCIA!S26<>\"\"),SUMIF($F$13:$J$13,Y$13,$F27:$J27),\"\")","v":""},{"$f":"IF(AND(LEN($D27)>0,SUMIF($F$13:$J$13,Z$13,$F27:$J27)>0,ASISTENCIA!T26<>\"X\",ASISTENCIA!T26<>\"L\",ASISTENCIA!T26<>\"J\",ASISTENCIA!T26<>\"V\",ASISTENCIA!T26<>\"F\",ASISTENCIA!T26<>\"\"),SUMIF($F$13:$J$13,Z$13,$F27:$J27),\"\")","v":""},{"$f":"IF(AND(LEN($D27)>0,SUMIF($F$13:$J$13,AA$13,$F27:$J27)>0,ASISTENCIA!U26<>\"X\",ASISTENCIA!U26<>\"L\",ASISTENCIA!U26<>\"J\",ASISTENCIA!U26<>\"V\",ASISTENCIA!U26<>\"F\",ASISTENCIA!U26<>\"\"),SUMIF($F$13:$J$13,AA$13,$F27:$J27),\"\")","v":""},{"$f":"IF(AND(LEN($D27)>0,SUMIF($F$13:$J$13,AB$13,$F27:$J27)>0,ASISTENCIA!V26<>\"X\",ASISTENCIA!V26<>\"L\",ASISTENCIA!V26<>\"J\",ASISTENCIA!V26<>\"V\",ASISTENCIA!V26<>\"F\",ASISTENCIA!V26<>\"\"),SUMIF($F$13:$J$13,AB$13,$F27:$J27),\"\")","v":""},{"$f":"IF(AND(LEN($D27)>0,SUMIF($F$13:$J$13,AC$13,$F27:$J27)>0,ASISTENCIA!W26<>\"X\",ASISTENCIA!W26<>\"L\",ASISTENCIA!W26<>\"J\",ASISTENCIA!W26<>\"V\",ASISTENCIA!W26<>\"F\",ASISTENCIA!W26<>\"\"),SUMIF($F$13:$J$13,AC$13,$F27:$J27),\"\")","v":""},{"$f":"IF(AND(LEN($D27)>0,SUMIF($F$13:$J$13,AD$13,$F27:$J27)>0,ASISTENCIA!X26<>\"X\",ASISTENCIA!X26<>\"L\",ASISTENCIA!X26<>\"J\",ASISTENCIA!X26<>\"V\",ASISTENCIA!X26<>\"F\",ASISTENCIA!X26<>\"\"),SUMIF($F$13:$J$13,AD$13,$F27:$J27),\"\")","v":""},{"$f":"IF(AND(LEN($D27)>0,SUMIF($F$13:$J$13,AE$13,$F27:$J27)>0,ASISTENCIA!Y26<>\"X\",ASISTENCIA!Y26<>\"L\",ASISTENCIA!Y26<>\"J\",ASISTENCIA!Y26<>\"V\",ASISTENCIA!Y26<>\"F\",ASISTENCIA!Y26<>\"\"),SUMIF($F$13:$J$13,AE$13,$F27:$J27),\"\")","v":""},{"$f":"IF(AND(LEN($D27)>0,SUMIF($F$13:$J$13,AF$13,$F27:$J27)>0,ASISTENCIA!Z26<>\"X\",ASISTENCIA!Z26<>\"L\",ASISTENCIA!Z26<>\"J\",ASISTENCIA!Z26<>\"V\",ASISTENCIA!Z26<>\"F\",ASISTENCIA!Z26<>\"\"),SUMIF($F$13:$J$13,AF$13,$F27:$J27),\"\")","v":""},{"$f":"IF(AND(LEN($D27)>0,SUMIF($F$13:$J$13,AG$13,$F27:$J27)>0,ASISTENCIA!AA26<>\"X\",ASISTENCIA!AA26<>\"L\",ASISTENCIA!AA26<>\"J\",ASISTENCIA!AA26<>\"V\",ASISTENCIA!AA26<>\"F\",ASISTENCIA!AA26<>\"\"),SUMIF($F$13:$J$13,AG$13,$F27:$J27),\"\")","v":""},{"$f":"IF(AND(LEN($D27)>0,SUMIF($F$13:$J$13,AH$13,$F27:$J27)>0,ASISTENCIA!AB26<>\"X\",ASISTENCIA!AB26<>\"L\",ASISTENCIA!AB26<>\"J\",ASISTENCIA!AB26<>\"V\",ASISTENCIA!AB26<>\"F\",ASISTENCIA!AB26<>\"\"),SUMIF($F$13:$J$13,AH$13,$F27:$J27),\"\")","v":""},{"$f":"IF(AND(LEN($D27)>0,SUMIF($F$13:$J$13,AI$13,$F27:$J27)>0,ASISTENCIA!AC26<>\"X\",ASISTENCIA!AC26<>\"L\",ASISTENCIA!AC26<>\"J\",ASISTENCIA!AC26<>\"V\",ASISTENCIA!AC26<>\"F\",ASISTENCIA!AC26<>\"\"),SUMIF($F$13:$J$13,AI$13,$F27:$J27),\"\")","v":""},{"$f":"IF(AND(LEN($D27)>0,SUMIF($F$13:$J$13,AJ$13,$F27:$J27)>0,ASISTENCIA!AD26<>\"X\",ASISTENCIA!AD26<>\"L\",ASISTENCIA!AD26<>\"J\",ASISTENCIA!AD26<>\"V\",ASISTENCIA!AD26<>\"F\",ASISTENCIA!AD26<>\"\"),SUMIF($F$13:$J$13,AJ$13,$F27:$J27),\"\")","v":""},{"$f":"IF(AND(LEN($D27)>0,SUMIF($F$13:$J$13,AK$13,$F27:$J27)>0,ASISTENCIA!AE26<>\"X\",ASISTENCIA!AE26<>\"L\",ASISTENCIA!AE26<>\"J\",ASISTENCIA!AE26<>\"V\",ASISTENCIA!AE26<>\"F\",ASISTENCIA!AE26<>\"\"),SUMIF($F$13:$J$13,AK$13,$F27:$J27),\"\")","v":""},{"$f":"IF(AND(LEN($D27)>0,SUMIF($F$13:$J$13,AL$13,$F27:$J27)>0,ASISTENCIA!AF26<>\"X\",ASISTENCIA!AF26<>\"L\",ASISTENCIA!AF26<>\"J\",ASISTENCIA!AF26<>\"V\",ASISTENCIA!AF26<>\"F\",ASISTENCIA!AF26<>\"\"),SUMIF($F$13:$J$13,AL$13,$F27:$J27),\"\")","v":""},{"$f":"IF(AND(LEN($D27)>0,SUMIF($F$13:$J$13,AM$13,$F27:$J27)>0,ASISTENCIA!AG26<>\"X\",ASISTENCIA!AG26<>\"L\",ASISTENCIA!AG26<>\"J\",ASISTENCIA!AG26<>\"V\",ASISTENCIA!AG26<>\"F\",ASISTENCIA!AG26<>\"\"),SUMIF($F$13:$J$13,AM$13,$F27:$J27),\"\")","v":""},{"$f":"IF(AND(LEN($D27)>0,SUMIF($F$13:$J$13,AN$13,$F27:$J27)>0,ASISTENCIA!AH26<>\"X\",ASISTENCIA!AH26<>\"L\",ASISTENCIA!AH26<>\"J\",ASISTENCIA!AH26<>\"V\",ASISTENCIA!AH26<>\"F\",ASISTENCIA!AH26<>\"\"),SUMIF($F$13:$J$13,AN$13,$F27:$J27),\"\")","v":""},{"$f":"IF(AND(LEN($D27)>0,SUMIF($F$13:$J$13,AO$13,$F27:$J27)>0,ASISTENCIA!AI26<>\"X\",ASISTENCIA!AI26<>\"L\",ASISTENCIA!AI26<>\"J\",ASISTENCIA!AI26<>\"V\",ASISTENCIA!AI26<>\"F\",ASISTENCIA!AI26<>\"\"),SUMIF($F$13:$J$13,AO$13,$F27:$J27),\"\")","v":""},{"$f":"IF(AND(LEN($D27)>0,SUMIF($F$13:$J$13,AP$13,$F27:$J27)>0,ASISTENCIA!AJ26<>\"X\",ASISTENCIA!AJ26<>\"L\",ASISTENCIA!AJ26<>\"J\",ASISTENCIA!AJ26<>\"V\",ASISTENCIA!AJ26<>\"F\",ASISTENCIA!AJ26<>\"\"),SUMIF($F$13:$J$13,AP$13,$F27:$J27),\"\")","v":""},{"$f":"IF(AND(LEN($D27)>0,SUMIF($F$13:$J$13,AQ$13,$F27:$J27)>0,ASISTENCIA!AK26<>\"X\",ASISTENCIA!AK26<>\"L\",ASISTENCIA!AK26<>\"J\",ASISTENCIA!AK26<>\"V\",ASISTENCIA!AK26<>\"F\",ASISTENCIA!AK26<>\"\"),SUMIF($F$13:$J$13,AQ$13,$F27:$J27),\"\")","v":""},{"$f":"IF(AND(LEN($D27)>0,SUMIF($F$13:$J$13,AR$13,$F27:$J27)>0,ASISTENCIA!AL26<>\"X\",ASISTENCIA!AL26<>\"L\",ASISTENCIA!AL26<>\"J\",ASISTENCIA!AL26<>\"V\",ASISTENCIA!AL26<>\"F\",ASISTENCIA!AL26<>\"\"),SUMIF($F$13:$J$13,AR$13,$F27:$J27),\"\")","v":""},{"$f":"IF(AND(LEN($D27)>0,SUMIF($F$13:$J$13,AS$13,$F27:$J27)>0,ASISTENCIA!AM26<>\"X\",ASISTENCIA!AM26<>\"L\",ASISTENCIA!AM26<>\"J\",ASISTENCIA!AM26<>\"V\",ASISTENCIA!AM26<>\"F\",ASISTENCIA!AM26<>\"\"),SUMIF($F$13:$J$13,AS$13,$F27:$J27),\"\")","v":""},"",null,null,null,{"$f":"IF(AND(LEN($D27)>0,SUMIF($F$13:$J$13,AX$13,$F27:$J27)>0,ASISTENCIA!AU26<>\"X\",ASISTENCIA!AU26<>\"L\",ASISTENCIA!AU26<>\"J\",ASISTENCIA!AU26<>\"F\"),SUMIF($F$13:$J$13,AX$13,$F27:$J27),\"\")","v":""},{"$f":"IF(AND(LEN($D27)>0,SUMIF($F$13:$J$13,AY$13,$F27:$J27)>0,ASISTENCIA!AV26<>\"X\",ASISTENCIA!AV26<>\"L\",ASISTENCIA!AV26<>\"J\",ASISTENCIA!AV26<>\"F\"),SUMIF($F$13:$J$13,AY$13,$F27:$J27),\"\")","v":""},{"$f":"IF(AND(LEN($D27)>0,SUMIF($F$13:$J$13,AZ$13,$F27:$J27)>0,ASISTENCIA!AW26<>\"X\",ASISTENCIA!AW26<>\"L\",ASISTENCIA!AW26<>\"J\",ASISTENCIA!AW26<>\"F\"),SUMIF($F$13:$J$13,AZ$13,$F27:$J27),\"\")","v":""},{"$f":"IF(AND(LEN($D27)>0,SUMIF($F$13:$J$13,BA$13,$F27:$J27)>0,ASISTENCIA!AX26<>\"X\",ASISTENCIA!AX26<>\"L\",ASISTENCIA!AX26<>\"J\",ASISTENCIA!AX26<>\"F\"),SUMIF($F$13:$J$13,BA$13,$F27:$J27),\"\")","v":""},{"$f":"IF(AND(LEN($D27)>0,SUMIF($F$13:$J$13,BB$13,$F27:$J27)>0,ASISTENCIA!AY26<>\"X\",ASISTENCIA!AY26<>\"L\",ASISTENCIA!AY26<>\"J\",ASISTENCIA!AY26<>\"F\"),SUMIF($F$13:$J$13,BB$13,$F27:$J27),\"\")","v":""},{"$f":"IF(AND(LEN($D27)>0,SUMIF($F$13:$J$13,BC$13,$F27:$J27)>0,ASISTENCIA!AZ26<>\"X\",ASISTENCIA!AZ26<>\"L\",ASISTENCIA!AZ26<>\"J\",ASISTENCIA!AZ26<>\"F\"),SUMIF($F$13:$J$13,BC$13,$F27:$J27),\"\")","v":""},{"$f":"IF(AND(LEN($D27)>0,SUMIF($F$13:$J$13,BD$13,$F27:$J27)>0,ASISTENCIA!BA26<>\"X\",ASISTENCIA!BA26<>\"L\",ASISTENCIA!BA26<>\"J\",ASISTENCIA!BA26<>\"F\"),SUMIF($F$13:$J$13,BD$13,$F27:$J27),\"\")","v":""},{"$f":"IF(AND(LEN($D27)>0,SUMIF($F$13:$J$13,BE$13,$F27:$J27)>0,ASISTENCIA!BB26<>\"X\",ASISTENCIA!BB26<>\"L\",ASISTENCIA!BB26<>\"J\",ASISTENCIA!BB26<>\"F\"),SUMIF($F$13:$J$13,BE$13,$F27:$J27),\"\")","v":""},{"$f":"IF(AND(LEN($D27)>0,SUMIF($F$13:$J$13,BF$13,$F27:$J27)>0,ASISTENCIA!#REF!<>\"X\",ASISTENCIA!#REF!<>\"L\",ASISTENCIA!#REF!<>\"J\",ASISTENCIA!#REF!<>\"F\"),SUMIF($F$13:$J$13,BF$13,$F27:$J27),\"\")","v":{"$error":"#REF!"}},{"$f":"IF(AND(LEN($D27)>0,SUMIF($F$13:$J$13,BG$13,$F27:$J27)>0,ASISTENCIA!#REF!<>\"X\",ASISTENCIA!#REF!<>\"L\",ASISTENCIA!#REF!<>\"J\",ASISTENCIA!#REF!<>\"F\"),SUMIF($F$13:$J$13,BG$13,$F27:$J27),\"\")","v":{"$error":"#REF!"}},{"$f":"IF(AND(LEN($D27)>0,SUMIF($F$13:$J$13,BH$13,$F27:$J27)>0,ASISTENCIA!BE26<>\"X\",ASISTENCIA!BE26<>\"L\",ASISTENCIA!BE26<>\"J\",ASISTENCIA!BE26<>\"F\"),SUMIF($F$13:$J$13,BH$13,$F27:$J27),\"\")","v":""},{"$f":"IF(AND(LEN($D27)>0,SUMIF($F$13:$J$13,BI$13,$F27:$J27)>0,ASISTENCIA!BF26<>\"X\",ASISTENCIA!BF26<>\"L\",ASISTENCIA!BF26<>\"J\",ASISTENCIA!BF26<>\"F\"),SUMIF($F$13:$J$13,BI$13,$F27:$J27),\"\")","v":""},{"$f":"IF(AND(LEN($D27)>0,SUMIF($F$13:$J$13,BJ$13,$F27:$J27)>0,ASISTENCIA!BG26<>\"X\",ASISTENCIA!BG26<>\"L\",ASISTENCIA!BG26<>\"J\",ASISTENCIA!BG26<>\"F\"),SUMIF($F$13:$J$13,BJ$13,$F27:$J27),\"\")","v":""},{"$f":"IF(AND(LEN($D27)>0,SUMIF($F$13:$J$13,BK$13,$F27:$J27)>0,ASISTENCIA!BH26<>\"X\",ASISTENCIA!BH26<>\"L\",ASISTENCIA!BH26<>\"J\",ASISTENCIA!BH26<>\"F\"),SUMIF($F$13:$J$13,BK$13,$F27:$J27),\"\")","v":""},{"$f":"IF(AND(LEN($D27)>0,SUMIF($F$13:$J$13,BL$13,$F27:$J27)>0,ASISTENCIA!BI26<>\"X\",ASISTENCIA!BI26<>\"L\",ASISTENCIA!BI26<>\"J\",ASISTENCIA!BI26<>\"F\"),SUMIF($F$13:$J$13,BL$13,$F27:$J27),\"\")","v":""},{"$f":"IF(AND(LEN($D27)>0,SUMIF($F$13:$J$13,BM$13,$F27:$J27)>0,ASISTENCIA!BJ26<>\"X\",ASISTENCIA!BJ26<>\"L\",ASISTENCIA!BJ26<>\"J\",ASISTENCIA!BJ26<>\"F\"),SUMIF($F$13:$J$13,BM$13,$F27:$J27),\"\")","v":""},{"$f":"IF(AND(LEN($D27)>0,SUMIF($F$13:$J$13,BN$13,$F27:$J27)>0,ASISTENCIA!BK26<>\"X\",ASISTENCIA!BK26<>\"L\",ASISTENCIA!BK26<>\"J\",ASISTENCIA!BK26<>\"F\"),SUMIF($F$13:$J$13,BN$13,$F27:$J27),\"\")","v":""},{"$f":"IF(AND(LEN($D27)>0,SUMIF($F$13:$J$13,BO$13,$F27:$J27)>0,ASISTENCIA!BL26<>\"X\",ASISTENCIA!BL26<>\"L\",ASISTENCIA!BL26<>\"J\",ASISTENCIA!BL26<>\"F\"),SUMIF($F$13:$J$13,BO$13,$F27:$J27),\"\")","v":""},{"$f":"IF(AND(LEN($D27)>0,SUMIF($F$13:$J$13,BP$13,$F27:$J27)>0,ASISTENCIA!BM26<>\"X\",ASISTENCIA!BM26<>\"L\",ASISTENCIA!BM26<>\"J\",ASISTENCIA!BM26<>\"F\"),SUMIF($F$13:$J$13,BP$13,$F27:$J27),\"\")","v":""},{"$f":"IF(AND(LEN($D27)>0,SUMIF($F$13:$J$13,BQ$13,$F27:$J27)>0,ASISTENCIA!BN26<>\"X\",ASISTENCIA!BN26<>\"L\",ASISTENCIA!BN26<>\"J\",ASISTENCIA!BN26<>\"F\"),SUMIF($F$13:$J$13,BQ$13,$F27:$J27),\"\")","v":""},{"$f":"IF(AND(LEN($D27)>0,SUMIF($F$13:$J$13,BR$13,$F27:$J27)>0,ASISTENCIA!BO26<>\"X\",ASISTENCIA!BO26<>\"L\",ASISTENCIA!BO26<>\"J\",ASISTENCIA!BO26<>\"F\"),SUMIF($F$13:$J$13,BR$13,$F27:$J27),\"\")","v":""},{"$f":"IF(AND(LEN($D27)>0,SUMIF($F$13:$J$13,BS$13,$F27:$J27)>0,ASISTENCIA!BP26<>\"X\",ASISTENCIA!BP26<>\"L\",ASISTENCIA!BP26<>\"J\",ASISTENCIA!BP26<>\"F\"),SUMIF($F$13:$J$13,BS$13,$F27:$J27),\"\")","v":""},{"$f":"IF(AND(LEN($D27)>0,SUMIF($F$13:$J$13,BT$13,$F27:$J27)>0,ASISTENCIA!BQ26<>\"X\",ASISTENCIA!BQ26<>\"L\",ASISTENCIA!BQ26<>\"J\",ASISTENCIA!BQ26<>\"F\"),SUMIF($F$13:$J$13,BT$13,$F27:$J27),\"\")","v":""},{"$f":"IF(AND(LEN($D27)>0,SUMIF($F$13:$J$13,BU$13,$F27:$J27)>0,ASISTENCIA!BR26<>\"X\",ASISTENCIA!BR26<>\"L\",ASISTENCIA!BR26<>\"J\",ASISTENCIA!BR26<>\"F\"),SUMIF($F$13:$J$13,BU$13,$F27:$J27),\"\")","v":""},{"$f":"IF(AND(LEN($D27)>0,SUMIF($F$13:$J$13,BV$13,$F27:$J27)>0,ASISTENCIA!BS26<>\"X\",ASISTENCIA!BS26<>\"L\",ASISTENCIA!BS26<>\"J\",ASISTENCIA!BS26<>\"F\"),SUMIF($F$13:$J$13,BV$13,$F27:$J27),\"\")","v":""},{"$f":"IF(AND(LEN($D27)>0,SUMIF($F$13:$J$13,BW$13,$F27:$J27)>0,ASISTENCIA!BT26<>\"X\",ASISTENCIA!BT26<>\"L\",ASISTENCIA!BT26<>\"J\",ASISTENCIA!BT26<>\"F\"),SUMIF($F$13:$J$13,BW$13,$F27:$J27),\"\")","v":""},{"$f":"IF(AND(LEN($D27)>0,SUMIF($F$13:$J$13,BX$13,$F27:$J27)>0,ASISTENCIA!BU26<>\"X\",ASISTENCIA!BU26<>\"L\",ASISTENCIA!BU26<>\"J\",ASISTENCIA!BU26<>\"F\"),SUMIF($F$13:$J$13,BX$13,$F27:$J27),\"\")","v":""},{"$f":"IF(AND(LEN($D27)>0,SUMIF($F$13:$J$13,BY$13,$F27:$J27)>0,ASISTENCIA!BV26<>\"X\",ASISTENCIA!BV26<>\"L\",ASISTENCIA!BV26<>\"J\",ASISTENCIA!BV26<>\"F\"),SUMIF($F$13:$J$13,BY$13,$F27:$J27),\"\")","v":""},{"$f":"IF(AND(LEN($D27)>0,SUMIF($F$13:$J$13,BZ$13,$F27:$J27)>0,ASISTENCIA!BW26<>\"X\",ASISTENCIA!BW26<>\"L\",ASISTENCIA!BW26<>\"J\",ASISTENCIA!BW26<>\"F\"),SUMIF($F$13:$J$13,BZ$13,$F27:$J27),\"\")","v":""},{"$f":"IF(AND(LEN($D27)>0,SUMIF($F$13:$J$13,CA$13,$F27:$J27)>0,ASISTENCIA!BX26<>\"X\",ASISTENCIA!BX26<>\"L\",ASISTENCIA!BX26<>\"J\",ASISTENCIA!BX26<>\"F\"),SUMIF($F$13:$J$13,CA$13,$F27:$J27),\"\")","v":""},{"$f":"IF(AND(LEN($D27)>0,SUMIF($F$13:$J$13,CB$13,$F27:$J27)>0,ASISTENCIA!BY26<>\"X\",ASISTENCIA!BY26<>\"L\",ASISTENCIA!BY26<>\"J\",ASISTENCIA!BY26<>\"F\"),SUMIF($F$13:$J$13,CB$13,$F27:$J27),\"\")","v":""},{"$error":"#REF!"}]
[{"$error":"#N/A"},{"$f":"IF(LEN(C28)>0,VLOOKUP($O$4,DATA!$A$1:$S$1,2,FALSE),\"\")","v":{"$error":"#N/A"}},"JULIO",{"$f":"IF(LEN(ASISTENCIA!E27)>0,ASISTENCIA!E27,\"\")","v":"MONTALICO APAZA, Anastacio"},{"$f":"IF(LEN(D28)>0,ASISTENCIA!F27,\"\")","v":"Aux. de Laboratorio"},null,null,null,null,null,"",null,null,{"$error":"#REF!"},{"$f":"IF(AND(LEN($D28)>0,SUMIF($F$13:$J$13,O$13,$F28:$J28)>0,ASISTENCIA!I27<>\"X\",ASISTENCIA!I27<>\"L\",ASISTENCIA!I27<>\"J\",ASISTENCIA!I27<>\"V\",ASISTENCIA!I27<>\"F\",ASISTENCIA!I27<>\"\"),SUMIF($F$13:$J$13,O$13,$F28:$J28),\"\")","v":""},{"$f":"IF(AND(LEN($D28)>0,SUMIF($F$13:$J$13,P$13,$F28:$J28)>0,ASISTENCIA!J27<>\"X\",ASISTENCIA!J27<>\"L\",ASISTENCIA!J27<>\"J\",ASISTENCIA!J27<>\"V\",ASISTENCIA!J27<>\"F\",ASISTENCIA!J27<>\"\"),SUMIF($F$13:$J$13,P$13,$F28:$J28),\"\")","v":""},{"$f":"IF(AND(LEN($D28)>0,SUMIF($F$13:$J$13,Q$13,$F28:$J28)>0,ASISTENCIA!K27<>\"X\",ASISTENCIA!K27<>\"L\",ASISTENCIA!K27<>\"J\",ASISTENCIA!K27<>\"V\",ASISTENCIA!K27<>\"F\",ASISTENCIA!K27<>\"\"),SUMIF($F$13:$J$13,Q$13,$F28:$J28),\"\")","v":""},{"$f":"IF(AND(LEN($D28)>0,SUMIF($F$13:$J$13,R$13,$F28:$J28)>0,ASISTENCIA!L27<>\"X\",ASISTENCIA!L27<>\"L\",ASISTENCIA!L27<>\"J\",ASISTENCIA!L27<>\"V\",ASISTENCIA!L27<>\"F\",ASISTENCIA!L27<>\"\"),SUMIF($F$13:$J$13,R$13,$F28:$J28),\"\")","v":""},{"$f":"IF(AND(LEN($D28)>0,SUMIF($F$13:$J$13,S$13,$F28:$J28)>0,ASISTENCIA!M27<>\"X\",ASISTENCIA!M27<>\"L\",ASISTENCIA!M27<>\"J\",ASISTENCIA!M27<>\"V\",ASISTENCIA!M27<>\"F\",ASISTENCIA!M27<>\"\"),SUMIF($F$13:$J$13,S$13,$F28:$J28),\"\")","v":""},{"$f":"IF(AND(LEN($D28)>0,SUMIF($F$13:$J$13,T$13,$F28:$J28)>0,ASISTENCIA!N27<>\"X\",ASISTENCIA!N27<>\"L\",ASISTENCIA!N27<>\"J\",ASISTENCIA!N27<>\"V\",ASISTENCIA!N27<>\"F\",ASISTENCIA!N27<>\"\"),SUMIF($F$13:$J$13,T$13,$F28:$J28),\"\")","v":""},{"$f":"IF(AND(LEN($D28)>0,SUMIF($F$13:$J$13,U$13,$F28:$J28)>0,ASISTENCIA!O27<>\"X\",ASISTENCIA!O27<>\"L\",ASISTENCIA!O27<>\"J\",ASISTENCIA!O27<>\"V\",ASISTENCIA!O27<>\"F\",ASISTENCIA!O27<>\"\"),SUMIF($F$13:$J$13,U$13,$F28:$J28),\"\")","v":""},{"$f":"IF(AND(LEN($D28)>0,SUMIF($F$13:$J$13,V$13,$F28:$J28)>0,ASISTENCIA!P27<>\"X\",ASISTENCIA!P27<>\"L\",ASISTENCIA!P27<>\"J\",ASISTENCIA!P27<>\"V\",ASISTENCIA!P27<>\"F\",ASISTENCIA!P27<>\"\"),SUMIF($F$13:$J$13,V$13,$F28:$J28),\"\")","v":""},{"$f":"IF(AND(LEN($D28)>0,SUMIF($F$13:$J$13,W$13,$F28:$J28)>0,ASISTENCIA!Q27<>\"X\",ASISTENCIA!Q27<>\"L\",ASISTENCIA!Q27<>\"J\",ASISTENCIA!Q27<>\"V\",ASISTENCIA!Q27<>\"F\",ASISTENCIA!Q27<>\"\"),SUMIF($F$13:$J$13,W$13,$F28:$J28),\"\")","v":""},{"$f":"IF(AND(LEN($D28)>0,SUMIF($F$13:$J$13,X$13,$F28:$J28)>0,ASISTENCIA!R27<>\"X\",ASISTENCIA!R27<>\"L\",ASISTENCIA!R27<>\"J\",ASISTENCIA!R27<>\"V\",ASISTENCIA!R27<>\"F\",ASISTENCIA!R27<>\"\"),SUMIF($F$13:$J$13,X$13,$F28:$J28),\"\")","v":""},{"$f":"IF(AND(LEN($D28)>0,SUMIF($F$13:$J$13,Y$13,$F28:$J28)>0,ASISTENCIA!S27<>\"X\",ASISTENCIA!S27<>\"L\",ASISTENCIA!S27<>\"J\",ASISTENCIA!S27<>\"V\",ASISTENCIA!S27<>\"F\",ASISTENCIA!S27<>\"\"),SUMIF($F$13:$J$13,Y$13,$F28:$J28),\"\")","v":""},{"$f":"IF(AND(LEN($D28)>0,SUMIF($F$13:$J$13,Z$13,$F28:$J28)>0,ASISTENCIA!T27<>\"X\",ASISTENCIA!T27<>\"L\",ASISTENCIA!T27<>\"J\",ASISTENCIA!T27<>\"V\",ASISTENCIA!T27<>\"F\",ASISTENCIA!T27<>\"\"),SUMIF($F$13:$J$13,Z$13,$F28:$J28),\"\")","v":""},{"$f":"IF(AND(LEN($D28)>0,SUMIF($F$13:$J$13,AA$13,$F28:$J28)>0,ASISTENCIA!U27<>\"X\",ASISTENCIA!U27<>\"L\",ASISTENCIA!U27<>\"J\",ASISTENCIA!U27<>\"V\",ASISTENCIA!U27<>\"F\",ASISTENCIA!U27<>\"\"),SUMIF($F$13:$J$13,AA$13,$F28:$J28),\"\")","v":""},{"$f":"IF(AND(LEN($D28)>0,SUMIF($F$13:$J$13,AB$13,$F28:$J28)>0,ASISTENCIA!V27<>\"X\",ASISTENCIA!V27<>\"L\",ASISTENCIA!V27<>\"J\",ASISTENCIA!V27<>\"V\",ASISTENCIA!V27<>\"F\",ASISTENCIA!V27<>\"\"),SUMIF($F$13:$J$13,AB$13,$F28:$J28),\"\")","v":""},{"$f":"IF(AND(LEN($D28)>0,SUMIF($F$13:$J$13,AC$13,$F28:$J28)>0,ASISTENCIA!W27<>\"X\",ASISTENCIA!W27<>\"L\",ASISTENCIA!W27<>\"J\",ASISTENCIA!W27<>\"V\",ASISTENCIA!W27<>\"F\",ASISTENCIA!W27<>\"\"),SUMIF($F$13:$J$13,AC$13,$F28:$J28),\"\")","v":""},{"$f":"IF(AND(LEN($D28)>0,SUMIF($F$13:$J$13,AD$13,$F28:$J28)>0,ASISTENCIA!X27<>\"X\",ASISTENCIA!X27<>\"L\",ASISTENCIA!X27<>\"J\",ASISTENCIA!X27<>\"V\",ASISTENCIA!X27<>\"F\",ASISTENCIA!X27<>\"\"),SUMIF($F$13:$J$13,AD$13,$F28:$J28),\"\")","v":""},{"$f":"IF(AND(LEN($D28)>0,SUMIF($F$13:$J$13,AE$13,$F28:$J28)>0,ASISTENCIA!Y27<>\"X\",ASISTENCIA!Y27<>\"L\",ASISTENCIA!Y27<>\"J\",ASISTENCIA!Y27<>\"V\",ASISTENCIA!Y27<>\"F\",ASISTENCIA!Y27<>\"\"),SUMIF($F$13:$J$13,AE$13,$F28:$J28),\"\")","v":""},{"$f":"IF(AND(LEN($D28)>0,SUMIF($F$13:$J$13,AF$13,$F28:$J28)>0,ASISTENCIA!Z27<>\"X\",ASISTENCIA!Z27<>\"L\",ASISTENCIA!Z27<>\"J\",ASISTENCIA!Z27<>\"V\",ASISTENCIA!Z27<>\"F\",ASISTENCIA!Z27<>\"\"),SUMIF($F$13:$J$13,AF$13,$F28:$J28),\"\")","v":""},{"$f":"IF(AND(LEN($D28)>0,SUMIF($F$13:$J$13,AG$13,$F28:$J28)>0,ASISTENCIA!AA27<>\"X\",ASISTENCIA!AA27<>\"L\",ASISTENCIA!AA27<>\"J\",ASISTENCIA!AA27<>\"V\",ASISTENCIA!AA27<>\"F\",ASISTENCIA!AA27<>\"\"),SUMIF($F$13:$J$13,AG$13,$F28:$J28),\"\")","v":""},{"$f":"IF(AND(LEN($D28)>0,SUMIF($F$13:$J$13,AH$13,$F28:$J28)>0,ASISTENCIA!AB27<>\"X\",ASISTENCIA!AB27<>\"L\",ASISTENCIA!AB27<>\"J\",ASISTENCIA!AB27<>\"V\",ASISTENCIA!AB27<>\"F\",ASISTENCIA!AB27<>\"\"),SUMIF($F$13:$J$13,AH$13,$F28:$J28),\"\")","v":""},{"$f":"IF(AND(LEN($D28)>0,SUMIF($F$13:$J$13,AI$13,$F28:$J28)>0,ASISTENCIA!AC27<>\"X\",ASISTENCIA!AC27<>\"L\",ASISTENCIA!AC27<>\"J\",ASISTENCIA!AC27<>\"V\",ASISTENCIA!AC27<>\"F\",ASISTENCIA!AC27<>\"\"),SUMIF($F$13:$J$13,AI$13,$F28:$J28),\"\")","v":""},{"$f":"IF(AND(LEN($D28)>0,SUMIF($F$13:$J$13,AJ$13,$F28:$J28)>0,ASISTENCIA!AD27<>\"X\",ASISTENCIA!AD27<>\"L\",ASISTENCIA!AD27<>\"J\",ASISTENCIA!AD27<>\"V\",ASISTENCIA!AD27<>\"F\",ASISTENCIA!AD27<>\"\"),SUMIF($F$13:$J$13,AJ$13,$F28:$J28),\"\")","v":""},{"$f":"IF(AND(LEN($D28)>0,SUMIF($F$13:$J$13,AK$13,$F28:$J28)>0,ASISTENCIA!AE27<>\"X\",ASISTENCIA!AE27<>\"L\",ASISTENCIA!AE27<>\"J\",ASISTENCIA!AE27<>\"V\",ASISTENCIA!AE27<>\"F\",ASISTENCIA!AE27<>\"\"),SUMIF($F$13:$J$13,AK$13,$F28:$J28),\"\")","v":""},{"$f":"IF(AND(LEN($D28)>0,SUMIF($F$13:$J$13,AL$13,$F28:$J28)>0,ASISTENCIA!AF27<>\"X\",ASISTENCIA!AF27<>\"L\",ASISTENCIA!AF27<>\"J\",ASISTENCIA!AF27<>\"V\",ASISTENCIA!AF27<>\"F\",ASISTENCIA!AF27<>\"\"),SUMIF($F$13:$J$13,AL$13,$F28:$J28),\"\")","v":""},{"$f":"IF(AND(LEN($D28)>0,SUMIF($F$13:$J$13,AM$13,$F28:$J28)>0,ASISTENCIA!AG27<>\"X\",ASISTENCIA!AG27<>\"L\",ASISTENCIA!AG27<>\"J\",ASISTENCIA!AG27<>\"V\",ASISTENCIA!AG27<>\"F\",ASISTENCIA!AG27<>\"\"),SUMIF($F$13:$J$13,AM$13,$F28:$J28),\"\")","v":""},{"$f":"IF(AND(LEN($D28)>0,SUMIF($F$13:$J$13,AN$13,$F28:$J28)>0,ASISTENCIA!AH27<>\"X\",ASISTENCIA!AH27<>\"L\",ASISTENCIA!AH27<>\"J\",ASISTENCIA!AH27<>\"V\",ASISTENCIA!AH27<>\"F\",ASISTENCIA!AH27<>\"\"),SUMIF($F$13:$J$13,AN$13,$F28:$J28),\"\")","v":""},{"$f":"IF(AND(LEN($D28)>0,SUMIF($F$13:$J$13,AO$13,$F28:$J28)>0,ASISTENCIA!AI27<>\"X\",ASISTENCIA!AI27<>\"L\",ASISTENCIA!AI27<>\"J\",ASISTENCIA!AI27<>\"V\",ASISTENCIA!AI27<>\"F\",ASISTENCIA!AI27<>\"\"),SUMIF($F$13:$J$13,AO$13,$F28:$J28),\"\")","v":""},{"$f":"IF(AND(LEN($D28)>0,SUMIF($F$13:$J$13,AP$13,$F28:$J28)>0,ASISTENCIA!AJ27<>\"X\",ASISTENCIA!AJ27<>\"L\",ASISTENCIA!AJ27<>\"J\",ASISTENCIA!AJ27<>\"V\",ASISTENCIA!AJ27<>\"F\",ASISTENCIA!AJ27<>\"\"),SUMIF($F$13:$J$13,AP$13,$F28:$J28),\"\")","v":""},{"$f":"IF(AND(LEN($D28)>0,SUMIF($F$13:$J$13,AQ$13,$F28:$J28)>0,ASISTENCIA!AK27<>\"X\",ASISTENCIA!AK27<>\"L\",ASISTENCIA!AK27<>\"J\",ASISTENCIA!AK27<>\"V\",ASISTENCIA!AK27<>\"F\",ASISTENCIA!AK27<>\"\"),SUMIF($F$13:$J$13,AQ$13,$F28:$J28),\"\")","v":""},{"$f":"IF(AND(LEN($D28)>0,SUMIF($F$13:$J$13,AR$13,$F28:$J28)>0,ASISTENCIA!AL27<>\"X\",ASISTENCIA!AL27<>\"L\",ASISTENCIA!AL27<>\"J\",ASISTENCIA!AL27<>\"V\",ASISTENCIA!AL27<>\"F\",ASISTENCIA!AL27<>\"\"),SUMIF($F$13:$J$13,AR$13,$F28:$J28),\"\")","v":""},{"$f":"IF(AND(LEN($D28)>0,SUMIF($F$13:$J$13,AS$13,$F28:$J28)>0,ASISTENCIA!AM27<>\"X\",ASISTENCIA!AM27<>\"L\",ASISTENCIA!AM27<>\"J\",ASISTENCIA!AM27<>\"V\",ASISTENCIA!AM27<>\"F\",ASISTENCIA!AM27<>\"\"),SUMIF($F$13:$J$13,AS$13,$F28:$J28),\"\")","v":""},"",null,null,null,{"$f":"IF(AND(LEN($D28)>0,SUMIF($F$13:$J$13,AX$13,$F28:$J28)>0,ASISTENCIA!AU27<>\"X\",ASISTENCIA!AU27<>\"L\",ASISTENCIA!AU27<>\"J\",ASISTENCIA!AU27<>\"F\"),SUMIF($F$13:$J$13,AX$13,$F28:$J28),\"\")","v":""},{"$f":"IF(AND(LEN($D28)>0,SUMIF($F$13:$J$13,AY$13,$F28:$J28)>0,ASISTENCIA!AV27<>\"X\",ASISTENCIA!AV27<>\"L\",ASISTENCIA!AV27<>\"J\",ASISTENCIA!AV27<>\"F\"),SUMIF($F$13:$J$13,AY$13,$F28:$J28),\"\")","v":""},{"$f":"IF(AND(LEN($D28)>0,SUMIF($F$13:$J$13,AZ$13,$F28:$J28)>0,ASISTENCIA!AW27<>\"X\",ASISTENCIA!AW27<>\"L\",ASISTENCIA!AW27<>\"J\",ASISTENCIA!AW27<>\"F\"),SUMIF($F$13:$J$13,AZ$13,$F28:$J28),\"\")","v":""},{"$f":"IF(AND(LEN($D28)>0,SUMIF($F$13:$J$13,BA$13,$F28:$J28)>0,ASISTENCIA!AX27<>\"X\",ASISTENCIA!AX27<>\"L\",ASISTENCIA!AX27<>\"J\",ASISTENCIA!AX27<>\"F\"),SUMIF($F$13:$J$13,BA$13,$F28:$J28),\"\")","v":""},{"$f":"IF(AND(LEN($D28)>0,SUMIF($F$13:$J$13,BB$13,$F28:$J28)>0,ASISTENCIA!AY27<>\"X\",ASISTENCIA!AY27<>\"L\",ASISTENCIA!AY27<>\"J\",ASISTENCIA!AY27<>\"F\"),SUMIF($F$13:$J$13,BB$13,$F28:$J28),\"\")","v":""},{"$f":"IF(AND(LEN($D28)>0,SUMIF($F$13:$J$13,BC$13,$F28:$J28)>0,ASISTENCIA!AZ27<>\"X\",ASISTENCIA!AZ27<>\"L\",ASISTENCIA!AZ27<>\"J\",ASISTENCIA!AZ27<>\"F\"),SUMIF($F$13:$J$13,BC$13,$F28:$J28),\"\")","v":""},{"$f":"IF(AND(LEN($D28)>0,SUMIF($F$13:$J$13,BD$13,$F28:$J28)>0,ASISTENCIA!BA27<>\"X\",ASISTENCIA!BA27<>\"L\",ASISTENCIA!BA27<>\"J\",ASISTENCIA!BA27<>\"F\"),SUMIF($F$13:$J$13,BD$13,$F28:$J28),\"\")","v":""},{"$f":"IF(AND(LEN($D28)>0,SUMIF($F$13:$J$13,BE$13,$F28:$J28)>0,ASISTENCIA!BB27<>\"X\",ASISTENCIA!BB27<>\"L\",ASISTENCIA!BB27<>\"J\",ASISTENCIA!BB27<>\"F\"),SUMIF($F$13:$J$13,BE$13,$F28:$J28),\"\")","v":""},{"$f":"IF(AND(LEN($D28)>0,SUMIF($F$13:$J$13,BF$13,$F28:$J28)>0,ASISTENCIA!#REF!<>\"X\",ASISTENCIA!#REF!<>\"L\",ASISTENCIA!#REF!<>\"J\",ASISTENCIA!#REF!<>\"F\"),SUMIF($F$13:$J$13,BF$13,$F28:$J28),\"\")","v":{"$error":"#REF!"}},{"$f":"IF(AND(LEN($D28)>0,SUMIF($F$13:$J$13,BG$13,$F28:$J28)>0,ASISTENCIA!#REF!<>\"X\",ASISTENCIA!#REF!<>\"L\",ASISTENCIA!#REF!<>\"J\",ASISTENCIA!#REF!<>\"F\"),SUMIF($F$13:$J$13,BG$13,$F28:$J28),\"\")","v":{"$error":"#REF!"}},{"$f":"IF(AND(LEN($D28)>0,SUMIF($F$13:$J$13,BH$13,$F28:$J28)>0,ASISTENCIA!BE27<>\"X\",ASISTENCIA!BE27<>\"L\",ASISTENCIA!BE27<>\"J\",ASISTENCIA!BE27<>\"F\"),SUMIF($F$13:$J$13,BH$13,$F28:$J28),\"\")","v":""},{"$f":"IF(AND(LEN($D28)>0,SUMIF($F$13:$J$13,BI$13,$F28:$J28)>0,ASISTENCIA!BF27<>\"X\",ASISTENCIA!BF27<>\"L\",ASISTENCIA!BF27<>\"J\",ASISTENCIA!BF27<>\"F\"),SUMIF($F$13:$J$13,BI$13,$F28:$J28),\"\")","v":""},{"$f":"IF(AND(LEN($D28)>0,SUMIF($F$13:$J$13,BJ$13,$F28:$J28)>0,ASISTENCIA!BG27<>\"X\",ASISTENCIA!BG27<>\"L\",ASISTENCIA!BG27<>\"J\",ASISTENCIA!BG27<>\"F\"),SUMIF($F$13:$J$13,BJ$13,$F28:$J28),\"\")","v":""},{"$f":"IF(AND(LEN($D28)>0,SUMIF($F$13:$J$13,BK$13,$F28:$J28)>0,ASISTENCIA!BH27<>\"X\",ASISTENCIA!BH27<>\"L\",ASISTENCIA!BH27<>\"J\",ASISTENCIA!BH27<>\"F\"),SUMIF($F$13:$J$13,BK$13,$F28:$J28),\"\")","v":""},{"$f":"IF(AND(LEN($D28)>0,SUMIF($F$13:$J$13,BL$13,$F28:$J28)>0,ASISTENCIA!BI27<>\"X\",ASISTENCIA!BI27<>\"L\",ASISTENCIA!BI27<>\"J\",ASISTENCIA!BI27<>\"F\"),SUMIF($F$13:$J$13,BL$13,$F28:$J28),\"\")","v":""},{"$f":"IF(AND(LEN($D28)>0,SUMIF($F$13:$J$13,BM$13,$F28:$J28)>0,ASISTENCIA!BJ27<>\"X\",ASISTENCIA!BJ27<>\"L\",ASISTENCIA!BJ27<>\"J\",ASISTENCIA!BJ27<>\"F\"),SUMIF($F$13:$J$13,BM$13,$F28:$J28),\"\")","v":""},{"$f":"IF(AND(LEN($D28)>0,SUMIF($F$13:$J$13,BN$13,$F28:$J28)>0,ASISTENCIA!BK27<>\"X\",ASISTENCIA!BK27<>\"L\",ASISTENCIA!BK27<>\"J\",ASISTENCIA!BK27<>\"F\"),SUMIF($F$13:$J$13,BN$13,$F28:$J28),\"\")","v":""},{"$f":"IF(AND(LEN($D28)>0,SUMIF($F$13:$J$13,BO$13,$F28:$J28)>0,ASISTENCIA!BL27<>\"X\",ASISTENCIA!BL27<>\"L\",ASISTENCIA!BL27<>\"J\",ASISTENCIA!BL27<>\"F\"),SUMIF($F$13:$J$13,BO$13,$F28:$J28),\"\")","v":""},{"$f":"IF(AND(LEN($D28)>0,SUMIF($F$13:$J$13,BP$13,$F28:$J28)>0,ASISTENCIA!BM27<>\"X\",ASISTENCIA!BM27<>\"L\",ASISTENCIA!BM27<>\"J\",ASISTENCIA!BM27<>\"F\"),SUMIF($F$13:$J$13,BP$13,$F28:$J28),\"\")","v":""},{"$f":"IF(AND(LEN($D28)>0,SUMIF($F$13:$J$13,BQ$13,$F28:$J28)>0,ASISTENCIA!BN27<>\"X\",ASISTENCIA!BN27<>\"L\",ASISTENCIA!BN27<>\"J\",ASISTENCIA!BN27<>\"F\"),SUMIF($F$13:$J$13,BQ$13,$F28:$J28),\"\")","v":""},{"$f":"IF(AND(LEN($D28)>0,SUMIF($F$13:$J$13,BR$13,$F28:$J28)>0,ASISTENCIA!BO27<>\"X\",ASISTENCIA!BO27<>\"L\",ASISTENCIA!BO27<>\"J\",ASISTENCIA!BO27<>\"F\"),SUMIF($F$13:$J$13,BR$13,$F28:$J28),\"\")","v":""},{"$f":"IF(AND(LEN($D28)>0,SUMIF($F$13:$J$13,BS$13,$F28:$J28)>0,ASISTENCIA!BP27<>\"X\",ASISTENCIA!BP27<>\"L\",ASISTENCIA!BP27<>\"J\",ASISTENCIA!BP27<>\"F\"),SUMIF($F$13:$J$13,BS$13,$F28:$J28),\"\")","v":""},{"$f":"IF(AND(LEN($D28)>0,SUMIF($F$13:$J$13,BT$13,$F28:$J28)>0,ASISTENCIA!BQ27<>\"X\",ASISTENCIA!BQ27<>\"L\",ASISTENCIA!BQ27<>\"J\",ASISTENCIA!BQ27<>\"F\"),SUMIF($F$13:$J$13,BT$13,$F28:$J28),\"\")","v":""},{"$f":"IF(AND(LEN($D28)>0,SUMIF($F$13:$J$13,BU$13,$F28:$J28)>0,ASISTENCIA!BR27<>\"X\",ASISTENCIA!BR27<>\"L\",ASISTENCIA!BR27<>\"J\",ASISTENCIA!BR27<>\"F\"),SUMIF($F$13:$J$13,BU$13,$F28:$J28),\"\")","v":""},{"$f":"IF(AND(LEN($D28)>0,SUMIF($F$13:$J$13,BV$13,$F28:$J28)>0,ASISTENCIA!BS27<>\"X\",ASISTENCIA!BS27<>\"L\",ASISTENCIA!BS27<>\"J\",ASISTENCIA!BS27<>\"F\"),SUMIF($F$13:$J$13,BV$13,$F28:$J28),\"\")","v":""},{"$f":"IF(AND(LEN($D28)>0,SUMIF($F$13:$J$13,BW$13,$F28:$J28)>0,ASISTENCIA!BT27<>\"X\",ASISTENCIA!BT27<>\"L\",ASISTENCIA!BT27<>\"J\",ASISTENCIA!BT27<>\"F\"),SUMIF($F$13:$J$13,BW$13,$F28:$J28),\"\")","v":""},{"$f":"IF(AND(LEN($D28)>0,SUMIF($F$13:$J$13,BX$13,$F28:$J28)>0,ASISTENCIA!BU27<>\"X\",ASISTENCIA!BU27<>\"L\",ASISTENCIA!BU27<>\"J\",ASISTENCIA!BU27<>\"F\"),SUMIF($F$13:$J$13,BX$13,$F28:$J28),\"\")","v":""},{"$f":"IF(AND(LEN($D28)>0,SUMIF($F$13:$J$13,BY$13,$F28:$J28)>0,ASISTENCIA!BV27<>\"X\",ASISTENCIA!BV27<>\"L\",ASISTENCIA!BV27<>\"J\",ASISTENCIA!BV27<>\"F\"),SUMIF($F$13:$J$13,BY$13,$F28:$J28),\"\")","v":""},{"$f":"IF(AND(LEN($D28)>0,SUMIF($F$13:$J$13,BZ$13,$F28:$J28)>0,ASISTENCIA!BW27<>\"X\",ASISTENCIA!BW27<>\"L\",ASISTENCIA!BW27<>\"J\",ASISTENCIA!BW27<>\"F\"),SUMIF($F$13:$J$13,BZ$13,$F28:$J28),\"\")","v":""},{"$f":"IF(AND(LEN($D28)>0,SUMIF($F$13:$J$13,CA$13,$F28:$J28)>0,ASISTENCIA!BX27<>\"X\",ASISTENCIA!BX27<>\"L\",ASISTENCIA!BX27<>\"J\",ASISTENCIA!BX27<>\"F\"),SUMIF($F$13:$J$13,CA$13,$F28:$J28),\"\")","v":""},{"$f":"IF(AND(LEN($D28)>0,SUMIF($F$13:$J$13,CB$13,$F28:$J28)>0,ASISTENCIA!BY27<>\"X\",ASISTENCIA!BY27<>\"L\",ASISTENCIA!BY27<>\"J\",ASISTENCIA!BY27<>\"F\"),SUMIF($F$13:$J$13,CB$13,$F28:$J28),\"\")","v":""},{"$error":"#REF!"}]
[{"$error":"#REF!"},{"$f":"IF(LEN(C29)>0,VLOOKUP($O$4,DATA!$A$1:$S$1,2,FALSE),\"\")","v":{"$error":"#REF!"}},{"$error":"#REF!"},{"$f":"IF(LEN(ASISTENCIA!#REF!)>0,ASISTENCIA!#REF!,\"\")","v":{"$error":"#REF!"}},{"$f":"IF(LEN(D29)>0,ASISTENCIA!#REF!,\"\")","v":{"$error":"#REF!"}},null,null,null,null,null,"",null,null,{"$error":"#REF!"},{"$f":"IF(AND(LEN($D29)>0,SUMIF($F$13:$J$13,O$13,$F29:$J29)>0,ASISTENCIA!#REF!<>\"X\",ASISTENCIA!#REF!<>\"L\",ASISTENCIA!#REF!<>\"J\",ASISTENCIA!#REF!<>\"V\",ASISTENCIA!#REF!<>\"F\",ASISTENCIA!#REF!<>\"\"),SUMIF($F$13:$J$13,O$13,$F29:$J29),\"\")","v":{"$error":"#REF!"}},{"$f":"IF(AND(LEN($D29)>0,SUMIF($F$13:$J$13,P$13,$F29:$J29)>0,ASISTENCIA!#REF!<>\"X\",ASISTENCIA!#REF!<>\"L\",ASISTENCIA!#REF!<>\"J\",ASISTENCIA!#REF!<>\"V\",ASISTENCIA!#REF!<>\"F\",ASISTENCIA!#REF!<>\"\"),SUMIF($F$13:$J$13,P$13,$F29:$J29),\"\")","v":{"$error":"#REF!"}},{"$f":"IF(AND(LEN($D29)>0,SUMIF($F$13:$J$13,Q$13,$F29:$J29)>0,ASISTENCIA!#REF!<>\"X\",ASISTENCIA!#REF!<>\"L\",ASISTENCIA!#REF!<>\"J\",ASISTENCIA!#REF!<>\"V\",ASISTENCIA!#REF!<>\"F\",ASISTENCIA!#REF!<>\"\"),SUMIF($F$13:$J$13,Q$13,$F29:$J29),\"\")","v":{"$error":"#REF!"}},{"$f":"IF(AND(LEN($D29)>0,SUMIF($F$13:$J$13,R$13,$F29:$J29)>0,ASISTENCIA!#REF!<>\"X\",ASISTENCIA!#REF!<>\"L\",ASISTENCIA!#REF!<>\"J\",ASISTENCIA!#REF!<>\"V\",ASISTENCIA!#REF!<>\"F\",ASISTENCIA!#REF!<>\"\"),SUMIF($F$13:$J$13,R$13,$F29:$J29),\"\")","v":{"$error":"#REF!"}},{"$f":"IF(AND(LEN($D29)>0,SUMIF($F$13:$J$13,S$13,$F29:$J29)>0,ASISTENCIA!#REF!<>\"X\",ASISTENCIA!#REF!<>\"L\",ASISTENCIA!#REF!<>\"J\",ASISTENCIA!#REF!<>\"V\",ASISTENCIA!#REF!<>\"F\",ASISTENCIA!#REF!<>\"\"),SUMIF($F$13:$J$13,S$13,$F29:$J29),\"\")","v":{"$error":"#REF!"}},{"$f":"IF(AND(LEN($D29)>0,SUMIF($F$13:$J$13,T$13,$F29:$J29)>0,ASISTENCIA!#REF!<>\"X\",ASISTENCIA!#REF!<>\"L\",ASISTENCIA!#REF!<>\"J\",ASISTENCIA!#REF!<>\"V\",ASISTENCIA!#REF!<>\"F\",ASISTENCIA!#REF!<>\"\"),SUMIF($F$13:$J$13,T$13,$F29:$J29),\"\")","v":{"$error":"#REF!"}},{"$f":"IF(AND(LEN($D29)>0,SUMIF($F$13:$J$13,U$13,$F29:$J29)>0,ASISTENCIA!#REF!<>\"X\",ASISTENCIA!#REF!<>\"L\",ASISTENCIA!#REF!<>\"J\",ASISTENCIA!#REF!<>\"V\",ASISTENCIA!#REF!<>\"F\",ASISTENCIA!#REF!<>\"\"),SUMIF($F$13:$J$13,U$13,$F29:$J29),\"\")","v":{"$error":"#REF!"}},{"$f":"IF(AND(LEN($D29)>0,SUMIF($F$13:$J$13,V$13,$F29:$J29)>0,ASISTENCIA!#REF!<>\"X\",ASISTENCIA!#REF!<>\"L\",ASISTENCIA!#REF!<>\"J\",ASISTENCIA!#REF!<>\"V\",ASISTENCIA!#REF!<>\"F\",ASISTENCIA!#REF!<>\"\"),SUMIF($F$13:$J$13,V$13,$F29:$J29),\"\")","v":{"$error":"#REF!"}},{"$f":"IF(AND(LEN($D29)>0,SUMIF($F$13:$J$13,W$13,$F29:$J29)>0,ASISTENCIA!#REF!<>\"X\",ASISTENCIA!#REF!<>\"L\",ASISTENCIA!#REF!<>\"J\",ASISTENCIA!#REF!<>\"V\",ASISTENCIA!#REF!<>\"F\",ASISTENCIA!#REF!<>\"\"),SUMIF($F$13:$J$13,W$13,$F29:$J29),\"\")","v":{"$error":"#REF!"}},{"$f":"IF(AND(LEN($D29)>0,SUMIF($F$13:$J$13,X$13,$F29:$J29)>0,ASISTENCIA!#REF!<>\"X\",ASISTENCIA!#REF!<>\"L\",ASISTENCIA!#REF!<>\"J\",ASISTENCIA!#REF!<>\"V\",ASISTENCIA!#REF!<>\"F\",ASISTENCIA!#REF!<>\"\"),SUMIF($F$13:$J$13,X$13,$F29:$J29),\"\")","v":{"$error":"#REF!"}},{"$f":"IF(AND(LEN($D29)>0,SUMIF($F$13:$J$13,Y$13,$F29:$J29)>0,ASISTENCIA!#REF!<>\"X\",ASISTENCIA!#REF!<>\"L\",ASISTENCIA!#REF!<>\"J\",ASISTENCIA!#REF!<>\"V\",ASISTENCIA!#REF!<>\"F\",ASISTENCIA!#REF!<>\"\"),SUMIF($F$13:$J$13,Y$13,$F29:$J29),\"\")","v":{"$error":"#REF!"}},{"$f":"IF(AND(LEN($D29)>0,SUMIF($F$13:$J$13,Z$13,$F29:$J29)>0,ASISTENCIA!#REF!<>\"X\",ASISTENCIA!#REF!<>\"L\",ASISTENCIA!#REF!<>\"J\",ASISTENCIA!#REF!<>\"V\",ASISTENCIA!#REF!<>\"F\",ASISTENCIA!#REF!<>\"\"),SUMIF($F$13:$J$13,Z$13,$F29:$J29),\"\")","v":{"$error":"#REF!"}},{"$f":"IF(AND(LEN($D29)>0,SUMIF($F$13:$J$13,AA$13,$F29:$J29)>0,ASISTENCIA!#REF!<>\"X\",ASISTENCIA!#REF!<>\"L\",ASISTENCIA!#REF!<>\"J\",ASISTENCIA!#REF!<>\"V\",ASISTENCIA!#REF!<>\"F\",ASISTENCIA!#REF!<>\"\"),SUMIF($F$13:$J$13,AA$13,$F29:$J29),\"\")","v":{"$error":"#REF!"}},{"$f":"IF(AND(LEN($D29)>0,SUMIF($F$13:$J$13,AB$13,$F29:$J29)>0,ASISTENCIA!#REF!<>\"X\",ASISTENCIA!#REF!<>\"L\",ASISTENCIA!#REF!<>\"J\",ASISTENCIA!#REF!<>\"V\",ASISTENCIA!#REF!<>\"F\",ASISTENCIA!#REF!<>\"\"),SUMIF($F$13:$J$13,AB$13,$F29:$J29),\"\")","v":{"$error":"#REF!"}},{"$f":"IF(AND(LEN($D29)>0,SUMIF($F$13:$J$13,AC$13,$F29:$J29)>0,ASISTENCIA!#REF!<>\"X\",ASISTENCIA!#REF!<>\"L\",ASISTENCIA!#REF!<>\"J\",ASISTENCIA!#REF!<>\"V\",ASISTENCIA!#REF!<>\"F\",ASISTENCIA!#REF!<>\"\"),SUMIF($F$13:$J$13,AC$13,$F29:$J29),\"\")","v":{"$error":"#REF!"}},{"$f":"IF(AND(LEN($D29)>0,SUMIF($F$13:$J$13,AD$13,$F29:$J29)>0,ASISTENCIA!#REF!<>\"X\",ASISTENCIA!#REF!<>\"L\",ASISTENCIA!#REF!<>\"J\",ASISTENCIA!#REF!<>\"V\",ASISTENCIA!#REF!<>\"F\",ASISTENCIA!#REF!<>\"\"),SUMIF($F$13:$J$13,AD$13,$F29:$J29),\"\")","v":{"$error":"#REF!"}},{"$f":"IF(AND(LEN($D29)>0,SUMIF($F$13:$J$13,AE$13,$F29:$J29)>0,ASISTENCIA!#REF!<>\"X\",ASISTENCIA!#REF!<>\"L\",ASISTENCIA!#REF!<>\"J\",ASISTENCIA!#REF!<>\"V\",ASISTENCIA!#REF!<>\"F\",ASISTENCIA!#REF!<>\"\"),SUMIF($F$13:$J$13,AE$13,$F29:$J29),\"\")","v":{"$error":"#REF!"}},{"$f":"IF(AND(LEN($D29)>0,SUMIF($F$13:$J$13,AF$13,$F29:$J29)>0,ASISTENCIA!#REF!<>\"X\",ASISTENCIA!#REF!<>\"L\",ASISTENCIA!#REF!<>\"J\",ASISTENCIA!#REF!<>\"V\",ASISTENCIA!#REF!<>\"F\",ASISTENCIA!#REF!<>\"\"),SUMIF($F$13:$J$13,AF$13,$F29:$J29),\"\")","v":{"$error":"#REF!"}},{"$f":"IF(AND(LEN($D29)>0,SUMIF($F$13:$J$13,AG$13,$F29:$J29)>0,ASISTENCIA!#REF!<>\"X\",ASISTENCIA!#REF!<>\"L\",ASISTENCIA!#REF!<>\"J\",ASISTENCIA!#REF!<>\"V\",ASISTENCIA!#REF!<>\"F\",ASISTENCIA!#REF!<>\"\"),SUMIF($F$13:$J$13,AG$13,$F29:$J29),\"\")","v":{"$error":"#REF!"}},{"$f":"IF(AND(LEN($D29)>0,SUMIF($F$13:$J$13,AH$13,$F29:$J29)>0,ASISTENCIA!#REF!<>\"X\",ASISTENCIA!#REF!<>\"L\",ASISTENCIA!#REF!<>\"J\",ASISTENCIA!#REF!<>\"V\",ASISTENCIA!#REF!<>\"F\",ASISTENCIA!#REF!<>\"\"),SUMIF($F$13:$J$13,AH$13,$F29:$J29),\"\")","v":{"$error":"#REF!"}},{"$f":"IF(AND(LEN($D29)>0,SUMIF($F$13:$J$13,AI$13,$F29:$J29)>0,ASISTENCIA!#REF!<>\"X\",ASISTENCIA!#REF!<>\"L\",ASISTENCIA!#REF!<>\"J\",ASISTENCIA!#REF!<>\"V\",ASISTENCIA!#REF!<>\"F\",ASISTENCIA!#REF!<>\"\"),SUMIF($F$13:$J$13,AI$13,$F29:$J29),\"\")","v":{"$error":"#REF!"}},{"$f":"IF(AND(LEN($D29)>0,SUMIF($F$13:$J$13,AJ$13,$F29:$J29)>0,ASISTENCIA!#REF!<>\"X\",ASISTENCIA!#REF!<>\"L\",ASISTENCIA!#REF!<>\"J\",ASISTENCIA!#REF!<>\"V\",ASISTENCIA!#REF!<>\"F\",ASISTENCIA!#REF!<>\"\"),SUMIF($F$13:$J$13,AJ$13,$F29:$J29),\"\")","v":{"$error":"#REF!"}},{"$f":"IF(AND(LEN($D29)>0,SUMIF($F$13:$J$13,AK$13,$F29:$J29)>0,ASISTENCIA!#REF!<>\"X\",ASISTENCIA!#REF!<>\"L\",ASISTENCIA!#REF!<>\"J\",ASISTENCIA!#REF!<>\"V\",ASISTENCIA!#REF!<>\"F\",ASISTENCIA!#REF!<>\"\"),SUMIF($F$13:$J$13,AK$13,$F29:$J29),\"\")","v":{"$error":"#REF!"}},{"$f":"IF(AND(LEN($D29)>0,SUMIF($F$13:$J$13,AL$13,$F29:$J29)>0,ASISTENCIA!#REF!<>\"X\",ASISTENCIA!#REF!<>\"L\",ASISTENCIA!#REF!<>\"J\",ASISTENCIA!#REF!<>\"V\",ASISTENCIA!#REF!<>\"F\",ASISTENCIA!#REF!<>\"\"),SUMIF($F$13:$J$13,AL$13,$F29:$J29),\"\")","v":{"$error":"#REF!"}},{"$f":"IF(AND(LEN($D29)>0,SUMIF($F$13:$J$13,AM$13,$F29:$J29)>0,ASISTENCIA!#REF!<>\"X\",ASISTENCIA!#REF!<>\"L\",ASISTENCIA!#REF!<>\"J\",ASISTENCIA!#REF!<>\"V\",ASISTENCIA!#REF!<>\"F\",ASISTENCIA!#REF!<>\"\"),SUMIF($F$13:$J$13,AM$13,$F29:$J29),\"\")","v":{"$error":"#REF!"}},{"$f":"IF(AND(LEN($D29)>0,SUMIF($F$13:$J$13,AN$13,$F29:$J29)>0,ASISTENCIA!#REF!<>\"X\",ASISTENCIA!#REF!<>\"L\",ASISTENCIA!#REF!<>\"J\",ASISTENCIA!#REF!<>\"V\",ASISTENCIA!#REF!<>\"F\",ASISTENCIA!#REF!<>\"\"),SUMIF($F$13:$J$13,AN$13,$F29:$J29),\"\")","v":{"$error":"#REF!"}},{"$f":"IF(AND(LEN($D29)>0,SUMIF($F$13:$J$13,AO$13,$F29:$J29)>0,ASISTENCIA!#REF!<>\"X\",ASISTENCIA!#REF!<>\"L\",ASISTENCIA!#REF!<>\"J\",ASISTENCIA!#REF!<>\"V\",ASISTENCIA!#REF!<>\"F\",ASISTENCIA!#REF!<>\"\"),SUMIF($F$13:$J$13,AO$13,$F29:$J29),\"\")","v":{"$error":"#REF!"}},{"$f":"IF(AND(LEN($D29)>0,SUMIF($F$13:$J$13,AP$13,$F29:$J29)>0,ASISTENCIA!#REF!<>\"X\",ASISTENCIA!#REF!<>\"L\",ASISTENCIA!#REF!<>\"J\",ASISTENCIA!#REF!<>\"V\",ASISTENCIA!#REF!<>\"F\",ASISTENCIA!#REF!<>\"\"),SUMIF($F$13:$J$13,AP$13,$F29:$J29),\"\")","v":{"$error":"#REF!"}},{"$f":"IF(AND(LEN($D29)>0,SUMIF($F$13:$J$13,AQ$13,$F29:$J29)>0,ASISTENCIA!#REF!<>\"X\",ASISTENCIA!#REF!<>\"L\",ASISTENCIA!#REF!<>\"J\",ASISTENCIA!#REF!<>\"V\",ASISTENCIA!#REF!<>\"F\",ASISTENCIA!#REF!<>\"\"),SUMIF($F$13:$J$13,AQ$13,$F29:$J29),\"\")","v":{"$error":"#REF!"}},{"$f":"IF(AND(LEN($D29)>0,SUMIF($F$13:$J$13,AR$13,$F29:$J29)>0,ASISTENCIA!#REF!<>\"X\",ASISTENCIA!#REF!<>\"L\",ASISTENCIA!#REF!<>\"J\",ASISTENCIA!#REF!<>\"V\",ASISTENCIA!#REF!<>\"F\",ASISTENCIA!#REF!<>\"\"),SUMIF($F$13:$J$13,AR$13,$F29:$J29),\"\")","v":{"$error":"#REF!"}},{"$f":"IF(AND(LEN($D29)>0,SUMIF($F$13:$J$13,AS$13,$F29:$J29)>0,ASISTENCIA!#REF!<>\"X\",ASISTENCIA!#REF!<>\"L\",ASISTENCIA!#REF!<>\"J\",ASISTENCIA!#REF!<>\"V\",ASISTENCIA!#REF!<>\"F\",ASISTENCIA!#REF!<>\"\"),SUMIF($F$13:$J$13,AS$13,$F29:$J29),\"\")","v":{"$error":"#REF!"}},{"$error":"#REF!"},null,null,null,{"$f":"IF(AND(LEN($D29)>0,SUMIF($F$13:$J$13,AX$13,$F29:$J29)>0,ASISTENCIA!#REF!<>\"X\",ASISTENCIA!#REF!<>\"L\",ASISTENCIA!#REF!<>\"J\",ASISTENCIA!#REF!<>\"F\"),SUMIF($F$13:$J$13,AX$13,$F29:$J29),\"\")","v":{"$error":"#REF!"}},{"$f":"IF(AND(LEN($D29)>0,SUMIF($F$13:$J$13,AY$13,$F29:$J29)>0,ASISTENCIA!#REF!<>\"X\",ASISTENCIA!#REF!<>\"L\",ASISTENCIA!#REF!<>\"J\",ASISTENCIA!#REF!<>\"F\"),SUMIF($F$13:$J$13,AY$13,$F29:$J29),\"\")","v":{"$error":"#REF!"}},{"$f":"IF(AND(LEN($D29)>0,SUMIF($F$13:$J$13,AZ$13,$F29:$J29)>0,ASISTENCIA!#REF!<>\"X\",ASISTENCIA!#REF!<>\"L\",ASISTENCIA!#REF!<>\"J\",ASISTENCIA!#REF!<>\"F\"),SUMIF($F$13:$J$13,AZ$13,$F29:$J29),\"\")","v":{"$error":"#REF!"}},{"$f":"IF(AND(LEN($D29)>0,SUMIF($F$13:$J$13,BA$13,$F29:$J29)>0,ASISTENCIA!#REF!<>\"X\",ASISTENCIA!#REF!<>\"L\",ASISTENCIA!#REF!<>\"J\",ASISTENCIA!#REF!<>\"F\"),SUMIF($F$13:$J$13,BA$13,$F29:$J29),\"\")","v":{"$error":"#REF!"}},{"$f":"IF(AND(LEN($D29)>0,SUMIF($F$13:$J$13,BB$13,$F29:$J29)>0,ASISTENCIA!#REF!<>\"X\",ASISTENCIA!#REF!<>\"L\",ASISTENCIA!#REF!<>\"J\",ASISTENCIA!#REF!<>\"F\"),SUMIF($F$13:$J$13,BB$13,$F29:$J29),\"\")","v":{"$error":"#REF!"}},{"$f":"IF(AND(LEN($D29)>0,SUMIF($F$13:$J$13,BC$13,$F29:$J29)>0,ASISTENCIA!#REF!<>\"X\",ASISTENCIA!#REF!<>\"L\",ASISTENCIA!#REF!<>\"J\",ASISTENCIA!#REF!<>\"F\"),SUMIF($F$13:$J$13,BC$13,$F29:$J29),\"\")","v":{"$error":"#REF!"}},{"$f":"IF(AND(LEN($D29)>0,SUMIF($F$13:$J$13,BD$13,$F29:$J29)>0,ASISTENCIA!#REF!<>\"X\",ASISTENCIA!#REF!<>\"L\",ASISTENCIA!#REF!<>\"J\",ASISTENCIA!#REF!<>\"F\"),SUMIF($F$13:$J$13,BD$13,$F29:$J29),\"\")","v":{"$error":"#REF!"}},{"$f":"IF(AND(LEN($D29)>0,SUMIF($F$13:$J$13,BE$13,$F29:$J29)>0,ASISTENCIA!#REF!<>\"X\",ASISTENCIA!#REF!<>\"L\",ASISTENCIA!#REF!<>\"J\",ASISTENCIA!#REF!<>\"F\"),SUMIF($F$13:$J$13,BE$13,$F29:$J29),\"\")","v":{"$error":"#REF!"}},{"$f":"IF(AND(LEN($D29)>0,SUMIF($F$13:$J$13,BF$13,$F29:$J29)>0,ASISTENCIA!#REF!<>\"X\",ASISTENCIA!#REF!<>\"L\",ASISTENCIA!#REF!<>\"J\",ASISTENCIA!#REF!<>\"F\"),SUMIF($F$13:$J$13,BF$13,$F29:$J29),\"\")","v":{"$error":"#REF!"}},{"$f":"IF(AND(LEN($D29)>0,SUMIF($F$13:$J$13,BG$13,$F29:$J29)>0,ASISTENCIA!#REF!<>\"X\",ASISTENCIA!#REF!<>\"L\",ASISTENCIA!#REF!<>\"J\",ASISTENCIA!#REF!<>\"F\"),SUMIF($F$13:$J$13,BG$13,$F29:$J29),\"\")","v":{"$error":"#REF!"}},{"$f":"IF(AND(LEN($D29)>0,SUMIF($F$13:$J$13,BH$13,$F29:$J29)>0,ASISTENCIA!#REF!<>\"X\",ASISTENCIA!#REF!<>\"L\",ASISTENCIA!#REF!<>\"J\",ASISTENCIA!#REF!<>\"F\"),SUMIF($F$13:$J$13,BH$13,$F29:$J29),\"\")","v":{"$error":"#REF!"}},{"$f":"IF(AND(LEN($D29)>0,SUMIF($F$13:$J$13,BI$13,$F29:$J29)>0,ASISTENCIA!#REF!<>\"X\",ASISTENCIA!#REF!<>\"L\",ASISTENCIA!#REF!<>\"J\",ASISTENCIA!#REF!<>\"F\"),SUMIF($F$13:$J$13,BI$13,$F29:$J29),\"\")","v":{"$error":"#REF!"}},{"$f":"IF(AND(LEN($D29)>0,SUMIF($F$13:$J$13,BJ$13,$F29:$J29)>0,ASISTENCIA!#REF!<>\"X\",ASISTENCIA!#REF!<>\"L\",ASISTENCIA!#REF!<>\"J\",ASISTENCIA!#REF!<>\"F\"),SUMIF($F$13:$J$13,BJ$13,$F29:$J29),\"\")","v":{"$error":"#REF!"}},{"$f":"IF(AND(LEN($D29)>0,SUMIF($F$13:$J$13,BK$13,$F29:$J29)>0,ASISTENCIA!#REF!<>\"X\",ASISTENCIA!#REF!<>\"L\",ASISTENCIA!#REF!<>\"J\",ASISTENCIA!#REF!<>\"F\"),SUMIF($F$13:$J$13,BK$13,$F29:$J29),\"\")","v":{"$error":"#REF!"}},{"$f":"IF(AND(LEN($D29)>0,SUMIF($F$13:$J$13,BL$13,$F29:$J29)>0,ASISTENCIA!#REF!<>\"X\",ASISTENCIA!#REF!<>\"L\",ASISTENCIA!#REF!<>\"J\",ASISTENCIA!#REF!<>\"F\"),SUMIF($F$13:$J$13,BL$13,$F29:$J29),\"\")","v":{"$error":"#REF!"}},{"$f":"IF(AND(LEN($D29)>0,SUMIF($F$13:$J$13,BM$13,$F29:$J29)>0,ASISTENCIA!#REF!<>\"X\",ASISTENCIA!#REF!<>\"L\",ASISTENCIA!#REF!<>\"J\",ASISTENCIA!#REF!<>\"F\"),SUMIF($F$13:$J$13,BM$13,$F29:$J29),\"\")","v":{"$error":"#REF!"}},{"$f":"IF(AND(LEN($D29)>0,SUMIF($F$13:$J$13,BN$13,$F29:$J29)>0,ASISTENCIA!#REF!<>\"X\",ASISTENCIA!#REF!<>\"L\",ASISTENCIA!#REF!<>\"J\",ASISTENCIA!#REF!<>\"F\"),SUMIF($F$13:$J$13,BN$13,$F29:$J29),\"\")","v":{"$error":"#REF!"}},{"$f":"IF(AND(LEN($D29)>0,SUMIF($F$13:$J$13,BO$13,$F29:$J29)>0,ASISTENCIA!#REF!<>\"X\",ASISTENCIA!#REF!<>\"L\",ASISTENCIA!#REF!<>\"J\",ASISTENCIA!#REF!<>\"F\"),SUMIF($F$13:$J$13,BO$13,$F29:$J29),\"\")","v":{"$error":"#REF!"}},{"$f":"IF(AND(LEN($D29)>0,SUMIF($F$13:$J$13,BP$13,$F29:$J29)>0,ASISTENCIA!#REF!<>\"X\",ASISTENCIA!#REF!<>\"L\",ASISTENCIA!#REF!<>\"J\",ASISTENCIA!#REF!<>\"F\"),SUMIF($F$13:$J$13,BP$13,$F29:$J29),\"\")","v":{"$error":"#REF!"}},{"$f":"IF(AND(LEN($D29)>0,SUMIF($F$13:$J$13,BQ$13,$F29:$J29)>0,ASISTENCIA!#REF!<>\"X\",ASISTENCIA!#REF!<>\"L\",ASISTENCIA!#REF!<>\"J\",ASISTENCIA!#REF!<>\"F\"),SUMIF($F$13:$J$13,BQ$13,$F29:$J29),\"\")","v":{"$error":"#REF!"}},{"$f":"IF(AND(LEN($D29)>0,SUMIF($F$13:$J$13,BR$13,$F29:$J29)>0,ASISTENCIA!#REF!<>\"X\",ASISTENCIA!#REF!<>\"L\",ASISTENCIA!#REF!<>\"J\",ASISTENCIA!#REF!<>\"F\"),SUMIF($F$13:$J$13,BR$13,$F29:$J29),\"\")","v":{"$error":"#REF!"}},{"$f":"IF(AND(LEN($D29)>0,SUMIF($F$13:$J$13,BS$13,$F29:$J29)>0,ASISTENCIA!#REF!<>\"X\",ASISTENCIA!#REF!<>\"L\",ASISTENCIA!#REF!<>\"J\",ASISTENCIA!#REF!<>\"F\"),SUMIF($F$13:$J$13,BS$13,$F29:$J29),\"\")","v":{"$error":"#REF!"}},{"$f":"IF(AND(LEN($D29)>0,SUMIF($F$13:$J$13,BT$13,$F29:$J29)>0,ASISTENCIA!#REF!<>\"X\",ASISTENCIA!#REF!<>\"L\",ASISTENCIA!#REF!<>\"J\",ASISTENCIA!#REF!<>\"F\"),SUMIF($F$13:$J$13,BT$13,$F29:$J29),\"\")","v":{"$error":"#REF!"}},{"$f":"IF(AND(LEN($D29)>0,SUMIF($F$13:$J$13,BU$13,$F29:$J29)>0,ASISTENCIA!#REF!<>\"X\",ASISTENCIA!#REF!<>\"L\",ASISTENCIA!#REF!<>\"J\",ASISTENCIA!#REF!<>\"F\"),SUMIF($F$13:$J$13,BU$13,$F29:$J29),\"\")","v":{"$error":"#REF!"}},{"$f":"IF(AND(LEN($D29)>0,SUMIF($F$13:$J$13,BV$13,$F29:$J29)>0,ASISTENCIA!#REF!<>\"X\",ASISTENCIA!#REF!<>\"L\",ASISTENCIA!#REF!<>\"J\",ASISTENCIA!#REF!<>\"F\"),SUMIF($F$13:$J$13,BV$13,$F29:$J29),\"\")","v":{"$error":"#REF!"}},{"$f":"IF(AND(LEN($D29)>0,SUMIF($F$13:$J$13,BW$13,$F29:$J29)>0,ASISTENCIA!#REF!<>\"X\",ASISTENCIA!#REF!<>\"L\",ASISTENCIA!#REF!<>\"J\",ASISTENCIA!#REF!<>\"F\"),SUMIF($F$13:$J$13,BW$13,$F29:$J29),\"\")","v":{"$error":"#REF!"}},{"$f":"IF(AND(LEN($D29)>0,SUMIF($F$13:$J$13,BX$13,$F29:$J29)>0,ASISTENCIA!#REF!<>\"X\",ASISTENCIA!#REF!<>\"L\",ASISTENCIA!#REF!<>\"J\",ASISTENCIA!#REF!<>\"F\"),SUMIF($F$13:$J$13,BX$13,$F29:$J29),\"\")","v":{"$error":"#REF!"}},{"$f":"IF(AND(LEN($D29)>0,SUMIF($F$13:$J$13,BY$13,$F29:$J29)>0,ASISTENCIA!#REF!<>\"X\",ASISTENCIA!#REF!<>\"L\",ASISTENCIA!#REF!<>\"J\",ASISTENCIA!#REF!<>\"F\"),SUMIF($F$13:$J$13,BY$13,$F29:$J29),\"\")","v":{"$error":"#REF!"}},{"$f":"IF(AND(LEN($D29)>0,SUMIF($F$13:$J$13,BZ$13,$F29:$J29)>0,ASISTENCIA!#REF!<>\"X\",ASISTENCIA!#REF!<>\"L\",ASISTENCIA!#REF!<>\"J\",ASISTENCIA!#REF!<>\"F\"),SUMIF($F$13:$J$13,BZ$13,$F29:$J29),\"\")","v":{"$error":"#REF!"}},{"$f":"IF(AND(LEN($D29)>0,SUMIF($F$13:$J$13,CA$13,$F29:$J29)>0,ASISTENCIA!#REF!<>\"X\",ASISTENCIA!#REF!<>\"L\",ASISTENCIA!#REF!<>\"J\",ASISTENCIA!#REF!<>\"F\"),SUMIF($F$13:$J$13,CA$13,$F29:$J29),\"\")","v":{"$error":"#REF!"}},{"$f":"IF(AND(LEN($D29)>0,SUMIF($F$13:$J$13,CB$13,$F29:$J29)>0,ASISTENCIA!#REF!<>\"X\",ASISTENCIA!#REF!<>\"L\",ASISTENCIA!#REF!<>\"J\",ASISTENCIA!#REF!<>\"F\"),SUMIF($F$13:$J$13,CB$13,$F29:$J29),\"\")","v":{"$error":"#REF!"}},{"$error":"#REF!"}]
[{"$error":"#REF!"},{"$f":"IF(LEN(C30)>0,VLOOKUP($O$4,DATA!$A$1:$S$1,2,FALSE),\"\")","v":{"$error":"#REF!"}},{"$error":"#REF!"},{"$f":"IF(LEN(ASISTENCIA!#REF!)>0,ASISTENCIA!#REF!,\"\")","v":{"$error":"#REF!"}},{"$f":"IF(LEN(D30)>0,ASISTENCIA!#REF!,\"\")","v":{"$error":"#REF!"}},null,null,null,null,null,"",null,null,{"$error":"#REF!"},{"$f":"IF(AND(LEN($D30)>0,SUMIF($F$13:$J$13,O$13,$F30:$J30)>0,ASISTENCIA!#REF!<>\"X\",ASISTENCIA!#REF!<>\"L\",ASISTENCIA!#REF!<>\"J\",ASISTENCIA!#REF!<>\"V\",ASISTENCIA!#REF!<>\"F\",ASISTENCIA!#REF!<>\"\"),SUMIF($F$13:$J$13,O$13,$F30:$J30),\"\")","v":{"$error":"#REF!"}},{"$f":"IF(AND(LEN($D30)>0,SUMIF($F$13:$J$13,P$13,$F30:$J30)>0,ASISTENCIA!#REF!<>\"X\",ASISTENCIA!#REF!<>\"L\",ASISTENCIA!#REF!<>\"J\",ASISTENCIA!#REF!<>\"V\",ASISTENCIA!#REF!<>\"F\",ASISTENCIA!#REF!<>\"\"),SUMIF($F$13:$J$13,P$13,$F30:$J30),\"\")","v":{"$error":"#REF!"}},{"$f":"IF(AND(LEN($D30)>0,SUMIF($F$13:$J$13,Q$13,$F30:$J30)>0,ASISTENCIA!#REF!<>\"X\",ASISTENCIA!#REF!<>\"L\",ASISTENCIA!#REF!<>\"J\",ASISTENCIA!#REF!<>\"V\",ASISTENCIA!#REF!<>\"F\",ASISTENCIA!#REF!<>\"\"),SUMIF($F$13:$J$13,Q$13,$F30:$J30),\"\")","v":{"$error":"#REF!"}},{"$f":"IF(AND(LEN($D30)>0,SUMIF($F$13:$J$13,R$13,$F30:$J30)>0,ASISTENCIA!#REF!<>\"X\",ASISTENCIA!#REF!<>\"L\",ASISTENCIA!#REF!<>\"J\",ASISTENCIA!#REF!<>\"V\",ASISTENCIA!#REF!<>\"F\",ASISTENCIA!#REF!<>\"\"),SUMIF($F$13:$J$13,R$13,$F30:$J30),\"\")","v":{"$error":"#REF!"}},{"$f":"IF(AND(LEN($D30)>0,SUMIF($F$13:$J$13,S$13,$F30:$J30)>0,ASISTENCIA!#REF!<>\"X\",ASISTENCIA!#REF!<>\"L\",ASISTENCIA!#REF!<>\"J\",ASISTENCIA!#REF!<>\"V\",ASISTENCIA!#REF!<>\"F\",ASISTENCIA!#REF!<>\"\"),SUMIF($F$13:$J$13,S$13,$F30:$J30),\"\")","v":{"$error":"#REF!"}},{"$f":"IF(AND(LEN($D30)>0,SUMIF($F$13:$J$13,T$13,$F30:$J30)>0,ASISTENCIA!#REF!<>\"X\",ASISTENCIA!#REF!<>\"L\",ASISTENCIA!#REF!<>\"J\",ASISTENCIA!#REF!<>\"V\",ASISTENCIA!#REF!<>\"F\",ASISTENCIA!#REF!<>\"\"),SUMIF($F$13:$J$13,T$13,$F30:$J30),\"\")","v":{"$error":"#REF!"}},{"$f":"IF(AND(LEN($D30)>0,SUMIF($F$13:$J$13,U$13,$F30:$J30)>0,ASISTENCIA!#REF!<>\"X\",ASISTENCIA!#REF!<>\"L\",ASISTENCIA!#REF!<>\"J\",ASISTENCIA!#REF!<>\"V\",ASISTENCIA!#REF!<>\"F\",ASISTENCIA!#REF!<>\"\"),SUMIF($F$13:$J$13,U$13,$F30:$J30),\"\")","v":{"$error":"#REF!"}},{"$f":"IF(AND(LEN($D30)>0,SUMIF($F$13:$J$13,V$13,$F30:$J30)>0,ASISTENCIA!#REF!<>\"X\",ASISTENCIA!#REF!<>\"L\",ASISTENCIA!#REF!<>\"J\",ASISTENCIA!#REF!<>\"V\",ASISTENCIA!#REF!<>\"F\",ASISTENCIA!#REF!<>\"\"),SUMIF($F$13:$J$13,V$13,$F30:$J30),\"\")","v":{"$error":"#REF!"}},{"$f":"IF(AND(LEN($D30)>0,SUMIF($F$13:$J$13,W$13,$F30:$J30)>0,ASISTENCIA!#REF!<>\"X\",ASISTENCIA!#REF!<>\"L\",ASISTENCIA!#REF!<>\"J\",ASISTENCIA!#REF!<>\"V\",ASISTENCIA!#REF!<>\"F\",ASISTENCIA!#REF!<>\"\"),SUMIF($F$13:$J$13,W$13,$F30:$J30),\"\")","v":{"$error":"#REF!"}},{"$f":"IF(AND(LEN($D30)>0,SUMIF($F$13:$J$13,X$13,$F30:$J30)>0,ASISTENCIA!#REF!<>\"X\",ASISTENCIA!#REF!<>\"L\",ASISTENCIA!#REF!<>\"J\",ASISTENCIA!#REF!<>\"V\",ASISTENCIA!#REF!<>\"F\",ASISTENCIA!#REF!<>\"\"),SUMIF($F$13:$J$13,X$13,$F30:$J30),\"\")","v":{"$error":"#REF!"}},{"$f":"IF(AND(LEN($D30)>0,SUMIF($F$13:$J$13,Y$13,$F30:$J30)>0,ASISTENCIA!#REF!<>\"X\",ASISTENCIA!#REF!<>\"L\",ASISTENCIA!#REF!<>\"J\",ASISTENCIA!#REF!<>\"V\",ASISTENCIA!#REF!<>\"F\",ASISTENCIA!#REF!<>\"\"),SUMIF($F$13:$J$13,Y$13,$F30:$J30),\"\")","v":{"$error":"#REF!"}},{"$f":"IF(AND(LEN($D30)>0,SUMIF($F$13:$J$13,Z$13,$F30:$J30)>0,ASISTENCIA!#REF!<>\"X\",ASISTENCIA!#REF!<>\"L\",ASISTENCIA!#REF!<>\"J\",ASISTENCIA!#REF!<>\"V\",ASISTENCIA!#REF!<>\"F\",ASISTENCIA!#REF!<>\"\"),SUMIF($F$13:$J$13,Z$13,$F30:$J30),\"\")","v":{"$error":"#REF!"}},{"$f":"IF(AND(LEN($D30)>0,SUMIF($F$13:$J$13,AA$13,$F30:$J30)>0,ASISTENCIA!#REF!<>\"X\",ASISTENCIA!#REF!<>\"L\",ASISTENCIA!#REF!<>\"J\",ASISTENCIA!#REF!<>\"V\",ASISTENCIA!#REF!<>\"F\",ASISTENCIA!#REF!<>\"\"),SUMIF($F$13:$J$13,AA$13,$F30:$J30),\"\")","v":{"$error":"#REF!"}},{"$f":"IF(AND(LEN($D30)>0,SUMIF($F$13:$J$13,AB$13,$F30:$J30)>0,ASISTENCIA!#REF!<>\"X\",ASISTENCIA!#REF!<>\"L\",ASISTENCIA!#REF!<>\"J\",ASISTENCIA!#REF!<>\"V\",ASISTENCIA!#REF!<>\"F\",ASISTENCIA!#REF!<>\"\"),SUMIF($F$13:$J$13,AB$13,$F30:$J30),\"\")","v":{"$error":"#REF!"}},{"$f":"IF(AND(LEN($D30)>0,SUMIF($F$13:$J$13,AC$13,$F30:$J30)>0,ASISTENCIA!#REF!<>\"X\",ASISTENCIA!#REF!<>\"L\",ASISTENCIA!#REF!<>\"J\",ASISTENCIA!#REF!<>\"V\",ASISTENCIA!#REF!<>\"F\",ASISTENCIA!#REF!<>\"\"),SUMIF($F$13:$J$13,AC$13,$F30:$J30),\"\")","v":{"$error":"#REF!"}},{"$f":"IF(AND(LEN($D30)>0,SUMIF($F$13:$J$13,AD$13,$F30:$J30)>0,ASISTENCIA!#REF!<>\"X\",ASISTENCIA!#REF!<>\"L\",ASISTENCIA!#REF!<>\"J\",ASISTENCIA!#REF!<>\"V\",ASISTENCIA!#REF!<>\"F\",ASISTENCIA!#REF!<>\"\"),SUMIF($F$13:$J$13,AD$13,$F30:$J30),\"\")","v":{"$error":"#REF!"}},{"$f":"IF(AND(LEN($D30)>0,SUMIF($F$13:$J$13,AE$13,$F30:$J30)>0,ASISTENCIA!#REF!<>\"X\",ASISTENCIA!#REF!<>\"L\",ASISTENCIA!#REF!<>\"J\",ASISTENCIA!#REF!<>\"V\",ASISTENCIA!#REF!<>\"F\",ASISTENCIA!#REF!<>\"\"),SUMIF($F$13:$J$13,AE$13,$F30:$J30),\"\")","v":{"$error":"#REF!"}},{"$f":"IF(AND(LEN($D30)>0,SUMIF($F$13:$J$13,AF$13,$F30:$J30)>0,ASISTENCIA!#REF!<>\"X\",ASISTENCIA!#REF!<>\"L\",ASISTENCIA!#REF!<>\"J\",ASISTENCIA!#REF!<>\"V\",ASISTENCIA!#REF!<>\"F\",ASISTENCIA!#REF!<>\"\"),SUMIF($F$13:$J$13,AF$13,$F30:$J30),\"\")","v":{"$error":"#REF!"}},{"$f":"IF(AND(LEN($D30)>0,SUMIF($F$13:$J$13,AG$13,$F30:$J30)>0,ASISTENCIA!#REF!<>\"X\",ASISTENCIA!#REF!<>\"L\",ASISTENCIA!#REF!<>\"J\",ASISTENCIA!#REF!<>\"V\",ASISTENCIA!#REF!<>\"F\",ASISTENCIA!#REF!<>\"\"),SUMIF($F$13:$J$13,AG$13,$F30:$J30),\"\")","v":{"$error":"#REF!"}},{"$f":"IF(AND(LEN($D30)>0,SUMIF($F$13:$J$13,AH$13,$F30:$J30)>0,ASISTENCIA!#REF!<>\"X\",ASISTENCIA!#REF!<>\"L\",ASISTENCIA!#REF!<>\"J\",ASISTENCIA!#REF!<>\"V\",ASISTENCIA!#REF!<>\"F\",ASISTENCIA!#REF!<>\"\"),SUMIF($F$13:$J$13,AH$13,$F30:$J30),\"\")","v":{"$error":"#REF!"}},{"$f":"IF(AND(LEN($D30)>0,SUMIF($F$13:$J$13,AI$13,$F30:$J30)>0,ASISTENCIA!#REF!<>\"X\",ASISTENCIA!#REF!<>\"L\",ASISTENCIA!#REF!<>\"J\",ASISTENCIA!#REF!<>\"V\",ASISTENCIA!#REF!<>\"F\",ASISTENCIA!#REF!<>\"\"),SUMIF($F$13:$J$13,AI$13,$F30:$J30),\"\")","v":{"$error":"#REF!"}},{"$f":"IF(AND(LEN($D30)>0,SUMIF($F$13:$J$13,AJ$13,$F30:$J30)>0,ASISTENCIA!#REF!<>\"X\",ASISTENCIA!#REF!<>\"L\",ASISTENCIA!#REF!<>\"J\",ASISTENCIA!#REF!<>\"V\",ASISTENCIA!#REF!<>\"F\",ASISTENCIA!#REF!<>\"\"),SUMIF($F$13:$J$13,AJ$13,$F30:$J30),\"\")","v":{"$error":"#REF!"}},{"$f":"IF(AND(LEN($D30)>0,SUMIF($F$13:$J$13,AK$13,$F30:$J30)>0,ASISTENCIA!#REF!<>\"X\",ASISTENCIA!#REF!<>\"L\",ASISTENCIA!#REF!<>\"J\",ASISTENCIA!#REF!<>\"V\",ASISTENCIA!#REF!<>\"F\",ASISTENCIA!#REF!<>\"\"),SUMIF($F$13:$J$13,AK$13,$F30:$J30),\"\")","v":{"$error":"#REF!"}},{"$f":"IF(AND(LEN($D30)>0,SUMIF($F$13:$J$13,AL$13,$F30:$J30)>0,ASISTENCIA!#REF!<>\"X\",ASISTENCIA!#REF!<>\"L\",ASISTENCIA!#REF!<>\"J\",ASISTENCIA!#REF!<>\"V\",ASISTENCIA!#REF!<>\"F\",ASISTENCIA!#REF!<>\"\"),SUMIF($F$13:$J$13,AL$13,$F30:$J30),\"\")","v":{"$error":"#REF!"}},{"$f":"IF(AND(LEN($D30)>0,SUMIF($F$13:$J$13,AM$13,$F30:$J30)>0,ASISTENCIA!#REF!<>\"X\",ASISTENCIA!#REF!<>\"L\",ASISTENCIA!#REF!<>\"J\",ASISTENCIA!#REF!<>\"V\",ASISTENCIA!#REF!<>\"F\",ASISTENCIA!#REF!<>\"\"),SUMIF($F$13:$J$13,AM$13,$F30:$J30),\"\")","v":{"$error":"#REF!"}},{"$f":"IF(AND(LEN($D30)>0,SUMIF($F$13:$J$13,AN$13,$F30:$J30)>0,ASISTENCIA!#REF!<>\"X\",ASISTENCIA!#REF!<>\"L\",ASISTENCIA!#REF!<>\"J\",ASISTENCIA!#REF!<>\"V\",ASISTENCIA!#REF!<>\"F\",ASISTENCIA!#REF!<>\"\"),SUMIF($F$13:$J$13,AN$13,$F30:$J30),\"\")","v":{"$error":"#REF!"}},{"$f":"IF(AND(LEN($D30)>0,SUMIF($F$13:$J$13,AO$13,$F30:$J30)>0,ASISTENCIA!#REF!<>\"X\",ASISTENCIA!#REF!<>\"L\",ASISTENCIA!#REF!<>\"J\",ASISTENCIA!#REF!<>\"V\",ASISTENCIA!#REF!<>\"F\",ASISTENCIA!#REF!<>\"\"),SUMIF($F$13:$J$13,AO$13,$F30:$J30),\"\")","v":{"$error":"#REF!"}},{"$f":"IF(AND(LEN($D30)>0,SUMIF($F$13:$J$13,AP$13,$F30:$J30)>0,ASISTENCIA!#REF!<>\"X\",ASISTENCIA!#REF!<>\"L\",ASISTENCIA!#REF!<>\"J\",ASISTENCIA!#REF!<>\"V\",ASISTENCIA!#REF!<>\"F\",ASISTENCIA!#REF!<>\"\"),SUMIF($F$13:$J$13,AP$13,$F30:$J30),\"\")","v":{"$error":"#REF!"}},{"$f":"IF(AND(LEN($D30)>0,SUMIF($F$13:$J$13,AQ$13,$F30:$J30)>0,ASISTENCIA!#REF!<>\"X\",ASISTENCIA!#REF!<>\"L\",ASISTENCIA!#REF!<>\"J\",ASISTENCIA!#REF!<>\"V\",ASISTENCIA!#REF!<>\"F\",ASISTENCIA!#REF!<>\"\"),SUMIF($F$13:$J$13,AQ$13,$F30:$J30),\"\")","v":{"$error":"#REF!"}},{"$f":"IF(AND(LEN($D30)>0,SUMIF($F$13:$J$13,AR$13,$F30:$J30)>0,ASISTENCIA!#REF!<>\"X\",ASISTENCIA!#REF!<>\"L\",ASISTENCIA!#REF!<>\"J\",ASISTENCIA!#REF!<>\"V\",ASISTENCIA!#REF!<>\"F\",ASISTENCIA!#REF!<>\"\"),SUMIF($F$13:$J$13,AR$13,$F30:$J30),\"\")","v":{"$error":"#REF!"}},{"$f":"IF(AND(LEN($D30)>0,SUMIF($F$13:$J$13,AS$13,$F30:$J30)>0,ASISTENCIA!#REF!<>\"X\",ASISTENCIA!#REF!<>\"L\",ASISTENCIA!#REF!<>\"J\",ASISTENCIA!#REF!<>\"V\",ASISTENCIA!#REF!<>\"F\",ASISTENCIA!#REF!<>\"\"),SUMIF($F$13:$J$13,AS$13,$F30:$J30),\"\")","v":{"$error":"#REF!"}},{"$error":"#REF!"},null,null,null,{"$f":"IF(AND(LEN($D30)>0,SUMIF($F$13:$J$13,AX$13,$F30:$J30)>0,ASISTENCIA!#REF!<>\"X\",ASISTENCIA!#REF!<>\"L\",ASISTENCIA!#REF!<>\"J\",ASISTENCIA!#REF!<>\"F\"),SUMIF($F$13:$J$13,AX$13,$F30:$J30),\"\")","v":{"$error":"#REF!"}},{"$f":"IF(AND(LEN($D30)>0,SUMIF($F$13:$J$13,AY$13,$F30:$J30)>0,ASISTENCIA!#REF!<>\"X\",ASISTENCIA!#REF!<>\"L\",ASISTENCIA!#REF!<>\"J\",ASISTENCIA!#REF!<>\"F\"),SUMIF($F$13:$J$13,AY$13,$F30:$J30),\"\")","v":{"$error":"#REF!"}},{"$f":"IF(AND(LEN($D30)>0,SUMIF($F$13:$J$13,AZ$13,$F30:$J30)>0,ASISTENCIA!#REF!<>\"X\",ASISTENCIA!#REF!<>\"L\",ASISTENCIA!#REF!<>\"J\",ASISTENCIA!#REF!<>\"F\"),SUMIF($F$13:$J$13,AZ$13,$F30:$J30),\"\")","v":{"$error":"#REF!"}},{"$f":"IF(AND(LEN($D30)>0,SUMIF($F$13:$J$13,BA$13,$F30:$J30)>0,ASISTENCIA!#REF!<>\"X\",ASISTENCIA!#REF!<>\"L\",ASISTENCIA!#REF!<>\"J\",ASISTENCIA!#REF!<>\"F\"),SUMIF($F$13:$J$13,BA$13,$F30:$J30),\"\")","v":{"$error":"#REF!"}},{"$f":"IF(AND(LEN($D30)>0,SUMIF($F$13:$J$13,BB$13,$F30:$J30)>0,ASISTENCIA!#REF!<>\"X\",ASISTENCIA!#REF!<>\"L\",ASISTENCIA!#REF!<>\"J\",ASISTENCIA!#REF!<>\"F\"),SUMIF($F$13:$J$13,BB$13,$F30:$J30),\"\")","v":{"$error":"#REF!"}},{"$f":"IF(AND(LEN($D30)>0,SUMIF($F$13:$J$13,BC$13,$F30:$J30)>0,ASISTENCIA!#REF!<>\"X\",ASISTENCIA!#REF!<>\"L\",ASISTENCIA!#REF!<>\"J\",ASISTENCIA!#REF!<>\"F\"),SUMIF($F$13:$J$13,BC$13,$F30:$J30),\"\")","v":{"$error":"#REF!"}},{"$f":"IF(AND(LEN($D30)>0,SUMIF($F$13:$J$13,BD$13,$F30:$J30)>0,ASISTENCIA!#REF!<>\"X\",ASISTENCIA!#REF!<>\"L\",ASISTENCIA!#REF!<>\"J\",ASISTENCIA!#REF!<>\"F\"),SUMIF($F$13:$J$13,BD$13,$F30:$J30),\"\")","v":{"$error":"#REF!"}},{"$f":"IF(AND(LEN($D30)>0,SUMIF($F$13:$J$13,BE$13,$F30:$J30)>0,ASISTENCIA!#REF!<>\"X\",ASISTENCIA!#REF!<>\"L\",ASISTENCIA!#REF!<>\"J\",ASISTENCIA!#REF!<>\"F\"),SUMIF($F$13:$J$13,BE$13,$F30:$J30),\"\")","v":{"$error":"#REF!"}},{"$f":"IF(AND(LEN($D30)>0,SUMIF($F$13:$J$13,BF$13,$F30:$J30)>0,ASISTENCIA!#REF!<>\"X\",ASISTENCIA!#REF!<>\"L\",ASISTENCIA!#REF!<>\"J\",ASISTENCIA!#REF!<>\"F\"),SUMIF($F$13:$J$13,BF$13,$F30:$J30),\"\")","v":{"$error":"#REF!"}},{"$f":"IF(AND(LEN($D30)>0,SUMIF($F$13:$J$13,BG$13,$F30:$J30)>0,ASISTENCIA!#REF!<>\"X\",ASISTENCIA!#REF!<>\"L\",ASISTENCIA!#REF!<>\"J\",ASISTENCIA!#REF!<>\"F\"),SUMIF($F$13:$J$13,BG$13,$F30:$J30),\"\")","v":{"$error":"#REF!"}},{"$f":"IF(AND(LEN($D30)>0,SUMIF($F$13:$J$13,BH$13,$F30:$J30)>0,ASISTENCIA!#REF!<>\"X\",ASISTENCIA!#REF!<>\"L\",ASISTENCIA!#REF!<>\"J\",ASISTENCIA!#REF!<>\"F\"),SUMIF($F$13:$J$13,BH$13,$F30:$J30),\"\")","v":{"$error":"#REF!"}},{"$f":"IF(AND(LEN($D30)>0,SUMIF($F$13:$J$13,BI$13,$F30:$J30)>0,ASISTENCIA!#REF!<>\"X\",ASISTENCIA!#REF!<>\"L\",ASISTENCIA!#REF!<>\"J\",ASISTENCIA!#REF!<>\"F\"),SUMIF($F$13:$J$13,BI$13,$F30:$J30),\"\")","v":{"$error":"#REF!"}},{"$f":"IF(AND(LEN($D30)>0,SUMIF($F$13:$J$13,BJ$13,$F30:$J30)>0,ASISTENCIA!#REF!<>\"X\",ASISTENCIA!#REF!<>\"L\",ASISTENCIA!#REF!<>\"J\",ASISTENCIA!#REF!<>\"F\"),SUMIF($F$13:$J$13,BJ$13,$F30:$J30),\"\")","v":{"$error":"#REF!"}},{"$f":"IF(AND(LEN($D30)>0,SUMIF($F$13:$J$13,BK$13,$F30:$J30)>0,ASISTENCIA!#REF!<>\"X\",ASISTENCIA!#REF!<>\"L\",ASISTENCIA!#REF!<>\"J\",ASISTENCIA!#REF!<>\"F\"),SUMIF($F$13:$J$13,BK$13,$F30:$J30),\"\")","v":{"$error":"#REF!"}},{"$f":"IF(AND(LEN($D30)>0,SUMIF($F$13:$J$13,BL$13,$F30:$J30)>0,ASISTENCIA!#REF!<>\"X\",ASISTENCIA!#REF!<>\"L\",ASISTENCIA!#REF!<>\"J\",ASISTENCIA!#REF!<>\"F\"),SUMIF($F$13:$J$13,BL$13,$F30:$J30),\"\")","v":{"$error":"#REF!"}},{"$f":"IF(AND(LEN($D30)>0,SUMIF($F$13:$J$13,BM$13,$F30:$J30)>0,ASISTENCIA!#REF!<>\"X\",ASISTENCIA!#REF!<>\"L\",ASISTENCIA!#REF!<>\"J\",ASISTENCIA!#REF!<>\"F\"),SUMIF($F$13:$J$13,BM$13,$F30:$J30),\"\")","v":{"$error":"#REF!"}},{"$f":"IF(AND(LEN($D30)>0,SUMIF($F$13:$J$13,BN$13,$F30:$J30)>0,ASISTENCIA!#REF!<>\"X\",ASISTENCIA!#REF!<>\"L\",ASISTENCIA!#REF!<>\"J\",ASISTENCIA!#REF!<>\"F\"),SUMIF($F$13:$J$13,BN$13,$F30:$J30),\"\")","v":{"$error":"#REF!"}},{"$f":"IF(AND(LEN($D30)>0,SUMIF($F$13:$J$13,BO$13,$F30:$J30)>0,ASISTENCIA!#REF!<>\"X\",ASISTENCIA!#REF!<>\"L\",ASISTENCIA!#REF!<>\"J\",ASISTENCIA!#REF!<>\"F\"),SUMIF($F$13:$J$13,BO$13,$F30:$J30),\"\")","v":{"$error":"#REF!"}},{"$f":"IF(AND(LEN($D30)>0,SUMIF($F$13:$J$13,BP$13,$F30:$J30)>0,ASISTENCIA!#REF!<>\"X\",ASISTENCIA!#REF!<>\"L\",ASISTENCIA!#REF!<>\"J\",ASISTENCIA!#REF!<>\"F\"),SUMIF($F$13:$J$13,BP$13,$F30:$J30),\"\")","v":{"$error":"#REF!"}},{"$f":"IF(AND(LEN($D30)>0,SUMIF($F$13:$J$13,BQ$13,$F30:$J30)>0,ASISTENCIA!#REF!<>\"X\",ASISTENCIA!#REF!<>\"L\",ASISTENCIA!#REF!<>\"J\",ASISTENCIA!#REF!<>\"F\"),SUMIF($F$13:$J$13,BQ$13,$F30:$J30),\"\")","v":{"$error":"#REF!"}},{"$f":"IF(AND(LEN($D30)>0,SUMIF($F$13:$J$13,BR$13,$F30:$J30)>0,ASISTENCIA!#REF!<>\"X\",ASISTENCIA!#REF!<>\"L\",ASISTENCIA!#REF!<>\"J\",ASISTENCIA!#REF!<>\"F\"),SUMIF($F$13:$J$13,BR$13,$F30:$J30),\"\")","v":{"$error":"#REF!"}},{"$f":"IF(AND(LEN($D30)>0,SUMIF($F$13:$J$13,BS$13,$F30:$J30)>0,ASISTENCIA!#REF!<>\"X\",ASISTENCIA!#REF!<>\"L\",ASISTENCIA!#REF!<>\"J\",ASISTENCIA!#REF!<>\"F\"),SUMIF($F$13:$J$13,BS$13,$F30:$J30),\"\")","v":{"$error":"#REF!"}},{"$f":"IF(AND(LEN($D30)>0,SUMIF($F$13:$J$13,BT$13,$F30:$J30)>0,ASISTENCIA!#REF!<>\"X\",ASISTENCIA!#REF!<>\"L\",ASISTENCIA!#REF!<>\"J\",ASISTENCIA!#REF!<>\"F\"),SUMIF($F$13:$J$13,BT$13,$F30:$J30),\"\")","v":{"$error":"#REF!"}},{"$f":"IF(AND(LEN($D30)>0,SUMIF($F$13:$J$13,BU$13,$F30:$J30)>0,ASISTENCIA!#REF!<>\"X\",ASISTENCIA!#REF!<>\"L\",ASISTENCIA!#REF!<>\"J\",ASISTENCIA!#REF!<>\"F\"),SUMIF($F$13:$J$13,BU$13,$F30:$J30),\"\")","v":{"$error":"#REF!"}},{"$f":"IF(AND(LEN($D30)>0,SUMIF($F$13:$J$13,BV$13,$F30:$J30)>0,ASISTENCIA!#REF!<>\"X\",ASISTENCIA!#REF!<>\"L\",ASISTENCIA!#REF!<>\"J\",ASISTENCIA!#REF!<>\"F\"),SUMIF($F$13:$J$13,BV$13,$F30:$J30),\"\")","v":{"$error":"#REF!"}},{"$f":"IF(AND(LEN($D30)>0,SUMIF($F$13:$J$13,BW$13,$F30:$J30)>0,ASISTENCIA!#REF!<>\"X\",ASISTENCIA!#REF!<>\"L\",ASISTENCIA!#REF!<>\"J\",ASISTENCIA!#REF!<>\"F\"),SUMIF($F$13:$J$13,BW$13,$F30:$J30),\"\")","v":{"$error":"#REF!"}},{"$f":"IF(AND(LEN($D30)>0,SUMIF($F$13:$J$13,BX$13,$F30:$J30)>0,ASISTENCIA!#REF!<>\"X\",ASISTENCIA!#REF!<>\"L\",ASISTENCIA!#REF!<>\"J\",ASISTENCIA!#REF!<>\"F\"),SUMIF($F$13:$J$13,BX$13,$F30:$J30),\"\")","v":{"$error":"#REF!"}},{"$f":"IF(AND(LEN($D30)>0,SUMIF($F$13:$J$13,BY$13,$F30:$J30)>0,ASISTENCIA!#REF!<>\"X\",ASISTENCIA!#REF!<>\"L\",ASISTENCIA!#REF!<>\"J\",ASISTENCIA!#REF!<>\"F\"),SUMIF($F$13:$J$13,BY$13,$F30:$J30),\"\")","v":{"$error":"#REF!"}},{"$f":"IF(AND(LEN($D30)>0,SUMIF($F$13:$J$13,BZ$13,$F30:$J30)>0,ASISTENCIA!#REF!<>\"X\",ASISTENCIA!#REF!<>\"L\",ASISTENCIA!#REF!<>\"J\",ASISTENCIA!#REF!<>\"F\"),SUMIF($F$13:$J$13,BZ$13,$F30:$J30),\"\")","v":{"$error":"#REF!"}},{"$f":"IF(AND(LEN($D30)>0,SUMIF($F$13:$J$13,CA$13,$F30:$J30)>0,ASISTENCIA!#REF!<>\"X\",ASISTENCIA!#REF!<>\"L\",ASISTENCIA!#REF!<>\"J\",ASISTENCIA!#REF!<>\"F\"),SUMIF($F$13:$J$13,CA$13,$F30:$J30),\"\")","v":{"$error":"#REF!"}},{"$f":"IF(AND(LEN($D30)>0,SUMIF($F$13:$J$13,CB$13,$F30:$J30)>0,ASISTENCIA!#REF!<>\"X\",ASISTENCIA!#REF!<>\"L\",ASISTENCIA!#REF!<>\"J\",ASISTENCIA!#REF!<>\"F\"),SUMIF($F$13:$J$13,CB$13,$F30:$J30),\"\")","v":{"$error":"#REF!"}},{"$error":"#REF!"}]
[{"$error":"#REF!"},{"$f":"IF(LEN(C31)>0,VLOOKUP($O$4,DATA!$A$1:$S$1,2,FALSE),\"\")","v":{"$error":"#REF!"}},{"$error":"#REF!"},{"$f":"IF(LEN(ASISTENCIA!#REF!)>0,ASISTENCIA!#REF!,\"\")","v":{"$error":"#REF!"}},{"$f":"IF(LEN(D31)>0,ASISTENCIA!#REF!,\"\")","v":{"$error":"#REF!"}},null,null,null,null,null,"",null,null,{"$error":"#REF!"},{"$f":"IF(AND(LEN($D31)>0,SUMIF($F$13:$J$13,O$13,$F31:$J31)>0,ASISTENCIA!#REF!<>\"X\",ASISTENCIA!#REF!<>\"L\",ASISTENCIA!#REF!<>\"J\",ASISTENCIA!#REF!<>\"V\",ASISTENCIA!#REF!<>\"F\",ASISTENCIA!#REF!<>\"\"),SUMIF($F$13:$J$13,O$13,$F31:$J31),\"\")","v":{"$error":"#REF!"}},{"$f":"IF(AND(LEN($D31)>0,SUMIF($F$13:$J$13,P$13,$F31:$J31)>0,ASISTENCIA!#REF!<>\"X\",ASISTENCIA!#REF!<>\"L\",ASISTENCIA!#REF!<>\"J\",ASISTENCIA!#REF!<>\"V\",ASISTENCIA!#REF!<>\"F\",ASISTENCIA!#REF!<>\"\"),SUMIF($F$13:$J$13,P$13,$F31:$J31),\"\")","v":{"$error":"#REF!"}},{"$f":"IF(AND(LEN($D31)>0,SUMIF($F$13:$J$13,Q$13,$F31:$J31)>0,ASISTENCIA!#REF!<>\"X\",ASISTENCIA!#REF!<>\"L\",ASISTENCIA!#REF!<>\"J\",ASISTENCIA!#REF!<>\"V\",ASISTENCIA!#REF!<>\"F\",ASISTENCIA!#REF!<>\"\"),SUMIF($F$13:$J$13,Q$13,$F31:$J31),\"\")","v":{"$error":"#REF!"}},{"$f":"IF(AND(LEN($D31)>0,SUMIF($F$13:$J$13,R$13,$F31:$J31)>0,ASISTENCIA!#REF!<>\"X\",ASISTENCIA!#REF!<>\"L\",ASISTENCIA!#REF!<>\"J\",ASISTENCIA!#REF!<>\"V\",ASISTENCIA!#REF!<>\"F\",ASISTENCIA!#REF!<>\"\"),SUMIF($F$13:$J$13,R$13,$F31:$J31),\"\")","v":{"$error":"#REF!"}},{"$f":"IF(AND(LEN($D31)>0,SUMIF($F$13:$J$13,S$13,$F31:$J31)>0,ASISTENCIA!#REF!<>\"X\",ASISTENCIA!#REF!<>\"L\",ASISTENCIA!#REF!<>\"J\",ASISTENCIA!#REF!<>\"V\",ASISTENCIA!#REF!<>\"F\",ASISTENCIA!#REF!<>\"\"),SUMIF($F$13:$J$13,S$13,$F31:$J31),\"\")","v":{"$error":"#REF!"}},{"$f":"IF(AND(LEN($D31)>0,SUMIF($F$13:$J$13,T$13,$F31:$J31)>0,ASISTENCIA!#REF!<>\"X\",ASISTENCIA!#REF!<>\"L\",ASISTENCIA!#REF!<>\"J\",ASISTENCIA!#REF!<>\"V\",ASISTENCIA!#REF!<>\"F\",ASISTENCIA!#REF!<>\"\"),SUMIF($F$13:$J$13,T$13,$F31:$J31),\"\")","v":{"$error":"#REF!"}},{"$f":"IF(AND(LEN($D31)>0,SUMIF($F$13:$J$13,U$13,$F31:$J31)>0,ASISTENCIA!#REF!<>\"X\",ASISTENCIA!#REF!<>\"L\",ASISTENCIA!#REF!<>\"J\",ASISTENCIA!#REF!<>\"V\",ASISTENCIA!#REF!<>\"F\",ASISTENCIA!#REF!<>\"\"),SUMIF($F$13:$J$13,U$13,$F31:$J31),\"\")","v":{"$error":"#REF!"}},{"$f":"IF(AND(LEN($D31)>0,SUMIF($F$13:$J$13,V$13,$F31:$J31)>0,ASISTENCIA!#REF!<>\"X\",ASISTENCIA!#REF!<>\"L\",ASISTENCIA!#REF!<>\"J\",ASISTENCIA!#REF!<>\"V\",ASISTENCIA!#REF!<>\"F\",ASISTENCIA!#REF!<>\"\"),SUMIF($F$13:$J$13,V$13,$F31:$J31),\"\")","v":{"$error":"#REF!"}},{"$f":"IF(AND(LEN($D31)>0,SUMIF($F$13:$J$13,W$13,$F31:$J31)>0,ASISTENCIA!#REF!<>\"X\",ASISTENCIA!#REF!<>\"L\",ASISTENCIA!#REF!<>\"J\",ASISTENCIA!#REF!<>\"V\",ASISTENCIA!#REF!<>\"F\",ASISTENCIA!#REF!<>\"\"),SUMIF($F$13:$J$13,W$13,$F31:$J31),\"\")","v":{"$error":"#REF!"}},{"$f":"IF(AND(LEN($D31)>0,SUMIF($F$13:$J$13,X$13,$F31:$J31)>0,ASISTENCIA!#REF!<>\"X\",ASISTENCIA!#REF!<>\"L\",ASISTENCIA!#REF!<>\"J\",ASISTENCIA!#REF!<>\"V\",ASISTENCIA!#REF!<>\"F\",ASISTENCIA!#REF!<>\"\"),SUMIF($F$13:$J$13,X$13,$F31:$J31),\"\")","v":{"$error":"#REF!"}},{"$f":"IF(AND(LEN($D31)>0,SUMIF($F$13:$J$13,Y$13,$F31:$J31)>0,ASISTENCIA!#REF!<>\"X\",ASISTENCIA!#REF!<>\"L\",ASISTENCIA!#REF!<>\"J\",ASISTENCIA!#REF!<>\"V\",ASISTENCIA!#REF!<>\"F\",ASISTENCIA!#REF!<>\"\"),SUMIF($F$13:$J$13,Y$13,$F31:$J31),\"\")","v":{"$error":"#REF!"}},{"$f":"IF(AND(LEN($D31)>0,SUMIF($F$13:$J$13,Z$13,$F31:$J31)>0,ASISTENCIA!#REF!<>\"X\",ASISTENCIA!#REF!<>\"L\",ASISTENCIA!#REF!<>\"J\",ASISTENCIA!#REF!<>\"V\",ASISTENCIA!#REF!<>\"F\",ASISTENCIA!#REF!<>\"\"),SUMIF($F$13:$J$13,Z$13,$F31:$J31),\"\")","v":{"$error":"#REF!"}},{"$f":"IF(AND(LEN($D31)>0,SUMIF($F$13:$J$13,AA$13,$F31:$J31)>0,ASISTENCIA!#REF!<>\"X\",ASISTENCIA!#REF!<>\"L\",ASISTENCIA!#REF!<>\"J\",ASISTENCIA!#REF!<>\"V\",ASISTENCIA!#REF!<>\"F\",ASISTENCIA!#REF!<>\"\"),SUMIF($F$13:$J$13,AA$13,$F31:$J31),\"\")","v":{"$error":"#REF!"}},{"$f":"IF(AND(LEN($D31)>0,SUMIF($F$13:$J$13,AB$13,$F31:$J31)>0,ASISTENCIA!#REF!<>\"X\",ASISTENCIA!#REF!<>\"L\",ASISTENCIA!#REF!<>\"J\",ASISTENCIA!#REF!<>\"V\",ASISTENCIA!#REF!<>\"F\",ASISTENCIA!#REF!<>\"\"),SUMIF($F$13:$J$13,AB$13,$F31:$J31),\"\")","v":{"$error":"#REF!"}},{"$f":"IF(AND(LEN($D31)>0,SUMIF($F$13:$J$13,AC$13,$F31:$J31)>0,ASISTENCIA!#REF!<>\"X\",ASISTENCIA!#REF!<>\"L\",ASISTENCIA!#REF!<>\"J\",ASISTENCIA!#REF!<>\"V\",ASISTENCIA!#REF!<>\"F\",ASISTENCIA!#REF!<>\"\"),SUMIF($F$13:$J$13,AC$13,$F31:$J31),\"\")","v":{"$error":"#REF!"}},{"$f":"IF(AND(LEN($D31)>0,SUMIF($F$13:$J$13,AD$13,$F31:$J31)>0,ASISTENCIA!#REF!<>\"X\",ASISTENCIA!#REF!<>\"L\",ASISTENCIA!#REF!<>\"J\",ASISTENCIA!#REF!<>\"V\",ASISTENCIA!#REF!<>\"F\",ASISTENCIA!#REF!<>\"\"),SUMIF($F$13:$J$13,AD$13,$F31:$J31),\"\")","v":{"$error":"#REF!"}},{"$f":"IF(AND(LEN($D31)>0,SUMIF($F$13:$J$13,AE$13,$F31:$J31)>0,ASISTENCIA!#REF!<>\"X\",ASISTENCIA!#REF!<>\"L\",ASISTENCIA!#REF!<>\"J\",ASISTENCIA!#REF!<>\"V\",ASISTENCIA!#REF!<>\"F\",ASISTENCIA!#REF!<>\"\"),SUMIF($F$13:$J$13,AE$13,$F31:$J31),\"\")","v":{"$error":"#REF!"}},{"$f":"IF(AND(LEN($D31)>0,SUMIF($F$13:$J$13,AF$13,$F31:$J31)>0,ASISTENCIA!#REF!<>\"X\",ASISTENCIA!#REF!<>\"L\",ASISTENCIA!#REF!<>\"J\",ASISTENCIA!#REF!<>\"V\",ASISTENCIA!#REF!<>\"F\",ASISTENCIA!#REF!<>\"\"),SUMIF($F$13:$J$13,AF$13,$F31:$J31),\"\")","v":{"$error":"#REF!"}},{"$f":"IF(AND(LEN($D31)>0,SUMIF($F$13:$J$13,AG$13,$F31:$J31)>0,ASISTENCIA!#REF!<>\"X\",ASISTENCIA!#REF!<>\"L\",ASISTENCIA!#REF!<>\"J\",ASISTENCIA!#REF!<>\"V\",ASISTENCIA!#REF!<>\"F\",ASISTENCIA!#REF!<>\"\"),SUMIF($F$13:$J$13,AG$13,$F31:$J31),\"\")","v":{"$error":"#REF!"}},{"$f":"IF(AND(LEN($D31)>0,SUMIF($F$13:$J$13,AH$13,$F31:$J31)>0,ASISTENCIA!#REF!<>\"X\",ASISTENCIA!#REF!<>\"L\",ASISTENCIA!#REF!<>\"J\",ASISTENCIA!#REF!<>\"V\",ASISTENCIA!#REF!<>\"F\",ASISTENCIA!#REF!<>\"\"),SUMIF($F$13:$J$13,AH$13,$F31:$J31),\"\")","v":{"$error":"#REF!"}},{"$f":"IF(AND(LEN($D31)>0,SUMIF($F$13:$J$13,AI$13,$F31:$J31)>0,ASISTENCIA!#REF!<>\"X\",ASISTENCIA!#REF!<>\"L\",ASISTENCIA!#REF!<>\"J\",ASISTENCIA!#REF!<>\"V\",ASISTENCIA!#REF!<>\"F\",ASISTENCIA!#REF!<>\"\"),SUMIF($F$13:$J$13,AI$13,$F31:$J31),\"\")","v":{"$error":"#REF!"}},{"$f":"IF(AND(LEN($D31)>0,SUMIF($F$13:$J$13,AJ$13,$F31:$J31)>0,ASISTENCIA!#REF!<>\"X\",ASISTENCIA!#REF!<>\"L\",ASISTENCIA!#REF!<>\"J\",ASISTENCIA!#REF!<>\"V\",ASISTENCIA!#REF!<>\"F\",ASISTENCIA!#REF!<>\"\"),SUMIF($F$13:$J$13,AJ$13,$F31:$J31),\"\")","v":{"$error":"#REF!"}},{"$f":"IF(AND(LEN($D31)>0,SUMIF($F$13:$J$13,AK$13,$F31:$J31)>0,ASISTENCIA!#REF!<>\"X\",ASISTENCIA!#REF!<>\"L\",ASISTENCIA!#REF!<>\"J\",ASISTENCIA!#REF!<>\"V\",ASISTENCIA!#REF!<>\"F\",ASISTENCIA!#REF!<>\"\"),SUMIF($F$13:$J$13,AK$13,$F31:$J31),\"\")","v":{"$error":"#REF!"}},{"$f":"IF(AND(LEN($D31)>0,SUMIF($F$13:$J$13,AL$13,$F31:$J31)>0,ASISTENCIA!#REF!<>\"X\",ASISTENCIA!#REF!<>\"L\",ASISTENCIA!#REF!<>\"J\",ASISTENCIA!#REF!<>\"V\",ASISTENCIA!#REF!<>\"F\",ASISTENCIA!#REF!<>\"\"),SUMIF($F$13:$J$13,AL$13,$F31:$J31),\"\")","v":{"$error":"#REF!"}},{"$f":"IF(AND(LEN($D31)>0,SUMIF($F$13:$J$13,AM$13,$F31:$J31)>0,ASISTENCIA!#REF!<>\"X\",ASISTENCIA!#REF!<>\"L\",ASISTENCIA!#REF!<>\"J\",ASISTENCIA!#REF!<>\"V\",ASISTENCIA!#REF!<>\"F\",ASISTENCIA!#REF!<>\"\"),SUMIF($F$13:$J$13,AM$13,$F31:$J31),\"\")","v":{"$error":"#REF!"}},{"$f":"IF(AND(LEN($D31)>0,SUMIF($F$13:$J$13,AN$13,$F31:$J31)>0,ASISTENCIA!#REF!<>\"X\",ASISTENCIA!#REF!<>\"L\",ASISTENCIA!#REF!<>\"J\",ASISTENCIA!#REF!<>\"V\",ASISTENCIA!#REF!<>\"F\",ASISTENCIA!#REF!<>\"\"),SUMIF($F$13:$J$13,AN$13,$F31:$J31),\"\")","v":{"$error":"#REF!"}},{"$f":"IF(AND(LEN($D31)>0,SUMIF($F$13:$J$13,AO$13,$F31:$J31)>0,ASISTENCIA!#REF!<>\"X\",ASISTENCIA!#REF!<>\"L\",ASISTENCIA!#REF!<>\"J\",ASISTENCIA!#REF!<>\"V\",ASISTENCIA!#REF!<>\"F\",ASISTENCIA!#REF!<>\"\"),SUMIF($F$13:$J$13,AO$13,$F31:$J31),\"\")","v":{"$error":"#REF!"}},{"$f":"IF(AND(LEN($D31)>0,SUMIF($F$13:$J$13,AP$13,$F31:$J31)>0,ASISTENCIA!#REF!<>\"X\",ASISTENCIA!#REF!<>\"L\",ASISTENCIA!#REF!<>\"J\",ASISTENCIA!#REF!<>\"V\",ASISTENCIA!#REF!<>\"F\",ASISTENCIA!#REF!<>\"\"),SUMIF($F$13:$J$13,AP$13,$F31:$J31),\"\")","v":{"$error":"#REF!"}},{"$f":"IF(AND(LEN($D31)>0,SUMIF($F$13:$J$13,AQ$13,$F31:$J31)>0,ASISTENCIA!#REF!<>\"X\",ASISTENCIA!#REF!<>\"L\",ASISTENCIA!#REF!<>\"J\",ASISTENCIA!#REF!<>\"V\",ASISTENCIA!#REF!<>\"F\",ASISTENCIA!#REF!<>\"\"),SUMIF($F$13:$J$13,AQ$13,$F31:$J31),\"\")","v":{"$error":"#REF!"}},{"$f":"IF(AND(LEN($D31)>0,SUMIF($F$13:$J$13,AR$13,$F31:$J31)>0,ASISTENCIA!#REF!<>\"X\",ASISTENCIA!#REF!<>\"L\",ASISTENCIA!#REF!<>\"J\",ASISTENCIA!#REF!<>\"V\",ASISTENCIA!#REF!<>\"F\",ASISTENCIA!#REF!<>\"\"),SUMIF($F$13:$J$13,AR$13,$F31:$J31),\"\")","v":{"$error":"#REF!"}},{"$f":"IF(AND(LEN($D31)>0,SUMIF($F$13:$J$13,AS$13,$F31:$J31)>0,ASISTENCIA!#REF!<>\"X\",ASISTENCIA!#REF!<>\"L\",ASISTENCIA!#REF!<>\"J\",ASISTENCIA!#REF!<>\"V\",ASISTENCIA!#REF!<>\"F\",ASISTENCIA!#REF!<>\"\"),SUMIF($F$13:$J$13,AS$13,$F31:$J31),\"\")","v":{"$error":"#REF!"}},{"$error":"#REF!"},null,null,null,{"$f":"IF(AND(LEN($D31)>0,SUMIF($F$13:$J$13,AX$13,$F31:$J31)>0,ASISTENCIA!#REF!<>\"X\",ASISTENCIA!#REF!<>\"L\",ASISTENCIA!#REF!<>\"J\",ASISTENCIA!#REF!<>\"F\"),SUMIF($F$13:$J$13,AX$13,$F31:$J31),\"\")","v":{"$error":"#REF!"}},{"$f":"IF(AND(LEN($D31)>0,SUMIF($F$13:$J$13,AY$13,$F31:$J31)>0,ASISTENCIA!#REF!<>\"X\",ASISTENCIA!#REF!<>\"L\",ASISTENCIA!#REF!<>\"J\",ASISTENCIA!#REF!<>\"F\"),SUMIF($F$13:$J$13,AY$13,$F31:$J31),\"\")","v":{"$error":"#REF!"}},{"$f":"IF(AND(LEN($D31)>0,SUMIF($F$13:$J$13,AZ$13,$F31:$J31)>0,ASISTENCIA!#REF!<>\"X\",ASISTENCIA!#REF!<>\"L\",ASISTENCIA!#REF!<>\"J\",ASISTENCIA!#REF!<>\"F\"),SUMIF($F$13:$J$13,AZ$13,$F31:$J31),\"\")","v":{"$error":"#REF!"}},{"$f":"IF(AND(LEN($D31)>0,SUMIF($F$13:$J$13,BA$13,$F31:$J31)>0,ASISTENCIA!#REF!<>\"X\",ASISTENCIA!#REF!<>\"L\",ASISTENCIA!#REF!<>\"J\",ASISTENCIA!#REF!<>\"F\"),SUMIF($F$13:$J$13,BA$13,$F31:$J31),\"\")","v":{"$error":"#REF!"}},{"$f":"IF(AND(LEN($D31)>0,SUMIF($F$13:$J$13,BB$13,$F31:$J31)>0,ASISTENCIA!#REF!<>\"X\",ASISTENCIA!#REF!<>\"L\",ASISTENCIA!#REF!<>\"J\",ASISTENCIA!#REF!<>\"F\"),SUMIF($F$13:$J$13,BB$13,$F31:$J31),\"\")","v":{"$error":"#REF!"}},{"$f":"IF(AND(LEN($D31)>0,SUMIF($F$13:$J$13,BC$13,$F31:$J31)>0,ASISTENCIA!#REF!<>\"X\",ASISTENCIA!#REF!<>\"L\",ASISTENCIA!#REF!<>\"J\",ASISTENCIA!#REF!<>\"F\"),SUMIF($F$13:$J$13,BC$13,$F31:$J31),\"\")","v":{"$error":"#REF!"}},{"$f":"IF(AND(LEN($D31)>0,SUMIF($F$13:$J$13,BD$13,$F31:$J31)>0,ASISTENCIA!#REF!<>\"X\",ASISTENCIA!#REF!<>\"L\",ASISTENCIA!#REF!<>\"J\",ASISTENCIA!#REF!<>\"F\"),SUMIF($F$13:$J$13,BD$13,$F31:$J31),\"\")","v":{"$error":"#REF!"}},{"$f":"IF(AND(LEN($D31)>0,SUMIF($F$13:$J$13,BE$13,$F31:$J31)>0,ASISTENCIA!#REF!<>\"X\",ASISTENCIA!#REF!<>\"L\",ASISTENCIA!#REF!<>\"J\",ASISTENCIA!#REF!<>\"F\"),SUMIF($F$13:$J$13,BE$13,$F31:$J31),\"\")","v":{"$error":"#REF!"}},{"$f":"IF(AND(LEN($D31)>0,SUMIF($F$13:$J$13,BF$13,$F31:$J31)>0,ASISTENCIA!#REF!<>\"X\",ASISTENCIA!#REF!<>\"L\",ASISTENCIA!#REF!<>\"J\",ASISTENCIA!#REF!<>\"F\"),SUMIF($F$13:$J$13,BF$13,$F31:$J31),\"\")","v":{"$error":"#REF!"}},{"$f":"IF(AND(LEN($D31)>0,SUMIF($F$13:$J$13,BG$13,$F31:$J31)>0,ASISTENCIA!#REF!<>\"X\",ASISTENCIA!#REF!<>\"L\",ASISTENCIA!#REF!<>\"J\",ASISTENCIA!#REF!<>\"F\"),SUMIF($F$13:$J$13,BG$13,$F31:$J31),\"\")","v":{"$error":"#REF!"}},{"$f":"IF(AND(LEN($D31)>0,SUMIF($F$13:$J$13,BH$13,$F31:$J31)>0,ASISTENCIA!#REF!<>\"X\",ASISTENCIA!#REF!<>\"L\",ASISTENCIA!#REF!<>\"J\",ASISTENCIA!#REF!<>\"F\"),SUMIF($F$13:$J$13,BH$13,$F31:$J31),\"\")","v":{"$error":"#REF!"}},{"$f":"IF(AND(LEN($D31)>0,SUMIF($F$13:$J$13,BI$13,$F31:$J31)>0,ASISTENCIA!#REF!<>\"X\",ASISTENCIA!#REF!<>\"L\",ASISTENCIA!#REF!<>\"J\",ASISTENCIA!#REF!<>\"F\"),SUMIF($F$13:$J$13,BI$13,$F31:$J31),\"\")","v":{"$error":"#REF!"}},{"$f":"IF(AND(LEN($D31)>0,SUMIF($F$13:$J$13,BJ$13,$F31:$J31)>0,ASISTENCIA!#REF!<>\"X\",ASISTENCIA!#REF!<>\"L\",ASISTENCIA!#REF!<>\"J\",ASISTENCIA!#REF!<>\"F\"),SUMIF($F$13:$J$13,BJ$13,$F31:$J31),\"\")","v":{"$error":"#REF!"}},{"$f":"IF(AND(LEN($D31)>0,SUMIF($F$13:$J$13,BK$13,$F31:$J31)>0,ASISTENCIA!#REF!<>\"X\",ASISTENCIA!#REF!<>\"L\",ASISTENCIA!#REF!<>\"J\",ASISTENCIA!#REF!<>\"F\"),SUMIF($F$13:$J$13,BK$13,$F31:$J31),\"\")","v":{"$error":"#REF!"}},{"$f":"IF(AND(LEN($D31)>0,SUMIF($F$13:$J$13,BL$13,$F31:$J31)>0,ASISTENCIA!#REF!<>\"X\",ASISTENCIA!#REF!<>\"L\",ASISTENCIA!#REF!<>\"J\",ASISTENCIA!#REF!<>\"F\"),SUMIF($F$13:$J$13,BL$13,$F31:$J31),\"\")","v":{"$error":"#REF!"}},{"$f":"IF(AND(LEN($D31)>0,SUMIF($F$13:$J$13,BM$13,$F31:$J31)>0,ASISTENCIA!#REF!<>\"X\",ASISTENCIA!#REF!<>\"L\",ASISTENCIA!#REF!<>\"J\",ASISTENCIA!#REF!<>\"F\"),SUMIF($F$13:$J$13,BM$13,$F31:$J31),\"\")","v":{"$error":"#REF!"}},{"$f":"IF(AND(LEN($D31)>0,SUMIF($F$13:$J$13,BN$13,$F31:$J31)>0,ASISTENCIA!#REF!<>\"X\",ASISTENCIA!#REF!<>\"L\",ASISTENCIA!#REF!<>\"J\",ASISTENCIA!#REF!<>\"F\"),SUMIF($F$13:$J$13,BN$13,$F31:$J31),\"\")","v":{"$error":"#REF!"}},{"$f":"IF(AND(LEN($D31)>0,SUMIF($F$13:$J$13,BO$13,$F31:$J31)>0,ASISTENCIA!#REF!<>\"X\",ASISTENCIA!#REF!<>\"L\",ASISTENCIA!#REF!<>\"J\",ASISTENCIA!#REF!<>\"F\"),SUMIF($F$13:$J$13,BO$13,$F31:$J31),\"\")","v":{"$error":"#REF!"}},{"$f":"IF(AND(LEN($D31)>0,SUMIF($F$13:$J$13,BP$13,$F31:$J31)>0,ASISTENCIA!#REF!<>\"X\",ASISTENCIA!#REF!<>\"L\",ASISTENCIA!#REF!<>\"J\",ASISTENCIA!#REF!<>\"F\"),SUMIF($F$13:$J$13,BP$13,$F31:$J31),\"\")","v":{"$error":"#REF!"}},{"$f":"IF(AND(LEN($D31)>0,SUMIF($F$13:$J$13,BQ$13,$F31:$J31)>0,ASISTENCIA!#REF!<>\"X\",ASISTENCIA!#REF!<>\"L\",ASISTENCIA!#REF!<>\"J\",ASISTENCIA!#REF!<>\"F\"),SUMIF($F$13:$J$13,BQ$13,$F31:$J31),\"\")","v":{"$error":"#REF!"}},{"$f":"IF(AND(LEN($D31)>0,SUMIF($F$13:$J$13,BR$13,$F31:$J31)>0,ASISTENCIA!#REF!<>\"X\",ASISTENCIA!#REF!<>\"L\",ASISTENCIA!#REF!<>\"J\",ASISTENCIA!#REF!<>\"F\"),SUMIF($F$13:$J$13,BR$13,$F31:$J31),\"\")","v":{"$error":"#REF!"}},{"$f":"IF(AND(LEN($D31)>0,SUMIF($F$13:$J$13,BS$13,$F31:$J31)>0,ASISTENCIA!#REF!<>\"X\",ASISTENCIA!#REF!<>\"L\",ASISTENCIA!#REF!<>\"J\",ASISTENCIA!#REF!<>\"F\"),SUMIF($F$13:$J$13,BS$13,$F31:$J31),\"\")","v":{"$error":"#REF!"}},{"$f":"IF(AND(LEN($D31)>0,SUMIF($F$13:$J$13,BT$13,$F31:$J31)>0,ASISTENCIA!#REF!<>\"X\",ASISTENCIA!#REF!<>\"L\",ASISTENCIA!#REF!<>\"J\",ASISTENCIA!#REF!<>\"F\"),SUMIF($F$13:$J$13,BT$13,$F31:$J31),\"\")","v":{"$error":"#REF!"}},{"$f":"IF(AND(LEN($D31)>0,SUMIF($F$13:$J$13,BU$13,$F31:$J31)>0,ASISTENCIA!#REF!<>\"X\",ASISTENCIA!#REF!<>\"L\",ASISTENCIA!#REF!<>\"J\",ASISTENCIA!#REF!<>\"F\"),SUMIF($F$13:$J$13,BU$13,$F31:$J31),\"\")","v":{"$error":"#REF!"}},{"$f":"IF(AND(LEN($D31)>0,SUMIF($F$13:$J$13,BV$13,$F31:$J31)>0,ASISTENCIA!#REF!<>\"X\",ASISTENCIA!#REF!<>\"L\",ASISTENCIA!#REF!<>\"J\",ASISTENCIA!#REF!<>\"F\"),SUMIF($F$13:$J$13,BV$13,$F31:$J31),\"\")","v":{"$error":"#REF!"}},{"$f":"IF(AND(LEN($D31)>0,SUMIF($F$13:$J$13,BW$13,$F31:$J31)>0,ASISTENCIA!#REF!<>\"X\",ASISTENCIA!#REF!<>\"L\",ASISTENCIA!#REF!<>\"J\",ASISTENCIA!#REF!<>\"F\"),SUMIF($F$13:$J$13,BW$13,$F31:$J31),\"\")","v":{"$error":"#REF!"}},{"$f":"IF(AND(LEN($D31)>0,SUMIF($F$13:$J$13,BX$13,$F31:$J31)>0,ASISTENCIA!#REF!<>\"X\",ASISTENCIA!#REF!<>\"L\",ASISTENCIA!#REF!<>\"J\",ASISTENCIA!#REF!<>\"F\"),SUMIF($F$13:$J$13,BX$13,$F31:$J31),\"\")","v":{"$error":"#REF!"}},{"$f":"IF(AND(LEN($D31)>0,SUMIF($F$13:$J$13,BY$13,$F31:$J31)>0,ASISTENCIA!#REF!<>\"X\",ASISTENCIA!#REF!<>\"L\",ASISTENCIA!#REF!<>\"J\",ASISTENCIA!#REF!<>\"F\"),SUMIF($F$13:$J$13,BY$13,$F31:$J31),\"\")","v":{"$error":"#REF!"}},{"$f":"IF(AND(LEN($D31)>0,SUMIF($F$13:$J$13,BZ$13,$F31:$J31)>0,ASISTENCIA!#REF!<>\"X\",ASISTENCIA!#REF!<>\"L\",ASISTENCIA!#REF!<>\"J\",ASISTENCIA!#REF!<>\"F\"),SUMIF($F$13:$J$13,BZ$13,$F31:$J31),\"\")","v":{"$error":"#REF!"}},{"$f":"IF(AND(LEN($D31)>0,SUMIF($F$13:$J$13,CA$13,$F31:$J31)>0,ASISTENCIA!#REF!<>\"X\",ASISTENCIA!#REF!<>\"L\",ASISTENCIA!#REF!<>\"J\",ASISTENCIA!#REF!<>\"F\"),SUMIF($F$13:$J$13,CA$13,$F31:$J31),\"\")","v":{"$error":"#REF!"}},{"$f":"IF(AND(LEN($D31)>0,SUMIF($F$13:$J$13,CB$13,$F31:$J31)>0,ASISTENCIA!#REF!<>\"X\",ASISTENCIA!#REF!<>\"L\",ASISTENCIA!#REF!<>\"J\",ASISTENCIA!#REF!<>\"F\"),SUMIF($F$13:$J$13,CB$13,$F31:$J31),\"\")","v":{"$error":"#REF!"}},{"$error":"#REF!"}]
[{"$error":"#REF!"},{"$f":"IF(LEN(C32)>0,VLOOKUP($O$4,DATA!$A$1:$S$1,2,FALSE),\"\")","v":{"$error":"#REF!"}},{"$error":"#REF!"},{"$f":"IF(LEN(ASISTENCIA!#REF!)>0,ASISTENCIA!#REF!,\"\")","v":{"$error":"#REF!"}},{"$f":"IF(LEN(D32)>0,ASISTENCIA!#REF!,\"\")","v":{"$error":"#REF!"}},null,null,null,null,null,"",null,null,{"$error":"#REF!"},{"$f":"IF(AND(LEN($D32)>0,SUMIF($F$13:$J$13,O$13,$F32:$J32)>0,ASISTENCIA!#REF!<>\"X\",ASISTENCIA!#REF!<>\"L\",ASISTENCIA!#REF!<>\"J\",ASISTENCIA!#REF!<>\"V\",ASISTENCIA!#REF!<>\"F\",ASISTENCIA!#REF!<>\"\"),SUMIF($F$13:$J$13,O$13,$F32:$J32),\"\")","v":{"$error":"#REF!"}},{"$f":"IF(AND(LEN($D32)>0,SUMIF($F$13:$J$13,P$13,$F32:$J32)>0,ASISTENCIA!#REF!<>\"X\",ASISTENCIA!#REF!<>\"L\",ASISTENCIA!#REF!<>\"J\",ASISTENCIA!#REF!<>\"V\",ASISTENCIA!#REF!<>\"F\",ASISTENCIA!#REF!<>\"\"),SUMIF($F$13:$J$13,P$13,$F32:$J32),\"\")","v":{"$error":"#REF!"}},{"$f":"IF(AND(LEN($D32)>0,SUMIF($F$13:$J$13,Q$13,$F32:$J32)>0,ASISTENCIA!#REF!<>\"X\",ASISTENCIA!#REF!<>\"L\",ASISTENCIA!#REF!<>\"J\",ASISTENCIA!#REF!<>\"V\",ASISTENCIA!#REF!<>\"F\",ASISTENCIA!#REF!<>\"\"),SUMIF($F$13:$J$13,Q$13,$F32:$J32),\"\")","v":{"$error":"#REF!"}},{"$f":"IF(AND(LEN($D32)>0,SUMIF($F$13:$J$13,R$13,$F32:$J32)>0,ASISTENCIA!#REF!<>\"X\",ASISTENCIA!#REF!<>\"L\",ASISTENCIA!#REF!<>\"J\",ASISTENCIA!#REF!<>\"V\",ASISTENCIA!#REF!<>\"F\",ASISTENCIA!#REF!<>\"\"),SUMIF($F$13:$J$13,R$13,$F32:$J32),\"\")","v":{"$error":"#REF!"}},{"$f":"IF(AND(LEN($D32)>0,SUMIF($F$13:$J$13,S$13,$F32:$J32)>0,ASISTENCIA!#REF!<>\"X\",ASISTENCIA!#REF!<>\"L\",ASISTENCIA!#REF!<>\"J\",ASISTENCIA!#REF!<>\"V\",ASISTENCIA!#REF!<>\"F\",ASISTENCIA!#REF!<>\"\"),SUMIF($F$13:$J$13,S$13,$F32:$J32),\"\")","v":{"$error":"#REF!"}},{"$f":"IF(AND(LEN($D32)>0,SUMIF($F$13:$J$13,T$13,$F32:$J32)>0,ASISTENCIA!#REF!<>\"X\",ASISTENCIA!#REF!<>\"L\",ASISTENCIA!#REF!<>\"J\",ASISTENCIA!#REF!<>\"V\",ASISTENCIA!#REF!<>\"F\",ASISTENCIA!#REF!<>\"\"),SUMIF($F$13:$J$13,T$13,$F32:$J32),\"\")","v":{"$error":"#REF!"}},{"$f":"IF(AND(LEN($D32)>0,SUMIF($F$13:$J$13,U$13,$F32:$J32)>0,ASISTENCIA!#REF!<>\"X\",ASISTENCIA!#REF!<>\"L\",ASISTENCIA!#REF!<>\"J\",ASISTENCIA!#REF!<>\"V\",ASISTENCIA!#REF!<>\"F\",ASISTENCIA!#REF!<>\"\"),SUMIF($F$13:$J$13,U$13,$F32:$J32),\"\")","v":{"$error":"#REF!"}},{"$f":"IF(AND(LEN($D32)>0,SUMIF($F$13:$J$13,V$13,$F32:$J32)>0,ASISTENCIA!#REF!<>\"X\",ASISTENCIA!#REF!<>\"L\",ASISTENCIA!#REF!<>\"J\",ASISTENCIA!#REF!<>\"V\",ASISTENCIA!#REF!<>\"F\",ASISTENCIA!#REF!<>\"\"),SUMIF($F$13:$J$13,V$13,$F32:$J32),\"\")","v":{"$error":"#REF!"}},{"$f":"IF(AND(LEN($D32)>0,SUMIF($F$13:$J$13,W$13,$F32:$J32)>0,ASISTENCIA!#REF!<>\"X\",ASISTENCIA!#REF!<>\"L\",ASISTENCIA!#REF!<>\"J\",ASISTENCIA!#REF!<>\"V\",ASISTENCIA!#REF!<>\"F\",ASISTENCIA!#REF!<>\"\"),SUMIF($F$13:$J$13,W$13,$F32:$J32),\"\")","v":{"$error":"#REF!"}},{"$f":"IF(AND(LEN($D32)>0,SUMIF($F$13:$J$13,X$13,$F32:$J32)>0,ASISTENCIA!#REF!<>\"X\",ASISTENCIA!#REF!<>\"L\",ASISTENCIA!#REF!<>\"J\",ASISTENCIA!#REF!<>\"V\",ASISTENCIA!#REF!<>\"F\",ASISTENCIA!#REF!<>\"\"),SUMIF($F$13:$J$13,X$13,$F32:$J32),\"\")","v":{"$error":"#REF!"}},{"$f":"IF(AND(LEN($D32)>0,SUMIF($F$13:$J$13,Y$13,$F32:$J32)>0,ASISTENCIA!#REF!<>\"X\",ASISTENCIA!#REF!<>\"L\",ASISTENCIA!#REF!<>\"J\",ASISTENCIA!#REF!<>\"V\",ASISTENCIA!#REF!<>\"F\",ASISTENCIA!#REF!<>\"\"),SUMIF($F$13:$J$13,Y$13,$F32:$J32),\"\")","v":{"$error":"#REF!"}},{"$f":"IF(AND(LEN($D32)>0,SUMIF($F$13:$J$13,Z$13,$F32:$J32)>0,ASISTENCIA!#REF!<>\"X\",ASISTENCIA!#REF!<>\"L\",ASISTENCIA!#REF!<>\"J\",ASISTENCIA!#REF!<>\"V\",ASISTENCIA!#REF!<>\"F\",ASISTENCIA!#REF!<>\"\"),SUMIF($F$13:$J$13,Z$13,$F32:$J32),\"\")","v":{"$error":"#REF!"}},{"$f":"IF(AND(LEN($D32)>0,SUMIF($F$13:$J$13,AA$13,$F32:$J32)>0,ASISTENCIA!#REF!<>\"X\",ASISTENCIA!#REF!<>\"L\",ASISTENCIA!#REF!<>\"J\",ASISTENCIA!#REF!<>\"V\",ASISTENCIA!#REF!<>\"F\",ASISTENCIA!#REF!<>\"\"),SUMIF($F$13:$J$13,AA$13,$F32:$J32),\"\")","v":{"$error":"#REF!"}},{"$f":"IF(AND(LEN($D32)>0,SUMIF($F$13:$J$13,AB$13,$F32:$J32)>0,ASISTENCIA!#REF!<>\"X\",ASISTENCIA!#REF!<>\"L\",ASISTENCIA!#REF!<>\"J\",ASISTENCIA!#REF!<>\"V\",ASISTENCIA!#REF!<>\"F\",ASISTENCIA!#REF!<>\"\"),SUMIF($F$13:$J$13,AB$13,$F32:$J32),\"\")","v":{"$error":"#REF!"}},{"$f":"IF(AND(LEN($D32)>0,SUMIF($F$13:$J$13,AC$13,$F32:$J32)>0,ASISTENCIA!#REF!<>\"X\",ASISTENCIA!#REF!<>\"L\",ASISTENCIA!#REF!<>\"J\",ASISTENCIA!#REF!<>\"V\",ASISTENCIA!#REF!<>\"F\",ASISTENCIA!#REF!<>\"\"),SUMIF($F$13:$J$13,AC$13,$F32:$J32),\"\")","v":{"$error":"#REF!"}},{"$f":"IF(AND(LEN($D32)>0,SUMIF($F$13:$J$13,AD$13,$F32:$J32)>0,ASISTENCIA!#REF!<>\"X\",ASISTENCIA!#REF!<>\"L\",ASISTENCIA!#REF!<>\"J\",ASISTENCIA!#REF!<>\"V\",ASISTENCIA!#REF!<>\"F\",ASISTENCIA!#REF!<>\"\"),SUMIF($F$13:$J$13,AD$13,$F32:$J32),\"\")","v":{"$error":"#REF!"}},{"$f":"IF(AND(LEN($D32)>0,SUMIF($F$13:$J$13,AE$13,$F32:$J32)>0,ASISTENCIA!#REF!<>\"X\",ASISTENCIA!#REF!<>\"L\",ASISTENCIA!#REF!<>\"J\",ASISTENCIA!#REF!<>\"V\",ASISTENCIA!#REF!<>\"F\",ASISTENCIA!#REF!<>\"\"),SUMIF($F$13:$J$13,AE$13,$F32:$J32),\"\")","v":{"$error":"#REF!"}},{"$f":"IF(AND(LEN($D32)>0,SUMIF($F$13:$J$13,AF$13,$F32:$J32)>0,ASISTENCIA!#REF!<>\"X\",ASISTENCIA!#REF!<>\"L\",ASISTENCIA!#REF!<>\"J\",ASISTENCIA!#REF!<>\"V\",ASISTENCIA!#REF!<>\"F\",ASISTENCIA!#REF!<>\"\"),SUMIF($F$13:$J$13,AF$13,$F32:$J32),\"\")","v":{"$error":"#REF!"}},{"$f":"IF(AND(LEN($D32)>0,SUMIF($F$13:$J$13,AG$13,$F32:$J32)>0,ASISTENCIA!#REF!<>\"X\",ASISTENCIA!#REF!<>\"L\",ASISTENCIA!#REF!<>\"J\",ASISTENCIA!#REF!<>\"V\",ASISTENCIA!#REF!<>\"F\",ASISTENCIA!#REF!<>\"\"),SUMIF($F$13:$J$13,AG$13,$F32:$J32),\"\")","v":{"$error":"#REF!"}},{"$f":"IF(AND(LEN($D32)>0,SUMIF($F$13:$J$13,AH$13,$F32:$J32)>0,ASISTENCIA!#REF!<>\"X\",ASISTENCIA!#REF!<>\"L\",ASISTENCIA!#REF!<>\"J\",ASISTENCIA!#REF!<>\"V\",ASISTENCIA!#REF!<>\"F\",ASISTENCIA!#REF!<>\"\"),SUMIF($F$13:$J$13,AH$13,$F32:$J32),\"\")","v":{"$error":"#REF!"}},{"$f":"IF(AND(LEN($D32)>0,SUMIF($F$13:$J$13,AI$13,$F32:$J32)>0,ASISTENCIA!#REF!<>\"X\",ASISTENCIA!#REF!<>\"L\",ASISTENCIA!#REF!<>\"J\",ASISTENCIA!#REF!<>\"V\",ASISTENCIA!#REF!<>\"F\",ASISTENCIA!#REF!<>\"\"),SUMIF($F$13:$J$13,AI$13,$F32:$J32),\"\")","v":{"$error":"#REF!"}},{"$f":"IF(AND(LEN($D32)>0,SUMIF($F$13:$J$13,AJ$13,$F32:$J32)>0,ASISTENCIA!#REF!<>\"X\",ASISTENCIA!#REF!<>\"L\",ASISTENCIA!#REF!<>\"J\",ASISTENCIA!#REF!<>\"V\",ASISTENCIA!#REF!<>\"F\",ASISTENCIA!#REF!<>\"\"),SUMIF($F$13:$J$13,AJ$13,$F32:$J32),\"\")","v":{"$error":"#REF!"}},{"$f":"IF(AND(LEN($D32)>0,SUMIF($F$13:$J$13,AK$13,$F32:$J32)>0,ASISTENCIA!#REF!<>\"X\",ASISTENCIA!#REF!<>\"L\",ASISTENCIA!#REF!<>\"J\",ASISTENCIA!#REF!<>\"V\",ASISTENCIA!#REF!<>\"F\",ASISTENCIA!#REF!<>\"\"),SUMIF($F$13:$J$13,AK$13,$F32:$J32),\"\")","v":{"$error":"#REF!"}},{"$f":"IF(AND(LEN($D32)>0,SUMIF($F$13:$J$13,AL$13,$F32:$J32)>0,ASISTENCIA!#REF!<>\"X\",ASISTENCIA!#REF!<>\"L\",ASISTENCIA!#REF!<>\"J\",ASISTENCIA!#REF!<>\"V\",ASISTENCIA!#REF!<>\"F\",ASISTENCIA!#REF!<>\"\"),SUMIF($F$13:$J$13,AL$13,$F32:$J32),\"\")","v":{"$error":"#REF!"}},{"$f":"IF(AND(LEN($D32)>0,SUMIF($F$13:$J$13,AM$13,$F32:$J32)>0,ASISTENCIA!#REF!<>\"X\",ASISTENCIA!#REF!<>\"L\",ASISTENCIA!#REF!<>\"J\",ASISTENCIA!#REF!<>\"V\",ASISTENCIA!#REF!<>\"F\",ASISTENCIA!#REF!<>\"\"),SUMIF($F$13:$J$13,AM$13,$F32:$J32),\"\")","v":{"$error":"#REF!"}},{"$f":"IF(AND(LEN($D32)>0,SUMIF($F$13:$J$13,AN$13,$F32:$J32)>0,ASISTENCIA!#REF!<>\"X\",ASISTENCIA!#REF!<>\"L\",ASISTENCIA!#REF!<>\"J\",ASISTENCIA!#REF!<>\"V\",ASISTENCIA!#REF!<>\"F\",ASISTENCIA!#REF!<>\"\"),SUMIF($F$13:$J$13,AN$13,$F32:$J32),\"\")","v":{"$error":"#REF!"}},{"$f":"IF(AND(LEN($D32)>0,SUMIF($F$13:$J$13,AO$13,$F32:$J32)>0,ASISTENCIA!#REF!<>\"X\",ASISTENCIA!#REF!<>\"L\",ASISTENCIA!#REF!<>\"J\",ASISTENCIA!#REF!<>\"V\",ASISTENCIA!#REF!<>\"F\",ASISTENCIA!#REF!<>\"\"),SUMIF($F$13:$J$13,AO$13,$F32:$J32),\"\")","v":{"$error":"#REF!"}},{"$f":"IF(AND(LEN($D32)>0,SUMIF($F$13:$J$13,AP$13,$F32:$J32)>0,ASISTENCIA!#REF!<>\"X\",ASISTENCIA!#REF!<>\"L\",ASISTENCIA!#REF!<>\"J\",ASISTENCIA!#REF!<>\"V\",ASISTENCIA!#REF!<>\"F\",ASISTENCIA!#REF!<>\"\"),SUMIF($F$13:$J$13,AP$13,$F32:$J32),\"\")","v":{"$error":"#REF!"}},{"$f":"IF(AND(LEN($D32)>0,SUMIF($F$13:$J$13,AQ$13,$F32:$J32)>0,ASISTENCIA!#REF!<>\"X\",ASISTENCIA!#REF!<>\"L\",ASISTENCIA!#REF!<>\"J\",ASISTENCIA!#REF!<>\"V\",ASISTENCIA!#REF!<>\"F\",ASISTENCIA!#REF!<>\"\"),SUMIF($F$13:$J$13,AQ$13,$F32:$J32),\"\")","v":{"$error":"#REF!"}},{"$f":"IF(AND(LEN($D32)>0,SUMIF($F$13:$J$13,AR$13,$F32:$J32)>0,ASISTENCIA!#REF!<>\"X\",ASISTENCIA!#REF!<>\"L\",ASISTENCIA!#REF!<>\"J\",ASISTENCIA!#REF!<>\"V\",ASISTENCIA!#REF!<>\"F\",ASISTENCIA!#REF!<>\"\"),SUMIF($F$13:$J$13,AR$13,$F32:$J32),\"\")","v":{"$error":"#REF!"}},{"$f":"IF(AND(LEN($D32)>0,SUMIF($F$13:$J$13,AS$13,$F32:$J32)>0,ASISTENCIA!#REF!<>\"X\",ASISTENCIA!#REF!<>\"L\",ASISTENCIA!#REF!<>\"J\",ASISTENCIA!#REF!<>\"V\",ASISTENCIA!#REF!<>\"F\",ASISTENCIA!#REF!<>\"\"),SUMIF($F$13:$J$13,AS$13,$F32:$J32),\"\")","v":{"$error":"#REF!"}},{"$error":"#REF!"},null,null,null,{"$f":"IF(AND(LEN($D32)>0,SUMIF($F$13:$J$13,AX$13,$F32:$J32)>0,ASISTENCIA!#REF!<>\"X\",ASISTENCIA!#REF!<>\"L\",ASISTENCIA!#REF!<>\"J\",ASISTENCIA!#REF!<>\"F\"),SUMIF($F$13:$J$13,AX$13,$F32:$J32),\"\")","v":{"$error":"#REF!"}},{"$f":"IF(AND(LEN($D32)>0,SUMIF($F$13:$J$13,AY$13,$F32:$J32)>0,ASISTENCIA!#REF!<>\"X\",ASISTENCIA!#REF!<>\"L\",ASISTENCIA!#REF!<>\"J\",ASISTENCIA!#REF!<>\"F\"),SUMIF($F$13:$J$13,AY$13,$F32:$J32),\"\")","v":{"$error":"#REF!"}},{"$f":"IF(AND(LEN($D32)>0,SUMIF($F$13:$J$13,AZ$13,$F32:$J32)>0,ASISTENCIA!#REF!<>\"X\",ASISTENCIA!#REF!<>\"L\",ASISTENCIA!#REF!<>\"J\",ASISTENCIA!#REF!<>\"F\"),SUMIF($F$13:$J$13,AZ$13,$F32:$J32),\"\")","v":{"$error":"#REF!"}},{"$f":"IF(AND(LEN($D32)>0,SUMIF($F$13:$J$13,BA$13,$F32:$J32)>0,ASISTENCIA!#REF!<>\"X\",ASISTENCIA!#REF!<>\"L\",ASISTENCIA!#REF!<>\"J\",ASISTENCIA!#REF!<>\"F\"),SUMIF($F$13:$J$13,BA$13,$F32:$J32),\"\")","v":{"$error":"#REF!"}},{"$f":"IF(AND(LEN($D32)>0,SUMIF($F$13:$J$13,BB$13,$F32:$J32)>0,ASISTENCIA!#REF!<>\"X\",ASISTENCIA!#REF!<>\"L\",ASISTENCIA!#REF!<>\"J\",ASISTENCIA!#REF!<>\"F\"),SUMIF($F$13:$J$13,BB$13,$F32:$J32),\"\")","v":{"$error":"#REF!"}},{"$f":"IF(AND(LEN($D32)>0,SUMIF($F$13:$J$13,BC$13,$F32:$J32)>0,ASISTENCIA!#REF!<>\"X\",ASISTENCIA!#REF!<>\"L\",ASISTENCIA!#REF!<>\"J\",ASISTENCIA!#REF!<>\"F\"),SUMIF($F$13:$J$13,BC$13,$F32:$J32),\"\")","v":{"$error":"#REF!"}},{"$f":"IF(AND(LEN($D32)>0,SUMIF($F$13:$J$13,BD$13,$F32:$J32)>0,ASISTENCIA!#REF!<>\"X\",ASISTENCIA!#REF!<>\"L\",ASISTENCIA!#REF!<>\"J\",ASISTENCIA!#REF!<>\"F\"),SUMIF($F$13:$J$13,BD$13,$F32:$J32),\"\")","v":{"$error":"#REF!"}},{"$f":"IF(AND(LEN($D32)>0,SUMIF($F$13:$J$13,BE$13,$F32:$J32)>0,ASISTENCIA!#REF!<>\"X\",ASISTENCIA!#REF!<>\"L\",ASISTENCIA!#REF!<>\"J\",ASISTENCIA!#REF!<>\"F\"),SUMIF($F$13:$J$13,BE$13,$F32:$J32),\"\")","v":{"$error":"#REF!"}},{"$f":"IF(AND(LEN($D32)>0,SUMIF($F$13:$J$13,BF$13,$F32:$J32)>0,ASISTENCIA!#REF!<>\"X\",ASISTENCIA!#REF!<>\"L\",ASISTENCIA!#REF!<>\"J\",ASISTENCIA!#REF!<>\"F\"),SUMIF($F$13:$J$13,BF$13,$F32:$J32),\"\")","v":{"$error":"#REF!"}},{"$f":"IF(AND(LEN($D32)>0,SUMIF($F$13:$J$13,BG$13,$F32:$J32)>0,ASISTENCIA!#REF!<>\"X\",ASISTENCIA!#REF!<>\"L\",ASISTENCIA!#REF!<>\"J\",ASISTENCIA!#REF!<>\"F\"),SUMIF($F$13:$J$13,BG$13,$F32:$J32),\"\")","v":{"$error":"#REF!"}},{"$f":"IF(AND(LEN($D32)>0,SUMIF($F$13:$J$13,BH$13,$F32:$J32)>0,ASISTENCIA!#REF!<>\"X\",ASISTENCIA!#REF!<>\"L\",ASISTENCIA!#REF!<>\"J\",ASISTENCIA!#REF!<>\"F\"),SUMIF($F$13:$J$13,BH$13,$F32:$J32),\"\")","v":{"$error":"#REF!"}},{"$f":"IF(AND(LEN($D32)>0,SUMIF($F$13:$J$13,BI$13,$F32:$J32)>0,ASISTENCIA!#REF!<>\"X\",ASISTENCIA!#REF!<>\"L\",ASISTENCIA!#REF!<>\"J\",ASISTENCIA!#REF!<>\"F\"),SUMIF($F$13:$J$13,BI$13,$F32:$J32),\"\")","v":{"$error":"#REF!"}},{"$f":"IF(AND(LEN($D32)>0,SUMIF($F$13:$J$13,BJ$13,$F32:$J32)>0,ASISTENCIA!#REF!<>\"X\",ASISTENCIA!#REF!<>\"L\",ASISTENCIA!#REF!<>\"J\",ASISTENCIA!#REF!<>\"F\"),SUMIF($F$13:$J$13,BJ$13,$F32:$J32),\"\")","v":{"$error":"#REF!"}},{"$f":"IF(AND(LEN($D32)>0,SUMIF($F$13:$J$13,BK$13,$F32:$J32)>0,ASISTENCIA!#REF!<>\"X\",ASISTENCIA!#REF!<>\"L\",ASISTENCIA!#REF!<>\"J\",ASISTENCIA!#REF!<>\"F\"),SUMIF($F$13:$J$13,BK$13,$F32:$J32),\"\")","v":{"$error":"#REF!"}},{"$f":"IF(AND(LEN($D32)>0,SUMIF($F$13:$J$13,BL$13,$F32:$J32)>0,ASISTENCIA!#REF!<>\"X\",ASISTENCIA!#REF!<>\"L\",ASISTENCIA!#REF!<>\"J\",ASISTENCIA!#REF!<>\"F\"),SUMIF($F$13:$J$13,BL$13,$F32:$J32),\"\")","v":{"$error":"#REF!"}},{"$f":"IF(AND(LEN($D32)>0,SUMIF($F$13:$J$13,BM$13,$F32:$J32)>0,ASISTENCIA!#REF!<>\"X\",ASISTENCIA!#REF!<>\"L\",ASISTENCIA!#REF!<>\"J\",ASISTENCIA!#REF!<>\"F\"),SUMIF($F$13:$J$13,BM$13,$F32:$J32),\"\")","v":{"$error":"#REF!"}},{"$f":"IF(AND(LEN($D32)>0,SUMIF($F$13:$J$13,BN$13,$F32:$J32)>0,ASISTENCIA!#REF!<>\"X\",ASISTENCIA!#REF!<>\"L\",ASISTENCIA!#REF!<>\"J\",ASISTENCIA!#REF!<>\"F\"),SUMIF($F$13:$J$13,BN$13,$F32:$J32),\"\")","v":{"$error":"#REF!"}},{"$f":"IF(AND(LEN($D32)>0,SUMIF($F$13:$J$13,BO$13,$F32:$J32)>0,ASISTENCIA!#REF!<>\"X\",ASISTENCIA!#REF!<>\"L\",ASISTENCIA!#REF!<>\"J\",ASISTENCIA!#REF!<>\"F\"),SUMIF($F$13:$J$13,BO$13,$F32:$J32),\"\")","v":{"$error":"#REF!"}},{"$f":"IF(AND(LEN($D32)>0,SUMIF($F$13:$J$13,BP$13,$F32:$J32)>0,ASISTENCIA!#REF!<>\"X\",ASISTENCIA!#REF!<>\"L\",ASISTENCIA!#REF!<>\"J\",ASISTENCIA!#REF!<>\"F\"),SUMIF($F$13:$J$13,BP$13,$F32:$J32),\"\")","v":{"$error":"#REF!"}},{"$f":"IF(AND(LEN($D32)>0,SUMIF($F$13:$J$13,BQ$13,$F32:$J32)>0,ASISTENCIA!#REF!<>\"X\",ASISTENCIA!#REF!<>\"L\",ASISTENCIA!#REF!<>\"J\",ASISTENCIA!#REF!<>\"F\"),SUMIF($F$13:$J$13,BQ$13,$F32:$J32),\"\")","v":{"$error":"#REF!"}},{"$f":"IF(AND(LEN($D32)>0,SUMIF($F$13:$J$13,BR$13,$F32:$J32)>0,ASISTENCIA!#REF!<>\"X\",ASISTENCIA!#REF!<>\"L\",ASISTENCIA!#REF!<>\"J\",ASISTENCIA!#REF!<>\"F\"),SUMIF($F$13:$J$13,BR$13,$F32:$J32),\"\")","v":{"$error":"#REF!"}},{"$f":"IF(AND(LEN($D32)>0,SUMIF($F$13:$J$13,BS$13,$F32:$J32)>0,ASISTENCIA!#REF!<>\"X\",ASISTENCIA!#REF!<>\"L\",ASISTENCIA!#REF!<>\"J\",ASISTENCIA!#REF!<>\"F\"),SUMIF($F$13:$J$13,BS$13,$F32:$J32),\"\")","v":{"$error":"#REF!"}},{"$f":"IF(AND(LEN($D32)>0,SUMIF($F$13:$J$13,BT$13,$F32:$J32)>0,ASISTENCIA!#REF!<>\"X\",ASISTENCIA!#REF!<>\"L\",ASISTENCIA!#REF!<>\"J\",ASISTENCIA!#REF!<>\"F\"),SUMIF($F$13:$J$13,BT$13,$F32:$J32),\"\")","v":{"$error":"#REF!"}},{"$f":"IF(AND(LEN($D32)>0,SUMIF($F$13:$J$13,BU$13,$F32:$J32)>0,ASISTENCIA!#REF!<>\"X\",ASISTENCIA!#REF!<>\"L\",ASISTENCIA!#REF!<>\"J\",ASISTENCIA!#REF!<>\"F\"),SUMIF($F$13:$J$13,BU$13,$F32:$J32),\"\")","v":{"$error":"#REF!"}},{"$f":"IF(AND(LEN($D32)>0,SUMIF($F$13:$J$13,BV$13,$F32:$J32)>0,ASISTENCIA!#REF!<>\"X\",ASISTENCIA!#REF!<>\"L\",ASISTENCIA!#REF!<>\"J\",ASISTENCIA!#REF!<>\"F\"),SUMIF($F$13:$J$13,BV$13,$F32:$J32),\"\")","v":{"$error":"#REF!"}},{"$f":"IF(AND(LEN($D32)>0,SUMIF($F$13:$J$13,BW$13,$F32:$J32)>0,ASISTENCIA!#REF!<>\"X\",ASISTENCIA!#REF!<>\"L\",ASISTENCIA!#REF!<>\"J\",ASISTENCIA!#REF!<>\"F\"),SUMIF($F$13:$J$13,BW$13,$F32:$J32),\"\")","v":{"$error":"#REF!"}},{"$f":"IF(AND(LEN($D32)>0,SUMIF($F$13:$J$13,BX$13,$F32:$J32)>0,ASISTENCIA!#REF!<>\"X\",ASISTENCIA!#REF!<>\"L\",ASISTENCIA!#REF!<>\"J\",ASISTENCIA!#REF!<>\"F\"),SUMIF($F$13:$J$13,BX$13,$F32:$J32),\"\")","v":{"$error":"#REF!"}},{"$f":"IF(AND(LEN($D32)>0,SUMIF($F$13:$J$13,BY$13,$F32:$J32)>0,ASISTENCIA!#REF!<>\"X\",ASISTENCIA!#REF!<>\"L\",ASISTENCIA!#REF!<>\"J\",ASISTENCIA!#REF!<>\"F\"),SUMIF($F$13:$J$13,BY$13,$F32:$J32),\"\")","v":{"$error":"#REF!"}},{"$f":"IF(AND(LEN($D32)>0,SUMIF($F$13:$J$13,BZ$13,$F32:$J32)>0,ASISTENCIA!#REF!<>\"X\",ASISTENCIA!#REF!<>\"L\",ASISTENCIA!#REF!<>\"J\",ASISTENCIA!#REF!<>\"F\"),SUMIF($F$13:$J$13,BZ$13,$F32:$J32),\"\")","v":{"$error":"#REF!"}},{"$f":"IF(AND(LEN($D32)>0,SUMIF($F$13:$J$13,CA$13,$F32:$J32)>0,ASISTENCIA!#REF!<>\"X\",ASISTENCIA!#REF!<>\"L\",ASISTENCIA!#REF!<>\"J\",ASISTENCIA!#REF!<>\"F\"),SUMIF($F$13:$J$13,CA$13,$F32:$J32),\"\")","v":{"$error":"#REF!"}},{"$f":"IF(AND(LEN($D32)>0,SUMIF($F$13:$J$13,CB$13,$F32:$J32)>0,ASISTENCIA!#REF!<>\"X\",ASISTENCIA!#REF!<>\"L\",ASISTENCIA!#REF!<>\"J\",ASISTENCIA!#REF!<>\"F\"),SUMIF($F$13:$J$13,CB$13,$F32:$J32),\"\")","v":{"$error":"#REF!"}},{"$error":"#REF!"}]
[{"$error":"#REF!"},{"$f":"IF(LEN(C33)>0,VLOOKUP($O$4,DATA!$A$1:$S$1,2,FALSE),\"\")","v":{"$error":"#REF!"}},{"$error":"#REF!"},{"$f":"IF(LEN(ASISTENCIA!#REF!)>0,ASISTENCIA!#REF!,\"\")","v":{"$error":"#REF!"}},{"$f":"IF(LEN(D33)>0,ASISTENCIA!#REF!,\"\")","v":{"$error":"#REF!"}},null,null,null,null,null,"",null,null,{"$error":"#REF!"},{"$f":"IF(AND(LEN($D33)>0,SUMIF($F$13:$J$13,O$13,$F33:$J33)>0,ASISTENCIA!#REF!<>\"X\",ASISTENCIA!#REF!<>\"L\",ASISTENCIA!#REF!<>\"J\",ASISTENCIA!#REF!<>\"V\",ASISTENCIA!#REF!<>\"F\",ASISTENCIA!#REF!<>\"\"),SUMIF($F$13:$J$13,O$13,$F33:$J33),\"\")","v":{"$error":"#REF!"}},{"$f":"IF(AND(LEN($D33)>0,SUMIF($F$13:$J$13,P$13,$F33:$J33)>0,ASISTENCIA!#REF!<>\"X\",ASISTENCIA!#REF!<>\"L\",ASISTENCIA!#REF!<>\"J\",ASISTENCIA!#REF!<>\"V\",ASISTENCIA!#REF!<>\"F\",ASISTENCIA!#REF!<>\"\"),SUMIF($F$13:$J$13,P$13,$F33:$J33),\"\")","v":{"$error":"#REF!"}},{"$f":"IF(AND(LEN($D33)>0,SUMIF($F$13:$J$13,Q$13,$F33:$J33)>0,ASISTENCIA!#REF!<>\"X\",ASISTENCIA!#REF!<>\"L\",ASISTENCIA!#REF!<>\"J\",ASISTENCIA!#REF!<>\"V\",ASISTENCIA!#REF!<>\"F\",ASISTENCIA!#REF!<>\"\"),SUMIF($F$13:$J$13,Q$13,$F33:$J33),\"\")","v":{"$error":"#REF!"}},{"$f":"IF(AND(LEN($D33)>0,SUMIF($F$13:$J$13,R$13,$F33:$J33)>0,ASISTENCIA!#REF!<>\"X\",ASISTENCIA!#REF!<>\"L\",ASISTENCIA!#REF!<>\"J\",ASISTENCIA!#REF!<>\"V\",ASISTENCIA!#REF!<>\"F\",ASISTENCIA!#REF!<>\"\"),SUMIF($F$13:$J$13,R$13,$F33:$J33),\"\")","v":{"$error":"#REF!"}},{"$f":"IF(AND(LEN($D33)>0,SUMIF($F$13:$J$13,S$13,$F33:$J33)>0,ASISTENCIA!#REF!<>\"X\",ASISTENCIA!#REF!<>\"L\",ASISTENCIA!#REF!<>\"J\",ASISTENCIA!#REF!<>\"V\",ASISTENCIA!#REF!<>\"F\",ASISTENCIA!#REF!<>\"\"),SUMIF($F$13:$J$13,S$13,$F33:$J33),\"\")","v":{"$error":"#REF!"}},{"$f":"IF(AND(LEN($D33)>0,SUMIF($F$13:$J$13,T$13,$F33:$J33)>0,ASISTENCIA!#REF!<>\"X\",ASISTENCIA!#REF!<>\"L\",ASISTENCIA!#REF!<>\"J\",ASISTENCIA!#REF!<>\"V\",ASISTENCIA!#REF!<>\"F\",ASISTENCIA!#REF!<>\"\"),SUMIF($F$13:$J$13,T$13,$F33:$J33),\"\")","v":{"$error":"#REF!"}},{"$f":"IF(AND(LEN($D33)>0,SUMIF($F$13:$J$13,U$13,$F33:$J33)>0,ASISTENCIA!#REF!<>\"X\",ASISTENCIA!#REF!<>\"L\",ASISTENCIA!#REF!<>\"J\",ASISTENCIA!#REF!<>\"V\",ASISTENCIA!#REF!<>\"F\",ASISTENCIA!#REF!<>\"\"),SUMIF($F$13:$J$13,U$13,$F33:$J33),\"\")","v":{"$error":"#REF!"}},{"$f":"IF(AND(LEN($D33)>0,SUMIF($F$13:$J$13,V$13,$F33:$J33)>0,ASISTENCIA!#REF!<>\"X\",ASISTENCIA!#REF!<>\"L\",ASISTENCIA!#REF!<>\"J\",ASISTENCIA!#REF!<>\"V\",ASISTENCIA!#REF!<>\"F\",ASISTENCIA!#REF!<>\"\"),SUMIF($F$13:$J$13,V$13,$F33:$J33),\"\")","v":{"$error":"#REF!"}},{"$f":"IF(AND(LEN($D33)>0,SUMIF($F$13:$J$13,W$13,$F33:$J33)>0,ASISTENCIA!#REF!<>\"X\",ASISTENCIA!#REF!<>\"L\",ASISTENCIA!#REF!<>\"J\",ASISTENCIA!#REF!<>\"V\",ASISTENCIA!#REF!<>\"F\",ASISTENCIA!#REF!<>\"\"),SUMIF($F$13:$J$13,W$13,$F33:$J33),\"\")","v":{"$error":"#REF!"}},{"$f":"IF(AND(LEN($D33)>0,SUMIF($F$13:$J$13,X$13,$F33:$J33)>0,ASISTENCIA!#REF!<>\"X\",ASISTENCIA!#REF!<>\"L\",ASISTENCIA!#REF!<>\"J\",ASISTENCIA!#REF!<>\"V\",ASISTENCIA!#REF!<>\"F\",ASISTENCIA!#REF!<>\"\"),SUMIF($F$13:$J$13,X$13,$F33:$J33),\"\")","v":{"$error":"#REF!"}},{"$f":"IF(AND(LEN($D33)>0,SUMIF($F$13:$J$13,Y$13,$F33:$J33)>0,ASISTENCIA!#REF!<>\"X\",ASISTENCIA!#REF!<>\"L\",ASISTENCIA!#REF!<>\"J\",ASISTENCIA!#REF!<>\"V\",ASISTENCIA!#REF!<>\"F\",ASISTENCIA!#REF!<>\"\"),SUMIF($F$13:$J$13,Y$13,$F33:$J33),\"\")","v":{"$error":"#REF!"}},{"$f":"IF(AND(LEN($D33)>0,SUMIF($F$13:$J$13,Z$13,$F33:$J33)>0,ASISTENCIA!#REF!<>\"X\",ASISTENCIA!#REF!<>\"L\",ASISTENCIA!#REF!<>\"J\",ASISTENCIA!#REF!<>\"V\",ASISTENCIA!#REF!<>\"F\",ASISTENCIA!#REF!<>\"\"),SUMIF($F$13:$J$13,Z$13,$F33:$J33),\"\")","v":{"$error":"#REF!"}},{"$f":"IF(AND(LEN($D33)>0,SUMIF($F$13:$J$13,AA$13,$F33:$J33)>0,ASISTENCIA!#REF!<>\"X\",ASISTENCIA!#REF!<>\"L\",ASISTENCIA!#REF!<>\"J\",ASISTENCIA!#REF!<>\"V\",ASISTENCIA!#REF!<>\"F\",ASISTENCIA!#REF!<>\"\"),SUMIF($F$13:$J$13,AA$13,$F33:$J33),\"\")","v":{"$error":"#REF!"}},{"$f":"IF(AND(LEN($D33)>0,SUMIF($F$13:$J$13,AB$13,$F33:$J33)>0,ASISTENCIA!#REF!<>\"X\",ASISTENCIA!#REF!<>\"L\",ASISTENCIA!#REF!<>\"J\",ASISTENCIA!#REF!<>\"V\",ASISTENCIA!#REF!<>\"F\",ASISTENCIA!#REF!<>\"\"),SUMIF($F$13:$J$13,AB$13,$F33:$J33),\"\")","v":{"$error":"#REF!"}},{"$f":"IF(AND(LEN($D33)>0,SUMIF($F$13:$J$13,AC$13,$F33:$J33)>0,ASISTENCIA!#REF!<>\"X\",ASISTENCIA!#REF!<>\"L\",ASISTENCIA!#REF!<>\"J\",ASISTENCIA!#REF!<>\"V\",ASISTENCIA!#REF!<>\"F\",ASISTENCIA!#REF!<>\"\"),SUMIF($F$13:$J$13,AC$13,$F33:$J33),\"\")","v":{"$error":"#REF!"}},{"$f":"IF(AND(LEN($D33)>0,SUMIF($F$13:$J$13,AD$13,$F33:$J33)>0,ASISTENCIA!#REF!<>\"X\",ASISTENCIA!#REF!<>\"L\",ASISTENCIA!#REF!<>\"J\",ASISTENCIA!#REF!<>\"V\",ASISTENCIA!#REF!<>\"F\",ASISTENCIA!#REF!<>\"\"),SUMIF($F$13:$J$13,AD$13,$F33:$J33),\"\")","v":{"$error":"#REF!"}},{"$f":"IF(AND(LEN($D33)>0,SUMIF($F$13:$J$13,AE$13,$F33:$J33)>0,ASISTENCIA!#REF!<>\"X\",ASISTENCIA!#REF!<>\"L\",ASISTENCIA!#REF!<>\"J\",ASISTENCIA!#REF!<>\"V\",ASISTENCIA!#REF!<>\"F\",ASISTENCIA!#REF!<>\"\"),SUMIF($F$13:$J$13,AE$13,$F33:$J33),\"\")","v":{"$error":"#REF!"}},{"$f":"IF(AND(LEN($D33)>0,SUMIF($F$13:$J$13,AF$13,$F33:$J33)>0,ASISTENCIA!#REF!<>\"X\",ASISTENCIA!#REF!<>\"L\",ASISTENCIA!#REF!<>\"J\",ASISTENCIA!#REF!<>\"V\",ASISTENCIA!#REF!<>\"F\",ASISTENCIA!#REF!<>\"\"),SUMIF($F$13:$J$13,AF$13,$F33:$J33),\"\")","v":{"$error":"#REF!"}},{"$f":"IF(AND(LEN($D33)>0,SUMIF($F$13:$J$13,AG$13,$F33:$J33)>0,ASISTENCIA!#REF!<>\"X\",ASISTENCIA!#REF!<>\"L\",ASISTENCIA!#REF!<>\"J\",ASISTENCIA!#REF!<>\"V\",ASISTENCIA!#REF!<>\"F\",ASISTENCIA!#REF!<>\"\"),SUMIF($F$13:$J$13,AG$13,$F33:$J33),\"\")","v":{"$error":"#REF!"}},{"$f":"IF(AND(LEN($D33)>0,SUMIF($F$13:$J$13,AH$13,$F33:$J33)>0,ASISTENCIA!#REF!<>\"X\",ASISTENCIA!#REF!<>\"L\",ASISTENCIA!#REF!<>\"J\",ASISTENCIA!#REF!<>\"V\",ASISTENCIA!#REF!<>\"F\",ASISTENCIA!#REF!<>\"\"),SUMIF($F$13:$J$13,AH$13,$F33:$J33),\"\")","v":{"$error":"#REF!"}},{"$f":"IF(AND(LEN($D33)>0,SUMIF($F$13:$J$13,AI$13,$F33:$J33)>0,ASISTENCIA!#REF!<>\"X\",ASISTENCIA!#REF!<>\"L\",ASISTENCIA!#REF!<>\"J\",ASISTENCIA!#REF!<>\"V\",ASISTENCIA!#REF!<>\"F\",ASISTENCIA!#REF!<>\"\"),SUMIF($F$13:$J$13,AI$13,$F33:$J33),\"\")","v":{"$error":"#REF!"}},{"$f":"IF(AND(LEN($D33)>0,SUMIF($F$13:$J$13,AJ$13,$F33:$J33)>0,ASISTENCIA!#REF!<>\"X\",ASISTENCIA!#REF!<>\"L\",ASISTENCIA!#REF!<>\"J\",ASISTENCIA!#REF!<>\"V\",ASISTENCIA!#REF!<>\"F\",ASISTENCIA!#REF!<>\"\"),SUMIF($F$13:$J$13,AJ$13,$F33:$J33),\"\")","v":{"$error":"#REF!"}},{"$f":"IF(AND(LEN($D33)>0,SUMIF($F$13:$J$13,AK$13,$F33:$J33)>0,ASISTENCIA!#REF!<>\"X\",ASISTENCIA!#REF!<>\"L\",ASISTENCIA!#REF!<>\"J\",ASISTENCIA!#REF!<>\"V\",ASISTENCIA!#REF!<>\"F\",ASISTENCIA!#REF!<>\"\"),SUMIF($F$13:$J$13,AK$13,$F33:$J33),\"\")","v":{"$error":"#REF!"}},{"$f":"IF(AND(LEN($D33)>0,SUMIF($F$13:$J$13,AL$13,$F33:$J33)>0,ASISTENCIA!#REF!<>\"X\",ASISTENCIA!#REF!<>\"L\",ASISTENCIA!#REF!<>\"J\",ASISTENCIA!#REF!<>\"V\",ASISTENCIA!#REF!<>\"F\",ASISTENCIA!#REF!<>\"\"),SUMIF($F$13:$J$13,AL$13,$F33:$J33),\"\")","v":{"$error":"#REF!"}},{"$f":"IF(AND(LEN($D33)>0,SUMIF($F$13:$J$13,AM$13,$F33:$J33)>0,ASISTENCIA!#REF!<>\"X\",ASISTENCIA!#REF!<>\"L\",ASISTENCIA!#REF!<>\"J\",ASISTENCIA!#REF!<>\"V\",ASISTENCIA!#REF!<>\"F\",ASISTENCIA!#REF!<>\"\"),SUMIF($F$13:$J$13,AM$13,$F33:$J33),\"\")","v":{"$error":"#REF!"}},{"$f":"IF(AND(LEN($D33)>0,SUMIF($F$13:$J$13,AN$13,$F33:$J33)>0,ASISTENCIA!#REF!<>\"X\",ASISTENCIA!#REF!<>\"L\",ASISTENCIA!#REF!<>\"J\",ASISTENCIA!#REF!<>\"V\",ASISTENCIA!#REF!<>\"F\",ASISTENCIA!#REF!<>\"\"),SUMIF($F$13:$J$13,AN$13,$F33:$J33),\"\")","v":{"$error":"#REF!"}},{"$f":"IF(AND(LEN($D33)>0,SUMIF($F$13:$J$13,AO$13,$F33:$J33)>0,ASISTENCIA!#REF!<>\"X\",ASISTENCIA!#REF!<>\"L\",ASISTENCIA!#REF!<>\"J\",ASISTENCIA!#REF!<>\"V\",ASISTENCIA!#REF!<>\"F\",ASISTENCIA!#REF!<>\"\"),SUMIF($F$13:$J$13,AO$13,$F33:$J33),\"\")","v":{"$error":"#REF!"}},{"$f":"IF(AND(LEN($D33)>0,SUMIF($F$13:$J$13,AP$13,$F33:$J33)>0,ASISTENCIA!#REF!<>\"X\",ASISTENCIA!#REF!<>\"L\",ASISTENCIA!#REF!<>\"J\",ASISTENCIA!#REF!<>\"V\",ASISTENCIA!#REF!<>\"F\",ASISTENCIA!#REF!<>\"\"),SUMIF($F$13:$J$13,AP$13,$F33:$J33),\"\")","v":{"$error":"#REF!"}},{"$f":"IF(AND(LEN($D33)>0,SUMIF($F$13:$J$13,AQ$13,$F33:$J33)>0,ASISTENCIA!#REF!<>\"X\",ASISTENCIA!#REF!<>\"L\",ASISTENCIA!#REF!<>\"J\",ASISTENCIA!#REF!<>\"V\",ASISTENCIA!#REF!<>\"F\",ASISTENCIA!#REF!<>\"\"),SUMIF($F$13:$J$13,AQ$13,$F33:$J33),\"\")","v":{"$error":"#REF!"}},{"$f":"IF(AND(LEN($D33)>0,SUMIF($F$13:$J$13,AR$13,$F33:$J33)>0,ASISTENCIA!#REF!<>\"X\",ASISTENCIA!#REF!<>\"L\",ASISTENCIA!#REF!<>\"J\",ASISTENCIA!#REF!<>\"V\",ASISTENCIA!#REF!<>\"F\",ASISTENCIA!#REF!<>\"\"),SUMIF($F$13:$J$13,AR$13,$F33:$J33),\"\")","v":{"$error":"#REF!"}},{"$f":"IF(AND(LEN($D33)>0,SUMIF($F$13:$J$13,AS$13,$F33:$J33)>0,ASISTENCIA!#REF!<>\"X\",ASISTENCIA!#REF!<>\"L\",ASISTENCIA!#REF!<>\"J\",ASISTENCIA!#REF!<>\"V\",ASISTENCIA!#REF!<>\"F\",ASISTENCIA!#REF!<>\"\"),SUMIF($F$13:$J$13,AS$13,$F33:$J33),\"\")","v":{"$error":"#REF!"}},{"$error":"#REF!"},null,null,null,{"$f":"IF(AND(LEN($D33)>0,SUMIF($F$13:$J$13,AX$13,$F33:$J33)>0,ASISTENCIA!#REF!<>\"X\",ASISTENCIA!#REF!<>\"L\",ASISTENCIA!#REF!<>\"J\",ASISTENCIA!#REF!<>\"F\"),SUMIF($F$13:$J$13,AX$13,$F33:$J33),\"\")","v":{"$error":"#REF!"}},{"$f":"IF(AND(LEN($D33)>0,SUMIF($F$13:$J$13,AY$13,$F33:$J33)>0,ASISTENCIA!#REF!<>\"X\",ASISTENCIA!#REF!<>\"L\",ASISTENCIA!#REF!<>\"J\",ASISTENCIA!#REF!<>\"F\"),SUMIF($F$13:$J$13,AY$13,$F33:$J33),\"\")","v":{"$error":"#REF!"}},{"$f":"IF(AND(LEN($D33)>0,SUMIF($F$13:$J$13,AZ$13,$F33:$J33)>0,ASISTENCIA!#REF!<>\"X\",ASISTENCIA!#REF!<>\"L\",ASISTENCIA!#REF!<>\"J\",ASISTENCIA!#REF!<>\"F\"),SUMIF($F$13:$J$13,AZ$13,$F33:$J33),\"\")","v":{"$error":"#REF!"}},{"$f":"IF(AND(LEN($D33)>0,SUMIF($F$13:$J$13,BA$13,$F33:$J33)>0,ASISTENCIA!#REF!<>\"X\",ASISTENCIA!#REF!<>\"L\",ASISTENCIA!#REF!<>\"J\",ASISTENCIA!#REF!<>\"F\"),SUMIF($F$13:$J$13,BA$13,$F33:$J33),\"\")","v":{"$error":"#REF!"}},{"$f":"IF(AND(LEN($D33)>0,SUMIF($F$13:$J$13,BB$13,$F33:$J33)>0,ASISTENCIA!#REF!<>\"X\",ASISTENCIA!#REF!<>\"L\",ASISTENCIA!#REF!<>\"J\",ASISTENCIA!#REF!<>\"F\"),SUMIF($F$13:$J$13,BB$13,$F33:$J33),\"\")","v":{"$error":"#REF!"}},{"$f":"IF(AND(LEN($D33)>0,SUMIF($F$13:$J$13,BC$13,$F33:$J33)>0,ASISTENCIA!#REF!<>\"X\",ASISTENCIA!#REF!<>\"L\",ASISTENCIA!#REF!<>\"J\",ASISTENCIA!#REF!<>\"F\"),SUMIF($F$13:$J$13,BC$13,$F33:$J33),\"\")","v":{"$error":"#REF!"}},{"$f":"IF(AND(LEN($D33)>0,SUMIF($F$13:$J$13,BD$13,$F33:$J33)>0,ASISTENCIA!#REF!<>\"X\",ASISTENCIA!#REF!<>\"L\",ASISTENCIA!#REF!<>\"J\",ASISTENCIA!#REF!<>\"F\"),SUMIF($F$13:$J$13,BD$13,$F33:$J33),\"\")","v":{"$error":"#REF!"}},{"$f":"IF(AND(LEN($D33)>0,SUMIF($F$13:$J$13,BE$13,$F33:$J33)>0,ASISTENCIA!#REF!<>\"X\",ASISTENCIA!#REF!<>\"L\",ASISTENCIA!#REF!<>\"J\",ASISTENCIA!#REF!<>\"F\"),SUMIF($F$13:$J$13,BE$13,$F33:$J33),\"\")","v":{"$error":"#REF!"}},{"$f":"IF(AND(LEN($D33)>0,SUMIF($F$13:$J$13,BF$13,$F33:$J33)>0,ASISTENCIA!#REF!<>\"X\",ASISTENCIA!#REF!<>\"L\",ASISTENCIA!#REF!<>\"J\",ASISTENCIA!#REF!<>\"F\"),SUMIF($F$13:$J$13,BF$13,$F33:$J33),\"\")","v":{"$error":"#REF!"}},{"$f":"IF(AND(LEN($D33)>0,SUMIF($F$13:$J$13,BG$13,$F33:$J33)>0,ASISTENCIA!#REF!<>\"X\",ASISTENCIA!#REF!<>\"L\",ASISTENCIA!#REF!<>\"J\",ASISTENCIA!#REF!<>\"F\"),SUMIF($F$13:$J$13,BG$13,$F33:$J33),\"\")","v":{"$error":"#REF!"}},{"$f":"IF(AND(LEN($D33)>0,SUMIF($F$13:$J$13,BH$13,$F33:$J33)>0,ASISTENCIA!#REF!<>\"X\",ASISTENCIA!#REF!<>\"L\",ASISTENCIA!#REF!<>\"J\",ASISTENCIA!#REF!<>\"F\"),SUMIF($F$13:$J$13,BH$13,$F33:$J33),\"\")","v":{"$error":"#REF!"}},{"$f":"IF(AND(LEN($D33)>0,SUMIF($F$13:$J$13,BI$13,$F33:$J33)>0,ASISTENCIA!#REF!<>\"X\",ASISTENCIA!#REF!<>\"L\",ASISTENCIA!#REF!<>\"J\",ASISTENCIA!#REF!<>\"F\"),SUMIF($F$13:$J$13,BI$13,$F33:$J33),\"\")","v":{"$error":"#REF!"}},{"$f":"IF(AND(LEN($D33)>0,SUMIF($F$13:$J$13,BJ$13,$F33:$J33)>0,ASISTENCIA!#REF!<>\"X\",ASISTENCIA!#REF!<>\"L\",ASISTENCIA!#REF!<>\"J\",ASISTENCIA!#REF!<>\"F\"),SUMIF($F$13:$J$13,BJ$13,$F33:$J33),\"\")","v":{"$error":"#REF!"}},{"$f":"IF(AND(LEN($D33)>0,SUMIF($F$13:$J$13,BK$13,$F33:$J33)>0,ASISTENCIA!#REF!<>\"X\",ASISTENCIA!#REF!<>\"L\",ASISTENCIA!#REF!<>\"J\",ASISTENCIA!#REF!<>\"F\"),SUMIF($F$13:$J$13,BK$13,$F33:$J33),\"\")","v":{"$error":"#REF!"}},{"$f":"IF(AND(LEN($D33)>0,SUMIF($F$13:$J$13,BL$13,$F33:$J33)>0,ASISTENCIA!#REF!<>\"X\",ASISTENCIA!#REF!<>\"L\",ASISTENCIA!#REF!<>\"J\",ASISTENCIA!#REF!<>\"F\"),SUMIF($F$13:$J$13,BL$13,$F33:$J33),\"\")","v":{"$error":"#REF!"}},{"$f":"IF(AND(LEN($D33)>0,SUMIF($F$13:$J$13,BM$13,$F33:$J33)>0,ASISTENCIA!#REF!<>\"X\",ASISTENCIA!#REF!<>\"L\",ASISTENCIA!#REF!<>\"J\",ASISTENCIA!#REF!<>\"F\"),SUMIF($F$13:$J$13,BM$13,$F33:$J33),\"\")","v":{"$error":"#REF!"}},{"$f":"IF(AND(LEN($D33)>0,SUMIF($F$13:$J$13,BN$13,$F33:$J33)>0,ASISTENCIA!#REF!<>\"X\",ASISTENCIA!#REF!<>\"L\",ASISTENCIA!#REF!<>\"J\",ASISTENCIA!#REF!<>\"F\"),SUMIF($F$13:$J$13,BN$13,$F33:$J33),\"\")","v":{"$error":"#REF!"}},{"$f":"IF(AND(LEN($D33)>0,SUMIF($F$13:$J$13,BO$13,$F33:$J33)>0,ASISTENCIA!#REF!<>\"X\",ASISTENCIA!#REF!<>\"L\",ASISTENCIA!#REF!<>\"J\",ASISTENCIA!#REF!<>\"F\"),SUMIF($F$13:$J$13,BO$13,$F33:$J33),\"\")","v":{"$error":"#REF!"}},{"$f":"IF(AND(LEN($D33)>0,SUMIF($F$13:$J$13,BP$13,$F33:$J33)>0,ASISTENCIA!#REF!<>\"X\",ASISTENCIA!#REF!<>\"L\",ASISTENCIA!#REF!<>\"J\",ASISTENCIA!#REF!<>\"F\"),SUMIF($F$13:$J$13,BP$13,$F33:$J33),\"\")","v":{"$error":"#REF!"}},{"$f":"IF(AND(LEN($D33)>0,SUMIF($F$13:$J$13,BQ$13,$F33:$J33)>0,ASISTENCIA!#REF!<>\"X\",ASISTENCIA!#REF!<>\"L\",ASISTENCIA!#REF!<>\"J\",ASISTENCIA!#REF!<>\"F\"),SUMIF($F$13:$J$13,BQ$13,$F33:$J33),\"\")","v":{"$error":"#REF!"}},{"$f":"IF(AND(LEN($D33)>0,SUMIF($F$13:$J$13,BR$13,$F33:$J33)>0,ASISTENCIA!#REF!<>\"X\",ASISTENCIA!#REF!<>\"L\",ASISTENCIA!#REF!<>\"J\",ASISTENCIA!#REF!<>\"F\"),SUMIF($F$13:$J$13,BR$13,$F33:$J33),\"\")","v":{"$error":"#REF!"}},{"$f":"IF(AND(LEN($D33)>0,SUMIF($F$13:$J$13,BS$13,$F33:$J33)>0,ASISTENCIA!#REF!<>\"X\",ASISTENCIA!#REF!<>\"L\",ASISTENCIA!#REF!<>\"J\",ASISTENCIA!#REF!<>\"F\"),SUMIF($F$13:$J$13,BS$13,$F33:$J33),\"\")","v":{"$error":"#REF!"}},{"$f":"IF(AND(LEN($D33)>0,SUMIF($F$13:$J$13,BT$13,$F33:$J33)>0,ASISTENCIA!#REF!<>\"X\",ASISTENCIA!#REF!<>\"L\",ASISTENCIA!#REF!<>\"J\",ASISTENCIA!#REF!<>\"F\"),SUMIF($F$13:$J$13,BT$13,$F33:$J33),\"\")","v":{"$error":"#REF!"}},{"$f":"IF(AND(LEN($D33)>0,SUMIF($F$13:$J$13,BU$13,$F33:$J33)>0,ASISTENCIA!#REF!<>\"X\",ASISTENCIA!#REF!<>\"L\",ASISTENCIA!#REF!<>\"J\",ASISTENCIA!#REF!<>\"F\"),SUMIF($F$13:$J$13,BU$13,$F33:$J33),\"\")","v":{"$error":"#REF!"}},{"$f":"IF(AND(LEN($D33)>0,SUMIF($F$13:$J$13,BV$13,$F33:$J33)>0,ASISTENCIA!#REF!<>\"X\",ASISTENCIA!#REF!<>\"L\",ASISTENCIA!#REF!<>\"J\",ASISTENCIA!#REF!<>\"F\"),SUMIF($F$13:$J$13,BV$13,$F33:$J33),\"\")","v":{"$error":"#REF!"}},{"$f":"IF(AND(LEN($D33)>0,SUMIF($F$13:$J$13,BW$13,$F33:$J33)>0,ASISTENCIA!#REF!<>\"X\",ASISTENCIA!#REF!<>\"L\",ASISTENCIA!#REF!<>\"J\",ASISTENCIA!#REF!<>\"F\"),SUMIF($F$13:$J$13,BW$13,$F33:$J33),\"\")","v":{"$error":"#REF!"}},{"$f":"IF(AND(LEN($D33)>0,SUMIF($F$13:$J$13,BX$13,$F33:$J33)>0,ASISTENCIA!#REF!<>\"X\",ASISTENCIA!#REF!<>\"L\",ASISTENCIA!#REF!<>\"J\",ASISTENCIA!#REF!<>\"F\"),SUMIF($F$13:$J$13,BX$13,$F33:$J33),\"\")","v":{"$error":"#REF!"}},{"$f":"IF(AND(LEN($D33)>0,SUMIF($F$13:$J$13,BY$13,$F33:$J33)>0,ASISTENCIA!#REF!<>\"X\",ASISTENCIA!#REF!<>\"L\",ASISTENCIA!#REF!<>\"J\",ASISTENCIA!#REF!<>\"F\"),SUMIF($F$13:$J$13,BY$13,$F33:$J33),\"\")","v":{"$error":"#REF!"}},{"$f":"IF(AND(LEN($D33)>0,SUMIF($F$13:$J$13,BZ$13,$F33:$J33)>0,ASISTENCIA!#REF!<>\"X\",ASISTENCIA!#REF!<>\"L\",ASISTENCIA!#REF!<>\"J\",ASISTENCIA!#REF!<>\"F\"),SUMIF($F$13:$J$13,BZ$13,$F33:$J33),\"\")","v":{"$error":"#REF!"}},{"$f":"IF(AND(LEN($D33)>0,SUMIF($F$13:$J$13,CA$13,$F33:$J33)>0,ASISTENCIA!#REF!<>\"X\",ASISTENCIA!#REF!<>\"L\",ASISTENCIA!#REF!<>\"J\",ASISTENCIA!#REF!<>\"F\"),SUMIF($F$13:$J$13,CA$13,$F33:$J33),\"\")","v":{"$error":"#REF!"}},{"$f":"IF(AND(LEN($D33)>0,SUMIF($F$13:$J$13,CB$13,$F33:$J33)>0,ASISTENCIA!#REF!<>\"X\",ASISTENCIA!#REF!<>\"L\",ASISTENCIA!#REF!<>\"J\",ASISTENCIA!#REF!<>\"F\"),SUMIF($F$13:$J$13,CB$13,$F33:$J33),\"\")","v":{"$error":"#REF!"}},{"$error":"#REF!"}]
[{"$error":"#REF!"},{"$f":"IF(LEN(C34)>0,VLOOKUP($O$4,DATA!$A$1:$S$1,2,FALSE),\"\")","v":{"$error":"#REF!"}},{"$error":"#REF!"},{"$f":"IF(LEN(ASISTENCIA!#REF!)>0,ASISTENCIA!#REF!,\"\")","v":{"$error":"#REF!"}},{"$f":"IF(LEN(D34)>0,ASISTENCIA!#REF!,\"\")","v":{"$error":"#REF!"}},null,null,null,null,null,"",null,null,{"$error":"#REF!"},{"$f":"IF(AND(LEN($D34)>0,SUMIF($F$13:$J$13,O$13,$F34:$J34)>0,ASISTENCIA!#REF!<>\"X\",ASISTENCIA!#REF!<>\"L\",ASISTENCIA!#REF!<>\"J\",ASISTENCIA!#REF!<>\"V\",ASISTENCIA!#REF!<>\"F\",ASISTENCIA!#REF!<>\"\"),SUMIF($F$13:$J$13,O$13,$F34:$J34),\"\")","v":{"$error":"#REF!"}},{"$f":"IF(AND(LEN($D34)>0,SUMIF($F$13:$J$13,P$13,$F34:$J34)>0,ASISTENCIA!#REF!<>\"X\",ASISTENCIA!#REF!<>\"L\",ASISTENCIA!#REF!<>\"J\",ASISTENCIA!#REF!<>\"V\",ASISTENCIA!#REF!<>\"F\",ASISTENCIA!#REF!<>\"\"),SUMIF($F$13:$J$13,P$13,$F34:$J34),\"\")","v":{"$error":"#REF!"}},{"$f":"IF(AND(LEN($D34)>0,SUMIF($F$13:$J$13,Q$13,$F34:$J34)>0,ASISTENCIA!#REF!<>\"X\",ASISTENCIA!#REF!<>\"L\",ASISTENCIA!#REF!<>\"J\",ASISTENCIA!#REF!<>\"V\",ASISTENCIA!#REF!<>\"F\",ASISTENCIA!#REF!<>\"\"),SUMIF($F$13:$J$13,Q$13,$F34:$J34),\"\")","v":{"$error":"#REF!"}},{"$f":"IF(AND(LEN($D34)>0,SUMIF($F$13:$J$13,R$13,$F34:$J34)>0,ASISTENCIA!#REF!<>\"X\",ASISTENCIA!#REF!<>\"L\",ASISTENCIA!#REF!<>\"J\",ASISTENCIA!#REF!<>\"V\",ASISTENCIA!#REF!<>\"F\",ASISTENCIA!#REF!<>\"\"),SUMIF($F$13:$J$13,R$13,$F34:$J34),\"\")","v":{"$error":"#REF!"}},{"$f":"IF(AND(LEN($D34)>0,SUMIF($F$13:$J$13,S$13,$F34:$J34)>0,ASISTENCIA!#REF!<>\"X\",ASISTENCIA!#REF!<>\"L\",ASISTENCIA!#REF!<>\"J\",ASISTENCIA!#REF!<>\"V\",ASISTENCIA!#REF!<>\"F\",ASISTENCIA!#REF!<>\"\"),SUMIF($F$13:$J$13,S$13,$F34:$J34),\"\")","v":{"$error":"#REF!"}},{"$f":"IF(AND(LEN($D34)>0,SUMIF($F$13:$J$13,T$13,$F34:$J34)>0,ASISTENCIA!#REF!<>\"X\",ASISTENCIA!#REF!<>\"L\",ASISTENCIA!#REF!<>\"J\",ASISTENCIA!#REF!<>\"V\",ASISTENCIA!#REF!<>\"F\",ASISTENCIA!#REF!<>\"\"),SUMIF($F$13:$J$13,T$13,$F34:$J34),\"\")","v":{"$error":"#REF!"}},{"$f":"IF(AND(LEN($D34)>0,SUMIF($F$13:$J$13,U$13,$F34:$J34)>0,ASISTENCIA!#REF!<>\"X\",ASISTENCIA!#REF!<>\"L\",ASISTENCIA!#REF!<>\"J\",ASISTENCIA!#REF!<>\"V\",ASISTENCIA!#REF!<>\"F\",ASISTENCIA!#REF!<>\"\"),SUMIF($F$13:$J$13,U$13,$F34:$J34),\"\")","v":{"$error":"#REF!"}},{"$f":"IF(AND(LEN($D34)>0,SUMIF($F$13:$J$13,V$13,$F34:$J34)>0,ASISTENCIA!#REF!<>\"X\",ASISTENCIA!#REF!<>\"L\",ASISTENCIA!#REF!<>\"J\",ASISTENCIA!#REF!<>\"V\",ASISTENCIA!#REF!<>\"F\",ASISTENCIA!#REF!<>\"\"),SUMIF($F$13:$J$13,V$13,$F34:$J34),\"\")","v":{"$error":"#REF!"}},{"$f":"IF(AND(LEN($D34)>0,SUMIF($F$13:$J$13,W$13,$F34:$J34)>0,ASISTENCIA!#REF!<>\"X\",ASISTENCIA!#REF!<>\"L\",ASISTENCIA!#REF!<>\"J\",ASISTENCIA!#REF!<>\"V\",ASISTENCIA!#REF!<>\"F\",ASISTENCIA!#REF!<>\"\"),SUMIF($F$13:$J$13,W$13,$F34:$J34),\"\")","v":{"$error":"#REF!"}},{"$f":"IF(AND(LEN($D34)>0,SUMIF($F$13:$J$13,X$13,$F34:$J34)>0,ASISTENCIA!#REF!<>\"X\",ASISTENCIA!#REF!<>\"L\",ASISTENCIA!#REF!<>\"J\",ASISTENCIA!#REF!<>\"V\",ASISTENCIA!#REF!<>\"F\",ASISTENCIA!#REF!<>\"\"),SUMIF($F$13:$J$13,X$13,$F34:$J34),\"\")","v":{"$error":"#REF!"}},{"$f":"IF(AND(LEN($D34)>0,SUMIF($F$13:$J$13,Y$13,$F34:$J34)>0,ASISTENCIA!#REF!<>\"X\",ASISTENCIA!#REF!<>\"L\",ASISTENCIA!#REF!<>\"J\",ASISTENCIA!#REF!<>\"V\",ASISTENCIA!#REF!<>\"F\",ASISTENCIA!#REF!<>\"\"),SUMIF($F$13:$J$13,Y$13,$F34:$J34),\"\")","v":{"$error":"#REF!"}},{"$f":"IF(AND(LEN($D34)>0,SUMIF($F$13:$J$13,Z$13,$F34:$J34)>0,ASISTENCIA!#REF!<>\"X\",ASISTENCIA!#REF!<>\"L\",ASISTENCIA!#REF!<>\"J\",ASISTENCIA!#REF!<>\"V\",ASISTENCIA!#REF!<>\"F\",ASISTENCIA!#REF!<>\"\"),SUMIF($F$13:$J$13,Z$13,$F34:$J34),\"\")","v":{"$error":"#REF!"}},{"$f":"IF(AND(LEN($D34)>0,SUMIF($F$13:$J$13,AA$13,$F34:$J34)>0,ASISTENCIA!#REF!<>\"X\",ASISTENCIA!#REF!<>\"L\",ASISTENCIA!#REF!<>\"J\",ASISTENCIA!#REF!<>\"V\",ASISTENCIA!#REF!<>\"F\",ASISTENCIA!#REF!<>\"\"),SUMIF($F$13:$J$13,AA$13,$F34:$J34),\"\")","v":{"$error":"#REF!"}},{"$f":"IF(AND(LEN($D34)>0,SUMIF($F$13:$J$13,AB$13,$F34:$J34)>0,ASISTENCIA!#REF!<>\"X\",ASISTENCIA!#REF!<>\"L\",ASISTENCIA!#REF!<>\"J\",ASISTENCIA!#REF!<>\"V\",ASISTENCIA!#REF!<>\"F\",ASISTENCIA!#REF!<>\"\"),SUMIF($F$13:$J$13,AB$13,$F34:$J34),\"\")","v":{"$error":"#REF!"}},{"$f":"IF(AND(LEN($D34)>0,SUMIF($F$13:$J$13,AC$13,$F34:$J34)>0,ASISTENCIA!#REF!<>\"X\",ASISTENCIA!#REF!<>\"L\",ASISTENCIA!#REF!<>\"J\",ASISTENCIA!#REF!<>\"V\",ASISTENCIA!#REF!<>\"F\",ASISTENCIA!#REF!<>\"\"),SUMIF($F$13:$J$13,AC$13,$F34:$J34),\"\")","v":{"$error":"#REF!"}},{"$f":"IF(AND(LEN($D34)>0,SUMIF($F$13:$J$13,AD$13,$F34:$J34)>0,ASISTENCIA!#REF!<>\"X\",ASISTENCIA!#REF!<>\"L\",ASISTENCIA!#REF!<>\"J\",ASISTENCIA!#REF!<>\"V\",ASISTENCIA!#REF!<>\"F\",ASISTENCIA!#REF!<>\"\"),SUMIF($F$13:$J$13,AD$13,$F34:$J34),\"\")","v":{"$error":"#REF!"}},{"$f":"IF(AND(LEN($D34)>0,SUMIF($F$13:$J$13,AE$13,$F34:$J34)>0,ASISTENCIA!#REF!<>\"X\",ASISTENCIA!#REF!<>\"L\",ASISTENCIA!#REF!<>\"J\",ASISTENCIA!#REF!<>\"V\",ASISTENCIA!#REF!<>\"F\",ASISTENCIA!#REF!<>\"\"),SUMIF($F$13:$J$13,AE$13,$F34:$J34),\"\")","v":{"$error":"#REF!"}},{"$f":"IF(AND(LEN($D34)>0,SUMIF($F$13:$J$13,AF$13,$F34:$J34)>0,ASISTENCIA!#REF!<>\"X\",ASISTENCIA!#REF!<>\"L\",ASISTENCIA!#REF!<>\"J\",ASISTENCIA!#REF!<>\"V\",ASISTENCIA!#REF!<>\"F\",ASISTENCIA!#REF!<>\"\"),SUMIF($F$13:$J$13,AF$13,$F34:$J34),\"\")","v":{"$error":"#REF!"}},{"$f":"IF(AND(LEN($D34)>0,SUMIF($F$13:$J$13,AG$13,$F34:$J34)>0,ASISTENCIA!#REF!<>\"X\",ASISTENCIA!#REF!<>\"L\",ASISTENCIA!#REF!<>\"J\",ASISTENCIA!#REF!<>\"V\",ASISTENCIA!#REF!<>\"F\",ASISTENCIA!#REF!<>\"\"),SUMIF($F$13:$J$13,AG$13,$F34:$J34),\"\")","v":{"$error":"#REF!"}},{"$f":"IF(AND(LEN($D34)>0,SUMIF($F$13:$J$13,AH$13,$F34:$J34)>0,ASISTENCIA!#REF!<>\"X\",ASISTENCIA!#REF!<>\"L\",ASISTENCIA!#REF!<>\"J\",ASISTENCIA!#REF!<>\"V\",ASISTENCIA!#REF!<>\"F\",ASISTENCIA!#REF!<>\"\"),SUMIF($F$13:$J$13,AH$13,$F34:$J34),\"\")","v":{"$error":"#REF!"}},{"$f":"IF(AND(LEN($D34)>0,SUMIF($F$13:$J$13,AI$13,$F34:$J34)>0,ASISTENCIA!#REF!<>\"X\",ASISTENCIA!#REF!<>\"L\",ASISTENCIA!#REF!<>\"J\",ASISTENCIA!#REF!<>\"V\",ASISTENCIA!#REF!<>\"F\",ASISTENCIA!#REF!<>\"\"),SUMIF($F$13:$J$13,AI$13,$F34:$J34),\"\")","v":{"$error":"#REF!"}},{"$f":"IF(AND(LEN($D34)>0,SUMIF($F$13:$J$13,AJ$13,$F34:$J34)>0,ASISTENCIA!#REF!<>\"X\",ASISTENCIA!#REF!<>\"L\",ASISTENCIA!#REF!<>\"J\",ASISTENCIA!#REF!<>\"V\",ASISTENCIA!#REF!<>\"F\",ASISTENCIA!#REF!<>\"\"),SUMIF($F$13:$J$13,AJ$13,$F34:$J34),\"\")","v":{"$error":"#REF!"}},{"$f":"IF(AND(LEN($D34)>0,SUMIF($F$13:$J$13,AK$13,$F34:$J34)>0,ASISTENCIA!#REF!<>\"X\",ASISTENCIA!#REF!<>\"L\",ASISTENCIA!#REF!<>\"J\",ASISTENCIA!#REF!<>\"V\",ASISTENCIA!#REF!<>\"F\",ASISTENCIA!#REF!<>\"\"),SUMIF($F$13:$J$13,AK$13,$F34:$J34),\"\")","v":{"$error":"#REF!"}},{"$f":"IF(AND(LEN($D34)>0,SUMIF($F$13:$J$13,AL$13,$F34:$J34)>0,ASISTENCIA!#REF!<>\"X\",ASISTENCIA!#REF!<>\"L\",ASISTENCIA!#REF!<>\"J\",ASISTENCIA!#REF!<>\"V\",ASISTENCIA!#REF!<>\"F\",ASISTENCIA!#REF!<>\"\"),SUMIF($F$13:$J$13,AL$13,$F34:$J34),\"\")","v":{"$error":"#REF!"}},{"$f":"IF(AND(LEN($D34)>0,SUMIF($F$13:$J$13,AM$13,$F34:$J34)>0,ASISTENCIA!#REF!<>\"X\",ASISTENCIA!#REF!<>\"L\",ASISTENCIA!#REF!<>\"J\",ASISTENCIA!#REF!<>\"V\",ASISTENCIA!#REF!<>\"F\",ASISTENCIA!#REF!<>\"\"),SUMIF($F$13:$J$13,AM$13,$F34:$J34),\"\")","v":{"$error":"#REF!"}},{"$f":"IF(AND(LEN($D34)>0,SUMIF($F$13:$J$13,AN$13,$F34:$J34)>0,ASISTENCIA!#REF!<>\"X\",ASISTENCIA!#REF!<>\"L\",ASISTENCIA!#REF!<>\"J\",ASISTENCIA!#REF!<>\"V\",ASISTENCIA!#REF!<>\"F\",ASISTENCIA!#REF!<>\"\"),SUMIF($F$13:$J$13,AN$13,$F34:$J34),\"\")","v":{"$error":"#REF!"}},{"$f":"IF(AND(LEN($D34)>0,SUMIF($F$13:$J$13,AO$13,$F34:$J34)>0,ASISTENCIA!#REF!<>\"X\",ASISTENCIA!#REF!<>\"L\",ASISTENCIA!#REF!<>\"J\",ASISTENCIA!#REF!<>\"V\",ASISTENCIA!#REF!<>\"F\",ASISTENCIA!#REF!<>\"\"),SUMIF($F$13:$J$13,AO$13,$F34:$J34),\"\")","v":{"$error":"#REF!"}},{"$f":"IF(AND(LEN($D34)>0,SUMIF($F$13:$J$13,AP$13,$F34:$J34)>0,ASISTENCIA!#REF!<>\"X\",ASISTENCIA!#REF!<>\"L\",ASISTENCIA!#REF!<>\"J\",ASISTENCIA!#REF!<>\"V\",ASISTENCIA!#REF!<>\"F\",ASISTENCIA!#REF!<>\"\"),SUMIF($F$13:$J$13,AP$13,$F34:$J34),\"\")","v":{"$error":"#REF!"}},{"$f":"IF(AND(LEN($D34)>0,SUMIF($F$13:$J$13,AQ$13,$F34:$J34)>0,ASISTENCIA!#REF!<>\"X\",ASISTENCIA!#REF!<>\"L\",ASISTENCIA!#REF!<>\"J\",ASISTENCIA!#REF!<>\"V\",ASISTENCIA!#REF!<>\"F\",ASISTENCIA!#REF!<>\"\"),SUMIF($F$13:$J$13,AQ$13,$F34:$J34),\"\")","v":{"$error":"#REF!"}},{"$f":"IF(AND(LEN($D34)>0,SUMIF($F$13:$J$13,AR$13,$F34:$J34)>0,ASISTENCIA!#REF!<>\"X\",ASISTENCIA!#REF!<>\"L\",ASISTENCIA!#REF!<>\"J\",ASISTENCIA!#REF!<>\"V\",ASISTENCIA!#REF!<>\"F\",ASISTENCIA!#REF!<>\"\"),SUMIF($F$13:$J$13,AR$13,$F34:$J34),\"\")","v":{"$error":"#REF!"}},{"$f":"IF(AND(LEN($D34)>0,SUMIF($F$13:$J$13,AS$13,$F34:$J34)>0,ASISTENCIA!#REF!<>\"X\",ASISTENCIA!#REF!<>\"L\",ASISTENCIA!#REF!<>\"J\",ASISTENCIA!#REF!<>\"V\",ASISTENCIA!#REF!<>\"F\",ASISTENCIA!#REF!<>\"\"),SUMIF($F$13:$J$13,AS$13,$F34:$J34),\"\")","v":{"$error":"#REF!"}},{"$error":"#REF!"},null,null,null,{"$f":"IF(AND(LEN($D34)>0,SUMIF($F$13:$J$13,AX$13,$F34:$J34)>0,ASISTENCIA!#REF!<>\"X\",ASISTENCIA!#REF!<>\"L\",ASISTENCIA!#REF!<>\"J\",ASISTENCIA!#REF!<>\"F\"),SUMIF($F$13:$J$13,AX$13,$F34:$J34),\"\")","v":{"$error":"#REF!"}},{"$f":"IF(AND(LEN($D34)>0,SUMIF($F$13:$J$13,AY$13,$F34:$J34)>0,ASISTENCIA!#REF!<>\"X\",ASISTENCIA!#REF!<>\"L\",ASISTENCIA!#REF!<>\"J\",ASISTENCIA!#REF!<>\"F\"),SUMIF($F$13:$J$13,AY$13,$F34:$J34),\"\")","v":{"$error":"#REF!"}},{"$f":"IF(AND(LEN($D34)>0,SUMIF($F$13:$J$13,AZ$13,$F34:$J34)>0,ASISTENCIA!#REF!<>\"X\",ASISTENCIA!#REF!<>\"L\",ASISTENCIA!#REF!<>\"J\",ASISTENCIA!#REF!<>\"F\"),SUMIF($F$13:$J$13,AZ$13,$F34:$J34),\"\")","v":{"$error":"#REF!"}},{"$f":"IF(AND(LEN($D34)>0,SUMIF($F$13:$J$13,BA$13,$F34:$J34)>0,ASISTENCIA!#REF!<>\"X\",ASISTENCIA!#REF!<>\"L\",ASISTENCIA!#REF!<>\"J\",ASISTENCIA!#REF!<>\"F\"),SUMIF($F$13:$J$13,BA$13,$F34:$J34),\"\")","v":{"$error":"#REF!"}},{"$f":"IF(AND(LEN($D34)>0,SUMIF($F$13:$J$13,BB$13,$F34:$J34)>0,ASISTENCIA!#REF!<>\"X\",ASISTENCIA!#REF!<>\"L\",ASISTENCIA!#REF!<>\"J\",ASISTENCIA!#REF!<>\"F\"),SUMIF($F$13:$J$13,BB$13,$F34:$J34),\"\")","v":{"$error":"#REF!"}},{"$f":"IF(AND(LEN($D34)>0,SUMIF($F$13:$J$13,BC$13,$F34:$J34)>0,ASISTENCIA!#REF!<>\"X\",ASISTENCIA!#REF!<>\"L\",ASISTENCIA!#REF!<>\"J\",ASISTENCIA!#REF!<>\"F\"),SUMIF($F$13:$J$13,BC$13,$F34:$J34),\"\")","v":{"$error":"#REF!"}},{"$f":"IF(AND(LEN($D34)>0,SUMIF($F$13:$J$13,BD$13,$F34:$J34)>0,ASISTENCIA!#REF!<>\"X\",ASISTENCIA!#REF!<>\"L\",ASISTENCIA!#REF!<>\"J\",ASISTENCIA!#REF!<>\"F\"),SUMIF($F$13:$J$13,BD$13,$F34:$J34),\"\")","v":{"$error":"#REF!"}},{"$f":"IF(AND(LEN($D34)>0,SUMIF($F$13:$J$13,BE$13,$F34:$J34)>0,ASISTENCIA!#REF!<>\"X\",ASISTENCIA!#REF!<>\"L\",ASISTENCIA!#REF!<>\"J\",ASISTENCIA!#REF!<>\"F\"),SUMIF($F$13:$J$13,BE$13,$F34:$J34),\"\")","v":{"$error":"#REF!"}},{"$f":"IF(AND(LEN($D34)>0,SUMIF($F$13:$J$13,BF$13,$F34:$J34)>0,ASISTENCIA!#REF!<>\"X\",ASISTENCIA!#REF!<>\"L\",ASISTENCIA!#REF!<>\"J\",ASISTENCIA!#REF!<>\"F\"),SUMIF($F$13:$J$13,BF$13,$F34:$J34),\"\")","v":{"$error":"#REF!"}},{"$f":"IF(AND(LEN($D34)>0,SUMIF($F$13:$J$13,BG$13,$F34:$J34)>0,ASISTENCIA!#REF!<>\"X\",ASISTENCIA!#REF!<>\"L\",ASISTENCIA!#REF!<>\"J\",ASISTENCIA!#REF!<>\"F\"),SUMIF($F$13:$J$13,BG$13,$F34:$J34),\"\")","v":{"$error":"#REF!"}},{"$f":"IF(AND(LEN($D34)>0,SUMIF($F$13:$J$13,BH$13,$F34:$J34)>0,ASISTENCIA!#REF!<>\"X\",ASISTENCIA!#REF!<>\"L\",ASISTENCIA!#REF!<>\"J\",ASISTENCIA!#REF!<>\"F\"),SUMIF($F$13:$J$13,BH$13,$F34:$J34),\"\")","v":{"$error":"#REF!"}},{"$f":"IF(AND(LEN($D34)>0,SUMIF($F$13:$J$13,BI$13,$F34:$J34)>0,ASISTENCIA!#REF!<>\"X\",ASISTENCIA!#REF!<>\"L\",ASISTENCIA!#REF!<>\"J\",ASISTENCIA!#REF!<>\"F\"),SUMIF($F$13:$J$13,BI$13,$F34:$J34),\"\")","v":{"$error":"#REF!"}},{"$f":"IF(AND(LEN($D34)>0,SUMIF($F$13:$J$13,BJ$13,$F34:$J34)>0,ASISTENCIA!#REF!<>\"X\",ASISTENCIA!#REF!<>\"L\",ASISTENCIA!#REF!<>\"J\",ASISTENCIA!#REF!<>\"F\"),SUMIF($F$13:$J$13,BJ$13,$F34:$J34),\"\")","v":{"$error":"#REF!"}},{"$f":"IF(AND(LEN($D34)>0,SUMIF($F$13:$J$13,BK$13,$F34:$J34)>0,ASISTENCIA!#REF!<>\"X\",ASISTENCIA!#REF!<>\"L\",ASISTENCIA!#REF!<>\"J\",ASISTENCIA!#REF!<>\"F\"),SUMIF($F$13:$J$13,BK$13,$F34:$J34),\"\")","v":{"$error":"#REF!"}},{"$f":"IF(AND(LEN($D34)>0,SUMIF($F$13:$J$13,BL$13,$F34:$J34)>0,ASISTENCIA!#REF!<>\"X\",ASISTENCIA!#REF!<>\"L\",ASISTENCIA!#REF!<>\"J\",ASISTENCIA!#REF!<>\"F\"),SUMIF($F$13:$J$13,BL$13,$F34:$J34),\"\")","v":{"$error":"#REF!"}},{"$f":"IF(AND(LEN($D34)>0,SUMIF($F$13:$J$13,BM$13,$F34:$J34)>0,ASISTENCIA!#REF!<>\"X\",ASISTENCIA!#REF!<>\"L\",ASISTENCIA!#REF!<>\"J\",ASISTENCIA!#REF!<>\"F\"),SUMIF($F$13:$J$13,BM$13,$F34:$J34),\"\")","v":{"$error":"#REF!"}},{"$f":"IF(AND(LEN($D34)>0,SUMIF($F$13:$J$13,BN$13,$F34:$J34)>0,ASISTENCIA!#REF!<>\"X\",ASISTENCIA!#REF!<>\"L\",ASISTENCIA!#REF!<>\"J\",ASISTENCIA!#REF!<>\"F\"),SUMIF($F$13:$J$13,BN$13,$F34:$J34),\"\")","v":{"$error":"#REF!"}},{"$f":"IF(AND(LEN($D34)>0,SUMIF($F$13:$J$13,BO$13,$F34:$J34)>0,ASISTENCIA!#REF!<>\"X\",ASISTENCIA!#REF!<>\"L\",ASISTENCIA!#REF!<>\"J\",ASISTENCIA!#REF!<>\"F\"),SUMIF($F$13:$J$13,BO$13,$F34:$J34),\"\")","v":{"$error":"#REF!"}},{"$f":"IF(AND(LEN($D34)>0,SUMIF($F$13:$J$13,BP$13,$F34:$J34)>0,ASISTENCIA!#REF!<>\"X\",ASISTENCIA!#REF!<>\"L\",ASISTENCIA!#REF!<>\"J\",ASISTENCIA!#REF!<>\"F\"),SUMIF($F$13:$J$13,BP$13,$F34:$J34),\"\")","v":{"$error":"#REF!"}},{"$f":"IF(AND(LEN($D34)>0,SUMIF($F$13:$J$13,BQ$13,$F34:$J34)>0,ASISTENCIA!#REF!<>\"X\",ASISTENCIA!#REF!<>\"L\",ASISTENCIA!#REF!<>\"J\",ASISTENCIA!#REF!<>\"F\"),SUMIF($F$13:$J$13,BQ$13,$F34:$J34),\"\")","v":{"$error":"#REF!"}},{"$f":"IF(AND(LEN($D34)>0,SUMIF($F$13:$J$13,BR$13,$F34:$J34)>0,ASISTENCIA!#REF!<>\"X\",ASISTENCIA!#REF!<>\"L\",ASISTENCIA!#REF!<>\"J\",ASISTENCIA!#REF!<>\"F\"),SUMIF($F$13:$J$13,BR$13,$F34:$J34),\"\")","v":{"$error":"#REF!"}},{"$f":"IF(AND(LEN($D34)>0,SUMIF($F$13:$J$13,BS$13,$F34:$J34)>0,ASISTENCIA!#REF!<>\"X\",ASISTENCIA!#REF!<>\"L\",ASISTENCIA!#REF!<>\"J\",ASISTENCIA!#REF!<>\"F\"),SUMIF($F$13:$J$13,BS$13,$F34:$J34),\"\")","v":{"$error":"#REF!"}},{"$f":"IF(AND(LEN($D34)>0,SUMIF($F$13:$J$13,BT$13,$F34:$J34)>0,ASISTENCIA!#REF!<>\"X\",ASISTENCIA!#REF!<>\"L\",ASISTENCIA!#REF!<>\"J\",ASISTENCIA!#REF!<>\"F\"),SUMIF($F$13:$J$13,BT$13,$F34:$J34),\"\")","v":{"$error":"#REF!"}},{"$f":"IF(AND(LEN($D34)>0,SUMIF($F$13:$J$13,BU$13,$F34:$J34)>0,ASISTENCIA!#REF!<>\"X\",ASISTENCIA!#REF!<>\"L\",ASISTENCIA!#REF!<>\"J\",ASISTENCIA!#REF!<>\"F\"),SUMIF($F$13:$J$13,BU$13,$F34:$J34),\"\")","v":{"$error":"#REF!"}},{"$f":"IF(AND(LEN($D34)>0,SUMIF($F$13:$J$13,BV$13,$F34:$J34)>0,ASISTENCIA!#REF!<>\"X\",ASISTENCIA!#REF!<>\"L\",ASISTENCIA!#REF!<>\"J\",ASISTENCIA!#REF!<>\"F\"),SUMIF($F$13:$J$13,BV$13,$F34:$J34),\"\")","v":{"$error":"#REF!"}},{"$f":"IF(AND(LEN($D34)>0,SUMIF($F$13:$J$13,BW$13,$F34:$J34)>0,ASISTENCIA!#REF!<>\"X\",ASISTENCIA!#REF!<>\"L\",ASISTENCIA!#REF!<>\"J\",ASISTENCIA!#REF!<>\"F\"),SUMIF($F$13:$J$13,BW$13,$F34:$J34),\"\")","v":{"$error":"#REF!"}},{"$f":"IF(AND(LEN($D34)>0,SUMIF($F$13:$J$13,BX$13,$F34:$J34)>0,ASISTENCIA!#REF!<>\"X\",ASISTENCIA!#REF!<>\"L\",ASISTENCIA!#REF!<>\"J\",ASISTENCIA!#REF!<>\"F\"),SUMIF($F$13:$J$13,BX$13,$F34:$J34),\"\")","v":{"$error":"#REF!"}},{"$f":"IF(AND(LEN($D34)>0,SUMIF($F$13:$J$13,BY$13,$F34:$J34)>0,ASISTENCIA!#REF!<>\"X\",ASISTENCIA!#REF!<>\"L\",ASISTENCIA!#REF!<>\"J\",ASISTENCIA!#REF!<>\"F\"),SUMIF($F$13:$J$13,BY$13,$F34:$J34),\"\")","v":{"$error":"#REF!"}},{"$f":"IF(AND(LEN($D34)>0,SUMIF($F$13:$J$13,BZ$13,$F34:$J34)>0,ASISTENCIA!#REF!<>\"X\",ASISTENCIA!#REF!<>\"L\",ASISTENCIA!#REF!<>\"J\",ASISTENCIA!#REF!<>\"F\"),SUMIF($F$13:$J$13,BZ$13,$F34:$J34),\"\")","v":{"$error":"#REF!"}},{"$f":"IF(AND(LEN($D34)>0,SUMIF($F$13:$J$13,CA$13,$F34:$J34)>0,ASISTENCIA!#REF!<>\"X\",ASISTENCIA!#REF!<>\"L\",ASISTENCIA!#REF!<>\"J\",ASISTENCIA!#REF!<>\"F\"),SUMIF($F$13:$J$13,CA$13,$F34:$J34),\"\")","v":{"$error":"#REF!"}},{"$f":"IF(AND(LEN($D34)>0,SUMIF($F$13:$J$13,CB$13,$F34:$J34)>0,ASISTENCIA!#REF!<>\"X\",ASISTENCIA!#REF!<>\"L\",ASISTENCIA!#REF!<>\"J\",ASISTENCIA!#REF!<>\"F\"),SUMIF($F$13:$J$13,CB$13,$F34:$J34),\"\")","v":{"$error":"#REF!"}},{"$error":"#REF!"}]
[{"$error":"#REF!"},{"$f":"IF(LEN(C35)>0,VLOOKUP($O$4,DATA!$A$1:$S$1,2,FALSE),\"\")","v":{"$error":"#REF!"}},{"$error":"#REF!"},{"$f":"IF(LEN(ASISTENCIA!#REF!)>0,ASISTENCIA!#REF!,\"\")","v":{"$error":"#REF!"}},{"$f":"IF(LEN(D35)>0,ASISTENCIA!#REF!,\"\")","v":{"$error":"#REF!"}},null,null,null,null,null,"",null,null,{"$error":"#REF!"},{"$f":"IF(AND(LEN($D35)>0,SUMIF($F$13:$J$13,O$13,$F35:$J35)>0,ASISTENCIA!#REF!<>\"X\",ASISTENCIA!#REF!<>\"L\",ASISTENCIA!#REF!<>\"J\",ASISTENCIA!#REF!<>\"V\",ASISTENCIA!#REF!<>\"F\",ASISTENCIA!#REF!<>\"\"),SUMIF($F$13:$J$13,O$13,$F35:$J35),\"\")","v":{"$error":"#REF!"}},{"$f":"IF(AND(LEN($D35)>0,SUMIF($F$13:$J$13,P$13,$F35:$J35)>0,ASISTENCIA!#REF!<>\"X\",ASISTENCIA!#REF!<>\"L\",ASISTENCIA!#REF!<>\"J\",ASISTENCIA!#REF!<>\"V\",ASISTENCIA!#REF!<>\"F\",ASISTENCIA!#REF!<>\"\"),SUMIF($F$13:$J$13,P$13,$F35:$J35),\"\")","v":{"$error":"#REF!"}},{"$f":"IF(AND(LEN($D35)>0,SUMIF($F$13:$J$13,Q$13,$F35:$J35)>0,ASISTENCIA!#REF!<>\"X\",ASISTENCIA!#REF!<>\"L\",ASISTENCIA!#REF!<>\"J\",ASISTENCIA!#REF!<>\"V\",ASISTENCIA!#REF!<>\"F\",ASISTENCIA!#REF!<>\"\"),SUMIF($F$13:$J$13,Q$13,$F35:$J35),\"\")","v":{"$error":"#REF!"}},{"$f":"IF(AND(LEN($D35)>0,SUMIF($F$13:$J$13,R$13,$F35:$J35)>0,ASISTENCIA!#REF!<>\"X\",ASISTENCIA!#REF!<>\"L\",ASISTENCIA!#REF!<>\"J\",ASISTENCIA!#REF!<>\"V\",ASISTENCIA!#REF!<>\"F\",ASISTENCIA!#REF!<>\"\"),SUMIF($F$13:$J$13,R$13,$F35:$J35),\"\")","v":{"$error":"#REF!"}},{"$f":"IF(AND(LEN($D35)>0,SUMIF($F$13:$J$13,S$13,$F35:$J35)>0,ASISTENCIA!#REF!<>\"X\",ASISTENCIA!#REF!<>\"L\",ASISTENCIA!#REF!<>\"J\",ASISTENCIA!#REF!<>\"V\",ASISTENCIA!#REF!<>\"F\",ASISTENCIA!#REF!<>\"\"),SUMIF($F$13:$J$13,S$13,$F35:$J35),\"\")","v":{"$error":"#REF!"}},{"$f":"IF(AND(LEN($D35)>0,SUMIF($F$13:$J$13,T$13,$F35:$J35)>0,ASISTENCIA!#REF!<>\"X\",ASISTENCIA!#REF!<>\"L\",ASISTENCIA!#REF!<>\"J\",ASISTENCIA!#REF!<>\"V\",ASISTENCIA!#REF!<>\"F\",ASISTENCIA!#REF!<>\"\"),SUMIF($F$13:$J$13,T$13,$F35:$J35),\"\")","v":{"$error":"#REF!"}},{"$f":"IF(AND(LEN($D35)>0,SUMIF($F$13:$J$13,U$13,$F35:$J35)>0,ASISTENCIA!#REF!<>\"X\",ASISTENCIA!#REF!<>\"L\",ASISTENCIA!#REF!<>\"J\",ASISTENCIA!#REF!<>\"V\",ASISTENCIA!#REF!<>\"F\",ASISTENCIA!#REF!<>\"\"),SUMIF($F$13:$J$13,U$13,$F35:$J35),\"\")","v":{"$error":"#REF!"}},{"$f":"IF(AND(LEN($D35)>0,SUMIF($F$13:$J$13,V$13,$F35:$J35)>0,ASISTENCIA!#REF!<>\"X\",ASISTENCIA!#REF!<>\"L\",ASISTENCIA!#REF!<>\"J\",ASISTENCIA!#REF!<>\"V\",ASISTENCIA!#REF!<>\"F\",ASISTENCIA!#REF!<>\"\"),SUMIF($F$13:$J$13,V$13,$F35:$J35),\"\")","v":{"$error":"#REF!"}},{"$f":"IF(AND(LEN($D35)>0,SUMIF($F$13:$J$13,W$13,$F35:$J35)>0,ASISTENCIA!#REF!<>\"X\",ASISTENCIA!#REF!<>\"L\",ASISTENCIA!#REF!<>\"J\",ASISTENCIA!#REF!<>\"V\",ASISTENCIA!#REF!<>\"F\",ASISTENCIA!#REF!<>\"\"),SUMIF($F$13:$J$13,W$13,$F35:$J35),\"\")","v":{"$error":"#REF!"}},{"$f":"IF(AND(LEN($D35)>0,SUMIF($F$13:$J$13,X$13,$F35:$J35)>0,ASISTENCIA!#REF!<>\"X\",ASISTENCIA!#REF!<>\"L\",ASISTENCIA!#REF!<>\"J\",ASISTENCIA!#REF!<>\"V\",ASISTENCIA!#REF!<>\"F\",ASISTENCIA!#REF!<>\"\"),SUMIF($F$13:$J$13,X$13,$F35:$J35),\"\")","v":{"$error":"#REF!"}},{"$f":"IF(AND(LEN($D35)>0,SUMIF($F$13:$J$13,Y$13,$F35:$J35)>0,ASISTENCIA!#REF!<>\"X\",ASISTENCIA!#REF!<>\"L\",ASISTENCIA!#REF!<>\"J\",ASISTENCIA!#REF!<>\"V\",ASISTENCIA!#REF!<>\"F\",ASISTENCIA!#REF!<>\"\"),SUMIF($F$13:$J$13,Y$13,$F35:$J35),\"\")","v":{"$error":"#REF!"}},{"$f":"IF(AND(LEN($D35)>0,SUMIF($F$13:$J$13,Z$13,$F35:$J35)>0,ASISTENCIA!#REF!<>\"X\",ASISTENCIA!#REF!<>\"L\",ASISTENCIA!#REF!<>\"J\",ASISTENCIA!#REF!<>\"V\",ASISTENCIA!#REF!<>\"F\",ASISTENCIA!#REF!<>\"\"),SUMIF($F$13:$J$13,Z$13,$F35:$J35),\"\")","v":{"$error":"#REF!"}},{"$f":"IF(AND(LEN($D35)>0,SUMIF($F$13:$J$13,AA$13,$F35:$J35)>0,ASISTENCIA!#REF!<>\"X\",ASISTENCIA!#REF!<>\"L\",ASISTENCIA!#REF!<>\"J\",ASISTENCIA!#REF!<>\"V\",ASISTENCIA!#REF!<>\"F\",ASISTENCIA!#REF!<>\"\"),SUMIF($F$13:$J$13,AA$13,$F35:$J35),\"\")","v":{"$error":"#REF!"}},{"$f":"IF(AND(LEN($D35)>0,SUMIF($F$13:$J$13,AB$13,$F35:$J35)>0,ASISTENCIA!#REF!<>\"X\",ASISTENCIA!#REF!<>\"L\",ASISTENCIA!#REF!<>\"J\",ASISTENCIA!#REF!<>\"V\",ASISTENCIA!#REF!<>\"F\",ASISTENCIA!#REF!<>\"\"),SUMIF($F$13:$J$13,AB$13,$F35:$J35),\"\")","v":{"$error":"#REF!"}},{"$f":"IF(AND(LEN($D35)>0,SUMIF($F$13:$J$13,AC$13,$F35:$J35)>0,ASISTENCIA!#REF!<>\"X\",ASISTENCIA!#REF!<>\"L\",ASISTENCIA!#REF!<>\"J\",ASISTENCIA!#REF!<>\"V\",ASISTENCIA!#REF!<>\"F\",ASISTENCIA!#REF!<>\"\"),SUMIF($F$13:$J$13,AC$13,$F35:$J35),\"\")","v":{"$error":"#REF!"}},{"$f":"IF(AND(LEN($D35)>0,SUMIF($F$13:$J$13,AD$13,$F35:$J35)>0,ASISTENCIA!#REF!<>\"X\",ASISTENCIA!#REF!<>\"L\",ASISTENCIA!#REF!<>\"J\",ASISTENCIA!#REF!<>\"V\",ASISTENCIA!#REF!<>\"F\",ASISTENCIA!#REF!<>\"\"),SUMIF($F$13:$J$13,AD$13,$F35:$J35),\"\")","v":{"$error":"#REF!"}},{"$f":"IF(AND(LEN($D35)>0,SUMIF($F$13:$J$13,AE$13,$F35:$J35)>0,ASISTENCIA!#REF!<>\"X\",ASISTENCIA!#REF!<>\"L\",ASISTENCIA!#REF!<>\"J\",ASISTENCIA!#REF!<>\"V\",ASISTENCIA!#REF!<>\"F\",ASISTENCIA!#REF!<>\"\"),SUMIF($F$13:$J$13,AE$13,$F35:$J35),\"\")","v":{"$error":"#REF!"}},{"$f":"IF(AND(LEN($D35)>0,SUMIF($F$13:$J$13,AF$13,$F35:$J35)>0,ASISTENCIA!#REF!<>\"X\",ASISTENCIA!#REF!<>\"L\",ASISTENCIA!#REF!<>\"J\",ASISTENCIA!#REF!<>\"V\",ASISTENCIA!#REF!<>\"F\",ASISTENCIA!#REF!<>\"\"),SUMIF($F$13:$J$13,AF$13,$F35:$J35),\"\")","v":{"$error":"#REF!"}},{"$f":"IF(AND(LEN($D35)>0,SUMIF($F$13:$J$13,AG$13,$F35:$J35)>0,ASISTENCIA!#REF!<>\"X\",ASISTENCIA!#REF!<>\"L\",ASISTENCIA!#REF!<>\"J\",ASISTENCIA!#REF!<>\"V\",ASISTENCIA!#REF!<>\"F\",ASISTENCIA!#REF!<>\"\"),SUMIF($F$13:$J$13,AG$13,$F35:$J35),\"\")","v":{"$error":"#REF!"}},{"$f":"IF(AND(LEN($D35)>0,SUMIF($F$13:$J$13,AH$13,$F35:$J35)>0,ASISTENCIA!#REF!<>\"X\",ASISTENCIA!#REF!<>\"L\",ASISTENCIA!#REF!<>\"J\",ASISTENCIA!#REF!<>\"V\",ASISTENCIA!#REF!<>\"F\",ASISTENCIA!#REF!<>\"\"),SUMIF($F$13:$J$13,AH$13,$F35:$J35),\"\")","v":{"$error":"#REF!"}},{"$f":"IF(AND(LEN($D35)>0,SUMIF($F$13:$J$13,AI$13,$F35:$J35)>0,ASISTENCIA!#REF!<>\"X\",ASISTENCIA!#REF!<>\"L\",ASISTENCIA!#REF!<>\"J\",ASISTENCIA!#REF!<>\"V\",ASISTENCIA!#REF!<>\"F\",ASISTENCIA!#REF!<>\"\"),SUMIF($F$13:$J$13,AI$13,$F35:$J35),\"\")","v":{"$error":"#REF!"}},{"$f":"IF(AND(LEN($D35)>0,SUMIF($F$13:$J$13,AJ$13,$F35:$J35)>0,ASISTENCIA!#REF!<>\"X\",ASISTENCIA!#REF!<>\"L\",ASISTENCIA!#REF!<>\"J\",ASISTENCIA!#REF!<>\"V\",ASISTENCIA!#REF!<>\"F\",ASISTENCIA!#REF!<>\"\"),SUMIF($F$13:$J$13,AJ$13,$F35:$J35),\"\")","v":{"$error":"#REF!"}},{"$f":"IF(AND(LEN($D35)>0,SUMIF($F$13:$J$13,AK$13,$F35:$J35)>0,ASISTENCIA!#REF!<>\"X\",ASISTENCIA!#REF!<>\"L\",ASISTENCIA!#REF!<>\"J\",ASISTENCIA!#REF!<>\"V\",ASISTENCIA!#REF!<>\"F\",ASISTENCIA!#REF!<>\"\"),SUMIF($F$13:$J$13,AK$13,$F35:$J35),\"\")","v":{"$error":"#REF!"}},{"$f":"IF(AND(LEN($D35)>0,SUMIF($F$13:$J$13,AL$13,$F35:$J35)>0,ASISTENCIA!#REF!<>\"X\",ASISTENCIA!#REF!<>\"L\",ASISTENCIA!#REF!<>\"J\",ASISTENCIA!#REF!<>\"V\",ASISTENCIA!#REF!<>\"F\",ASISTENCIA!#REF!<>\"\"),SUMIF($F$13:$J$13,AL$13,$F35:$J35),\"\")","v":{"$error":"#REF!"}},{"$f":"IF(AND(LEN($D35)>0,SUMIF($F$13:$J$13,AM$13,$F35:$J35)>0,ASISTENCIA!#REF!<>\"X\",ASISTENCIA!#REF!<>\"L\",ASISTENCIA!#REF!<>\"J\",ASISTENCIA!#REF!<>\"V\",ASISTENCIA!#REF!<>\"F\",ASISTENCIA!#REF!<>\"\"),SUMIF($F$13:$J$13,AM$13,$F35:$J35),\"\")","v":{"$error":"#REF!"}},{"$f":"IF(AND(LEN($D35)>0,SUMIF($F$13:$J$13,AN$13,$F35:$J35)>0,ASISTENCIA!#REF!<>\"X\",ASISTENCIA!#REF!<>\"L\",ASISTENCIA!#REF!<>\"J\",ASISTENCIA!#REF!<>\"V\",ASISTENCIA!#REF!<>\"F\",ASISTENCIA!#REF!<>\"\"),SUMIF($F$13:$J$13,AN$13,$F35:$J35),\"\")","v":{"$error":"#REF!"}},{"$f":"IF(AND(LEN($D35)>0,SUMIF($F$13:$J$13,AO$13,$F35:$J35)>0,ASISTENCIA!#REF!<>\"X\",ASISTENCIA!#REF!<>\"L\",ASISTENCIA!#REF!<>\"J\",ASISTENCIA!#REF!<>\"V\",ASISTENCIA!#REF!<>\"F\",ASISTENCIA!#REF!<>\"\"),SUMIF($F$13:$J$13,AO$13,$F35:$J35),\"\")","v":{"$error":"#REF!"}},{"$f":"IF(AND(LEN($D35)>0,SUMIF($F$13:$J$13,AP$13,$F35:$J35)>0,ASISTENCIA!#REF!<>\"X\",ASISTENCIA!#REF!<>\"L\",ASISTENCIA!#REF!<>\"J\",ASISTENCIA!#REF!<>\"V\",ASISTENCIA!#REF!<>\"F\",ASISTENCIA!#REF!<>\"\"),SUMIF($F$13:$J$13,AP$13,$F35:$J35),\"\")","v":{"$error":"#REF!"}},{"$f":"IF(AND(LEN($D35)>0,SUMIF($F$13:$J$13,AQ$13,$F35:$J35)>0,ASISTENCIA!#REF!<>\"X\",ASISTENCIA!#REF!<>\"L\",ASISTENCIA!#REF!<>\"J\",ASISTENCIA!#REF!<>\"V\",ASISTENCIA!#REF!<>\"F\",ASISTENCIA!#REF!<>\"\"),SUMIF($F$13:$J$13,AQ$13,$F35:$J35),\"\")","v":{"$error":"#REF!"}},{"$f":"IF(AND(LEN($D35)>0,SUMIF($F$13:$J$13,AR$13,$F35:$J35)>0,ASISTENCIA!#REF!<>\"X\",ASISTENCIA!#REF!<>\"L\",ASISTENCIA!#REF!<>\"J\",ASISTENCIA!#REF!<>\"V\",ASISTENCIA!#REF!<>\"F\",ASISTENCIA!#REF!<>\"\"),SUMIF($F$13:$J$13,AR$13,$F35:$J35),\"\")","v":{"$error":"#REF!"}},{"$f":"IF(AND(LEN($D35)>0,SUMIF($F$13:$J$13,AS$13,$F35:$J35)>0,ASISTENCIA!#REF!<>\"X\",ASISTENCIA!#REF!<>\"L\",ASISTENCIA!#REF!<>\"J\",ASISTENCIA!#REF!<>\"V\",ASISTENCIA!#REF!<>\"F\",ASISTENCIA!#REF!<>\"\"),SUMIF($F$13:$J$13,AS$13,$F35:$J35),\"\")","v":{"$error":"#REF!"}},{"$error":"#REF!"},null,null,null,{"$f":"IF(AND(LEN($D35)>0,SUMIF($F$13:$J$13,AX$13,$F35:$J35)>0,ASISTENCIA!#REF!<>\"X\",ASISTENCIA!#REF!<>\"L\",ASISTENCIA!#REF!<>\"J\",ASISTENCIA!#REF!<>\"F\"),SUMIF($F$13:$J$13,AX$13,$F35:$J35),\"\")","v":{"$error":"#REF!"}},{"$f":"IF(AND(LEN($D35)>0,SUMIF($F$13:$J$13,AY$13,$F35:$J35)>0,ASISTENCIA!#REF!<>\"X\",ASISTENCIA!#REF!<>\"L\",ASISTENCIA!#REF!<>\"J\",ASISTENCIA!#REF!<>\"F\"),SUMIF($F$13:$J$13,AY$13,$F35:$J35),\"\")","v":{"$error":"#REF!"}},{"$f":"IF(AND(LEN($D35)>0,SUMIF($F$13:$J$13,AZ$13,$F35:$J35)>0,ASISTENCIA!#REF!<>\"X\",ASISTENCIA!#REF!<>\"L\",ASISTENCIA!#REF!<>\"J\",ASISTENCIA!#REF!<>\"F\"),SUMIF($F$13:$J$13,AZ$13,$F35:$J35),\"\")","v":{"$error":"#REF!"}},{"$f":"IF(AND(LEN($D35)>0,SUMIF($F$13:$J$13,BA$13,$F35:$J35)>0,ASISTENCIA!#REF!<>\"X\",ASISTENCIA!#REF!<>\"L\",ASISTENCIA!#REF!<>\"J\",ASISTENCIA!#REF!<>\"F\"),SUMIF($F$13:$J$13,BA$13,$F35:$J35),\"\")","v":{"$error":"#REF!"}},{"$f":"IF(AND(LEN($D35)>0,SUMIF($F$13:$J$13,BB$13,$F35:$J35)>0,ASISTENCIA!#REF!<>\"X\",ASISTENCIA!#REF!<>\"L\",ASISTENCIA!#REF!<>\"J\",ASISTENCIA!#REF!<>\"F\"),SUMIF($F$13:$J$13,BB$13,$F35:$J35),\"\")","v":{"$error":"#REF!"}},{"$f":"IF(AND(LEN($D35)>0,SUMIF($F$13:$J$13,BC$13,$F35:$J35)>0,ASISTENCIA!#REF!<>\"X\",ASISTENCIA!#REF!<>\"L\",ASISTENCIA!#REF!<>\"J\",ASISTENCIA!#REF!<>\"F\"),SUMIF($F$13:$J$13,BC$13,$F35:$J35),\"\")","v":{"$error":"#REF!"}},{"$f":"IF(AND(LEN($D35)>0,SUMIF($F$13:$J$13,BD$13,$F35:$J35)>0,ASISTENCIA!#REF!<>\"X\",ASISTENCIA!#REF!<>\"L\",ASISTENCIA!#REF!<>\"J\",ASISTENCIA!#REF!<>\"F\"),SUMIF($F$13:$J$13,BD$13,$F35:$J35),\"\")","v":{"$error":"#REF!"}},{"$f":"IF(AND(LEN($D35)>0,SUMIF($F$13:$J$13,BE$13,$F35:$J35)>0,ASISTENCIA!#REF!<>\"X\",ASISTENCIA!#REF!<>\"L\",ASISTENCIA!#REF!<>\"J\",ASISTENCIA!#REF!<>\"F\"),SUMIF($F$13:$J$13,BE$13,$F35:$J35),\"\")","v":{"$error":"#REF!"}},{"$f":"IF(AND(LEN($D35)>0,SUMIF($F$13:$J$13,BF$13,$F35:$J35)>0,ASISTENCIA!#REF!<>\"X\",ASISTENCIA!#REF!<>\"L\",ASISTENCIA!#REF!<>\"J\",ASISTENCIA!#REF!<>\"F\"),SUMIF($F$13:$J$13,BF$13,$F35:$J35),\"\")","v":{"$error":"#REF!"}},{"$f":"IF(AND(LEN($D35)>0,SUMIF($F$13:$J$13,BG$13,$F35:$J35)>0,ASISTENCIA!#REF!<>\"X\",ASISTENCIA!#REF!<>\"L\",ASISTENCIA!#REF!<>\"J\",ASISTENCIA!#REF!<>\"F\"),SUMIF($F$13:$J$13,BG$13,$F35:$J35),\"\")","v":{"$error":"#REF!"}},{"$f":"IF(AND(LEN($D35)>0,SUMIF($F$13:$J$13,BH$13,$F35:$J35)>0,ASISTENCIA!#REF!<>\"X\",ASISTENCIA!#REF!<>\"L\",ASISTENCIA!#REF!<>\"J\",ASISTENCIA!#REF!<>\"F\"),SUMIF($F$13:$J$13,BH$13,$F35:$J35),\"\")","v":{"$error":"#REF!"}},{"$f":"IF(AND(LEN($D35)>0,SUMIF($F$13:$J$13,BI$13,$F35:$J35)>0,ASISTENCIA!#REF!<>\"X\",ASISTENCIA!#REF!<>\"L\",ASISTENCIA!#REF!<>\"J\",ASISTENCIA!#REF!<>\"F\"),SUMIF($F$13:$J$13,BI$13,$F35:$J35),\"\")","v":{"$error":"#REF!"}},{"$f":"IF(AND(LEN($D35)>0,SUMIF($F$13:$J$13,BJ$13,$F35:$J35)>0,ASISTENCIA!#REF!<>\"X\",ASISTENCIA!#REF!<>\"L\",ASISTENCIA!#REF!<>\"J\",ASISTENCIA!#REF!<>\"F\"),SUMIF($F$13:$J$13,BJ$13,$F35:$J35),\"\")","v":{"$error":"#REF!"}},{"$f":"IF(AND(LEN($D35)>0,SUMIF($F$13:$J$13,BK$13,$F35:$J35)>0,ASISTENCIA!#REF!<>\"X\",ASISTENCIA!#REF!<>\"L\",ASISTENCIA!#REF!<>\"J\",ASISTENCIA!#REF!<>\"F\"),SUMIF($F$13:$J$13,BK$13,$F35:$J35),\"\")","v":{"$error":"#REF!"}},{"$f":"IF(AND(LEN($D35)>0,SUMIF($F$13:$J$13,BL$13,$F35:$J35)>0,ASISTENCIA!#REF!<>\"X\",ASISTENCIA!#REF!<>\"L\",ASISTENCIA!#REF!<>\"J\",ASISTENCIA!#REF!<>\"F\"),SUMIF($F$13:$J$13,BL$13,$F35:$J35),\"\")","v":{"$error":"#REF!"}},{"$f":"IF(AND(LEN($D35)>0,SUMIF($F$13:$J$13,BM$13,$F35:$J35)>0,ASISTENCIA!#REF!<>\"X\",ASISTENCIA!#REF!<>\"L\",ASISTENCIA!#REF!<>\"J\",ASISTENCIA!#REF!<>\"F\"),SUMIF($F$13:$J$13,BM$13,$F35:$J35),\"\")","v":{"$error":"#REF!"}},{"$f":"IF(AND(LEN($D35)>0,SUMIF($F$13:$J$13,BN$13,$F35:$J35)>0,ASISTENCIA!#REF!<>\"X\",ASISTENCIA!#REF!<>\"L\",ASISTENCIA!#REF!<>\"J\",ASISTENCIA!#REF!<>\"F\"),SUMIF($F$13:$J$13,BN$13,$F35:$J35),\"\")","v":{"$error":"#REF!"}},{"$f":"IF(AND(LEN($D35)>0,SUMIF($F$13:$J$13,BO$13,$F35:$J35)>0,ASISTENCIA!#REF!<>\"X\",ASISTENCIA!#REF!<>\"L\",ASISTENCIA!#REF!<>\"J\",ASISTENCIA!#REF!<>\"F\"),SUMIF($F$13:$J$13,BO$13,$F35:$J35),\"\")","v":{"$error":"#REF!"}},{"$f":"IF(AND(LEN($D35)>0,SUMIF($F$13:$J$13,BP$13,$F35:$J35)>0,ASISTENCIA!#REF!<>\"X\",ASISTENCIA!#REF!<>\"L\",ASISTENCIA!#REF!<>\"J\",ASISTENCIA!#REF!<>\"F\"),SUMIF($F$13:$J$13,BP$13,$F35:$J35),\"\")","v":{"$error":"#REF!"}},{"$f":"IF(AND(LEN($D35)>0,SUMIF($F$13:$J$13,BQ$13,$F35:$J35)>0,ASISTENCIA!#REF!<>\"X\",ASISTENCIA!#REF!<>\"L\",ASISTENCIA!#REF!<>\"J\",ASISTENCIA!#REF!<>\"F\"),SUMIF($F$13:$J$13,BQ$13,$F35:$J35),\"\")","v":{"$error":"#REF!"}},{"$f":"IF(AND(LEN($D35)>0,SUMIF($F$13:$J$13,BR$13,$F35:$J35)>0,ASISTENCIA!#REF!<>\"X\",ASISTENCIA!#REF!<>\"L\",ASISTENCIA!#REF!<>\"J\",ASISTENCIA!#REF!<>\"F\"),SUMIF($F$13:$J$13,BR$13,$F35:$J35),\"\")","v":{"$error":"#REF!"}},{"$f":"IF(AND(LEN($D35)>0,SUMIF($F$13:$J$13,BS$13,$F35:$J35)>0,ASISTENCIA!#REF!<>\"X\",ASISTENCIA!#REF!<>\"L\",ASISTENCIA!#REF!<>\"J\",ASISTENCIA!#REF!<>\"F\"),SUMIF($F$13:$J$13,BS$13,$F35:$J35),\"\")","v":{"$error":"#REF!"}},{"$f":"IF(AND(LEN($D35)>0,SUMIF($F$13:$J$13,BT$13,$F35:$J35)>0,ASISTENCIA!#REF!<>\"X\",ASISTENCIA!#REF!<>\"L\",ASISTENCIA!#REF!<>\"J\",ASISTENCIA!#REF!<>\"F\"),SUMIF($F$13:$J$13,BT$13,$F35:$J35),\"\")","v":{"$error":"#REF!"}},{"$f":"IF(AND(LEN($D35)>0,SUMIF($F$13:$J$13,BU$13,$F35:$J35)>0,ASISTENCIA!#REF!<>\"X\",ASISTENCIA!#REF!<>\"L\",ASISTENCIA!#REF!<>\"J\",ASISTENCIA!#REF!<>\"F\"),SUMIF($F$13:$J$13,BU$13,$F35:$J35),\"\")","v":{"$error":"#REF!"}},{"$f":"IF(AND(LEN($D35)>0,SUMIF($F$13:$J$13,BV$13,$F35:$J35)>0,ASISTENCIA!#REF!<>\"X\",ASISTENCIA!#REF!<>\"L\",ASISTENCIA!#REF!<>\"J\",ASISTENCIA!#REF!<>\"F\"),SUMIF($F$13:$J$13,BV$13,$F35:$J35),\"\")","v":{"$error":"#REF!"}},{"$f":"IF(AND(LEN($D35)>0,SUMIF($F$13:$J$13,BW$13,$F35:$J35)>0,ASISTENCIA!#REF!<>\"X\",ASISTENCIA!#REF!<>\"L\",ASISTENCIA!#REF!<>\"J\",ASISTENCIA!#REF!<>\"F\"),SUMIF($F$13:$J$13,BW$13,$F35:$J35),\"\")","v":{"$error":"#REF!"}},{"$f":"IF(AND(LEN($D35)>0,SUMIF($F$13:$J$13,BX$13,$F35:$J35)>0,ASISTENCIA!#REF!<>\"X\",ASISTENCIA!#REF!<>\"L\",ASISTENCIA!#REF!<>\"J\",ASISTENCIA!#REF!<>\"F\"),SUMIF($F$13:$J$13,BX$13,$F35:$J35),\"\")","v":{"$error":"#REF!"}},{"$f":"IF(AND(LEN($D35)>0,SUMIF($F$13:$J$13,BY$13,$F35:$J35)>0,ASISTENCIA!#REF!<>\"X\",ASISTENCIA!#REF!<>\"L\",ASISTENCIA!#REF!<>\"J\",ASISTENCIA!#REF!<>\"F\"),SUMIF($F$13:$J$13,BY$13,$F35:$J35),\"\")","v":{"$error":"#REF!"}},{"$f":"IF(AND(LEN($D35)>0,SUMIF($F$13:$J$13,BZ$13,$F35:$J35)>0,ASISTENCIA!#REF!<>\"X\",ASISTENCIA!#REF!<>\"L\",ASISTENCIA!#REF!<>\"J\",ASISTENCIA!#REF!<>\"F\"),SUMIF($F$13:$J$13,BZ$13,$F35:$J35),\"\")","v":{"$error":"#REF!"}},{"$f":"IF(AND(LEN($D35)>0,SUMIF($F$13:$J$13,CA$13,$F35:$J35)>0,ASISTENCIA!#REF!<>\"X\",ASISTENCIA!#REF!<>\"L\",ASISTENCIA!#REF!<>\"J\",ASISTENCIA!#REF!<>\"F\"),SUMIF($F$13:$J$13,CA$13,$F35:$J35),\"\")","v":{"$error":"#REF!"}},{"$f":"IF(AND(LEN($D35)>0,SUMIF($F$13:$J$13,CB$13,$F35:$J35)>0,ASISTENCIA!#REF!<>\"X\",ASISTENCIA!#REF!<>\"L\",ASISTENCIA!#REF!<>\"J\",ASISTENCIA!#REF!<>\"F\"),SUMIF($F$13:$J$13,CB$13,$F35:$J35),\"\")","v":{"$error":"#REF!"}},{"$error":"#REF!"}]
[{"$error":"#REF!"},{"$f":"IF(LEN(C36)>0,VLOOKUP($O$4,DATA!$A$1:$S$1,2,FALSE),\"\")","v":{"$error":"#REF!"}},{"$error":"#REF!"},{"$f":"IF(LEN(ASISTENCIA!#REF!)>0,ASISTENCIA!#REF!,\"\")","v":{"$error":"#REF!"}},{"$f":"IF(LEN(D36)>0,ASISTENCIA!#REF!,\"\")","v":{"$error":"#REF!"}},null,null,null,null,null,"",null,null,{"$error":"#REF!"},{"$f":"IF(AND(LEN($D36)>0,SUMIF($F$13:$J$13,O$13,$F36:$J36)>0,ASISTENCIA!#REF!<>\"X\",ASISTENCIA!#REF!<>\"L\",ASISTENCIA!#REF!<>\"J\",ASISTENCIA!#REF!<>\"V\",ASISTENCIA!#REF!<>\"F\",ASISTENCIA!#REF!<>\"\"),SUMIF($F$13:$J$13,O$13,$F36:$J36),\"\")","v":{"$error":"#REF!"}},{"$f":"IF(AND(LEN($D36)>0,SUMIF($F$13:$J$13,P$13,$F36:$J36)>0,ASISTENCIA!#REF!<>\"X\",ASISTENCIA!#REF!<>\"L\",ASISTENCIA!#REF!<>\"J\",ASISTENCIA!#REF!<>\"V\",ASISTENCIA!#REF!<>\"F\",ASISTENCIA!#REF!<>\"\"),SUMIF($F$13:$J$13,P$13,$F36:$J36),\"\")","v":{"$error":"#REF!"}},{"$f":"IF(AND(LEN($D36)>0,SUMIF($F$13:$J$13,Q$13,$F36:$J36)>0,ASISTENCIA!#REF!<>\"X\",ASISTENCIA!#REF!<>\"L\",ASISTENCIA!#REF!<>\"J\",ASISTENCIA!#REF!<>\"V\",ASISTENCIA!#REF!<>\"F\",ASISTENCIA!#REF!<>\"\"),SUMIF($F$13:$J$13,Q$13,$F36:$J36),\"\")","v":{"$error":"#REF!"}},{"$f":"IF(AND(LEN($D36)>0,SUMIF($F$13:$J$13,R$13,$F36:$J36)>0,ASISTENCIA!#REF!<>\"X\",ASISTENCIA!#REF!<>\"L\",ASISTENCIA!#REF!<>\"J\",ASISTENCIA!#REF!<>\"V\",ASISTENCIA!#REF!<>\"F\",ASISTENCIA!#REF!<>\"\"),SUMIF($F$13:$J$13,R$13,$F36:$J36),\"\")","v":{"$error":"#REF!"}},{"$f":"IF(AND(LEN($D36)>0,SUMIF($F$13:$J$13,S$13,$F36:$J36)>0,ASISTENCIA!#REF!<>\"X\",ASISTENCIA!#REF!<>\"L\",ASISTENCIA!#REF!<>\"J\",ASISTENCIA!#REF!<>\"V\",ASISTENCIA!#REF!<>\"F\",ASISTENCIA!#REF!<>\"\"),SUMIF($F$13:$J$13,S$13,$F36:$J36),\"\")","v":{"$error":"#REF!"}},{"$f":"IF(AND(LEN($D36)>0,SUMIF($F$13:$J$13,T$13,$F36:$J36)>0,ASISTENCIA!#REF!<>\"X\",ASISTENCIA!#REF!<>\"L\",ASISTENCIA!#REF!<>\"J\",ASISTENCIA!#REF!<>\"V\",ASISTENCIA!#REF!<>\"F\",ASISTENCIA!#REF!<>\"\"),SUMIF($F$13:$J$13,T$13,$F36:$J36),\"\")","v":{"$error":"#REF!"}},{"$f":"IF(AND(LEN($D36)>0,SUMIF($F$13:$J$13,U$13,$F36:$J36)>0,ASISTENCIA!#REF!<>\"X\",ASISTENCIA!#REF!<>\"L\",ASISTENCIA!#REF!<>\"J\",ASISTENCIA!#REF!<>\"V\",ASISTENCIA!#REF!<>\"F\",ASISTENCIA!#REF!<>\"\"),SUMIF($F$13:$J$13,U$13,$F36:$J36),\"\")","v":{"$error":"#REF!"}},{"$f":"IF(AND(LEN($D36)>0,SUMIF($F$13:$J$13,V$13,$F36:$J36)>0,ASISTENCIA!#REF!<>\"X\",ASISTENCIA!#REF!<>\"L\",ASISTENCIA!#REF!<>\"J\",ASISTENCIA!#REF!<>\"V\",ASISTENCIA!#REF!<>\"F\",ASISTENCIA!#REF!<>\"\"),SUMIF($F$13:$J$13,V$13,$F36:$J36),\"\")","v":{"$error":"#REF!"}},{"$f":"IF(AND(LEN($D36)>0,SUMIF($F$13:$J$13,W$13,$F36:$J36)>0,ASISTENCIA!#REF!<>\"X\",ASISTENCIA!#REF!<>\"L\",ASISTENCIA!#REF!<>\"J\",ASISTENCIA!#REF!<>\"V\",ASISTENCIA!#REF!<>\"F\",ASISTENCIA!#REF!<>\"\"),SUMIF($F$13:$J$13,W$13,$F36:$J36),\"\")","v":{"$error":"#REF!"}},{"$f":"IF(AND(LEN($D36)>0,SUMIF($F$13:$J$13,X$13,$F36:$J36)>0,ASISTENCIA!#REF!<>\"X\",ASISTENCIA!#REF!<>\"L\",ASISTENCIA!#REF!<>\"J\",ASISTENCIA!#REF!<>\"V\",ASISTENCIA!#REF!<>\"F\",ASISTENCIA!#REF!<>\"\"),SUMIF($F$13:$J$13,X$13,$F36:$J36),\"\")","v":{"$error":"#REF!"}},{"$f":"IF(AND(LEN($D36)>0,SUMIF($F$13:$J$13,Y$13,$F36:$J36)>0,ASISTENCIA!#REF!<>\"X\",ASISTENCIA!#REF!<>\"L\",ASISTENCIA!#REF!<>\"J\",ASISTENCIA!#REF!<>\"V\",ASISTENCIA!#REF!<>\"F\",ASISTENCIA!#REF!<>\"\"),SUMIF($F$13:$J$13,Y$13,$F36:$J36),\"\")","v":{"$error":"#REF!"}},{"$f":"IF(AND(LEN($D36)>0,SUMIF($F$13:$J$13,Z$13,$F36:$J36)>0,ASISTENCIA!#REF!<>\"X\",ASISTENCIA!#REF!<>\"L\",ASISTENCIA!#REF!<>\"J\",ASISTENCIA!#REF!<>\"V\",ASISTENCIA!#REF!<>\"F\",ASISTENCIA!#REF!<>\"\"),SUMIF($F$13:$J$13,Z$13,$F36:$J36),\"\")","v":{"$error":"#REF!"}},{"$f":"IF(AND(LEN($D36)>0,SUMIF($F$13:$J$13,AA$13,$F36:$J36)>0,ASISTENCIA!#REF!<>\"X\",ASISTENCIA!#REF!<>\"L\",ASISTENCIA!#REF!<>\"J\",ASISTENCIA!#REF!<>\"V\",ASISTENCIA!#REF!<>\"F\",ASISTENCIA!#REF!<>\"\"),SUMIF($F$13:$J$13,AA$13,$F36:$J36),\"\")","v":{"$error":"#REF!"}},{"$f":"IF(AND(LEN($D36)>0,SUMIF($F$13:$J$13,AB$13,$F36:$J36)>0,ASISTENCIA!#REF!<>\"X\",ASISTENCIA!#REF!<>\"L\",ASISTENCIA!#REF!<>\"J\",ASISTENCIA!#REF!<>\"V\",ASISTENCIA!#REF!<>\"F\",ASISTENCIA!#REF!<>\"\"),SUMIF($F$13:$J$13,AB$13,$F36:$J36),\"\")","v":{"$error":"#REF!"}},{"$f":"IF(AND(LEN($D36)>0,SUMIF($F$13:$J$13,AC$13,$F36:$J36)>0,ASISTENCIA!#REF!<>\"X\",ASISTENCIA!#REF!<>\"L\",ASISTENCIA!#REF!<>\"J\",ASISTENCIA!#REF!<>\"V\",ASISTENCIA!#REF!<>\"F\",ASISTENCIA!#REF!<>\"\"),SUMIF($F$13:$J$13,AC$13,$F36:$J36),\"\")","v":{"$error":"#REF!"}},{"$f":"IF(AND(LEN($D36)>0,SUMIF($F$13:$J$13,AD$13,$F36:$J36)>0,ASISTENCIA!#REF!<>\"X\",ASISTENCIA!#REF!<>\"L\",ASISTENCIA!#REF!<>\"J\",ASISTENCIA!#REF!<>\"V\",ASISTENCIA!#REF!<>\"F\",ASISTENCIA!#REF!<>\"\"),SUMIF($F$13:$J$13,AD$13,$F36:$J36),\"\")","v":{"$error":"#REF!"}},{"$f":"IF(AND(LEN($D36)>0,SUMIF($F$13:$J$13,AE$13,$F36:$J36)>0,ASISTENCIA!#REF!<>\"X\",ASISTENCIA!#REF!<>\"L\",ASISTENCIA!#REF!<>\"J\",ASISTENCIA!#REF!<>\"V\",ASISTENCIA!#REF!<>\"F\",ASISTENCIA!#REF!<>\"\"),SUMIF($F$13:$J$13,AE$13,$F36:$J36),\"\")","v":{"$error":"#REF!"}},{"$f":"IF(AND(LEN($D36)>0,SUMIF($F$13:$J$13,AF$13,$F36:$J36)>0,ASISTENCIA!#REF!<>\"X\",ASISTENCIA!#REF!<>\"L\",ASISTENCIA!#REF!<>\"J\",ASISTENCIA!#REF!<>\"V\",ASISTENCIA!#REF!<>\"F\",ASISTENCIA!#REF!<>\"\"),SUMIF($F$13:$J$13,AF$13,$F36:$J36),\"\")","v":{"$error":"#REF!"}},{"$f":"IF(AND(LEN($D36)>0,SUMIF($F$13:$J$13,AG$13,$F36:$J36)>0,ASISTENCIA!#REF!<>\"X\",ASISTENCIA!#REF!<>\"L\",ASISTENCIA!#REF!<>\"J\",ASISTENCIA!#REF!<>\"V\",ASISTENCIA!#REF!<>\"F\",ASISTENCIA!#REF!<>\"\"),SUMIF($F$13:$J$13,AG$13,$F36:$J36),\"\")","v":{"$error":"#REF!"}},{"$f":"IF(AND(LEN($D36)>0,SUMIF($F$13:$J$13,AH$13,$F36:$J36)>0,ASISTENCIA!#REF!<>\"X\",ASISTENCIA!#REF!<>\"L\",ASISTENCIA!#REF!<>\"J\",ASISTENCIA!#REF!<>\"V\",ASISTENCIA!#REF!<>\"F\",ASISTENCIA!#REF!<>\"\"),SUMIF($F$13:$J$13,AH$13,$F36:$J36),\"\")","v":{"$error":"#REF!"}},{"$f":"IF(AND(LEN($D36)>0,SUMIF($F$13:$J$13,AI$13,$F36:$J36)>0,ASISTENCIA!#REF!<>\"X\",ASISTENCIA!#REF!<>\"L\",ASISTENCIA!#REF!<>\"J\",ASISTENCIA!#REF!<>\"V\",ASISTENCIA!#REF!<>\"F\",ASISTENCIA!#REF!<>\"\"),SUMIF($F$13:$J$13,AI$13,$F36:$J36),\"\")","v":{"$error":"#REF!"}},{"$f":"IF(AND(LEN($D36)>0,SUMIF($F$13:$J$13,AJ$13,$F36:$J36)>0,ASISTENCIA!#REF!<>\"X\",ASISTENCIA!#REF!<>\"L\",ASISTENCIA!#REF!<>\"J\",ASISTENCIA!#REF!<>\"V\",ASISTENCIA!#REF!<>\"F\",ASISTENCIA!#REF!<>\"\"),SUMIF($F$13:$J$13,AJ$13,$F36:$J36),\"\")","v":{"$error":"#REF!"}},{"$f":"IF(AND(LEN($D36)>0,SUMIF($F$13:$J$13,AK$13,$F36:$J36)>0,ASISTENCIA!#REF!<>\"X\",ASISTENCIA!#REF!<>\"L\",ASISTENCIA!#REF!<>\"J\",ASISTENCIA!#REF!<>\"V\",ASISTENCIA!#REF!<>\"F\",ASISTENCIA!#REF!<>\"\"),SUMIF($F$13:$J$13,AK$13,$F36:$J36),\"\")","v":{"$error":"#REF!"}},{"$f":"IF(AND(LEN($D36)>0,SUMIF($F$13:$J$13,AL$13,$F36:$J36)>0,ASISTENCIA!#REF!<>\"X\",ASISTENCIA!#REF!<>\"L\",ASISTENCIA!#REF!<>\"J\",ASISTENCIA!#REF!<>\"V\",ASISTENCIA!#REF!<>\"F\",ASISTENCIA!#REF!<>\"\"),SUMIF($F$13:$J$13,AL$13,$F36:$J36),\"\")","v":{"$error":"#REF!"}},{"$f":"IF(AND(LEN($D36)>0,SUMIF($F$13:$J$13,AM$13,$F36:$J36)>0,ASISTENCIA!#REF!<>\"X\",ASISTENCIA!#REF!<>\"L\",ASISTENCIA!#REF!<>\"J\",ASISTENCIA!#REF!<>\"V\",ASISTENCIA!#REF!<>\"F\",ASISTENCIA!#REF!<>\"\"),SUMIF($F$13:$J$13,AM$13,$F36:$J36),\"\")","v":{"$error":"#REF!"}},{"$f":"IF(AND(LEN($D36)>0,SUMIF($F$13:$J$13,AN$13,$F36:$J36)>0,ASISTENCIA!#REF!<>\"X\",ASISTENCIA!#REF!<>\"L\",ASISTENCIA!#REF!<>\"J\",ASISTENCIA!#REF!<>\"V\",ASISTENCIA!#REF!<>\"F\",ASISTENCIA!#REF!<>\"\"),SUMIF($F$13:$J$13,AN$13,$F36:$J36),\"\")","v":{"$error":"#REF!"}},{"$f":"IF(AND(LEN($D36)>0,SUMIF($F$13:$J$13,AO$13,$F36:$J36)>0,ASISTENCIA!#REF!<>\"X\",ASISTENCIA!#REF!<>\"L\",ASISTENCIA!#REF!<>\"J\",ASISTENCIA!#REF!<>\"V\",ASISTENCIA!#REF!<>\"F\",ASISTENCIA!#REF!<>\"\"),SUMIF($F$13:$J$13,AO$13,$F36:$J36),\"\")","v":{"$error":"#REF!"}},{"$f":"IF(AND(LEN($D36)>0,SUMIF($F$13:$J$13,AP$13,$F36:$J36)>0,ASISTENCIA!#REF!<>\"X\",ASISTENCIA!#REF!<>\"L\",ASISTENCIA!#REF!<>\"J\",ASISTENCIA!#REF!<>\"V\",ASISTENCIA!#REF!<>\"F\",ASISTENCIA!#REF!<>\"\"),SUMIF($F$13:$J$13,AP$13,$F36:$J36),\"\")","v":{"$error":"#REF!"}},{"$f":"IF(AND(LEN($D36)>0,SUMIF($F$13:$J$13,AQ$13,$F36:$J36)>0,ASISTENCIA!#REF!<>\"X\",ASISTENCIA!#REF!<>\"L\",ASISTENCIA!#REF!<>\"J\",ASISTENCIA!#REF!<>\"V\",ASISTENCIA!#REF!<>\"F\",ASISTENCIA!#REF!<>\"\"),SUMIF($F$13:$J$13,AQ$13,$F36:$J36),\"\")","v":{"$error":"#REF!"}},{"$f":"IF(AND(LEN($D36)>0,SUMIF($F$13:$J$13,AR$13,$F36:$J36)>0,ASISTENCIA!#REF!<>\"X\",ASISTENCIA!#REF!<>\"L\",ASISTENCIA!#REF!<>\"J\",ASISTENCIA!#REF!<>\"V\",ASISTENCIA!#REF!<>\"F\",ASISTENCIA!#REF!<>\"\"),SUMIF($F$13:$J$13,AR$13,$F36:$J36),\"\")","v":{"$error":"#REF!"}},{"$f":"IF(AND(LEN($D36)>0,SUMIF($F$13:$J$13,AS$13,$F36:$J36)>0,ASISTENCIA!#REF!<>\"X\",ASISTENCIA!#REF!<>\"L\",ASISTENCIA!#REF!<>\"J\",ASISTENCIA!#REF!<>\"V\",ASISTENCIA!#REF!<>\"F\",ASISTENCIA!#REF!<>\"\"),SUMIF($F$13:$J$13,AS$13,$F36:$J36),\"\")","v":{"$error":"#REF!"}},{"$error":"#REF!"},null,null,null,{"$f":"IF(AND(LEN($D36)>0,SUMIF($F$13:$J$13,AX$13,$F36:$J36)>0,ASISTENCIA!#REF!<>\"X\",ASISTENCIA!#REF!<>\"L\",ASISTENCIA!#REF!<>\"J\",ASISTENCIA!#REF!<>\"F\"),SUMIF($F$13:$J$13,AX$13,$F36:$J36),\"\")","v":{"$error":"#REF!"}},{"$f":"IF(AND(LEN($D36)>0,SUMIF($F$13:$J$13,AY$13,$F36:$J36)>0,ASISTENCIA!#REF!<>\"X\",ASISTENCIA!#REF!<>\"L\",ASISTENCIA!#REF!<>\"J\",ASISTENCIA!#REF!<>\"F\"),SUMIF($F$13:$J$13,AY$13,$F36:$J36),\"\")","v":{"$error":"#REF!"}},{"$f":"IF(AND(LEN($D36)>0,SUMIF($F$13:$J$13,AZ$13,$F36:$J36)>0,ASISTENCIA!#REF!<>\"X\",ASISTENCIA!#REF!<>\"L\",ASISTENCIA!#REF!<>\"J\",ASISTENCIA!#REF!<>\"F\"),SUMIF($F$13:$J$13,AZ$13,$F36:$J36),\"\")","v":{"$error":"#REF!"}},{"$f":"IF(AND(LEN($D36)>0,SUMIF($F$13:$J$13,BA$13,$F36:$J36)>0,ASISTENCIA!#REF!<>\"X\",ASISTENCIA!#REF!<>\"L\",ASISTENCIA!#REF!<>\"J\",ASISTENCIA!#REF!<>\"F\"),SUMIF($F$13:$J$13,BA$13,$F36:$J36),\"\")","v":{"$error":"#REF!"}},{"$f":"IF(AND(LEN($D36)>0,SUMIF($F$13:$J$13,BB$13,$F36:$J36)>0,ASISTENCIA!#REF!<>\"X\",ASISTENCIA!#REF!<>\"L\",ASISTENCIA!#REF!<>\"J\",ASISTENCIA!#REF!<>\"F\"),SUMIF($F$13:$J$13,BB$13,$F36:$J36),\"\")","v":{"$error":"#REF!"}},{"$f":"IF(AND(LEN($D36)>0,SUMIF($F$13:$J$13,BC$13,$F36:$J36)>0,ASISTENCIA!#REF!<>\"X\",ASISTENCIA!#REF!<>\"L\",ASISTENCIA!#REF!<>\"J\",ASISTENCIA!#REF!<>\"F\"),SUMIF($F$13:$J$13,BC$13,$F36:$J36),\"\")","v":{"$error":"#REF!"}},{"$f":"IF(AND(LEN($D36)>0,SUMIF($F$13:$J$13,BD$13,$F36:$J36)>0,ASISTENCIA!#REF!<>\"X\",ASISTENCIA!#REF!<>\"L\",ASISTENCIA!#REF!<>\"J\",ASISTENCIA!#REF!<>\"F\"),SUMIF($F$13:$J$13,BD$13,$F36:$J36),\"\")","v":{"$error":"#REF!"}},{"$f":"IF(AND(LEN($D36)>0,SUMIF($F$13:$J$13,BE$13,$F36:$J36)>0,ASISTENCIA!#REF!<>\"X\",ASISTENCIA!#REF!<>\"L\",ASISTENCIA!#REF!<>\"J\",ASISTENCIA!#REF!<>\"F\"),SUMIF($F$13:$J$13,BE$13,$F36:$J36),\"\")","v":{"$error":"#REF!"}},{"$f":"IF(AND(LEN($D36)>0,SUMIF($F$13:$J$13,BF$13,$F36:$J36)>0,ASISTENCIA!#REF!<>\"X\",ASISTENCIA!#REF!<>\"L\",ASISTENCIA!#REF!<>\"J\",ASISTENCIA!#REF!<>\"F\"),SUMIF($F$13:$J$13,BF$13,$F36:$J36),\"\")","v":{"$error":"#REF!"}},{"$f":"IF(AND(LEN($D36)>0,SUMIF($F$13:$J$13,BG$13,$F36:$J36)>0,ASISTENCIA!#REF!<>\"X\",ASISTENCIA!#REF!<>\"L\",ASISTENCIA!#REF!<>\"J\",ASISTENCIA!#REF!<>\"F\"),SUMIF($F$13:$J$13,BG$13,$F36:$J36),\"\")","v":{"$error":"#REF!"}},{"$f":"IF(AND(LEN($D36)>0,SUMIF($F$13:$J$13,BH$13,$F36:$J36)>0,ASISTENCIA!#REF!<>\"X\",ASISTENCIA!#REF!<>\"L\",ASISTENCIA!#REF!<>\"J\",ASISTENCIA!#REF!<>\"F\"),SUMIF($F$13:$J$13,BH$13,$F36:$J36),\"\")","v":{"$error":"#REF!"}},{"$f":"IF(AND(LEN($D36)>0,SUMIF($F$13:$J$13,BI$13,$F36:$J36)>0,ASISTENCIA!#REF!<>\"X\",ASISTENCIA!#REF!<>\"L\",ASISTENCIA!#REF!<>\"J\",ASISTENCIA!#REF!<>\"F\"),SUMIF($F$13:$J$13,BI$13,$F36:$J36),\"\")","v":{"$error":"#REF!"}},{"$f":"IF(AND(LEN($D36)>0,SUMIF($F$13:$J$13,BJ$13,$F36:$J36)>0,ASISTENCIA!#REF!<>\"X\",ASISTENCIA!#REF!<>\"L\",ASISTENCIA!#REF!<>\"J\",ASISTENCIA!#REF!<>\"F\"),SUMIF($F$13:$J$13,BJ$13,$F36:$J36),\"\")","v":{"$error":"#REF!"}},{"$f":"IF(AND(LEN($D36)>0,SUMIF($F$13:$J$13,BK$13,$F36:$J36)>0,ASISTENCIA!#REF!<>\"X\",ASISTENCIA!#REF!<>\"L\",ASISTENCIA!#REF!<>\"J\",ASISTENCIA!#REF!<>\"F\"),SUMIF($F$13:$J$13,BK$13,$F36:$J36),\"\")","v":{"$error":"#REF!"}},{"$f":"IF(AND(LEN($D36)>0,SUMIF($F$13:$J$13,BL$13,$F36:$J36)>0,ASISTENCIA!#REF!<>\"X\",ASISTENCIA!#REF!<>\"L\",ASISTENCIA!#REF!<>\"J\",ASISTENCIA!#REF!<>\"F\"),SUMIF($F$13:$J$13,BL$13,$F36:$J36),\"\")","v":{"$error":"#REF!"}},{"$f":"IF(AND(LEN($D36)>0,SUMIF($F$13:$J$13,BM$13,$F36:$J36)>0,ASISTENCIA!#REF!<>\"X\",ASISTENCIA!#REF!<>\"L\",ASISTENCIA!#REF!<>\"J\",ASISTENCIA!#REF!<>\"F\"),SUMIF($F$13:$J$13,BM$13,$F36:$J36),\"\")","v":{"$error":"#REF!"}},{"$f":"IF(AND(LEN($D36)>0,SUMIF($F$13:$J$13,BN$13,$F36:$J36)>0,ASISTENCIA!#REF!<>\"X\",ASISTENCIA!#REF!<>\"L\",ASISTENCIA!#REF!<>\"J\",ASISTENCIA!#REF!<>\"F\"),SUMIF($F$13:$J$13,BN$13,$F36:$J36),\"\")","v":{"$error":"#REF!"}},{"$f":"IF(AND(LEN($D36)>0,SUMIF($F$13:$J$13,BO$13,$F36:$J36)>0,ASISTENCIA!#REF!<>\"X\",ASISTENCIA!#REF!<>\"L\",ASISTENCIA!#REF!<>\"J\",ASISTENCIA!#REF!<>\"F\"),SUMIF($F$13:$J$13,BO$13,$F36:$J36),\"\")","v":{"$error":"#REF!"}},{"$f":"IF(AND(LEN($D36)>0,SUMIF($F$13:$J$13,BP$13,$F36:$J36)>0,ASISTENCIA!#REF!<>\"X\",ASISTENCIA!#REF!<>\"L\",ASISTENCIA!#REF!<>\"J\",ASISTENCIA!#REF!<>\"F\"),SUMIF($F$13:$J$13,BP$13,$F36:$J36),\"\")","v":{"$error":"#REF!"}},{"$f":"IF(AND(LEN($D36)>0,SUMIF($F$13:$J$13,BQ$13,$F36:$J36)>0,ASISTENCIA!#REF!<>\"X\",ASISTENCIA!#REF!<>\"L\",ASISTENCIA!#REF!<>\"J\",ASISTENCIA!#REF!<>\"F\"),SUMIF($F$13:$J$13,BQ$13,$F36:$J36),\"\")","v":{"$error":"#REF!"}},{"$f":"IF(AND(LEN($D36)>0,SUMIF($F$13:$J$13,BR$13,$F36:$J36)>0,ASISTENCIA!#REF!<>\"X\",ASISTENCIA!#REF!<>\"L\",ASISTENCIA!#REF!<>\"J\",ASISTENCIA!#REF!<>\"F\"),SUMIF($F$13:$J$13,BR$13,$F36:$J36),\"\")","v":{"$error":"#REF!"}},{"$f":"IF(AND(LEN($D36)>0,SUMIF($F$13:$J$13,BS$13,$F36:$J36)>0,ASISTENCIA!#REF!<>\"X\",ASISTENCIA!#REF!<>\"L\",ASISTENCIA!#REF!<>\"J\",ASISTENCIA!#REF!<>\"F\"),SUMIF($F$13:$J$13,BS$13,$F36:$J36),\"\")","v":{"$error":"#REF!"}},{"$f":"IF(AND(LEN($D36)>0,SUMIF($F$13:$J$13,BT$13,$F36:$J36)>0,ASISTENCIA!#REF!<>\"X\",ASISTENCIA!#REF!<>\"L\",ASISTENCIA!#REF!<>\"J\",ASISTENCIA!#REF!<>\"F\"),SUMIF($F$13:$J$13,BT$13,$F36:$J36),\"\")","v":{"$error":"#REF!"}},{"$f":"IF(AND(LEN($D36)>0,SUMIF($F$13:$J$13,BU$13,$F36:$J36)>0,ASISTENCIA!#REF!<>\"X\",ASISTENCIA!#REF!<>\"L\",ASISTENCIA!#REF!<>\"J\",ASISTENCIA!#REF!<>\"F\"),SUMIF($F$13:$J$13,BU$13,$F36:$J36),\"\")","v":{"$error":"#REF!"}},{"$f":"IF(AND(LEN($D36)>0,SUMIF($F$13:$J$13,BV$13,$F36:$J36)>0,ASISTENCIA!#REF!<>\"X\",ASISTENCIA!#REF!<>\"L\",ASISTENCIA!#REF!<>\"J\",ASISTENCIA!#REF!<>\"F\"),SUMIF($F$13:$J$13,BV$13,$F36:$J36),\"\")","v":{"$error":"#REF!"}},{"$f":"IF(AND(LEN($D36)>0,SUMIF($F$13:$J$13,BW$13,$F36:$J36)>0,ASISTENCIA!#REF!<>\"X\",ASISTENCIA!#REF!<>\"L\",ASISTENCIA!#REF!<>\"J\",ASISTENCIA!#REF!<>\"F\"),SUMIF($F$13:$J$13,BW$13,$F36:$J36),\"\")","v":{"$error":"#REF!"}},{"$f":"IF(AND(LEN($D36)>0,SUMIF($F$13:$J$13,BX$13,$F36:$J36)>0,ASISTENCIA!#REF!<>\"X\",ASISTENCIA!#REF!<>\"L\",ASISTENCIA!#REF!<>\"J\",ASISTENCIA!#REF!<>\"F\"),SUMIF($F$13:$J$13,BX$13,$F36:$J36),\"\")","v":{"$error":"#REF!"}},{"$f":"IF(AND(LEN($D36)>0,SUMIF($F$13:$J$13,BY$13,$F36:$J36)>0,ASISTENCIA!#REF!<>\"X\",ASISTENCIA!#REF!<>\"L\",ASISTENCIA!#REF!<>\"J\",ASISTENCIA!#REF!<>\"F\"),SUMIF($F$13:$J$13,BY$13,$F36:$J36),\"\")","v":{"$error":"#REF!"}},{"$f":"IF(AND(LEN($D36)>0,SUMIF($F$13:$J$13,BZ$13,$F36:$J36)>0,ASISTENCIA!#REF!<>\"X\",ASISTENCIA!#REF!<>\"L\",ASISTENCIA!#REF!<>\"J\",ASISTENCIA!#REF!<>\"F\"),SUMIF($F$13:$J$13,BZ$13,$F36:$J36),\"\")","v":{"$error":"#REF!"}},{"$f":"IF(AND(LEN($D36)>0,SUMIF($F$13:$J$13,CA$13,$F36:$J36)>0,ASISTENCIA!#REF!<>\"X\",ASISTENCIA!#REF!<>\"L\",ASISTENCIA!#REF!<>\"J\",ASISTENCIA!#REF!<>\"F\"),SUMIF($F$13:$J$13,CA$13,$F36:$J36),\"\")","v":{"$error":"#REF!"}},{"$f":"IF(AND(LEN($D36)>0,SUMIF($F$13:$J$13,CB$13,$F36:$J36)>0,ASISTENCIA!#REF!<>\"X\",ASISTENCIA!#REF!<>\"L\",ASISTENCIA!#REF!<>\"J\",ASISTENCIA!#REF!<>\"F\"),SUMIF($F$13:$J$13,CB$13,$F36:$J36),\"\")","v":{"$error":"#REF!"}},{"$error":"#REF!"}]
[{"$error":"#REF!"},{"$f":"IF(LEN(C37)>0,VLOOKUP($O$4,DATA!$A$1:$S$1,2,FALSE),\"\")","v":{"$error":"#REF!"}},{"$error":"#REF!"},{"$f":"IF(LEN(ASISTENCIA!#REF!)>0,ASISTENCIA!#REF!,\"\")","v":{"$error":"#REF!"}},{"$f":"IF(LEN(D37)>0,ASISTENCIA!#REF!,\"\")","v":{"$error":"#REF!"}},null,null,null,null,null,"",null,null,{"$error":"#REF!"},{"$f":"IF(AND(LEN($D37)>0,SUMIF($F$13:$J$13,O$13,$F37:$J37)>0,ASISTENCIA!#REF!<>\"X\",ASISTENCIA!#REF!<>\"L\",ASISTENCIA!#REF!<>\"J\",ASISTENCIA!#REF!<>\"V\",ASISTENCIA!#REF!<>\"F\",ASISTENCIA!#REF!<>\"\"),SUMIF($F$13:$J$13,O$13,$F37:$J37),\"\")","v":{"$error":"#REF!"}},{"$f":"IF(AND(LEN($D37)>0,SUMIF($F$13:$J$13,P$13,$F37:$J37)>0,ASISTENCIA!#REF!<>\"X\",ASISTENCIA!#REF!<>\"L\",ASISTENCIA!#REF!<>\"J\",ASISTENCIA!#REF!<>\"V\",ASISTENCIA!#REF!<>\"F\",ASISTENCIA!#REF!<>\"\"),SUMIF($F$13:$J$13,P$13,$F37:$J37),\"\")","v":{"$error":"#REF!"}},{"$f":"IF(AND(LEN($D37)>0,SUMIF($F$13:$J$13,Q$13,$F37:$J37)>0,ASISTENCIA!#REF!<>\"X\",ASISTENCIA!#REF!<>\"L\",ASISTENCIA!#REF!<>\"J\",ASISTENCIA!#REF!<>\"V\",ASISTENCIA!#REF!<>\"F\",ASISTENCIA!#REF!<>\"\"),SUMIF($F$13:$J$13,Q$13,$F37:$J37),\"\")","v":{"$error":"#REF!"}},{"$f":"IF(AND(LEN($D37)>0,SUMIF($F$13:$J$13,R$13,$F37:$J37)>0,ASISTENCIA!#REF!<>\"X\",ASISTENCIA!#REF!<>\"L\",ASISTENCIA!#REF!<>\"J\",ASISTENCIA!#REF!<>\"V\",ASISTENCIA!#REF!<>\"F\",ASISTENCIA!#REF!<>\"\"),SUMIF($F$13:$J$13,R$13,$F37:$J37),\"\")","v":{"$error":"#REF!"}},{"$f":"IF(AND(LEN($D37)>0,SUMIF($F$13:$J$13,S$13,$F37:$J37)>0,ASISTENCIA!#REF!<>\"X\",ASISTENCIA!#REF!<>\"L\",ASISTENCIA!#REF!<>\"J\",ASISTENCIA!#REF!<>\"V\",ASISTENCIA!#REF!<>\"F\",ASISTENCIA!#REF!<>\"\"),SUMIF($F$13:$J$13,S$13,$F37:$J37),\"\")","v":{"$error":"#REF!"}},{"$f":"IF(AND(LEN($D37)>0,SUMIF($F$13:$J$13,T$13,$F37:$J37)>0,ASISTENCIA!#REF!<>\"X\",ASISTENCIA!#REF!<>\"L\",ASISTENCIA!#REF!<>\"J\",ASISTENCIA!#REF!<>\"V\",ASISTENCIA!#REF!<>\"F\",ASISTENCIA!#REF!<>\"\"),SUMIF($F$13:$J$13,T$13,$F37:$J37),\"\")","v":{"$error":"#REF!"}},{"$f":"IF(AND(LEN($D37)>0,SUMIF($F$13:$J$13,U$13,$F37:$J37)>0,ASISTENCIA!#REF!<>\"X\",ASISTENCIA!#REF!<>\"L\",ASISTENCIA!#REF!<>\"J\",ASISTENCIA!#REF!<>\"V\",ASISTENCIA!#REF!<>\"F\",ASISTENCIA!#REF!<>\"\"),SUMIF($F$13:$J$13,U$13,$F37:$J37),\"\")","v":{"$error":"#REF!"}},{"$f":"IF(AND(LEN($D37)>0,SUMIF($F$13:$J$13,V$13,$F37:$J37)>0,ASISTENCIA!#REF!<>\"X\",ASISTENCIA!#REF!<>\"L\",ASISTENCIA!#REF!<>\"J\",ASISTENCIA!#REF!<>\"V\",ASISTENCIA!#REF!<>\"F\",ASISTENCIA!#REF!<>\"\"),SUMIF($F$13:$J$13,V$13,$F37:$J37),\"\")","v":{"$error":"#REF!"}},{"$f":"IF(AND(LEN($D37)>0,SUMIF($F$13:$J$13,W$13,$F37:$J37)>0,ASISTENCIA!#REF!<>\"X\",ASISTENCIA!#REF!<>\"L\",ASISTENCIA!#REF!<>\"J\",ASISTENCIA!#REF!<>\"V\",ASISTENCIA!#REF!<>\"F\",ASISTENCIA!#REF!<>\"\"),SUMIF($F$13:$J$13,W$13,$F37:$J37),\"\")","v":{"$error":"#REF!"}},{"$f":"IF(AND(LEN($D37)>0,SUMIF($F$13:$J$13,X$13,$F37:$J37)>0,ASISTENCIA!#REF!<>\"X\",ASISTENCIA!#REF!<>\"L\",ASISTENCIA!#REF!<>\"J\",ASISTENCIA!#REF!<>\"V\",ASISTENCIA!#REF!<>\"F\",ASISTENCIA!#REF!<>\"\"),SUMIF($F$13:$J$13,X$13,$F37:$J37),\"\")","v":{"$error":"#REF!"}},{"$f":"IF(AND(LEN($D37)>0,SUMIF($F$13:$J$13,Y$13,$F37:$J37)>0,ASISTENCIA!#REF!<>\"X\",ASISTENCIA!#REF!<>\"L\",ASISTENCIA!#REF!<>\"J\",ASISTENCIA!#REF!<>\"V\",ASISTENCIA!#REF!<>\"F\",ASISTENCIA!#REF!<>\"\"),SUMIF($F$13:$J$13,Y$13,$F37:$J37),\"\")","v":{"$error":"#REF!"}},{"$f":"IF(AND(LEN($D37)>0,SUMIF($F$13:$J$13,Z$13,$F37:$J37)>0,ASISTENCIA!#REF!<>\"X\",ASISTENCIA!#REF!<>\"L\",ASISTENCIA!#REF!<>\"J\",ASISTENCIA!#REF!<>\"V\",ASISTENCIA!#REF!<>\"F\",ASISTENCIA!#REF!<>\"\"),SUMIF($F$13:$J$13,Z$13,$F37:$J37),\"\")","v":{"$error":"#REF!"}},{"$f":"IF(AND(LEN($D37)>0,SUMIF($F$13:$J$13,AA$13,$F37:$J37)>0,ASISTENCIA!#REF!<>\"X\",ASISTENCIA!#REF!<>\"L\",ASISTENCIA!#REF!<>\"J\",ASISTENCIA!#REF!<>\"V\",ASISTENCIA!#REF!<>\"F\",ASISTENCIA!#REF!<>\"\"),SUMIF($F$13:$J$13,AA$13,$F37:$J37),\"\")","v":{"$error":"#REF!"}},{"$f":"IF(AND(LEN($D37)>0,SUMIF($F$13:$J$13,AB$13,$F37:$J37)>0,ASISTENCIA!#REF!<>\"X\",ASISTENCIA!#REF!<>\"L\",ASISTENCIA!#REF!<>\"J\",ASISTENCIA!#REF!<>\"V\",ASISTENCIA!#REF!<>\"F\",ASISTENCIA!#REF!<>\"\"),SUMIF($F$13:$J$13,AB$13,$F37:$J37),\"\")","v":{"$error":"#REF!"}},{"$f":"IF(AND(LEN($D37)>0,SUMIF($F$13:$J$13,AC$13,$F37:$J37)>0,ASISTENCIA!#REF!<>\"X\",ASISTENCIA!#REF!<>\"L\",ASISTENCIA!#REF!<>\"J\",ASISTENCIA!#REF!<>\"V\",ASISTENCIA!#REF!<>\"F\",ASISTENCIA!#REF!<>\"\"),SUMIF($F$13:$J$13,AC$13,$F37:$J37),\"\")","v":{"$error":"#REF!"}},{"$f":"IF(AND(LEN($D37)>0,SUMIF($F$13:$J$13,AD$13,$F37:$J37)>0,ASISTENCIA!#REF!<>\"X\",ASISTENCIA!#REF!<>\"L\",ASISTENCIA!#REF!<>\"J\",ASISTENCIA!#REF!<>\"V\",ASISTENCIA!#REF!<>\"F\",ASISTENCIA!#REF!<>\"\"),SUMIF($F$13:$J$13,AD$13,$F37:$J37),\"\")","v":{"$error":"#REF!"}},{"$f":"IF(AND(LEN($D37)>0,SUMIF($F$13:$J$13,AE$13,$F37:$J37)>0,ASISTENCIA!#REF!<>\"X\",ASISTENCIA!#REF!<>\"L\",ASISTENCIA!#REF!<>\"J\",ASISTENCIA!#REF!<>\"V\",ASISTENCIA!#REF!<>\"F\",ASISTENCIA!#REF!<>\"\"),SUMIF($F$13:$J$13,AE$13,$F37:$J37),\"\")","v":{"$error":"#REF!"}},{"$f":"IF(AND(LEN($D37)>0,SUMIF($F$13:$J$13,AF$13,$F37:$J37)>0,ASISTENCIA!#REF!<>\"X\",ASISTENCIA!#REF!<>\"L\",ASISTENCIA!#REF!<>\"J\",ASISTENCIA!#REF!<>\"V\",ASISTENCIA!#REF!<>\"F\",ASISTENCIA!#REF!<>\"\"),SUMIF($F$13:$J$13,AF$13,$F37:$J37),\"\")","v":{"$error":"#REF!"}},{"$f":"IF(AND(LEN($D37)>0,SUMIF($F$13:$J$13,AG$13,$F37:$J37)>0,ASISTENCIA!#REF!<>\"X\",ASISTENCIA!#REF!<>\"L\",ASISTENCIA!#REF!<>\"J\",ASISTENCIA!#REF!<>\"V\",ASISTENCIA!#REF!<>\"F\",ASISTENCIA!#REF!<>\"\"),SUMIF($F$13:$J$13,AG$13,$F37:$J37),\"\")","v":{"$error":"#REF!"}},{"$f":"IF(AND(LEN($D37)>0,SUMIF($F$13:$J$13,AH$13,$F37:$J37)>0,ASISTENCIA!#REF!<>\"X\",ASISTENCIA!#REF!<>\"L\",ASISTENCIA!#REF!<>\"J\",ASISTENCIA!#REF!<>\"V\",ASISTENCIA!#REF!<>\"F\",ASISTENCIA!#REF!<>\"\"),SUMIF($F$13:$J$13,AH$13,$F37:$J37),\"\")","v":{"$error":"#REF!"}},{"$f":"IF(AND(LEN($D37)>0,SUMIF($F$13:$J$13,AI$13,$F37:$J37)>0,ASISTENCIA!#REF!<>\"X\",ASISTENCIA!#REF!<>\"L\",ASISTENCIA!#REF!<>\"J\",ASISTENCIA!#REF!<>\"V\",ASISTENCIA!#REF!<>\"F\",ASISTENCIA!#REF!<>\"\"),SUMIF($F$13:$J$13,AI$13,$F37:$J37),\"\")","v":{"$error":"#REF!"}},{"$f":"IF(AND(LEN($D37)>0,SUMIF($F$13:$J$13,AJ$13,$F37:$J37)>0,ASISTENCIA!#REF!<>\"X\",ASISTENCIA!#REF!<>\"L\",ASISTENCIA!#REF!<>\"J\",ASISTENCIA!#REF!<>\"V\",ASISTENCIA!#REF!<>\"F\",ASISTENCIA!#REF!<>\"\"),SUMIF($F$13:$J$13,AJ$13,$F37:$J37),\"\")","v":{"$error":"#REF!"}},{"$f":"IF(AND(LEN($D37)>0,SUMIF($F$13:$J$13,AK$13,$F37:$J37)>0,ASISTENCIA!#REF!<>\"X\",ASISTENCIA!#REF!<>\"L\",ASISTENCIA!#REF!<>\"J\",ASISTENCIA!#REF!<>\"V\",ASISTENCIA!#REF!<>\"F\",ASISTENCIA!#REF!<>\"\"),SUMIF($F$13:$J$13,AK$13,$F37:$J37),\"\")","v":{"$error":"#REF!"}},{"$f":"IF(AND(LEN($D37)>0,SUMIF($F$13:$J$13,AL$13,$F37:$J37)>0,ASISTENCIA!#REF!<>\"X\",ASISTENCIA!#REF!<>\"L\",ASISTENCIA!#REF!<>\"J\",ASISTENCIA!#REF!<>\"V\",ASISTENCIA!#REF!<>\"F\",ASISTENCIA!#REF!<>\"\"),SUMIF($F$13:$J$13,AL$13,$F37:$J37),\"\")","v":{"$error":"#REF!"}},{"$f":"IF(AND(LEN($D37)>0,SUMIF($F$13:$J$13,AM$13,$F37:$J37)>0,ASISTENCIA!#REF!<>\"X\",ASISTENCIA!#REF!<>\"L\",ASISTENCIA!#REF!<>\"J\",ASISTENCIA!#REF!<>\"V\",ASISTENCIA!#REF!<>\"F\",ASISTENCIA!#REF!<>\"\"),SUMIF($F$13:$J$13,AM$13,$F37:$J37),\"\")","v":{"$error":"#REF!"}},{"$f":"IF(AND(LEN($D37)>0,SUMIF($F$13:$J$13,AN$13,$F37:$J37)>0,ASISTENCIA!#REF!<>\"X\",ASISTENCIA!#REF!<>\"L\",ASISTENCIA!#REF!<>\"J\",ASISTENCIA!#REF!<>\"V\",ASISTENCIA!#REF!<>\"F\",ASISTENCIA!#REF!<>\"\"),SUMIF($F$13:$J$13,AN$13,$F37:$J37),\"\")","v":{"$error":"#REF!"}},{"$f":"IF(AND(LEN($D37)>0,SUMIF($F$13:$J$13,AO$13,$F37:$J37)>0,ASISTENCIA!#REF!<>\"X\",ASISTENCIA!#REF!<>\"L\",ASISTENCIA!#REF!<>\"J\",ASISTENCIA!#REF!<>\"V\",ASISTENCIA!#REF!<>\"F\",ASISTENCIA!#REF!<>\"\"),SUMIF($F$13:$J$13,AO$13,$F37:$J37),\"\")","v":{"$error":"#REF!"}},{"$f":"IF(AND(LEN($D37)>0,SUMIF($F$13:$J$13,AP$13,$F37:$J37)>0,ASISTENCIA!#REF!<>\"X\",ASISTENCIA!#REF!<>\"L\",ASISTENCIA!#REF!<>\"J\",ASISTENCIA!#REF!<>\"V\",ASISTENCIA!#REF!<>\"F\",ASISTENCIA!#REF!<>\"\"),SUMIF($F$13:$J$13,AP$13,$F37:$J37),\"\")","v":{"$error":"#REF!"}},{"$f":"IF(AND(LEN($D37)>0,SUMIF($F$13:$J$13,AQ$13,$F37:$J37)>0,ASISTENCIA!#REF!<>\"X\",ASISTENCIA!#REF!<>\"L\",ASISTENCIA!#REF!<>\"J\",ASISTENCIA!#REF!<>\"V\",ASISTENCIA!#REF!<>\"F\",ASISTENCIA!#REF!<>\"\"),SUMIF($F$13:$J$13,AQ$13,$F37:$J37),\"\")","v":{"$error":"#REF!"}},{"$f":"IF(AND(LEN($D37)>0,SUMIF($F$13:$J$13,AR$13,$F37:$J37)>0,ASISTENCIA!#REF!<>\"X\",ASISTENCIA!#REF!<>\"L\",ASISTENCIA!#REF!<>\"J\",ASISTENCIA!#REF!<>\"V\",ASISTENCIA!#REF!<>\"F\",ASISTENCIA!#REF!<>\"\"),SUMIF($F$13:$J$13,AR$13,$F37:$J37),\"\")","v":{"$error":"#REF!"}},{"$f":"IF(AND(LEN($D37)>0,SUMIF($F$13:$J$13,AS$13,$F37:$J37)>0,ASISTENCIA!#REF!<>\"X\",ASISTENCIA!#REF!<>\"L\",ASISTENCIA!#REF!<>\"J\",ASISTENCIA!#REF!<>\"V\",ASISTENCIA!#REF!<>\"F\",ASISTENCIA!#REF!<>\"\"),SUMIF($F$13:$J$13,AS$13,$F37:$J37),\"\")","v":{"$error":"#REF!"}},{"$error":"#REF!"},null,null,null,{"$f":"IF(AND(LEN($D37)>0,SUMIF($F$13:$J$13,AX$13,$F37:$J37)>0,ASISTENCIA!#REF!<>\"X\",ASISTENCIA!#REF!<>\"L\",ASISTENCIA!#REF!<>\"J\",ASISTENCIA!#REF!<>\"F\"),SUMIF($F$13:$J$13,AX$13,$F37:$J37),\"\")","v":{"$error":"#REF!"}},{"$f":"IF(AND(LEN($D37)>0,SUMIF($F$13:$J$13,AY$13,$F37:$J37)>0,ASISTENCIA!#REF!<>\"X\",ASISTENCIA!#REF!<>\"L\",ASISTENCIA!#REF!<>\"J\",ASISTENCIA!#REF!<>\"F\"),SUMIF($F$13:$J$13,AY$13,$F37:$J37),\"\")","v":{"$error":"#REF!"}},{"$f":"IF(AND(LEN($D37)>0,SUMIF($F$13:$J$13,AZ$13,$F37:$J37)>0,ASISTENCIA!#REF!<>\"X\",ASISTENCIA!#REF!<>\"L\",ASISTENCIA!#REF!<>\"J\",ASISTENCIA!#REF!<>\"F\"),SUMIF($F$13:$J$13,AZ$13,$F37:$J37),\"\")","v":{"$error":"#REF!"}},{"$f":"IF(AND(LEN($D37)>0,SUMIF($F$13:$J$13,BA$13,$F37:$J37)>0,ASISTENCIA!#REF!<>\"X\",ASISTENCIA!#REF!<>\"L\",ASISTENCIA!#REF!<>\"J\",ASISTENCIA!#REF!<>\"F\"),SUMIF($F$13:$J$13,BA$13,$F37:$J37),\"\")","v":{"$error":"#REF!"}},{"$f":"IF(AND(LEN($D37)>0,SUMIF($F$13:$J$13,BB$13,$F37:$J37)>0,ASISTENCIA!#REF!<>\"X\",ASISTENCIA!#REF!<>\"L\",ASISTENCIA!#REF!<>\"J\",ASISTENCIA!#REF!<>\"F\"),SUMIF($F$13:$J$13,BB$13,$F37:$J37),\"\")","v":{"$error":"#REF!"}},{"$f":"IF(AND(LEN($D37)>0,SUMIF($F$13:$J$13,BC$13,$F37:$J37)>0,ASISTENCIA!#REF!<>\"X\",ASISTENCIA!#REF!<>\"L\",ASISTENCIA!#REF!<>\"J\",ASISTENCIA!#REF!<>\"F\"),SUMIF($F$13:$J$13,BC$13,$F37:$J37),\"\")","v":{"$error":"#REF!"}},{"$f":"IF(AND(LEN($D37)>0,SUMIF($F$13:$J$13,BD$13,$F37:$J37)>0,ASISTENCIA!#REF!<>\"X\",ASISTENCIA!#REF!<>\"L\",ASISTENCIA!#REF!<>\"J\",ASISTENCIA!#REF!<>\"F\"),SUMIF($F$13:$J$13,BD$13,$F37:$J37),\"\")","v":{"$error":"#REF!"}},{"$f":"IF(AND(LEN($D37)>0,SUMIF($F$13:$J$13,BE$13,$F37:$J37)>0,ASISTENCIA!#REF!<>\"X\",ASISTENCIA!#REF!<>\"L\",ASISTENCIA!#REF!<>\"J\",ASISTENCIA!#REF!<>\"F\"),SUMIF($F$13:$J$13,BE$13,$F37:$J37),\"\")","v":{"$error":"#REF!"}},{"$f":"IF(AND(LEN($D37)>0,SUMIF($F$13:$J$13,BF$13,$F37:$J37)>0,ASISTENCIA!#REF!<>\"X\",ASISTENCIA!#REF!<>\"L\",ASISTENCIA!#REF!<>\"J\",ASISTENCIA!#REF!<>\"F\"),SUMIF($F$13:$J$13,BF$13,$F37:$J37),\"\")","v":{"$error":"#REF!"}},{"$f":"IF(AND(LEN($D37)>0,SUMIF($F$13:$J$13,BG$13,$F37:$J37)>0,ASISTENCIA!#REF!<>\"X\",ASISTENCIA!#REF!<>\"L\",ASISTENCIA!#REF!<>\"J\",ASISTENCIA!#REF!<>\"F\"),SUMIF($F$13:$J$13,BG$13,$F37:$J37),\"\")","v":{"$error":"#REF!"}},{"$f":"IF(AND(LEN($D37)>0,SUMIF($F$13:$J$13,BH$13,$F37:$J37)>0,ASISTENCIA!#REF!<>\"X\",ASISTENCIA!#REF!<>\"L\",ASISTENCIA!#REF!<>\"J\",ASISTENCIA!#REF!<>\"F\"),SUMIF($F$13:$J$13,BH$13,$F37:$J37),\"\")","v":{"$error":"#REF!"}},{"$f":"IF(AND(LEN($D37)>0,SUMIF($F$13:$J$13,BI$13,$F37:$J37)>0,ASISTENCIA!#REF!<>\"X\",ASISTENCIA!#REF!<>\"L\",ASISTENCIA!#REF!<>\"J\",ASISTENCIA!#REF!<>\"F\"),SUMIF($F$13:$J$13,BI$13,$F37:$J37),\"\")","v":{"$error":"#REF!"}},{"$f":"IF(AND(LEN($D37)>0,SUMIF($F$13:$J$13,BJ$13,$F37:$J37)>0,ASISTENCIA!#REF!<>\"X\",ASISTENCIA!#REF!<>\"L\",ASISTENCIA!#REF!<>\"J\",ASISTENCIA!#REF!<>\"F\"),SUMIF($F$13:$J$13,BJ$13,$F37:$J37),\"\")","v":{"$error":"#REF!"}},{"$f":"IF(AND(LEN($D37)>0,SUMIF($F$13:$J$13,BK$13,$F37:$J37)>0,ASISTENCIA!#REF!<>\"X\",ASISTENCIA!#REF!<>\"L\",ASISTENCIA!#REF!<>\"J\",ASISTENCIA!#REF!<>\"F\"),SUMIF($F$13:$J$13,BK$13,$F37:$J37),\"\")","v":{"$error":"#REF!"}},{"$f":"IF(AND(LEN($D37)>0,SUMIF($F$13:$J$13,BL$13,$F37:$J37)>0,ASISTENCIA!#REF!<>\"X\",ASISTENCIA!#REF!<>\"L\",ASISTENCIA!#REF!<>\"J\",ASISTENCIA!#REF!<>\"F\"),SUMIF($F$13:$J$13,BL$13,$F37:$J37),\"\")","v":{"$error":"#REF!"}},{"$f":"IF(AND(LEN($D37)>0,SUMIF($F$13:$J$13,BM$13,$F37:$J37)>0,ASISTENCIA!#REF!<>\"X\",ASISTENCIA!#REF!<>\"L\",ASISTENCIA!#REF!<>\"J\",ASISTENCIA!#REF!<>\"F\"),SUMIF($F$13:$J$13,BM$13,$F37:$J37),\"\")","v":{"$error":"#REF!"}},{"$f":"IF(AND(LEN($D37)>0,SUMIF($F$13:$J$13,BN$13,$F37:$J37)>0,ASISTENCIA!#REF!<>\"X\",ASISTENCIA!#REF!<>\"L\",ASISTENCIA!#REF!<>\"J\",ASISTENCIA!#REF!<>\"F\"),SUMIF($F$13:$J$13,BN$13,$F37:$J37),\"\")","v":{"$error":"#REF!"}},{"$f":"IF(AND(LEN($D37)>0,SUMIF($F$13:$J$13,BO$13,$F37:$J37)>0,ASISTENCIA!#REF!<>\"X\",ASISTENCIA!#REF!<>\"L\",ASISTENCIA!#REF!<>\"J\",ASISTENCIA!#REF!<>\"F\"),SUMIF($F$13:$J$13,BO$13,$F37:$J37),\"\")","v":{"$error":"#REF!"}},{"$f":"IF(AND(LEN($D37)>0,SUMIF($F$13:$J$13,BP$13,$F37:$J37)>0,ASISTENCIA!#REF!<>\"X\",ASISTENCIA!#REF!<>\"L\",ASISTENCIA!#REF!<>\"J\",ASISTENCIA!#REF!<>\"F\"),SUMIF($F$13:$J$13,BP$13,$F37:$J37),\"\")","v":{"$error":"#REF!"}},{"$f":"IF(AND(LEN($D37)>0,SUMIF($F$13:$J$13,BQ$13,$F37:$J37)>0,ASISTENCIA!#REF!<>\"X\",ASISTENCIA!#REF!<>\"L\",ASISTENCIA!#REF!<>\"J\",ASISTENCIA!#REF!<>\"F\"),SUMIF($F$13:$J$13,BQ$13,$F37:$J37),\"\")","v":{"$error":"#REF!"}},{"$f":"IF(AND(LEN($D37)>0,SUMIF($F$13:$J$13,BR$13,$F37:$J37)>0,ASISTENCIA!#REF!<>\"X\",ASISTENCIA!#REF!<>\"L\",ASISTENCIA!#REF!<>\"J\",ASISTENCIA!#REF!<>\"F\"),SUMIF($F$13:$J$13,BR$13,$F37:$J37),\"\")","v":{"$error":"#REF!"}},{"$f":"IF(AND(LEN($D37)>0,SUMIF($F$13:$J$13,BS$13,$F37:$J37)>0,ASISTENCIA!#REF!<>\"X\",ASISTENCIA!#REF!<>\"L\",ASISTENCIA!#REF!<>\"J\",ASISTENCIA!#REF!<>\"F\"),SUMIF($F$13:$J$13,BS$13,$F37:$J37),\"\")","v":{"$error":"#REF!"}},{"$f":"IF(AND(LEN($D37)>0,SUMIF($F$13:$J$13,BT$13,$F37:$J37)>0,ASISTENCIA!#REF!<>\"X\",ASISTENCIA!#REF!<>\"L\",ASISTENCIA!#REF!<>\"J\",ASISTENCIA!#REF!<>\"F\"),SUMIF($F$13:$J$13,BT$13,$F37:$J37),\"\")","v":{"$error":"#REF!"}},{"$f":"IF(AND(LEN($D37)>0,SUMIF($F$13:$J$13,BU$13,$F37:$J37)>0,ASISTENCIA!#REF!<>\"X\",ASISTENCIA!#REF!<>\"L\",ASISTENCIA!#REF!<>\"J\",ASISTENCIA!#REF!<>\"F\"),SUMIF($F$13:$J$13,BU$13,$F37:$J37),\"\")","v":{"$error":"#REF!"}},{"$f":"IF(AND(LEN($D37)>0,SUMIF($F$13:$J$13,BV$13,$F37:$J37)>0,ASISTENCIA!#REF!<>\"X\",ASISTENCIA!#REF!<>\"L\",ASISTENCIA!#REF!<>\"J\",ASISTENCIA!#REF!<>\"F\"),SUMIF($F$13:$J$13,BV$13,$F37:$J37),\"\")","v":{"$error":"#REF!"}},{"$f":"IF(AND(LEN($D37)>0,SUMIF($F$13:$J$13,BW$13,$F37:$J37)>0,ASISTENCIA!#REF!<>\"X\",ASISTENCIA!#REF!<>\"L\",ASISTENCIA!#REF!<>\"J\",ASISTENCIA!#REF!<>\"F\"),SUMIF($F$13:$J$13,BW$13,$F37:$J37),\"\")","v":{"$error":"#REF!"}},{"$f":"IF(AND(LEN($D37)>0,SUMIF($F$13:$J$13,BX$13,$F37:$J37)>0,ASISTENCIA!#REF!<>\"X\",ASISTENCIA!#REF!<>\"L\",ASISTENCIA!#REF!<>\"J\",ASISTENCIA!#REF!<>\"F\"),SUMIF($F$13:$J$13,BX$13,$F37:$J37),\"\")","v":{"$error":"#REF!"}},{"$f":"IF(AND(LEN($D37)>0,SUMIF($F$13:$J$13,BY$13,$F37:$J37)>0,ASISTENCIA!#REF!<>\"X\",ASISTENCIA!#REF!<>\"L\",ASISTENCIA!#REF!<>\"J\",ASISTENCIA!#REF!<>\"F\"),SUMIF($F$13:$J$13,BY$13,$F37:$J37),\"\")","v":{"$error":"#REF!"}},{"$f":"IF(AND(LEN($D37)>0,SUMIF($F$13:$J$13,BZ$13,$F37:$J37)>0,ASISTENCIA!#REF!<>\"X\",ASISTENCIA!#REF!<>\"L\",ASISTENCIA!#REF!<>\"J\",ASISTENCIA!#REF!<>\"F\"),SUMIF($F$13:$J$13,BZ$13,$F37:$J37),\"\")","v":{"$error":"#REF!"}},{"$f":"IF(AND(LEN($D37)>0,SUMIF($F$13:$J$13,CA$13,$F37:$J37)>0,ASISTENCIA!#REF!<>\"X\",ASISTENCIA!#REF!<>\"L\",ASISTENCIA!#REF!<>\"J\",ASISTENCIA!#REF!<>\"F\"),SUMIF($F$13:$J$13,CA$13,$F37:$J37),\"\")","v":{"$error":"#REF!"}},{"$f":"IF(AND(LEN($D37)>0,SUMIF($F$13:$J$13,CB$13,$F37:$J37)>0,ASISTENCIA!#REF!<>\"X\",ASISTENCIA!#REF!<>\"L\",ASISTENCIA!#REF!<>\"J\",ASISTENCIA!#REF!<>\"F\"),SUMIF($F$13:$J$13,CB$13,$F37:$J37),\"\")","v":{"$error":"#REF!"}},{"$error":"#REF!"}]
[{"$error":"#REF!"},{"$f":"IF(LEN(C38)>0,VLOOKUP($O$4,DATA!$A$1:$S$1,2,FALSE),\"\")","v":{"$error":"#REF!"}},{"$error":"#REF!"},{"$f":"IF(LEN(ASISTENCIA!#REF!)>0,ASISTENCIA!#REF!,\"\")","v":{"$error":"#REF!"}},{"$f":"IF(LEN(D38)>0,ASISTENCIA!#REF!,\"\")","v":{"$error":"#REF!"}},null,null,null,null,null,"",null,null,{"$error":"#REF!"},{"$f":"IF(AND(LEN($D38)>0,SUMIF($F$13:$J$13,O$13,$F38:$J38)>0,ASISTENCIA!#REF!<>\"X\",ASISTENCIA!#REF!<>\"L\",ASISTENCIA!#REF!<>\"J\",ASISTENCIA!#REF!<>\"V\",ASISTENCIA!#REF!<>\"F\",ASISTENCIA!#REF!<>\"\"),SUMIF($F$13:$J$13,O$13,$F38:$J38),\"\")","v":{"$error":"#REF!"}},{"$f":"IF(AND(LEN($D38)>0,SUMIF($F$13:$J$13,P$13,$F38:$J38)>0,ASISTENCIA!#REF!<>\"X\",ASISTENCIA!#REF!<>\"L\",ASISTENCIA!#REF!<>\"J\",ASISTENCIA!#REF!<>\"V\",ASISTENCIA!#REF!<>\"F\",ASISTENCIA!#REF!<>\"\"),SUMIF($F$13:$J$13,P$13,$F38:$J38),\"\")","v":{"$error":"#REF!"}},{"$f":"IF(AND(LEN($D38)>0,SUMIF($F$13:$J$13,Q$13,$F38:$J38)>0,ASISTENCIA!#REF!<>\"X\",ASISTENCIA!#REF!<>\"L\",ASISTENCIA!#REF!<>\"J\",ASISTENCIA!#REF!<>\"V\",ASISTENCIA!#REF!<>\"F\",ASISTENCIA!#REF!<>\"\"),SUMIF($F$13:$J$13,Q$13,$F38:$J38),\"\")","v":{"$error":"#REF!"}},{"$f":"IF(AND(LEN($D38)>0,SUMIF($F$13:$J$13,R$13,$F38:$J38)>0,ASISTENCIA!#REF!<>\"X\",ASISTENCIA!#REF!<>\"L\",ASISTENCIA!#REF!<>\"J\",ASISTENCIA!#REF!<>\"V\",ASISTENCIA!#REF!<>\"F\",ASISTENCIA!#REF!<>\"\"),SUMIF($F$13:$J$13,R$13,$F38:$J38),\"\")","v":{"$error":"#REF!"}},{"$f":"IF(AND(LEN($D38)>0,SUMIF($F$13:$J$13,S$13,$F38:$J38)>0,ASISTENCIA!#REF!<>\"X\",ASISTENCIA!#REF!<>\"L\",ASISTENCIA!#REF!<>\"J\",ASISTENCIA!#REF!<>\"V\",ASISTENCIA!#REF!<>\"F\",ASISTENCIA!#REF!<>\"\"),SUMIF($F$13:$J$13,S$13,$F38:$J38),\"\")","v":{"$error":"#REF!"}},{"$f":"IF(AND(LEN($D38)>0,SUMIF($F$13:$J$13,T$13,$F38:$J38)>0,ASISTENCIA!#REF!<>\"X\",ASISTENCIA!#REF!<>\"L\",ASISTENCIA!#REF!<>\"J\",ASISTENCIA!#REF!<>\"V\",ASISTENCIA!#REF!<>\"F\",ASISTENCIA!#REF!<>\"\"),SUMIF($F$13:$J$13,T$13,$F38:$J38),\"\")","v":{"$error":"#REF!"}},{"$f":"IF(AND(LEN($D38)>0,SUMIF($F$13:$J$13,U$13,$F38:$J38)>0,ASISTENCIA!#REF!<>\"X\",ASISTENCIA!#REF!<>\"L\",ASISTENCIA!#REF!<>\"J\",ASISTENCIA!#REF!<>\"V\",ASISTENCIA!#REF!<>\"F\",ASISTENCIA!#REF!<>\"\"),SUMIF($F$13:$J$13,U$13,$F38:$J38),\"\")","v":{"$error":"#REF!"}},{"$f":"IF(AND(LEN($D38)>0,SUMIF($F$13:$J$13,V$13,$F38:$J38)>0,ASISTENCIA!#REF!<>\"X\",ASISTENCIA!#REF!<>\"L\",ASISTENCIA!#REF!<>\"J\",ASISTENCIA!#REF!<>\"V\",ASISTENCIA!#REF!<>\"F\",ASISTENCIA!#REF!<>\"\"),SUMIF($F$13:$J$13,V$13,$F38:$J38),\"\")","v":{"$error":"#REF!"}},{"$f":"IF(AND(LEN($D38)>0,SUMIF($F$13:$J$13,W$13,$F38:$J38)>0,ASISTENCIA!#REF!<>\"X\",ASISTENCIA!#REF!<>\"L\",ASISTENCIA!#REF!<>\"J\",ASISTENCIA!#REF!<>\"V\",ASISTENCIA!#REF!<>\"F\",ASISTENCIA!#REF!<>\"\"),SUMIF($F$13:$J$13,W$13,$F38:$J38),\"\")","v":{"$error":"#REF!"}},{"$f":"IF(AND(LEN($D38)>0,SUMIF($F$13:$J$13,X$13,$F38:$J38)>0,ASISTENCIA!#REF!<>\"X\",ASISTENCIA!#REF!<>\"L\",ASISTENCIA!#REF!<>\"J\",ASISTENCIA!#REF!<>\"V\",ASISTENCIA!#REF!<>\"F\",ASISTENCIA!#REF!<>\"\"),SUMIF($F$13:$J$13,X$13,$F38:$J38),\"\")","v":{"$error":"#REF!"}},{"$f":"IF(AND(LEN($D38)>0,SUMIF($F$13:$J$13,Y$13,$F38:$J38)>0,ASISTENCIA!#REF!<>\"X\",ASISTENCIA!#REF!<>\"L\",ASISTENCIA!#REF!<>\"J\",ASISTENCIA!#REF!<>\"V\",ASISTENCIA!#REF!<>\"F\",ASISTENCIA!#REF!<>\"\"),SUMIF($F$13:$J$13,Y$13,$F38:$J38),\"\")","v":{"$error":"#REF!"}},{"$f":"IF(AND(LEN($D38)>0,SUMIF($F$13:$J$13,Z$13,$F38:$J38)>0,ASISTENCIA!#REF!<>\"X\",ASISTENCIA!#REF!<>\"L\",ASISTENCIA!#REF!<>\"J\",ASISTENCIA!#REF!<>\"V\",ASISTENCIA!#REF!<>\"F\",ASISTENCIA!#REF!<>\"\"),SUMIF($F$13:$J$13,Z$13,$F38:$J38),\"\")","v":{"$error":"#REF!"}},{"$f":"IF(AND(LEN($D38)>0,SUMIF($F$13:$J$13,AA$13,$F38:$J38)>0,ASISTENCIA!#REF!<>\"X\",ASISTENCIA!#REF!<>\"L\",ASISTENCIA!#REF!<>\"J\",ASISTENCIA!#REF!<>\"V\",ASISTENCIA!#REF!<>\"F\",ASISTENCIA!#REF!<>\"\"),SUMIF($F$13:$J$13,AA$13,$F38:$J38),\"\")","v":{"$error":"#REF!"}},{"$f":"IF(AND(LEN($D38)>0,SUMIF($F$13:$J$13,AB$13,$F38:$J38)>0,ASISTENCIA!#REF!<>\"X\",ASISTENCIA!#REF!<>\"L\",ASISTENCIA!#REF!<>\"J\",ASISTENCIA!#REF!<>\"V\",ASISTENCIA!#REF!<>\"F\",ASISTENCIA!#REF!<>\"\"),SUMIF($F$13:$J$13,AB$13,$F38:$J38),\"\")","v":{"$error":"#REF!"}},{"$f":"IF(AND(LEN($D38)>0,SUMIF($F$13:$J$13,AC$13,$F38:$J38)>0,ASISTENCIA!#REF!<>\"X\",ASISTENCIA!#REF!<>\"L\",ASISTENCIA!#REF!<>\"J\",ASISTENCIA!#REF!<>\"V\",ASISTENCIA!#REF!<>\"F\",ASISTENCIA!#REF!<>\"\"),SUMIF($F$13:$J$13,AC$13,$F38:$J38),\"\")","v":{"$error":"#REF!"}},{"$f":"IF(AND(LEN($D38)>0,SUMIF($F$13:$J$13,AD$13,$F38:$J38)>0,ASISTENCIA!#REF!<>\"X\",ASISTENCIA!#REF!<>\"L\",ASISTENCIA!#REF!<>\"J\",ASISTENCIA!#REF!<>\"V\",ASISTENCIA!#REF!<>\"F\",ASISTENCIA!#REF!<>\"\"),SUMIF($F$13:$J$13,AD$13,$F38:$J38),\"\")","v":{"$error":"#REF!"}},{"$f":"IF(AND(LEN($D38)>0,SUMIF($F$13:$J$13,AE$13,$F38:$J38)>0,ASISTENCIA!#REF!<>\"X\",ASISTENCIA!#REF!<>\"L\",ASISTENCIA!#REF!<>\"J\",ASISTENCIA!#REF!<>\"V\",ASISTENCIA!#REF!<>\"F\",ASISTENCIA!#REF!<>\"\"),SUMIF($F$13:$J$13,AE$13,$F38:$J38),\"\")","v":{"$error":"#REF!"}},{"$f":"IF(AND(LEN($D38)>0,SUMIF($F$13:$J$13,AF$13,$F38:$J38)>0,ASISTENCIA!#REF!<>\"X\",ASISTENCIA!#REF!<>\"L\",ASISTENCIA!#REF!<>\"J\",ASISTENCIA!#REF!<>\"V\",ASISTENCIA!#REF!<>\"F\",ASISTENCIA!#REF!<>\"\"),SUMIF($F$13:$J$13,AF$13,$F38:$J38),\"\")","v":{"$error":"#REF!"}},{"$f":"IF(AND(LEN($D38)>0,SUMIF($F$13:$J$13,AG$13,$F38:$J38)>0,ASISTENCIA!#REF!<>\"X\",ASISTENCIA!#REF!<>\"L\",ASISTENCIA!#REF!<>\"J\",ASISTENCIA!#REF!<>\"V\",ASISTENCIA!#REF!<>\"F\",ASISTENCIA!#REF!<>\"\"),SUMIF($F$13:$J$13,AG$13,$F38:$J38),\"\")","v":{"$error":"#REF!"}},{"$f":"IF(AND(LEN($D38)>0,SUMIF($F$13:$J$13,AH$13,$F38:$J38)>0,ASISTENCIA!#REF!<>\"X\",ASISTENCIA!#REF!<>\"L\",ASISTENCIA!#REF!<>\"J\",ASISTENCIA!#REF!<>\"V\",ASISTENCIA!#REF!<>\"F\",ASISTENCIA!#REF!<>\"\"),SUMIF($F$13:$J$13,AH$13,$F38:$J38),\"\")","v":{"$error":"#REF!"}},{"$f":"IF(AND(LEN($D38)>0,SUMIF($F$13:$J$13,AI$13,$F38:$J38)>0,ASISTENCIA!#REF!<>\"X\",ASISTENCIA!#REF!<>\"L\",ASISTENCIA!#REF!<>\"J\",ASISTENCIA!#REF!<>\"V\",ASISTENCIA!#REF!<>\"F\",ASISTENCIA!#REF!<>\"\"),SUMIF($F$13:$J$13,AI$13,$F38:$J38),\"\")","v":{"$error":"#REF!"}},{"$f":"IF(AND(LEN($D38)>0,SUMIF($F$13:$J$13,AJ$13,$F38:$J38)>0,ASISTENCIA!#REF!<>\"X\",ASISTENCIA!#REF!<>\"L\",ASISTENCIA!#REF!<>\"J\",ASISTENCIA!#REF!<>\"V\",ASISTENCIA!#REF!<>\"F\",ASISTENCIA!#REF!<>\"\"),SUMIF($F$13:$J$13,AJ$13,$F38:$J38),\"\")","v":{"$error":"#REF!"}},{"$f":"IF(AND(LEN($D38)>0,SUMIF($F$13:$J$13,AK$13,$F38:$J38)>0,ASISTENCIA!#REF!<>\"X\",ASISTENCIA!#REF!<>\"L\",ASISTENCIA!#REF!<>\"J\",ASISTENCIA!#REF!<>\"V\",ASISTENCIA!#REF!<>\"F\",ASISTENCIA!#REF!<>\"\"),SUMIF($F$13:$J$13,AK$13,$F38:$J38),\"\")","v":{"$error":"#REF!"}},{"$f":"IF(AND(LEN($D38)>0,SUMIF($F$13:$J$13,AL$13,$F38:$J38)>0,ASISTENCIA!#REF!<>\"X\",ASISTENCIA!#REF!<>\"L\",ASISTENCIA!#REF!<>\"J\",ASISTENCIA!#REF!<>\"V\",ASISTENCIA!#REF!<>\"F\",ASISTENCIA!#REF!<>\"\"),SUMIF($F$13:$J$13,AL$13,$F38:$J38),\"\")","v":{"$error":"#REF!"}},{"$f":"IF(AND(LEN($D38)>0,SUMIF($F$13:$J$13,AM$13,$F38:$J38)>0,ASISTENCIA!#REF!<>\"X\",ASISTENCIA!#REF!<>\"L\",ASISTENCIA!#REF!<>\"J\",ASISTENCIA!#REF!<>\"V\",ASISTENCIA!#REF!<>\"F\",ASISTENCIA!#REF!<>\"\"),SUMIF($F$13:$J$13,AM$13,$F38:$J38),\"\")","v":{"$error":"#REF!"}},{"$f":"IF(AND(LEN($D38)>0,SUMIF($F$13:$J$13,AN$13,$F38:$J38)>0,ASISTENCIA!#REF!<>\"X\",ASISTENCIA!#REF!<>\"L\",ASISTENCIA!#REF!<>\"J\",ASISTENCIA!#REF!<>\"V\",ASISTENCIA!#REF!<>\"F\",ASISTENCIA!#REF!<>\"\"),SUMIF($F$13:$J$13,AN$13,$F38:$J38),\"\")","v":{"$error":"#REF!"}},{"$f":"IF(AND(LEN($D38)>0,SUMIF($F$13:$J$13,AO$13,$F38:$J38)>0,ASISTENCIA!#REF!<>\"X\",ASISTENCIA!#REF!<>\"L\",ASISTENCIA!#REF!<>\"J\",ASISTENCIA!#REF!<>\"V\",ASISTENCIA!#REF!<>\"F\",ASISTENCIA!#REF!<>\"\"),SUMIF($F$13:$J$13,AO$13,$F38:$J38),\"\")","v":{"$error":"#REF!"}},{"$f":"IF(AND(LEN($D38)>0,SUMIF($F$13:$J$13,AP$13,$F38:$J38)>0,ASISTENCIA!#REF!<>\"X\",ASISTENCIA!#REF!<>\"L\",ASISTENCIA!#REF!<>\"J\",ASISTENCIA!#REF!<>\"V\",ASISTENCIA!#REF!<>\"F\",ASISTENCIA!#REF!<>\"\"),SUMIF($F$13:$J$13,AP$13,$F38:$J38),\"\")","v":{"$error":"#REF!"}},{"$f":"IF(AND(LEN($D38)>0,SUMIF($F$13:$J$13,AQ$13,$F38:$J38)>0,ASISTENCIA!#REF!<>\"X\",ASISTENCIA!#REF!<>\"L\",ASISTENCIA!#REF!<>\"J\",ASISTENCIA!#REF!<>\"V\",ASISTENCIA!#REF!<>\"F\",ASISTENCIA!#REF!<>\"\"),SUMIF($F$13:$J$13,AQ$13,$F38:$J38),\"\")","v":{"$error":"#REF!"}},{"$f":"IF(AND(LEN($D38)>0,SUMIF($F$13:$J$13,AR$13,$F38:$J38)>0,ASISTENCIA!#REF!<>\"X\",ASISTENCIA!#REF!<>\"L\",ASISTENCIA!#REF!<>\"J\",ASISTENCIA!#REF!<>\"V\",ASISTENCIA!#REF!<>\"F\",ASISTENCIA!#REF!<>\"\"),SUMIF($F$13:$J$13,AR$13,$F38:$J38),\"\")","v":{"$error":"#REF!"}},{"$f":"IF(AND(LEN($D38)>0,SUMIF($F$13:$J$13,AS$13,$F38:$J38)>0,ASISTENCIA!#REF!<>\"X\",ASISTENCIA!#REF!<>\"L\",ASISTENCIA!#REF!<>\"J\",ASISTENCIA!#REF!<>\"V\",ASISTENCIA!#REF!<>\"F\",ASISTENCIA!#REF!<>\"\"),SUMIF($F$13:$J$13,AS$13,$F38:$J38),\"\")","v":{"$error":"#REF!"}},{"$error":"#REF!"},null,null,null,{"$f":"IF(AND(LEN($D38)>0,SUMIF($F$13:$J$13,AX$13,$F38:$J38)>0,ASISTENCIA!#REF!<>\"X\",ASISTENCIA!#REF!<>\"L\",ASISTENCIA!#REF!<>\"J\",ASISTENCIA!#REF!<>\"F\"),SUMIF($F$13:$J$13,AX$13,$F38:$J38),\"\")","v":{"$error":"#REF!"}},{"$f":"IF(AND(LEN($D38)>0,SUMIF($F$13:$J$13,AY$13,$F38:$J38)>0,ASISTENCIA!#REF!<>\"X\",ASISTENCIA!#REF!<>\"L\",ASISTENCIA!#REF!<>\"J\",ASISTENCIA!#REF!<>\"F\"),SUMIF($F$13:$J$13,AY$13,$F38:$J38),\"\")","v":{"$error":"#REF!"}},{"$f":"IF(AND(LEN($D38)>0,SUMIF($F$13:$J$13,AZ$13,$F38:$J38)>0,ASISTENCIA!#REF!<>\"X\",ASISTENCIA!#REF!<>\"L\",ASISTENCIA!#REF!<>\"J\",ASISTENCIA!#REF!<>\"F\"),SUMIF($F$13:$J$13,AZ$13,$F38:$J38),\"\")","v":{"$error":"#REF!"}},{"$f":"IF(AND(LEN($D38)>0,SUMIF($F$13:$J$13,BA$13,$F38:$J38)>0,ASISTENCIA!#REF!<>\"X\",ASISTENCIA!#REF!<>\"L\",ASISTENCIA!#REF!<>\"J\",ASISTENCIA!#REF!<>\"F\"),SUMIF($F$13:$J$13,BA$13,$F38:$J38),\"\")","v":{"$error":"#REF!"}},{"$f":"IF(AND(LEN($D38)>0,SUMIF($F$13:$J$13,BB$13,$F38:$J38)>0,ASISTENCIA!#REF!<>\"X\",ASISTENCIA!#REF!<>\"L\",ASISTENCIA!#REF!<>\"J\",ASISTENCIA!#REF!<>\"F\"),SUMIF($F$13:$J$13,BB$13,$F38:$J38),\"\")","v":{"$error":"#REF!"}},{"$f":"IF(AND(LEN($D38)>0,SUMIF($F$13:$J$13,BC$13,$F38:$J38)>0,ASISTENCIA!#REF!<>\"X\",ASISTENCIA!#REF!<>\"L\",ASISTENCIA!#REF!<>\"J\",ASISTENCIA!#REF!<>\"F\"),SUMIF($F$13:$J$13,BC$13,$F38:$J38),\"\")","v":{"$error":"#REF!"}},{"$f":"IF(AND(LEN($D38)>0,SUMIF($F$13:$J$13,BD$13,$F38:$J38)>0,ASISTENCIA!#REF!<>\"X\",ASISTENCIA!#REF!<>\"L\",ASISTENCIA!#REF!<>\"J\",ASISTENCIA!#REF!<>\"F\"),SUMIF($F$13:$J$13,BD$13,$F38:$J38),\"\")","v":{"$error":"#REF!"}},{"$f":"IF(AND(LEN($D38)>0,SUMIF($F$13:$J$13,BE$13,$F38:$J38)>0,ASISTENCIA!#REF!<>\"X\",ASISTENCIA!#REF!<>\"L\",ASISTENCIA!#REF!<>\"J\",ASISTENCIA!#REF!<>\"F\"),SUMIF($F$13:$J$13,BE$13,$F38:$J38),\"\")","v":{"$error":"#REF!"}},{"$f":"IF(AND(LEN($D38)>0,SUMIF($F$13:$J$13,BF$13,$F38:$J38)>0,ASISTENCIA!#REF!<>\"X\",ASISTENCIA!#REF!<>\"L\",ASISTENCIA!#REF!<>\"J\",ASISTENCIA!#REF!<>\"F\"),SUMIF($F$13:$J$13,BF$13,$F38:$J38),\"\")","v":{"$error":"#REF!"}},{"$f":"IF(AND(LEN($D38)>0,SUMIF($F$13:$J$13,BG$13,$F38:$J38)>0,ASISTENCIA!#REF!<>\"X\",ASISTENCIA!#REF!<>\"L\",ASISTENCIA!#REF!<>\"J\",ASISTENCIA!#REF!<>\"F\"),SUMIF($F$13:$J$13,BG$13,$F38:$J38),\"\")","v":{"$error":"#REF!"}},{"$f":"IF(AND(LEN($D38)>0,SUMIF($F$13:$J$13,BH$13,$F38:$J38)>0,ASISTENCIA!#REF!<>\"X\",ASISTENCIA!#REF!<>\"L\",ASISTENCIA!#REF!<>\"J\",ASISTENCIA!#REF!<>\"F\"),SUMIF($F$13:$J$13,BH$13,$F38:$J38),\"\")","v":{"$error":"#REF!"}},{"$f":"IF(AND(LEN($D38)>0,SUMIF($F$13:$J$13,BI$13,$F38:$J38)>0,ASISTENCIA!#REF!<>\"X\",ASISTENCIA!#REF!<>\"L\",ASISTENCIA!#REF!<>\"J\",ASISTENCIA!#REF!<>\"F\"),SUMIF($F$13:$J$13,BI$13,$F38:$J38),\"\")","v":{"$error":"#REF!"}},{"$f":"IF(AND(LEN($D38)>0,SUMIF($F$13:$J$13,BJ$13,$F38:$J38)>0,ASISTENCIA!#REF!<>\"X\",ASISTENCIA!#REF!<>\"L\",ASISTENCIA!#REF!<>\"J\",ASISTENCIA!#REF!<>\"F\"),SUMIF($F$13:$J$13,BJ$13,$F38:$J38),\"\")","v":{"$error":"#REF!"}},{"$f":"IF(AND(LEN($D38)>0,SUMIF($F$13:$J$13,BK$13,$F38:$J38)>0,ASISTENCIA!#REF!<>\"X\",ASISTENCIA!#REF!<>\"L\",ASISTENCIA!#REF!<>\"J\",ASISTENCIA!#REF!<>\"F\"),SUMIF($F$13:$J$13,BK$13,$F38:$J38),\"\")","v":{"$error":"#REF!"}},{"$f":"IF(AND(LEN($D38)>0,SUMIF($F$13:$J$13,BL$13,$F38:$J38)>0,ASISTENCIA!#REF!<>\"X\",ASISTENCIA!#REF!<>\"L\",ASISTENCIA!#REF!<>\"J\",ASISTENCIA!#REF!<>\"F\"),SUMIF($F$13:$J$13,BL$13,$F38:$J38),\"\")","v":{"$error":"#REF!"}},{"$f":"IF(AND(LEN($D38)>0,SUMIF($F$13:$J$13,BM$13,$F38:$J38)>0,ASISTENCIA!#REF!<>\"X\",ASISTENCIA!#REF!<>\"L\",ASISTENCIA!#REF!<>\"J\",ASISTENCIA!#REF!<>\"F\"),SUMIF($F$13:$J$13,BM$13,$F38:$J38),\"\")","v":{"$error":"#REF!"}},{"$f":"IF(AND(LEN($D38)>0,SUMIF($F$13:$J$13,BN$13,$F38:$J38)>0,ASISTENCIA!#REF!<>\"X\",ASISTENCIA!#REF!<>\"L\",ASISTENCIA!#REF!<>\"J\",ASISTENCIA!#REF!<>\"F\"),SUMIF($F$13:$J$13,BN$13,$F38:$J38),\"\")","v":{"$error":"#REF!"}},{"$f":"IF(AND(LEN($D38)>0,SUMIF($F$13:$J$13,BO$13,$F38:$J38)>0,ASISTENCIA!#REF!<>\"X\",ASISTENCIA!#REF!<>\"L\",ASISTENCIA!#REF!<>\"J\",ASISTENCIA!#REF!<>\"F\"),SUMIF($F$13:$J$13,BO$13,$F38:$J38),\"\")","v":{"$error":"#REF!"}},{"$f":"IF(AND(LEN($D38)>0,SUMIF($F$13:$J$13,BP$13,$F38:$J38)>0,ASISTENCIA!#REF!<>\"X\",ASISTENCIA!#REF!<>\"L\",ASISTENCIA!#REF!<>\"J\",ASISTENCIA!#REF!<>\"F\"),SUMIF($F$13:$J$13,BP$13,$F38:$J38),\"\")","v":{"$error":"#REF!"}},{"$f":"IF(AND(LEN($D38)>0,SUMIF($F$13:$J$13,BQ$13,$F38:$J38)>0,ASISTENCIA!#REF!<>\"X\",ASISTENCIA!#REF!<>\"L\",ASISTENCIA!#REF!<>\"J\",ASISTENCIA!#REF!<>\"F\"),SUMIF($F$13:$J$13,BQ$13,$F38:$J38),\"\")","v":{"$error":"#REF!"}},{"$f":"IF(AND(LEN($D38)>0,SUMIF($F$13:$J$13,BR$13,$F38:$J38)>0,ASISTENCIA!#REF!<>\"X\",ASISTENCIA!#REF!<>\"L\",ASISTENCIA!#REF!<>\"J\",ASISTENCIA!#REF!<>\"F\"),SUMIF($F$13:$J$13,BR$13,$F38:$J38),\"\")","v":{"$error":"#REF!"}},{"$f":"IF(AND(LEN($D38)>0,SUMIF($F$13:$J$13,BS$13,$F38:$J38)>0,ASISTENCIA!#REF!<>\"X\",ASISTENCIA!#REF!<>\"L\",ASISTENCIA!#REF!<>\"J\",ASISTENCIA!#REF!<>\"F\"),SUMIF($F$13:$J$13,BS$13,$F38:$J38),\"\")","v":{"$error":"#REF!"}},{"$f":"IF(AND(LEN($D38)>0,SUMIF($F$13:$J$13,BT$13,$F38:$J38)>0,ASISTENCIA!#REF!<>\"X\",ASISTENCIA!#REF!<>\"L\",ASISTENCIA!#REF!<>\"J\",ASISTENCIA!#REF!<>\"F\"),SUMIF($F$13:$J$13,BT$13,$F38:$J38),\"\")","v":{"$error":"#REF!"}},{"$f":"IF(AND(LEN($D38)>0,SUMIF($F$13:$J$13,BU$13,$F38:$J38)>0,ASISTENCIA!#REF!<>\"X\",ASISTENCIA!#REF!<>\"L\",ASISTENCIA!#REF!<>\"J\",ASISTENCIA!#REF!<>\"F\"),SUMIF($F$13:$J$13,BU$13,$F38:$J38),\"\")","v":{"$error":"#REF!"}},{"$f":"IF(AND(LEN($D38)>0,SUMIF($F$13:$J$13,BV$13,$F38:$J38)>0,ASISTENCIA!#REF!<>\"X\",ASISTENCIA!#REF!<>\"L\",ASISTENCIA!#REF!<>\"J\",ASISTENCIA!#REF!<>\"F\"),SUMIF($F$13:$J$13,BV$13,$F38:$J38),\"\")","v":{"$error":"#REF!"}},{"$f":"IF(AND(LEN($D38)>0,SUMIF($F$13:$J$13,BW$13,$F38:$J38)>0,ASISTENCIA!#REF!<>\"X\",ASISTENCIA!#REF!<>\"L\",ASISTENCIA!#REF!<>\"J\",ASISTENCIA!#REF!<>\"F\"),SUMIF($F$13:$J$13,BW$13,$F38:$J38),\"\")","v":{"$error":"#REF!"}},{"$f":"IF(AND(LEN($D38)>0,SUMIF($F$13:$J$13,BX$13,$F38:$J38)>0,ASISTENCIA!#REF!<>\"X\",ASISTENCIA!#REF!<>\"L\",ASISTENCIA!#REF!<>\"J\",ASISTENCIA!#REF!<>\"F\"),SUMIF($F$13:$J$13,BX$13,$F38:$J38),\"\")","v":{"$error":"#REF!"}},{"$f":"IF(AND(LEN($D38)>0,SUMIF($F$13:$J$13,BY$13,$F38:$J38)>0,ASISTENCIA!#REF!<>\"X\",ASISTENCIA!#REF!<>\"L\",ASISTENCIA!#REF!<>\"J\",ASISTENCIA!#REF!<>\"F\"),SUMIF($F$13:$J$13,BY$13,$F38:$J38),\"\")","v":{"$error":"#REF!"}},{"$f":"IF(AND(LEN($D38)>0,SUMIF($F$13:$J$13,BZ$13,$F38:$J38)>0,ASISTENCIA!#REF!<>\"X\",ASISTENCIA!#REF!<>\"L\",ASISTENCIA!#REF!<>\"J\",ASISTENCIA!#REF!<>\"F\"),SUMIF($F$13:$J$13,BZ$13,$F38:$J38),\"\")","v":{"$error":"#REF!"}},{"$f":"IF(AND(LEN($D38)>0,SUMIF($F$13:$J$13,CA$13,$F38:$J38)>0,ASISTENCIA!#REF!<>\"X\",ASISTENCIA!#REF!<>\"L\",ASISTENCIA!#REF!<>\"J\",ASISTENCIA!#REF!<>\"F\"),SUMIF($F$13:$J$13,CA$13,$F38:$J38),\"\")","v":{"$error":"#REF!"}},{"$f":"IF(AND(LEN($D38)>0,SUMIF($F$13:$J$13,CB$13,$F38:$J38)>0,ASISTENCIA!#REF!<>\"X\",ASISTENCIA!#REF!<>\"L\",ASISTENCIA!#REF!<>\"J\",ASISTENCIA!#REF!<>\"F\"),SUMIF($F$13:$J$13,CB$13,$F38:$J38),\"\")","v":{"$error":"#REF!"}},{"$error":"#REF!"}]
[{"$error":"#REF!"},{"$f":"IF(LEN(C39)>0,VLOOKUP($O$4,DATA!$A$1:$S$1,2,FALSE),\"\")","v":{"$error":"#REF!"}},{"$error":"#REF!"},{"$f":"IF(LEN(ASISTENCIA!#REF!)>0,ASISTENCIA!#REF!,\"\")","v":{"$error":"#REF!"}},{"$f":"IF(LEN(D39)>0,ASISTENCIA!#REF!,\"\")","v":{"$error":"#REF!"}},null,null,null,null,null,"",null,null,{"$error":"#REF!"},{"$f":"IF(AND(LEN($D39)>0,SUMIF($F$13:$J$13,O$13,$F39:$J39)>0,ASISTENCIA!#REF!<>\"X\",ASISTENCIA!#REF!<>\"L\",ASISTENCIA!#REF!<>\"J\",ASISTENCIA!#REF!<>\"V\",ASISTENCIA!#REF!<>\"F\",ASISTENCIA!#REF!<>\"\"),SUMIF($F$13:$J$13,O$13,$F39:$J39),\"\")","v":{"$error":"#REF!"}},{"$f":"IF(AND(LEN($D39)>0,SUMIF($F$13:$J$13,P$13,$F39:$J39)>0,ASISTENCIA!#REF!<>\"X\",ASISTENCIA!#REF!<>\"L\",ASISTENCIA!#REF!<>\"J\",ASISTENCIA!#REF!<>\"V\",ASISTENCIA!#REF!<>\"F\",ASISTENCIA!#REF!<>\"\"),SUMIF($F$13:$J$13,P$13,$F39:$J39),\"\")","v":{"$error":"#REF!"}},{"$f":"IF(AND(LEN($D39)>0,SUMIF($F$13:$J$13,Q$13,$F39:$J39)>0,ASISTENCIA!#REF!<>\"X\",ASISTENCIA!#REF!<>\"L\",ASISTENCIA!#REF!<>\"J\",ASISTENCIA!#REF!<>\"V\",ASISTENCIA!#REF!<>\"F\",ASISTENCIA!#REF!<>\"\"),SUMIF($F$13:$J$13,Q$13,$F39:$J39),\"\")","v":{"$error":"#REF!"}},{"$f":"IF(AND(LEN($D39)>0,SUMIF($F$13:$J$13,R$13,$F39:$J39)>0,ASISTENCIA!#REF!<>\"X\",ASISTENCIA!#REF!<>\"L\",ASISTENCIA!#REF!<>\"J\",ASISTENCIA!#REF!<>\"V\",ASISTENCIA!#REF!<>\"F\",ASISTENCIA!#REF!<>\"\"),SUMIF($F$13:$J$13,R$13,$F39:$J39),\"\")","v":{"$error":"#REF!"}},{"$f":"IF(AND(LEN($D39)>0,SUMIF($F$13:$J$13,S$13,$F39:$J39)>0,ASISTENCIA!#REF!<>\"X\",ASISTENCIA!#REF!<>\"L\",ASISTENCIA!#REF!<>\"J\",ASISTENCIA!#REF!<>\"V\",ASISTENCIA!#REF!<>\"F\",ASISTENCIA!#REF!<>\"\"),SUMIF($F$13:$J$13,S$13,$F39:$J39),\"\")","v":{"$error":"#REF!"}},{"$f":"IF(AND(LEN($D39)>0,SUMIF($F$13:$J$13,T$13,$F39:$J39)>0,ASISTENCIA!#REF!<>\"X\",ASISTENCIA!#REF!<>\"L\",ASISTENCIA!#REF!<>\"J\",ASISTENCIA!#REF!<>\"V\",ASISTENCIA!#REF!<>\"F\",ASISTENCIA!#REF!<>\"\"),SUMIF($F$13:$J$13,T$13,$F39:$J39),\"\")","v":{"$error":"#REF!"}},{"$f":"IF(AND(LEN($D39)>0,SUMIF($F$13:$J$13,U$13,$F39:$J39)>0,ASISTENCIA!#REF!<>\"X\",ASISTENCIA!#REF!<>\"L\",ASISTENCIA!#REF!<>\"J\",ASISTENCIA!#REF!<>\"V\",ASISTENCIA!#REF!<>\"F\",ASISTENCIA!#REF!<>\"\"),SUMIF($F$13:$J$13,U$13,$F39:$J39),\"\")","v":{"$error":"#REF!"}},{"$f":"IF(AND(LEN($D39)>0,SUMIF($F$13:$J$13,V$13,$F39:$J39)>0,ASISTENCIA!#REF!<>\"X\",ASISTENCIA!#REF!<>\"L\",ASISTENCIA!#REF!<>\"J\",ASISTENCIA!#REF!<>\"V\",ASISTENCIA!#REF!<>\"F\",ASISTENCIA!#REF!<>\"\"),SUMIF($F$13:$J$13,V$13,$F39:$J39),\"\")","v":{"$error":"#REF!"}},{"$f":"IF(AND(LEN($D39)>0,SUMIF($F$13:$J$13,W$13,$F39:$J39)>0,ASISTENCIA!#REF!<>\"X\",ASISTENCIA!#REF!<>\"L\",ASISTENCIA!#REF!<>\"J\",ASISTENCIA!#REF!<>\"V\",ASISTENCIA!#REF!<>\"F\",ASISTENCIA!#REF!<>\"\"),SUMIF($F$13:$J$13,W$13,$F39:$J39),\"\")","v":{"$error":"#REF!"}},{"$f":"IF(AND(LEN($D39)>0,SUMIF($F$13:$J$13,X$13,$F39:$J39)>0,ASISTENCIA!#REF!<>\"X\",ASISTENCIA!#REF!<>\"L\",ASISTENCIA!#REF!<>\"J\",ASISTENCIA!#REF!<>\"V\",ASISTENCIA!#REF!<>\"F\",ASISTENCIA!#REF!<>\"\"),SUMIF($F$13:$J$13,X$13,$F39:$J39),\"\")","v":{"$error":"#REF!"}},{"$f":"IF(AND(LEN($D39)>0,SUMIF($F$13:$J$13,Y$13,$F39:$J39)>0,ASISTENCIA!#REF!<>\"X\",ASISTENCIA!#REF!<>\"L\",ASISTENCIA!#REF!<>\"J\",ASISTENCIA!#REF!<>\"V\",ASISTENCIA!#REF!<>\"F\",ASISTENCIA!#REF!<>\"\"),SUMIF($F$13:$J$13,Y$13,$F39:$J39),\"\")","v":{"$error":"#REF!"}},{"$f":"IF(AND(LEN($D39)>0,SUMIF($F$13:$J$13,Z$13,$F39:$J39)>0,ASISTENCIA!#REF!<>\"X\",ASISTENCIA!#REF!<>\"L\",ASISTENCIA!#REF!<>\"J\",ASISTENCIA!#REF!<>\"V\",ASISTENCIA!#REF!<>\"F\",ASISTENCIA!#REF!<>\"\"),SUMIF($F$13:$J$13,Z$13,$F39:$J39),\"\")","v":{"$error":"#REF!"}},{"$f":"IF(AND(LEN($D39)>0,SUMIF($F$13:$J$13,AA$13,$F39:$J39)>0,ASISTENCIA!#REF!<>\"X\",ASISTENCIA!#REF!<>\"L\",ASISTENCIA!#REF!<>\"J\",ASISTENCIA!#REF!<>\"V\",ASISTENCIA!#REF!<>\"F\",ASISTENCIA!#REF!<>\"\"),SUMIF($F$13:$J$13,AA$13,$F39:$J39),\"\")","v":{"$error":"#REF!"}},{"$f":"IF(AND(LEN($D39)>0,SUMIF($F$13:$J$13,AB$13,$F39:$J39)>0,ASISTENCIA!#REF!<>\"X\",ASISTENCIA!#REF!<>\"L\",ASISTENCIA!#REF!<>\"J\",ASISTENCIA!#REF!<>\"V\",ASISTENCIA!#REF!<>\"F\",ASISTENCIA!#REF!<>\"\"),SUMIF($F$13:$J$13,AB$13,$F39:$J39),\"\")","v":{"$error":"#REF!"}},{"$f":"IF(AND(LEN($D39)>0,SUMIF($F$13:$J$13,AC$13,$F39:$J39)>0,ASISTENCIA!#REF!<>\"X\",ASISTENCIA!#REF!<>\"L\",ASISTENCIA!#REF!<>\"J\",ASISTENCIA!#REF!<>\"V\",ASISTENCIA!#REF!<>\"F\",ASISTENCIA!#REF!<>\"\"),SUMIF($F$13:$J$13,AC$13,$F39:$J39),\"\")","v":{"$error":"#REF!"}},{"$f":"IF(AND(LEN($D39)>0,SUMIF($F$13:$J$13,AD$13,$F39:$J39)>0,ASISTENCIA!#REF!<>\"X\",ASISTENCIA!#REF!<>\"L\",ASISTENCIA!#REF!<>\"J\",ASISTENCIA!#REF!<>\"V\",ASISTENCIA!#REF!<>\"F\",ASISTENCIA!#REF!<>\"\"),SUMIF($F$13:$J$13,AD$13,$F39:$J39),\"\")","v":{"$error":"#REF!"}},{"$f":"IF(AND(LEN($D39)>0,SUMIF($F$13:$J$13,AE$13,$F39:$J39)>0,ASISTENCIA!#REF!<>\"X\",ASISTENCIA!#REF!<>\"L\",ASISTENCIA!#REF!<>\"J\",ASISTENCIA!#REF!<>\"V\",ASISTENCIA!#REF!<>\"F\",ASISTENCIA!#REF!<>\"\"),SUMIF($F$13:$J$13,AE$13,$F39:$J39),\"\")","v":{"$error":"#REF!"}},{"$f":"IF(AND(LEN($D39)>0,SUMIF($F$13:$J$13,AF$13,$F39:$J39)>0,ASISTENCIA!#REF!<>\"X\",ASISTENCIA!#REF!<>\"L\",ASISTENCIA!#REF!<>\"J\",ASISTENCIA!#REF!<>\"V\",ASISTENCIA!#REF!<>\"F\",ASISTENCIA!#REF!<>\"\"),SUMIF($F$13:$J$13,AF$13,$F39:$J39),\"\")","v":{"$error":"#REF!"}},{"$f":"IF(AND(LEN($D39)>0,SUMIF($F$13:$J$13,AG$13,$F39:$J39)>0,ASISTENCIA!#REF!<>\"X\",ASISTENCIA!#REF!<>\"L\",ASISTENCIA!#REF!<>\"J\",ASISTENCIA!#REF!<>\"V\",ASISTENCIA!#REF!<>\"F\",ASISTENCIA!#REF!<>\"\"),SUMIF($F$13:$J$13,AG$13,$F39:$J39),\"\")","v":{"$error":"#REF!"}},{"$f":"IF(AND(LEN($D39)>0,SUMIF($F$13:$J$13,AH$13,$F39:$J39)>0,ASISTENCIA!#REF!<>\"X\",ASISTENCIA!#REF!<>\"L\",ASISTENCIA!#REF!<>\"J\",ASISTENCIA!#REF!<>\"V\",ASISTENCIA!#REF!<>\"F\",ASISTENCIA!#REF!<>\"\"),SUMIF($F$13:$J$13,AH$13,$F39:$J39),\"\")","v":{"$error":"#REF!"}},{"$f":"IF(AND(LEN($D39)>0,SUMIF($F$13:$J$13,AI$13,$F39:$J39)>0,ASISTENCIA!#REF!<>\"X\",ASISTENCIA!#REF!<>\"L\",ASISTENCIA!#REF!<>\"J\",ASISTENCIA!#REF!<>\"V\",ASISTENCIA!#REF!<>\"F\",ASISTENCIA!#REF!<>\"\"),SUMIF($F$13:$J$13,AI$13,$F39:$J39),\"\")","v":{"$error":"#REF!"}},{"$f":"IF(AND(LEN($D39)>0,SUMIF($F$13:$J$13,AJ$13,$F39:$J39)>0,ASISTENCIA!#REF!<>\"X\",ASISTENCIA!#REF!<>\"L\",ASISTENCIA!#REF!<>\"J\",ASISTENCIA!#REF!<>\"V\",ASISTENCIA!#REF!<>\"F\",ASISTENCIA!#REF!<>\"\"),SUMIF($F$13:$J$13,AJ$13,$F39:$J39),\"\")","v":{"$error":"#REF!"}},{"$f":"IF(AND(LEN($D39)>0,SUMIF($F$13:$J$13,AK$13,$F39:$J39)>0,ASISTENCIA!#REF!<>\"X\",ASISTENCIA!#REF!<>\"L\",ASISTENCIA!#REF!<>\"J\",ASISTENCIA!#REF!<>\"V\",ASISTENCIA!#REF!<>\"F\",ASISTENCIA!#REF!<>\"\"),SUMIF($F$13:$J$13,AK$13,$F39:$J39),\"\")","v":{"$error":"#REF!"}},{"$f":"IF(AND(LEN($D39)>0,SUMIF($F$13:$J$13,AL$13,$F39:$J39)>0,ASISTENCIA!#REF!<>\"X\",ASISTENCIA!#REF!<>\"L\",ASISTENCIA!#REF!<>\"J\",ASISTENCIA!#REF!<>\"V\",ASISTENCIA!#REF!<>\"F\",ASISTENCIA!#REF!<>\"\"),SUMIF($F$13:$J$13,AL$13,$F39:$J39),\"\")","v":{"$error":"#REF!"}},{"$f":"IF(AND(LEN($D39)>0,SUMIF($F$13:$J$13,AM$13,$F39:$J39)>0,ASISTENCIA!#REF!<>\"X\",ASISTENCIA!#REF!<>\"L\",ASISTENCIA!#REF!<>\"J\",ASISTENCIA!#REF!<>\"V\",ASISTENCIA!#REF!<>\"F\",ASISTENCIA!#REF!<>\"\"),SUMIF($F$13:$J$13,AM$13,$F39:$J39),\"\")","v":{"$error":"#REF!"}},{"$f":"IF(AND(LEN($D39)>0,SUMIF($F$13:$J$13,AN$13,$F39:$J39)>0,ASISTENCIA!#REF!<>\"X\",ASISTENCIA!#REF!<>\"L\",ASISTENCIA!#REF!<>\"J\",ASISTENCIA!#REF!<>\"V\",ASISTENCIA!#REF!<>\"F\",ASISTENCIA!#REF!<>\"\"),SUMIF($F$13:$J$13,AN$13,$F39:$J39),\"\")","v":{"$error":"#REF!"}},{"$f":"IF(AND(LEN($D39)>0,SUMIF($F$13:$J$13,AO$13,$F39:$J39)>0,ASISTENCIA!#REF!<>\"X\",ASISTENCIA!#REF!<>\"L\",ASISTENCIA!#REF!<>\"J\",ASISTENCIA!#REF!<>\"V\",ASISTENCIA!#REF!<>\"F\",ASISTENCIA!#REF!<>\"\"),SUMIF($F$13:$J$13,AO$13,$F39:$J39),\"\")","v":{"$error":"#REF!"}},{"$f":"IF(AND(LEN($D39)>0,SUMIF($F$13:$J$13,AP$13,$F39:$J39)>0,ASISTENCIA!#REF!<>\"X\",ASISTENCIA!#REF!<>\"L\",ASISTENCIA!#REF!<>\"J\",ASISTENCIA!#REF!<>\"V\",ASISTENCIA!#REF!<>\"F\",ASISTENCIA!#REF!<>\"\"),SUMIF($F$13:$J$13,AP$13,$F39:$J39),\"\")","v":{"$error":"#REF!"}},{"$f":"IF(AND(LEN($D39)>0,SUMIF($F$13:$J$13,AQ$13,$F39:$J39)>0,ASISTENCIA!#REF!<>\"X\",ASISTENCIA!#REF!<>\"L\",ASISTENCIA!#REF!<>\"J\",ASISTENCIA!#REF!<>\"V\",ASISTENCIA!#REF!<>\"F\",ASISTENCIA!#REF!<>\"\"),SUMIF($F$13:$J$13,AQ$13,$F39:$J39),\"\")","v":{"$error":"#REF!"}},{"$f":"IF(AND(LEN($D39)>0,SUMIF($F$13:$J$13,AR$13,$F39:$J39)>0,ASISTENCIA!#REF!<>\"X\",ASISTENCIA!#REF!<>\"L\",ASISTENCIA!#REF!<>\"J\",ASISTENCIA!#REF!<>\"V\",ASISTENCIA!#REF!<>\"F\",ASISTENCIA!#REF!<>\"\"),SUMIF($F$13:$J$13,AR$13,$F39:$J39),\"\")","v":{"$error":"#REF!"}},{"$f":"IF(AND(LEN($D39)>0,SUMIF($F$13:$J$13,AS$13,$F39:$J39)>0,ASISTENCIA!#REF!<>\"X\",ASISTENCIA!#REF!<>\"L\",ASISTENCIA!#REF!<>\"J\",ASISTENCIA!#REF!<>\"V\",ASISTENCIA!#REF!<>\"F\",ASISTENCIA!#REF!<>\"\"),SUMIF($F$13:$J$13,AS$13,$F39:$J39),\"\")","v":{"$error":"#REF!"}},{"$error":"#REF!"},null,null,null,{"$f":"IF(AND(LEN($D39)>0,SUMIF($F$13:$J$13,AX$13,$F39:$J39)>0,ASISTENCIA!#REF!<>\"X\",ASISTENCIA!#REF!<>\"L\",ASISTENCIA!#REF!<>\"J\",ASISTENCIA!#REF!<>\"F\"),SUMIF($F$13:$J$13,AX$13,$F39:$J39),\"\")","v":{"$error":"#REF!"}},{"$f":"IF(AND(LEN($D39)>0,SUMIF($F$13:$J$13,AY$13,$F39:$J39)>0,ASISTENCIA!#REF!<>\"X\",ASISTENCIA!#REF!<>\"L\",ASISTENCIA!#REF!<>\"J\",ASISTENCIA!#REF!<>\"F\"),SUMIF($F$13:$J$13,AY$13,$F39:$J39),\"\")","v":{"$error":"#REF!"}},{"$f":"IF(AND(LEN($D39)>0,SUMIF($F$13:$J$13,AZ$13,$F39:$J39)>0,ASISTENCIA!#REF!<>\"X\",ASISTENCIA!#REF!<>\"L\",ASISTENCIA!#REF!<>\"J\",ASISTENCIA!#REF!<>\"F\"),SUMIF($F$13:$J$13,AZ$13,$F39:$J39),\"\")","v":{"$error":"#REF!"}},{"$f":"IF(AND(LEN($D39)>0,SUMIF($F$13:$J$13,BA$13,$F39:$J39)>0,ASISTENCIA!#REF!<>\"X\",ASISTENCIA!#REF!<>\"L\",ASISTENCIA!#REF!<>\"J\",ASISTENCIA!#REF!<>\"F\"),SUMIF($F$13:$J$13,BA$13,$F39:$J39),\"\")","v":{"$error":"#REF!"}},{"$f":"IF(AND(LEN($D39)>0,SUMIF($F$13:$J$13,BB$13,$F39:$J39)>0,ASISTENCIA!#REF!<>\"X\",ASISTENCIA!#REF!<>\"L\",ASISTENCIA!#REF!<>\"J\",ASISTENCIA!#REF!<>\"F\"),SUMIF($F$13:$J$13,BB$13,$F39:$J39),\"\")","v":{"$error":"#REF!"}},{"$f":"IF(AND(LEN($D39)>0,SUMIF($F$13:$J$13,BC$13,$F39:$J39)>0,ASISTENCIA!#REF!<>\"X\",ASISTENCIA!#REF!<>\"L\",ASISTENCIA!#REF!<>\"J\",ASISTENCIA!#REF!<>\"F\"),SUMIF($F$13:$J$13,BC$13,$F39:$J39),\"\")","v":{"$error":"#REF!"}},{"$f":"IF(AND(LEN($D39)>0,SUMIF($F$13:$J$13,BD$13,$F39:$J39)>0,ASISTENCIA!#REF!<>\"X\",ASISTENCIA!#REF!<>\"L\",ASISTENCIA!#REF!<>\"J\",ASISTENCIA!#REF!<>\"F\"),SUMIF($F$13:$J$13,BD$13,$F39:$J39),\"\")","v":{"$error":"#REF!"}},{"$f":"IF(AND(LEN($D39)>0,SUMIF($F$13:$J$13,BE$13,$F39:$J39)>0,ASISTENCIA!#REF!<>\"X\",ASISTENCIA!#REF!<>\"L\",ASISTENCIA!#REF!<>\"J\",ASISTENCIA!#REF!<>\"F\"),SUMIF($F$13:$J$13,BE$13,$F39:$J39),\"\")","v":{"$error":"#REF!"}},{"$f":"IF(AND(LEN($D39)>0,SUMIF($F$13:$J$13,BF$13,$F39:$J39)>0,ASISTENCIA!#REF!<>\"X\",ASISTENCIA!#REF!<>\"L\",ASISTENCIA!#REF!<>\"J\",ASISTENCIA!#REF!<>\"F\"),SUMIF($F$13:$J$13,BF$13,$F39:$J39),\"\")","v":{"$error":"#REF!"}},{"$f":"IF(AND(LEN($D39)>0,SUMIF($F$13:$J$13,BG$13,$F39:$J39)>0,ASISTENCIA!#REF!<>\"X\",ASISTENCIA!#REF!<>\"L\",ASISTENCIA!#REF!<>\"J\",ASISTENCIA!#REF!<>\"F\"),SUMIF($F$13:$J$13,BG$13,$F39:$J39),\"\")","v":{"$error":"#REF!"}},{"$f":"IF(AND(LEN($D39)>0,SUMIF($F$13:$J$13,BH$13,$F39:$J39)>0,ASISTENCIA!#REF!<>\"X\",ASISTENCIA!#REF!<>\"L\",ASISTENCIA!#REF!<>\"J\",ASISTENCIA!#REF!<>\"F\"),SUMIF($F$13:$J$13,BH$13,$F39:$J39),\"\")","v":{"$error":"#REF!"}},{"$f":"IF(AND(LEN($D39)>0,SUMIF($F$13:$J$13,BI$13,$F39:$J39)>0,ASISTENCIA!#REF!<>\"X\",ASISTENCIA!#REF!<>\"L\",ASISTENCIA!#REF!<>\"J\",ASISTENCIA!#REF!<>\"F\"),SUMIF($F$13:$J$13,BI$13,$F39:$J39),\"\")","v":{"$error":"#REF!"}},{"$f":"IF(AND(LEN($D39)>0,SUMIF($F$13:$J$13,BJ$13,$F39:$J39)>0,ASISTENCIA!#REF!<>\"X\",ASISTENCIA!#REF!<>\"L\",ASISTENCIA!#REF!<>\"J\",ASISTENCIA!#REF!<>\"F\"),SUMIF($F$13:$J$13,BJ$13,$F39:$J39),\"\")","v":{"$error":"#REF!"}},{"$f":"IF(AND(LEN($D39)>0,SUMIF($F$13:$J$13,BK$13,$F39:$J39)>0,ASISTENCIA!#REF!<>\"X\",ASISTENCIA!#REF!<>\"L\",ASISTENCIA!#REF!<>\"J\",ASISTENCIA!#REF!<>\"F\"),SUMIF($F$13:$J$13,BK$13,$F39:$J39),\"\")","v":{"$error":"#REF!"}},{"$f":"IF(AND(LEN($D39)>0,SUMIF($F$13:$J$13,BL$13,$F39:$J39)>0,ASISTENCIA!#REF!<>\"X\",ASISTENCIA!#REF!<>\"L\",ASISTENCIA!#REF!<>\"J\",ASISTENCIA!#REF!<>\"F\"),SUMIF($F$13:$J$13,BL$13,$F39:$J39),\"\")","v":{"$error":"#REF!"}},{"$f":"IF(AND(LEN($D39)>0,SUMIF($F$13:$J$13,BM$13,$F39:$J39)>0,ASISTENCIA!#REF!<>\"X\",ASISTENCIA!#REF!<>\"L\",ASISTENCIA!#REF!<>\"J\",ASISTENCIA!#REF!<>\"F\"),SUMIF($F$13:$J$13,BM$13,$F39:$J39),\"\")","v":{"$error":"#REF!"}},{"$f":"IF(AND(LEN($D39)>0,SUMIF($F$13:$J$13,BN$13,$F39:$J39)>0,ASISTENCIA!#REF!<>\"X\",ASISTENCIA!#REF!<>\"L\",ASISTENCIA!#REF!<>\"J\",ASISTENCIA!#REF!<>\"F\"),SUMIF($F$13:$J$13,BN$13,$F39:$J39),\"\")","v":{"$error":"#REF!"}},{"$f":"IF(AND(LEN($D39)>0,SUMIF($F$13:$J$13,BO$13,$F39:$J39)>0,ASISTENCIA!#REF!<>\"X\",ASISTENCIA!#REF!<>\"L\",ASISTENCIA!#REF!<>\"J\",ASISTENCIA!#REF!<>\"F\"),SUMIF($F$13:$J$13,BO$13,$F39:$J39),\"\")","v":{"$error":"#REF!"}},{"$f":"IF(AND(LEN($D39)>0,SUMIF($F$13:$J$13,BP$13,$F39:$J39)>0,ASISTENCIA!#REF!<>\"X\",ASISTENCIA!#REF!<>\"L\",ASISTENCIA!#REF!<>\"J\",ASISTENCIA!#REF!<>\"F\"),SUMIF($F$13:$J$13,BP$13,$F39:$J39),\"\")","v":{"$error":"#REF!"}},{"$f":"IF(AND(LEN($D39)>0,SUMIF($F$13:$J$13,BQ$13,$F39:$J39)>0,ASISTENCIA!#REF!<>\"X\",ASISTENCIA!#REF!<>\"L\",ASISTENCIA!#REF!<>\"J\",ASISTENCIA!#REF!<>\"F\"),SUMIF($F$13:$J$13,BQ$13,$F39:$J39),\"\")","v":{"$error":"#REF!"}},{"$f":"IF(AND(LEN($D39)>0,SUMIF($F$13:$J$13,BR$13,$F39:$J39)>0,ASISTENCIA!#REF!<>\"X\",ASISTENCIA!#REF!<>\"L\",ASISTENCIA!#REF!<>\"J\",ASISTENCIA!#REF!<>\"F\"),SUMIF($F$13:$J$13,BR$13,$F39:$J39),\"\")","v":{"$error":"#REF!"}},{"$f":"IF(AND(LEN($D39)>0,SUMIF($F$13:$J$13,BS$13,$F39:$J39)>0,ASISTENCIA!#REF!<>\"X\",ASISTENCIA!#REF!<>\"L\",ASISTENCIA!#REF!<>\"J\",ASISTENCIA!#REF!<>\"F\"),SUMIF($F$13:$J$13,BS$13,$F39:$J39),\"\")","v":{"$error":"#REF!"}},{"$f":"IF(AND(LEN($D39)>0,SUMIF($F$13:$J$13,BT$13,$F39:$J39)>0,ASISTENCIA!#REF!<>\"X\",ASISTENCIA!#REF!<>\"L\",ASISTENCIA!#REF!<>\"J\",ASISTENCIA!#REF!<>\"F\"),SUMIF($F$13:$J$13,BT$13,$F39:$J39),\"\")","v":{"$error":"#REF!"}},{"$f":"IF(AND(LEN($D39)>0,SUMIF($F$13:$J$13,BU$13,$F39:$J39)>0,ASISTENCIA!#REF!<>\"X\",ASISTENCIA!#REF!<>\"L\",ASISTENCIA!#REF!<>\"J\",ASISTENCIA!#REF!<>\"F\"),SUMIF($F$13:$J$13,BU$13,$F39:$J39),\"\")","v":{"$error":"#REF!"}},{"$f":"IF(AND(LEN($D39)>0,SUMIF($F$13:$J$13,BV$13,$F39:$J39)>0,ASISTENCIA!#REF!<>\"X\",ASISTENCIA!#REF!<>\"L\",ASISTENCIA!#REF!<>\"J\",ASISTENCIA!#REF!<>\"F\"),SUMIF($F$13:$J$13,BV$13,$F39:$J39),\"\")","v":{"$error":"#REF!"}},{"$f":"IF(AND(LEN($D39)>0,SUMIF($F$13:$J$13,BW$13,$F39:$J39)>0,ASISTENCIA!#REF!<>\"X\",ASISTENCIA!#REF!<>\"L\",ASISTENCIA!#REF!<>\"J\",ASISTENCIA!#REF!<>\"F\"),SUMIF($F$13:$J$13,BW$13,$F39:$J39),\"\")","v":{"$error":"#REF!"}},{"$f":"IF(AND(LEN($D39)>0,SUMIF($F$13:$J$13,BX$13,$F39:$J39)>0,ASISTENCIA!#REF!<>\"X\",ASISTENCIA!#REF!<>\"L\",ASISTENCIA!#REF!<>\"J\",ASISTENCIA!#REF!<>\"F\"),SUMIF($F$13:$J$13,BX$13,$F39:$J39),\"\")","v":{"$error":"#REF!"}},{"$f":"IF(AND(LEN($D39)>0,SUMIF($F$13:$J$13,BY$13,$F39:$J39)>0,ASISTENCIA!#REF!<>\"X\",ASISTENCIA!#REF!<>\"L\",ASISTENCIA!#REF!<>\"J\",ASISTENCIA!#REF!<>\"F\"),SUMIF($F$13:$J$13,BY$13,$F39:$J39),\"\")","v":{"$error":"#REF!"}},{"$f":"IF(AND(LEN($D39)>0,SUMIF($F$13:$J$13,BZ$13,$F39:$J39)>0,ASISTENCIA!#REF!<>\"X\",ASISTENCIA!#REF!<>\"L\",ASISTENCIA!#REF!<>\"J\",ASISTENCIA!#REF!<>\"F\"),SUMIF($F$13:$J$13,BZ$13,$F39:$J39),\"\")","v":{"$error":"#REF!"}},{"$f":"IF(AND(LEN($D39)>0,SUMIF($F$13:$J$13,CA$13,$F39:$J39)>0,ASISTENCIA!#REF!<>\"X\",ASISTENCIA!#REF!<>\"L\",ASISTENCIA!#REF!<>\"J\",ASISTENCIA!#REF!<>\"F\"),SUMIF($F$13:$J$13,CA$13,$F39:$J39),\"\")","v":{"$error":"#REF!"}},{"$f":"IF(AND(LEN($D39)>0,SUMIF($F$13:$J$13,CB$13,$F39:$J39)>0,ASISTENCIA!#REF!<>\"X\",ASISTENCIA!#REF!<>\"L\",ASISTENCIA!#REF!<>\"J\",ASISTENCIA!#REF!<>\"F\"),SUMIF($F$13:$J$13,CB$13,$F39:$J39),\"\")","v":{"$error":"#REF!"}},{"$error":"#REF!"}]
[{"$error":"#REF!"},{"$f":"IF(LEN(C40)>0,VLOOKUP($O$4,DATA!$A$1:$S$1,2,FALSE),\"\")","v":{"$error":"#REF!"}},{"$error":"#REF!"},{"$f":"IF(LEN(ASISTENCIA!#REF!)>0,ASISTENCIA!#REF!,\"\")","v":{"$error":"#REF!"}},{"$f":"IF(LEN(D40)>0,ASISTENCIA!#REF!,\"\")","v":{"$error":"#REF!"}},null,null,null,null,null,"",null,null,{"$error":"#REF!"},{"$f":"IF(AND(LEN($D40)>0,SUMIF($F$13:$J$13,O$13,$F40:$J40)>0,ASISTENCIA!#REF!<>\"X\",ASISTENCIA!#REF!<>\"L\",ASISTENCIA!#REF!<>\"J\",ASISTENCIA!#REF!<>\"V\",ASISTENCIA!#REF!<>\"F\",ASISTENCIA!#REF!<>\"\"),SUMIF($F$13:$J$13,O$13,$F40:$J40),\"\")","v":{"$error":"#REF!"}},{"$f":"IF(AND(LEN($D40)>0,SUMIF($F$13:$J$13,P$13,$F40:$J40)>0,ASISTENCIA!#REF!<>\"X\",ASISTENCIA!#REF!<>\"L\",ASISTENCIA!#REF!<>\"J\",ASISTENCIA!#REF!<>\"V\",ASISTENCIA!#REF!<>\"F\",ASISTENCIA!#REF!<>\"\"),SUMIF($F$13:$J$13,P$13,$F40:$J40),\"\")","v":{"$error":"#REF!"}},{"$f":"IF(AND(LEN($D40)>0,SUMIF($F$13:$J$13,Q$13,$F40:$J40)>0,ASISTENCIA!#REF!<>\"X\",ASISTENCIA!#REF!<>\"L\",ASISTENCIA!#REF!<>\"J\",ASISTENCIA!#REF!<>\"V\",ASISTENCIA!#REF!<>\"F\",ASISTENCIA!#REF!<>\"\"),SUMIF($F$13:$J$13,Q$13,$F40:$J40),\"\")","v":{"$error":"#REF!"}},{"$f":"IF(AND(LEN($D40)>0,SUMIF($F$13:$J$13,R$13,$F40:$J40)>0,ASISTENCIA!#REF!<>\"X\",ASISTENCIA!#REF!<>\"L\",ASISTENCIA!#REF!<>\"J\",ASISTENCIA!#REF!<>\"V\",ASISTENCIA!#REF!<>\"F\",ASISTENCIA!#REF!<>\"\"),SUMIF($F$13:$J$13,R$13,$F40:$J40),\"\")","v":{"$error":"#REF!"}},{"$f":"IF(AND(LEN($D40)>0,SUMIF($F$13:$J$13,S$13,$F40:$J40)>0,ASISTENCIA!#REF!<>\"X\",ASISTENCIA!#REF!<>\"L\",ASISTENCIA!#REF!<>\"J\",ASISTENCIA!#REF!<>\"V\",ASISTENCIA!#REF!<>\"F\",ASISTENCIA!#REF!<>\"\"),SUMIF($F$13:$J$13,S$13,$F40:$J40),\"\")","v":{"$error":"#REF!"}},{"$f":"IF(AND(LEN($D40)>0,SUMIF($F$13:$J$13,T$13,$F40:$J40)>0,ASISTENCIA!#REF!<>\"X\",ASISTENCIA!#REF!<>\"L\",ASISTENCIA!#REF!<>\"J\",ASISTENCIA!#REF!<>\"V\",ASISTENCIA!#REF!<>\"F\",ASISTENCIA!#REF!<>\"\"),SUMIF($F$13:$J$13,T$13,$F40:$J40),\"\")","v":{"$error":"#REF!"}},{"$f":"IF(AND(LEN($D40)>0,SUMIF($F$13:$J$13,U$13,$F40:$J40)>0,ASISTENCIA!#REF!<>\"X\",ASISTENCIA!#REF!<>\"L\",ASISTENCIA!#REF!<>\"J\",ASISTENCIA!#REF!<>\"V\",ASISTENCIA!#REF!<>\"F\",ASISTENCIA!#REF!<>\"\"),SUMIF($F$13:$J$13,U$13,$F40:$J40),\"\")","v":{"$error":"#REF!"}},{"$f":"IF(AND(LEN($D40)>0,SUMIF($F$13:$J$13,V$13,$F40:$J40)>0,ASISTENCIA!#REF!<>\"X\",ASISTENCIA!#REF!<>\"L\",ASISTENCIA!#REF!<>\"J\",ASISTENCIA!#REF!<>\"V\",ASISTENCIA!#REF!<>\"F\",ASISTENCIA!#REF!<>\"\"),SUMIF($F$13:$J$13,V$13,$F40:$J40),\"\")","v":{"$error":"#REF!"}},{"$f":"IF(AND(LEN($D40)>0,SUMIF($F$13:$J$13,W$13,$F40:$J40)>0,ASISTENCIA!#REF!<>\"X\",ASISTENCIA!#REF!<>\"L\",ASISTENCIA!#REF!<>\"J\",ASISTENCIA!#REF!<>\"V\",ASISTENCIA!#REF!<>\"F\",ASISTENCIA!#REF!<>\"\"),SUMIF($F$13:$J$13,W$13,$F40:$J40),\"\")","v":{"$error":"#REF!"}},{"$f":"IF(AND(LEN($D40)>0,SUMIF($F$13:$J$13,X$13,$F40:$J40)>0,ASISTENCIA!#REF!<>\"X\",ASISTENCIA!#REF!<>\"L\",ASISTENCIA!#REF!<>\"J\",ASISTENCIA!#REF!<>\"V\",ASISTENCIA!#REF!<>\"F\",ASISTENCIA!#REF!<>\"\"),SUMIF($F$13:$J$13,X$13,$F40:$J40),\"\")","v":{"$error":"#REF!"}},{"$f":"IF(AND(LEN($D40)>0,SUMIF($F$13:$J$13,Y$13,$F40:$J40)>0,ASISTENCIA!#REF!<>\"X\",ASISTENCIA!#REF!<>\"L\",ASISTENCIA!#REF!<>\"J\",ASISTENCIA!#REF!<>\"V\",ASISTENCIA!#REF!<>\"F\",ASISTENCIA!#REF!<>\"\"),SUMIF($F$13:$J$13,Y$13,$F40:$J40),\"\")","v":{"$error":"#REF!"}},{"$f":"IF(AND(LEN($D40)>0,SUMIF($F$13:$J$13,Z$13,$F40:$J40)>0,ASISTENCIA!#REF!<>\"X\",ASISTENCIA!#REF!<>\"L\",ASISTENCIA!#REF!<>\"J\",ASISTENCIA!#REF!<>\"V\",ASISTENCIA!#REF!<>\"F\",ASISTENCIA!#REF!<>\"\"),SUMIF($F$13:$J$13,Z$13,$F40:$J40),\"\")","v":{"$error":"#REF!"}},{"$f":"IF(AND(LEN($D40)>0,SUMIF($F$13:$J$13,AA$13,$F40:$J40)>0,ASISTENCIA!#REF!<>\"X\",ASISTENCIA!#REF!<>\"L\",ASISTENCIA!#REF!<>\"J\",ASISTENCIA!#REF!<>\"V\",ASISTENCIA!#REF!<>\"F\",ASISTENCIA!#REF!<>\"\"),SUMIF($F$13:$J$13,AA$13,$F40:$J40),\"\")","v":{"$error":"#REF!"}},{"$f":"IF(AND(LEN($D40)>0,SUMIF($F$13:$J$13,AB$13,$F40:$J40)>0,ASISTENCIA!#REF!<>\"X\",ASISTENCIA!#REF!<>\"L\",ASISTENCIA!#REF!<>\"J\",ASISTENCIA!#REF!<>\"V\",ASISTENCIA!#REF!<>\"F\",ASISTENCIA!#REF!<>\"\"),SUMIF($F$13:$J$13,AB$13,$F40:$J40),\"\")","v":{"$error":"#REF!"}},{"$f":"IF(AND(LEN($D40)>0,SUMIF($F$13:$J$13,AC$13,$F40:$J40)>0,ASISTENCIA!#REF!<>\"X\",ASISTENCIA!#REF!<>\"L\",ASISTENCIA!#REF!<>\"J\",ASISTENCIA!#REF!<>\"V\",ASISTENCIA!#REF!<>\"F\",ASISTENCIA!#REF!<>\"\"),SUMIF($F$13:$J$13,AC$13,$F40:$J40),\"\")","v":{"$error":"#REF!"}},{"$f":"IF(AND(LEN($D40)>0,SUMIF($F$13:$J$13,AD$13,$F40:$J40)>0,ASISTENCIA!#REF!<>\"X\",ASISTENCIA!#REF!<>\"L\",ASISTENCIA!#REF!<>\"J\",ASISTENCIA!#REF!<>\"V\",ASISTENCIA!#REF!<>\"F\",ASISTENCIA!#REF!<>\"\"),SUMIF($F$13:$J$13,AD$13,$F40:$J40),\"\")","v":{"$error":"#REF!"}},{"$f":"IF(AND(LEN($D40)>0,SUMIF($F$13:$J$13,AE$13,$F40:$J40)>0,ASISTENCIA!#REF!<>\"X\",ASISTENCIA!#REF!<>\"L\",ASISTENCIA!#REF!<>\"J\",ASISTENCIA!#REF!<>\"V\",ASISTENCIA!#REF!<>\"F\",ASISTENCIA!#REF!<>\"\"),SUMIF($F$13:$J$13,AE$13,$F40:$J40),\"\")","v":{"$error":"#REF!"}},{"$f":"IF(AND(LEN($D40)>0,SUMIF($F$13:$J$13,AF$13,$F40:$J40)>0,ASISTENCIA!#REF!<>\"X\",ASISTENCIA!#REF!<>\"L\",ASISTENCIA!#REF!<>\"J\",ASISTENCIA!#REF!<>\"V\",ASISTENCIA!#REF!<>\"F\",ASISTENCIA!#REF!<>\"\"),SUMIF($F$13:$J$13,AF$13,$F40:$J40),\"\")","v":{"$error":"#REF!"}},{"$f":"IF(AND(LEN($D40)>0,SUMIF($F$13:$J$13,AG$13,$F40:$J40)>0,ASISTENCIA!#REF!<>\"X\",ASISTENCIA!#REF!<>\"L\",ASISTENCIA!#REF!<>\"J\",ASISTENCIA!#REF!<>\"V\",ASISTENCIA!#REF!<>\"F\",ASISTENCIA!#REF!<>\"\"),SUMIF($F$13:$J$13,AG$13,$F40:$J40),\"\")","v":{"$error":"#REF!"}},{"$f":"IF(AND(LEN($D40)>0,SUMIF($F$13:$J$13,AH$13,$F40:$J40)>0,ASISTENCIA!#REF!<>\"X\",ASISTENCIA!#REF!<>\"L\",ASISTENCIA!#REF!<>\"J\",ASISTENCIA!#REF!<>\"V\",ASISTENCIA!#REF!<>\"F\",ASISTENCIA!#REF!<>\"\"),SUMIF($F$13:$J$13,AH$13,$F40:$J40),\"\")","v":{"$error":"#REF!"}},{"$f":"IF(AND(LEN($D40)>0,SUMIF($F$13:$J$13,AI$13,$F40:$J40)>0,ASISTENCIA!#REF!<>\"X\",ASISTENCIA!#REF!<>\"L\",ASISTENCIA!#REF!<>\"J\",ASISTENCIA!#REF!<>\"V\",ASISTENCIA!#REF!<>\"F\",ASISTENCIA!#REF!<>\"\"),SUMIF($F$13:$J$13,AI$13,$F40:$J40),\"\")","v":{"$error":"#REF!"}},{"$f":"IF(AND(LEN($D40)>0,SUMIF($F$13:$J$13,AJ$13,$F40:$J40)>0,ASISTENCIA!#REF!<>\"X\",ASISTENCIA!#REF!<>\"L\",ASISTENCIA!#REF!<>\"J\",ASISTENCIA!#REF!<>\"V\",ASISTENCIA!#REF!<>\"F\",ASISTENCIA!#REF!<>\"\"),SUMIF($F$13:$J$13,AJ$13,$F40:$J40),\"\")","v":{"$error":"#REF!"}},{"$f":"IF(AND(LEN($D40)>0,SUMIF($F$13:$J$13,AK$13,$F40:$J40)>0,ASISTENCIA!#REF!<>\"X\",ASISTENCIA!#REF!<>\"L\",ASISTENCIA!#REF!<>\"J\",ASISTENCIA!#REF!<>\"V\",ASISTENCIA!#REF!<>\"F\",ASISTENCIA!#REF!<>\"\"),SUMIF($F$13:$J$13,AK$13,$F40:$J40),\"\")","v":{"$error":"#REF!"}},{"$f":"IF(AND(LEN($D40)>0,SUMIF($F$13:$J$13,AL$13,$F40:$J40)>0,ASISTENCIA!#REF!<>\"X\",ASISTENCIA!#REF!<>\"L\",ASISTENCIA!#REF!<>\"J\",ASISTENCIA!#REF!<>\"V\",ASISTENCIA!#REF!<>\"F\",ASISTENCIA!#REF!<>\"\"),SUMIF($F$13:$J$13,AL$13,$F40:$J40),\"\")","v":{"$error":"#REF!"}},{"$f":"IF(AND(LEN($D40)>0,SUMIF($F$13:$J$13,AM$13,$F40:$J40)>0,ASISTENCIA!#REF!<>\"X\",ASISTENCIA!#REF!<>\"L\",ASISTENCIA!#REF!<>\"J\",ASISTENCIA!#REF!<>\"V\",ASISTENCIA!#REF!<>\"F\",ASISTENCIA!#REF!<>\"\"),SUMIF($F$13:$J$13,AM$13,$F40:$J40),\"\")","v":{"$error":"#REF!"}},{"$f":"IF(AND(LEN($D40)>0,SUMIF($F$13:$J$13,AN$13,$F40:$J40)>0,ASISTENCIA!#REF!<>\"X\",ASISTENCIA!#REF!<>\"L\",ASISTENCIA!#REF!<>\"J\",ASISTENCIA!#REF!<>\"V\",ASISTENCIA!#REF!<>\"F\",ASISTENCIA!#REF!<>\"\"),SUMIF($F$13:$J$13,AN$13,$F40:$J40),\"\")","v":{"$error":"#REF!"}},{"$f":"IF(AND(LEN($D40)>0,SUMIF($F$13:$J$13,AO$13,$F40:$J40)>0,ASISTENCIA!#REF!<>\"X\",ASISTENCIA!#REF!<>\"L\",ASISTENCIA!#REF!<>\"J\",ASISTENCIA!#REF!<>\"V\",ASISTENCIA!#REF!<>\"F\",ASISTENCIA!#REF!<>\"\"),SUMIF($F$13:$J$13,AO$13,$F40:$J40),\"\")","v":{"$error":"#REF!"}},{"$f":"IF(AND(LEN($D40)>0,SUMIF($F$13:$J$13,AP$13,$F40:$J40)>0,ASISTENCIA!#REF!<>\"X\",ASISTENCIA!#REF!<>\"L\",ASISTENCIA!#REF!<>\"J\",ASISTENCIA!#REF!<>\"V\",ASISTENCIA!#REF!<>\"F\",ASISTENCIA!#REF!<>\"\"),SUMIF($F$13:$J$13,AP$13,$F40:$J40),\"\")","v":{"$error":"#REF!"}},{"$f":"IF(AND(LEN($D40)>0,SUMIF($F$13:$J$13,AQ$13,$F40:$J40)>0,ASISTENCIA!#REF!<>\"X\",ASISTENCIA!#REF!<>\"L\",ASISTENCIA!#REF!<>\"J\",ASISTENCIA!#REF!<>\"V\",ASISTENCIA!#REF!<>\"F\",ASISTENCIA!#REF!<>\"\"),SUMIF($F$13:$J$13,AQ$13,$F40:$J40),\"\")","v":{"$error":"#REF!"}},{"$f":"IF(AND(LEN($D40)>0,SUMIF($F$13:$J$13,AR$13,$F40:$J40)>0,ASISTENCIA!#REF!<>\"X\",ASISTENCIA!#REF!<>\"L\",ASISTENCIA!#REF!<>\"J\",ASISTENCIA!#REF!<>\"V\",ASISTENCIA!#REF!<>\"F\",ASISTENCIA!#REF!<>\"\"),SUMIF($F$13:$J$13,AR$13,$F40:$J40),\"\")","v":{"$error":"#REF!"}},{"$f":"IF(AND(LEN($D40)>0,SUMIF($F$13:$J$13,AS$13,$F40:$J40)>0,ASISTENCIA!#REF!<>\"X\",ASISTENCIA!#REF!<>\"L\",ASISTENCIA!#REF!<>\"J\",ASISTENCIA!#REF!<>\"V\",ASISTENCIA!#REF!<>\"F\",ASISTENCIA!#REF!<>\"\"),SUMIF($F$13:$J$13,AS$13,$F40:$J40),\"\")","v":{"$error":"#REF!"}},{"$error":"#REF!"},null,null,null,{"$f":"IF(AND(LEN($D40)>0,SUMIF($F$13:$J$13,AX$13,$F40:$J40)>0,ASISTENCIA!#REF!<>\"X\",ASISTENCIA!#REF!<>\"L\",ASISTENCIA!#REF!<>\"J\",ASISTENCIA!#REF!<>\"F\"),SUMIF($F$13:$J$13,AX$13,$F40:$J40),\"\")","v":{"$error":"#REF!"}},{"$f":"IF(AND(LEN($D40)>0,SUMIF($F$13:$J$13,AY$13,$F40:$J40)>0,ASISTENCIA!#REF!<>\"X\",ASISTENCIA!#REF!<>\"L\",ASISTENCIA!#REF!<>\"J\",ASISTENCIA!#REF!<>\"F\"),SUMIF($F$13:$J$13,AY$13,$F40:$J40),\"\")","v":{"$error":"#REF!"}},{"$f":"IF(AND(LEN($D40)>0,SUMIF($F$13:$J$13,AZ$13,$F40:$J40)>0,ASISTENCIA!#REF!<>\"X\",ASISTENCIA!#REF!<>\"L\",ASISTENCIA!#REF!<>\"J\",ASISTENCIA!#REF!<>\"F\"),SUMIF($F$13:$J$13,AZ$13,$F40:$J40),\"\")","v":{"$error":"#REF!"}},{"$f":"IF(AND(LEN($D40)>0,SUMIF($F$13:$J$13,BA$13,$F40:$J40)>0,ASISTENCIA!#REF!<>\"X\",ASISTENCIA!#REF!<>\"L\",ASISTENCIA!#REF!<>\"J\",ASISTENCIA!#REF!<>\"F\"),SUMIF($F$13:$J$13,BA$13,$F40:$J40),\"\")","v":{"$error":"#REF!"}},{"$f":"IF(AND(LEN($D40)>0,SUMIF($F$13:$J$13,BB$13,$F40:$J40)>0,ASISTENCIA!#REF!<>\"X\",ASISTENCIA!#REF!<>\"L\",ASISTENCIA!#REF!<>\"J\",ASISTENCIA!#REF!<>\"F\"),SUMIF($F$13:$J$13,BB$13,$F40:$J40),\"\")","v":{"$error":"#REF!"}},{"$f":"IF(AND(LEN($D40)>0,SUMIF($F$13:$J$13,BC$13,$F40:$J40)>0,ASISTENCIA!#REF!<>\"X\",ASISTENCIA!#REF!<>\"L\",ASISTENCIA!#REF!<>\"J\",ASISTENCIA!#REF!<>\"F\"),SUMIF($F$13:$J$13,BC$13,$F40:$J40),\"\")","v":{"$error":"#REF!"}},{"$f":"IF(AND(LEN($D40)>0,SUMIF($F$13:$J$13,BD$13,$F40:$J40)>0,ASISTENCIA!#REF!<>\"X\",ASISTENCIA!#REF!<>\"L\",ASISTENCIA!#REF!<>\"J\",ASISTENCIA!#REF!<>\"F\"),SUMIF($F$13:$J$13,BD$13,$F40:$J40),\"\")","v":{"$error":"#REF!"}},{"$f":"IF(AND(LEN($D40)>0,SUMIF($F$13:$J$13,BE$13,$F40:$J40)>0,ASISTENCIA!#REF!<>\"X\",ASISTENCIA!#REF!<>\"L\",ASISTENCIA!#REF!<>\"J\",ASISTENCIA!#REF!<>\"F\"),SUMIF($F$13:$J$13,BE$13,$F40:$J40),\"\")","v":{"$error":"#REF!"}},{"$f":"IF(AND(LEN($D40)>0,SUMIF($F$13:$J$13,BF$13,$F40:$J40)>0,ASISTENCIA!#REF!<>\"X\",ASISTENCIA!#REF!<>\"L\",ASISTENCIA!#REF!<>\"J\",ASISTENCIA!#REF!<>\"F\"),SUMIF($F$13:$J$13,BF$13,$F40:$J40),\"\")","v":{"$error":"#REF!"}},{"$f":"IF(AND(LEN($D40)>0,SUMIF($F$13:$J$13,BG$13,$F40:$J40)>0,ASISTENCIA!#REF!<>\"X\",ASISTENCIA!#REF!<>\"L\",ASISTENCIA!#REF!<>\"J\",ASISTENCIA!#REF!<>\"F\"),SUMIF($F$13:$J$13,BG$13,$F40:$J40),\"\")","v":{"$error":"#REF!"}},{"$f":"IF(AND(LEN($D40)>0,SUMIF($F$13:$J$13,BH$13,$F40:$J40)>0,ASISTENCIA!#REF!<>\"X\",ASISTENCIA!#REF!<>\"L\",ASISTENCIA!#REF!<>\"J\",ASISTENCIA!#REF!<>\"F\"),SUMIF($F$13:$J$13,BH$13,$F40:$J40),\"\")","v":{"$error":"#REF!"}},{"$f":"IF(AND(LEN($D40)>0,SUMIF($F$13:$J$13,BI$13,$F40:$J40)>0,ASISTENCIA!#REF!<>\"X\",ASISTENCIA!#REF!<>\"L\",ASISTENCIA!#REF!<>\"J\",ASISTENCIA!#REF!<>\"F\"),SUMIF($F$13:$J$13,BI$13,$F40:$J40),\"\")","v":{"$error":"#REF!"}},{"$f":"IF(AND(LEN($D40)>0,SUMIF($F$13:$J$13,BJ$13,$F40:$J40)>0,ASISTENCIA!#REF!<>\"X\",ASISTENCIA!#REF!<>\"L\",ASISTENCIA!#REF!<>\"J\",ASISTENCIA!#REF!<>\"F\"),SUMIF($F$13:$J$13,BJ$13,$F40:$J40),\"\")","v":{"$error":"#REF!"}},{"$f":"IF(AND(LEN($D40)>0,SUMIF($F$13:$J$13,BK$13,$F40:$J40)>0,ASISTENCIA!#REF!<>\"X\",ASISTENCIA!#REF!<>\"L\",ASISTENCIA!#REF!<>\"J\",ASISTENCIA!#REF!<>\"F\"),SUMIF($F$13:$J$13,BK$13,$F40:$J40),\"\")","v":{"$error":"#REF!"}},{"$f":"IF(AND(LEN($D40)>0,SUMIF($F$13:$J$13,BL$13,$F40:$J40)>0,ASISTENCIA!#REF!<>\"X\",ASISTENCIA!#REF!<>\"L\",ASISTENCIA!#REF!<>\"J\",ASISTENCIA!#REF!<>\"F\"),SUMIF($F$13:$J$13,BL$13,$F40:$J40),\"\")","v":{"$error":"#REF!"}},{"$f":"IF(AND(LEN($D40)>0,SUMIF($F$13:$J$13,BM$13,$F40:$J40)>0,ASISTENCIA!#REF!<>\"X\",ASISTENCIA!#REF!<>\"L\",ASISTENCIA!#REF!<>\"J\",ASISTENCIA!#REF!<>\"F\"),SUMIF($F$13:$J$13,BM$13,$F40:$J40),\"\")","v":{"$error":"#REF!"}},{"$f":"IF(AND(LEN($D40)>0,SUMIF($F$13:$J$13,BN$13,$F40:$J40)>0,ASISTENCIA!#REF!<>\"X\",ASISTENCIA!#REF!<>\"L\",ASISTENCIA!#REF!<>\"J\",ASISTENCIA!#REF!<>\"F\"),SUMIF($F$13:$J$13,BN$13,$F40:$J40),\"\")","v":{"$error":"#REF!"}},{"$f":"IF(AND(LEN($D40)>0,SUMIF($F$13:$J$13,BO$13,$F40:$J40)>0,ASISTENCIA!#REF!<>\"X\",ASISTENCIA!#REF!<>\"L\",ASISTENCIA!#REF!<>\"J\",ASISTENCIA!#REF!<>\"F\"),SUMIF($F$13:$J$13,BO$13,$F40:$J40),\"\")","v":{"$error":"#REF!"}},{"$f":"IF(AND(LEN($D40)>0,SUMIF($F$13:$J$13,BP$13,$F40:$J40)>0,ASISTENCIA!#REF!<>\"X\",ASISTENCIA!#REF!<>\"L\",ASISTENCIA!#REF!<>\"J\",ASISTENCIA!#REF!<>\"F\"),SUMIF($F$13:$J$13,BP$13,$F40:$J40),\"\")","v":{"$error":"#REF!"}},{"$f":"IF(AND(LEN($D40)>0,SUMIF($F$13:$J$13,BQ$13,$F40:$J40)>0,ASISTENCIA!#REF!<>\"X\",ASISTENCIA!#REF!<>\"L\",ASISTENCIA!#REF!<>\"J\",ASISTENCIA!#REF!<>\"F\"),SUMIF($F$13:$J$13,BQ$13,$F40:$J40),\"\")","v":{"$error":"#REF!"}},{"$f":"IF(AND(LEN($D40)>0,SUMIF($F$13:$J$13,BR$13,$F40:$J40)>0,ASISTENCIA!#REF!<>\"X\",ASISTENCIA!#REF!<>\"L\",ASISTENCIA!#REF!<>\"J\",ASISTENCIA!#REF!<>\"F\"),SUMIF($F$13:$J$13,BR$13,$F40:$J40),\"\")","v":{"$error":"#REF!"}},{"$f":"IF(AND(LEN($D40)>0,SUMIF($F$13:$J$13,BS$13,$F40:$J40)>0,ASISTENCIA!#REF!<>\"X\",ASISTENCIA!#REF!<>\"L\",ASISTENCIA!#REF!<>\"J\",ASISTENCIA!#REF!<>\"F\"),SUMIF($F$13:$J$13,BS$13,$F40:$J40),\"\")","v":{"$error":"#REF!"}},{"$f":"IF(AND(LEN($D40)>0,SUMIF($F$13:$J$13,BT$13,$F40:$J40)>0,ASISTENCIA!#REF!<>\"X\",ASISTENCIA!#REF!<>\"L\",ASISTENCIA!#REF!<>\"J\",ASISTENCIA!#REF!<>\"F\"),SUMIF($F$13:$J$13,BT$13,$F40:$J40),\"\")","v":{"$error":"#REF!"}},{"$f":"IF(AND(LEN($D40)>0,SUMIF($F$13:$J$13,BU$13,$F40:$J40)>0,ASISTENCIA!#REF!<>\"X\",ASISTENCIA!#REF!<>\"L\",ASISTENCIA!#REF!<>\"J\",ASISTENCIA!#REF!<>\"F\"),SUMIF($F$13:$J$13,BU$13,$F40:$J40),\"\")","v":{"$error":"#REF!"}},{"$f":"IF(AND(LEN($D40)>0,SUMIF($F$13:$J$13,BV$13,$F40:$J40)>0,ASISTENCIA!#REF!<>\"X\",ASISTENCIA!#REF!<>\"L\",ASISTENCIA!#REF!<>\"J\",ASISTENCIA!#REF!<>\"F\"),SUMIF($F$13:$J$13,BV$13,$F40:$J40),\"\")","v":{"$error":"#REF!"}},{"$f":"IF(AND(LEN($D40)>0,SUMIF($F$13:$J$13,BW$13,$F40:$J40)>0,ASISTENCIA!#REF!<>\"X\",ASISTENCIA!#REF!<>\"L\",ASISTENCIA!#REF!<>\"J\",ASISTENCIA!#REF!<>\"F\"),SUMIF($F$13:$J$13,BW$13,$F40:$J40),\"\")","v":{"$error":"#REF!"}},{"$f":"IF(AND(LEN($D40)>0,SUMIF($F$13:$J$13,BX$13,$F40:$J40)>0,ASISTENCIA!#REF!<>\"X\",ASISTENCIA!#REF!<>\"L\",ASISTENCIA!#REF!<>\"J\",ASISTENCIA!#REF!<>\"F\"),SUMIF($F$13:$J$13,BX$13,$F40:$J40),\"\")","v":{"$error":"#REF!"}},{"$f":"IF(AND(LEN($D40)>0,SUMIF($F$13:$J$13,BY$13,$F40:$J40)>0,ASISTENCIA!#REF!<>\"X\",ASISTENCIA!#REF!<>\"L\",ASISTENCIA!#REF!<>\"J\",ASISTENCIA!#REF!<>\"F\"),SUMIF($F$13:$J$13,BY$13,$F40:$J40),\"\")","v":{"$error":"#REF!"}},{"$f":"IF(AND(LEN($D40)>0,SUMIF($F$13:$J$13,BZ$13,$F40:$J40)>0,ASISTENCIA!#REF!<>\"X\",ASISTENCIA!#REF!<>\"L\",ASISTENCIA!#REF!<>\"J\",ASISTENCIA!#REF!<>\"F\"),SUMIF($F$13:$J$13,BZ$13,$F40:$J40),\"\")","v":{"$error":"#REF!"}},{"$f":"IF(AND(LEN($D40)>0,SUMIF($F$13:$J$13,CA$13,$F40:$J40)>0,ASISTENCIA!#REF!<>\"X\",ASISTENCIA!#REF!<>\"L\",ASISTENCIA!#REF!<>\"J\",ASISTENCIA!#REF!<>\"F\"),SUMIF($F$13:$J$13,CA$13,$F40:$J40),\"\")","v":{"$error":"#REF!"}},{"$f":"IF(AND(LEN($D40)>0,SUMIF($F$13:$J$13,CB$13,$F40:$J40)>0,ASISTENCIA!#REF!<>\"X\",ASISTENCIA!#REF!<>\"L\",ASISTENCIA!#REF!<>\"J\",ASISTENCIA!#REF!<>\"F\"),SUMIF($F$13:$J$13,CB$13,$F40:$J40),\"\")","v":{"$error":"#REF!"}},{"$error":"#REF!"}]
[{"$error":"#REF!"},{"$f":"IF(LEN(C41)>0,VLOOKUP($O$4,DATA!$A$1:$S$1,2,FALSE),\"\")","v":{"$error":"#REF!"}},{"$error":"#REF!"},{"$f":"IF(LEN(ASISTENCIA!#REF!)>0,ASISTENCIA!#REF!,\"\")","v":{"$error":"#REF!"}},{"$f":"IF(LEN(D41)>0,ASISTENCIA!#REF!,\"\")","v":{"$error":"#REF!"}},null,null,null,null,null,"",null,null,{"$error":"#REF!"},{"$f":"IF(AND(LEN($D41)>0,SUMIF($F$13:$J$13,O$13,$F41:$J41)>0,ASISTENCIA!#REF!<>\"X\",ASISTENCIA!#REF!<>\"L\",ASISTENCIA!#REF!<>\"J\",ASISTENCIA!#REF!<>\"V\",ASISTENCIA!#REF!<>\"F\",ASISTENCIA!#REF!<>\"\"),SUMIF($F$13:$J$13,O$13,$F41:$J41),\"\")","v":{"$error":"#REF!"}},{"$f":"IF(AND(LEN($D41)>0,SUMIF($F$13:$J$13,P$13,$F41:$J41)>0,ASISTENCIA!#REF!<>\"X\",ASISTENCIA!#REF!<>\"L\",ASISTENCIA!#REF!<>\"J\",ASISTENCIA!#REF!<>\"V\",ASISTENCIA!#REF!<>\"F\",ASISTENCIA!#REF!<>\"\"),SUMIF($F$13:$J$13,P$13,$F41:$J41),\"\")","v":{"$error":"#REF!"}},{"$f":"IF(AND(LEN($D41)>0,SUMIF($F$13:$J$13,Q$13,$F41:$J41)>0,ASISTENCIA!#REF!<>\"X\",ASISTENCIA!#REF!<>\"L\",ASISTENCIA!#REF!<>\"J\",ASISTENCIA!#REF!<>\"V\",ASISTENCIA!#REF!<>\"F\",ASISTENCIA!#REF!<>\"\"),SUMIF($F$13:$J$13,Q$13,$F41:$J41),\"\")","v":{"$error":"#REF!"}},{"$f":"IF(AND(LEN($D41)>0,SUMIF($F$13:$J$13,R$13,$F41:$J41)>0,ASISTENCIA!#REF!<>\"X\",ASISTENCIA!#REF!<>\"L\",ASISTENCIA!#REF!<>\"J\",ASISTENCIA!#REF!<>\"V\",ASISTENCIA!#REF!<>\"F\",ASISTENCIA!#REF!<>\"\"),SUMIF($F$13:$J$13,R$13,$F41:$J41),\"\")","v":{"$error":"#REF!"}},{"$f":"IF(AND(LEN($D41)>0,SUMIF($F$13:$J$13,S$13,$F41:$J41)>0,ASISTENCIA!#REF!<>\"X\",ASISTENCIA!#REF!<>\"L\",ASISTENCIA!#REF!<>\"J\",ASISTENCIA!#REF!<>\"V\",ASISTENCIA!#REF!<>\"F\",ASISTENCIA!#REF!<>\"\"),SUMIF($F$13:$J$13,S$13,$F41:$J41),\"\")","v":{"$error":"#REF!"}},{"$f":"IF(AND(LEN($D41)>0,SUMIF($F$13:$J$13,T$13,$F41:$J41)>0,ASISTENCIA!#REF!<>\"X\",ASISTENCIA!#REF!<>\"L\",ASISTENCIA!#REF!<>\"J\",ASISTENCIA!#REF!<>\"V\",ASISTENCIA!#REF!<>\"F\",ASISTENCIA!#REF!<>\"\"),SUMIF($F$13:$J$13,T$13,$F41:$J41),\"\")","v":{"$error":"#REF!"}},{"$f":"IF(AND(LEN($D41)>0,SUMIF($F$13:$J$13,U$13,$F41:$J41)>0,ASISTENCIA!#REF!<>\"X\",ASISTENCIA!#REF!<>\"L\",ASISTENCIA!#REF!<>\"J\",ASISTENCIA!#REF!<>\"V\",ASISTENCIA!#REF!<>\"F\",ASISTENCIA!#REF!<>\"\"),SUMIF($F$13:$J$13,U$13,$F41:$J41),\"\")","v":{"$error":"#REF!"}},{"$f":"IF(AND(LEN($D41)>0,SUMIF($F$13:$J$13,V$13,$F41:$J41)>0,ASISTENCIA!#REF!<>\"X\",ASISTENCIA!#REF!<>\"L\",ASISTENCIA!#REF!<>\"J\",ASISTENCIA!#REF!<>\"V\",ASISTENCIA!#REF!<>\"F\",ASISTENCIA!#REF!<>\"\"),SUMIF($F$13:$J$13,V$13,$F41:$J41),\"\")","v":{"$error":"#REF!"}},{"$f":"IF(AND(LEN($D41)>0,SUMIF($F$13:$J$13,W$13,$F41:$J41)>0,ASISTENCIA!#REF!<>\"X\",ASISTENCIA!#REF!<>\"L\",ASISTENCIA!#REF!<>\"J\",ASISTENCIA!#REF!<>\"V\",ASISTENCIA!#REF!<>\"F\",ASISTENCIA!#REF!<>\"\"),SUMIF($F$13:$J$13,W$13,$F41:$J41),\"\")","v":{"$error":"#REF!"}},{"$f":"IF(AND(LEN($D41)>0,SUMIF($F$13:$J$13,X$13,$F41:$J41)>0,ASISTENCIA!#REF!<>\"X\",ASISTENCIA!#REF!<>\"L\",ASISTENCIA!#REF!<>\"J\",ASISTENCIA!#REF!<>\"V\",ASISTENCIA!#REF!<>\"F\",ASISTENCIA!#REF!<>\"\"),SUMIF($F$13:$J$13,X$13,$F41:$J41),\"\")","v":{"$error":"#REF!"}},{"$f":"IF(AND(LEN($D41)>0,SUMIF($F$13:$J$13,Y$13,$F41:$J41)>0,ASISTENCIA!#REF!<>\"X\",ASISTENCIA!#REF!<>\"L\",ASISTENCIA!#REF!<>\"J\",ASISTENCIA!#REF!<>\"V\",ASISTENCIA!#REF!<>\"F\",ASISTENCIA!#REF!<>\"\"),SUMIF($F$13:$J$13,Y$13,$F41:$J41),\"\")","v":{"$error":"#REF!"}},{"$f":"IF(AND(LEN($D41)>0,SUMIF($F$13:$J$13,Z$13,$F41:$J41)>0,ASISTENCIA!#REF!<>\"X\",ASISTENCIA!#REF!<>\"L\",ASISTENCIA!#REF!<>\"J\",ASISTENCIA!#REF!<>\"V\",ASISTENCIA!#REF!<>\"F\",ASISTENCIA!#REF!<>\"\"),SUMIF($F$13:$J$13,Z$13,$F41:$J41),\"\")","v":{"$error":"#REF!"}},{"$f":"IF(AND(LEN($D41)>0,SUMIF($F$13:$J$13,AA$13,$F41:$J41)>0,ASISTENCIA!#REF!<>\"X\",ASISTENCIA!#REF!<>\"L\",ASISTENCIA!#REF!<>\"J\",ASISTENCIA!#REF!<>\"V\",ASISTENCIA!#REF!<>\"F\",ASISTENCIA!#REF!<>\"\"),SUMIF($F$13:$J$13,AA$13,$F41:$J41),\"\")","v":{"$error":"#REF!"}},{"$f":"IF(AND(LEN($D41)>0,SUMIF($F$13:$J$13,AB$13,$F41:$J41)>0,ASISTENCIA!#REF!<>\"X\",ASISTENCIA!#REF!<>\"L\",ASISTENCIA!#REF!<>\"J\",ASISTENCIA!#REF!<>\"V\",ASISTENCIA!#REF!<>\"F\",ASISTENCIA!#REF!<>\"\"),SUMIF($F$13:$J$13,AB$13,$F41:$J41),\"\")","v":{"$error":"#REF!"}},{"$f":"IF(AND(LEN($D41)>0,SUMIF($F$13:$J$13,AC$13,$F41:$J41)>0,ASISTENCIA!#REF!<>\"X\",ASISTENCIA!#REF!<>\"L\",ASISTENCIA!#REF!<>\"J\",ASISTENCIA!#REF!<>\"V\",ASISTENCIA!#REF!<>\"F\",ASISTENCIA!#REF!<>\"\"),SUMIF($F$13:$J$13,AC$13,$F41:$J41),\"\")","v":{"$error":"#REF!"}},{"$f":"IF(AND(LEN($D41)>0,SUMIF($F$13:$J$13,AD$13,$F41:$J41)>0,ASISTENCIA!#REF!<>\"X\",ASISTENCIA!#REF!<>\"L\",ASISTENCIA!#REF!<>\"J\",ASISTENCIA!#REF!<>\"V\",ASISTENCIA!#REF!<>\"F\",ASISTENCIA!#REF!<>\"\"),SUMIF($F$13:$J$13,AD$13,$F41:$J41),\"\")","v":{"$error":"#REF!"}},{"$f":"IF(AND(LEN($D41)>0,SUMIF($F$13:$J$13,AE$13,$F41:$J41)>0,ASISTENCIA!#REF!<>\"X\",ASISTENCIA!#REF!<>\"L\",ASISTENCIA!#REF!<>\"J\",ASISTENCIA!#REF!<>\"V\",ASISTENCIA!#REF!<>\"F\",ASISTENCIA!#REF!<>\"\"),SUMIF($F$13:$J$13,AE$13,$F41:$J41),\"\")","v":{"$error":"#REF!"}},{"$f":"IF(AND(LEN($D41)>0,SUMIF($F$13:$J$13,AF$13,$F41:$J41)>0,ASISTENCIA!#REF!<>\"X\",ASISTENCIA!#REF!<>\"L\",ASISTENCIA!#REF!<>\"J\",ASISTENCIA!#REF!<>\"V\",ASISTENCIA!#REF!<>\"F\",ASISTENCIA!#REF!<>\"\"),SUMIF($F$13:$J$13,AF$13,$F41:$J41),\"\")","v":{"$error":"#REF!"}},{"$f":"IF(AND(LEN($D41)>0,SUMIF($F$13:$J$13,AG$13,$F41:$J41)>0,ASISTENCIA!#REF!<>\"X\",ASISTENCIA!#REF!<>\"L\",ASISTENCIA!#REF!<>\"J\",ASISTENCIA!#REF!<>\"V\",ASISTENCIA!#REF!<>\"F\",ASISTENCIA!#REF!<>\"\"),SUMIF($F$13:$J$13,AG$13,$F41:$J41),\"\")","v":{"$error":"#REF!"}},{"$f":"IF(AND(LEN($D41)>0,SUMIF($F$13:$J$13,AH$13,$F41:$J41)>0,ASISTENCIA!#REF!<>\"X\",ASISTENCIA!#REF!<>\"L\",ASISTENCIA!#REF!<>\"J\",ASISTENCIA!#REF!<>\"V\",ASISTENCIA!#REF!<>\"F\",ASISTENCIA!#REF!<>\"\"),SUMIF($F$13:$J$13,AH$13,$F41:$J41),\"\")","v":{"$error":"#REF!"}},{"$f":"IF(AND(LEN($D41)>0,SUMIF($F$13:$J$13,AI$13,$F41:$J41)>0,ASISTENCIA!#REF!<>\"X\",ASISTENCIA!#REF!<>\"L\",ASISTENCIA!#REF!<>\"J\",ASISTENCIA!#REF!<>\"V\",ASISTENCIA!#REF!<>\"F\",ASISTENCIA!#REF!<>\"\"),SUMIF($F$13:$J$13,AI$13,$F41:$J41),\"\")","v":{"$error":"#REF!"}},{"$f":"IF(AND(LEN($D41)>0,SUMIF($F$13:$J$13,AJ$13,$F41:$J41)>0,ASISTENCIA!#REF!<>\"X\",ASISTENCIA!#REF!<>\"L\",ASISTENCIA!#REF!<>\"J\",ASISTENCIA!#REF!<>\"V\",ASISTENCIA!#REF!<>\"F\",ASISTENCIA!#REF!<>\"\"),SUMIF($F$13:$J$13,AJ$13,$F41:$J41),\"\")","v":{"$error":"#REF!"}},{"$f":"IF(AND(LEN($D41)>0,SUMIF($F$13:$J$13,AK$13,$F41:$J41)>0,ASISTENCIA!#REF!<>\"X\",ASISTENCIA!#REF!<>\"L\",ASISTENCIA!#REF!<>\"J\",ASISTENCIA!#REF!<>\"V\",ASISTENCIA!#REF!<>\"F\",ASISTENCIA!#REF!<>\"\"),SUMIF($F$13:$J$13,AK$13,$F41:$J41),\"\")","v":{"$error":"#REF!"}},{"$f":"IF(AND(LEN($D41)>0,SUMIF($F$13:$J$13,AL$13,$F41:$J41)>0,ASISTENCIA!#REF!<>\"X\",ASISTENCIA!#REF!<>\"L\",ASISTENCIA!#REF!<>\"J\",ASISTENCIA!#REF!<>\"V\",ASISTENCIA!#REF!<>\"F\",ASISTENCIA!#REF!<>\"\"),SUMIF($F$13:$J$13,AL$13,$F41:$J41),\"\")","v":{"$error":"#REF!"}},{"$f":"IF(AND(LEN($D41)>0,SUMIF($F$13:$J$13,AM$13,$F41:$J41)>0,ASISTENCIA!#REF!<>\"X\",ASISTENCIA!#REF!<>\"L\",ASISTENCIA!#REF!<>\"J\",ASISTENCIA!#REF!<>\"V\",ASISTENCIA!#REF!<>\"F\",ASISTENCIA!#REF!<>\"\"),SUMIF($F$13:$J$13,AM$13,$F41:$J41),\"\")","v":{"$error":"#REF!"}},{"$f":"IF(AND(LEN($D41)>0,SUMIF($F$13:$J$13,AN$13,$F41:$J41)>0,ASISTENCIA!#REF!<>\"X\",ASISTENCIA!#REF!<>\"L\",ASISTENCIA!#REF!<>\"J\",ASISTENCIA!#REF!<>\"V\",ASISTENCIA!#REF!<>\"F\",ASISTENCIA!#REF!<>\"\"),SUMIF($F$13:$J$13,AN$13,$F41:$J41),\"\")","v":{"$error":"#REF!"}},{"$f":"IF(AND(LEN($D41)>0,SUMIF($F$13:$J$13,AO$13,$F41:$J41)>0,ASISTENCIA!#REF!<>\"X\",ASISTENCIA!#REF!<>\"L\",ASISTENCIA!#REF!<>\"J\",ASISTENCIA!#REF!<>\"V\",ASISTENCIA!#REF!<>\"F\",ASISTENCIA!#REF!<>\"\"),SUMIF($F$13:$J$13,AO$13,$F41:$J41),\"\")","v":{"$error":"#REF!"}},{"$f":"IF(AND(LEN($D41)>0,SUMIF($F$13:$J$13,AP$13,$F41:$J41)>0,ASISTENCIA!#REF!<>\"X\",ASISTENCIA!#REF!<>\"L\",ASISTENCIA!#REF!<>\"J\",ASISTENCIA!#REF!<>\"V\",ASISTENCIA!#REF!<>\"F\",ASISTENCIA!#REF!<>\"\"),SUMIF($F$13:$J$13,AP$13,$F41:$J41),\"\")","v":{"$error":"#REF!"}},{"$f":"IF(AND(LEN($D41)>0,SUMIF($F$13:$J$13,AQ$13,$F41:$J41)>0,ASISTENCIA!#REF!<>\"X\",ASISTENCIA!#REF!<>\"L\",ASISTENCIA!#REF!<>\"J\",ASISTENCIA!#REF!<>\"V\",ASISTENCIA!#REF!<>\"F\",ASISTENCIA!#REF!<>\"\"),SUMIF($F$13:$J$13,AQ$13,$F41:$J41),\"\")","v":{"$error":"#REF!"}},{"$f":"IF(AND(LEN($D41)>0,SUMIF($F$13:$J$13,AR$13,$F41:$J41)>0,ASISTENCIA!#REF!<>\"X\",ASISTENCIA!#REF!<>\"L\",ASISTENCIA!#REF!<>\"J\",ASISTENCIA!#REF!<>\"V\",ASISTENCIA!#REF!<>\"F\",ASISTENCIA!#REF!<>\"\"),SUMIF($F$13:$J$13,AR$13,$F41:$J41),\"\")","v":{"$error":"#REF!"}},{"$f":"IF(AND(LEN($D41)>0,SUMIF($F$13:$J$13,AS$13,$F41:$J41)>0,ASISTENCIA!#REF!<>\"X\",ASISTENCIA!#REF!<>\"L\",ASISTENCIA!#REF!<>\"J\",ASISTENCIA!#REF!<>\"V\",ASISTENCIA!#REF!<>\"F\",ASISTENCIA!#REF!<>\"\"),SUMIF($F$13:$J$13,AS$13,$F41:$J41),\"\")","v":{"$error":"#REF!"}},{"$error":"#REF!"},null,null,null,{"$f":"IF(AND(LEN($D41)>0,SUMIF($F$13:$J$13,AX$13,$F41:$J41)>0,ASISTENCIA!#REF!<>\"X\",ASISTENCIA!#REF!<>\"L\",ASISTENCIA!#REF!<>\"J\",ASISTENCIA!#REF!<>\"F\"),SUMIF($F$13:$J$13,AX$13,$F41:$J41),\"\")","v":{"$error":"#REF!"}},{"$f":"IF(AND(LEN($D41)>0,SUMIF($F$13:$J$13,AY$13,$F41:$J41)>0,ASISTENCIA!#REF!<>\"X\",ASISTENCIA!#REF!<>\"L\",ASISTENCIA!#REF!<>\"J\",ASISTENCIA!#REF!<>\"F\"),SUMIF($F$13:$J$13,AY$13,$F41:$J41),\"\")","v":{"$error":"#REF!"}},{"$f":"IF(AND(LEN($D41)>0,SUMIF($F$13:$J$13,AZ$13,$F41:$J41)>0,ASISTENCIA!#REF!<>\"X\",ASISTENCIA!#REF!<>\"L\",ASISTENCIA!#REF!<>\"J\",ASISTENCIA!#REF!<>\"F\"),SUMIF($F$13:$J$13,AZ$13,$F41:$J41),\"\")","v":{"$error":"#REF!"}},{"$f":"IF(AND(LEN($D41)>0,SUMIF($F$13:$J$13,BA$13,$F41:$J41)>0,ASISTENCIA!#REF!<>\"X\",ASISTENCIA!#REF!<>\"L\",ASISTENCIA!#REF!<>\"J\",ASISTENCIA!#REF!<>\"F\"),SUMIF($F$13:$J$13,BA$13,$F41:$J41),\"\")","v":{"$error":"#REF!"}},{"$f":"IF(AND(LEN($D41)>0,SUMIF($F$13:$J$13,BB$13,$F41:$J41)>0,ASISTENCIA!#REF!<>\"X\",ASISTENCIA!#REF!<>\"L\",ASISTENCIA!#REF!<>\"J\",ASISTENCIA!#REF!<>\"F\"),SUMIF($F$13:$J$13,BB$13,$F41:$J41),\"\")","v":{"$error":"#REF!"}},{"$f":"IF(AND(LEN($D41)>0,SUMIF($F$13:$J$13,BC$13,$F41:$J41)>0,ASISTENCIA!#REF!<>\"X\",ASISTENCIA!#REF!<>\"L\",ASISTENCIA!#REF!<>\"J\",ASISTENCIA!#REF!<>\"F\"),SUMIF($F$13:$J$13,BC$13,$F41:$J41),\"\")","v":{"$error":"#REF!"}},{"$f":"IF(AND(LEN($D41)>0,SUMIF($F$13:$J$13,BD$13,$F41:$J41)>0,ASISTENCIA!#REF!<>\"X\",ASISTENCIA!#REF!<>\"L\",ASISTENCIA!#REF!<>\"J\",ASISTENCIA!#REF!<>\"F\"),SUMIF($F$13:$J$13,BD$13,$F41:$J41),\"\")","v":{"$error":"#REF!"}},{"$f":"IF(AND(LEN($D41)>0,SUMIF($F$13:$J$13,BE$13,$F41:$J41)>0,ASISTENCIA!#REF!<>\"X\",ASISTENCIA!#REF!<>\"L\",ASISTENCIA!#REF!<>\"J\",ASISTENCIA!#REF!<>\"F\"),SUMIF($F$13:$J$13,BE$13,$F41:$J41),\"\")","v":{"$error":"#REF!"}},{"$f":"IF(AND(LEN($D41)>0,SUMIF($F$13:$J$13,BF$13,$F41:$J41)>0,ASISTENCIA!#REF!<>\"X\",ASISTENCIA!#REF!<>\"L\",ASISTENCIA!#REF!<>\"J\",ASISTENCIA!#REF!<>\"F\"),SUMIF($F$13:$J$13,BF$13,$F41:$J41),\"\")","v":{"$error":"#REF!"}},{"$f":"IF(AND(LEN($D41)>0,SUMIF($F$13:$J$13,BG$13,$F41:$J41)>0,ASISTENCIA!#REF!<>\"X\",ASISTENCIA!#REF!<>\"L\",ASISTENCIA!#REF!<>\"J\",ASISTENCIA!#REF!<>\"F\"),SUMIF($F$13:$J$13,BG$13,$F41:$J41),\"\")","v":{"$error":"#REF!"}},{"$f":"IF(AND(LEN($D41)>0,SUMIF($F$13:$J$13,BH$13,$F41:$J41)>0,ASISTENCIA!#REF!<>\"X\",ASISTENCIA!#REF!<>\"L\",ASISTENCIA!#REF!<>\"J\",ASISTENCIA!#REF!<>\"F\"),SUMIF($F$13:$J$13,BH$13,$F41:$J41),\"\")","v":{"$error":"#REF!"}},{"$f":"IF(AND(LEN($D41)>0,SUMIF($F$13:$J$13,BI$13,$F41:$J41)>0,ASISTENCIA!#REF!<>\"X\",ASISTENCIA!#REF!<>\"L\",ASISTENCIA!#REF!<>\"J\",ASISTENCIA!#REF!<>\"F\"),SUMIF($F$13:$J$13,BI$13,$F41:$J41),\"\")","v":{"$error":"#REF!"}},{"$f":"IF(AND(LEN($D41)>0,SUMIF($F$13:$J$13,BJ$13,$F41:$J41)>0,ASISTENCIA!#REF!<>\"X\",ASISTENCIA!#REF!<>\"L\",ASISTENCIA!#REF!<>\"J\",ASISTENCIA!#REF!<>\"F\"),SUMIF($F$13:$J$13,BJ$13,$F41:$J41),\"\")","v":{"$error":"#REF!"}},{"$f":"IF(AND(LEN($D41)>0,SUMIF($F$13:$J$13,BK$13,$F41:$J41)>0,ASISTENCIA!#REF!<>\"X\",ASISTENCIA!#REF!<>\"L\",ASISTENCIA!#REF!<>\"J\",ASISTENCIA!#REF!<>\"F\"),SUMIF($F$13:$J$13,BK$13,$F41:$J41),\"\")","v":{"$error":"#REF!"}},{"$f":"IF(AND(LEN($D41)>0,SUMIF($F$13:$J$13,BL$13,$F41:$J41)>0,ASISTENCIA!#REF!<>\"X\",ASISTENCIA!#REF!<>\"L\",ASISTENCIA!#REF!<>\"J\",ASISTENCIA!#REF!<>\"F\"),SUMIF($F$13:$J$13,BL$13,$F41:$J41),\"\")","v":{"$error":"#REF!"}},{"$f":"IF(AND(LEN($D41)>0,SUMIF($F$13:$J$13,BM$13,$F41:$J41)>0,ASISTENCIA!#REF!<>\"X\",ASISTENCIA!#REF!<>\"L\",ASISTENCIA!#REF!<>\"J\",ASISTENCIA!#REF!<>\"F\"),SUMIF($F$13:$J$13,BM$13,$F41:$J41),\"\")","v":{"$error":"#REF!"}},{"$f":"IF(AND(LEN($D41)>0,SUMIF($F$13:$J$13,BN$13,$F41:$J41)>0,ASISTENCIA!#REF!<>\"X\",ASISTENCIA!#REF!<>\"L\",ASISTENCIA!#REF!<>\"J\",ASISTENCIA!#REF!<>\"F\"),SUMIF($F$13:$J$13,BN$13,$F41:$J41),\"\")","v":{"$error":"#REF!"}},{"$f":"IF(AND(LEN($D41)>0,SUMIF($F$13:$J$13,BO$13,$F41:$J41)>0,ASISTENCIA!#REF!<>\"X\",ASISTENCIA!#REF!<>\"L\",ASISTENCIA!#REF!<>\"J\",ASISTENCIA!#REF!<>\"F\"),SUMIF($F$13:$J$13,BO$13,$F41:$J41),\"\")","v":{"$error":"#REF!"}},{"$f":"IF(AND(LEN($D41)>0,SUMIF($F$13:$J$13,BP$13,$F41:$J41)>0,ASISTENCIA!#REF!<>\"X\",ASISTENCIA!#REF!<>\"L\",ASISTENCIA!#REF!<>\"J\",ASISTENCIA!#REF!<>\"F\"),SUMIF($F$13:$J$13,BP$13,$F41:$J41),\"\")","v":{"$error":"#REF!"}},{"$f":"IF(AND(LEN($D41)>0,SUMIF($F$13:$J$13,BQ$13,$F41:$J41)>0,ASISTENCIA!#REF!<>\"X\",ASISTENCIA!#REF!<>\"L\",ASISTENCIA!#REF!<>\"J\",ASISTENCIA!#REF!<>\"F\"),SUMIF($F$13:$J$13,BQ$13,$F41:$J41),\"\")","v":{"$error":"#REF!"}},{"$f":"IF(AND(LEN($D41)>0,SUMIF($F$13:$J$13,BR$13,$F41:$J41)>0,ASISTENCIA!#REF!<>\"X\",ASISTENCIA!#REF!<>\"L\",ASISTENCIA!#REF!<>\"J\",ASISTENCIA!#REF!<>\"F\"),SUMIF($F$13:$J$13,BR$13,$F41:$J41),\"\")","v":{"$error":"#REF!"}},{"$f":"IF(AND(LEN($D41)>0,SUMIF($F$13:$J$13,BS$13,$F41:$J41)>0,ASISTENCIA!#REF!<>\"X\",ASISTENCIA!#REF!<>\"L\",ASISTENCIA!#REF!<>\"J\",ASISTENCIA!#REF!<>\"F\"),SUMIF($F$13:$J$13,BS$13,$F41:$J41),\"\")","v":{"$error":"#REF!"}},{"$f":"IF(AND(LEN($D41)>0,SUMIF($F$13:$J$13,BT$13,$F41:$J41)>0,ASISTENCIA!#REF!<>\"X\",ASISTENCIA!#REF!<>\"L\",ASISTENCIA!#REF!<>\"J\",ASISTENCIA!#REF!<>\"F\"),SUMIF($F$13:$J$13,BT$13,$F41:$J41),\"\")","v":{"$error":"#REF!"}},{"$f":"IF(AND(LEN($D41)>0,SUMIF($F$13:$J$13,BU$13,$F41:$J41)>0,ASISTENCIA!#REF!<>\"X\",ASISTENCIA!#REF!<>\"L\",ASISTENCIA!#REF!<>\"J\",ASISTENCIA!#REF!<>\"F\"),SUMIF($F$13:$J$13,BU$13,$F41:$J41),\"\")","v":{"$error":"#REF!"}},{"$f":"IF(AND(LEN($D41)>0,SUMIF($F$13:$J$13,BV$13,$F41:$J41)>0,ASISTENCIA!#REF!<>\"X\",ASISTENCIA!#REF!<>\"L\",ASISTENCIA!#REF!<>\"J\",ASISTENCIA!#REF!<>\"F\"),SUMIF($F$13:$J$13,BV$13,$F41:$J41),\"\")","v":{"$error":"#REF!"}},{"$f":"IF(AND(LEN($D41)>0,SUMIF($F$13:$J$13,BW$13,$F41:$J41)>0,ASISTENCIA!#REF!<>\"X\",ASISTENCIA!#REF!<>\"L\",ASISTENCIA!#REF!<>\"J\",ASISTENCIA!#REF!<>\"F\"),SUMIF($F$13:$J$13,BW$13,$F41:$J41),\"\")","v":{"$error":"#REF!"}},{"$f":"IF(AND(LEN($D41)>0,SUMIF($F$13:$J$13,BX$13,$F41:$J41)>0,ASISTENCIA!#REF!<>\"X\",ASISTENCIA!#REF!<>\"L\",ASISTENCIA!#REF!<>\"J\",ASISTENCIA!#REF!<>\"F\"),SUMIF($F$13:$J$13,BX$13,$F41:$J41),\"\")","v":{"$error":"#REF!"}},{"$f":"IF(AND(LEN($D41)>0,SUMIF($F$13:$J$13,BY$13,$F41:$J41)>0,ASISTENCIA!#REF!<>\"X\",ASISTENCIA!#REF!<>\"L\",ASISTENCIA!#REF!<>\"J\",ASISTENCIA!#REF!<>\"F\"),SUMIF($F$13:$J$13,BY$13,$F41:$J41),\"\")","v":{"$error":"#REF!"}},{"$f":"IF(AND(LEN($D41)>0,SUMIF($F$13:$J$13,BZ$13,$F41:$J41)>0,ASISTENCIA!#REF!<>\"X\",ASISTENCIA!#REF!<>\"L\",ASISTENCIA!#REF!<>\"J\",ASISTENCIA!#REF!<>\"F\"),SUMIF($F$13:$J$13,BZ$13,$F41:$J41),\"\")","v":{"$error":"#REF!"}},{"$f":"IF(AND(LEN($D41)>0,SUMIF($F$13:$J$13,CA$13,$F41:$J41)>0,ASISTENCIA!#REF!<>\"X\",ASISTENCIA!#REF!<>\"L\",ASISTENCIA!#REF!<>\"J\",ASISTENCIA!#REF!<>\"F\"),SUMIF($F$13:$J$13,CA$13,$F41:$J41),\"\")","v":{"$error":"#REF!"}},{"$f":"IF(AND(LEN($D41)>0,SUMIF($F$13:$J$13,CB$13,$F41:$J41)>0,ASISTENCIA!#REF!<>\"X\",ASISTENCIA!#REF!<>\"L\",ASISTENCIA!#REF!<>\"J\",ASISTENCIA!#REF!<>\"F\"),SUMIF($F$13:$J$13,CB$13,$F41:$J41),\"\")","v":{"$error":"#REF!"}},{"$error":"#REF!"}]
[{"$error":"#REF!"},{"$f":"IF(LEN(C42)>0,VLOOKUP($O$4,DATA!$A$1:$S$1,2,FALSE),\"\")","v":{"$error":"#REF!"}},{"$error":"#REF!"},{"$f":"IF(LEN(ASISTENCIA!#REF!)>0,ASISTENCIA!#REF!,\"\")","v":{"$error":"#REF!"}},{"$f":"IF(LEN(D42)>0,ASISTENCIA!#REF!,\"\")","v":{"$error":"#REF!"}},null,null,null,null,null,"",null,null,{"$error":"#REF!"},{"$f":"IF(AND(LEN($D42)>0,SUMIF($F$13:$J$13,O$13,$F42:$J42)>0,ASISTENCIA!#REF!<>\"X\",ASISTENCIA!#REF!<>\"L\",ASISTENCIA!#REF!<>\"J\",ASISTENCIA!#REF!<>\"V\",ASISTENCIA!#REF!<>\"F\",ASISTENCIA!#REF!<>\"\"),SUMIF($F$13:$J$13,O$13,$F42:$J42),\"\")","v":{"$error":"#REF!"}},{"$f":"IF(AND(LEN($D42)>0,SUMIF($F$13:$J$13,P$13,$F42:$J42)>0,ASISTENCIA!#REF!<>\"X\",ASISTENCIA!#REF!<>\"L\",ASISTENCIA!#REF!<>\"J\",ASISTENCIA!#REF!<>\"V\",ASISTENCIA!#REF!<>\"F\",ASISTENCIA!#REF!<>\"\"),SUMIF($F$13:$J$13,P$13,$F42:$J42),\"\")","v":{"$error":"#REF!"}},{"$f":"IF(AND(LEN($D42)>0,SUMIF($F$13:$J$13,Q$13,$F42:$J42)>0,ASISTENCIA!#REF!<>\"X\",ASISTENCIA!#REF!<>\"L\",ASISTENCIA!#REF!<>\"J\",ASISTENCIA!#REF!<>\"V\",ASISTENCIA!#REF!<>\"F\",ASISTENCIA!#REF!<>\"\"),SUMIF($F$13:$J$13,Q$13,$F42:$J42),\"\")","v":{"$error":"#REF!"}},{"$f":"IF(AND(LEN($D42)>0,SUMIF($F$13:$J$13,R$13,$F42:$J42)>0,ASISTENCIA!#REF!<>\"X\",ASISTENCIA!#REF!<>\"L\",ASISTENCIA!#REF!<>\"J\",ASISTENCIA!#REF!<>\"V\",ASISTENCIA!#REF!<>\"F\",ASISTENCIA!#REF!<>\"\"),SUMIF($F$13:$J$13,R$13,$F42:$J42),\"\")","v":{"$error":"#REF!"}},{"$f":"IF(AND(LEN($D42)>0,SUMIF($F$13:$J$13,S$13,$F42:$J42)>0,ASISTENCIA!#REF!<>\"X\",ASISTENCIA!#REF!<>\"L\",ASISTENCIA!#REF!<>\"J\",ASISTENCIA!#REF!<>\"V\",ASISTENCIA!#REF!<>\"F\",ASISTENCIA!#REF!<>\"\"),SUMIF($F$13:$J$13,S$13,$F42:$J42),\"\")","v":{"$error":"#REF!"}},{"$f":"IF(AND(LEN($D42)>0,SUMIF($F$13:$J$13,T$13,$F42:$J42)>0,ASISTENCIA!#REF!<>\"X\",ASISTENCIA!#REF!<>\"L\",ASISTENCIA!#REF!<>\"J\",ASISTENCIA!#REF!<>\"V\",ASISTENCIA!#REF!<>\"F\",ASISTENCIA!#REF!<>\"\"),SUMIF($F$13:$J$13,T$13,$F42:$J42),\"\")","v":{"$error":"#REF!"}},{"$f":"IF(AND(LEN($D42)>0,SUMIF($F$13:$J$13,U$13,$F42:$J42)>0,ASISTENCIA!#REF!<>\"X\",ASISTENCIA!#REF!<>\"L\",ASISTENCIA!#REF!<>\"J\",ASISTENCIA!#REF!<>\"V\",ASISTENCIA!#REF!<>\"F\",ASISTENCIA!#REF!<>\"\"),SUMIF($F$13:$J$13,U$13,$F42:$J42),\"\")","v":{"$error":"#REF!"}},{"$f":"IF(AND(LEN($D42)>0,SUMIF($F$13:$J$13,V$13,$F42:$J42)>0,ASISTENCIA!#REF!<>\"X\",ASISTENCIA!#REF!<>\"L\",ASISTENCIA!#REF!<>\"J\",ASISTENCIA!#REF!<>\"V\",ASISTENCIA!#REF!<>\"F\",ASISTENCIA!#REF!<>\"\"),SUMIF($F$13:$J$13,V$13,$F42:$J42),\"\")","v":{"$error":"#REF!"}},{"$f":"IF(AND(LEN($D42)>0,SUMIF($F$13:$J$13,W$13,$F42:$J42)>0,ASISTENCIA!#REF!<>\"X\",ASISTENCIA!#REF!<>\"L\",ASISTENCIA!#REF!<>\"J\",ASISTENCIA!#REF!<>\"V\",ASISTENCIA!#REF!<>\"F\",ASISTENCIA!#REF!<>\"\"),SUMIF($F$13:$J$13,W$13,$F42:$J42),\"\")","v":{"$error":"#REF!"}},{"$f":"IF(AND(LEN($D42)>0,SUMIF($F$13:$J$13,X$13,$F42:$J42)>0,ASISTENCIA!#REF!<>\"X\",ASISTENCIA!#REF!<>\"L\",ASISTENCIA!#REF!<>\"J\",ASISTENCIA!#REF!<>\"V\",ASISTENCIA!#REF!<>\"F\",ASISTENCIA!#REF!<>\"\"),SUMIF($F$13:$J$13,X$13,$F42:$J42),\"\")","v":{"$error":"#REF!"}},{"$f":"IF(AND(LEN($D42)>0,SUMIF($F$13:$J$13,Y$13,$F42:$J42)>0,ASISTENCIA!#REF!<>\"X\",ASISTENCIA!#REF!<>\"L\",ASISTENCIA!#REF!<>\"J\",ASISTENCIA!#REF!<>\"V\",ASISTENCIA!#REF!<>\"F\",ASISTENCIA!#REF!<>\"\"),SUMIF($F$13:$J$13,Y$13,$F42:$J42),\"\")","v":{"$error":"#REF!"}},{"$f":"IF(AND(LEN($D42)>0,SUMIF($F$13:$J$13,Z$13,$F42:$J42)>0,ASISTENCIA!#REF!<>\"X\",ASISTENCIA!#REF!<>\"L\",ASISTENCIA!#REF!<>\"J\",ASISTENCIA!#REF!<>\"V\",ASISTENCIA!#REF!<>\"F\",ASISTENCIA!#REF!<>\"\"),SUMIF($F$13:$J$13,Z$13,$F42:$J42),\"\")","v":{"$error":"#REF!"}},{"$f":"IF(AND(LEN($D42)>0,SUMIF($F$13:$J$13,AA$13,$F42:$J42)>0,ASISTENCIA!#REF!<>\"X\",ASISTENCIA!#REF!<>\"L\",ASISTENCIA!#REF!<>\"J\",ASISTENCIA!#REF!<>\"V\",ASISTENCIA!#REF!<>\"F\",ASISTENCIA!#REF!<>\"\"),SUMIF($F$13:$J$13,AA$13,$F42:$J42),\"\")","v":{"$error":"#REF!"}},{"$f":"IF(AND(LEN($D42)>0,SUMIF($F$13:$J$13,AB$13,$F42:$J42)>0,ASISTENCIA!#REF!<>\"X\",ASISTENCIA!#REF!<>\"L\",ASISTENCIA!#REF!<>\"J\",ASISTENCIA!#REF!<>\"V\",ASISTENCIA!#REF!<>\"F\",ASISTENCIA!#REF!<>\"\"),SUMIF($F$13:$J$13,AB$13,$F42:$J42),\"\")","v":{"$error":"#REF!"}},{"$f":"IF(AND(LEN($D42)>0,SUMIF($F$13:$J$13,AC$13,$F42:$J42)>0,ASISTENCIA!#REF!<>\"X\",ASISTENCIA!#REF!<>\"L\",ASISTENCIA!#REF!<>\"J\",ASISTENCIA!#REF!<>\"V\",ASISTENCIA!#REF!<>\"F\",ASISTENCIA!#REF!<>\"\"),SUMIF($F$13:$J$13,AC$13,$F42:$J42),\"\")","v":{"$error":"#REF!"}},{"$f":"IF(AND(LEN($D42)>0,SUMIF($F$13:$J$13,AD$13,$F42:$J42)>0,ASISTENCIA!#REF!<>\"X\",ASISTENCIA!#REF!<>\"L\",ASISTENCIA!#REF!<>\"J\",ASISTENCIA!#REF!<>\"V\",ASISTENCIA!#REF!<>\"F\",ASISTENCIA!#REF!<>\"\"),SUMIF($F$13:$J$13,AD$13,$F42:$J42),\"\")","v":{"$error":"#REF!"}},{"$f":"IF(AND(LEN($D42)>0,SUMIF($F$13:$J$13,AE$13,$F42:$J42)>0,ASISTENCIA!#REF!<>\"X\",ASISTENCIA!#REF!<>\"L\",ASISTENCIA!#REF!<>\"J\",ASISTENCIA!#REF!<>\"V\",ASISTENCIA!#REF!<>\"F\",ASISTENCIA!#REF!<>\"\"),SUMIF($F$13:$J$13,AE$13,$F42:$J42),\"\")","v":{"$error":"#REF!"}},{"$f":"IF(AND(LEN($D42)>0,SUMIF($F$13:$J$13,AF$13,$F42:$J42)>0,ASISTENCIA!#REF!<>\"X\",ASISTENCIA!#REF!<>\"L\",ASISTENCIA!#REF!<>\"J\",ASISTENCIA!#REF!<>\"V\",ASISTENCIA!#REF!<>\"F\",ASISTENCIA!#REF!<>\"\"),SUMIF($F$13:$J$13,AF$13,$F42:$J42),\"\")","v":{"$error":"#REF!"}},{"$f":"IF(AND(LEN($D42)>0,SUMIF($F$13:$J$13,AG$13,$F42:$J42)>0,ASISTENCIA!#REF!<>\"X\",ASISTENCIA!#REF!<>\"L\",ASISTENCIA!#REF!<>\"J\",ASISTENCIA!#REF!<>\"V\",ASISTENCIA!#REF!<>\"F\",ASISTENCIA!#REF!<>\"\"),SUMIF($F$13:$J$13,AG$13,$F42:$J42),\"\")","v":{"$error":"#REF!"}},{"$f":"IF(AND(LEN($D42)>0,SUMIF($F$13:$J$13,AH$13,$F42:$J42)>0,ASISTENCIA!#REF!<>\"X\",ASISTENCIA!#REF!<>\"L\",ASISTENCIA!#REF!<>\"J\",ASISTENCIA!#REF!<>\"V\",ASISTENCIA!#REF!<>\"F\",ASISTENCIA!#REF!<>\"\"),SUMIF($F$13:$J$13,AH$13,$F42:$J42),\"\")","v":{"$error":"#REF!"}},{"$f":"IF(AND(LEN($D42)>0,SUMIF($F$13:$J$13,AI$13,$F42:$J42)>0,ASISTENCIA!#REF!<>\"X\",ASISTENCIA!#REF!<>\"L\",ASISTENCIA!#REF!<>\"J\",ASISTENCIA!#REF!<>\"V\",ASISTENCIA!#REF!<>\"F\",ASISTENCIA!#REF!<>\"\"),SUMIF($F$13:$J$13,AI$13,$F42:$J42),\"\")","v":{"$error":"#REF!"}},{"$f":"IF(AND(LEN($D42)>0,SUMIF($F$13:$J$13,AJ$13,$F42:$J42)>0,ASISTENCIA!#REF!<>\"X\",ASISTENCIA!#REF!<>\"L\",ASISTENCIA!#REF!<>\"J\",ASISTENCIA!#REF!<>\"V\",ASISTENCIA!#REF!<>\"F\",ASISTENCIA!#REF!<>\"\"),SUMIF($F$13:$J$13,AJ$13,$F42:$J42),\"\")","v":{"$error":"#REF!"}},{"$f":"IF(AND(LEN($D42)>0,SUMIF($F$13:$J$13,AK$13,$F42:$J42)>0,ASISTENCIA!#REF!<>\"X\",ASISTENCIA!#REF!<>\"L\",ASISTENCIA!#REF!<>\"J\",ASISTENCIA!#REF!<>\"V\",ASISTENCIA!#REF!<>\"F\",ASISTENCIA!#REF!<>\"\"),SUMIF($F$13:$J$13,AK$13,$F42:$J42),\"\")","v":{"$error":"#REF!"}},{"$f":"IF(AND(LEN($D42)>0,SUMIF($F$13:$J$13,AL$13,$F42:$J42)>0,ASISTENCIA!#REF!<>\"X\",ASISTENCIA!#REF!<>\"L\",ASISTENCIA!#REF!<>\"J\",ASISTENCIA!#REF!<>\"V\",ASISTENCIA!#REF!<>\"F\",ASISTENCIA!#REF!<>\"\"),SUMIF($F$13:$J$13,AL$13,$F42:$J42),\"\")","v":{"$error":"#REF!"}},{"$f":"IF(AND(LEN($D42)>0,SUMIF($F$13:$J$13,AM$13,$F42:$J42)>0,ASISTENCIA!#REF!<>\"X\",ASISTENCIA!#REF!<>\"L\",ASISTENCIA!#REF!<>\"J\",ASISTENCIA!#REF!<>\"V\",ASISTENCIA!#REF!<>\"F\",ASISTENCIA!#REF!<>\"\"),SUMIF($F$13:$J$13,AM$13,$F42:$J42),\"\")","v":{"$error":"#REF!"}},{"$f":"IF(AND(LEN($D42)>0,SUMIF($F$13:$J$13,AN$13,$F42:$J42)>0,ASISTENCIA!#REF!<>\"X\",ASISTENCIA!#REF!<>\"L\",ASISTENCIA!#REF!<>\"J\",ASISTENCIA!#REF!<>\"V\",ASISTENCIA!#REF!<>\"F\",ASISTENCIA!#REF!<>\"\"),SUMIF($F$13:$J$13,AN$13,$F42:$J42),\"\")","v":{"$error":"#REF!"}},{"$f":"IF(AND(LEN($D42)>0,SUMIF($F$13:$J$13,AO$13,$F42:$J42)>0,ASISTENCIA!#REF!<>\"X\",ASISTENCIA!#REF!<>\"L\",ASISTENCIA!#REF!<>\"J\",ASISTENCIA!#REF!<>\"V\",ASISTENCIA!#REF!<>\"F\",ASISTENCIA!#REF!<>\"\"),SUMIF($F$13:$J$13,AO$13,$F42:$J42),\"\")","v":{"$error":"#REF!"}},{"$f":"IF(AND(LEN($D42)>0,SUMIF($F$13:$J$13,AP$13,$F42:$J42)>0,ASISTENCIA!#REF!<>\"X\",ASISTENCIA!#REF!<>\"L\",ASISTENCIA!#REF!<>\"J\",ASISTENCIA!#REF!<>\"V\",ASISTENCIA!#REF!<>\"F\",ASISTENCIA!#REF!<>\"\"),SUMIF($F$13:$J$13,AP$13,$F42:$J42),\"\")","v":{"$error":"#REF!"}},{"$f":"IF(AND(LEN($D42)>0,SUMIF($F$13:$J$13,AQ$13,$F42:$J42)>0,ASISTENCIA!#REF!<>\"X\",ASISTENCIA!#REF!<>\"L\",ASISTENCIA!#REF!<>\"J\",ASISTENCIA!#REF!<>\"V\",ASISTENCIA!#REF!<>\"F\",ASISTENCIA!#REF!<>\"\"),SUMIF($F$13:$J$13,AQ$13,$F42:$J42),\"\")","v":{"$error":"#REF!"}},{"$f":"IF(AND(LEN($D42)>0,SUMIF($F$13:$J$13,AR$13,$F42:$J42)>0,ASISTENCIA!#REF!<>\"X\",ASISTENCIA!#REF!<>\"L\",ASISTENCIA!#REF!<>\"J\",ASISTENCIA!#REF!<>\"V\",ASISTENCIA!#REF!<>\"F\",ASISTENCIA!#REF!<>\"\"),SUMIF($F$13:$J$13,AR$13,$F42:$J42),\"\")","v":{"$error":"#REF!"}},{"$f":"IF(AND(LEN($D42)>0,SUMIF($F$13:$J$13,AS$13,$F42:$J42)>0,ASISTENCIA!#REF!<>\"X\",ASISTENCIA!#REF!<>\"L\",ASISTENCIA!#REF!<>\"J\",ASISTENCIA!#REF!<>\"V\",ASISTENCIA!#REF!<>\"F\",ASISTENCIA!#REF!<>\"\"),SUMIF($F$13:$J$13,AS$13,$F42:$J42),\"\")","v":{"$error":"#REF!"}},{"$error":"#REF!"},null,null,null,{"$f":"IF(AND(LEN($D42)>0,SUMIF($F$13:$J$13,AX$13,$F42:$J42)>0,ASISTENCIA!#REF!<>\"X\",ASISTENCIA!#REF!<>\"L\",ASISTENCIA!#REF!<>\"J\",ASISTENCIA!#REF!<>\"F\"),SUMIF($F$13:$J$13,AX$13,$F42:$J42),\"\")","v":{"$error":"#REF!"}},{"$f":"IF(AND(LEN($D42)>0,SUMIF($F$13:$J$13,AY$13,$F42:$J42)>0,ASISTENCIA!#REF!<>\"X\",ASISTENCIA!#REF!<>\"L\",ASISTENCIA!#REF!<>\"J\",ASISTENCIA!#REF!<>\"F\"),SUMIF($F$13:$J$13,AY$13,$F42:$J42),\"\")","v":{"$error":"#REF!"}},{"$f":"IF(AND(LEN($D42)>0,SUMIF($F$13:$J$13,AZ$13,$F42:$J42)>0,ASISTENCIA!#REF!<>\"X\",ASISTENCIA!#REF!<>\"L\",ASISTENCIA!#REF!<>\"J\",ASISTENCIA!#REF!<>\"F\"),SUMIF($F$13:$J$13,AZ$13,$F42:$J42),\"\")","v":{"$error":"#REF!"}},{"$f":"IF(AND(LEN($D42)>0,SUMIF($F$13:$J$13,BA$13,$F42:$J42)>0,ASISTENCIA!#REF!<>\"X\",ASISTENCIA!#REF!<>\"L\",ASISTENCIA!#REF!<>\"J\",ASISTENCIA!#REF!<>\"F\"),SUMIF($F$13:$J$13,BA$13,$F42:$J42),\"\")","v":{"$error":"#REF!"}},{"$f":"IF(AND(LEN($D42)>0,SUMIF($F$13:$J$13,BB$13,$F42:$J42)>0,ASISTENCIA!#REF!<>\"X\",ASISTENCIA!#REF!<>\"L\",ASISTENCIA!#REF!<>\"J\",ASISTENCIA!#REF!<>\"F\"),SUMIF($F$13:$J$13,BB$13,$F42:$J42),\"\")","v":{"$error":"#REF!"}},{"$f":"IF(AND(LEN($D42)>0,SUMIF($F$13:$J$13,BC$13,$F42:$J42)>0,ASISTENCIA!#REF!<>\"X\",ASISTENCIA!#REF!<>\"L\",ASISTENCIA!#REF!<>\"J\",ASISTENCIA!#REF!<>\"F\"),SUMIF($F$13:$J$13,BC$13,$F42:$J42),\"\")","v":{"$error":"#REF!"}},{"$f":"IF(AND(LEN($D42)>0,SUMIF($F$13:$J$13,BD$13,$F42:$J42)>0,ASISTENCIA!#REF!<>\"X\",ASISTENCIA!#REF!<>\"L\",ASISTENCIA!#REF!<>\"J\",ASISTENCIA!#REF!<>\"F\"),SUMIF($F$13:$J$13,BD$13,$F42:$J42),\"\")","v":{"$error":"#REF!"}},{"$f":"IF(AND(LEN($D42)>0,SUMIF($F$13:$J$13,BE$13,$F42:$J42)>0,ASISTENCIA!#REF!<>\"X\",ASISTENCIA!#REF!<>\"L\",ASISTENCIA!#REF!<>\"J\",ASISTENCIA!#REF!<>\"F\"),SUMIF($F$13:$J$13,BE$13,$F42:$J42),\"\")","v":{"$error":"#REF!"}},{"$f":"IF(AND(LEN($D42)>0,SUMIF($F$13:$J$13,BF$13,$F42:$J42)>0,ASISTENCIA!#REF!<>\"X\",ASISTENCIA!#REF!<>\"L\",ASISTENCIA!#REF!<>\"J\",ASISTENCIA!#REF!<>\"F\"),SUMIF($F$13:$J$13,BF$13,$F42:$J42),\"\")","v":{"$error":"#REF!"}},{"$f":"IF(AND(LEN($D42)>0,SUMIF($F$13:$J$13,BG$13,$F42:$J42)>0,ASISTENCIA!#REF!<>\"X\",ASISTENCIA!#REF!<>\"L\",ASISTENCIA!#REF!<>\"J\",ASISTENCIA!#REF!<>\"F\"),SUMIF($F$13:$J$13,BG$13,$F42:$J42),\"\")","v":{"$error":"#REF!"}},{"$f":"IF(AND(LEN($D42)>0,SUMIF($F$13:$J$13,BH$13,$F42:$J42)>0,ASISTENCIA!#REF!<>\"X\",ASISTENCIA!#REF!<>\"L\",ASISTENCIA!#REF!<>\"J\",ASISTENCIA!#REF!<>\"F\"),SUMIF($F$13:$J$13,BH$13,$F42:$J42),\"\")","v":{"$error":"#REF!"}},{"$f":"IF(AND(LEN($D42)>0,SUMIF($F$13:$J$13,BI$13,$F42:$J42)>0,ASISTENCIA!#REF!<>\"X\",ASISTENCIA!#REF!<>\"L\",ASISTENCIA!#REF!<>\"J\",ASISTENCIA!#REF!<>\"F\"),SUMIF($F$13:$J$13,BI$13,$F42:$J42),\"\")","v":{"$error":"#REF!"}},{"$f":"IF(AND(LEN($D42)>0,SUMIF($F$13:$J$13,BJ$13,$F42:$J42)>0,ASISTENCIA!#REF!<>\"X\",ASISTENCIA!#REF!<>\"L\",ASISTENCIA!#REF!<>\"J\",ASISTENCIA!#REF!<>\"F\"),SUMIF($F$13:$J$13,BJ$13,$F42:$J42),\"\")","v":{"$error":"#REF!"}},{"$f":"IF(AND(LEN($D42)>0,SUMIF($F$13:$J$13,BK$13,$F42:$J42)>0,ASISTENCIA!#REF!<>\"X\",ASISTENCIA!#REF!<>\"L\",ASISTENCIA!#REF!<>\"J\",ASISTENCIA!#REF!<>\"F\"),SUMIF($F$13:$J$13,BK$13,$F42:$J42),\"\")","v":{"$error":"#REF!"}},{"$f":"IF(AND(LEN($D42)>0,SUMIF($F$13:$J$13,BL$13,$F42:$J42)>0,ASISTENCIA!#REF!<>\"X\",ASISTENCIA!#REF!<>\"L\",ASISTENCIA!#REF!<>\"J\",ASISTENCIA!#REF!<>\"F\"),SUMIF($F$13:$J$13,BL$13,$F42:$J42),\"\")","v":{"$error":"#REF!"}},{"$f":"IF(AND(LEN($D42)>0,SUMIF($F$13:$J$13,BM$13,$F42:$J42)>0,ASISTENCIA!#REF!<>\"X\",ASISTENCIA!#REF!<>\"L\",ASISTENCIA!#REF!<>\"J\",ASISTENCIA!#REF!<>\"F\"),SUMIF($F$13:$J$13,BM$13,$F42:$J42),\"\")","v":{"$error":"#REF!"}},{"$f":"IF(AND(LEN($D42)>0,SUMIF($F$13:$J$13,BN$13,$F42:$J42)>0,ASISTENCIA!#REF!<>\"X\",ASISTENCIA!#REF!<>\"L\",ASISTENCIA!#REF!<>\"J\",ASISTENCIA!#REF!<>\"F\"),SUMIF($F$13:$J$13,BN$13,$F42:$J42),\"\")","v":{"$error":"#REF!"}},{"$f":"IF(AND(LEN($D42)>0,SUMIF($F$13:$J$13,BO$13,$F42:$J42)>0,ASISTENCIA!#REF!<>\"X\",ASISTENCIA!#REF!<>\"L\",ASISTENCIA!#REF!<>\"J\",ASISTENCIA!#REF!<>\"F\"),SUMIF($F$13:$J$13,BO$13,$F42:$J42),\"\")","v":{"$error":"#REF!"}},{"$f":"IF(AND(LEN($D42)>0,SUMIF($F$13:$J$13,BP$13,$F42:$J42)>0,ASISTENCIA!#REF!<>\"X\",ASISTENCIA!#REF!<>\"L\",ASISTENCIA!#REF!<>\"J\",ASISTENCIA!#REF!<>\"F\"),SUMIF($F$13:$J$13,BP$13,$F42:$J42),\"\")","v":{"$error":"#REF!"}},{"$f":"IF(AND(LEN($D42)>0,SUMIF($F$13:$J$13,BQ$13,$F42:$J42)>0,ASISTENCIA!#REF!<>\"X\",ASISTENCIA!#REF!<>\"L\",ASISTENCIA!#REF!<>\"J\",ASISTENCIA!#REF!<>\"F\"),SUMIF($F$13:$J$13,BQ$13,$F42:$J42),\"\")","v":{"$error":"#REF!"}},{"$f":"IF(AND(LEN($D42)>0,SUMIF($F$13:$J$13,BR$13,$F42:$J42)>0,ASISTENCIA!#REF!<>\"X\",ASISTENCIA!#REF!<>\"L\",ASISTENCIA!#REF!<>\"J\",ASISTENCIA!#REF!<>\"F\"),SUMIF($F$13:$J$13,BR$13,$F42:$J42),\"\")","v":{"$error":"#REF!"}},{"$f":"IF(AND(LEN($D42)>0,SUMIF($F$13:$J$13,BS$13,$F42:$J42)>0,ASISTENCIA!#REF!<>\"X\",ASISTENCIA!#REF!<>\"L\",ASISTENCIA!#REF!<>\"J\",ASISTENCIA!#REF!<>\"F\"),SUMIF($F$13:$J$13,BS$13,$F42:$J42),\"\")","v":{"$error":"#REF!"}},{"$f":"IF(AND(LEN($D42)>0,SUMIF($F$13:$J$13,BT$13,$F42:$J42)>0,ASISTENCIA!#REF!<>\"X\",ASISTENCIA!#REF!<>\"L\",ASISTENCIA!#REF!<>\"J\",ASISTENCIA!#REF!<>\"F\"),SUMIF($F$13:$J$13,BT$13,$F42:$J42),\"\")","v":{"$error":"#REF!"}},{"$f":"IF(AND(LEN($D42)>0,SUMIF($F$13:$J$13,BU$13,$F42:$J42)>0,ASISTENCIA!#REF!<>\"X\",ASISTENCIA!#REF!<>\"L\",ASISTENCIA!#REF!<>\"J\",ASISTENCIA!#REF!<>\"F\"),SUMIF($F$13:$J$13,BU$13,$F42:$J42),\"\")","v":{"$error":"#REF!"}},{"$f":"IF(AND(LEN($D42)>0,SUMIF($F$13:$J$13,BV$13,$F42:$J42)>0,ASISTENCIA!#REF!<>\"X\",ASISTENCIA!#REF!<>\"L\",ASISTENCIA!#REF!<>\"J\",ASISTENCIA!#REF!<>\"F\"),SUMIF($F$13:$J$13,BV$13,$F42:$J42),\"\")","v":{"$error":"#REF!"}},{"$f":"IF(AND(LEN($D42)>0,SUMIF($F$13:$J$13,BW$13,$F42:$J42)>0,ASISTENCIA!#REF!<>\"X\",ASISTENCIA!#REF!<>\"L\",ASISTENCIA!#REF!<>\"J\",ASISTENCIA!#REF!<>\"F\"),SUMIF($F$13:$J$13,BW$13,$F42:$J42),\"\")","v":{"$error":"#REF!"}},{"$f":"IF(AND(LEN($D42)>0,SUMIF($F$13:$J$13,BX$13,$F42:$J42)>0,ASISTENCIA!#REF!<>\"X\",ASISTENCIA!#REF!<>\"L\",ASISTENCIA!#REF!<>\"J\",ASISTENCIA!#REF!<>\"F\"),SUMIF($F$13:$J$13,BX$13,$F42:$J42),\"\")","v":{"$error":"#REF!"}},{"$f":"IF(AND(LEN($D42)>0,SUMIF($F$13:$J$13,BY$13,$F42:$J42)>0,ASISTENCIA!#REF!<>\"X\",ASISTENCIA!#REF!<>\"L\",ASISTENCIA!#REF!<>\"J\",ASISTENCIA!#REF!<>\"F\"),SUMIF($F$13:$J$13,BY$13,$F42:$J42),\"\")","v":{"$error":"#REF!"}},{"$f":"IF(AND(LEN($D42)>0,SUMIF($F$13:$J$13,BZ$13,$F42:$J42)>0,ASISTENCIA!#REF!<>\"X\",ASISTENCIA!#REF!<>\"L\",ASISTENCIA!#REF!<>\"J\",ASISTENCIA!#REF!<>\"F\"),SUMIF($F$13:$J$13,BZ$13,$F42:$J42),\"\")","v":{"$error":"#REF!"}},{"$f":"IF(AND(LEN($D42)>0,SUMIF($F$13:$J$13,CA$13,$F42:$J42)>0,ASISTENCIA!#REF!<>\"X\",ASISTENCIA!#REF!<>\"L\",ASISTENCIA!#REF!<>\"J\",ASISTENCIA!#REF!<>\"F\"),SUMIF($F$13:$J$13,CA$13,$F42:$J42),\"\")","v":{"$error":"#REF!"}},{"$f":"IF(AND(LEN($D42)>0,SUMIF($F$13:$J$13,CB$13,$F42:$J42)>0,ASISTENCIA!#REF!<>\"X\",ASISTENCIA!#REF!<>\"L\",ASISTENCIA!#REF!<>\"J\",ASISTENCIA!#REF!<>\"F\"),SUMIF($F$13:$J$13,CB$13,$F42:$J42),\"\")","v":{"$error":"#REF!"}},{"$error":"#REF!"}]
[{"$error":"#REF!"},{"$f":"IF(LEN(C43)>0,VLOOKUP($O$4,DATA!$A$1:$S$1,2,FALSE),\"\")","v":{"$error":"#REF!"}},{"$error":"#REF!"},{"$f":"IF(LEN(ASISTENCIA!#REF!)>0,ASISTENCIA!#REF!,\"\")","v":{"$error":"#REF!"}},{"$f":"IF(LEN(D43)>0,ASISTENCIA!#REF!,\"\")","v":{"$error":"#REF!"}},null,null,null,null,null,"",null,null,{"$error":"#REF!"},{"$f":"IF(AND(LEN($D43)>0,SUMIF($F$13:$J$13,O$13,$F43:$J43)>0,ASISTENCIA!#REF!<>\"X\",ASISTENCIA!#REF!<>\"L\",ASISTENCIA!#REF!<>\"J\",ASISTENCIA!#REF!<>\"V\",ASISTENCIA!#REF!<>\"F\",ASISTENCIA!#REF!<>\"\"),SUMIF($F$13:$J$13,O$13,$F43:$J43),\"\")","v":{"$error":"#REF!"}},{"$f":"IF(AND(LEN($D43)>0,SUMIF($F$13:$J$13,P$13,$F43:$J43)>0,ASISTENCIA!#REF!<>\"X\",ASISTENCIA!#REF!<>\"L\",ASISTENCIA!#REF!<>\"J\",ASISTENCIA!#REF!<>\"V\",ASISTENCIA!#REF!<>\"F\",ASISTENCIA!#REF!<>\"\"),SUMIF($F$13:$J$13,P$13,$F43:$J43),\"\")","v":{"$error":"#REF!"}},{"$f":"IF(AND(LEN($D43)>0,SUMIF($F$13:$J$13,Q$13,$F43:$J43)>0,ASISTENCIA!#REF!<>\"X\",ASISTENCIA!#REF!<>\"L\",ASISTENCIA!#REF!<>\"J\",ASISTENCIA!#REF!<>\"V\",ASISTENCIA!#REF!<>\"F\",ASISTENCIA!#REF!<>\"\"),SUMIF($F$13:$J$13,Q$13,$F43:$J43),\"\")","v":{"$error":"#REF!"}},{"$f":"IF(AND(LEN($D43)>0,SUMIF($F$13:$J$13,R$13,$F43:$J43)>0,ASISTENCIA!#REF!<>\"X\",ASISTENCIA!#REF!<>\"L\",ASISTENCIA!#REF!<>\"J\",ASISTENCIA!#REF!<>\"V\",ASISTENCIA!#REF!<>\"F\",ASISTENCIA!#REF!<>\"\"),SUMIF($F$13:$J$13,R$13,$F43:$J43),\"\")","v":{"$error":"#REF!"}},{"$f":"IF(AND(LEN($D43)>0,SUMIF($F$13:$J$13,S$13,$F43:$J43)>0,ASISTENCIA!#REF!<>\"X\",ASISTENCIA!#REF!<>\"L\",ASISTENCIA!#REF!<>\"J\",ASISTENCIA!#REF!<>\"V\",ASISTENCIA!#REF!<>\"F\",ASISTENCIA!#REF!<>\"\"),SUMIF($F$13:$J$13,S$13,$F43:$J43),\"\")","v":{"$error":"#REF!"}},{"$f":"IF(AND(LEN($D43)>0,SUMIF($F$13:$J$13,T$13,$F43:$J43)>0,ASISTENCIA!#REF!<>\"X\",ASISTENCIA!#REF!<>\"L\",ASISTENCIA!#REF!<>\"J\",ASISTENCIA!#REF!<>\"V\",ASISTENCIA!#REF!<>\"F\",ASISTENCIA!#REF!<>\"\"),SUMIF($F$13:$J$13,T$13,$F43:$J43),\"\")","v":{"$error":"#REF!"}},{"$f":"IF(AND(LEN($D43)>0,SUMIF($F$13:$J$13,U$13,$F43:$J43)>0,ASISTENCIA!#REF!<>\"X\",ASISTENCIA!#REF!<>\"L\",ASISTENCIA!#REF!<>\"J\",ASISTENCIA!#REF!<>\"V\",ASISTENCIA!#REF!<>\"F\",ASISTENCIA!#REF!<>\"\"),SUMIF($F$13:$J$13,U$13,$F43:$J43),\"\")","v":{"$error":"#REF!"}},{"$f":"IF(AND(LEN($D43)>0,SUMIF($F$13:$J$13,V$13,$F43:$J43)>0,ASISTENCIA!#REF!<>\"X\",ASISTENCIA!#REF!<>\"L\",ASISTENCIA!#REF!<>\"J\",ASISTENCIA!#REF!<>\"V\",ASISTENCIA!#REF!<>\"F\",ASISTENCIA!#REF!<>\"\"),SUMIF($F$13:$J$13,V$13,$F43:$J43),\"\")","v":{"$error":"#REF!"}},{"$f":"IF(AND(LEN($D43)>0,SUMIF($F$13:$J$13,W$13,$F43:$J43)>0,ASISTENCIA!#REF!<>\"X\",ASISTENCIA!#REF!<>\"L\",ASISTENCIA!#REF!<>\"J\",ASISTENCIA!#REF!<>\"V\",ASISTENCIA!#REF!<>\"F\",ASISTENCIA!#REF!<>\"\"),SUMIF($F$13:$J$13,W$13,$F43:$J43),\"\")","v":{"$error":"#REF!"}},{"$f":"IF(AND(LEN($D43)>0,SUMIF($F$13:$J$13,X$13,$F43:$J43)>0,ASISTENCIA!#REF!<>\"X\",ASISTENCIA!#REF!<>\"L\",ASISTENCIA!#REF!<>\"J\",ASISTENCIA!#REF!<>\"V\",ASISTENCIA!#REF!<>\"F\",ASISTENCIA!#REF!<>\"\"),SUMIF($F$13:$J$13,X$13,$F43:$J43),\"\")","v":{"$error":"#REF!"}},{"$f":"IF(AND(LEN($D43)>0,SUMIF($F$13:$J$13,Y$13,$F43:$J43)>0,ASISTENCIA!#REF!<>\"X\",ASISTENCIA!#REF!<>\"L\",ASISTENCIA!#REF!<>\"J\",ASISTENCIA!#REF!<>\"V\",ASISTENCIA!#REF!<>\"F\",ASISTENCIA!#REF!<>\"\"),SUMIF($F$13:$J$13,Y$13,$F43:$J43),\"\")","v":{"$error":"#REF!"}},{"$f":"IF(AND(LEN($D43)>0,SUMIF($F$13:$J$13,Z$13,$F43:$J43)>0,ASISTENCIA!#REF!<>\"X\",ASISTENCIA!#REF!<>\"L\",ASISTENCIA!#REF!<>\"J\",ASISTENCIA!#REF!<>\"V\",ASISTENCIA!#REF!<>\"F\",ASISTENCIA!#REF!<>\"\"),SUMIF($F$13:$J$13,Z$13,$F43:$J43),\"\")","v":{"$error":"#REF!"}},{"$f":"IF(AND(LEN($D43)>0,SUMIF($F$13:$J$13,AA$13,$F43:$J43)>0,ASISTENCIA!#REF!<>\"X\",ASISTENCIA!#REF!<>\"L\",ASISTENCIA!#REF!<>\"J\",ASISTENCIA!#REF!<>\"V\",ASISTENCIA!#REF!<>\"F\",ASISTENCIA!#REF!<>\"\"),SUMIF($F$13:$J$13,AA$13,$F43:$J43),\"\")","v":{"$error":"#REF!"}},{"$f":"IF(AND(LEN($D43)>0,SUMIF($F$13:$J$13,AB$13,$F43:$J43)>0,ASISTENCIA!#REF!<>\"X\",ASISTENCIA!#REF!<>\"L\",ASISTENCIA!#REF!<>\"J\",ASISTENCIA!#REF!<>\"V\",ASISTENCIA!#REF!<>\"F\",ASISTENCIA!#REF!<>\"\"),SUMIF($F$13:$J$13,AB$13,$F43:$J43),\"\")","v":{"$error":"#REF!"}},{"$f":"IF(AND(LEN($D43)>0,SUMIF($F$13:$J$13,AC$13,$F43:$J43)>0,ASISTENCIA!#REF!<>\"X\",ASISTENCIA!#REF!<>\"L\",ASISTENCIA!#REF!<>\"J\",ASISTENCIA!#REF!<>\"V\",ASISTENCIA!#REF!<>\"F\",ASISTENCIA!#REF!<>\"\"),SUMIF($F$13:$J$13,AC$13,$F43:$J43),\"\")","v":{"$error":"#REF!"}},{"$f":"IF(AND(LEN($D43)>0,SUMIF($F$13:$J$13,AD$13,$F43:$J43)>0,ASISTENCIA!#REF!<>\"X\",ASISTENCIA!#REF!<>\"L\",ASISTENCIA!#REF!<>\"J\",ASISTENCIA!#REF!<>\"V\",ASISTENCIA!#REF!<>\"F\",ASISTENCIA!#REF!<>\"\"),SUMIF($F$13:$J$13,AD$13,$F43:$J43),\"\")","v":{"$error":"#REF!"}},{"$f":"IF(AND(LEN($D43)>0,SUMIF($F$13:$J$13,AE$13,$F43:$J43)>0,ASISTENCIA!#REF!<>\"X\",ASISTENCIA!#REF!<>\"L\",ASISTENCIA!#REF!<>\"J\",ASISTENCIA!#REF!<>\"V\",ASISTENCIA!#REF!<>\"F\",ASISTENCIA!#REF!<>\"\"),SUMIF($F$13:$J$13,AE$13,$F43:$J43),\"\")","v":{"$error":"#REF!"}},{"$f":"IF(AND(LEN($D43)>0,SUMIF($F$13:$J$13,AF$13,$F43:$J43)>0,ASISTENCIA!#REF!<>\"X\",ASISTENCIA!#REF!<>\"L\",ASISTENCIA!#REF!<>\"J\",ASISTENCIA!#REF!<>\"V\",ASISTENCIA!#REF!<>\"F\",ASISTENCIA!#REF!<>\"\"),SUMIF($F$13:$J$13,AF$13,$F43:$J43),\"\")","v":{"$error":"#REF!"}},{"$f":"IF(AND(LEN($D43)>0,SUMIF($F$13:$J$13,AG$13,$F43:$J43)>0,ASISTENCIA!#REF!<>\"X\",ASISTENCIA!#REF!<>\"L\",ASISTENCIA!#REF!<>\"J\",ASISTENCIA!#REF!<>\"V\",ASISTENCIA!#REF!<>\"F\",ASISTENCIA!#REF!<>\"\"),SUMIF($F$13:$J$13,AG$13,$F43:$J43),\"\")","v":{"$error":"#REF!"}},{"$f":"IF(AND(LEN($D43)>0,SUMIF($F$13:$J$13,AH$13,$F43:$J43)>0,ASISTENCIA!#REF!<>\"X\",ASISTENCIA!#REF!<>\"L\",ASISTENCIA!#REF!<>\"J\",ASISTENCIA!#REF!<>\"V\",ASISTENCIA!#REF!<>\"F\",ASISTENCIA!#REF!<>\"\"),SUMIF($F$13:$J$13,AH$13,$F43:$J43),\"\")","v":{"$error":"#REF!"}},{"$f":"IF(AND(LEN($D43)>0,SUMIF($F$13:$J$13,AI$13,$F43:$J43)>0,ASISTENCIA!#REF!<>\"X\",ASISTENCIA!#REF!<>\"L\",ASISTENCIA!#REF!<>\"J\",ASISTENCIA!#REF!<>\"V\",ASISTENCIA!#REF!<>\"F\",ASISTENCIA!#REF!<>\"\"),SUMIF($F$13:$J$13,AI$13,$F43:$J43),\"\")","v":{"$error":"#REF!"}},{"$f":"IF(AND(LEN($D43)>0,SUMIF($F$13:$J$13,AJ$13,$F43:$J43)>0,ASISTENCIA!#REF!<>\"X\",ASISTENCIA!#REF!<>\"L\",ASISTENCIA!#REF!<>\"J\",ASISTENCIA!#REF!<>\"V\",ASISTENCIA!#REF!<>\"F\",ASISTENCIA!#REF!<>\"\"),SUMIF($F$13:$J$13,AJ$13,$F43:$J43),\"\")","v":{"$error":"#REF!"}},{"$f":"IF(AND(LEN($D43)>0,SUMIF($F$13:$J$13,AK$13,$F43:$J43)>0,ASISTENCIA!#REF!<>\"X\",ASISTENCIA!#REF!<>\"L\",ASISTENCIA!#REF!<>\"J\",ASISTENCIA!#REF!<>\"V\",ASISTENCIA!#REF!<>\"F\",ASISTENCIA!#REF!<>\"\"),SUMIF($F$13:$J$13,AK$13,$F43:$J43),\"\")","v":{"$error":"#REF!"}},{"$f":"IF(AND(LEN($D43)>0,SUMIF($F$13:$J$13,AL$13,$F43:$J43)>0,ASISTENCIA!#REF!<>\"X\",ASISTENCIA!#REF!<>\"L\",ASISTENCIA!#REF!<>\"J\",ASISTENCIA!#REF!<>\"V\",ASISTENCIA!#REF!<>\"F\",ASISTENCIA!#REF!<>\"\"),SUMIF($F$13:$J$13,AL$13,$F43:$J43),\"\")","v":{"$error":"#REF!"}},{"$f":"IF(AND(LEN($D43)>0,SUMIF($F$13:$J$13,AM$13,$F43:$J43)>0,ASISTENCIA!#REF!<>\"X\",ASISTENCIA!#REF!<>\"L\",ASISTENCIA!#REF!<>\"J\",ASISTENCIA!#REF!<>\"V\",ASISTENCIA!#REF!<>\"F\",ASISTENCIA!#REF!<>\"\"),SUMIF($F$13:$J$13,AM$13,$F43:$J43),\"\")","v":{"$error":"#REF!"}},{"$f":"IF(AND(LEN($D43)>0,SUMIF($F$13:$J$13,AN$13,$F43:$J43)>0,ASISTENCIA!#REF!<>\"X\",ASISTENCIA!#REF!<>\"L\",ASISTENCIA!#REF!<>\"J\",ASISTENCIA!#REF!<>\"V\",ASISTENCIA!#REF!<>\"F\",ASISTENCIA!#REF!<>\"\"),SUMIF($F$13:$J$13,AN$13,$F43:$J43),\"\")","v":{"$error":"#REF!"}},{"$f":"IF(AND(LEN($D43)>0,SUMIF($F$13:$J$13,AO$13,$F43:$J43)>0,ASISTENCIA!#REF!<>\"X\",ASISTENCIA!#REF!<>\"L\",ASISTENCIA!#REF!<>\"J\",ASISTENCIA!#REF!<>\"V\",ASISTENCIA!#REF!<>\"F\",ASISTENCIA!#REF!<>\"\"),SUMIF($F$13:$J$13,AO$13,$F43:$J43),\"\")","v":{"$error":"#REF!"}},{"$f":"IF(AND(LEN($D43)>0,SUMIF($F$13:$J$13,AP$13,$F43:$J43)>0,ASISTENCIA!#REF!<>\"X\",ASISTENCIA!#REF!<>\"L\",ASISTENCIA!#REF!<>\"J\",ASISTENCIA!#REF!<>\"V\",ASISTENCIA!#REF!<>\"F\",ASISTENCIA!#REF!<>\"\"),SUMIF($F$13:$J$13,AP$13,$F43:$J43),\"\")","v":{"$error":"#REF!"}},{"$f":"IF(AND(LEN($D43)>0,SUMIF($F$13:$J$13,AQ$13,$F43:$J43)>0,ASISTENCIA!#REF!<>\"X\",ASISTENCIA!#REF!<>\"L\",ASISTENCIA!#REF!<>\"J\",ASISTENCIA!#REF!<>\"V\",ASISTENCIA!#REF!<>\"F\",ASISTENCIA!#REF!<>\"\"),SUMIF($F$13:$J$13,AQ$13,$F43:$J43),\"\")","v":{"$error":"#REF!"}},{"$f":"IF(AND(LEN($D43)>0,SUMIF($F$13:$J$13,AR$13,$F43:$J43)>0,ASISTENCIA!#REF!<>\"X\",ASISTENCIA!#REF!<>\"L\",ASISTENCIA!#REF!<>\"J\",ASISTENCIA!#REF!<>\"V\",ASISTENCIA!#REF!<>\"F\",ASISTENCIA!#REF!<>\"\"),SUMIF($F$13:$J$13,AR$13,$F43:$J43),\"\")","v":{"$error":"#REF!"}},{"$f":"IF(AND(LEN($D43)>0,SUMIF($F$13:$J$13,AS$13,$F43:$J43)>0,ASISTENCIA!#REF!<>\"X\",ASISTENCIA!#REF!<>\"L\",ASISTENCIA!#REF!<>\"J\",ASISTENCIA!#REF!<>\"V\",ASISTENCIA!#REF!<>\"F\",ASISTENCIA!#REF!<>\"\"),SUMIF($F$13:$J$13,AS$13,$F43:$J43),\"\")","v":{"$error":"#REF!"}},{"$error":"#REF!"},null,null,null,{"$f":"IF(AND(LEN($D43)>0,SUMIF($F$13:$J$13,AX$13,$F43:$J43)>0,ASISTENCIA!#REF!<>\"X\",ASISTENCIA!#REF!<>\"L\",ASISTENCIA!#REF!<>\"J\",ASISTENCIA!#REF!<>\"F\"),SUMIF($F$13:$J$13,AX$13,$F43:$J43),\"\")","v":{"$error":"#REF!"}},{"$f":"IF(AND(LEN($D43)>0,SUMIF($F$13:$J$13,AY$13,$F43:$J43)>0,ASISTENCIA!#REF!<>\"X\",ASISTENCIA!#REF!<>\"L\",ASISTENCIA!#REF!<>\"J\",ASISTENCIA!#REF!<>\"F\"),SUMIF($F$13:$J$13,AY$13,$F43:$J43),\"\")","v":{"$error":"#REF!"}},{"$f":"IF(AND(LEN($D43)>0,SUMIF($F$13:$J$13,AZ$13,$F43:$J43)>0,ASISTENCIA!#REF!<>\"X\",ASISTENCIA!#REF!<>\"L\",ASISTENCIA!#REF!<>\"J\",ASISTENCIA!#REF!<>\"F\"),SUMIF($F$13:$J$13,AZ$13,$F43:$J43),\"\")","v":{"$error":"#REF!"}},{"$f":"IF(AND(LEN($D43)>0,SUMIF($F$13:$J$13,BA$13,$F43:$J43)>0,ASISTENCIA!#REF!<>\"X\",ASISTENCIA!#REF!<>\"L\",ASISTENCIA!#REF!<>\"J\",ASISTENCIA!#REF!<>\"F\"),SUMIF($F$13:$J$13,BA$13,$F43:$J43),\"\")","v":{"$error":"#REF!"}},{"$f":"IF(AND(LEN($D43)>0,SUMIF($F$13:$J$13,BB$13,$F43:$J43)>0,ASISTENCIA!#REF!<>\"X\",ASISTENCIA!#REF!<>\"L\",ASISTENCIA!#REF!<>\"J\",ASISTENCIA!#REF!<>\"F\"),SUMIF($F$13:$J$13,BB$13,$F43:$J43),\"\")","v":{"$error":"#REF!"}},{"$f":"IF(AND(LEN($D43)>0,SUMIF($F$13:$J$13,BC$13,$F43:$J43)>0,ASISTENCIA!#REF!<>\"X\",ASISTENCIA!#REF!<>\"L\",ASISTENCIA!#REF!<>\"J\",ASISTENCIA!#REF!<>\"F\"),SUMIF($F$13:$J$13,BC$13,$F43:$J43),\"\")","v":{"$error":"#REF!"}},{"$f":"IF(AND(LEN($D43)>0,SUMIF($F$13:$J$13,BD$13,$F43:$J43)>0,ASISTENCIA!#REF!<>\"X\",ASISTENCIA!#REF!<>\"L\",ASISTENCIA!#REF!<>\"J\",ASISTENCIA!#REF!<>\"F\"),SUMIF($F$13:$J$13,BD$13,$F43:$J43),\"\")","v":{"$error":"#REF!"}},{"$f":"IF(AND(LEN($D43)>0,SUMIF($F$13:$J$13,BE$13,$F43:$J43)>0,ASISTENCIA!#REF!<>\"X\",ASISTENCIA!#REF!<>\"L\",ASISTENCIA!#REF!<>\"J\",ASISTENCIA!#REF!<>\"F\"),SUMIF($F$13:$J$13,BE$13,$F43:$J43),\"\")","v":{"$error":"#REF!"}},{"$f":"IF(AND(LEN($D43)>0,SUMIF($F$13:$J$13,BF$13,$F43:$J43)>0,ASISTENCIA!#REF!<>\"X\",ASISTENCIA!#REF!<>\"L\",ASISTENCIA!#REF!<>\"J\",ASISTENCIA!#REF!<>\"F\"),SUMIF($F$13:$J$13,BF$13,$F43:$J43),\"\")","v":{"$error":"#REF!"}},{"$f":"IF(AND(LEN($D43)>0,SUMIF($F$13:$J$13,BG$13,$F43:$J43)>0,ASISTENCIA!#REF!<>\"X\",ASISTENCIA!#REF!<>\"L\",ASISTENCIA!#REF!<>\"J\",ASISTENCIA!#REF!<>\"F\"),SUMIF($F$13:$J$13,BG$13,$F43:$J43),\"\")","v":{"$error":"#REF!"}},{"$f":"IF(AND(LEN($D43)>0,SUMIF($F$13:$J$13,BH$13,$F43:$J43)>0,ASISTENCIA!#REF!<>\"X\",ASISTENCIA!#REF!<>\"L\",ASISTENCIA!#REF!<>\"J\",ASISTENCIA!#REF!<>\"F\"),SUMIF($F$13:$J$13,BH$13,$F43:$J43),\"\")","v":{"$error":"#REF!"}},{"$f":"IF(AND(LEN($D43)>0,SUMIF($F$13:$J$13,BI$13,$F43:$J43)>0,ASISTENCIA!#REF!<>\"X\",ASISTENCIA!#REF!<>\"L\",ASISTENCIA!#REF!<>\"J\",ASISTENCIA!#REF!<>\"F\"),SUMIF($F$13:$J$13,BI$13,$F43:$J43),\"\")","v":{"$error":"#REF!"}},{"$f":"IF(AND(LEN($D43)>0,SUMIF($F$13:$J$13,BJ$13,$F43:$J43)>0,ASISTENCIA!#REF!<>\"X\",ASISTENCIA!#REF!<>\"L\",ASISTENCIA!#REF!<>\"J\",ASISTENCIA!#REF!<>\"F\"),SUMIF($F$13:$J$13,BJ$13,$F43:$J43),\"\")","v":{"$error":"#REF!"}},{"$f":"IF(AND(LEN($D43)>0,SUMIF($F$13:$J$13,BK$13,$F43:$J43)>0,ASISTENCIA!#REF!<>\"X\",ASISTENCIA!#REF!<>\"L\",ASISTENCIA!#REF!<>\"J\",ASISTENCIA!#REF!<>\"F\"),SUMIF($F$13:$J$13,BK$13,$F43:$J43),\"\")","v":{"$error":"#REF!"}},{"$f":"IF(AND(LEN($D43)>0,SUMIF($F$13:$J$13,BL$13,$F43:$J43)>0,ASISTENCIA!#REF!<>\"X\",ASISTENCIA!#REF!<>\"L\",ASISTENCIA!#REF!<>\"J\",ASISTENCIA!#REF!<>\"F\"),SUMIF($F$13:$J$13,BL$13,$F43:$J43),\"\")","v":{"$error":"#REF!"}},{"$f":"IF(AND(LEN($D43)>0,SUMIF($F$13:$J$13,BM$13,$F43:$J43)>0,ASISTENCIA!#REF!<>\"X\",ASISTENCIA!#REF!<>\"L\",ASISTENCIA!#REF!<>\"J\",ASISTENCIA!#REF!<>\"F\"),SUMIF($F$13:$J$13,BM$13,$F43:$J43),\"\")","v":{"$error":"#REF!"}},{"$f":"IF(AND(LEN($D43)>0,SUMIF($F$13:$J$13,BN$13,$F43:$J43)>0,ASISTENCIA!#REF!<>\"X\",ASISTENCIA!#REF!<>\"L\",ASISTENCIA!#REF!<>\"J\",ASISTENCIA!#REF!<>\"F\"),SUMIF($F$13:$J$13,BN$13,$F43:$J43),\"\")","v":{"$error":"#REF!"}},{"$f":"IF(AND(LEN($D43)>0,SUMIF($F$13:$J$13,BO$13,$F43:$J43)>0,ASISTENCIA!#REF!<>\"X\",ASISTENCIA!#REF!<>\"L\",ASISTENCIA!#REF!<>\"J\",ASISTENCIA!#REF!<>\"F\"),SUMIF($F$13:$J$13,BO$13,$F43:$J43),\"\")","v":{"$error":"#REF!"}},{"$f":"IF(AND(LEN($D43)>0,SUMIF($F$13:$J$13,BP$13,$F43:$J43)>0,ASISTENCIA!#REF!<>\"X\",ASISTENCIA!#REF!<>\"L\",ASISTENCIA!#REF!<>\"J\",ASISTENCIA!#REF!<>\"F\"),SUMIF($F$13:$J$13,BP$13,$F43:$J43),\"\")","v":{"$error":"#REF!"}},{"$f":"IF(AND(LEN($D43)>0,SUMIF($F$13:$J$13,BQ$13,$F43:$J43)>0,ASISTENCIA!#REF!<>\"X\",ASISTENCIA!#REF!<>\"L\",ASISTENCIA!#REF!<>\"J\",ASISTENCIA!#REF!<>\"F\"),SUMIF($F$13:$J$13,BQ$13,$F43:$J43),\"\")","v":{"$error":"#REF!"}},{"$f":"IF(AND(LEN($D43)>0,SUMIF($F$13:$J$13,BR$13,$F43:$J43)>0,ASISTENCIA!#REF!<>\"X\",ASISTENCIA!#REF!<>\"L\",ASISTENCIA!#REF!<>\"J\",ASISTENCIA!#REF!<>\"F\"),SUMIF($F$13:$J$13,BR$13,$F43:$J43),\"\")","v":{"$error":"#REF!"}},{"$f":"IF(AND(LEN($D43)>0,SUMIF($F$13:$J$13,BS$13,$F43:$J43)>0,ASISTENCIA!#REF!<>\"X\",ASISTENCIA!#REF!<>\"L\",ASISTENCIA!#REF!<>\"J\",ASISTENCIA!#REF!<>\"F\"),SUMIF($F$13:$J$13,BS$13,$F43:$J43),\"\")","v":{"$error":"#REF!"}},{"$f":"IF(AND(LEN($D43)>0,SUMIF($F$13:$J$13,BT$13,$F43:$J43)>0,ASISTENCIA!#REF!<>\"X\",ASISTENCIA!#REF!<>\"L\",ASISTENCIA!#REF!<>\"J\",ASISTENCIA!#REF!<>\"F\"),SUMIF($F$13:$J$13,BT$13,$F43:$J43),\"\")","v":{"$error":"#REF!"}},{"$f":"IF(AND(LEN($D43)>0,SUMIF($F$13:$J$13,BU$13,$F43:$J43)>0,ASISTENCIA!#REF!<>\"X\",ASISTENCIA!#REF!<>\"L\",ASISTENCIA!#REF!<>\"J\",ASISTENCIA!#REF!<>\"F\"),SUMIF($F$13:$J$13,BU$13,$F43:$J43),\"\")","v":{"$error":"#REF!"}},{"$f":"IF(AND(LEN($D43)>0,SUMIF($F$13:$J$13,BV$13,$F43:$J43)>0,ASISTENCIA!#REF!<>\"X\",ASISTENCIA!#REF!<>\"L\",ASISTENCIA!#REF!<>\"J\",ASISTENCIA!#REF!<>\"F\"),SUMIF($F$13:$J$13,BV$13,$F43:$J43),\"\")","v":{"$error":"#REF!"}},{"$f":"IF(AND(LEN($D43)>0,SUMIF($F$13:$J$13,BW$13,$F43:$J43)>0,ASISTENCIA!#REF!<>\"X\",ASISTENCIA!#REF!<>\"L\",ASISTENCIA!#REF!<>\"J\",ASISTENCIA!#REF!<>\"F\"),SUMIF($F$13:$J$13,BW$13,$F43:$J43),\"\")","v":{"$error":"#REF!"}},{"$f":"IF(AND(LEN($D43)>0,SUMIF($F$13:$J$13,BX$13,$F43:$J43)>0,ASISTENCIA!#REF!<>\"X\",ASISTENCIA!#REF!<>\"L\",ASISTENCIA!#REF!<>\"J\",ASISTENCIA!#REF!<>\"F\"),SUMIF($F$13:$J$13,BX$13,$F43:$J43),\"\")","v":{"$error":"#REF!"}},{"$f":"IF(AND(LEN($D43)>0,SUMIF($F$13:$J$13,BY$13,$F43:$J43)>0,ASISTENCIA!#REF!<>\"X\",ASISTENCIA!#REF!<>\"L\",ASISTENCIA!#REF!<>\"J\",ASISTENCIA!#REF!<>\"F\"),SUMIF($F$13:$J$13,BY$13,$F43:$J43),\"\")","v":{"$error":"#REF!"}},{"$f":"IF(AND(LEN($D43)>0,SUMIF($F$13:$J$13,BZ$13,$F43:$J43)>0,ASISTENCIA!#REF!<>\"X\",ASISTENCIA!#REF!<>\"L\",ASISTENCIA!#REF!<>\"J\",ASISTENCIA!#REF!<>\"F\"),SUMIF($F$13:$J$13,BZ$13,$F43:$J43),\"\")","v":{"$error":"#REF!"}},{"$f":"IF(AND(LEN($D43)>0,SUMIF($F$13:$J$13,CA$13,$F43:$J43)>0,ASISTENCIA!#REF!<>\"X\",ASISTENCIA!#REF!<>\"L\",ASISTENCIA!#REF!<>\"J\",ASISTENCIA!#REF!<>\"F\"),SUMIF($F$13:$J$13,CA$13,$F43:$J43),\"\")","v":{"$error":"#REF!"}},{"$f":"IF(AND(LEN($D43)>0,SUMIF($F$13:$J$13,CB$13,$F43:$J43)>0,ASISTENCIA!#REF!<>\"X\",ASISTENCIA!#REF!<>\"L\",ASISTENCIA!#REF!<>\"J\",ASISTENCIA!#REF!<>\"F\"),SUMIF($F$13:$J$13,CB$13,$F43:$J43),\"\")","v":{"$error":"#REF!"}},{"$error":"#REF!"}]
[]
["(*) No se considera los días feriados",null,null,null,null,null,null,null,null,null,null,null,null,{"$f":"SUM(N14:N43)","v":{"$error":"#REF!"}},null,null,null,null,null,null,null,null,null,null,null,null,null,null,null,null,null,null,null,null,null,null,null,null,null,null,null,null,null,null,null,{"$f":"SUM(AT14:AT43)","v":{"$error":"#REF!"}},null,null,null,null,null,null,null,null,null,null,null,null,null,null,null,null,null,null,null,null,null,null,null,null,null,null,null,null,null,null,null,null,null,null,{"$f":"SUM(CC14:CC43)","v":{"$error":"#REF!"}}]
["LEYENDA"]
["J: Falta justificada",null,null,null,null,null,null,null,null,null,null,null,null,null,null,null,null,null,null,null,null,null,"Nivel Inicial : 1 dia : 5 horas",null,null,null,null,null,null,null,null,null,null,null,null,null,null,null,null,null,null,null,null,null,null,null,null,null,null,null,null,null,null,null,null,null,null,"Nivel Inicial : 1 dia : 5 horas"]
["I: Falta Injustificada",null,null,null,null,null,null,null,null,null,null,null,null,null,null,null,null,null,null,null,null,null,"Nivel Primaria : 1 día : 6 horas",null,null,null,null,null,null,null,null,null,null,null,null,null,null,null,null,null,null,null,null,null,null,null,null,null,null,null,null,null,null,null,null,null,null,"Nivel Primaria : 1 día : 6 horas"]
["F: Dia Feriado",null,null,null,null,null,null,null,null,null,null,null,null,null,null,null,null,null,null,null,null,null,"Nivel Secundaria :1 día : 7 horas",null,null,null,null,null,null,null,null,null,null,null,null,null,null,null,null,null,null,null,null,null,null,null,null,null,null,null,null,null,null,null,null,null,null,"Nivel Secundaria :1 día : 7 horas"]
["CRT: Centro de Recursos Tecnológicos"]
["AIP: Aula de Innovación Pedagógica"]
["TQ: Taller de Quechua"]
["TD: Taller de Danza"]
[null,null,null,null,null,null,null,null,null,null,null,"DIRECTOR (A) DE INSTITUCIÓN EDUCATIVA",null,null,null,null,null,null,null,null,null,null,null,null,null,null,null,null,null,null,null,null,null,"V° B° REPRESENTANTE CONOEI",null,null,null,null,null,null,null,null,null,null,null,null,null,null,null,null,null,null,null,null,null,null,null,null,null,null,null,null,null,null,null,null,null,null,"V° B° REPRESENTANTE CONOEI"]

{"sheet":"DATA","index":5,"n_rows":302,"n_cols":14,"rows_kept":302,"cut":false,"hidden":true,"merged":[[0,11,2,11],[0,12,2,12],[0,3,2,3],[0,6,2,6],[0,7,2,7],[0,8,2,8],[0,9,2,9],[0,10,2,10]]}
["",null,"","Distrito / Centro Poblado","","","# Tot Doc, Aux, Adm","# Doc","# Doc Nomb","# Doc Contr","# Doc Espjo","# Aux Ed","# Adm"]
["Cód. Mod.","Nombre de IE","Nivel",null,"Distrito","Centro Poblado",null,null,null,null,null,null,null,"# CAS"]
["","","",null,"",""]
["01245465","PRONOEI","A1 Inicial No Escolarizado",{"$f":"CONCATENATE(E4,\" / \",F4)","v":"ILAVE / 5 Distritos"},"ILAVE","5 Distritos"]
["0474577","216","A2 - Inicial - Jardín              ",{"$f":"CONCATENATE(E5,\" / \",F5)","v":"ILAVE / BELLAVISTA"},"ILAVE","BELLAVISTA",5,3,2,1,0,1,1]
["0474585",217,"A2 - Inicial - Jardín              ",{"$f":"CONCATENATE(E6,\" / \",F6)","v":"PILCUYO / 18 DE ENERO"},"PILCUYO","18 DE ENERO",6,3,3,0,1,1,1]
["0500538","220","A2 - Inicial - Jardín              ","SANTA ROSA / 3 DE MAYO","SANTA ROSA","3 DE MAYO",5,3,0,3,0,1,1]
["0474601","223","A2 - Inicial - Jardín              ","ILAVE / SAN MIGUEL","ILAVE","SAN MIGUEL",6,3,3,0,0,2,1]
["0229765","246 MI SEGUNDO HOGAR","A2 - Inicial - Jardín              ","ILAVE / ALASAYA","ILAVE","ALASAYA",19,11,8,3,1,5,2]
["0539650","259","A2 - Inicial - Jardín              ","CONDURIRI / MUNICIPAL","CONDURIRI","MUNICIPAL",4,2,0,2,0,1,1]
["0574889","260","A2 - Inicial - Jardín              ","ILAVE / RAMON CASTILLA","ILAVE","RAMON CASTILLA",7,4,3,1,1,1,1]
["0539452","265","A2 - Inicial - Jardín              ","PILCUYO / SUCANO","PILCUYO","SUCANO",1,1,1,0,0,0,0]
["0539551","266","A2 - Inicial - Jardín              ","ILAVE / SULCATURA 1","ILAVE","SULCATURA 1",2,1,1,0,0,0,1]
["0549006","267","A2 - Inicial - Jardín              ","SANTA ROSA / SANTA ROSA","SANTA ROSA","SANTA ROSA",2,2,0,2,0,0,0]
["0755371","301","A2 - Inicial - Jardín              ","PILCUYO / CHIPANA","PILCUYO","CHIPANA",1,1,1,0,0,0,0]
["0744250","302","A2 - Inicial - Jardín              ","ILAVE / CRUZANI","ILAVE","CRUZANI",7,4,3,1,0,2,1]
["0744268","303","A2 - Inicial - Jardín              ","ILAVE / ILAVE","ILAVE","ILAVE",5,3,3,0,0,1,1]
["0744276","304","A2 - Inicial - Jardín              ","ILAVE / PORVENIR MIRAFLORES","ILAVE","PORVENIR MIRAFLORES",7,4,4,0,0,2,1]
["0799288","306","A2 - Inicial - Jardín              ","ILAVE / MULLACONIHUECO","ILAVE","MULLACONIHUECO",2,1,1,0,0,0,1]
["0799296","307","A2 - Inicial - Jardín              ","ILAVE / CHIJICHAYA","ILAVE","CHIJICHAYA",4,3,2,1,0,1,0]
["0755389","309","A2 - Inicial - Jardín              ","PILCUYO / MACHATMARCA","PILCUYO","MACHATMARCA",1,1,1,0,0,0,0]
["1027028",310,"A2 - Inicial - Jardín              ","ILAVE / CAMECACHI","ILAVE","CAMECACHI",3,2,2,0,0,1,0]
["0799395","311","A2 - Inicial - Jardín              ","PILCUYO / MAQUERCOTA","PILCUYO","MAQUERCOTA",1,1,1,0,0,0,0]
["1027192","314","A2 - Inicial - Jardín              ","ILAVE / SAN CRISTOBAL","ILAVE","SAN CRISTOBAL",4,3,2,1,0,1,0]
["1027234","315","A2 - Inicial - Jardín              ","ILAVE / CHUCARAYA","ILAVE","CHUCARAYA",2,2,1,1,0,0,0]
["1027242","316","A2 - Inicial - Jardín              ","ILAVE / ULLACACHI","ILAVE","ULLACACHI",1,1,1,0,0,0,0]
["1027101","317","A2 - Inicial - Jardín              ","PILCUYO / SARAPI ARROYO","PILCUYO","SARAPI ARROYO",1,1,0,1,0,0,0]
["1027119","318","A2 - Inicial - Jardín              ","PILCUYO / ACCASO","PILCUYO","ACCASO",3,2,1,1,0,0,1]
["1027143","319","A2 - Inicial - Jardín              ","ILAVE / CHECCA","ILAVE","CHECCA",1,1,1,0,0,0,0]
["1027499","320","A2 - Inicial - Jardín              ","PILCUYO / MARCOLLO","PILCUYO","MARCOLLO",2,1,1,0,0,0,1]
["1030014","351","A2 - Inicial - Jardín              ","ILAVE / SANTA BARBARA","ILAVE","SANTA BARBARA",8,4,3,1,1,2,1]
["1027044","365","A2 - Inicial - Jardín              ","ILAVE / BELLAVISTA","ILAVE","BELLAVISTA",8,4,2,2,1,2,1]
["1576149","402","A2 - Inicial - Jardín              ","ILAVE / ILAVE","ILAVE","ILAVE",4,3,0,3,0,1,0]
["1472505","694","A2 - Inicial - Jardín              ","ILAVE / ANCOAMAYA","ILAVE","ANCOAMAYA",1,1,1,0,0,0,0]
["1472521","695","A2 - Inicial - Jardín              ","ILAVE / CALLATA","ILAVE","CALLATA",1,1,1,0,0,0,0]
["1472539","696","A2 - Inicial - Jardín              ","ILAVE / CANGALLI ACHANTUYO","ILAVE","CANGALLI ACHANTUYO",1,1,1,0,0,0,0]
["1472547","697","A2 - Inicial - Jardín              ","CAPAZO / CAPASO","CAPAZO","CAPASO",1,1,0,1,0,0,0]
["1472554","698","A2 - Inicial - Jardín              ","ILAVE / CATAMURO II","ILAVE","CATAMURO II",1,1,1,0,0,0,0]
["1472562","699","A2 - Inicial - Jardín              ","ILAVE / CHIJUYO COPAPUJO","ILAVE","CHIJUYO COPAPUJO",1,1,1,0,0,0,0]
["1472570","700","A2 - Inicial - Jardín              ","ILAVE / CHURO MAQUERA","ILAVE","CHURO MAQUERA",2,2,1,1,0,0,0]
["1472604","701","A2 - Inicial - Jardín              ","ILAVE / OCOÑA","ILAVE","OCOÑA",1,1,0,1,0,0,0]
["1472612","702","A2 - Inicial - Jardín              ","ILAVE / PHARATA COPANI","ILAVE","PHARATA COPANI",1,1,1,0,0,0,0]
["1472620","703","A2 - Inicial - Jardín              ","PILCUYO / PUCARA","PILCUYO","PUCARA",1,1,1,0,0,0,0]
["1472638","704","A2 - Inicial - Jardín              ","PILCUYO / SACARI TITICACHI","PILCUYO","SACARI TITICACHI",1,1,0,1,0,0,0]
["1472646","705","A2 - Inicial - Jardín              ","ILAVE / URANI","ILAVE","URANI",1,1,0,1,0,0,0]
["1472653","706","A2 - Inicial - Jardín              ","PILCUYO / CACHIPUCARA","PILCUYO","CACHIPUCARA",1,1,0,1,0,0,0]
["1472661","707","A2 - Inicial - Jardín              ","ILAVE / JACHOCCO HUARACCO","ILAVE","JACHOCCO HUARACCO",4,3,0,3,0,1,0]
["1472679","708","A2 - Inicial - Jardín              ","ILAVE / LACAYA","ILAVE","LACAYA",1,1,1,0,0,0,0]
["1472687","709","A2 - Inicial - Jardín              ","ILAVE / PANTIHUECO","ILAVE","PANTIHUECO",1,1,1,0,0,0,0]
["1472695","710","A2 - Inicial - Jardín              ","ILAVE / POQUICHILLA","ILAVE","POQUICHILLA",1,1,1,0,0,0,0]
["1472703",711,"A2 - Inicial - Jardín              ","ILAVE / ROSACANI","ILAVE","ROSACANI",2,2,0,2,0,0,0]
["1472711","712","A2 - Inicial - Jardín              ","ILAVE / SIRAYA","ILAVE","SIRAYA",2,2,0,2,0,0,0]
["1472729","713","A2 - Inicial - Jardín              ","ILAVE / TANAPACA","ILAVE","TANAPACA",1,1,1,0,0,0,0]
["1493089","714","A2 - Inicial - Jardín              ","ILAVE / LACACHI","ILAVE","LACACHI",1,1,0,1,0,0,0]
["1540939","715","A2 - Inicial - Jardín              ","ILAVE / PAJJCHA CCACCAPI","ILAVE","PAJJCHA CCACCAPI",1,1,1,0,0,0,0]
["1564624","717","A2 - Inicial - Jardín              ","PILCUYO / PACCO BEBEDERO","PILCUYO","PACCO BEBEDERO",1,1,1,0,0,0,0]
["1472588","718","A2 - Inicial - Jardín              ","ILAVE / COLLATA","ILAVE","COLLATA",1,1,1,0,0,0,0]
["1472596","719","A2 - Inicial - Jardín              ","ILAVE / HUANCARANI","ILAVE","HUANCARANI",1,1,1,0,0,0,0]
["1472737","720","A2 - Inicial - Jardín              ","ILAVE / COLLOCO HUAYCHANI","ILAVE","COLLOCO HUAYCHANI",1,1,1,0,0,0,0]
["1472513","721","A2 - Inicial - Jardín              ","SANTA ROSA / AYUPALCA","SANTA ROSA","AYUPALCA",1,1,0,1,0,0,0]
["1556695","722","A2 - Inicial - Jardín              ","SANTA ROSA / SULCANACA","SANTA ROSA","SULCANACA",1,1,0,1,0,0,0]
["1556604","723","A2 - Inicial - Jardín              ","SANTA ROSA / MAZOCRUZ","SANTA ROSA","MAZOCRUZ",2,2,0,2,0,0,0]
["1556489","724","A2 - Inicial - Jardín              ","ILAVE / ILAVE","ILAVE","ILAVE",2,2,1,1,0,0,0]
["1556521","725","A2 - Inicial - Jardín              ","ILAVE / CHECACHATA","ILAVE","CHECACHATA",1,1,0,1,0,0,0]
["1556687","726","A2 - Inicial - Jardín              ","ILAVE / SIMILLACA","ILAVE","SIMILLACA",1,1,1,0,0,0,0]
["1556505","727","A2 - Inicial - Jardín              ","ILAVE / CHALLOCOLLO","ILAVE","CHALLOCOLLO",1,1,1,0,0,0,0]
["1556471","728","A2 - Inicial - Jardín              ","ILAVE / APHARUNI","ILAVE","APHARUNI",1,1,1,0,0,0,0]
["1556596","729","A2 - Inicial - Jardín              ","ILAVE / JARANI","ILAVE","JARANI",1,1,1,0,0,0,0]
["1556547","730","A2 - Inicial - Jardín              ","ILAVE / COMPACAZO","ILAVE","COMPACAZO",1,1,1,0,0,0,0]
["1556638","731","A2 - Inicial - Jardín              ",{"$f":"CONCATENATE(E70,\" / \",F70)","v":"ILAVE / PICHINCUTA"},"ILAVE","PICHINCUTA",1,1,1,0,0,0,0]
["1556554","732","A2 - Inicial - Jardín              ","ILAVE / CONCHACA","ILAVE","CONCHACA",2,2,1,1,0,0,0]
["1556570","733","A2 - Inicial - Jardín              ","ILAVE / HUARAHUARANI","ILAVE","HUARAHUARANI",1,1,0,1,0,0,0]
["1556562","734","A2 - Inicial - Jardín              ","ILAVE / CUTINI PUCARA","ILAVE","CUTINI PUCARA",1,1,0,1,0,0,0]
["1556679","735","A2 - Inicial - Jardín              ","ILAVE / SANTA ROSA DE HUAYLLATA","ILAVE","SANTA ROSA DE HUAYLLATA",1,1,0,1,0,0,0]
["1556653","736","A2 - Inicial - Jardín              ","ILAVE / HUINI HUININI","ILAVE","HUINI HUININI",1,1,0,1,0,0,0]
["1564616","737","A2 - Inicial - Jardín              ","ILAVE / CALACOTA","ILAVE","CALACOTA",1,1,1,0,0,0,0]
["1556497","738","A2 - Inicial - Jardín              ","PILCUYO / CAÑA MAQUERA","PILCUYO","CAÑA MAQUERA",1,1,1,0,0,0,0]
["1556703","739","A2 - Inicial - Jardín              ","PILCUYO / TARACANCAMAYA / CANCAMAYA","PILCUYO","TARACANCAMAYA / CANCAMAYA",1,1,1,0,0,0,0]
["1556612","740","A2 - Inicial - Jardín              ","PILCUYO / MULLACANI","PILCUYO","MULLACANI",1,1,1,0,0,0,0]
["1556646","741","A2 - Inicial - Jardín              ","PILCUYO / QUETY","PILCUYO","QUETY",1,1,1,0,0,0,0]
["1556588","742","A2 - Inicial - Jardín              ","PILCUYO / HUARIQUISAMA","PILCUYO","HUARIQUISAMA",1,1,1,0,0,0,0]
["1556539","743","A2 - Inicial - Jardín              ","PILCUYO / CHOJÑA CHOJÑANI","PILCUYO","CHOJÑA CHOJÑANI",1,1,1,0,0,0,0]
["1556513","744","A2 - Inicial - Jardín              ","PILCUYO / CHAULLACAMANI","PILCUYO","CHAULLACAMANI",1,1,0,1,0,0,0]
["1556711","745","A2 - Inicial - Jardín              ","PILCUYO / YAJACIRCATUYO / TUYO / TUCO","PILCUYO","YAJACIRCATUYO / TUYO / TUCO",1,1,0,1,0,0,0]
["1556661","746","A2 - Inicial - Jardín              ","PILCUYO / HUAYLLATA","PILCUYO","HUAYLLATA",1,1,1,0,0,0,0]
["1556620","747","A2 - Inicial - Jardín              ","PILCUYO / PACCO CUSULLANA","PILCUYO","PACCO CUSULLANA",1,1,1,0,0,0,0]
["1561414","748","A2 - Inicial - Jardín              ","SANTA ROSA / PROVIDENCIA","SANTA ROSA","PROVIDENCIA",1,1,1,0,0,0,0]
["1561422","749","A2 - Inicial - Jardín              ","ILAVE / PIÑUTANI","ILAVE","PIÑUTANI",1,1,1,0,0,0,0]
["1561406","750","A2 - Inicial - Jardín              ","PILCUYO / JALLUYO","PILCUYO","JALLUYO",2,2,1,1,0,0,0]
["1566330","751","A2 - Inicial - Jardín              ","ILAVE / CHURO LOPEZ","ILAVE","CHURO LOPEZ",2,2,0,2,0,0,0]
["1633502","1050","A2 - Inicial - Jardín              ","ILAVE / ILAVE","ILAVE","ILAVE",1,1,1,0,0,0,0]
["1610187","1052","A2 - Inicial - Jardín              ","CAPAZO / ROSARIO ALTO ANCOMARCA","CAPAZO","ROSARIO ALTO ANCOMARCA",1,1,0,1,0,0,0]
["1609619","1053","A2 - Inicial - Jardín              ","ILAVE / SANTA MARIA","ILAVE","SANTA MARIA",1,1,1,0,0,0,0]
["1609635","1054","A2 - Inicial - Jardín              ","ILAVE / ANCASAYA","ILAVE","ANCASAYA",1,1,1,0,0,0,0]
["1609668","1055","A2 - Inicial - Jardín              ","ILAVE / CHIRIMAYA","ILAVE","CHIRIMAYA",1,1,1,0,0,0,0]
["1609742","1056","A2 - Inicial - Jardín              ","ILAVE / LACOTUYO","ILAVE","LACOTUYO",1,1,1,0,0,0,0]
["1610229","1057","A2 - Inicial - Jardín              ","CAPAZO / SAN JOSE DE ANCOMARCA","CAPAZO","SAN JOSE DE ANCOMARCA",1,1,0,1,0,0,0]
["1609700","1058","A2 - Inicial - Jardín              ","ILAVE / COLLPUYO","ILAVE","COLLPUYO",1,1,1,0,0,0,0]
["1610203","1060","A2 - Inicial - Jardín              ","CONDURIRI / SALES GRANDE","CONDURIRI","SALES GRANDE",1,1,0,1,0,0,0]
["1609601","1061","A2 - Inicial - Jardín              ","ILAVE / CHOQUE","ILAVE","CHOQUE",1,1,1,0,0,0,0]
["1609692","1062","A2 - Inicial - Jardín              ","ILAVE / CHUNTACOLLO","ILAVE","CHUNTACOLLO",3,3,1,2,0,0,0]
["1610245","1063","A2 - Inicial - Jardín              ","SANTA ROSA / SAPACHULPA","SANTA ROSA","SAPACHULPA",2,2,0,2,0,0,0]
["1609676","1064","A2 - Inicial - Jardín              ","ILAVE / CHOCCOQUELICANI","ILAVE","CHOCCOQUELICANI",1,1,0,1,0,0,0]
["1633510","1065","A2 - Inicial - Jardín              ","ILAVE / ILAVE","ILAVE","ILAVE",1,1,0,1,0,0,0]
["1609726","1066","A2 - Inicial - Jardín              ","SANTA ROSA / HUANACACAMAYA","SANTA ROSA","HUANACACAMAYA",1,1,1,0,0,0,0]
["1609585","1067","A2 - Inicial - Jardín              ","ILAVE / CCACCATA","ILAVE","CCACCATA",1,1,1,0,0,0,0]
["1610260","1068","A2 - Inicial - Jardín              ","CONDURIRI / UNTAVE","CONDURIRI","UNTAVE",1,1,0,1,0,0,0]
["1610237","1069","A2 - Inicial - Jardín              ","PILCUYO / SANCUTA","PILCUYO","SANCUTA",1,1,1,0,0,0,0]
["1609650","1070","A2 - Inicial - Jardín              ","ILAVE / CHILACOLLO","ILAVE","CHILACOLLO",1,1,1,0,0,0,0]
["1610179","1071","A2 - Inicial - Jardín              ","ILAVE / QUALICANI CHICO","ILAVE","QUALICANI CHICO",1,1,1,0,0,0,0]
["1633494","1073","A2 - Inicial - Jardín              ","SANTA ROSA / CHICHILLAPI","SANTA ROSA","CHICHILLAPI",1,1,0,1,0,0,0]
["1610153","1074","A2 - Inicial - Jardín              ","CONDURIRI / PAIRUMANI","CONDURIRI","PAIRUMANI",1,1,0,1,0,0,0]
["1609593","1075","A2 - Inicial - Jardín              ","ILAVE / VILCA CHILE","ILAVE","VILCA CHILE",1,1,1,0,0,0,0]
["1609734",1076,"A2 - Inicial - Jardín              ","ILAVE / JAQUENCACHI","ILAVE","JAQUENCACHI",2,2,1,1,0,0,0]
["1610161","1077","A2 - Inicial - Jardín              ","ILAVE / PALLALLMARCA","ILAVE","PALLALLMARCA",1,1,0,1,0,0,0]
["1609684","1078","A2 - Inicial - Jardín              ","ILAVE / CHUNGARA","ILAVE","CHUNGARA",1,1,0,1,0,0,0]
["1610278","1079","A2 - Inicial - Jardín              ","CONDURIRI / YARIHUANI","CONDURIRI","YARIHUANI",1,1,1,0,0,0,0]
["1610211","1080","A2 - Inicial - Jardín              ","ILAVE / SAN CARLOS MARCACCOLLO","ILAVE","SAN CARLOS MARCACCOLLO",1,1,0,1,0,0,0]
["1609718","1081","A2 - Inicial - Jardín              ","ILAVE / CORARACA","ILAVE","CORARACA",1,1,1,0,0,0,0]
["1610252","1082","A2 - Inicial - Jardín              ","CAPAZO / TUPALA HACIENDA","CAPAZO","TUPALA HACIENDA",1,1,0,1,0,0,0]
["1578715","1083","A2 - Inicial - Jardín              ","ILAVE / CORPA","ILAVE","CORPA",1,1,1,0,0,0,0]
["1653484","1117","A2 - Inicial - Jardín              ","ILAVE / ILAVE","ILAVE","ILAVE",1,1,1,0,0,0,0]
["1653492","1118","A2 - Inicial - Jardín              ","ILAVE / CONCAHUI","ILAVE","CONCAHUI",1,1,0,1,0,0,0]
["1653518",1119,"A2 - Inicial - Jardín              ","ILAVE / ILAVE","ILAVE","ILAVE",2,2,0,2,0,0,0]
["1678192","1313","A2 - Inicial - Jardín              ","ILAVE / CHOQUETANCA","ILAVE","CHOQUETANCA",1,1,0,1,0,0,0]
["1678135","1314","A2 - Inicial - Jardín              ","ILAVE / JALLANILLA","ILAVE","JALLANILLA",1,1,0,1,0,0,0]
["1678176","1315","A2 - Inicial - Jardín              ","ILAVE / JILACATURA","ILAVE","JILACATURA",1,1,0,1,0,0,0]
["1678168","1316","A2 - Inicial - Jardín              ","ILAVE / MAQUERA COMPUTI","ILAVE","MAQUERA COMPUTI",1,1,0,1,0,0,0]
["1678143","1317","A2 - Inicial - Jardín              ","ILAVE / ILAVE","ILAVE","ILAVE",1,1,0,1,0,0,0]
["1678127","1318","A2 - Inicial - Jardín              ","ILAVE / SARACAYA","ILAVE","SARACAYA",1,1,0,1,0,0,0]
["1678184","1319","A2 - Inicial - Jardín              ","ILAVE / SULCATURA II","ILAVE","SULCATURA II",1,1,0,1,0,0,0]
["1692250","1320","A2 - Inicial - Jardín              ","ILAVE / SAN JOSE","ILAVE","SAN JOSE",2,2,0,2,0,0,0]
["1710789","1461","A2 - Inicial - Jardín              ","ILAVE / SICATA","ILAVE","SICATA",1,1,0,1,0,0,0]
["1710797","1462","A2 - Inicial - Jardín              ",{"$f":"CONCATENATE(E134,\" / \",F134)","v":"ILAVE / ALQUIPA"},"ILAVE","ALQUIPA",1,1,0,1,0,0,0]
["1710805","1463","A2 - Inicial - Jardín              ","ILAVE / LLAU","ILAVE","LLAU",1,1,0,1,0,0,0]
["1710763","1464","A2 - Inicial - Jardín              ","ILAVE / PUSUYO","ILAVE","PUSUYO",1,1,0,1,0,0,0]
["1710771","1465","A2 - Inicial - Jardín              ","ILAVE / YAURIMA","ILAVE","YAURIMA",1,1,0,1,0,0,0]
["1746320","1594","A2 - Inicial - Jardín              ","PILCUYO / CALLACHOCO","PILCUYO","CALLACHOCO",1,1,0,1,0,0,0]
["1785930",1622,"A2 - Inicial - Jardín              ","ILAVE / CHINGANI","ILAVE","CHINGANI",2,2,0,2,0,0,0]
["0230896","70082","B0 - Primaria                      ",{"$f":"CONCATENATE(E140,\" / \",F140)","v":"ILAVE / SULCATURA 1"},"ILAVE","SULCATURA 1",6,4,4,0,1,0,1]
["0231357",70128,"B0 - Primaria                      ",{"$f":"CONCATENATE(E141,\" / \",F141)","v":"ILAVE / JILACATURA"},"ILAVE","JILACATURA",4,3,3,0,0,0,1]
["0231373","70130","B0 - Primaria                      ","ILAVE / CHOQUETANCA","ILAVE","CHOQUETANCA",5,4,3,1,0,0,1]
["0231472","70140","B0 - Primaria                      ","ILAVE / SULLCACATURA  II","ILAVE","SULLCACATURA  II",6,4,4,0,1,0,1]
["0573139","70161","B0 - Primaria                      ","ILAVE / SUQUINAPE","ILAVE","SUQUINAPE",2,2,2,0,0,0,0]
["0231746","70167","B0 - Primaria                      ","ILAVE / LAQUI","ILAVE","LAQUI",2,2,1,1,0,0,0]
["0231845","70178","B0 - Primaria                      ","ILAVE / YACANGO CENTRAL","ILAVE","YACANGO CENTRAL",6,5,4,1,0,0,1]
["0549402","70200","B0 - Primaria                      ","ILAVE / CANGALLE","ILAVE","CANGALLE",7,5,3,2,1,0,1]
["0220798","70201","B0 - Primaria                      ","CONDURIRI / CALASAYA","CONDURIRI","CALASAYA",1,1,1,0,0,0,0]
["0220921","70214","B0 - Primaria                      ","CAPAZO / ROSARIO ALTO ANCOMARCA","CAPAZO","ROSARIO ALTO ANCOMARCA",1,1,1,0,0,0,0]
["0220939","70215","B0 - Primaria                      ","CAPAZO / CAPASO","CAPAZO","CAPASO",2,2,2,0,0,0,0]
["0220962","70218","B0 - Primaria                      ","CAPAZO / CHUA","CAPAZO","CHUA",1,1,1,0,0,0,0]
["0270611","70315","B0 - Primaria                      ","ILAVE / RAMON CASTILLA","ILAVE","RAMON CASTILLA",61,51,45,6,3,0,7]
["0270629","70316 SAGRADO CORAZON DE JESUS","B0 - Primaria                      ","ILAVE / SAN MIGUEL","ILAVE","SAN MIGUEL",38,32,30,2,0,0,6]
["0270637",70317,"B0 - Primaria                      ","ILAVE / CHURU MAQUERA","ILAVE","CHURU MAQUERA",7,6,5,1,0,0,1]
["0270645","70318","B0 - Primaria                      ","ILAVE / CHECCA","ILAVE","CHECCA",5,4,4,0,0,0,1]
["0270652","70319","B0 - Primaria                      ","ILAVE / MAÑAZO","ILAVE","MAÑAZO",4,3,3,0,0,0,1]
["0270660","70320","B0 - Primaria                      ","ILAVE / SIRAYA","ILAVE","SIRAYA",5,4,3,1,0,0,1]
["0270678","70321 DOMINGO PILCO VILCA","B0 - Primaria                      ","ILAVE / CAMICACHI","ILAVE","CAMICACHI",18,16,14,2,0,0,2]
["0270686","70322","B0 - Primaria                      ","ILAVE / CHUCARAYA","ILAVE","CHUCARAYA",2,2,1,1,0,0,0]
["0270694","70323","B0 - Primaria                      ","ILAVE / APARUNE","ILAVE","APARUNE",3,3,3,0,0,0,0]
["0270702","70324","B0 - Primaria                      ","ILAVE / ROSACANI","ILAVE","ROSACANI",14,11,10,1,1,0,2]
["0270710","70325","B0 - Primaria                      ","ILAVE / JACHOCCO HUARACCO","ILAVE","JACHOCCO HUARACCO",14,11,10,1,2,0,1]
["0270728","70326","B0 - Primaria                      ","ILAVE / ULLACACHI","ILAVE","ULLACACHI",2,2,2,0,0,0,0]
["0270736","70327","B0 - Primaria                      ","ILAVE / COPAPOJO / CHILUYO COPAPUJO","ILAVE","COPAPOJO / CHILUYO COPAPUJO",5,4,4,0,0,0,1]
["0270744","70328","B0 - Primaria                      ","ILAVE / CATAMURO","ILAVE","CATAMURO",3,3,2,1,0,0,0]
["0270751","70329","B0 - Primaria                      ","ILAVE / CUTINI PUCARA","ILAVE","CUTINI PUCARA",2,2,2,0,0,0,0]
["0270769","70330","B0 - Primaria                      ","PILCUYO / MAQUERCOTA","PILCUYO","MAQUERCOTA",3,3,3,0,0,0,0]
["0270777","70331","B0 - Primaria                      ","PILCUYO / HUARIQUISAMA","PILCUYO","HUARIQUISAMA",3,2,2,0,1,0,0]
["0270785","70332","B0 - Primaria                      ","PILCUYO / ACCASO","PILCUYO","ACCASO",5,4,3,1,0,0,1]
["0270793","70333","B0 - Primaria                      ","PILCUYO / MULLACANI","PILCUYO","MULLACANI",3,3,3,0,0,0,0]
["0270801","70334","B0 - Primaria                      ","PILCUYO / JILAMAICO","PILCUYO","JILAMAICO",1,1,1,0,0,0,0]
["0270819","70335","B0 - Primaria                      ","PILCUYO / CACHIPUCARA","PILCUYO","CACHIPUCARA",6,5,4,1,0,0,1]
["0270827","70336","B0 - Primaria                      ","PILCUYO / TARACANCAMAYA / CANCAMAYA","PILCUYO","TARACANCAMAYA / CANCAMAYA",4,3,3,0,1,0,0]
["0335844","70337","B0 - Primaria                      ","PILCUYO / CONAPI SUMARIRE / JONAPI","PILCUYO","CONAPI SUMARIRE / JONAPI",1,1,0,1,0,0,0]
["0335851","70338","B0 - Primaria                      ","PILCUYO / YAJACIRCATUYO / TUYO / TUCO","PILCUYO","YAJACIRCATUYO / TUYO / TUCO",2,2,2,0,0,0,0]
["0305813","70339","B0 - Primaria                      ","PILCUYO / CHIPANA","PILCUYO","CHIPANA",6,5,5,0,0,0,1]
["0305821","70340 GLORIOSO JOSE ANTONIO ENCINAS","B0 - Primaria                      ","PILCUYO / PILCUYO","PILCUYO","PILCUYO",10,8,6,2,0,0,2]
["0305839",70341,"B0 - Primaria                      ","SANTA ROSA / SANTA ROSA","SANTA ROSA","SANTA ROSA",5,4,3,1,0,0,1]
["0305847","70342","B0 - Primaria                      ","SANTA ROSA / CHINCHILLAPI","SANTA ROSA","CHINCHILLAPI",1,1,1,0,0,0,0]
["0305854","70343","B0 - Primaria                      ","SANTA ROSA / ALIANZA","SANTA ROSA","ALIANZA",19,16,9,7,1,0,2]
["0305862","70344 CRISTO REY","B0 - Primaria                      ","ILAVE / CALLATA","ILAVE","CALLATA",5,4,4,0,0,0,1]
["0305888","70346","B0 - Primaria                      ","ILAVE / CHALLA CCOLLO","ILAVE","CHALLA CCOLLO",3,3,2,1,0,0,0]
["0305896","70347","B0 - Primaria                      ","ILAVE / COPACACHI CHILACOLLO","ILAVE","COPACACHI CHILACOLLO",3,3,3,0,0,0,0]
["0305904",70348,"B0 - Primaria                      ","ILAVE / JAQUENCACHI","ILAVE","JAQUENCACHI",4,3,3,0,0,0,1]
["0305912","70349","B0 - Primaria                      ","ILAVE / URANI","ILAVE","URANI",4,4,4,0,0,0,0]
["0305920","70350","B0 - Primaria                      ","ILAVE / PICHINCOTA","ILAVE","PICHINCOTA",4,4,4,0,0,0,0]
["0305938","70351","B0 - Primaria                      ","ILAVE / SENCA","ILAVE","SENCA",2,2,1,1,0,0,0]
["0305946",70352,"B0 - Primaria                      ","ILAVE / ALQUIPA","ILAVE","ALQUIPA",4,3,3,0,0,0,1]
["0305953","70353","B0 - Primaria                      ","ILAVE / ANCOAMAYA","ILAVE","ANCOAMAYA",2,2,2,0,0,0,0]
["0559237","70354","B0 - Primaria                      ","ILAVE / PUSUYO","ILAVE","PUSUYO",2,2,2,0,0,0,0]
["0305979","70355 SAGRADO NIÑO JESUS","B0 - Primaria                      ","ILAVE / CCACCATA","ILAVE","CCACCATA",2,2,2,0,0,0,0]
["0305987","70356","B0 - Primaria                      ","ILAVE / CHIJICHAYA","ILAVE","CHIJICHAYA",4,4,3,1,0,0,0]
["0305995","70357","B0 - Primaria                      ","ILAVE / MULLACONIHUECO","ILAVE","MULLACONIHUECO",3,3,3,0,0,0,0]
["0306019",70358,"B0 - Primaria                      ","ILAVE / CONCAHUI","ILAVE","CONCAHUI",5,4,3,1,0,0,1]
["0306043","70359","B0 - Primaria                      ","ILAVE / CORARACA","ILAVE","CORARACA",3,3,2,1,0,0,0]
["0306050","70360","B0 - Primaria                      ","ILAVE / SIMILLACA","ILAVE","SIMILLACA",2,2,2,0,0,0,0]
["0306068","70361","B0 - Primaria                      ","ILAVE / JICHU CCOLLO","ILAVE","JICHU CCOLLO",1,1,1,0,0,0,0]
["0306092",70363,"B0 - Primaria                      ","ILAVE / CONCHACA","ILAVE","CONCHACA",5,5,4,1,0,0,0]
["0306100","70364","B0 - Primaria                      ","ILAVE / CHIRIMAYA","ILAVE","CHIRIMAYA",2,2,2,0,0,0,0]
["0306233","70365","B0 - Primaria                      ","ILAVE / HUARIHUARANI","ILAVE","HUARIHUARANI",2,2,1,1,0,0,0]
["0306332",70367,"B0 - Primaria                      ","ILAVE / CORPA","ILAVE","CORPA",4,4,2,2,0,0,0]
["0306357","70369 JOSE OLAYA BALANDRA","B0 - Primaria                      ","ILAVE / PHARATA COPANI","ILAVE","PHARATA COPANI",5,4,4,0,0,0,1]
["0306365","70370","B0 - Primaria                      ","ILAVE / SAN CRISTOBAL","ILAVE","SAN CRISTOBAL",8,6,5,1,2,0,0]
["0306373",70371,"B0 - Primaria                      ","ILAVE / SANTA ROSA DE HUAYLLATA","ILAVE","SANTA ROSA DE HUAYLLATA",4,3,3,0,0,0,1]
["0306381","70372 GAMALIEL CHURATA","B0 - Primaria                      ",{"$f":"CONCATENATE(E205,\" / \",F205)","v":"ILAVE / COLLATA"},"ILAVE","COLLATA",3,3,3,0,0,0,0]
["0306399",70373,"B0 - Primaria                      ","ILAVE / HUANCARANI","ILAVE","HUANCARANI",3,3,2,1,0,0,0]
["0306407","70374","B0 - Primaria                      ","ILAVE / HUINI HUININI","ILAVE","HUINI HUININI",3,3,3,0,0,0,0]
["0306431","70375","B0 - Primaria                      ","ILAVE / COMPACAZO","ILAVE","COMPACAZO",4,3,3,0,1,0,0]
["0306027","70376","B0 - Primaria                      ","PILCUYO / VILCATURPO","PILCUYO","VILCATURPO",3,3,2,1,0,0,0]
["0306035","70377","B0 - Primaria                      ","PILCUYO / HUAYLLATA","PILCUYO","HUAYLLATA",3,3,3,0,0,0,0]
["0306076","70378","B0 - Primaria                      ","PILCUYO / CALLACHOCO","PILCUYO","CALLACHOCO",3,3,3,0,0,0,0]
["0306118","70379","B0 - Primaria                      ","PILCUYO / QUETY","PILCUYO","QUETY",2,1,1,0,1,0,0]
["0306126","70380","B0 - Primaria                      ","PILCUYO / SARAPI ARROYO","PILCUYO","SARAPI ARROYO",3,3,3,0,0,0,0]
["0306142","70382","B0 - Primaria                      ","ILAVE / OCOÑA","ILAVE","OCOÑA",3,3,3,0,0,0,0]
["0306159","70383","B0 - Primaria                      ","PILCUYO / SANCUTA","PILCUYO","SANCUTA",4,3,3,0,0,0,1]
["0306167","70384","B0 - Primaria                      ","PILCUYO / MARCOLLO","PILCUYO","MARCOLLO",4,3,3,0,0,0,1]
["0306175",70385,"B0 - Primaria                      ","PILCUYO / SARAPI PEÑALOSA / SACARE PEÑALOSA","PILCUYO","SARAPI PEÑALOSA / SACARE PEÑALOSA",2,2,2,0,0,0,0]
["0306183","70386","B0 - Primaria                      ","SANTA ROSA / LLUSTA","SANTA ROSA","LLUSTA",1,1,1,0,0,0,0]
["0306191","70387","B0 - Primaria                      ","SANTA ROSA / HUANACACAMAYA","SANTA ROSA","HUANACACAMAYA",1,1,1,0,0,0,0]
["0306209","70388","B0 - Primaria                      ","SANTA ROSA / SULCANACA","SANTA ROSA","SULCANACA",2,2,2,0,0,0,0]
["0306225","70390","B0 - Primaria                      ","SANTA ROSA / PATAPATA","SANTA ROSA","PATAPATA",1,1,1,0,0,0,0]
["0218412",70607,"B0 - Primaria                      ","ILAVE / VILCACHILI","ILAVE","VILCACHILI",4,4,3,1,0,0,0]
["0243766","70610","B0 - Primaria                      ","CONDURIRI / MIRAFLORES","CONDURIRI","MIRAFLORES",8,7,5,2,0,0,1]
["0218446","70613 TUPAC AMARU","B0 - Primaria                      ","ILAVE / CCOLLPA","ILAVE","CCOLLPA",4,3,3,0,1,0,0]
["0243790","70614 SAN MARTIN DE PORRES","B0 - Primaria                      ","ILAVE / ALASAYA","ILAVE","ALASAYA",46,39,34,5,1,0,6]
["0218453","70617","B0 - Primaria                      ","PILCUYO / CHAULLACAMANI","PILCUYO","CHAULLACAMANI",2,2,2,0,0,0,0]
["0474619","70621","B0 - Primaria                      ","CAPAZO / ANCOMARCA","CAPAZO","ANCOMARCA",2,2,2,0,0,0,0]
["0548909","70626","B0 - Primaria                      ","SANTA ROSA / PUNTA PERDIDA","SANTA ROSA","PUNTA PERDIDA",1,1,1,0,0,0,0]
["0227769","70634","B0 - Primaria                      ","PILCUYO / TICONA","PILCUYO","TICONA",2,2,1,1,0,0,0]
["0529602","70643","B0 - Primaria                      ","SANTA ROSA / AROPATA","SANTA ROSA","AROPATA",1,1,1,0,0,0,0]
["0547612",70648,"B0 - Primaria                      ","ILAVE / THOCORI JARANI","ILAVE","THOCORI JARANI",5,4,4,0,0,0,1]
["0615476","70659","B0 - Primaria                      ","ILAVE / WENCASI","ILAVE","WENCASI",1,1,1,0,0,0,0]
["0529404","70661","B0 - Primaria                      ","ILAVE / CHOQUE","ILAVE","CHOQUE",3,3,3,0,0,0,0]
["0559351","70669","B0 - Primaria                      ","SANTA ROSA / CUIPACUIPA","SANTA ROSA","CUIPACUIPA",1,1,1,0,0,0,0]
["0516146","70685","B0 - Primaria                      ","PILCUYO / CHAJÑA CHAJÑANI / CHOJNECHOUNA","PILCUYO","CHAJÑA CHAJÑANI / CHOJNECHOUNA",3,3,3,0,0,0,0]
["0615294",70686,"B0 - Primaria                      ","ILAVE / CHOCOQUELCANI","ILAVE","CHOCOQUELCANI",6,5,3,2,0,0,1]
["0615328","70711","B0 - Primaria                      ","ILAVE / PUCARA YACANGO","ILAVE","PUCARA YACANGO",2,2,2,0,0,0,0]
["0744342","70712","B0 - Primaria                      ","ILAVE / LOPEZ","ILAVE","LOPEZ",3,3,3,0,0,0,0]
["0516344","70718","B0 - Primaria                      ","ILAVE / ILAVE","ILAVE","ILAVE",13,10,9,1,1,0,2]
["0474429","70722","B0 - Primaria                      ","ILAVE / PANTIHUECO","ILAVE","PANTIHUECO",2,2,2,0,0,0,0]
["0660373","70723","B0 - Primaria                      ","ILAVE / CHECACHATA","ILAVE","CHECACHATA",2,2,1,1,0,0,0]
["0744318","70728 PERU BIRF","B0 - Primaria                      ","ILAVE / JOSE CARLOS MARIATEGUI","ILAVE","JOSE CARLOS MARIATEGUI",18,15,11,4,1,0,2]
["0744383","70730","B0 - Primaria                      ","ILAVE / PALLALLMARCA","ILAVE","PALLALLMARCA",3,3,3,0,0,0,0]
["0755017","70731","B0 - Primaria                      ","ILAVE / LACAYA","ILAVE","LACAYA",3,3,3,0,0,0,0]
["0744359","70733","B0 - Primaria                      ","ILAVE / ESCOLLAYA / JISCULLAYA","ILAVE","ESCOLLAYA / JISCULLAYA",1,1,1,0,0,0,0]
["0744367","70735","B0 - Primaria                      ","ILAVE / QUELCAHUECCO","ILAVE","QUELCAHUECCO",2,2,2,0,0,0,0]
["0755108","70736","B0 - Primaria                      ","ILAVE / SANTA MARIA","ILAVE","SANTA MARIA",2,2,2,0,0,0,0]
["0744417","70737","B0 - Primaria                      ","PILCUYO / JALLUYO","PILCUYO","JALLUYO",3,3,3,0,0,0,0]
["0744425","70738 PERU - BIRF","B0 - Primaria                      ","PILCUYO / PILCUYO","PILCUYO","PILCUYO",4,3,3,0,0,0,1]
["0755272","70739","B0 - Primaria                      ","CONDURIRI / CHIUTIRI HACIENDA","CONDURIRI","CHIUTIRI HACIENDA",1,1,1,0,0,0,0]
["0799452","70742","B0 - Primaria                      ","ILAVE / CCORPA FLORES","ILAVE","CCORPA FLORES",2,2,2,0,0,0,0]
["0755132","70743 ESCUELA CONCERTADA CALACOTA","B0 - Primaria                      ","ILAVE / CALACOTA","ILAVE","CALACOTA",4,4,4,0,0,0,0]
["0799551","70747","B0 - Primaria                      ","CAPAZO / PATJATA","CAPAZO","PATJATA",1,1,1,0,0,0,0]
["0848754","70748","B0 - Primaria                      ","PILCUYO / PACCO CUSULLANA","PILCUYO","PACCO CUSULLANA",1,1,1,0,0,0,0]
["1155142","70749","B0 - Primaria                      ","SANTA ROSA / PROVIDENCIA","SANTA ROSA","PROVIDENCIA",3,2,2,0,1,0,0]
["0848879","70750","B0 - Primaria                      ","ILAVE / MULLA FACIRI","ILAVE","MULLA FACIRI",1,1,1,0,0,0,0]
["0848721","70751","B0 - Primaria                      ","PILCUYO / QUISPEMAQUERA","PILCUYO","QUISPEMAQUERA",3,2,2,0,1,0,0]
["0243915","71007 MARIANO ZEVALLOS GONZALES","B0 - Primaria                      ","ILAVE / SAN MIGUEL","ILAVE","SAN MIGUEL",44,36,34,2,1,0,7]
["0239392",71543,"B0 - Primaria                      ","CAPAZO / TUPALA HACIENDA","CAPAZO","TUPALA HACIENDA",5,4,4,0,0,0,1]
["0239392","ANEXO-71543","B0 - Primaria                      ","CAPAZO / SAN SALVADOR TIRACCOLLO","CAPAZO","SAN SALVADOR TIRACCOLLO",0,0,0,0,0,0,0]
["0845719","71545","B0 - Primaria                      ","ILAVE / PAMAYA","ILAVE","PAMAYA",3,3,3,0,0,0,0]
["0232033","ANEXO-70197","B0 - Primaria                      ","CONDURIRI / SICUNI KAMANI","CONDURIRI","SICUNI KAMANI",1,1,1,0,0,0,0]
["1576131","72756","B0 - Primaria                      ","ILAVE / BALSABE","ILAVE","BALSABE",10,7,4,3,2,0,1]
["0660423","ACCASO","F0 - Secundaria                    ",{"$f":"CONCATENATE(E264,\" / \",F264)","v":"PILCUYO / ACCASO"},"PILCUYO","ACCASO",9,8,6,2,0,0,1,0]
["0578906","AUGUSTO SALAZAR BONDY","F0 - Secundaria                    ",{"$f":"CONCATENATE(E265,\" / \",F265)","v":"ILAVE / CHUCARAYA"},"ILAVE","CHUCARAYA",10,9,8,1,0,0,1,0]
["0755280","CANGALLI","F0 - Secundaria                    ","ILAVE / CANGALLE","ILAVE","CANGALLE",9,8,7,1,0,0,1,0]
["1027671","CAPASO","F0 - Secundaria                    ","CAPAZO / CAPASO","CAPAZO","CAPASO",9,8,6,2,0,0,1,0]
["1576115","CARLOS DANTE NAVA","F0 - Secundaria                    ","ILAVE / PHARATA COPANI","ILAVE","PHARATA COPANI",11,8,6,2,2,0,1,0]
["0474593","CESAR VALLEJO","F0 - Secundaria                    ","PILCUYO / 24 DE NOVIEMBRE","PILCUYO","24 DE NOVIEMBRE",23,16,12,4,1,1,5,0]
["1027812","CHIJICHAYA","F0 - Secundaria                    ","ILAVE / CHIJICHAYA","ILAVE","CHIJICHAYA",9,8,6,2,0,0,1,0]
["0578898","HORACIO ZEVALLOS GAMEZ","F0 - Secundaria                    ","ILAVE / JACHOCCO HUARACCO","ILAVE","JACHOCCO HUARACCO",26,21,14,7,0,1,2,2]
["0660431","IES YACANGO","F0 - Secundaria                    ","ILAVE / YACANGO CENTRAL","ILAVE","YACANGO CENTRAL",10,8,7,1,0,1,1,0]
["0522490","JORGE BASADRE","F0 - Secundaria                    ","ILAVE / CAMECACHI","ILAVE","CAMECACHI",35,26,21,5,1,2,3,3]
["0578914","JORGE CHAVEZ","F0 - Secundaria                    ","ILAVE / CHIJUYO","ILAVE","CHIJUYO",10,8,6,2,0,1,1,0]
["0240218","JOSE CARLOS MARIATEGUI","F0 - Secundaria                    ","ILAVE / SAN MIGUEL","ILAVE","SAN MIGUEL",114,88,78,10,4,8,14,0]
["0500439","JOSE MARIA ARGUEDAS","F0 - Secundaria                    ","SANTA ROSA / MAZO CRUZ","SANTA ROSA","MAZO CRUZ",31,23,9,14,1,1,3,3]
["0522391","JOSE OLAYA","F0 - Secundaria                    ","PILCUYO / CHIPANA","PILCUYO","CHIPANA",16,11,9,2,0,1,4,0]
["1540228","JUAN VELASCO ALVARADO","F0 - Secundaria                    ","ILAVE / ROSACANI","ILAVE","ROSACANI",10,8,7,1,0,1,1,0]
["0579003","MANUEL GONZALES PRADA","F0 - Secundaria                    ","PILCUYO / MAQUERCOTA","PILCUYO","MAQUERCOTA",9,8,5,3,0,0,1,0]
["0579011","MARIANO MELGAR","F0 - Secundaria                    ","ILAVE / CALLATA","ILAVE","CALLATA",18,14,9,5,0,1,1,2]
["0578997","MARISCAL RAMON CASTILLA","F0 - Secundaria                    ","PILCUYO / CACHI PUCARA","PILCUYO","CACHI PUCARA",9,8,6,2,0,0,1,0]
["0701532","MICAELA BASTIDAS","F0 - Secundaria                    ","PILCUYO / INCAPIURA","PILCUYO","INCAPIURA",30,24,12,12,0,1,3,2]
["0573196","MIGUEL GRAU","F0 - Secundaria                    ","PILCUYO / HUAYLLATA","PILCUYO","HUAYLLATA",12,10,8,2,1,0,1,0]
["0240283","NUESTRA SEÑORA DEL CARMEN","F0 - Secundaria                    ","ILAVE / SANTA BARBARA","ILAVE","SANTA BARBARA",135,102,89,13,11,8,14,0]
["0537464","PEDRO VILCAPAZA","F0 - Secundaria                    ","ILAVE / SANTA ROSA DE HUAYLLATA","ILAVE","SANTA ROSA DE HUAYLLATA",9,8,7,1,0,0,1,0]
["1761857","PERU BIRF","F0 - Secundaria                    ","ILAVE / JOSE CARLOS MARIATEGUI","ILAVE","JOSE CARLOS MARIATEGUI",11,10,5,5,0,1,0,0]
["0755223","POLITECNICO REGIONAL DON BOSCO","F0 - Secundaria                    ","ILAVE / BELLAVISTA","ILAVE","BELLAVISTA",72,55,41,14,3,4,10,0]
["1633791","PROVIDENCIA","F0 - Secundaria                    ","SANTA ROSA / AJIPINCUCHO","SANTA ROSA","AJIPINCUCHO",9,8,6,2,0,0,1,0]
["1027804","SAN ANTONIO","F0 - Secundaria                    ","ILAVE / CHECCA","ILAVE","CHECCA",23,18,15,3,0,1,2,2]
["0701573","SAN JOSE DE ANCOMARCA","F0 - Secundaria                    ","CAPAZO / ANCOMARCA","CAPAZO","ANCOMARCA",9,8,3,5,0,0,1,0]
["0533810","SANTA ROSA","F0 - Secundaria                    ","SANTA ROSA / SANTA ROSA","SANTA ROSA","SANTA ROSA",8,8,3,5,0,0,0,0]
["0578880","SIRAYA","F0 - Secundaria                    ","ILAVE / SIRAYA","ILAVE","SIRAYA",10,8,7,1,0,1,1,0]
["1653476","TIUTIRI ANTAMARCA","F0 - Secundaria                    ","ILAVE / TIUTIRI","ILAVE","TIUTIRI",10,9,6,3,0,0,1,0]
["0579045","TUPAC AMARU II","F0 - Secundaria                    ","CONDURIRI / CONDURIRI","CONDURIRI","CONDURIRI",22,19,6,13,0,0,1,2]
["0579037","TUPALA","F0 - Secundaria                    ","CAPAZO / TUPALA HACIENDA","CAPAZO","TUPALA HACIENDA",9,8,5,3,0,0,1,0]
["0755199","ULLACACHI","F0 - Secundaria                    ","ILAVE / ULLACACHI","ILAVE","ULLACACHI",9,8,7,1,0,0,1,0]
["1725878","CEBA - SEÑOR DE LOS MILAGROS","EBA - Inicial e Intermedio","Ilave","Ilave","ILAVE"]
["0240465","CEBA - SEÑOR DE LOS MILAGROS","EBA - Avanzado","Ilave","Ilave","ILAVE"]
["1749217","ILAVE","EBE - Inicial","Ilave","Ilave","SAN MIGUEL"]
["1153659","ILAVE","EBE - Primaria","Ilave","Ilave","SAN MIGUEL"]
["0755165","PILCUYO","CETPRO","Pilcuyo","Pilcuyo","CHIPANA"]
["0805028","ILAVE","CETPRO","Ilave","Ilave","BELLAVISTA"]

{"sheet":"CALEND","index":6,"n_rows":28,"n_cols":32,"rows_kept":28,"cut":false,"hidden":true,"merged":[]}
["MESES",1,2,3,4,5,6,7,8,9,10,11,12,13,14,15,16,17,18,19,20,21,22,23,24,25,26,27,28,29,30,31]
[1,{"$f":"TEXT(WEEKDAY(DATE(AñoNatural,$A2,B$1),1),\"[$-c0a]ddd\")","v":"lu."},{"$f":"TEXT(WEEKDAY(DATE(AñoNatural,$A2,C$1),1),\"[$-c0a]ddd\")","v":"ma."},"mi.","ju.","vi.","sá.","do.","lu.","ma.","mi.","ju.","vi.","sá.","do.","lu.","ma.","mi.","ju.","vi.","sá.","do.","lu.","ma.","mi.","ju.","vi.","sá.","do.","lu.","ma.","mi."]
[2,{"$f":"TEXT(WEEKDAY(DATE(AñoNatural,$A3,B$1),1),\"[$-c0a]ddd\")","v":"ju."},"vi.","sá.","do.","lu.","ma.","mi.","ju.","vi.","sá.",{"$f":"TEXT(WEEKDAY(DATE(AñoNatural,$A3,L$1),1),\"[$-c0a]ddd\")","v":"do."},"lu.","ma.","mi.","ju.","vi.","sá.","do.","lu.","ma.",{"$f":"TEXT(WEEKDAY(DATE(AñoNatural,$A3,V$1),1),\"[$-c0a]ddd\")","v":"mi."},"ju.","vi.","sá.","do.","lu.","ma.","mi.",{"$f":"TEXT(WEEKDAY(DATE(AñoNatural,$A3,AD$1),1),\"[$-c0a]ddd\")","v":"ju."}]
[3,"vi.","sá.","do.","lu.","ma.","mi.","ju.","vi.","sá.","do.","lu.","ma.","mi.","ju.","vi.","sá.","do.","lu.","ma.","mi.","ju.","vi.","sá.","do.","lu.","ma.","mi.","ju.",{"$f":"TEXT(WEEKDAY(DATE(AñoNatural,$A4,AD$1),1),\"[$-c0a]ddd\")","v":"vi."},{"$f":"TEXT(WEEKDAY(DATE(AñoNatural,$A4,AE$1),1),\"[$-c0a]ddd\")","v":"sá."},{"$f":"TEXT(WEEKDAY(DATE(AñoNatural,$A4,AF$1),1),\"[$-c0a]ddd\")","v":"do."}]
[4,"lu.","ma.","mi.","ju.","vi.","sá.","do.","lu.","ma.","mi.","ju.","vi.","sá.","do.","lu.","ma.","mi.","ju.","vi.","sá.","do.","lu.","ma.","mi.","ju.","vi.","sá.","do.",{"$f":"TEXT(WEEKDAY(DATE(AñoNatural,$A5,AD$1),1),\"[$-c0a]ddd\")","v":"lu."},"ma."]
[5,"mi.","ju.","vi.","sá.","do.","lu.","ma.","mi.","ju.","vi.","sá.","do.","lu.","ma.","mi.","ju.","vi.","sá.","do.","lu.","ma.","mi.","ju.","vi.","sá.","do.","lu.","ma.","mi.","ju.",{"$f":"TEXT(WEEKDAY(DATE(AñoNatural,$A6,AF$1),1),\"[$-c0a]ddd\")","v":"vi."}]
[6,"sá.","do.","lu.","ma.","mi.","ju.","vi.","sá.","do.","lu.","ma.","mi.","ju.","vi.","sá.","do.","lu.","ma.","mi.","ju.","vi.","sá.","do.","lu.","ma.","mi.","ju.","vi.","sá.","do."]
[7,"lu.","ma.","mi.","ju.","vi.","sá.","do.","lu.","ma.","mi.","ju.","vi.","sá.","do.","lu.","ma.","mi.","ju.","vi.","sá.","do.","lu.","ma.","mi.","ju.","vi.","sá.","do.","lu.","ma.",{"$f":"TEXT(WEEKDAY(DATE(AñoNatural,$A8,AF$1),1),\"[$-c0a]ddd\")","v":"mi."}]
[8,"ju.","vi.","sá.","do.","lu.","ma.","mi.","ju.","vi.","sá.","do.","lu.","ma.","mi.","ju.","vi.","sá.","do.","lu.","ma.","mi.","ju.","vi.","sá.","do.","lu.","ma.","mi.","ju.","vi.",{"$f":"TEXT(WEEKDAY(DATE(AñoNatural,$A9,AF$1),1),\"[$-c0a]ddd\")","v":"sá."}]
[9,"do.","lu.","ma.","mi.","ju.","vi.","sá.","do.","lu.","ma.","mi.","ju.","vi.","sá.","do.","lu.","ma.","mi.","ju.","vi.","sá.","do.","lu.","ma.","mi.","ju.","vi.","sá.","do.","lu."]
[10,"ma.","mi.","ju.","vi.","sá.","do.","lu.","ma.","mi.","ju.","vi.","sá.","do.","lu.","ma.","mi.","ju.","vi.","sá.","do.","lu.","ma.","mi.","ju.","vi.","sá.","do.","lu.","ma.","mi.",{"$f":"TEXT(WEEKDAY(DATE(AñoNatural,$A11,AF$1),1),\"[$-c0a]ddd\")","v":"ju."}]
[11,"vi.","sá.","do.","lu.","ma.","mi.","ju.","vi.","sá.","do.","lu.","ma.","mi.","ju.","vi.","sá.","do.","lu.","ma.","mi.","ju.","vi.","sá.","do.","lu.","ma.","mi.","ju.","vi.","sá."]
[12,"do.","lu.","ma.","mi.","ju.","vi.","sá.","do.","lu.","ma.","mi.","ju.","vi.","sá.","do.","lu.","ma.","mi.","ju.","vi.","sá.","do.","lu.","ma.","mi.","ju.","vi.","sá.","do.","lu.",{"$f":"TEXT(WEEKDAY(DATE(AñoNatural,$A13,AF$1),1),\"[$-c0a]ddd\")","v":"ma."}]
[]
[]
[]
["ENERO",1,null,null,null,null,null,null,"L","Lu."]
["FEBRERO",2,null,null,null,null,null,null,"M","Ma."]
["MARZO",3,null,null,null,null,null,null,"Mi","Mi."]
["ABRIL",4,null,null,null,null,null,null,"J","Ju."]
["MAYO",5,null,null,null,null,null,null,"V","Vi."]
["JUNIO",6,null,null,null,null,null,null,"S","Sa."]
["JULIO",7,null,null,null,null,null,null,"D","Do."]
["AGOSTO",8]
["SEPTIEMBRE",9]
["OCTUBRE",10]
["NOVIEMBRE",11]
["DICIEMBRE",12]